Workbook

Sheet h1
D1: Հավելված N 1
D2: ՀՀ կառավարության 2024 թվականի
D3: ______________ ի ___Ն որոշման
B5: «ՀԱՅԱՍՏԱՆԻ ՀԱՆՐԱՊԵՏՈՒԹՅԱՆ 2024 ԹՎԱԿԱՆԻ ՊԵՏԱԿԱՆ ԲՅՈՒՋԵԻ ՄԱՍԻՆ» ՀԱՅԱՍՏԱՆԻ ՀԱՆՐԱՊԵՏՈՒԹՅԱՆ OՐԵՆՔԻ N 1 ՀԱՎԵԼՎԱԾԻ N 2 ԱՂՅՈՒՍԱԿՈՒՄ ԿԱՏԱՐՎՈՂ ՎԵՐԱԲԱՇԽՈՒՄԸ ԵՎ ՀԱՅԱՍՏԱՆԻ ՀԱՆՐԱՊԵՏՈՒԹՅԱՆ ԿԱՌԱՎԱՐՈՒԹՅԱՆ 2023 ԹՎԱԿԱՆԻ ԴԵԿՏԵՄԲԵՐԻ 28-Ի N 2323-Ն ՈՐՈՇՄԱՆ N 5 ՀԱՎԵԼՎԱԾԻ N 1 ԱՂՅՈՒՍԱԿՈՒՄ ԿԱՏԱՐՎՈՂ ՓՈՓՈԽՈՒԹՅՈՒՆՆԵՐԸ ԵՎ ԼՐԱՑՈՒՄՆԵՐԸ
F6: հազ. դրամ
B7: Ծրագրային դասիչը | D7: Բյուջետային գլխավոր կարգադրիչների, ծրագրերի և միջոցառումների անվանումները | E7: Ցուցանիշների փոփոխությունը (ավելացումները նշված են դրական նշանով, իսկ նվազեցումները` փակագծերում)
B8: Ծրագիրը | C8: միջոցառումը | E8: Ինն ամիս | F8: Տարի
D9: ԸՆԴԱՄԵՆԸ | E9: =E11+E23+E35 -> -3.6379788e-12 | F9: =F10+F47 -> 0
D10: ՀՀ տարածքային կառավարման և ենթակառուցվածքների նախարարություն | E10: =E11+E23+E35 -> -3.6379788e-12 | F10: =F11+F23+F35 -> -50572.9
B11: 1176 | D11: Ծրագրի անվանումը | E11: =+E17 -> 32557.4 | F11: =+F17 -> 34327.1
D12: Ավիացիայի բնագավառում վերահսկողության և կանոնակարգման ապահովում
D13: Ծրագրի նպատակը
D14: ՀՀ քաղաքացիական ավիացիայի համակարգի ենթակառուցվածքների գործունեության կանոնակարգում և զարգացում
D15: Վերջնական արդյունքի նկարագրությունը
D16: ՀՀ օդային տարածքով քաղաքացիների և բեռների անվտանգ և արագ տեղափոխման գործընթացների պատշաճ կանոնակարգում և դրանց պահանջների ապահովում
C17: 11002 | D17: Միջոցառման անվանումը | E17: =+հ2!G57 -> 32557.4 | F17: =+հ2!H57 -> 34327.1
D18: Աշխատակազմի մասնագիտական կարողությունների զարգացում
D19: Միջոցառման նկարագրությունը
D20: Աշխատակազմի մասնագիտական վերապատրաստումներ, գործուղումներ և որակավորման բարձրացման ծառայություններ
D21: Միջոցառման տեսակը
D22: Ծառայությունների մատուցում
B23: 1004 | D23: Ծրագրի անվանումը` | E23: =+E29 -> -32557.4 | F23: =+F29 -> 0
D24: Ոռոգման համակարգի առողջացում
D25: Ծրագրի նպատակը`
D26: Ոռոգման ծառայությունների հասանելիության և մատչելիության ապահովում
D27: Վերջնական արդյունքի նկարագրությունը`
D28: Ոռոգման ջրի մատակարարման արդյունավետության և հասանելիության բարելավում, կորուստների կրճատում
C29: 31009 | D29: Միջոցառման անվանումը` | E29: =հ2!G31 -> -32557.4 | F29: =հ2!H31 -> 0
D30: Օրվա կարգավորման ջրավազանների կառուցում և վերակառուցում
D31: Միջոցառման նկարագրությունը`
D32: Օրվա կարգավորման ջրավազանների կառուցման և վերակառուցման համար նախագծերի և աշխատանքների ձեռք բերում
D33: Միջոցառման տեսակը
D34: Պետական մարմինների կողմից օգտագործվող ոչ ֆինանսական ակտիվների հետ գործառնություններ
B35: 1157 | D35: Ծրագրի անվանումը` | E35: =+E41 -> 0 | F35: =+F41 -> -84900
D36: Քաղաքային զարգացում
D37: Ծրագրի նպատակը`
D38: Քաղաքային ենթակառուցվածքների զարգացում
D39: Վերջնական արդյունքի նկարագրությունը`
D40: Քաղաքային ենթակառուցվածքների արդիականացում և բարելավում
C41: 21002 | D41: Միջոցառման անվանումը` | E41: =հ2!G47 -> 0 | F41: =հ2!H47 -> -84900
...

Sheet հ2
F1: Հավելված N 2
F2: ՀՀ կառավարության 2024 թվականի
F3: ______________ ի ___Ն որոշման
A5: ՀԱՅԱՍՏԱՆԻ ՀԱՆՐԱՊԵՏՈՒԹՅԱՆ ԿԱՌԱՎԱՐՈՒԹՅԱՆ 2023 ԹՎԱԿԱՆԻ ԴԵԿՏԵՄԲԵՐԻ 28-Ի N 2323-Ն ՈՐՈՇՄԱՆ NN 3 ԵՎ 4 ՀԱՎԵԼՎԱԾՆԵՐՈՒՄ ԿԱՏԱՐՎՈՂ ՓՈՓՈԽՈՒԹՅՈՒՆՆԵՐԸ ԵՎ ԼՐԱՑՈՒՄՆԵՐԸ
H6: հազ. դրամ
A7: Գործառական դասիչը | D7: Ծրագրային դասիչը | F7: Բյուջետային հատկացումների գլխավոր կարգադրիչների, ծրագրերի, միջոցառումների և միջոցառումները կատարող պետական մարմինների անվանումները | G7: Ցուցանիշների փոփոխությունը (ավելացումները նշված են դրական նշանով, իսկ նվազեցումները` փակագծերում)
A8: բաժինը | B8: խումբը | C8: դասը | D8: ծրագիրը | E8: միջոցառումը | G8: Ինն ամիս | H8: Տարի
F10: ԸՆԴԱՄԵՆԸ՝ ԾԱԽՍԵՐ | G10: =G55+G21+G37 -> -3.6379788e-12 | H10: =H12+H68 -> 0
F11: =F13 -> այդ թվում`
F12: =F54 -> ՀՀ տարածքային կառավարման և ենթակառուցվածքների նախարարություն | G12: =G48+G14 -> 0 | H12: =H48+H14 -> -50572.9
F13: այդ թվում`
A14: 04 | F14: ՏՆՏԵՍԱԿԱՆ ՀԱՐԱԲԵՐՈՒԹՅՈՒՆՆԵՐ | G14: =G32+G16 -> -32557.4 | H14: =H32+H16 -> -84900
F15: այդ թվում`
B16: 02 | F16: Գյուղատնտեսություն, անտառային տնտեսություն, ձկնորսություն և որսորդություն | G16: =G18 -> -32557.4 | H16: =H18 -> 0
F17: այդ թվում`
C18: 04 | F18: Ոռոգում | G18: =G21 -> -32557.4 | H18: =H21 -> 0
F19: այդ թվում`
F20: ՀՀ տարածքային կառավարման և ենթակառուցվածքների նախարարություն | G20: =G21 -> -32557.4 | H20: =H21 -> 0
D21: 1004 | F21: Ոռոգման համակարգի առողջացում | G21: =+G23 -> -32557.4 | H21: =+H23 -> 0
F22: այդ թվում`
E23: 31009 | F23: Օրվա կարգավորման ջրավազանների կառուցում և վերակառուցում | G23: =G25 -> -32557.4 | H23: =H25 -> 0
F24: այդ թվում` ըստ կատարողների
F25: ՀՀ տարածքային կառավարման և ենթակառուցվածքների նախարարության ջրային կոմիտե | G25: =G27 -> -32557.4 | H25: =H27 -> 0
F26: այդ թվում` բյուջետային ծախսերի տնտեսագիտական դասակարգման հոդվածներ
F27: ԸՆԴԱՄԵՆԸ ԾԱԽՍԵՐ | G27: =G28 -> -32557.4 | H27: =H28 -> 0
F28: ՈՉ ՖԻՆԱՆՍԱԿԱՆ ԱԿՏԻՎՆԵՐԻ ԳԾՈՎ ԾԱԽՍԵՐ | G28: =G29 -> -32557.4 | H28: =H29 -> 0
F29: ՀԻՄՆԱԿԱՆ ՄԻՋՈՑՆԵՐ | G29: =+G30 -> -32557.4 | H29: =+H30 -> 0
F30: ՇԵՆՔԵՐ ԵՎ ՇԻՆՈՒԹՅՈՒՆՆԵՐ | G30: =+G31 -> -32557.4 | H30: =+H31 -> 0
F31: - Շենքերի և շինությունների շինարարություն | G31: =-32557.4 -> -32557.4 | H31: 0
B32: 05 | F32: Տրանսպորտ | G32: =G34 -> 0 | H32: =H34 -> -84900
F33: այդ թվում`
C34: 05 | F34: Խողովակաշարային և այլ տրանսպորտ | G34: =G37 -> 0 | H34: =H37 -> -84900
F35: այդ թվում`
F36: ՀՀ տարածքային կառավարման և ենթակառուցվածքների նախարարություն | G36: =G37 -> 0 | H36: =H37 -> -84900
D37: 1157 | F37: Քաղաքային զարգացում | G37: =+G39 -> 0 | H37: =+H39 -> -84900
F38: այդ թվում`
E39: 21002 | F39: Երևանի մետրոպոլիտենի ենթակառուցվածքների կառուցում | G39: =G41 -> 0 | H39: =H41 -> -84900
F40: այդ թվում` ըստ կատարողների
F41: ՀՀ տարածքային կառավարման և ենթակառուցվածքների նախարարություն | G41: =G43 -> 0 | H41: =H43 -> -84900
F42: այդ թվում` բյուջետային ծախսերի տնտեսագիտական դասակարգման հոդվածներ
...

Sheet հ3
G1: Հավելված N 3
D2: ՀՀ կառավարության 2024 թվականի
G3: ___ ի ___Ն որոշման
B5: «ՀԱՅԱՍՏԱՆԻ ՀԱՆՐԱՊԵՏՈՒԹՅԱՆ 2024 ԹՎԱԿԱՆԻ ՊԵՏԱԿԱՆ ԲՅՈՒՋԵԻ ՄԱՍԻՆ» ՀԱՅԱՍՏԱՆԻ ՀԱՆՐԱՊԵՏՈՒԹՅԱՆ OՐԵՆՔԻ N 1 ՀԱՎԵԼՎԱԾԻ N 3 ԱՂՅՈՒՍԱԿՈՒՄ ԿԱՏԱՐՎՈՂ ՓՈՓՈԽՈՒԹՅՈՒՆԸ | H5: հազ. դրամ
A6: Ծրագրային դասիչ | C6: Բյուջետային գլխավոր կարգադրիչների, ծրագրերի, միջոցառումների և ուղղությունների անվանումները | D6: Ընդամենը | E6: Ցուցանիշների փոփոխությունը (նվազեցումները նշված են փակագծերում)
E7: այդ թվում`
A8: Ծրագիր | B8: Միջոց առում | E8: Կառուցման աշխատանքներ | F8: Վերակառուցման, վերանորոգման և վերականգնման աշխատանքներ | G8: Նախագծահե- տազոտական, գեոդեզիա- քարտեզագրական աշխատանքներ | H8: Ոչ ֆինանսական այլ ակտիվների ձեռքբերում
C9: ՀՀ տարածքային կառավարման և ենթակառուցվածքների նախարարություն | D9: =D11 -> -84900 | E9: =E11 -> -84900 | F9: =F11 -> 0 | G9: =G11 -> 0 | H9: =H11 -> 0
C10: այդ թվում՛
A11: 1157 | B11: 21002 | C11: Երևանի մետրոպոլիտենի ենթակառուցվածքների կառուցում | D11: =E11 -> -84900 | E11: =հ2!H47 -> -84900 | F11: 0 | G11: 0 | H11: 0

Sheet հ4
C1: Հավելված N 4
C2: ՀՀ կառավարության 2024 թվականի
C3: ______________ ի ___Ն որոշման
B5: ՀԱՅԱՍՏԱՆԻ ՀԱՆՐԱՊԵՏՈՒԹՅԱՆ ԿԱՌԱՎԱՐՈՒԹՅԱՆ 2023 ԹՎԱԿԱՆԻ ԴԵԿՏԵՄԲԵՐԻ 28-Ի N 2323-Ն ՈՐՈՇՄԱՆ N 5 ՀԱՎԵԼՎԱԾԻ N 2 ԱՂՅՈՒՍԱԿՈՒՄ ԿԱՏԱՐՎՈՂ ՓՈՓՈԽՈՒԹՅՈՒՆՆԵՐԸ
E6: հազ. դրամ
A7: Ծրագրային դասիչ | C7: Բյուջետային գլխավոր կարգադրիչների, ծրագրերի, միջոցառումների և ուղղությունների անվանումները | D7: Ցուցանիշների փոփոխությունը (նվազեցումները նշված են փակագծերում)
D8: Ինն ամիս | E8: Տարի
A9: Ծրագիր | B9: Միջոցառում
C10: ԸՆԴԱՄԵՆԸ | D10: =D12 -> -32557.4 | E10: =E12 -> -84900
C11: այդ թվում`
C12: ՀՀ տարածքային կառավարման և ենթակառուցվածքների նախարարություն | D12: =D14+D19 -> -32557.4 | E12: =E14+E19 -> -84900
C13: այդ թվում՛
A14: 1004 | B14: 31009 | C14: Օրվա կարգավորման ջրավազանների կառուցում և վերակառուցում | D14: =D16 -> -32557.4 | E14: =E16 -> 0
C15: այդ թվում` ըստ կատարողների
C16: ՀՀ տարածքային կառավարման և ենթակառուցվածքների նախարարության ջրային կոմիտե | D16: =հ2!G31 -> -32557.4 | E16: =հ2!H31 -> 0
A17: 1157 | B17: 21002 | C17: Երևանի մետրոպոլիտենի ենթակառուցվածքների կառուցում | D17: =D19 -> 0 | E17: =E19 -> -84900
C18: այդ թվում` ըստ կատարողների
C19: ՀՀ տարածքային կառավարման և ենթակառուցվածքների նախարարություն | D19: =հ2!G47 -> 0 | E19: =հ2!H47 -> -84900

Sheet հ5
E1: Հավելված N 5
E2: ՀՀ կառավարության 2024 թվականի
E3: ______________ ի ___Ն որոշման
B5: ՀԱՅԱՍՏԱՆԻ ՀԱՆՐԱՊԵՏՈՒԹՅԱՆ ԿԱՌԱՎԱՐՈՒԹՅԱՆ 2023 ԹՎԱԿԱՆԻ ԴԵԿՏԵՄԲԵՐԻ 28-Ի N 2323-Ն ՈՐՈՇՄԱՆ N 8 ՀԱՎԵԼՎԱԾՈՒՄ ԿԱՏԱՐՎՈՂ ՓՈՓՈԽՈՒԹՅՈՒՆԸ
E6: հազ. դրամ
B7: Ծրագրային դասիչը | D7: Բյուջետային հատակացումների գլխավոր կարգադրիչներ, ծրագրերի, միջոցառումների անվանումները | E7: Ցուցանիշների փոփոխությունը (նվազեցումները նշված են փակագծերում)
B8: Ծրագիր | C8: Միջոցառում
D9: ԸՆԴԱՄԵՆԸ ԾԱԽՍԵՐ | E9: =E11 -> -84900
D10: այդ թվում՝
B11: 1157 | D11: Քաղաքային զարգացում | E11: =SUM(E12:E13) -> -84900
C12: 21002 | D12: Երևանի մետրոպոլիտենի ենթակառուցվածքների կառուցում | E12: =հ2!H47 -> -84900

Sheet h6
C1: Հավելված N 6
C2: ՀՀ կառավարության 2024 թվականի
C3: ______________ ի ___Ն որոշման
B5: ՀԱՅԱՍՏԱՆԻ ՀԱՆՐԱՊԵՏՈՒԹՅԱՆ ԿԱՌԱՎԱՐՈՒԹՅԱՆ 2023 ԹՎԱԿԱՆԻ ԴԵԿՏԵՄԲԵՐԻ 28-Ի N 2323-Ն ՈՐՈՇՄԱՆ N 9 ՀԱՎԵԼՎԱԾԻ N 9.7 ԵՎ 9․48 ԱՂՅՈՒՍԱԿՈՒՄՆԵՐՈՒՄ ԿԱՏԱՐՎՈՂ ՓՈՓՈԽՈՒԹՅՈՒՆՆԵՐԸ ԵՎ ԼՐԱՑՈՒՄՆԵՐԸ
D6: Աղյուսակ 9.7
B7: ՀՀ տարածքային կառավարման և ենթակառուցվածքների նախարարության
C8: ՄԱՍ 2. ՊԵՏԱԿԱՆ ՄԱՐՄՆԻ ԳԾՈՎ ԱՐԴՅՈՒՆՔԱՅԻՆ (ԿԱՏԱՐՈՂԱԿԱՆ) ՑՈՒՑԱՆԻՇՆԵՐԸ
B11: Ծրագրի դասիչը | C11: Ծրագրի անվանումը
B12: 1157 | C12: Քաղաքային զարգացում
B13: Ծրագրի միջոցառումները
B14: Ծրագրի դասիչը` | C14: 1157 | D14: Ցուցանիշների փոփոխությունը (նվազեցումները նշված են փակագծերում)
B15: Միջոցառման դասիչը` | C15: 21002 | D15: Առաջին կիսամյակ | E15: Ինն ամիս | F15: Տարի
B16: Միջոցառման անվանումը` | C16: Երևանի մետրոպոլիտենի ենթակառուցվածքների կառուցում
B17: Նկարագրությունը` | C17: Երևանի մետրոպոլիտենի ենթակառուցվածքների կառուցում
B18: Միջոցառման տեսակը` | C18: Հանրության կողմից անմիջականորեն օգտագործվող ակտիվների հետ կապված միջոցառումներ
B19: Շահառուների ընտրության չափանիշները | C19: ՀՀ բնակչություն
B20: Արդյունքի չափորոշիչներ
B21: Նախագծանախահաշվային փաստաթղթերի քանակ (հատ) | D21: -1
B22: Միջոցառման վրա կատարվող ծախսը (հազ. դրամ) | D22: =հ2!G47 -> 0 | F22: =հ2!H32 -> -84900
B24: Ծրագրի դասիչը | C24: Ծրագրի անվանումը
B25: 1004 | C25: Ոռոգման համակարգի առողջացում
B26: Ծրագրի միջոցառումները
B27: Ծրագրի դասիչը` | C27: 1004 | D27: Ցուցանիշների փոփոխությունը (նվազեցումները նշված են փակագծերում)
B28: Միջոցառման դասիչը` | C28: 31009 | D28: Ինն ամիս | E28: Տարի
B29: Միջոցառման անվանումը` | C29: Օրվա կարգավորման ջրավազանների կառուցում և վերակառուցում
B30: Նկարագրությունը` | C30: Օրվա կարգավորման ջրավազանների կառուցման և վերակառուցման համար նախագծերի և աշխատանքների ձեռք բերում
B31: Միջոցառման տեսակը` | C31: Պետական մարմինների կողմից օգտագործվող ոչ ֆինանսական ակտիվների հետ գործառնություններ
B32: Միջոցառումն իրականացնողի անվանումը | C32: ՀՀ ՏԿԵՆ ջրային կոմիտե
B33: Արդյունքի չափորոշիչներ
B34: Միջոցառման վրա կատարվող ծախսը (հազ. դրամ) | D34: =հ2!G31 -> -32557.4 | E34: =հ2!H31 -> 0
B36: Ծրագրի դասիչը | C36: Ծրագրի անվանումը
B37: 1176 | C37: Ավիացիայի բնագավառում վերահսկողության և կանոնակարգման ապահովում
B38: Ծրագրի միջոցառումները
B39: Ծրագրի դասիչը | C39: 1176 | D39: Ցուցանիշների փոփոխությունը (ավելացումները նշված են դրական նշանով)
B40: Միջոցառման դասիչը | C40: 11002 | D40: Ինն ամիս | E40: Տարի
B41: Միջոցառման անվանումը | C41: Աշխատակազմի մասնագիտական կարողությունների զարգացում
B42: Նկարագրությունը | C42: Աշխատակազմի մասնագիտական վերապատրաստումներ, գործուղումներ և որակավորման բարձրացման ծառայություններ
B43: Միջոցառման տեսակը | C43: Ծառայությունների մատուցում
B44: Միջոցառումն իրականացնողի անվանումը | C44: ՀՀ տարածքային կառավարման և ենթակառուցվածքների նախարարության քաղաքացիական ավիացիայի կոմիտե
B45: Արդյունքի չափորոշիչներ
...

Sheet h7
C1: Հավելված N 7
C2: ՀՀ կառավարության 2024 թվականի
C3: ______________ ի ___Ն որոշման
B5: ՀԱՅԱՍՏԱՆԻ ՀԱՆՐԱՊԵՏՈՒԹՅԱՆ ԿԱՌԱՎԱՐՈՒԹՅԱՆ 2023 ԹՎԱԿԱՆԻ ԴԵԿՏԵՄԲԵՐԻ 28-Ի N 2323-Ն ՈՐՈՇՄԱՆ N 9.1 ՀԱՎԵԼՎԱԾԻ N 9․1․7, 9․1․25,9.1.29 ԵՎ 9.1.58 ԱՂՅՈՒՍԱԿՈՒՄ ԿԱՏԱՐՎՈՂ ՓՈՓՈԽՈՒԹՅՈՒՆՆԵՐԸ ԵՎ ԼՐԱՑՈՒՄՆԵՐԸ
E6: Աղյուսակ 9.1.7
B7: ՀՀ տարածքային կառավարման և ենթակառուցվածքների նախարարություն
C8: ՄԱՍ 1. ՊԵՏԱԿԱՆ ՄԱՐՄՆԻ ԳԾՈՎ ԱՐԴՅՈՒՆՔԱՅԻՆ (ԿԱՏԱՐՈՂԱԿԱՆ) ՑՈՒՑԱՆԻՇՆԵՐԸ
B11: Ծրագրի դասիչը | C11: Ծրագրի անվանումը
B12: 1157 | C12: Քաղաքային զարգացում
B14: Ծրագրի միջոցառումները
B15: Ծրագրի դասիչը` | C15: 1157 | D15: Ցուցանիշների փոփոխությունը (նվազեցումները նշված են փակագծերում)
B16: Միջոցառման դասիչը` | C16: 21002 | D16: Առաջին կիսամյակ | E16: ինն ամիս | F16: Տարի
B17: Միջոցառման անվանումը` | C17: Երևանի մետրոպոլիտենի ենթակառուցվածքների կառուցում
B18: Նկարագրությունը` | C18: Երևանի մետրոպոլիտենի ենթակառուցվածքների կառուցում
B19: Միջոցառման տեսակը` | C19: Հանրության կողմից անմիջականորեն օգտագործվող ակտիվների հետ կապված միջոցառումներ
B20: Շահառուների ընտրության չափանիշները | C20: ՀՀ բնակչություն
B21: Արդյունքի չափորոշիչներ
B22: Նախագծանախահաշվային փաստաթղթերի քանակ (հատ) | D22: -1
B23: Միջոցառման վրա կատարվող ծախսը (հազ. դրամ) | D23: ='h6'!D22 -> 0 | F23: ='h6'!F22 -> -84900
E25: Աղյուսակ 9.1.25
B26: ՀՀ տարածքային կառավարման և ենթակառուցվածքների նախարարության ջրային կոմիտե
C27: ՄԱՍ 1. ՊԵՏԱԿԱՆ ՄԱՐՄՆԻ ԳԾՈՎ ԱՐԴՅՈՒՆՔԱՅԻՆ (ԿԱՏԱՐՈՂԱԿԱՆ) ՑՈՒՑԱՆԻՇՆԵՐԸ
B30: Ծրագրի դասիչը | C30: Ծրագրի անվանումը
B31: 1004 | C31: Ոռոգման համակարգի առողջացում
B33: Ծրագրի միջոցառումները
B34: Ծրագրի դասիչը` | C34: 1004 | D34: Ցուցանիշների փոփոխությունը (նվազեցումները նշված են փակագծերում)
B35: Միջոցառման դասիչը` | C35: 31009 | D35: Ինն ամիս | E35: Տարի
B36: Միջոցառման անվանումը` | C36: Օրվա կարգավորման ջրավազանների կառուցում և վերակառուցում
B37: Նկարագրությունը` | C37: Օրվա կարգավորման ջրավազանների կառուցման և վերակառուցման համար նախագծերի և աշխատանքների ձեռք բերում
B38: Միջոցառման տեսակը` | C38: Պետական մարմինների կողմից օգտագործվող ոչ ֆինանսական ակտիվների հետ գործառնություններ
B39: Միջոցառումն իրականացնողի անվանումը | C39: ՀՀ ՏԿԵՆ ջրային կոմիտե
B40: Արդյունքի չափորոշիչներ
B41: Միջոցառման վրա կատարվող ծախսը (հազ. դրամ) | D41: ='h6'!D34 -> -32557.4 | E41: ='h6'!E34 -> 0
E43: Աղյուսակ 9.1.29
B44: ՀՀ տարածքային կառավարման և ենթակառուցվածքների նախարարության քաղաքացիական ավիացիայի կոմիտե
C45: ՄԱՍ 1. ՊԵՏԱԿԱՆ ՄԱՐՄՆԻ ԳԾՈՎ ԱՐԴՅՈՒՆՔԱՅԻՆ (ԿԱՏԱՐՈՂԱԿԱՆ) ՑՈՒՑԱՆԻՇՆԵՐԸ
B48: Ծրագրի դասիչը | C48: Ծրագրի անվանումը
B49: 1176 | C49: Ավիացիայի բնագավառում վերահսկողության և կանոնակարգման ապահովում
B50: Ծրագրի միջոցառումները
B51: Ծրագրի դասիչը | C51: 1176 | D51: Ցուցանիշների փոփոխությունը (ավելացումները նշված են դրական նշանով)
...

Sheet h8
F1: Հավելված N 8
F2: ՀՀ կառավարության 2024 թվականի
F3: ______________ ի ___Ն որոշման
B5: ՀԱՅԱՍՏԱՆԻ ՀԱՆՐԱՊԵՏՈՒԹՅԱՆ ԿԱՌԱՎԱՐՈՒԹՅԱՆ 2023 ԹՎԱԿԱՆԻ ԴԵԿՏԵՄԲԵՐԻ 28-Ի N 2323-Ն ՈՐՈՇՄԱՆ N 10 ՀԱՎԵԼՎԱԾՈՒՄ ԿԱՏԱՐՎՈՂ ԼՐԱՑՈՒՄՆԵՐԸ
B7: Կոդը | C7: Անվանումը | D7: Գնման ձևը | E7: Չափման միավորը | F7: Միավորի գինը (դրամ) | G7: Քանակը | H7: Ցուցանիշների փոփոխությունը (ավելացումները նշված են դրական նշանով)
H8: գումարը
H9: (հազ. դրամ)
B10: ՀՀ տարածքային կառավարման և ենթակառուցվածքների նախարարության քաղաքացիական ավիացիայի կոմիտե | H10: =H11 -> 18525.2
B11: Բաժին N 09 | C11: Խումբ N 05 | D11: Դաս N 02 | E11: Լրացուցիչ կրթություն | H11: =+H13 -> 18525.2
B12: 1176 11002 | C12: Աշխատակազմի մասնագիտական կարողությունների զարգացում | H12: =H13 -> 18525.2
C13: ՄԱՍ III. Ծառայություններ | H13: =+H14 -> 18525.2
B14: 79631200/1 | C14: Աշխատակիցների վերապատրաստման ծառայություններ | D14: ՄԱ | E14: դրամ | H14: =հ2!H67 -> 18525.2
