Workbook
Name AgencyCode: #REF!
Name AgencyCode: #REF!
Name AgencyCode: #REF!
Name AgencyCode: #REF!
Name AgencyCode: #REF!
Name AgencyCode: #REF!
Name AgencyCode: #REF!
Name AgencyName: #REF!
Name AgencyName: #REF!
Name AgencyName: #REF!
Name AgencyName: #REF!
Name AgencyName: #REF!
Name åû: #REF!
Name åû: #REF!
Name åû: #REF!
Name davit: #REF!
Name davit: #REF!
Name davit: #REF!
Name Functional1: #REF!
Name Functional1: #REF!
Name Functional1: #REF!
Name Functional1: #REF!
Name Functional1: #REF!
Name ggg: #REF!
Name ggg: #REF!
Name ggg: #REF!
Name mas: #REF!
Name mas: #REF!
Name mas: #REF!
Name mass: #REF!
Name mass: #REF!
Name mass: #REF!
Name PANature: #REF!
Name PANature: #REF!
Name PANature: #REF!
Name PANature: #REF!
Name PANature: #REF!
Name PAType: #REF!
Name PAType: #REF!
Name PAType: #REF!
Name PAType: #REF!
Name PAType: #REF!
Name Performance2: #REF!
Name Performance2: #REF!
Name Performance2: #REF!
Name Performance2: #REF!
Name Performance2: #REF!
Name PerformanceType: #REF!
Name PerformanceType: #REF!
Name PerformanceType: #REF!
Name PerformanceType: #REF!
Name PerformanceType: #REF!
Name x: #REF!
Name x: #REF!
Name x: #REF!
Name Հավելված: #REF!
Name Հավելված: #REF!
Name Հավելված: #REF!
Name Հավելված: #REF!
Name Հավելված: #REF!

Sheet Հ1
D1: Հավելված N 1
D2: ՀՀ կառավարության 2024 թվականի
D3: ______________ ի ___Ն որոշման
B5: ՀԱՅԱՍՏԱՆԻ ՀԱՆՐԱՊԵՏՈՒԹՅԱՆ ԿԱՌԱՎԱՐՈՒԹՅԱՆ 2023 ԹՎԱԿԱՆԻ ԴԵԿՏԵՄԲԵՐԻ 28-Ի N 2323-Ն ՈՐՈՇՄԱՆ N 1 ՀԱՎԵԼՎԱԾԻ N 1 ԱՂՅՈՒՍԱԿՈՒՄ ԿԱՏԱՐՎՈՂ ՓՈՓՈԽՈՒԹՅՈՒՆՆԵՐԸ
D7: հազ. դրամ
B8: Պետական բյուջեի դեֆիցիտի ֆինանսավորման աղբյուրներն ու դրանց տարրերի անվանումները | C8: Ցուցանիշների փոփոխությունը (ավելացումները նշված են դրական նշանով)
C9: Ինն ամիս | D9: Տարի
B10: ԸՆԴԱՄԵՆԸ | C10: =C12 -> 480605.6 | D10: =D12 -> 0
B11: այդ թվում՝
B12: Ա.Ներքին աղբյուրներ-ընդամենը | C12: =C14 -> 480605.6 | D12: =D14 -> 0
B13: այդ թվում՝
B14: 2. Ֆինանսական զուտ ակտիվներ | C14: =C16 -> 480605.6 | D14: =D16 -> 0
B15: այդ թվում՝
B16: 2.6.Այլ | C16: =C17 -> 480605.6
B17: ժամանակավորապես ազատ միջոցներ | C17: =Հ4!E10 -> 480605.6

Sheet Հ2
H1: Հավելված N 2
H2: ՀՀ կառավարության 2024 թվականի
H3: ______________ ի ___Ն որոշման
A5: «ՀԱՅԱՍՏԱՆԻ ՀԱՆՐԱՊԵՏՈՒԹՅԱՆ 2024 ԹՎԱԿԱՆԻ ՊԵՏԱԿԱՆ ԲՅՈՒՋԵԻ ՄԱՍԻՆ» ՕՐԵՆՔԻ N 1 ՀԱՎԵԼՎԱԾԻ N 3 ԱՂՅՈՒՍԱԿՈՒՄ ԿԱՏԱՐՎՈՂ ՓՈՓՈԽՈՒԹՅՈՒՆՆԵՐԸ ԵՎ ԼՐԱՑՈՒՄՆԵՐԸ
G6: հազ. դրամ
A7: Ծրագրային դասիչ | C7: Բյուջետային գլխավոր կարգադրիչների, ծրագրերի, միջոցառումների և ուղղությունների անվանումները | D7: Ցուցանիշների փոփոխությունը (ավելացումները նշված են դրական նշանով, իսկ նվազեցումները` փակագծերում)
D8: Ընդամենը, | E8: այդ թվում՝
A9: Ծրագիր | B9: Միջոցառում | E9: Կառուցման աշխատանքներ | F9: Վերակառուցման, վերանորոգման և վերականգնման աշխատանքներ | G9: Նախագծահե- տազոտական, գեոդեզիա- քարտեզագրա- կան աշխա- տանքներ | H9: Ոչ ֆինանսական այլ ակտիվների ձեռքբերում
C10: ԸՆԴԱՄԵՆԸ | D10: 0 | E10: =+E12 -> 0 | F10: =+F12 -> 0 | G10: =+G12 -> 0 | H10: =+H12 -> 0
C11: այդ թվում՝
C12: ՀՀ ՏԱՐԱԾՔԱՅԻՆ ԿԱՌԱՎԱՐՄԱՆ ԵՎ ԵՆԹԱԿԱՌՈՒՑՎԱԾՔՆԵՐԻ ՆԱԽԱՐԱՐՈՒԹՅՈՒՆ | D12: 0 | E12: =+E14+E15 -> 0 | F12: =+F14+F15 -> 0 | G12: =+G14+G15 -> 0 | H12: =+H14+H15 -> 0
C13: այդ թվում`
A14: 1049 | B14: 21001 | C14: Պետական նշանակության ավտոճանապարհների հիմնանորոգում | D14: =+E14+F14+G14+H14 -> -480605.6 | E14: =-E15 -> 0 | F14: =-F15 -> -480605.6 | H14: =-H15 -> 0
A15: 1049 | B15: 21001 | C15: Պետական նշանակության ավտոճանապարհների հիմնանորոգում | D15: =+E15+F15+G15+H15 -> 480605.6 | E15: =E17 -> 0 | F15: =F17 -> 480605.6 | G15: =G17 -> 0 | H15: =H17 -> 0
C16: այդ թվում`
C17: Մարզային (տեղական) նշանակության ավտոճանապարհներ, այդ թվում | D17: =+E17+F17+G17+H17 -> 480605.6 | E17: =SUM(E20:E22) -> 0 | F17: =F18 -> 480605.6 | G17: =SUM(G20:G22) -> 0 | H17: =SUM(H20:H22) -> 0
C18: ՀՀ Տավուշի մարզ | D18: =SUM(D20:D23) -> 480605.6 | E18: =SUM(E20:E22) -> 0 | F18: =SUM(F20:F23) -> 480605.6 | G18: =SUM(G20:G22) -> 0 | H18: =SUM(H20:H22) -> 0
C19: Այդ թվում ըստ ուղղությունների
C20: Դիլիջան համայնքի Թեղուտ բնակավայրի 1-ին փողոց թիվ 105 հասցեից մինչև Հաղարծին բնակավայրի 12-րդ փողոց թիվ 1 հասցեն ընկած ճանապարհահատվածի վերանորոգման աշխատանքներ (Տ-10-45, /Մ-4/ - Թեղուտ - /Մ-4/) | D20: =+E20+F20+G20+H20 -> 125894.4 | F20: =124560+480+854.4 -> 125894.4
C21: Սևքար բնակավայրից Սարիգյուղ բնակավայր միջհամայնքային ճանապարհի ասֆալտապատման աշխատանքներ (Տ-10-1, /Հ-58/ -Սևքար- /Հ-58/ (Սարիգյուղ)) | D21: =+E21+F21+G21+H21 -> 99329.6 | F21: =97560+1179.6+590 -> 99329.6
C22: Նոյեմբերյան համայնքի Բագրատաշեն և Դեբեդավան համայնքները միացնող հատվածի ասֆալտապատման աշխատանքներ (Տ-10-40, /Մ6/ (Բագրատաշեն) – Դեբեդավան ) | D22: =+E22+F22+G22+H22 -> 157698.2 | F22: =155400+1359.6+938.6 -> 157698.2
C23: Տ-10-39 /Հ-64/-Չորաթան /Արծվաբերդ-Չորաթան/ ճանապարհի ասֆալտապատման աշխատանքներ (Տ-10-39, /Հ-64/ - Չորաթան) | D23: =+E23+F23+G23+H23 -> 97683.4 | F23: =96300+799.2+584.2 -> 97683.4

Sheet Հ3
H1: Հավելված N 3
H2: ՀՀ կառավարության 2024 թվականի
H3: ______________ ի ___Ն որոշման
A5: ՀԱՅԱՍՏԱՆԻ ՀԱՆՐԱՊԵՏՈՒԹՅԱՆ ԿԱՌԱՎԱՐՈՒԹՅԱՆ 2023 ԹՎԱԿԱՆԻ ԴԵԿՏԵՄԲԵՐԻ 28-Ի N 2323-Ն ՈՐՈՇՄԱՆ N 3 ԵՎ N 4 ՀԱՎԵԼՎԱԾՆԵՐՈՒՄ ԿԱՏԱՐՎՈՂ ՓՈՓՈԽՈՒԹՅՈՒՆՆԵՐԸ ԵՎ ԼՐԱՑՈՒՄՆԵՐԸ
G7: հազ. դրամ
A8: Գործառական դասիչը | D8: Ծրագրային դասիչը | F8: Բյուջետային հատկացումների գլխավոր կարգադրիչների, ծրագրերի, միջոցառումների և միջոցառումները կատարող պետական մարմինների անվանումները | G8: Ցուցանիշների փոփոխությունը (ավելացումները նշված են դրական նշանով, իսկ նվազեցումները` փակագծերում)
A9: Բաժին | B9: Խումբ | C9: Դաս | D9: Ծրագիր | E9: Միջոցառում | G9: Ինն ամիս | H9: Տարի
F10: ԸՆԴԱՄԵՆԸ | G10: =+G12 -> 480605.6 | H10: =+H12 -> 0
F11: այդ թվում
F12: ՀՀ տարածքային կառավարման և ենթակառուցվածքների նախարարություն | G12: =+G13 -> 480605.6 | H12: =+H13 -> 0
A13: 04 | F13: ՏՆՏԵՍԱԿԱՆ ՀԱՐԱԲԵՐՈՒԹՅՈՒՆՆԵՐ | G13: =G15 -> 480605.6 | H13: =H15 -> 0
F14: այդ թվում`
B15: 05 | F15: Տրանսպորտ | G15: =G17 -> 480605.6 | H15: =H17 -> 0
F16: այդ թվում`
C17: 01 | F17: Ճանապարհային տրանսպորտ | G17: =+G19 -> 480605.6 | H17: =+H19 -> 0
F18: այդ թվում`
F19: ՀՀ տարածքային կառավարման և ենթակառուցվածքների նախարարություն | G19: =+G21 -> 480605.6 | H19: =+H21 -> 0
F20: այդ թվում`
D21: 1049 | F21: Ճանապարհային ցանցի բարելավում | G21: =+G23 -> 480605.6 | H21: =+H23 -> 0
F22: այդ թվում`
E23: 21001 | F23: Պետական նշանակության ավտոճանապարհների հիմնանորոգում | G23: =G32+G25 -> 480605.6 | H23: =H32+H25 -> 0
F24: այդ թվում` ըստ կատարողների
F25: ՀՀ կառավարություն | G25: =G27 -> 0 | H25: =H27 -> -480605.6
F26: այդ թվում` բյուջետային ծախսերի տնտեսագիտական դասակարգման հոդվածներ
F27: ԸՆԴԱՄԵՆԸ ԾԱԽՍԵՐ | G27: =+G28 -> 0 | H27: =+H28 -> -480605.6
F28: ՈՉ ՖԻՆԱՆՍԱԿԱՆ ԱԿՏԻՎՆԵՐԻ ԳԾՈՎ ԾԱԽՍԵՐ | G28: =G29 -> 0 | H28: =H29 -> -480605.6
F29: ՀԻՄՆԱԿԱՆ ՄԻՋՈՑՆԵՐ | G29: =G30 -> 0 | H29: =H30 -> -480605.6
F30: ՇԵՆՔԵՐ ԵՎ ՇԻՆՈՒԹՅՈՒՆՆԵՐ | G30: =G31 -> 0 | H30: =H31 -> -480605.6
F31: - Շենքերի և շինությունների կապիտալ վերանորոգում | G31: =Հ4!E16 -> 0 | H31: =Հ4!F16 -> -480605.6
F32: ՀՀ Տավուշի մարզպետի աշխատակազմ | G32: =G34 -> 480605.6 | H32: =H34 -> 480605.6
F33: այդ թվում`բյուջետային ծախսերի տնտեսագիտական դասակարգման հոդվածներ
F34: ԸՆԴԱՄԵՆԸ ԾԱԽՍԵՐ | G34: =+G35 -> 480605.6 | H34: =+H35 -> 480605.6
F35: ՈՉ ՖԻՆԱՆՍԱԿԱՆ ԱԿՏԻՎՆԵՐԻ ԳԾՈՎ ԾԱԽՍԵՐ | G35: =G36 -> 480605.6 | H35: =H36 -> 480605.6
F36: ՀԻՄՆԱԿԱՆ ՄԻՋՈՑՆԵՐ | G36: =G37 -> 480605.6 | H36: =H37 -> 480605.6
F37: ՇԵՆՔԵՐ ԵՎ ՇԻՆՈՒԹՅՈՒՆՆԵՐ | G37: =+G38 -> 480605.6 | H37: =+H38 -> 480605.6
F38: - Շենքերի և շինությունների կապիտալ վերանորոգում | G38: =Հ4!E17 -> 480605.6 | H38: =Հ4!F17 -> 480605.6

Sheet Հ4
F1: Հավելված 4
F2: ՀՀ կառավարության 2024 թվականի
F3: ______________ ի ___Ն որոշման
A5: ՀԱՅԱՍՏԱՆԻ ՀԱՆՐԱՊԵՏՈՒԹՅԱՆ ԿԱՌԱՎԱՐՈՒԹՅԱՆ 2023 ԹՎԱԿԱՆԻ ԴԵԿՏԵՄԲԵՐԻ 28-Ի N 2323-Ն ՈՐՈՇՄԱՆ N 5 ՀԱՎԵԼՎԱԾԻ N 2 ԱՂՅՈՒՍԱԿՈՒՄ ԿԱՏԱՐՎՈՂ ՓՈՓՈԽՈՒԹՅՈՒՆՆԵՐԸ ԵՎ ԼՐԱՑՈՒՄՆԵՐԸ
E7: հազ. դրամ
B8: Ծրագրային դասիչը | D8: Հատկացումների տրամադրման նպատակները և բյուջետային գլխավոր կարգադրիչների, ծրագրերի, միջոցառումների և կատարող պետական մարմնի անվանումները | E8: Ցուցանիշների փոփոխությունը (ավելացումները նշված են դրական նշանով, իսկ նվազեցումները` փակագծերում)
B9: Ծրագիր | C9: Միջոցառում | E9: Ինն ամիս | F9: Տարի
D10: ԸՆԴԱՄԵՆԸ | E10: =+E12 -> 480605.6 | F10: =+F12 -> 0
D11: այդ թվում՝
D12: ՀՀ ՏԱՐԱԾՔԱՅԻՆ ԿԱՌԱՎԱՐՄԱՆ ԵՎ ԵՆԹԱԿԱՌՈՒՑՎԱԾՔՆԵՐԻ ՆԱԽԱՐԱՐՈՒԹՅՈՒՆ | E12: =+E14 -> 480605.6 | F12: =+F14 -> 0
D13: այդ թվում`
B14: 1049 | C14: 21001 | D14: Պետական նշանակության ավտոճանապարհների հիմնանորոգում | E14: =+E16+E17 -> 480605.6 | F14: =+F16+F17 -> 0
D15: այդ թվում` ըստ կատարողների
D16: ՀՀ կառավարություն | E16: 0 | F16: =-F17 -> -480605.6
D17: =Հ3!F32 -> ՀՀ Տավուշի մարզպետի աշխատակազմ | E17: =+E19 -> 480605.6 | F17: =+F19 -> 480605.6
D18: այդ թվում՝ ըստ ուղղությունների
D19: =Հ2!C17 -> Մարզային (տեղական) նշանակության ավտոճանապարհներ, այդ թվում | E19: =E20 -> 480605.6 | F19: =F20 -> 480605.6
D20: =Հ2!C18 -> ՀՀ Տավուշի մարզ | E20: =SUM(E22:E25) -> 480605.6 | F20: =SUM(F22:F25) -> 480605.6
D21: =Հ2!C19 -> Այդ թվում ըստ ուղղությունների
D22: =Հ2!C20 -> Դիլիջան համայնքի Թեղուտ բնակավայրի 1-ին փողոց թիվ 105 հասցեից մինչև Հաղարծին բնակավայրի 12-րդ փողոց թիվ 1 հասցեն ընկած ճանապարհահատվածի վերանորոգման աշխատանքներ (Տ-10-45, /Մ-4/ - Թեղուտ - /Մ-4/) | E22: =F22 -> 125894.4 | F22: =Հ2!F20 -> 125894.4
D23: =Հ2!C21 -> Սևքար բնակավայրից Սարիգյուղ բնակավայր միջհամայնքային ճանապարհի ասֆալտապատման աշխատանքներ (Տ-10-1, /Հ-58/ -Սևքար- /Հ-58/ (Սարիգյուղ)) | E23: =F23 -> 99329.6 | F23: =Հ2!F21 -> 99329.6
D24: =Հ2!C22 -> Նոյեմբերյան համայնքի Բագրատաշեն և Դեբեդավան համայնքները միացնող հատվածի ասֆալտապատման աշխատանքներ (Տ-10-40, /Մ6/ (Բագրատաշեն) – Դեբեդավան ) | E24: =F24 -> 157698.2 | F24: =Հ2!F22 -> 157698.2
D25: =Հ2!C23 -> Տ-10-39 /Հ-64/-Չորաթան /Արծվաբերդ-Չորաթան/ ճանապարհի ասֆալտապատման աշխատանքներ (Տ-10-39, /Հ-64/ - Չորաթան) | E25: =F25 -> 97683.4 | F25: =Հ2!F23 -> 97683.4

Sheet Հ5
E1: Հավելված N 5
E2: ՀՀ կառավարության 2024 թվականի
E3: ______________ ի ___Ն որոշման
B5: ՀԱՅԱՍՏԱՆԻ ՀԱՆՐԱՊԵՏՈՒԹՅԱՆ ԿԱՌԱՎԱՐՈՒԹՅԱՆ 2023 ԹՎԱԿԱՆԻ ԴԵԿՏԵՄԲԵՐԻ 28-Ի N 2323-Ն ՈՐՈՇՄԱՆ N 9 ՀԱՎԵԼՎԱԾԻ NN 9.7 ԱՂՅՈՒՍԱԿՈՒՄ ԿԱՏԱՐՎՈՂ ՓՈՓՈԽՈՒԹՅՈՒՆՆԵՐԸ ԵՎ ԼՐԱՑՈՒՄՆԵՐԸ
E7: Աղյուսակ 9.7
B8: ՀՀ տարածքային կառավարման և ենթակառուցվածքների նախարարություն
B9: ՄԱՍ 1. ՊԵՏԱԿԱՆ ՄԱՐՄՆԻ ԳԾՈՎ ԱՐԴՅՈՒՆՔԱՅԻՆ (ԿԱՏԱՐՈՂԱԿԱՆ) ՑՈՒՑԱՆԻՇՆԵՐԸ
B11: Ծրագրի դասիչը | C11: Ծրագրի անվանումը
B12: 1049 | C12: Ճանապարհային ցանցի բարելավում
B14: Ծրագրի միջոցառումները
B15: Ծրագրի դասիչը` | C15: 1049 | D15: Ցուցանիշների փոփոխությունը (ավելացումները նշված են դրական նշանով, իսկ նվազեցումները` փակագծերում)
B16: Միջոցառման դասիչը` | C16: 21001 | D16: Ինն ամիս | E16: Տարի
B17: Միջոցառման անվանումը` | C17: Պետական նշանակության ավտոճանապարհների հիմնանորոգում
B18: Նկարագրությունը` | C18: Միջպետական, հանրապետական և մարզային նշանակության ավտոճոնապարհների քայքայված ծածկի վերանորոգում, մաշված ծածկի փոխարինում
B19: Միջոցառման տեսակը` | C19: Հանրության կողմից անմիջականորեն օգտագործվող ակտիվների հետ կապված միջոցառումներ
B20: Միջոցառումն իրականացնողի անվանումը | C20: Մասնագիտացված միավոր
B21: Արդյունքի չափորոշիչներ
B22: Մարզային նշանակության ավտոճանապարհների հողային աշխատանքներ, կմ | D22: 0 | E22: 13․2
B23: Աշխատանքների ավարտվածության աստիճան, % | E23: 20
B24: Միջոցառման վրա կատարվող ծախսը (հազար դրամ) | D24: 0 | E24: 0

Sheet Հ6
E1: Հավելված N 6
E2: ՀՀ կառավարության 2024 թվականի
E3: ______________ ի ___Ն որոշման
B5: ՀԱՅԱՍՏԱՆԻ ՀԱՆՐԱՊԵՏՈՒԹՅԱՆ ԿԱՌԱՎԱՐՈՒԹՅԱՆ 2023 ԹՎԱԿԱՆԻ ԴԵԿՏԵՄԲԵՐԻ 28-Ի N 2323-Ն ՈՐՈՇՄԱՆ N 9.1 ՀԱՎԵԼՎԱԾԻ NN 9.1.57 ԵՎ 9.1.58 ԱՂՅՈՒՍԱԿՆԵՐՈՒՄ ԿԱՏԱՐՎՈՂ ՓՈՓՈԽՈՒԹՅՈՒՆՆԵՐԸ ԵՎ ԼՐԱՑՈՒՄՆԵՐԸ
E7: Աղյուսակ 9.1.57
B8: =Հ3!F32 -> ՀՀ Տավուշի մարզպետի աշխատակազմ
B9: ՄԱՍ 1. ՊԵՏԱԿԱՆ ՄԱՐՄՆԻ ԳԾՈՎ ԱՐԴՅՈՒՆՔԱՅԻՆ (ԿԱՏԱՐՈՂԱԿԱՆ) ՑՈՒՑԱՆԻՇՆԵՐԸ
B11: Ծրագրի դասիչը | C11: Ծրագրի անվանումը
B12: 1049 | C12: Ճանապարհային ցանցի բարելավում
B14: Ծրագրի միջոցառումները
B15: Ծրագրի դասիչը` | C15: 1049 | D15: Ցուցանիշների փոփոխությունը (ավելացումները նշված են դրական նշանով)
B16: Միջոցառման դասիչը` | C16: 21001 | D16: Ինն ամիս | E16: Տարի
B17: Միջոցառման անվանումը` | C17: Պետական նշանակության ավտոճանապարհների հիմնանորոգում
B18: Նկարագրությունը` | C18: Միջպետական, հանրապետական և մարզային նշանակության ավտոճոնապարհների քայքայված ծածկի վերանորոգում, մաշված ծածկի փոխարինում
B19: Միջոցառման տեսակը` | C19: Հանրության կողմից անմիջականորեն օգտագործվող ակտիվների հետ կապված միջոցառումներ
B20: Միջոցառումն իրականացնողի անվանումը | C20: Մասնագիտացված միավոր
B21: Արդյունքի չափորոշիչներ
B22: =Հ5!B22 -> Մարզային նշանակության ավտոճանապարհների հողային աշխատանքներ, կմ | D22: 0 | E22: =Հ5!E22 -> 13․2
B23: =Հ5!B23 -> Աշխատանքների ավարտվածության աստիճան, % | D23: 0 | E23: =Հ5!E23 -> 20
B24: Միջոցառման վրա կատարվող ծախսը (հազար դրամ) | D24: =Հ3!G32 -> 480605.6 | E24: =Հ3!H32 -> 480605.6
E26: Աղյուսակ 9.1.58
C27: ՀՀ կառավարություն
B28: ՄԱՍ 1. ՊԵՏԱԿԱՆ ՄԱՐՄՆԻ ԳԾՈՎ ԱՐԴՅՈՒՆՔԱՅԻՆ (ԿԱՏԱՐՈՂԱԿԱՆ) ՑՈՒՑԱՆԻՇՆԵՐԸ
B30: Ծրագրի դասիչը | C30: Ծրագրի անվանումը
B31: 1049 | C31: Ճանապարհային ցանցի բարելավում
B33: Ծրագրի միջոցառումները
B34: Ծրագրի դասիչը` | C34: 1049 | D34: Ցուցանիշների փոփոխությունը (նվազեցումները նշված են փակագծերում)
B35: Միջոցառման դասիչը` | C35: 21001 | D35: Ինն ամիս | E35: Տարի
B36: Միջոցառման անվանումը` | C36: Պետական նշանակության ավտոճանապարհների հիմնանորոգում
B37: Նկարագրությունը` | C37: Միջպետական, հանրապետական և մարզային նշանակության ավտոճոնապարհների քայքայված ծածկի վերանորոգում, մաշված ծածկի փոխարինում
B38: Միջոցառման տեսակը` | C38: Հանրության կողմից անմիջականորեն օգտագործվող ակտիվների հետ կապված միջոցառումներ
B39: Միջոցառումն իրականացնողի անվանումը | C39: Մասնագիտացված միավոր
C40: Արդյունքի չափորոշիչներ
B41: Միջոցառման վրա կատարվող ծախսը (հազար դրամ) | D41: =Հ3!G25 -> 0 | E41: =Հ3!H25 -> -480605.6

Sheet Հ7
H1: Հավելված N 7
H2: ՀՀ կառավարության 2024 թվականի
H3: ______________ ի ___Ն որոշման
B5: ՀԱՅԱՍՏԱՆԻ ՀԱՆՐԱՊԵՏՈՒԹՅԱՆ ԿԱՌԱՎԱՐՈՒԹՅԱՆ 2023 ԹՎԱԿԱՆԻ ԴԵԿՏԵՄԲԵՐԻ 28-Ի N 2323-Ն ՈՐՈՇՄԱՆ N 10 ՀԱՎԵԼՎԱԾՈՒՄ ԿԱՏԱՐՎՈՂ ԼՐԱՑՈՒՄՆԵՐԸ
B6: Կոդը | C6: Անվանումը | D6: Գնման ձևը | E6: Չափման միավորը | F6: Միավորի գինը | G6: Ցուցանիշների փոփոխությունը (ավելացումները նշված են դրական նշանով,իսկ նվազեցումները` փակագծերում)
G7: Քանակը | H7: Գումարը (հազար դրամով)
B8: =Հ3!F32 -> ՀՀ Տավուշի մարզպետի աշխատակազմ | H8: =+H9 -> 480605.6
B9: Բաժին N 04 | C9: Խումբ N 05 | D9: Դաս N 01 | E9: Ճանապարհային տրանսպորտ | H9: =+H10 -> 480605.6
B10: 1049 21001 | C10: Պետական նշանակության ավտոճանապարհների հիմնանորոգում | H10: =+H11+H16 -> 480605.6
B11: ՄԱՍ II. ԱՇԽԱՏԱՆՔՆԵՐ | H11: =SUM(H12:H15) -> 473820
B12: 45231177/501 | C12: ճանապարհների վերանորոգման աշխատանքներ | D12: ԲՄ | E12: դրամ | F12: 124560000 | G12: 1 | H12: =+G12*F12/1000 -> 124560
B13: 45231177/502 | C13: ճանապարհների վերանորոգման աշխատանքներ | D13: ԲՄ | E13: դրամ | F13: 97560000 | G13: 1 | H13: =+G13*F13/1000 -> 97560
B14: 45231177/503 | C14: ճանապարհների վերանորոգման աշխատանքներ | D14: ԲՄ | E14: դրամ | F14: 155400000 | G14: 1 | H14: =+G14*F14/1000 -> 155400
B15: 45231177/504 | C15: ճանապարհների վերանորոգման աշխատանքներ | D15: ԲՄ | E15: դրամ | F15: 96300000 | G15: 1 | H15: =+G15*F15/1000 -> 96300
B16: ՄԱՍ III. ԾԱՌԱՅՈՒԹՅՈՒՆՆԵՐ | H16: =SUM(H17:H24) -> 6785.6
B17: 71351540/501 | C17: տեխնիկական հսկողության ծառայություններ | D17: ԳՀ | E17: դրամ | F17: 480000 | G17: 1 | H17: =+G17*F17/1000 -> 480
B18: 71351540/502 | C18: տեխնիկական հսկողության ծառայություններ | D18: ԳՀ | E18: դրամ | F18: 1179600 | G18: 1 | H18: =+G18*F18/1000 -> 1179.6
B19: 71351540/503 | C19: տեխնիկական հսկողության ծառայություններ | D19: ԳՀ | E19: դրամ | F19: 1359600 | G19: 1 | H19: =+G19*F19/1000 -> 1359.6
B20: 71351540/504 | C20: տեխնիկական հսկողության ծառայություններ | D20: ԳՀ | E20: դրամ | F20: 799200 | G20: 1 | H20: =+G20*F20/1000 -> 799.2
B21: 98111140/1 | C21: հեղինակային հսկողության ծառայություններ | D21: ՄԱ | E21: դրամ | F21: 854400 | G21: 1 | H21: =+G21*F21/1000 -> 854.4
B22: 98111140/2 | C22: հեղինակային հսկողության ծառայություններ | D22: ՄԱ | E22: դրամ | F22: 590000 | G22: 1 | H22: =+G22*F22/1000 -> 590
B23: 98111140/3 | C23: հեղինակային հսկողության ծառայություններ | D23: ՄԱ | E23: դրամ | F23: 938600 | G23: 1 | H23: =+G23*F23/1000 -> 938.6
B24: 98111140/4 | C24: հեղինակային հսկողության ծառայություններ | D24: ՄԱ | E24: դրամ | F24: 584200 | G24: 1 | H24: =+G24*F24/1000 -> 584.2
