Workbook
Name a: #REF!
Name AgencyCode: #REF!
Name AgencyName: #REF!
Name davit: #REF!
Name Functional1: #REF!
Name ggg: #REF!
Name HAVELVAC10: #REF!
Name PANature: #REF!
Name PAType: #REF!
Name Performance2: #REF!
Name PerformanceType: #REF!
Name Հավելված: #REF!
Name Մաս: #REF!
Name շախմատիստ: #REF!

Sheet havelvac 1
C1: Հավելված N 1
C2: ՀՀ կառավարության 2023 թվականի
C3: ______________ ի ___Ն որոշման
A4: «ՀԱՅԱՍՏԱՆԻ ՀԱՆՐԱՊԵՏՈՒԹՅԱՆ 2023 ԹՎԱԿԱՆԻ ՊԵՏԱԿԱՆ ԲՅՈՒՋԵԻ ՄԱՍԻՆ» ՕՐԵՆՔԻ N 1 ՀԱՎԵԼՎԱԾԻ N 2 ԱՂՅՈՒՍԱԿՈՒՄ ԿԱՏԱՐՎՈՂ ՎԵՐԱԲԱՇԽՈՒՄԸ ԵՎ ՀԱՅԱՍՏԱՆԻ ՀԱՆՐԱՊԵՏՈՒԹՅԱՆ ԿԱՌԱՎԱՐՈՒԹՅԱՆ 2023 ԹՎԱԿԱՆԻ ԴԵԿՏԵՄԲԵՐԻ 28-Ի N 2323-Ն ՈՐՈՇՄԱՆ N 5 ՀԱՎԵԼՎԱԾԻ N 1 ԱՂՅՈՒՍԱԿՈՒՄ ԿԱՏԱՐՎՈՂ ՓՈՓՈԽՈՒԹՅՈՒՆՆԵՐԸ ԵՎ ԼՐԱՑՈՒՄՆԵՐԸ
E5: հազար դրամ
A6: Ծրագրային դասիչը | C6: Բյուջետային հատկացումների գլխավոր կարգադրիչների, ծրագրերի և միջոցառումների անվանումները | D6: Ցուցանիշների փոփոխությունը (ավելացումները նշված են դրական նշանով, իսկ նվազեցումները՝ փակագծերում)
A7: ծրագիր | B7: միջոցառում | D7: Ինն ամիս | E7: Տարի
C8: ԸՆԴԱՄԵՆԸ | D8: =D10+D58 -> 0 | E8: =E10+E58 -> 0
A9: ՀՀ Կրթության, գիտության, մշակույթի և սպորտի նախարարություն | D9: =D10 -> 0 | E9: =E10 -> 0
A10: 1162 | C10: Ծրագրի անվանումը` | D10: =D16+D28+D34+D22+D40 -> 0 | E10: =E16+E28+E34+E22+E40 -> 0
C11: Գիտական և գիտատեխնիկական հետազոտությունների ծրագիր
C12: Ծրագրի նպատակը`
C13: Գիտական և գիտատեխնիկական գործունեության հիմնարար, կիրառական և թեմատիկ հետազոտությունների իրականացում, ենթակառուցվածքի և ազգային արժեք ներկայացնող գիտական օբյեկտների պահպանում և զարգացում, գիտական ներուժի վերարտադրության ապահովում
C14: Վերջնական արդյունքի նկարագրությունը`
C15: Գիտության և տեխնիկայի զարգացման գերակա ուղղությունների հետազոտությունների իրականացում, գիտական ներուժի զարգացում, ազգային արժեք ներկայացնող գիտական օբյեկտների պահպանում
B16: 11005 | C16: Միջոցառման անվանումը` | D16: =-1862562.6 -> -1862562.6 | E16: =-1862562.6 -> -1862562.6
C17: Գիտական և գիտատեխնիկական գործունեության պայմանագրային (թեմատիկ) հետազոտություններ
C18: Միջոցառման նկարագրությունը`
C19: Գիտական և գիտատեխնիկական գործունեության պայմանագրային (թեմատիկ) հետազոտություններ
C20: Միջոցառման տեսակը
C21: Ծառայությունների մատուցում
B22: 32003 | C22: Միջոցառման անվանումը` | D22: -260550 | E22: -466124.4
C23: Գիտական կենտրոնների վերանորոգում, «Ակադեմիական քաղաք» նախագծի իրականացման շրջանակներում առաջացած հրատապ ծախսերի ապահովում
C24: Միջոցառման նկարագրությունը`
C25: Գիտական կենտրոնների վերանորոգում, «Ակադեմիական քաղաք» նախագծի իրականացում
C26: Միջոցառման տեսակը
C27: Այլ պետական կազմակերպությունների կողմից օգտագործվող ոչ ֆինանսական ակտիվների հետ գործառնություններ
B28: 32004 | C28: Միջոցառման անվանումը` | D28: 1318181.1 | E28: 1523755.5
C29: Գիտական կենտրոնները ժամանակակից սարքավորումներով վերազինում ու համատեղ օգտագործման գիտական սարքավորումների կենտրոնների ստեղծում
C30: Միջոցառման նկարագրությունը`
C31: Գիտական կենտրոնները վերազինված են ոլորտային համալիր հետազոտությունների համար անհարժեշտ սարքավորումներով
C32: Միջոցառման տեսակը
C33: Այլ պետական կազմակերպությունների կողմից օգտագործվող ոչ ֆինանսական ակտիվների հետ գործառնություններ
B34: 11002 | C34: Միջոցառման անվանումը` | D34: 466124.4 | E34: 466124.4
C35: Գիտական ենթակառուցվածքի արդիականացում
C36: Միջոցառման նկարագրությունը`
C37: Գիտական կազմակերպությունների և բուհերի գիտական ստորաբաժանումների զարգացում, ծրագրերի իրականացում, գիտական սարքավորումների արդիականացում, միջազգային համագործակցության աջակցություն
C38: Միջոցառման տեսակը
C39: Ծառայությունների մատուցում
A40: 1111 | C40: Ծրագրի անվանումը` | D40: =D46+D52 -> 338807.1 | E40: =E46+E52 -> 338807.1
C41: Բարձրագույն և հետբուհական մասնագիտական կրթության ծրագիր
C42: Ծրագրի նպատակը`
C43: Ապահովել մատչելի, որակյալ և մրցունակ բարձրագույն և հետբուհական մասնագիտական կրթություն
C44: Վերջնական արդյունքի նկարագրությունը`
C45: Գիտելիքների տնտեսության և գիտության զարգացման արդի պահանջներին համապատասխան բարձրագույն և հետբուհական մասնագիտական որակավորում ունեցող մասնագետների պատրաստում
B46: 12012 | C46: Միջոցառման անվանումը` | D46: 289631.4 | E46: 289631.4
C47: Լեռնային Ղարաբաղից բռնի տեղահանված ընտանիքների Հայաստանի Հանրապետության բարձրագույն և հետբուհական մասնագիտական կրթական ծրագրեր իրականացնող ուսումնական հաստատություններում սովորող ուսանողների ուսման վարձի փոխհատուցում
C48: Միջոցառման նկարագրությունը`
C49: Մինչև 2023 թվականի սեպտեմբերի 19-ն Հայաստանի Հանրապետության բարձրագույն և հետբուհական մասնագիտական կրթական ծրագրեր իրականացնող ուսումնական հաստատությունների վճարովի ուսուցման համակարգում ընդգրկված Լեռնային Ղարաբաղից բռնի տեղահանված ընտանիքների ուսանողներին ուսման վարձի փոխհատուցման նպատակով ուսանողական նպաստի տրամադրում
C50: Միջոցառման տեսակը
C51: Տրանսֆերտների տրամադրում
B52: 12011 | C52: Միջոցառման անվանումը` | D52: 49175.7 | E52: 49175.7
C53: 2023 թվականի սեպտեմբերի 19-ից հետո Լեռնային Ղարաբաղից բռնի տեղահանված և ՀՀ-ում բարձրագույն մասնագիտական կրթություն ստացող ուսանողներին ուսման վարձի լրիվ կամ մասնակի փոխհատուցման նպատակով կրթաթոշակի տրամադրում
C54: Միջոցառման նկարագրությունը`
C55: 2023 թվականի սեպտեմբերի 19-ից հետո Լեռնային Ղարաբաղից բռնի տեղահանված և ՀՀ-ում բարձրագույն մասնագիտական կրթություն ստացող ուսանողներին կրթաթոշակի տրամադրում
C56: Միջոցառման տեսակը
C57: Տրանսֆերտների տրամադրում
A58: ՀՀ կառավարություն | D58: =+D60 -> 0 | E58: =+E60 -> 0
A59: 1139 | C59: Ծրագրի անվանումը`
C60: ՀՀ կառավարության պահուստային ֆոնդ | D60: =D66+D72 -> 0 | E60: =E66+E72 -> 0
C61: Ծրագրի նպատակը`
C62: Պետական բյուջեում չկանխատեսված, ինչպես նաև բյուջետային երաշխիքների ապահովման ծախսերի ֆինանսավորման ապահովում
C63: Վերջնական արդյունքի նկարագրությունը`
C64: Պահուստային ֆոնդի կառավարման արդյունավետության և թափանցիկության ապահովում
A65: Ծրագրի միջոցառումներ
B66: 11001 | C66: Միջոցառման անվանումը` | D66: 289631.4 | E66: 289631.4
C67: ՀՀ կառավարության պահուստային ֆոնդ
C68: Միջոցառման նկարագրությունը`
C69: ՀՀ պետական բյուջեում նախատեսված ելքերի լրացուցիչ ֆինանսավորման՝ պետական բյուջեում չկանխատեսված ելքերի, ինչպես նաև բյուջետային երաշխիքների ապահովման ելքերի ֆինանսավորման ապահովում
C70: Միջոցառման տեսակը`
C71: Ծառայությունների մատուցում
B72: 11001 | C72: Միջոցառման անվանումը` | D72: =-289631.4 -> -289631.4 | E72: =-289631.4 -> -289631.4
C73: ՀՀ կառավարության պահուստային ֆոնդ
C74: Միջոցառման նկարագրությունը`
C75: ՀՀ պետական բյուջեում նախատեսված ելքերի լրացուցիչ ֆինանսավորման՝ պետական բյուջեում չկանխատեսված ելքերի, ինչպես նաև բյուջետային երաշխիքների ապահովման ելքերի ֆինանսավորման ապահովում
C76: Միջոցառման տեսակը
C77: Ծառայությունների մատուցում

Sheet havelvac 2
F1: Հավելված N 2
F2: ՀՀ կառավարության 2023 թվականի
F3: ______________ ի ___Ն որոշման
A4: ՀԱՅԱՍՏԱՆԻ ՀԱՆՐԱՊԵՏՈՒԹՅԱՆ ԿԱՌԱՎԱՐՈՒԹՅԱՆ 2023 ԹՎԱԿԱՆԻ ԴԵԿՏԵՄԲԵՐԻ 28-Ի N 2323-Ն ՈՐՈՇՄԱՆ N 3 ԵՎ N 4 ՀԱՎԵԼՎԱԾՆԵՐՈՒՄ ԿԱՏԱՐՎՈՂ ՓՈՓՈԽՈՒԹՅՈՒՆՆԵՐԸ ԵՎ ԼՐԱՑՈՒՄՆԵՐ
H5: հազար դրամ
A6: Գործառական դասիչը | D6: Ծրագրային դասիչը | F6: Բյուջետային ծախսերի գործառական դասակարգման բաժինների, խմբերի և դասերի, բյուջետային ծրագրերի միջոցառումների, բյուջետային հատկացումների գլխավոր կարգադրիչների անվանումները | G6: Ցուցանիշների փոփոխություն (ավելացումները նշված են դրական նշանով, իսկ նվազեցումները՝ փակագծերում)
A7: Բաժին | B7: Խումբ | C7: Դաս | D7: Ծրագիր | E7: Միջոցառում | G7: Ինն ամիս | H7: Տարի
F8: ԸՆԴԱՄԵՆԸ | G8: =G10+G85 -> 0 | H8: =H10+H85 -> 0
F9: այդ թվում`
F10: ՀՀ Կրթության, գիտության, մշակույթի և սպորտի նախարարություն | G10: =G12 -> 0 | H10: =H12 -> 0
F11: այդ թվում`
A12: 01 | F12: ԸՆԴՀԱՆՈՒՐ ԲՆՈՒՅԹԻ ՀԱՆՐԱՅԻՆ ԾԱՌԱՅՈՒԹՅՈՒՆՆԵՐ | G12: =+G14 -> 0 | H12: =+H14 -> 0
F13: այդ թվում`
B14: 05 | F14: Ընդհանուր բնույթի հանրային ծառայությունների գծով հետազոտական և նախագծային աշխատանքներ | G14: =+G16 -> 0 | H14: =+H16 -> 0
F15: այդ թվում`
C16: 01 | F16: Ընդհանուր բնույթի հանրային ծառայությունների գծով հետազոտական և նախագծային աշխատանքներ | G16: =+G18 -> 0 | H16: =+H18 -> 0
F17: այդ թվում`
D18: 1162 | F18: Գիտական և գիտատեխնիկական հետազոտությունների ծրագիր | G18: =G20+G41+G50+G59+G32 -> 0 | H18: =H20+H41+H50+H59+H32 -> 0
F19: այդ թվում`
E20: 11005 | F20: Գիտական և գիտատեխնիկական պայմանագրային (թեմատիկ) հետազոտություններ | G20: =+G22 -> -1862562.6 | H20: =+H22 -> -1862562.6 | K20: =H20+H32+H41+H50+H59 -> 0
F21: այդ թվում` ըստ կատարողների
F22: ՀՀ կրթության, գիտության, մշակույթի և սպորտի նախարարության բարձրագույն կրթության և գիտության կոմիտե | G22: =+G24 -> -1862562.6 | H22: =+H24 -> -1862562.6
F23: այդ թվում` բյուջետային ծախսերի տնտեսագիտական դասակարգման հոդվածներ
F24: ԸՆԴԱՄԵՆԸ ԾԱԽՍԵՐ | G24: =+G25 -> -1862562.6 | H24: =+H25 -> -1862562.6
F25: ԸՆԹԱՑԻԿ ԾԱԽՍԵՐ | G25: =+G26 -> -1862562.6 | H25: =+H26 -> -1862562.6
F26: ԴՐԱՄԱՇՆՈՐՀՆԵՐ | G26: =G27 -> -1862562.6 | H26: =H27 -> -1862562.6
F27: Ընթացիկ դրամաշնորհներ պետական հատվածի այլ մակարդակներին | G27: =G28 -> -1862562.6 | H27: =H28 -> -1862562.6
F28: - Այլ ընթացիկ դրամաշնորհներ | G28: ='havelvac 1'!D16 -> -1862562.6 | H28: ='havelvac 1'!E16 -> -1862562.6
B29: 04 | F29: Ընդհանուր բնույթի հետազոտական աշխատանք
F30: այդ թվում`
C31: 01 | F31: Ընդհանուր բնույթի հետազոտական աշխատանք
E32: 32003 | F32: Գիտական կենտրոնների վերանորոգում, ''Ակադեմիական քաղաք '' նախագծի իրականացման շրջանակներում առաջացած հրատապ ծախսերի ապահովում | G32: =G34 -> -260550 | H32: =H34 -> -466124.4
F33: այդ թվում` ըստ կատարողների
F34: ՀՀ կրթության, գիտության, մշակույթի և սպորտի նախարարության բարձրագույն կրթության և գիտության կոմիտե | G34: =G36 -> -260550 | H34: =H36 -> -466124.4
F35: այդ թվում` բյուջետային ծախսերի տնտեսագիտական դասակարգման հոդվածներ
F36: ԸՆԴԱՄԵՆԸ ԾԱԽՍԵՐ | G36: =G37 -> -260550 | H36: =H37 -> -466124.4
F37: ՈՉ ՖԻՆԱՆՍԱԿԱՆ ԱԿՏԻՎՆԵՐԻ ԳԾՈՎ ԾԱԽՍԵՐ | G37: =G38 -> -260550 | H37: =H38 -> -466124.4
F38: ՀԻՄՆԱԿԱՆ ՄԻՋՈՑՆԵՐ | G38: =G39 -> -260550 | H38: =H39 -> -466124.4
F39: ԱՅԼ ՀԻՄՆԱԿԱՆ ՄԻՋՈՑՆԵՐ | G39: =G40 -> -260550 | H39: =H40 -> -466124.4
F40: - Նախագծահետազոտական ծախսեր | G40: -260550 | H40: -466124.4
E41: 32004 | F41: Գիտական կենտրոնները ժամանակակից սարքավորումներով վերազինում ու համատեղ օգտագործման գիտական սարքավորումների կենտրոնների ստեղծում | G41: =G43 -> 1318181.1 | H41: =H43 -> 1523755.5
F42: այդ թվում` ըստ կատարողների
F43: ՀՀ կրթության, գիտության, մշակույթի և սպորտի նախարարության բարձրագույն կրթության և գիտության կոմիտե | G43: =G45 -> 1318181.1 | H43: =H45 -> 1523755.5
F44: այդ թվում` բյուջետային ծախսերի տնտեսագիտական դասակարգման հոդվածներ
F45: ԸՆԴԱՄԵՆԸ ԾԱԽՍԵՐ | G45: =G46 -> 1318181.1 | H45: =H46 -> 1523755.5
F46: ՈՉ ՖԻՆԱՆՍԱԿԱՆ ԱԿՏԻՎՆԵՐԻ ԳԾՈՎ ԾԱԽՍԵՐ | G46: =G47 -> 1318181.1 | H46: =H47 -> 1523755.5
F47: ՀԻՄՆԱԿԱՆ ՄԻՋՈՑՆԵՐ | G47: =G48 -> 1318181.1 | H47: =H48 -> 1523755.5
F48: ՄԵՔԵՆԱՆԵՐ ԵՎ ՍԱՐՔԱՎՈՐՈՒՄՆԵՐ | G48: =G49 -> 1318181.1 | H48: =H49 -> 1523755.5
F49: - Այլ մեքենաներ և սարքավորումներ | G49: ='havelvac 1'!D28 -> 1318181.1 | H49: ='havelvac 1'!E28 -> 1523755.5
E50: 11002 | F50: Գիտական ենթակառուցվածքի արդիականացում | G50: =G52 -> 466124.4 | H50: =H52 -> 466124.4
F51: այդ թվում` ըստ կատարողների
F52: ՀՀ կրթության, գիտության, մշակույթի և սպորտի նախարարության բարձրագույն կրթության և գիտության կոմիտե | G52: =G54 -> 466124.4 | H52: =H54 -> 466124.4
F53: այդ թվում` բյուջետային ծախսերի տնտեսագիտական դասակարգման հոդվածներ
F54: ԸՆԴԱՄԵՆԸ ԾԱԽՍԵՐ | G54: =G55 -> 466124.4 | H54: =H55 -> 466124.4
F55: ԸՆԹԱՑԻԿ ԾԱԽՍԵՐ | G55: =G56 -> 466124.4 | H55: =H56 -> 466124.4
F56: ԴՐԱՄԱՇՆՈՐՀՆԵՐ | G56: =G57 -> 466124.4 | H56: =H57 -> 466124.4
F57: Դրամաշնորհներ միջազգային կազմակերպություններին | G57: =G58 -> 466124.4 | H57: =H58 -> 466124.4
F58: - Ընթացիկ դրամաշնորհներ միջազգային կազմակերպություններին | G58: 466124.4 | H58: 466124.4
A59: 09 | F59: ԿՐԹՈՒԹՅՈՒՆ | G59: =G61 -> 338807.1 | H59: =H61 -> 338807.1
F60: այդ թվում`
B61: 04 | F61: Բարձրագույն կրթություն | G61: =G63 -> 338807.1 | H61: =H63 -> 338807.1
F62: այդ թվում`
C63: 01 | F63: Բարձրագույն մասնագիտական կրթություն | G63: =G65+G76 -> 338807.1 | H63: =H65+H76 -> 338807.1
F64: այդ թվում`
D65: 1111 | F65: Բարձրագույն և հետբուհական մասնագիտական կրթության ծրագիր | G65: =G67 -> 289631.4 | H65: =H67 -> 289631.4
F66: այդ թվում`
E67: 12012 | F67: Լեռնային Ղարաբաղից բռնի տեղահանված ընտանիքների Հայաստանի Հանրապետության բարձրագույն և հետբուհական մասնագիտական կրթական ծրագրեր իրականացնող ուսումնական հաստատություններում սովորող ուսանողների ուսման վարձի փոխհատուցում | G67: =G69 -> 289631.4 | H67: =H69 -> 289631.4
F68: այդ թվում` ըստ կատարողների
F69: ՀՀ կրթության, գիտության, մշակույթի և սպորտի նախարարության բարձրագույն կրթության և գիտության կոմիտե | G69: =G71 -> 289631.4 | H69: =H71 -> 289631.4
F70: այդ թվում` բյուջետային ծախսերի տնտեսագիտական դասակարգման հոդվածներ
F71: ԸՆԴԱՄԵՆԸ ԾԱԽՍԵՐ | G71: =G72 -> 289631.4 | H71: =H72 -> 289631.4
F72: ԸՆԹԱՑԻԿ ԾԱԽՍԵՐ | G72: =G73 -> 289631.4 | H72: =H73 -> 289631.4
F73: ՍՈՑԻԱԼԱԿԱՆ ՆՊԱՍՏՆԵՐ ԵՎ ԿԵՆՍԱԹՈՇԱԿՆԵՐ | G73: =G74 -> 289631.4 | H73: =H74 -> 289631.4
F74: Սոցիալական օգնության դրամական արտահայտությամբ նպաստներ (բյուջեից) | G74: =G75 -> 289631.4 | H74: =H75 -> 289631.4
F75: - Այլ նպաստներ բյուջեից | G75: ='havelvac 1'!D46 -> 289631.4 | H75: ='havelvac 1'!E46 -> 289631.4
E76: 12011 | F76: 2023 թվականի սեպտեմբերի 19-ից հետո Լեռնային Ղարաբաղից բռնի տեղահանված և ՀՀ-ում բարձրագույն մասնագիտական կրթություն ստացող ուսանողներին ուսման վարձի լրիվ կամ մասնակի փոխհատուցման նպատակով կրթաթոշակի տրամադրում | G76: =+G78 -> 49175.7 | H76: =+H78 -> 49175.7
F77: այդ թվում` ըստ կատարողների
F78: ՀՀ կրթության, գիտության, մշակույթի և սպորտի նախարարության բարձրագույն կրթության և գիտության կոմիտե | G78: =G80 -> 49175.7 | H78: =H80 -> 49175.7
F79: այդ թվում` բյուջետային ծախսերի տնտեսագիտական դասակարգման հոդվածներ
F80: ԸՆԴԱՄԵՆԸ ԾԱԽՍԵՐ | G80: =G81 -> 49175.7 | H80: =H81 -> 49175.7
F81: ԸՆԹԱՑԻԿ ԾԱԽՍԵՐ | G81: =+G82 -> 49175.7 | H81: =+H82 -> 49175.7
F82: ՍՈՑԻԱԼԱԿԱՆ ՆՊԱՍՏՆԵՐ ԵՎ ԿԵՆՍԱԹՈՇԱԿՆԵՐ | G82: =+G83 -> 49175.7 | H82: =+H83 -> 49175.7
F83: Սոցիալական օգնության դրամական արտահայտությամբ նպաստներ (բյուջեից) | G83: =+G84 -> 49175.7 | H83: =+H84 -> 49175.7
F84: - Այլ նպաստներ բյուջեից | G84: ='havelvac 1'!D52 -> 49175.7 | H84: ='havelvac 1'!E52 -> 49175.7
F85: ՀՀ կառավարություն | G85: =G87 -> 0 | H85: =H87 -> 0
F86: այդ թվում`
A87: 11 | F87: ՀԻՄՆԱԿԱՆ ԲԱԺԻՆՆԵՐԻՆ ՉԴԱՍՎՈՂ ՊԱՀՈՒՍՏԱՅԻՆ ՖՈՆԴԵՐ | G87: =G89 -> 0 | H87: =H89 -> 0
F88: այդ թվում`
B89: 01 | F89: ՀՀ կառավարության և համայնքների պահուստային ֆոնդ | G89: =G91 -> 0 | H89: =H91 -> 0
F90: այդ թվում`
C91: 01 | F91: ՀՀ կառավարության պահուստային ֆոնդ | G91: =G93 -> 0 | H91: =H93 -> 0
F92: այդ թվում`
D93: 1139 | E93: ՀՀ կառավարության պահուստային ֆոնդ | G93: =G95+G103 -> 0 | H93: =H95+H103 -> 0
F94: այդ թվում`
E95: 11001 | F95: ՀՀ կառավարության պահուստային ֆոնդ | G95: =G97 -> 289631.4 | H95: =H97 -> 289631.4
F96: այդ թվում` ըստ կատարողների
F97: ՀՀ կառավարություն | G97: =G99 -> 289631.4 | H97: =H99 -> 289631.4
F98: այդ թվում՝ բյուջետային ծախսերի տնտեսագիտական դասակարգման հոդվածներ
F99: ԸՆԴԱՄԵՆԸ ԾԱԽՍԵՐ | G99: =G100 -> 289631.4 | H99: =H100 -> 289631.4
F100: ԸՆԹԱՑԻԿ ԾԱԽՍԵՐ | G100: =G101 -> 289631.4 | H100: =H101 -> 289631.4
...

Sheet havelvac 3
I1: Հավելված N 3
I2: ՀՀ կառավարության 2023 թվականի
I3: ______________ ի ___Ն որոշման
B5: ՀԱՅԱՍՏԱՆԻ ՀԱՆՐԱՊԵՏՈՒԹՅԱՆ ԿԱՌԱՎԱՐՈՒԹՅԱՆ 2023 ԹՎԱԿԱՆԻ ԴԵԿՏԵՄԲԵՐԻ 28-Ի N 2323-Ն ՈՐՈՇՄԱՆ N 5 ՀԱՎԵԼՎԱԾԻ N 7.1 ԱՂՅՈՒՍԱԿՈՒՄ ԿԱՏԱՐՎՈՂ ՓՈՓՈԽՈՒԹՅՈՒՆԸ
I6: հազար դրամներով
B7: Ծրագրային դասիչը | D7: Բյուջետային հատկացումների գլխավոր կարգադրիչների, ծրագրերի, միջոցառումների, ծախսային ուղղությունների անվանումները | G7: Միջոցառումները կատարող պետական մարմինների և դրամաշնորհ ստացող տնտեսվարող սուբյեկտների անվանումները | H7: Գերատեսչական պատկանելություն | I7: Ցուցանիշների փոփոխությունը (նվազեցումները նշված են փակագծերում)
B8: Ծրագիր | C8: Միջոցառում | I8: Տարի
B9: ԸՆԴԱՄԵՆԸ | I9: =I10 -> -1396438.2
B10: ՀՀ կրթության, գիտության, մշակույթի և սպորտի նախարարություն | I10: =I11 -> -1396438.2
B11: 1162 | C11: Գիտական և գիտատեխնիկական հետազոտությունների ծրագիր | I11: =I13+I15 -> -1396438.2
C12: այդ թվում՝ ըստ ուղղությունների
C13: 11005 | D13: Գիտական և գիտատեխնիկական գործունեության պայմանագրային (թեմատիկ) հետազոտություններ | G13: ՀՀ կրթության, գիտության, մշակույթի և սպորտի նախարարության բարձրագույն կրթության և գիտության կոմիտե | I13: =I14 -> -1862562.6
G14: Պայմանագրային (թեմատիկ) հետազոտությունների գիտական թեմաների ֆինանսավորում | H14: մրցույթով ընտրված գիտահետազոտական խմբեր | I14: ='havelvac 1'!E16 -> -1862562.6
C15: 11002 | D15: Գիտական ենթակառուցվածքի արդիականացում | G15: ՀՀ կրթության, գիտության, մշակույթի և սպորտի նախարարության բարձրագույն կրթության և գիտության կոմիտե | I15: =I16 -> 466124.4
G16: Ակադեմիական քաղաք» ծրագրի իրականացման շրջանակներում քաղաքաշինական զարգացման ռազմավարական շրջանակի մշակման, ինչպես նաև կայուն զարգացման համար միջազգային կազմակերպությունների կողմից խորհրդատվական ծառայությունների ձեռք բերումը | H16: սահմանված կարգով ընտրված կազմակերպություններ | I16: ='havelvac 2'!H54 -> 466124.4

Sheet havelvac 4
G1: Հավելված N 4
F2: ՀՀ կառավարության 2023 թվականի
F3: ______________ ի ___Ն որոշման
B5: ՀԱՅԱՍՏԱՆԻ ՀԱՆՐԱՊԵՏՈՒԹՅԱՆ ԿԱՌԱՎԱՐՈՒԹՅԱՆ 2023 ԹՎԱԿԱՆԻ ԴԵԿՏԵՄԲԵՐԻ 28-Ի N 2323-Ն ՈՐՈՇՄԱՆ N 5 ՀԱՎԵԼՎԱԾԻ N 7.2 ԱՂՅՈՒՍԱԿՈՒՄ ԿԱՏԱՐՎՈՂ ՓՈՓՈԽՈՒԹՅՈՒՆԸ
G6: հազար դրամներով
B7: Ծրագրային դասիչը | D7: Բյուջետային հատկացումների գլխավոր կարգադրիչների, ծրագրերի, միջոցառումների անվանումները | F7: Միջոցառումները կատարող պետական մարմինների անվանումները | G7: Ցուցանիշների փոփոխությունը (նվազեցումները նշված են փակագծերում)
B8: Ծրագիր | C8: Միջոցառում | G8: Տարի
D9: ԸՆԴԱՄԵՆԸ | G9: =G10 -> -338807.1
C10: ՀՀ կրթության, գիտության, մշակույթի և սպորտի նախարարություն | G10: =G11 -> -338807.1
B11: 1162 | C11: Գիտական և գիտատեխնիկական հետազոտությունների ծրագիր | G11: =G12+G13+G14+G15 -> -338807.1
C12: 11005 | D12: Գիտական և գիտատեխնիկական գործունեության պայմանագրային (թեմատիկ) հետազոտություններ | F12: ՀՀ կրթության, գիտության, մշակույթի և սպորտի նախարարության բարձրագույն կրթության և գիտության կոմիտե | G12: ='havelvac 3'!I14 -> -1862562.6
C13: 32003 | D13: Գիտական կենտրոնների վերանորոգում, «Ակադեմիական քաղաք» նախագծի իրականացման շրջանակներում առաջացած հրատապ ծախսերի ապահովում | G13: ='havelvac 2'!H32 -> -466124.4
C14: 11002 | D14: Գիտական ենթակառուցվածքի արդիականացում | G14: ='havelvac 2'!H50 -> 466124.4
C15: 32004 | D15: Գիտական կենտրոնները ժամանակակից սարքավորումներով վերազինում ու համատեղ օգտագործման գիտական սարքավորումների կենտրոնների ստեղծում | G15: ='havelvac 2'!H43 -> 1523755.5

Sheet havelvac 5
C1: Հավելված N 5
C2: ՀՀ կառավարության 2023 թվականի
C3: ______________ ի ___Ն որոշման
B5: ՀԱՅԱՍՏԱՆԻ ՀԱՆՐԱՊԵՏՈՒԹՅԱՆ ԿԱՌԱՎԱՐՈՒԹՅԱՆ 2023 ԹՎԱԿԱՆԻ ԴԵԿՏԵՄԲԵՐԻ 28-Ի N 2323-Ն ՈՐՈՇՄԱՆ N 9 ՀԱՎԵԼՎԱԾԻ NN 9.13 և 9․48 ԱՂՅՈՒՍԱԿՈՒՄ ԿԱՏԱՐՎՈՂ ՓՈՓՈԽՈՒԹՅՈՒՆՆԵՐԸ ԵՎ ԼՐԱՑՈՒՄՆԵՐԸ
B6: Աղյուսակ 9․13
B7: ՀՀ կրթության, գիտության, մշակույթի և սպորտի նախարարություն
B8: ՄԱՍ 2. ՊԵՏԱԿԱՆ ՄԱՐՄՆԻ ԳԾՈՎ ԱՐԴՅՈՒՆՔԱՅԻՆ (ԿԱՏԱՐՈՂԱԿԱՆ) ՑՈՒՑԱՆԻՇՆԵՐԸ
B10: Ծրագրի դասիչը | C10: Ծրագրի անվանումը
B11: 1162 | C11: Գիտական և գիտատեխնիկական հետազոտությունների ծրագիր
B13: Ծրագրի միջոցառումները
B14: Ծրագրի դասիչը՝ | C14: 1162 | D14: Ցուցանիշների փոփոխություն (ավելացումները նշված են դրական նշանով )
B15: Միջոցառման դասիչը` | C15: 11002 | D15: Ինն ամիս | E15: Տարի
B16: Միջոցառման անվանումը` | C16: Գիտական ենթակառուցվածքի արդիականացում
B17: Նկարագրությունը` | C17: Գիտական կազմակերպությունների և բուհերի գիտական ստորաբաժանումների զարգացում, ծրագրերի իրականացում, գիտական սարքավորումների արդիականացում, միջազգային համագործակցության աջակցություն
B18: Միջոցառման տեսակը` | C18: Ծառայությունների մատուցում
B19: Միջոցառումն իրականացնողի անվանումը՛ | C19: Գնումների մասին ՀՀ օրենքի համաձայն ընտրված կազմակերպություններ, մրցույթով ընտրված կազմակերպություններ, մասնագիտացված կազմակերպություններ
B20: Արդյունքի չափորոշիչներ
B21: Գիտական հայտերի փորձաքննությունների քանակ` ըստ հայտերի, հատ | D21: 610 | E21: 610
B22: Անկախ փորձագետների /այդ թվում արտասահմանյան/ թվաքանակ, մարդ | D22: 1365 | E22: 1365
B23: Միջոցառման վրա կատարվող ծախսը (հազար դրամ) | D23: ='havelvac 2'!G50 -> 466124.4 | E23: ='havelvac 2'!H50 -> 466124.4
B25: Ծրագրի դասիչը՝ | C25: 1162 | D25: Ցուցանիշների փոփոխություն (նվազեցումները նշված են փակագծերում )
B26: Միջոցառման դասիչը` | C26: 11005 | D26: Ինն ամիս | E26: Տարի
B27: Միջոցառման անվանումը` | C27: Գիտական և գիտատեխնիկական պայմանագրային (թեմատիկ) հետազոտություններ
B28: Նկարագրությունը` | C28: Գիտական և գիտատեխնիկական գործունեության պայմանագրային (թեմատիկ) հետազոտություններ
B29: Միջոցառման տեսակը` | C29: Ծառայությունների մատուցում
B30: Միջոցառումն իրականացնողի անվանումը՛ | C30: ՀՀ կառավարության 2001 թ. նոյեմբերի 17-ի "Գիտական և գիտատեխնիկական գործունեության պայմանագրային (թեմատիկ) ֆինանսավորման կարգը հաստատելու մասին" N 1122 որոշման համաձայն ընտրված կազմակերպություններ
B31: Արդյունքի չափորոշիչներ
B32: Թեմաների թիվ, հատ, այդ թվում՝ | D32: 712 | E32: 712
B33: Թեմաներում ներգրավված կանանց թվաքանակ, մարդ | D33: 1208 | E33: 1208
B34: Միջազգային գիտական ծրագրերի թիվ, հատ, այդ թվում՝ | D34: 20 | E34: 20
B35: Միջազգային գիտական ծրագրերում կանանց, թվաքանակ, մարդ | D35: 13 | E35: 13
B36: Միջոցառման վրա կատարվող ծախսը (հազար դրամ) | D36: ='havelvac 2'!G20 -> -1862562.6 | E36: ='havelvac 2'!H20 -> -1862562.6
B38: Ծրագրի դասիչը՝ | C38: 1162 | D38: Ցուցանիշների փոփոխություն (նվազեցումները նշված են փակագծերում )
B39: Միջոցառման դասիչը` | C39: 32003 | D39: Ինն ամիս | E39: Տարի
B40: Միջոցառման անվանումը` | C40: Գիտական կենտրոնների վերանորոգում, ''Ակադեմիական քաղաք '' նախագծի իրականացման շրջանակներում առաջացած հրատապ ծախսերի ապահովում
B41: Նկարագրությունը` | C41: Գիտական կենտրոնների վերանորոգում, «Ակադեմիական քաղաք» նախագծի իրականացում
B42: Միջոցառման տեսակը` | C42: Այլ պետական կազմակերպությունների կողմից օգտագործվող ոչ ֆինանսական ակտիվների հետ գործառնություններ
B43: Միջոցառումն իրականացնողի անվանումը՛ | C43: "Գնումների մասին" ՀՀ օրենքի համաձայն ընտրված կազմակերպություններ, մրցույթով ընտրված կազմակերպություններ, մասնագիտացված կազմակերպություններ
B44: Արդյունքի չափորոշիչներ
B45: Ակադեմիական քաղաքի նախագծահետազոտական աշխատանքներ
B46: Վերոնորոգված գիտական կենտրոնների թիվ, հատ
B47: Միջոցառման վրա կատարվող ծախսը (հազար դրամ) | D47: ='havelvac 2'!G32 -> -260550 | E47: ='havelvac 2'!H32 -> -466124.4
B49: Ծրագրի դասիչը՝ | C49: 1162 | D49: Ցուցանիշների փոփոխություն (ավելացումները նշված են դրական նշանով )
B50: Միջոցառման դասիչը` | C50: 32004 | D50: Ինն ամիս | E50: Տարի
B51: Միջոցառման անվանումը` | C51: Գիտական կենտրոնները ժամանակակից սարքավորումներով վերազինում ու համատեղ օգտագործման գիտական սարքավորումների կենտրոնների ստեղծում
B52: Նկարագրությունը` | C52: Գիտական կենտրոնները վերազինված են ոլորտային համալիր հետազոտությունների համար անհարժեշտ սարքավորումներով
B53: Միջոցառման տեսակը` | C53: Այլ պետական կազմակերպությունների կողմից օգտագործվող ոչ ֆինանսական ակտիվների հետ գործառնություններ
B54: Միջոցառումն իրականացնողի անվանումը՛ | C54: Գնումների մասին" ՀՀ օրենքի համաձայն ընտրված կազմակերպություններ, մրցույթով ընտրված կազմակերպություններ, մասնագիտացված կազմակերպություններ
B55: Արդյունքի չափորոշիչներ
B56: Վերազինված գիտական կենտրոններ թիվ, հատ
B57: Վերազինված գիտական կենտրոններում սարքավորումների թիվ, հատ
B58: Միջոցառման վրա կատարվող ծախսը (հազար դրամ) | D58: ='havelvac 2'!G41 -> 1318181.1 | E58: ='havelvac 2'!H41 -> 1523755.5
B60: Ծրագրի դասիչը | C60: Ծրագրի անվանումը
B61: 1111 | C61: Բարձրագույն և հետբուհական մասնագիտական կրթության ծրագիր
B63: Ծրագրի միջոցառումները
B65: Ծրագրի դասիչը` | C65: 1111 | D65: Ցուցանիշների փոփոխություն (ավելացումները նշված են դրական նշանով )
B66: Միջոցառման դասիչը` | C66: 12012 | D66: Ինն ամիս | E66: Տարի
B67: Միջոցառման անվանումը` | C67: Լեռնային Ղարաբաղից բռնի տեղահանված ընտանիքների Հայաստանի Հանրապետության բարձրագույն և հետբուհական մասնագիտական կրթական ծրագրեր իրականացնող ուսումնական հաստատություններում սովորող ուսանողների ուսման վարձի փոխհատուցում
B68: Նկարագրությունը` | C68: Մինչև 2023 թվականի սեպտեմբերի 19-ն Հայաստանի Հանրապետության բարձրագույն և հետբուհական մասնագիտական կրթական ծրագրեր իրականացնող ուսումնական հաստատությունների վճարովի ուսուցման համակարգում ընդգրկված Լեռնային Ղարաբաղից բռնի տեղահանված ընտանիքների ուսանողներին ուսման վարձի փոխհատուցման նպատակով ուսանողական նպաստի տրամադրում
B69: Միջոցառման տեսակը` | C69: Տրանսֆերտների տրամադրում
B70: Շահառուների ընտրության չափորոշիչը | C70: Բարձրագույն մասնագիտական կրթություն ստացող ուսանողներ
B71: Արդյունքի չափորոշիչներ
B72: Ուսման վարձի փոխհատուցում ստացող ուսանողների թիվ, մարդ | D72: 713 | E72: 713
B73: Միջոցառման վրա կատարվող ծախսը (հազար դրամ) | D73: ='havelvac 2'!G67 -> 289631.4 | E73: ='havelvac 2'!H67 -> 289631.4
B75: Ծրագրի դասիչը` | C75: 1111 | D75: Ցուցանիշների փոփոխություն (ավելացումները նշված են դրական նշանով )
B76: Միջոցառման դասիչը` | C76: 12011 | D76: Ինն ամիս | E76: Տարի
B77: Միջոցառման անվանումը` | C77: 2023 թվականի սեպտեմբերի 19-ից հետո Լեռնային Ղարաբաղից բռնի տեղահանված և ՀՀ-ում բարձրագույն մասնագիտական կրթություն ստացող ուսանողներին ուսման վարձի լրիվ կամ մասնակի փոխհատուցման նպատակով կրթաթոշակի տրամադրում
B78: Նկարագրությունը` | C78: 2023 թվականի սեպտեմբերի 19-ից հետո Լեռնային Ղարաբաղից բռնի տեղահանված և ՀՀ-ում բարձրագույն մասնագիտական կրթություն ստացող ուսանողներին կրթաթոշակի տրամադրում
B79: Միջոցառման տեսակը` | C79: Տրանսֆերտների տրամադրում
B80: Շահառուների ընտրության չափորոշիչը | C80: Բարձրագույն մասնագիտական կրթություն ստացող ուսանողներ
B81: Արդյունքի չափորոշիչներ
B82: Ուսման վարձի փոխհատուցում ստացող ուսանողների թիվ, մարդ | D82: 300 | E82: 300
B83: Միջոցառման վրա կատարվող ծախսը (հազար դրամ) | D83: ='havelvac 2'!G76 -> 49175.7 | E83: ='havelvac 2'!H76 -> 49175.7
B84: Աղյուսակ 9․48
B85: ՀՀ կառավարություն
B86: ՄԱՍ 2. ՊԵՏԱԿԱՆ ՄԱՐՄՆԻ ԳԾՈՎ ԱՐԴՅՈՒՆՔԱՅԻՆ (ԿԱՏԱՐՈՂԱԿԱՆ) ՑՈՒՑԱՆԻՇՆԵՐԸ
B88: Ծրագրի դասիչը | C88: Ծրագրի անվանումը
B89: 1139 | C89: ՀՀ կառավարության պահուստային ֆոնդ
B91: Ծրագրի միջոցառումները
B93: Ծրագրի դասիչը՝ | C93: 1139 | D93: Ցուցանիշների փոփոխություն (ավելացումները նշված են դրական նշանով)
B94: Միջոցառման դասիչը՝ | C94: 11001 | D94: Ինն ամիս | E94: Տարի
B95: Միջոցառման անվանումը՝ | C95: ՀՀ կառավարության պահուստային ֆոնդ
B96: Նկարագրությունը՝ | C96: ՀՀ պետական բյուջեում նախատեսված ելքերի լրացուցիչ ֆինանսավորման՝ պետական բյուջեում չկանխատեսված ելքերի, ինչպես նաև բյուջետային երաշխիքների ապահովման ելքերի ֆինանսավորման ապահովում
B97: Միջոցառման տեսակը՝ | C97: Ծառայությունների մատուցում
B98: Միջոցառումն իրականացնողի անվանումը | C98: ՀՀ կառավարություն
B99: Արդյունքի չափորոշիչներ
B100: Միջոցառման վրա կատարվող ծախսը (հազար դրամ) | D100: ='havelvac 2'!G95 -> 289631.4 | E100: ='havelvac 2'!H95 -> 289631.4
B102: Ծրագրի դասիչը՝ | C102: 1139 | D102: Ցուցանիշների փոփոխություն (նվազեցումները նշված են փակագծերում )
B103: Միջոցառման դասիչը՝ | C103: 11001 | D103: Ինն ամիս | E103: Տարի
B104: Միջոցառման անվանումը՝ | C104: ՀՀ կառավարության պահուստային ֆոնդ
B105: Նկարագրությունը՝ | C105: ՀՀ պետական բյուջեում նախատեսված ելքերի լրացուցիչ ֆինանսավորման՝ պետական բյուջեում չկանխատեսված ելքերի, ինչպես նաև բյուջետային երաշխիքների ապահովման ելքերի ֆինանսավորման ապահովում
B106: Միջոցառման տեսակը՝ | C106: Ծառայությունների մատուցում
B107: Միջոցառումն իրականացնողի անվանումը | C107: ՀՀ կառավարություն
B108: Արդյունքի չափորոշիչներ
B109: Միջոցառման վրա կատարվող ծախսը (հազար դրամ) | D109: ='havelvac 2'!G103 -> -289631.4 | E109: ='havelvac 2'!H103 -> -289631.4

Sheet havelvac 6
B1: Հավելված N 6
B2: ՀՀ կառավարության 2023 թվականի
B3: ______________ ի ___Ն որոշման
A5: ՀԱՅԱՍՏԱՆԻ ՀԱՆՐԱՊԵՏՈՒԹՅԱՆ ԿԱՌԱՎԱՐՈՒԹՅԱՆ 2023 ԹՎԱԿԱՆԻ ԴԵԿՏԵՄԲԵՐԻ 28-Ի N 2323-Ն ՈՐՈՇՄԱՆ N 9.1 ՀԱՎԵԼՎԱԾԻ NN 9.1.28 և 9.1.58 ԱՂՅՈՒՍԱԿՆԵՐՈՒՄ ԿԱՏԱՐՎՈՂ ՓՈՓՈԽՈՒԹՅՈՒՆՆԵՐԸ ԵՎ ԼՐԱՑՈՒՄՆԵՐԸ
A6: Աղյուսակ 9․1.28
A7: ՀՀ կրթության, գիտության, մշակույթի և սպորտի նախարարության բարձրագույն կրթության և գիտության կոմիտե
A8: ՄԱՍ 1. ՊԵՏԱԿԱՆ ՄԱՐՄՆԻ ԳԾՈՎ ԱՐԴՅՈՒՆՔԱՅԻՆ (ԿԱՏԱՐՈՂԱԿԱՆ) ՑՈՒՑԱՆԻՇՆԵՐԸ
A10: Ծրագրի դասիչը | B10: Ծրագրի անվանումը
A11: 1162 | B11: Գիտական և գիտատեխնիկական հետազոտությունների ծրագիր
A13: Ծրագրի միջոցառումները
A15: Ծրագրի դասիչը՝ | B15: 1162 | C15: Ցուցանիշների փոփոխությունը (նվազեցումները նշված են փակագծերում)
A16: Միջոցառման դասիչը` | B16: 11005 | C16: Ինն ամիս | D16: Տարի
A17: Միջոցառման անվանումը` | B17: Գիտական և գիտատեխնիկական պայմանագրային (թեմատիկ) հետազոտություններ
A18: Նկարագրությունը` | B18: Գիտական և գիտատեխնիկական գործունեության պայմանագրային (թեմատիկ) հետազոտություններ
A19: Միջոցառման տեսակը` | B19: Ծառայությունների մատուցում
A20: Միջոցառումն իրականացնողի անվանումը՛ | B20: ՀՀ կառավարության 2001 թ. նոյեմբերի 17-ի "Գիտական և գիտատեխնիկական գործունեության պայմանագրային (թեմատիկ) ֆինանսավորման կարգը հաստատելու մասին" N 1122 որոշման համաձայն ընտրված կազմակերպություններ
A21: Արդյունքի չափորոշիչներ
A22: Թեմաների թիվ, հատ, այդ թվում՝ | C22: 712 | D22: 712
A23: Թեմաներում ներգրավված կանանց թվաքանակ, մարդ | C23: 1208 | D23: 1208
A24: Միջազգային գիտական ծրագրերի թիվ, հատ, այդ թվում՝ | C24: 20 | D24: 20
A25: Միջազգային գիտական ծրագրերում կանանց, թվաքանակ, մարդ | C25: 13 | D25: 13
A26: Միջոցառման վրա կատարվող ծախսը (հազար դրամ) | C26: ='havelvac 5'!D36 -> -1862562.6 | D26: ='havelvac 5'!E36 -> -1862562.6
A28: Ծրագրի դասիչը՝ | B28: 1162 | C28: Ցուցանիշների փոփոխությունը (նվազեցումները նշված են փակագծերում)
A29: Միջոցառման դասիչը` | B29: 32003 | C29: Ինն ամիս | D29: Տարի
A30: Միջոցառման անվանումը` | B30: Գիտական կենտրոնների վերանորոգում, ''Ակադեմիական քաղաք '' նախագծի իրականացման շրջանակներում առաջացած հրատապ ծախսերի ապահովում
A31: Նկարագրությունը` | B31: Գիտական կենտրոնների վերանորոգում, «Ակադեմիական քաղաք» նախագծի իրականացում
A32: Միջոցառման տեսակը` | B32: Այլ պետական կազմակերպությունների կողմից օգտագործվող ոչ ֆինանսական ակտիվների հետ գործառնություններ
A33: Միջոցառումն իրականացնողի անվանումը՛ | B33: "Գնումների մասին" ՀՀ օրենքի համաձայն ընտրված կազմակերպություններ, մրցույթով ընտրված կազմակերպություններ, մասնագիտացված կազմակերպություններ
A34: Արդյունքի չափորոշիչներ
A35: Ակադեմիական քաղաքի նախագծահետազոտական աշխատանքներ
A36: Վերոնորոգված գիտական կենտրոնների թիվ, հատ
A37: Միջոցառման վրա կատարվող ծախսը (հազար դրամ) | C37: ='havelvac 5'!D47 -> -260550 | D37: ='havelvac 5'!E47 -> -466124.4
A39: Ծրագրի դասիչը՝ | B39: 1162 | C39: Ցուցանիշների փոփոխություն (ավելացումները նշված են դրական նշանով )
A40: Միջոցառման դասիչը` | B40: 32004 | C40: Ինն ամիս | D40: Տարի
A41: Միջոցառման անվանումը` | B41: Գիտական կենտրոնները ժամանակակից սարքավորումներով վերազինում ու համատեղ օգտագործման գիտական սարքավորումների կենտրոնների ստեղծում
A42: Նկարագրությունը` | B42: Գիտական կենտրոնները վերազինված են ոլորտային համալիր հետազոտությունների համար անհարժեշտ սարքավորումներով
A43: Միջոցառման տեսակը` | B43: Այլ պետական կազմակերպությունների կողմից օգտագործվող ոչ ֆինանսական ակտիվների հետ գործառնություններ
A44: Միջոցառումն իրականացնողի անվանումը՛ | B44: Գնումների մասին" ՀՀ օրենքի համաձայն ընտրված կազմակերպություններ, մրցույթով ընտրված կազմակերպություններ, մասնագիտացված կազմակերպություններ
A45: Արդյունքի չափորոշիչներ
A46: Վերազինված գիտական կենտրոններ թիվ, հատ
A47: Վերազինված գիտական կենտրոններում սարքավորումների թիվ, հատ
A48: Միջոցառման վրա կատարվող ծախսը (հազար դրամ) | C48: ='havelvac 5'!D58 -> 1318181.1 | D48: ='havelvac 5'!E58 -> 1523755.5
A50: Ծրագրի դասիչը՝ | B50: 1162 | C50: Ցուցանիշների փոփոխություն (ավելացումները նշված են դրական նշանով )
A51: Միջոցառման դասիչը` | B51: 11002 | C51: Ինն ամիս | D51: Տարի
A52: Միջոցառման անվանումը` | B52: Գիտական ենթակառուցվածքի արդիականացում
A53: Նկարագրությունը` | B53: Գիտական կազմակերպությունների և բուհերի գիտական ստորաբաժանումների զարգացում, ծրագրերի իրականացում, գիտական սարքավորումների արդիականացում, միջազգային համագործակցության աջակցություն
A54: Միջոցառման տեսակը` | B54: Ծառայությունների մատուցում
A55: Միջոցառումն իրականացնողի անվանումը՛ | B55: Գնումների մասին ՀՀ օրենքի համաձայն ընտրված կազմակերպություններ, մրցույթով ընտրված կազմակերպություններ, մասնագիտացված կազմակերպություններ
A56: Արդյունքի չափորոշիչներ
A57: Գիտական հայտերի փորձաքննությունների քանակ` ըստ հայտերի, հատ | C57: 610 | D57: 610
A58: Անկախ փորձագետների /այդ թվում արտասահմանյան/ թվաքանակ, մարդ | C58: 1365 | D58: 1365
A59: Միջոցառման վրա կատարվող ծախսը (հազար դրամ) | C59: ='havelvac 5'!D23 -> 466124.4 | D59: ='havelvac 5'!E23 -> 466124.4
A61: Աղյուսակ 9․1.13
A64: Ծրագրի դասիչը | B64: Ծրագրի անվանումը
A65: 1111 | B65: Բարձրագույն և հետբուհական մասնագիտական կրթության ծրագիր
A67: Ծրագրի միջոցառումները
A69: Ծրագրի դասիչը` | B69: 1111 | C69: Ցուցանիշների փոփոխություն (ավելացումները նշված են դրական նշանով )
A70: Միջոցառման դասիչը` | B70: 12012 | C70: Ինն ամիս | D70: Տարի
A71: Միջոցառման անվանումը` | B71: Լեռնային Ղարաբաղից բռնի տեղահանված ընտանիքների Հայաստանի Հանրապետության բարձրագույն և հետբուհական մասնագիտական կրթական ծրագրեր իրականացնող ուսումնական հաստատություններում սովորող ուսանողների ուսման վարձի փոխհատուցում
A72: Նկարագրությունը` | B72: Մինչև 2023 թվականի սեպտեմբերի 19-ն Հայաստանի Հանրապետության բարձրագույն և հետբուհական մասնագիտական կրթական ծրագրեր իրականացնող ուսումնական հաստատությունների վճարովի ուսուցման համակարգում ընդգրկված Լեռնային Ղարաբաղից բռնի տեղահանված ընտանիքների ուսանողներին ուսման վարձի փոխհատուցման նպատակով ուսանողական նպաստի տրամադրում
A73: Միջոցառման տեսակը` | B73: Տրանսֆերտների տրամադրում
A74: Շահառուների ընտրության չափորոշիչը | B74: Բարձրագույն մասնագիտական կրթություն ստացող ուսանողներ
A75: Արդյունքի չափորոշիչներ
A76: Ուսման վարձի փոխհատուցում ստացող ուսանողների թիվ, մարդ | C76: ='havelvac 5'!D72 -> 713 | D76: ='havelvac 5'!E72 -> 713
A77: Միջոցառման վրա կատարվող ծախսը (հազար դրամ) | C77: ='havelvac 5'!D73 -> 289631.4 | D77: ='havelvac 5'!E73 -> 289631.4
A79: Ծրագրի դասիչը` | B79: 1111 | C79: Ցուցանիշների փոփոխություն (ավելացումները նշված են դրական նշանով )
A80: Միջոցառման դասիչը` | B80: 12011 | C80: Ինն ամիս | D80: Տարի
A81: Միջոցառման անվանումը` | B81: 2023 թվականի սեպտեմբերի 19-ից հետո Լեռնային Ղարաբաղից բռնի տեղահանված և ՀՀ-ում բարձրագույն մասնագիտական կրթություն ստացող ուսանողներին ուսման վարձի լրիվ կամ մասնակի փոխհատուցման նպատակով կրթաթոշակի տրամադրում
A82: Նկարագրությունը` | B82: 2023 թվականի սեպտեմբերի 19-ից հետո Լեռնային Ղարաբաղից բռնի տեղահանված և ՀՀ-ում բարձրագույն մասնագիտական կրթություն ստացող ուսանողներին կրթաթոշակի տրամադրում
A83: Միջոցառման տեսակը` | B83: Տրանսֆերտների տրամադրում
A84: Շահառուների ընտրության չափորոշիչը | B84: Բարձրագույն մասնագիտական կրթություն ստացող ուսանողներ
A85: Արդյունքի չափորոշիչներ
A86: Ուսման վարձի փոխհատուցում ստացող ուսանողների թիվ, մարդ | C86: ='havelvac 5'!D82 -> 300 | D86: ='havelvac 5'!E82 -> 300
A87: Միջոցառման վրա կատարվող ծախսը (հազար դրամ) | C87: ='havelvac 5'!D83 -> 49175.7 | D87: ='havelvac 5'!E83 -> 49175.7
A88: Աղյուսակ 9․1.58
A89: ՀՀ կառավարություն
A90: ՄԱՍ 1. ՊԵՏԱԿԱՆ ՄԱՐՄՆԻ ԳԾՈՎ ԱՐԴՅՈՒՆՔԱՅԻՆ (ԿԱՏԱՐՈՂԱԿԱՆ) ՑՈՒՑԱՆԻՇՆԵՐԸ
A92: Ծրագրի դասիչը | B92: Ծրագրի անվանումը
A93: 1139 | B93: ՀՀ կառավարության պահուստային ֆոնդ
A95: Ծրագրի միջոցառումները
A97: Ծրագրի դասիչը՝ | B97: 1139 | C97: Ցուցանիշների փոփոխություն (ավելացումները նշված են դրական նշանով)
A98: Միջոցառման դասիչը՝ | B98: 11001 | C98: Ինն ամիս | D98: Տարի
A99: Միջոցառման անվանումը՝ | B99: ՀՀ կառավարության պահուստային ֆոնդ
A100: Նկարագրությունը՝ | B100: ՀՀ պետական բյուջեում նախատեսված ելքերի լրացուցիչ ֆինանսավորման՝ պետական բյուջեում չկանխատեսված ելքերի, ինչպես նաև բյուջետային երաշխիքների ապահովման ելքերի ֆինանսավորման ապահովում
A101: Միջոցառման տեսակը՝ | B101: Ծառայությունների մատուցում
A102: Միջոցառումն իրականացնողի անվանումը | B102: ՀՀ կառավարություն
A103: Արդյունքի չափորոշիչներ
A104: Միջոցառման վրա կատարվող ծախսը (հազար դրամ) | C104: ='havelvac 5'!D100 -> 289631.4 | D104: ='havelvac 5'!E100 -> 289631.4
A106: Ծրագրի դասիչը՝ | B106: 1139 | C106: Ցուցանիշների փոփոխություն (նվազեցումները նշված են փակագծերում)
A107: Միջոցառման դասիչը՝ | B107: 11001 | C107: Ինն ամիս | D107: Տարի
A108: Միջոցառման անվանումը՝ | B108: ՀՀ կառավարության պահուստային ֆոնդ
A109: Նկարագրությունը՝ | B109: ՀՀ պետական բյուջեում նախատեսված ելքերի լրացուցիչ ֆինանսավորման՝ պետական բյուջեում չկանխատեսված ելքերի, ինչպես նաև բյուջետային երաշխիքների ապահովման ելքերի ֆինանսավորման ապահովում
A110: Միջոցառման տեսակը՝ | B110: Ծառայությունների մատուցում
A111: Միջոցառումն իրականացնողի անվանումը | B111: ՀՀ կառավարություն
A112: Արդյունքի չափորոշիչներ
A113: Միջոցառման վրա կատարվող ծախսը (հազար դրամ) | C113: ='havelvac 5'!D109 -> -289631.4 | D113: ='havelvac 5'!E109 -> -289631.4

Sheet havelvac 7
J2: Հավելված N 7
H3: ՀՀ կառավարության 2024 թվականի
I4: ______________ ի ___Ն որոշման
B6: ՀԱՅԱՍՏԱՆԻ ՀԱՆՐԱՊԵՏՈՒԹՅԱՆ ԿԱՌԱՎԱՐՈՒԹՅԱՆ 2023 ԹՎԱԿԱՆԻ ԴԵԿՏԵՄԲԵՐԻ 28-Ի N 2323-Ն ՈՐՈՇՄԱՆ N 10 ՀԱՎԵԼՎԱԾՈՒՄ ԿԱՏԱՐՎՈՂ ՓՈՓՈԽՈՒԹՅՈՒՆՆԵՐԸ
B8: Կոդը | C8: Անվանումը | D8: Գնման ձևը | E8: Չափման միավորը | F8: Միավորի գինը | G8: Քանակը | H8: Գումարը (հազար դրամով)
B9: ՀՀ կրթության, գիտության, մշակույթի և սպորտի նախարարության բարձրագույն կրթության և գիտության կոմիտե
B10: Բաժին N 01 | C10: Խումբ N 04 | D10: Դաս N 01 | E10: Ընդհանուր բնույթի հետազոտական աշխատանք
B11: 1162 32004 Գիտական կենտրոնները ժամանակակից սարքավորումներով վերազինում ու համատեղ օգտագործման գիտական սարքավորումների կենտրոնների ստեղծում | C11: Գիտական կենտրոնները ժամանակակից սարքավորումներով վերազինում ու համատեղ օգտագործման գիտական սարքավորումների կենտրոնների ստեղծում | H11: =H12 -> 1523755.5
C12: ՄԱՍ I. Ա Պ Ր Ա Ն Ք Ն Ե Ր | H12: =H13+H14+H15+H16+H17+H18+H19+H20+H21+H22+H23+H24+H25 -> 1523755.5
B13: 38591200 | C13: քիմիական լաբորատորիայում կիրառվող սարքեր | D13: ԲՄ | E13: հատ | F13: 175290.12 | G13: 1 | H13: =F13*G13 -> 175290.12
B14: 38591200 | C14: քիմիական լաբորատորիայում կիրառվող սարքեր | D14: ԲՄ | E14: հատ | F14: 155985 | G14: 1 | H14: =F14*G14 -> 155985
B15: 38591200 | C15: քիմիական լաբորատորիայում կիրառվող սարքեր | D15: ԲՄ | E15: հատ | F15: 125414 | G15: 1 | H15: =F15*G15 -> 125414
B16: 38591100 | C16: շարժական լաբորատոր համալիր | D16: ԲՄ | E16: հատ | F16: 189199.2 | G16: 1 | H16: =F16*G16 -> 189199.2
B17: 38591200 | C17: քիմիական լաբորատորիայում կիրառվող սարքեր | D17: ԲՄ | E17: հատ | F17: 117457.2 | G17: 1 | H17: =F17*G17 -> 117457.2
B18: 38421140 | C18: ճնշման չափման սարքեր | D18: ԲՄ | E18: հատ | F18: 222700 | G18: 1 | H18: =F18*G18 -> 222700
B19: 38591200 | C19: քիմիական լաբորատորիայում կիրառվող սարքեր | D19: ԲՄ | E19: հատ | F19: 143209.9 | G19: 1 | H19: =F19*G19 -> 143209.9
B20: 38591200 | C20: քիմիական լաբորատորիայում կիրառվող սարքեր | D20: ԲՄ | E20: հատ | F20: 794.4 | G20: 1 | H20: =F20*G20 -> 794.4
B21: 35121340 | C21: հատուկ մասնագիտական սարքեր և նյութեր | D21: ԲՄ | E21: հատ | F21: 48690 | G21: 1 | H21: =F21*G21 -> 48690
B22: 48821100 | C22: ցանցային սերվերներ | D22: ԲՄ | E22: հատ | F22: 38465.7 | G22: 1 | H22: =F22*G22 -> 38465.7
B23: 38591200 | C23: քիմիական լաբորատորիայում կիրառվող սարքեր | D23: ԲՄ | E23: հատ | F23: 122280 | G23: 1 | H23: =F23*G23 -> 122280
B24: 38591200 | C24: քիմիական լաբորատորիայում կիրառվող սարքեր | D24: ԲՄ | E24: հատ | F24: 85450 | G24: 1 | H24: =F24*G24 -> 85450
B25: 38591200 | C25: քիմիական լաբորատորիայում կիրառվող սարքեր | D25: ԲՄ | E25: հատ | F25: 98820 | G25: 1 | H25: =F25*G25 -> 98820
B26: 1162 32003 Գիտական կենտրոնների վերանորոգում, ''Ակադեմիական քաղաք '' նախագծի իրականացման շրջանակներում առաջացած հրատապ ծախսերի ապահովում | H26: =H27 -> -466124.4
C27: ՄԱՍ II. Ծ Ա Ռ Ա Յ ՈՒ Թ Յ ՈՒ Ն Ն Ե Ր | H27: =H28+H29 -> -466124.4
B28: 71241200/1 | C28: նախագծերի պատրաստում, ծախսերի գնահատում | D28: ԲՄ | E28: դրամ | F28: 428897.8 | G28: (1) | H28: -428897.8
B29: 71241200/2 | C29: նախագծերի պատրաստում, ծախսերի գնահատում | D29: ՄԱ | E29: դրամ | H29: -37226.6

Sheet havelvac 8
C1: Հավելված N 8
C2: ՀՀ կառավարության 2023 թվականի
C3: ______________ ի ___Ն որոշման
A4: «ՀԱՅԱՍՏԱՆԻ ՀԱՆՐԱՊԵՏՈՒԹՅԱՆ 2023 ԹՎԱԿԱՆԻ ՊԵՏԱԿԱՆ ԲՅՈՒՋԵԻ ՄԱՍԻՆ» ՕՐԵՆՔԻ N 1 ՀԱՎԵԼՎԱԾԻ N 2 ԱՂՅՈՒՍԱԿՈՒՄ ԿԱՏԱՐՎՈՂ ՎԵՐԱԲԱՇԽՈՒՄԸ ԵՎ ՀԱՅԱՍՏԱՆԻ ՀԱՆՐԱՊԵՏՈՒԹՅԱՆ ԿԱՌԱՎԱՐՈՒԹՅԱՆ 2022 ԹՎԱԿԱՆԻ ԴԵԿՏԵՄԲԵՐԻ 29-Ի N 2111-Ն ՈՐՈՇՄԱՆ N 5 ՀԱՎԵԼՎԱԾԻ N 1 ԱՂՅՈՒՍԱԿՈՒՄ ԿԱՏԱՐՎՈՂ ՓՈՓՈԽՈՒԹՅՈՒՆՆԵՐԸ ԵՎ ԼՐԱՑՈՒՄՆԵՐԸ | C4: ՀԱՅԱՍՏԱՆԻ ՀԱՆՐԱՊԵՏՈՒԹՅԱՆ ԿԱՌԱՎԱՐՈՒԹՅԱՆ 2024 ԹՎԱԿԱՆԻ ՊԱՀՈՒՍՏԱՅԻՆ ՖՈՆԴԻՑ ԳՈՒՄԱՐ ՀԱՏԿԱՑՆԵԼՈՒ ՎԵՐԱԲԵՐՅԱԼ
E5: հազար դրամ
A6: Ծրագրային դասիչը | C6: Բյուջետային հատկացումների գլխավոր կարգադրիչների, ծրագրերի և միջոցառումների անվանումները | D6: Ցուցանիշների փոփոխությունը (ավելացումները նշված են դրական նշանով, իսկ նվազեցումները՝ փակագծերում)
A7: ծրագիր | B7: միջոցառում | D7: Ինն ամիս | E7: Տարի
C8: ԸՆԴԱՄԵՆԸ | D8: =D9+D22 -> 0 | E8: =E9+E22 -> 0
A9: ՀՀ Կրթության, գիտության, մշակույթի և սպորտի նախարարություն | D9: =D10 -> 289631.4 | E9: =E10 -> 289631.4
A10: 1111 | C10: Ծրագրի անվանումը` | D10: =D16 -> 289631.4 | E10: =E16 -> 289631.4
C11: Բարձրագույն և հետբուհական մասնագիտական կրթության ծրագիր
C12: Ծրագրի նպատակը`
C13: Ապահովել մատչելի, որակյալ և մրցունակ բարձրագույն և հետբուհական մասնագիտական կրթություն
C14: Վերջնական արդյունքի նկարագրությունը`
C15: Գիտելիքների տնտեսության և գիտության զարգացման արդի պահանջներին համապատասխան բարձրագույն և հետբուհական մասնագիտական որակավորում ունեցող մասնագետների պատրաստում
B16: 12012 | C16: Միջոցառման անվանումը` | D16: ='havelvac 1'!D46 -> 289631.4 | E16: ='havelvac 1'!E46 -> 289631.4
C17: Լեռնային Ղարաբաղից բռնի տեղահանված ընտանիքների Հայաստանի Հանրապետության բարձրագույն և հետբուհական մասնագիտական կրթական ծրագրեր իրականացնող ուսումնական հաստատություններում սովորող ուսանողների ուսման վարձի փոխհատուցում
C18: Միջոցառման նկարագրությունը`
C19: Մինչև 2023 թվականի սեպտեմբերի 19-ն Հայաստանի Հանրապետության բարձրագույն և հետբուհական մասնագիտական կրթական ծրագրեր իրականացնող ուսումնական հաստատությունների վճարովի ուսուցման համակարգում ընդգրկված Լեռնային Ղարաբաղից բռնի տեղահանված ընտանիքների ուսանողներին ուսման վարձի փոխհատուցման նպատակով ուսանողական նպաստի տրամադրում
C20: Միջոցառման տեսակը
C21: Տրանսֆերտների տրամադրում
A22: ՀՀ կառավարություն | D22: =+D24 -> -289631.4 | E22: =+E24 -> -289631.4
A23: 1139 | C23: Ծրագրի անվանումը`
C24: ՀՀ կառավարության պահուստային ֆոնդ | D24: =D29 -> -289631.4 | E24: =E29 -> -289631.4
C25: Ծրագրի նպատակը`
C26: Պետական բյուջեում չկանխատեսված, ինչպես նաև բյուջետային երաշխիքների ապահովման ծախսերի ֆինանսավորման ապահովում
C27: Վերջնական արդյունքի նկարագրությունը`
C28: Պահուստային ֆոնդի կառավարման արդյունավետության և թափանցիկության ապահովում
B29: 11001 | C29: Միջոցառման անվանումը` | D29: ='havelvac 1'!D72 -> -289631.4 | E29: ='havelvac 1'!E72 -> -289631.4
C30: ՀՀ կառավարության պահուստային ֆոնդ
C31: Միջոցառման նկարագրությունը`
C32: ՀՀ պետական բյուջեում նախատեսված ելքերի լրացուցիչ ֆինանսավորման՝ պետական բյուջեում չկանխատեսված ելքերի, ինչպես նաև բյուջետային երաշխիքների ապահովման ելքերի ֆինանսավորման ապահովում
C33: Միջոցառման տեսակը
C34: Ծառայությունների մատուցում
