Workbook
Name _tab10: #REF!
Name _tab11: #REF!
Name _tab12: #REF!
Name _tab13: #REF!
Name _tab14: #REF!
Name _tab15: #REF!
Name _tab16: #REF!
Name _tab17: #REF!
Name _tab18: #REF!
Name _tab19: #REF!
Name _tab20: #REF!
Name _tab21: #REF!
Name _tab22: #REF!
Name _tab23: #REF!
Name _tab24: #REF!
Name _tab5: #REF!
Name _tab6: #REF!
Name _tab7: #REF!
Name _tab8: #REF!
Name _tab9: #REF!
Name par_count: #REF!,#REF!,#REF!,#REF!,#REF!,#REF!,#REF!,#REF!,#REF!,#REF!,#REF!,#REF!,#REF!,#REF!,#REF!
Name par_qual: #REF!,#REF!,#REF!,#REF!,#REF!
Name par_time: #REF!,#REF!,#REF!,#REF!
Name par2.12s: #REF!
Name par2.4s: #REF!,#REF!,#REF!,#REF!,#REF!,#REF!,#REF!,#REF!,#REF!,#REF!,#REF!,#REF!,#REF!,#REF!,#REF!,#REF!
Name par2.5s: #REF!,#REF!
Name par2.6s: #REF!,#REF!,#REF!,#REF!
Name par2.7s: #REF!,#REF!
Name par2.9s: #REF!,#REF!,#REF!,#REF!,#REF!,#REF!,#REF!,#REF!,#REF!,#REF!,#REF!,#REF!,#REF!,#REF!,#REF!,#REF!
Name par4.10s: #REF!,#REF!
Name par4.11d: #REF!,#REF!,#REF!,#REF!,#REF!
Name par4.12d: #REF!
Name par4.13s: #REF!
Name par4.14: #REF!,#REF!,#REF!,#REF!,#REF!,#REF!
Name par4.15: #REF!,#REF!,#REF!
Name par4.16: #REF!,#REF!,#REF!
Name par4.17: #REF!,#REF!,#REF!,#REF!
Name par4.18d: #REF!,#REF!
Name par4.19s: #REF!
Name par4.20f: #REF!
Name par4.21f: #REF!
Name par4.22: #REF!
Name par4.4: #REF!
Name par4.5: #REF!
Name par4.6s: #REF!
Name par4.7s: #REF!
Name par4.8: #REF!,#REF!,#REF!,#REF!,#REF!
Name par4.9: #REF!,#REF!,#REF!,#REF!,#REF!,#REF!
Name par5.1: #REF!,#REF!
Name par5.3: #REF!,#REF!,#REF!,#REF!,#REF!,#REF!
Name par5.4: #REF!,#REF!,#REF!,#REF!,#REF!
Name par5.5: #REF!
Name par5.6: #REF!,#REF!
Name program: #REF!,#REF!,#REF!,#REF!,#REF!,#REF!,#REF!,#REF!,#REF!,#REF!,#REF!,#REF!,#REF!,#REF!,#REF!,#REF!,#REF!,#REF!,#REF!,#REF!

Sheet 1
B1: Հավելված № 1
B2: ՀՀ կառավարության 2024 թվականի
B3: __________ «____» -ի
B4: № ----------Ն որոշման
B5: «ՀԱՅԱՍՏԱՆԻ ՀԱՆՐԱՊԵՏՈՒԹՅԱՆ ԿԱՌԱՎԱՐՈՒԹՅԱՆ 2023 ԹՎԱԿԱՆԻ ԴԵԿՏԵՄԲԵՐԻ 28-Ի № 2323-Ն ՈՐՈՇՄԱՆ № 1 ՀԱՎԵԼՎԱԾԻ № 1 ԱՂՅՈՒՍԱԿՈՒՄ ԿԱՏԱՐՎՈՂ ՓՈՓՈԽՈՒԹՅՈՒՆՆԵՐԸ
B6: հազար դրամ
B7: Պետական բյուջեի դեֆիցիտի ֆինանսավորման աղբյուրներն ու դրանց տարրերի անվանումները | C7: Ցուցանիշների փոփոխությունները (ավելացումը նշված է դրական նշանով)
C8: Ինն ամիս | D8: Տարի
B9: ԸՆԴԱՄԵՆԸ | C9: =+C11 -> 5000000 | D9: =+D11 -> 0
B10: այդ թվում՝
B11: Ա.Ներքին աղբյուրներ-ընդամենը | C11: =+C13 -> 5000000 | D11: =+D13 -> 0
B12: այդ թվում՝
B13: 2. Ֆինանսական զուտ ակտիվներ | C13: =+C15 -> 5000000 | D13: =+D15 -> 0
B14: այդ թվում՝
B15: 2.6.Այլ | C15: =+C16 -> 5000000 | D15: =+D16 -> 0
B16: ժամանակավորապես ազատ միջոցներ | C16: 5000000 | D16: 0

Sheet 2
B1: Հավելված № 2
B2: ՀՀ կառավարության 2024 թվականի
B3: __________ «____» -ի
B4: № ----------Ն որոշման
B5: «ՀԱՅԱՍՏԱՆԻ ՀԱՆՐԱՊԵՏՈՒԹՅԱՆ 2024 ԹՎԱԿԱՆԻ ՊԵՏԱԿԱՆ ԲՅՈՒՋԵԻ ՄԱՍԻՆ» ՀԱՅԱՍՏԱՆԻ ՀԱՆՐԱՊԵՏՈՒԹՅԱՆ ՕՐԵՆՔԻ N 1 ՀԱՎԵԼՎԱԾԻ N 2 ԱՂՅՈՒՍԱԿՈՒՄ ԿԱՏԱՐՎՈՂ ՎԵՐԱԲԱՇԽՈՒՄԸ ԵՎ ՀԱՅԱՍՏԱՆԻ ՀԱՆՐԱՊԵՏՈՒԹՅԱՆ ԿԱՌԱՎԱՐՈՒԹՅԱՆ 2023 ԹՎԱԿԱՆԻ ԴԵԿՏԵՄԲԵՐԻ 28-Ի № 2323-Ն ՈՐՈՇՄԱՆ № 5 ՀԱՎԵԼՎԱԾԻ № 1 ԱՂՅՈՒՍԱԿՈՒՄ ԿԱՏԱՐՎՈՂ ՓՈՓՈԽՈՒԹՅՈՒՆՆԵՐԸ
B6: հազար դրամ
B7: Ծրագրային դասիչը | D7: Բյուջետային հատկացումների գլխավոր կարգադրիչների, ծրագրերի և միջոցառումների անվանումները | E7: Ցուցանիշների փոփոխությունները (ավելացումը նշված է դրական նշանով, իսկ նվազեցումը` փակագծերում)
B8: Ծրագիր | C8: Միջոցառում | E8: Ինն ամիս | F8: Տարի
D9: ԸՆԴԱՄԵՆԸ | E9: =+E10 -> 5000000 | F9: =+F10 -> 0
D10: ՀՀ առողջապահության նախարարություն | E10: =+E30+E61+E98+E117 -> 5000000 | F10: =+F30+F61+F98+F117 -> 0
B11: 1099 | D11: Ծրագրի անվանումը` | E11: =+E18+E24 -> 0 | F11: =+F18+F24 -> 0
D12: Առողջության առաջնային պահպանում
D13: Ծրագրի նպատակը`
D14: Բնակչությանը մատչելի և որակյալ առաջնային բժշկական օգնության և սպասարկման տրամադրում, առողջության վատթարացման ռիսկի գործոնների վերհանում և դրանց հնարավոր անբարենպաստ ազդեցության կանխարգելում
D15: Վերջնական արդյունքի նկարագրությունը`
D16: Առողջության առաջնային պահպանման օղակում ցուցաբերվող բժշկական օգնության որակի, հիվանդությունների վաղ հայտնաբերման և կանխարգելման մակարդակի բարելավում, առողջապահական ծառայությունների վերաբերյալ իրազեկվածության և դրանց նկատմամբ պահանջարկի ավելացում
B17: Ծրագրի միջոցառումներ
C18: 11001 | D18: Միջոցառման անվանումը` | E18: -200000 | F18: =+E18 -> -200000
D19: Ըստ փաստացի կատարողականի փոխհատուցվող ամբուլատոր-պոլիկլինիկական բժշկական օգնության ծառայություններ
D20: Միջոցառման նկարագրությունը`
D21: Հիվանդությունների կանխարգելում, հայտնաբերում, բուժում, նեղ մասնագիտացված ամբուլատոր ծառայություններ, լաբորատոր-գործիքային հետազոտություններ, զորակոչային և նախազորակոչային տարիքի անձանց բուժման և փորձաքննության ամբուլատոր ծառայություններ
D22: Միջոցառման տեսակը
D23: Ծառայությունների մատուցում
C24: 12001 | D24: Միջոցառման անվանումը` | E24: 200000 | F24: =+E24 -> 200000
D25: Ըստ մարդաշնչի փոխհատուցվող ամբուլատոր-պոլիկլինիկական բժշկական օգնության ծառայություններ
D26: Միջոցառման նկարագրությունը`
D27: Հիվանդությունների կանխարգելում, հայտնաբերում, բուժում, նեղ մասնագիտացված ամբուլատոր ծառայություններ, լաբորատոր-գործիքային հետազոտություններ, զորակոչային և նախազորակոչային տարիքի անձանց բուժման և փորձաքննության ամբուլատոր ծառայություններ
D28: Միջոցառման տեսակը
D29: Տրանսֆերտի տրամադրում
B30: 1200 | D30: Ծրագրի անվանումը` | E30: =+E37+E43+E49+E55 -> 318985.4 | F30: =+F37+F43+F49+F55 -> 318985.4
D31: Մոր և մանկան առողջության պահպանում
D32: Ծրագրի նպատակը`
D33: Մոր և մանկան առողջության պահպանում, կանանց և երեխաներին մատուցվող բժշկական ծառայությունների մատչելիության և որակի բարելավում
D34: Վերջնական արդյունքի նկարագրությունը`
D35: Մանկական և մայրական մահացության և հիվանդացության կրճատում, կանանց վերարտադրողական առողջության բարելավում
B36: Ծրագրի միջոցառումներ
C37: 11003 | D37: Միջոցառման անվանումը` | E37: =+F37 -> 718617.5 | F37: 718617.5
D38: Երեխաներին բժշկական օգնության ծառայություններ
D39: Միջոցառման նկարագրությունը`
D40: Երեխաների (0-18 տարեկան երեխաներին) հիվանդանոցային բժշկական օգնության իրականացում (հետազոտում, ախտորոշում, բուժում)
...

Sheet 3
B1: Հավելված № 3
B2: ՀՀ կառավարության 2024 թվականի
B3: __________ «____» -ի
B4: № ------------ -Ն որոշման
B5: ՀԱՅԱՍՏԱՆԻ ՀԱՆՐԱՊԵՏՈՒԹՅԱՆ ԿԱՌԱՎԱՐՈՒԹՅԱՆ 2023 ԹՎԱԿԱՆԻ ԴԵԿՏԵՄԲԵՐԻ 28-Ի № 2323-Ն ՈՐՈՇՄԱՆ NN 3 և 4 ՀԱՎԵԼՎԱԾՆԵՐՈՒՄ ԿԱՏԱՐՎՈՂ ՓՈՓՈԽՈՒԹՅՈՒՆՆԵՐԸ
B6: հազար դրամ
B7: Գործառական դասիչը | E7: Ծրագրային դասիչը | G7: Բյուջետային հատկացումների գլխավոր կարգադրիչների, ծրագրերի, միջոցառումների և միջոցառումները կատարող պետական մարմինների անվանումները | H7: Ցուցանիշների փոփոխությունները (ավելացումը նշված է դրական նշանով, իսկ նվազեցումը` փակագծերում)
B8: բաժին | C8: խումբ | D8: դաս | E8: Ծրագիր | F8: Միջոցառում | H8: Ինն ամիս | I8: Տարի
B9: ԸՆԴԱՄԵՆԸ | H9: =+H10 -> 5000000 | I9: =+I10 -> 0
B10: 07 | G10: ԱՌՈՂՋԱՊԱՀՈՒԹՅՈՒՆ | H10: =+H12+H99 -> 5000000 | I10: =+I12+I99 -> 0
G11: այդ թվում՝
C12: 02 | G12: Արտահիվանդանոցային ծառայություններ | H12: =+H14+H38+H84 -> 696639.8 | I12: =+I14+I38+I84 -> 696639.8
G13: այդ թվում՝
D14: 01 | G14: Ընդհանուր բնույթի բժշկական ծառայություններ | H14: =+H18 -> 0 | I14: =+I18 -> 0
G15: այդ թվում`
G16: ՀՀ առողջապահության նախարարություն | H16: =+H18 -> 0 | I16: =+I18 -> 0
G17: այդ թվում՝
E18: 1099 | G18: Առողջության առաջնային պահպանում | H18: =H20+H29 -> 0 | I18: =I20+I29 -> 0
G19: այդ թվում`
F20: 11001 | G20: Ըստ փաստացի կատարողականի փոխհատուցվող ամբուլատոր-պոլիկլինիկական բժշկական օգնության ծառայություններ | H20: =+H22 -> -200000 | I20: =+I22 -> 0
G21: այդ թվում` ըստ կատարողների
G22: ՀՀ առողջապահության նախարարություն | H22: =+H24 -> -200000 | I22: =+I24 -> 0
G23: այդ թվում` բյուջետային ծախսերի տնտեսագիտական դասակարգման հոդվածներ
G24: ԸՆԴԱՄԵՆԸ ԾԱԽՍԵՐ | H24: =+H25 -> -200000 | I24: =+I25 -> 0
G25: ԸՆԹԱՑԻԿ ԾԱԽՍԵՐ | H25: =H26 -> -200000 | I25: =I26 -> 0
G26: ՍՈՑԻԱԼԱԿԱՆ ՆՊԱՍՏՆԵՐ ԵՎ ԿԵՆՍԱԹՈՇԱԿՆԵՐ | H26: =+H28 -> -200000 | I26: =+I28 -> 0
G27: Սոցիալական օգնության դրամական արտահայտությամբ նպաստներ (բյուջեից)
G28: - Այլ նպաստներ բյուջեից | H28: =+'[1]5'!E18 -> -200000
F29: 12001 | G29: Ըստ մարդաշնչի փոխհատուցվող ամբուլատոր-պոլիկլինիկական բժշկական օգնության ծառայություններ | H29: =+H31 -> 200000 | I29: =+I31 -> 0
G30: այդ թվում` ըստ կատարողների
G31: ՀՀ առողջապահության նախարարություն | H31: =+H33 -> 200000 | I31: =+I33 -> 0
G32: այդ թվում` բյուջետային ծախսերի տնտեսագիտական դասակարգման հոդվածներ
G33: ԸՆԴԱՄԵՆԸ ԾԱԽՍԵՐ | H33: =+H34 -> 200000 | I33: =+I34 -> 0
G34: ԸՆԹԱՑԻԿ ԾԱԽՍԵՐ | H34: =H35 -> 200000 | I34: =I35 -> 0
G35: ՍՈՑԻԱԼԱԿԱՆ ՆՊԱՍՏՆԵՐ ԵՎ ԿԵՆՍԱԹՈՇԱԿՆԵՐ | H35: =+H37 -> 200000 | I35: =+I37 -> 0
G36: Սոցիալական օգնության դրամական արտահայտությամբ նպաստներ (բյուջեից)
G37: - Այլ նպաստներ բյուջեից | H37: =+'[1]5'!E24 -> 200000
D38: 02 | G38: Մասնագիտացված բժշկական ծառայություններ | H38: =+H42+H62+H73 -> 601352.4 | I38: =+I42+I62+I73 -> 601352.4
G39: այդ թվում՝
G40: ՀՀ առողջապահության նախարարություն | H40: =+H42+H62+H73 -> 601352.4 | I40: =+I42+I62+I73 -> 601352.4
...

Sheet 4
B1: Հավելված № 4
B2: ՀՀ կառավարության 2024 թվականի
B3: __________ «____» -ի
B4: № ------------ -Ն որոշման
B5: ՀՀ Առողջապահության նախարարություն
B6: ՀԱՅԱՍՏԱՆԻ ՀԱՆՐԱՊԵՏՈՒԹՅԱՆ ԿԱՌԱՎԱՐՈՒԹՅԱՆ 2023 ԹՎԱԿԱՆԻ ԴԵԿՏԵՄԲԵՐԻ 28-Ի N 2323-Ն ՈՐՈՇՄԱՆ N 9 ՀԱՎԵԼՎԱԾԻ 9.8 ԱՂՅՈՒՍԱԿՈՒՄ ԿԱՏԱՐՎՈՂ ՓՈՓՈԽՈՒԹՅՈՒՆՆԵՐԸ
B7: ՄԱՍ 2. ՊԵՏԱԿԱՆ ՄԱՐՄՆԻ ԳԾՈՎ ԱՐԴՅՈՒՆՔԱՅԻՆ (ԿԱՏԱՐՈՂԱԿԱՆ) ՑՈՒՑԱՆԻՇՆԵՐԸ
B8: Ծրագրի դասիչը | C8: Ծրագրի անվանումը
B9: 1099 | C9: Առողջության առաջնային պահպանում
B10: Ծրագրի միջոցառումները
B11: Ծրագրի դասիչը` | C11: 1099 | D11: Ցուցանիշների փոփոխությունները (նվազեցումները նշված են փակագծերում)
B12: Միջոցառման դասիչը` | C12: 11001 | D12: Ինն ամիս | E12: Տարի
B13: Միջոցառման անվանումը` | C13: Ըստ փաստացի կատարողականի փոխհատուցվող ամբուլատոր-պոլիկլինիկական բժշկական օգնության ծառայություններ
B14: Նկարագրությունը` | C14: Հիվանդությունների կանխարգելում, հայտնաբերում, բուժում, նեղ մասնագիտացված ամբուլատոր ծառայություններ, լաբորատոր-գործիքային հետազոտություններ, զորակոչային և նախազորակոչային տարիքի անձանց բուժման և փորձաքննության ամբուլատոր ծառայություններ
B15: Միջոցառման տեսակը` | C15: Ծառայությունների մատուցում
B16: Ակտիվն օգտագործող կազմակերպության (ների) անվանում(ներ)ը | C16: ՀՀ գնումների մասին օրենսդրությանը համապատասխան ընտրված կազմակերպություններ
B17: Արդյունքի չափորոշիչներ
B18: Միջոցառման վրա կատարվող ծախսը (հազար դրամ) | D18: =+'3'!H28 -> -200000 | E18: =+'3'!I28 -> 0
B20: Ծրագրի դասիչը | C20: Ծրագրի անվանումը
B21: 1099 | C21: Առողջության առաջնային պահպանում
B22: Ծրագրի միջոցառումները
B23: Ծրագրի դասիչը` | C23: 1099 | D23: Ցուցանիշների փոփոխությունները (ավելացումները նշված են դրական նշանով)
B24: Միջոցառման դասիչը` | C24: 12001 | D24: Ինն ամիս | E24: Տարի
B25: Միջոցառման անվանումը` | C25: Ըստ մարդաշնչի փոխհատուցվող ամբուլատոր-պոլիկլինիկական բժշկական օգնության ծառայություններ
B26: Նկարագրությունը` | C26: Հիվանդությունների կանխարգելում, հայտնաբերում, բուժում, նեղ մասնագիտացված ամբուլատոր ծառայություններ, լաբորատոր-գործիքային հետազոտություններ, զորակոչային և նախազորակոչային տարիքի անձանց բուժման և փորձաքննության ամբուլատոր ծառայություններ
B27: Միջոցառման տեսակը` | C27: Տրանսֆերտների տրամադրում
B28: Ակտիվն օգտագործող կազմակերպության (ների) անվանում(ներ)ը | C28: Առողջության առաջնային պահպանման ծառայություններից պետության կողմից երաշխավորված անվճար և արտոնյալ պայմաններով բժշկական օգնության և պասարկման իրավունք ունեցող ՀՀ յուրաքանչյուր քաղաքացի
B29: Արդյունքի չափորոշիչներ
B30: Միջոցառման վրա կատարվող ծախսը (հազար դրամ) | D30: =+'3'!H37 -> 200000 | E30: =+'3'!I37 -> 0
B32: Ծրագրի դասիչը` | C32: 1200 | D32: Ցուցանիշների փոփոխությունները (ավելացումները նշված են դրական նշանով)
B33: Միջոցառման դասիչը` | C33: 11003 | D33: Ինն ամիս | E33: Տարի
B34: Միջոցառման անվանումը` | C34: Երեխաներին բժշկական օգնության ծառայություններ
B35: Նկարագրությունը` | C35: Երեխաների (0-18 տարեկան երեխաներին) հիվանդանոցային բժշկական օգնության իրականացում (հետազոտում, ախտորոշում, բուժում)
B36: Միջոցառման տեսակը` | C36: Ծառայությունների մատուցում
B37: Ակտիվն օգտագործող կազմակերպության (ների) անվանում(ներ)ը | C37: ՀՀ գնումների մասին օրենսդրությանը համապատասխան ընտրված կազմակերպություններ
B38: Արդյունքի չափորոշիչներ
B39: Երեխաների բժշկական օգնության գծով ծառայություններից օգտվելու դեպքերի թիվ, հատ | E39: 6271
B40: Միջոցառման վրա կատարվող ծախսը (հազար դրամ) | D40: =+'2'!E37 -> 718617.5 | E40: =+'2'!F37 -> 718617.5
B42: Ծրագրի դասիչը` | C42: 1200 | D42: Ցուցանիշների փոփոխությունները (ավելացումները նշված են դրական նշանով)
B43: Միջոցառման դասիչը` | C43: 11004 | D43: Ինն ամիս | E43: Տարի
...

Sheet 5
B1: Հավելված № 5
B2: ՀՀ կառավարության 2024 թվականի
B3: __________ «____» -ի
B4: № ------------ -Ն որոշման
B5: ՀՀ Առողջապահության նախարարություն
B6: ՀԱՅԱՍՏԱՆԻ ՀԱՆՐԱՊԵՏՈՒԹՅԱՆ ԿԱՌԱՎԱՐՈՒԹՅԱՆ 2023 ԹՎԱԿԱՆԻ ԴԵԿՏԵՄԲԵՐԻ 28-Ի N 2323-Ն ՈՐՈՇՄԱՆ N 9.1 ՀԱՎԵԼՎԱԾԻ 9.1.8 ԱՂՅՈՒՍԱԿՈՒՄ ԿԱՏԱՐՎՈՂ ՓՈՓՈԽՈՒԹՅՈՒՆՆԵՐԸ
B7: ՄԱՍ 1. ՊԵՏԱԿԱՆ ՄԱՐՄՆԻ ԳԾՈՎ ԱՐԴՅՈՒՆՔԱՅԻՆ (ԿԱՏԱՐՈՂԱԿԱՆ) ՑՈՒՑԱՆԻՇՆԵՐԸ
B8: Ծրագրի դասիչը | C8: Ծրագրի անվանումը
B9: 1099 | C9: Առողջության առաջնային պահպանում
B10: Ծրագրի միջոցառումները
B11: Ծրագրի դասիչը` | C11: 1099 | D11: Ցուցանիշների փոփոխությունները (նվազեցումները նշված են փակագծերում)
B12: Միջոցառման դասիչը` | C12: 11001 | D12: Ինն ամիս | E12: Տարի
B13: Միջոցառման անվանումը` | C13: Ըստ փաստացի կատարողականի փոխհատուցվող ամբուլատոր-պոլիկլինիկական բժշկական օգնության ծառայություններ
B14: Նկարագրությունը` | C14: Հիվանդությունների կանխարգելում, հայտնաբերում, բուժում, նեղ մասնագիտացված ամբուլատոր ծառայություններ, լաբորատոր-գործիքային հետազոտություններ, զորակոչային և նախազորակոչային տարիքի անձանց բուժման և փորձաքննության ամբուլատոր ծառայություններ
B15: Միջոցառման տեսակը` | C15: Ծառայությունների մատուցում
B16: Ակտիվն օգտագործող կազմակերպության (ների) անվանում(ներ)ը | C16: ՀՀ գնումների մասին օրենսդրությանը համապատասխան ընտրված կազմակերպություններ
B17: Արդյունքի չափորոշիչներ
B18: Միջոցառման վրա կատարվող ծախսը (հազար դրամ) | D18: =+'4'!D18 -> -200000 | E18: =+'4'!E18 -> 0
B20: Ծրագրի դասիչը | C20: Ծրագրի անվանումը
B21: 1099 | C21: Առողջության առաջնային պահպանում
B22: Ծրագրի միջոցառումները
B23: Ծրագրի դասիչը` | C23: 1099 | D23: Ցուցանիշների փոփոխությունները (ավելացումները նշված են դրական նշանով)
B24: Միջոցառման դասիչը` | C24: 12001 | D24: Ինն ամիս | E24: Տարի
B25: Միջոցառման անվանումը` | C25: Ըստ մարդաշնչի փոխհատուցվող ամբուլատոր-պոլիկլինիկական բժշկական օգնության ծառայություններ
B26: Նկարագրությունը` | C26: Հիվանդությունների կանխարգելում, հայտնաբերում, բուժում, նեղ մասնագիտացված ամբուլատոր ծառայություններ, լաբորատոր-գործիքային հետազոտություններ, զորակոչային և նախազորակոչային տարիքի անձանց բուժման և փորձաքննության ամբուլատոր ծառայություններ
B27: Միջոցառման տեսակը` | C27: Տրանսֆերտների տրամադրում
B28: Ակտիվն օգտագործող կազմակերպության (ների) անվանում(ներ)ը | C28: Առողջության առաջնային պահպանման ծառայություններից պետության կողմից երաշխավորված անվճար և արտոնյալ պայմաններով բժշկական օգնության և պասարկման իրավունք ունեցող ՀՀ յուրաքանչյուր քաղաքացի
B29: Արդյունքի չափորոշիչներ
B30: Միջոցառման վրա կատարվող ծախսը (հազար դրամ) | D30: =+'4'!D30 -> 200000 | E30: =+'[1]5'!F23 -> 0
B32: Ծրագրի դասիչը` | C32: 1200 | D32: Ցուցանիշների փոփոխությունները (ավելացումները նշված են դրական նշանով)
B33: Միջոցառման դասիչը` | C33: 11003 | D33: Ինն ամիս | E33: Տարի
B34: Միջոցառման անվանումը` | C34: Երեխաներին բժշկական օգնության ծառայություններ
B35: Նկարագրությունը` | C35: Երեխաների (0-18 տարեկան երեխաներին) հիվանդանոցային բժշկական օգնության իրականացում (հետազոտում, ախտորոշում, բուժում)
B36: Միջոցառման տեսակը` | C36: Ծառայությունների մատուցում
B37: Ակտիվն օգտագործող կազմակերպության (ների) անվանում(ներ)ը | C37: ՀՀ գնումների մասին օրենսդրությանը համապատասխան ընտրված կազմակերպություններ
B38: Արդյունքի չափորոշիչներ
B39: Երեխաների բժշկական օգնության գծով ծառայություններից օգտվելու դեպքերի թիվ, հատ | E39: 6271
B40: Միջոցառման վրա կատարվող ծախսը (հազար դրամ) | D40: =+'2'!E37 -> 718617.5 | E40: =+'2'!F37 -> 718617.5
B42: Ծրագրի դասիչը` | C42: 1200 | D42: Ցուցանիշների փոփոխությունները (ավելացումները նշված են դրական նշանով)
B43: Միջոցառման դասիչը` | C43: 11004 | D43: Ինն ամիս | E43: Տարի
...
