Workbook
Name _tab10: #REF!
Name _tab11: #REF!
Name _tab12: #REF!
Name _tab13: #REF!
Name _tab14: #REF!
Name _tab15: #REF!
Name _tab16: #REF!
Name _tab17: #REF!
Name _tab18: #REF!
Name _tab19: #REF!
Name _tab20: #REF!
Name _tab21: #REF!
Name _tab22: #REF!
Name _tab23: #REF!
Name _tab24: #REF!
Name _tab5: #REF!
Name _tab6: #REF!
Name _tab7: #REF!
Name _tab8: #REF!
Name _tab9: #REF!
Name par_count: #REF!,#REF!,#REF!,#REF!,#REF!,#REF!,#REF!,#REF!,#REF!,#REF!,#REF!,#REF!,#REF!,#REF!,#REF!
Name par_qual: #REF!,#REF!,#REF!,#REF!,#REF!
Name par_time: #REF!,#REF!,#REF!,#REF!
Name par2.12s: #REF!
Name par2.4s: #REF!,#REF!,#REF!,#REF!,#REF!,#REF!,#REF!,#REF!,#REF!,#REF!,#REF!,#REF!,#REF!,#REF!,#REF!,#REF!
Name par2.5s: #REF!,#REF!
Name par2.6s: #REF!,#REF!,#REF!,#REF!
Name par2.7s: #REF!,#REF!
Name par2.9s: #REF!,#REF!,#REF!,#REF!,#REF!,#REF!,#REF!,#REF!,#REF!,#REF!,#REF!,#REF!,#REF!,#REF!,#REF!,#REF!
Name par4.10s: #REF!,#REF!
Name par4.11d: #REF!,#REF!,#REF!,#REF!,#REF!
Name par4.12d: #REF!
Name par4.13s: #REF!
Name par4.14: #REF!,#REF!,#REF!,#REF!,#REF!,#REF!
Name par4.15: #REF!,#REF!,#REF!
Name par4.16: #REF!,#REF!,#REF!
Name par4.17: #REF!,#REF!,#REF!,#REF!
Name par4.18d: #REF!,#REF!
Name par4.19s: #REF!
Name par4.20f: #REF!
Name par4.21f: #REF!
Name par4.22: #REF!
Name par4.4: #REF!
Name par4.5: #REF!
Name par4.6s: #REF!
Name par4.7s: #REF!
Name par4.8: #REF!,#REF!,#REF!,#REF!,#REF!
Name par4.9: #REF!,#REF!,#REF!,#REF!,#REF!,#REF!
Name par5.1: #REF!,#REF!
Name par5.3: #REF!,#REF!,#REF!,#REF!,#REF!,#REF!
Name par5.4: #REF!,#REF!,#REF!,#REF!,#REF!
Name par5.5: #REF!
Name par5.6: #REF!,#REF!
Name program: #REF!,#REF!,#REF!,#REF!,#REF!,#REF!,#REF!,#REF!,#REF!,#REF!,#REF!,#REF!,#REF!,#REF!,#REF!,#REF!,#REF!,#REF!,#REF!,#REF!

Sheet 1
B1: Հավելված № 1
B2: ՀՀ կառավարության 2024 թվականի
B3: __________ «____» -ի
B4: № ----------Ն որոշման
B5: «ՀԱՅԱՍՏԱՆԻ ՀԱՆՐԱՊԵՏՈՒԹՅԱՆ ԿԱՌԱՎԱՐՈՒԹՅԱՆ 2023 ԹՎԱԿԱՆԻ ԴԵԿՏԵՄԲԵՐԻ 28-Ի № 2323-Ն ՈՐՈՇՄԱՆ № 1 ՀԱՎԵԼՎԱԾԻ № 1 ԱՂՅՈՒՍԱԿՈՒՄ ԿԱՏԱՐՎՈՂ ՓՈՓՈԽՈՒԹՅՈՒՆՆԵՐԸ
B6: հազար դրամ
B7: Պետական բյուջեի դեֆիցիտի ֆինանսավորման աղբյուրներն ու դրանց տարրերի անվանումները | C7: Ցուցանիշների փոփոխությունները (ավելացումը նշված է դրական նշանով)
C8: Ինն ամիս | D8: Տարի
B9: ԸՆԴԱՄԵՆԸ | C9: =+C11 -> 5000000 | D9: =+D11 -> 0
B10: այդ թվում՝
B11: Ա.Ներքին աղբյուրներ-ընդամենը | C11: =+C13 -> 5000000 | D11: =+D13 -> 0
B12: այդ թվում՝
B13: 2. Ֆինանսական զուտ ակտիվներ | C13: =+C15 -> 5000000 | D13: =+D15 -> 0
B14: այդ թվում՝
B15: 2.6.Այլ | C15: =+C16 -> 5000000 | D15: =+D16 -> 0
B16: ժամանակավորապես ազատ միջոցներ | C16: 5000000 | D16: 0

Sheet 2
B1: Հավելված № 2
B2: ՀՀ կառավարության 2024 թվականի
B3: __________ «____» -ի
B4: № ----------Ն որոշման
B5: «ՀԱՅԱՍՏԱՆԻ ՀԱՆՐԱՊԵՏՈՒԹՅԱՆ 2024 ԹՎԱԿԱՆԻ ՊԵՏԱԿԱՆ ԲՅՈՒՋԵԻ ՄԱՍԻՆ» ՀԱՅԱՍՏԱՆԻ ՀԱՆՐԱՊԵՏՈՒԹՅԱՆ ՕՐԵՆՔԻ N 1 ՀԱՎԵԼՎԱԾԻ N 2 ԱՂՅՈՒՍԱԿՈՒՄ ԿԱՏԱՐՎՈՂ ՎԵՐԱԲԱՇԽՈՒՄԸ ԵՎ ՀԱՅԱՍՏԱՆԻ ՀԱՆՐԱՊԵՏՈՒԹՅԱՆ ԿԱՌԱՎԱՐՈՒԹՅԱՆ 2023 ԹՎԱԿԱՆԻ ԴԵԿՏԵՄԲԵՐԻ 28-Ի № 2323-Ն ՈՐՈՇՄԱՆ № 5 ՀԱՎԵԼՎԱԾԻ № 1 ԱՂՅՈՒՍԱԿՈՒՄ ԿԱՏԱՐՎՈՂ ՓՈՓՈԽՈՒԹՅՈՒՆՆԵՐԸ
B6: հազար դրամ
B7: Ծրագրային դասիչը | D7: Բյուջետային հատկացումների գլխավոր կարգադրիչների, ծրագրերի և միջոցառումների անվանումները | E7: Ցուցանիշների փոփոխությունները (ավելացումը նշված է դրական նշանով, իսկ նվազեցումը` փակագծերում)
B8: Ծրագիր | C8: Միջոցառում | E8: Ինն ամիս | F8: Տարի
D9: ԸՆԴԱՄԵՆԸ | E9: =+E10 -> 5000000 | F9: =+F10 -> 0
D10: ՀՀ առողջապահության նախարարություն | E10: =+E30+E61+E98+E117 -> 5000000 | F10: =+F30+F61+F98+F117 -> 0
B11: 1099 | D11: Ծրագրի անվանումը` | E11: =+E18+E24 -> 0 | F11: =+F18+F24 -> 0
D12: Առողջության առաջնային պահպանում
D13: Ծրագրի նպատակը`
D14: Բնակչությանը մատչելի և որակյալ առաջնային բժշկական օգնության և սպասարկման տրամադրում, առողջության վատթարացման ռիսկի գործոնների վերհանում և դրանց հնարավոր անբարենպաստ ազդեցության կանխարգելում
D15: Վերջնական արդյունքի նկարագրությունը`
D16: Առողջության առաջնային պահպանման օղակում ցուցաբերվող բժշկական օգնության որակի, հիվանդությունների վաղ հայտնաբերման և կանխարգելման մակարդակի բարելավում, առողջապահական ծառայությունների վերաբերյալ իրազեկվածության և դրանց նկատմամբ պահանջարկի ավելացում
B17: Ծրագրի միջոցառումներ
C18: 11001 | D18: Միջոցառման անվանումը` | E18: -200000 | F18: =+E18 -> -200000
D19: Ըստ փաստացի կատարողականի փոխհատուցվող ամբուլատոր-պոլիկլինիկական բժշկական օգնության ծառայություններ
D20: Միջոցառման նկարագրությունը`
D21: Հիվանդությունների կանխարգելում, հայտնաբերում, բուժում, նեղ մասնագիտացված ամբուլատոր ծառայություններ, լաբորատոր-գործիքային հետազոտություններ, զորակոչային և նախազորակոչային տարիքի անձանց բուժման և փորձաքննության ամբուլատոր ծառայություններ
D22: Միջոցառման տեսակը
D23: Ծառայությունների մատուցում
C24: 12001 | D24: Միջոցառման անվանումը` | E24: 200000 | F24: =+E24 -> 200000
D25: Ըստ մարդաշնչի փոխհատուցվող ամբուլատոր-պոլիկլինիկական բժշկական օգնության ծառայություններ
D26: Միջոցառման նկարագրությունը`
D27: Հիվանդությունների կանխարգելում, հայտնաբերում, բուժում, նեղ մասնագիտացված ամբուլատոր ծառայություններ, լաբորատոր-գործիքային հետազոտություններ, զորակոչային և նախազորակոչային տարիքի անձանց բուժման և փորձաքննության ամբուլատոր ծառայություններ
D28: Միջոցառման տեսակը
D29: Տրանսֆերտի տրամադրում
B30: 1200 | D30: Ծրագրի անվանումը` | E30: =+E37+E43+E49+E55 -> 318985.4 | F30: =+F37+F43+F49+F55 -> 318985.4
D31: Մոր և մանկան առողջության պահպանում
D32: Ծրագրի նպատակը`
D33: Մոր և մանկան առողջության պահպանում, կանանց և երեխաներին մատուցվող բժշկական ծառայությունների մատչելիության և որակի բարելավում
D34: Վերջնական արդյունքի նկարագրությունը`
D35: Մանկական և մայրական մահացության և հիվանդացության կրճատում, կանանց վերարտադրողական առողջության բարելավում
B36: Ծրագրի միջոցառումներ
C37: 11003 | D37: Միջոցառման անվանումը` | E37: =+F37 -> 718617.5 | F37: 718617.5
D38: Երեխաներին բժշկական օգնության ծառայություններ
D39: Միջոցառման նկարագրությունը`
D40: Երեխաների (0-18 տարեկան երեխաներին) հիվանդանոցային բժշկական օգնության իրականացում (հետազոտում, ախտորոշում, բուժում)
D41: Միջոցառման տեսակը
D42: Ծառայությունների մատուցում
C43: 11004 | D43: Միջոցառման անվանումը` | E43: =+F43 -> 55124.6 | F43: 55124.6
D44: Մտավոր, հոգեկան (վարքագծային), լսողական, ֆիզիկական (շարժողական) և զարգացման այլ խանգարումներով երեխաների գնահատման և վերականգնողական բուժման ծառայություններ
D45: Միջոցառման նկարագրությունը`
D46: Մտավոր, հոգեկան (վարքագծային), լսողական, ֆիզիկական (շարժողական) և զարգացման այլ խանգարումներով երեխաների առողջական վիճակի գնահատումը և վերականգնողական ամբուլատոր բուժման կազմակերպումը
D47: Միջոցառման տեսակը
D48: Ծառայությունների մատուցում
C49: 11006 | D49: Միջոցառման անվանումը` | E49: -500000 | F49: =+E49 -> -500000
D50: Անպտուղ զույգերի համար վերարտադրողական օժանդակ տեխնոլոգիաների կիրառմամբ բժշկական օգնության ծառայություններ
D51: Միջոցառման նկարագրությունը`
D52: Բնակչության առանձին և հատուկ խմբերում ընդգրկված անպտուղ զույգերին վերարտադրողական օժանդակ տեխնոլոգիաների կիրառմամբ բժշկական օգնության տրամադրում
D53: Միջոցառման տեսակը
D54: Ծառայությունների մատուցում
C55: 11007 | D55: Միջոցառման անվանումը` | E55: =+F55 -> 45243.3 | F55: 45243.3
D56: Բնածին հիպոթիրեոզի, ֆենիլկենտոնուրիայի, լսողության և տեսողության (անհասների ռետինոպաթիա) խանգարումների, կոնքազդրային հոդի խախտման վաղ հայտնաբերման նպատակով նորածնային սքրինգների անցկացում
D57: Միջոցառման նկարագրությունը`
D58: Նորածնային սքրինինգներ իրականացում (բնածին հիպոթիրեոզի, ֆենիլկետոնուրիայի, լսողության, տեսողության և կոնքազդրային հոդի)
D59: Միջոցառման տեսակը
D60: Ծառայությունների մատուցում
B61: 1202 | D61: Ծրագրի անվանումը` | E61: =+E68+E74+E80+E86+E92 -> 1536400.7 | F61: =+F68+F74+F80+F86+F92 -> -3463599.3
D62: Ոչ վարակիչ հիվանդությունների բժշկական օգնության ապահովում
D63: Ծրագրի նպատակը`
D64: Ոչ վարակիչ հիվանդությունների (մասնավորապես՛ սիրտանոթային, շաքարային դիաբետի և չարորակ նորագոյացությունների) բուժման արդյունավետության բարձրացում
D65: Վերջնական արդյունքի նկարագրությունը`
D66: Ոչ վարակիչ հիվանդություններով պայմանավորված հիվանդացության և մահացության նվազեցում
B67: Ծրագրի միջոցառումներ
C68: 11001 | D68: Միջոցառման անվանումը` | E68: =+F68 -> 239372.6 | F68: 239372.6
D69: Հեմոդիալիզի և պերիտոնիալ դիալիզի անցկացման ծառայություններ
D70: Միջոցառման նկարագրությունը`
D71: Հեմոդիալիզի կարիք ունեցող հիվանդների բժշկական օգնության համալիր միջոցառումների իրականացում
D72: Միջոցառման տեսակը
D73: Ծառայությունների մատուցում
C74: 11002 | D74: Միջոցառման անվանումը` | E74: =+F74 -> 329371.7 | F74: 329371.7
D75: Անհետաձգելի բժշկական օգնության ծառայություններ
D76: Միջոցառման նկարագրությունը`
D77: Անհետաձգելի բժշկական օգնության իրականացում` ՀՀ առողջապահության նախարարի կողմից հաստատված հիվանդությունների, վիճակների ցանկի համաձայն
D78: Միջոցառման տեսակը
D79: Ծառայությունների մատուցում
C80: 11004 | D80: Միջոցառման անվանումը` | E80: 717505.17 | F80: 717505.17
D81: Ուռուցքաբանական և արյունաբանական հիվանդությունների բժշկական օգնության ծառայություններ
D82: Միջոցառման նկարագրությունը`
D83: Ուռուցքաբանական և արյունաբանական հիվանդների բուժում և շարունակական հսկողության համալիր միջոցառումների իրականացում
D84: Միջոցառման տեսակը
D85: Ծառայությունների մատուցում
C86: 11005 | D86: Միջոցառման անվանումը` | E86: =+F86 -> 250151.2 | F86: 250151.2
D87: Սրտի անհետաձգելի վիրահատություններ
D88: Միջոցառման նկարագրությունը`
D89: Սրտի անհետաձգելի վիրահատության կարիք ունեցող հիվանդների բժշկական օգնության իրականացում` ՀՀ առողջապահության նախարարի հրամանով սահմանված կարգով
D90: Միջոցառման տեսակը
D91: Ծառայությունների մատուցում
C92: 11006 | D92: Միջոցառման անվանումը` | E92: 0 | F92: -5000000
D93: Առողջության համապարփակ ապահովագրությանն (ԱՀԱ) ուղղված միջոցառումներ
D94: Միջոցառման նկարագրությունը`
D95: ԱՀԱ համակարգի ներդրման նպատակով միջազգային կառույցների կողմից «Համընդհանուր առողջապահական ծածկույթի աջակցման ծրագրի» համար տրվող աջակցության շրջանակներում սահմանված արդյունքերի (DLI-ների) ապահովման դիմաց կատարվող հատկացումներ
D96: Միջոցառման տեսակը
D97: Ծառայությունների մատուցում
B98: 1207 | D98: Ծրագրի անվանումը` | E98: =+E105+E111 -> 2534280.3 | F98: =+F105+F111 -> 2534280.3
D99: Սոցիալապես անապահով և առանձին խմբերի անձանց բժշկական օգնություն
D100: Ծրագրի նպատակը`
...

Sheet 3
B1: Հավելված № 3
B2: ՀՀ կառավարության 2024 թվականի
B3: __________ «____» -ի
B4: № ------------ -Ն որոշման
B5: ՀԱՅԱՍՏԱՆԻ ՀԱՆՐԱՊԵՏՈՒԹՅԱՆ ԿԱՌԱՎԱՐՈՒԹՅԱՆ 2023 ԹՎԱԿԱՆԻ ԴԵԿՏԵՄԲԵՐԻ 28-Ի № 2323-Ն ՈՐՈՇՄԱՆ NN 3 և 4 ՀԱՎԵԼՎԱԾՆԵՐՈՒՄ ԿԱՏԱՐՎՈՂ ՓՈՓՈԽՈՒԹՅՈՒՆՆԵՐԸ
B6: հազար դրամ
B7: Գործառական դասիչը | E7: Ծրագրային դասիչը | G7: Բյուջետային հատկացումների գլխավոր կարգադրիչների, ծրագրերի, միջոցառումների և միջոցառումները կատարող պետական մարմինների անվանումները | H7: Ցուցանիշների փոփոխությունները (ավելացումը նշված է դրական նշանով, իսկ նվազեցումը` փակագծերում)
B8: բաժին | C8: խումբ | D8: դաս | E8: Ծրագիր | F8: Միջոցառում | H8: Ինն ամիս | I8: Տարի
B9: ԸՆԴԱՄԵՆԸ | H9: =+H10 -> 5000000 | I9: =+I10 -> 0
B10: 07 | G10: ԱՌՈՂՋԱՊԱՀՈՒԹՅՈՒՆ | H10: =+H12+H99 -> 5000000 | I10: =+I12+I99 -> 0
G11: այդ թվում՝
C12: 02 | G12: Արտահիվանդանոցային ծառայություններ | H12: =+H14+H38+H84 -> 696639.8 | I12: =+I14+I38+I84 -> 696639.8
G13: այդ թվում՝
D14: 01 | G14: Ընդհանուր բնույթի բժշկական ծառայություններ | H14: =+H18 -> 0 | I14: =+I18 -> 0
G15: այդ թվում`
G16: ՀՀ առողջապահության նախարարություն | H16: =+H18 -> 0 | I16: =+I18 -> 0
G17: այդ թվում՝
E18: 1099 | G18: Առողջության առաջնային պահպանում | H18: =H20+H29 -> 0 | I18: =I20+I29 -> 0
G19: այդ թվում`
F20: 11001 | G20: Ըստ փաստացի կատարողականի փոխհատուցվող ամբուլատոր-պոլիկլինիկական բժշկական օգնության ծառայություններ | H20: =+H22 -> -200000 | I20: =+I22 -> 0
G21: այդ թվում` ըստ կատարողների
G22: ՀՀ առողջապահության նախարարություն | H22: =+H24 -> -200000 | I22: =+I24 -> 0
G23: այդ թվում` բյուջետային ծախսերի տնտեսագիտական դասակարգման հոդվածներ
G24: ԸՆԴԱՄԵՆԸ ԾԱԽՍԵՐ | H24: =+H25 -> -200000 | I24: =+I25 -> 0
G25: ԸՆԹԱՑԻԿ ԾԱԽՍԵՐ | H25: =H26 -> -200000 | I25: =I26 -> 0
G26: ՍՈՑԻԱԼԱԿԱՆ ՆՊԱՍՏՆԵՐ ԵՎ ԿԵՆՍԱԹՈՇԱԿՆԵՐ | H26: =+H28 -> -200000 | I26: =+I28 -> 0
G27: Սոցիալական օգնության դրամական արտահայտությամբ նպաստներ (բյուջեից)
G28: - Այլ նպաստներ բյուջեից | H28: =+'[1]5'!E18 -> -200000
F29: 12001 | G29: Ըստ մարդաշնչի փոխհատուցվող ամբուլատոր-պոլիկլինիկական բժշկական օգնության ծառայություններ | H29: =+H31 -> 200000 | I29: =+I31 -> 0
G30: այդ թվում` ըստ կատարողների
G31: ՀՀ առողջապահության նախարարություն | H31: =+H33 -> 200000 | I31: =+I33 -> 0
G32: այդ թվում` բյուջետային ծախսերի տնտեսագիտական դասակարգման հոդվածներ
G33: ԸՆԴԱՄԵՆԸ ԾԱԽՍԵՐ | H33: =+H34 -> 200000 | I33: =+I34 -> 0
G34: ԸՆԹԱՑԻԿ ԾԱԽՍԵՐ | H34: =H35 -> 200000 | I34: =I35 -> 0
G35: ՍՈՑԻԱԼԱԿԱՆ ՆՊԱՍՏՆԵՐ ԵՎ ԿԵՆՍԱԹՈՇԱԿՆԵՐ | H35: =+H37 -> 200000 | I35: =+I37 -> 0
G36: Սոցիալական օգնության դրամական արտահայտությամբ նպաստներ (բյուջեից)
G37: - Այլ նպաստներ բյուջեից | H37: =+'[1]5'!E24 -> 200000
D38: 02 | G38: Մասնագիտացված բժշկական ծառայություններ | H38: =+H42+H62+H73 -> 601352.4 | I38: =+I42+I62+I73 -> 601352.4
G39: այդ թվում՝
G40: ՀՀ առողջապահության նախարարություն | H40: =+H42+H62+H73 -> 601352.4 | I40: =+I42+I62+I73 -> 601352.4
G41: այդ թվում՝
E42: 1200 | G42: Մոր և մանկան առողջության պահպանում | H42: =+H44+H53 -> 100367.9 | I42: =+I44+I53 -> 100367.9
G43: այդ թվում`
F44: 11004 | G44: Մտավոր, հոգեկան (վարքագծային), լսողական, ֆիզիկական (շարժողական) և զարգացման այլ խանգարումներով երեխաների գնահատման և վերականգնողական բուժման ծառայություններ | H44: =+H46 -> 55124.6 | I44: =+I46 -> 55124.6
G45: այդ թվում` ըստ կատարողների
G46: ՀՀ առողջապահության նախարարություն | H46: =+H48 -> 55124.6 | I46: =+I48 -> 55124.6
G47: այդ թվում` բյուջետային ծախսերի տնտեսագիտական դասակարգման հոդվածներ
G48: ԸՆԴԱՄԵՆԸ ԾԱԽՍԵՐ | H48: =+H49 -> 55124.6 | I48: =+I49 -> 55124.6
G49: ԸՆԹԱՑԻԿ ԾԱԽՍԵՐ | H49: =H50 -> 55124.6 | I49: =I50 -> 55124.6
G50: ՍՈՑԻԱԼԱԿԱՆ ՆՊԱՍՏՆԵՐ ԵՎ ԿԵՆՍԱԹՈՇԱԿՆԵՐ | H50: =+H52 -> 55124.6 | I50: =+I52 -> 55124.6
G51: Սոցիալական օգնության դրամական արտահայտությամբ նպաստներ (բյուջեից)
G52: - Այլ նպաստներ բյուջեից | H52: =+'2'!E43 -> 55124.6 | I52: =+'2'!F43 -> 55124.6
F53: 11007 | G53: Բնածին հիպոթիրեոզի, ֆենիլկենտոնուրիայի, լսողության և տեսողության (անհասների ռետինոպաթիա) խանգարումների, կոնքազդրային հոդի խախտման վաղ հայտնաբերման նպատակով նորածնային սքրինգների անցկացում | H53: =+H55 -> 45243.3 | I53: =+I55 -> 45243.3
G54: այդ թվում` ըստ կատարողների
G55: ՀՀ առողջապահության նախարարություն | H55: =+H57 -> 45243.3 | I55: =+I57 -> 45243.3
G56: այդ թվում` բյուջետային ծախսերի տնտեսագիտական դասակարգման հոդվածներ
G57: ԸՆԴԱՄԵՆԸ ԾԱԽՍԵՐ | H57: =+H58 -> 45243.3 | I57: =+I58 -> 45243.3
G58: ԸՆԹԱՑԻԿ ԾԱԽՍԵՐ | H58: =H59 -> 45243.3 | I58: =I59 -> 45243.3
G59: ՍՈՑԻԱԼԱԿԱՆ ՆՊԱՍՏՆԵՐ ԵՎ ԿԵՆՍԱԹՈՇԱԿՆԵՐ | H59: =+H61 -> 45243.3 | I59: =+I61 -> 45243.3
G60: Սոցիալական օգնության դրամական արտահայտությամբ նպաստներ (բյուջեից)
G61: - Այլ նպաստներ բյուջեից | H61: =+'2'!E55 -> 45243.3 | I61: =+'2'!F55 -> 45243.3
E62: 1202 | G62: Ոչ վարակիչ հիվանդությունների բժշկական օգնության ապահովում | H62: =+H64 -> 239372.6 | I62: =+I64 -> 239372.6
G63: այդ թվում`
F64: 11001 | G64: Հեմոդիալիզի և պերիտոնիալ դիալիզի անցկացման ծառայություններ | H64: =+H66 -> 239372.6 | I64: =+I66 -> 239372.6
G65: այդ թվում` ըստ կատարողների
G66: ՀՀ առողջապահության նախարարություն | H66: =+H68 -> 239372.6 | I66: =+I68 -> 239372.6
G67: այդ թվում` բյուջետային ծախսերի տնտեսագիտական դասակարգման հոդվածներ
G68: ԸՆԴԱՄԵՆԸ ԾԱԽՍԵՐ | H68: =+H69 -> 239372.6 | I68: =+I69 -> 239372.6
G69: ԸՆԹԱՑԻԿ ԾԱԽՍԵՐ | H69: =H70 -> 239372.6 | I69: =I70 -> 239372.6
G70: ՍՈՑԻԱԼԱԿԱՆ ՆՊԱՍՏՆԵՐ ԵՎ ԿԵՆՍԱԹՈՇԱԿՆԵՐ | H70: =+H72 -> 239372.6 | I70: =+I72 -> 239372.6
G71: Սոցիալական օգնության դրամական արտահայտությամբ նպաստներ (բյուջեից)
G72: - Այլ նպաստներ բյուջեից | H72: =+'2'!E68 -> 239372.6 | I72: =+'2'!F68 -> 239372.6
E73: 1208 | G73: Վարակիչ հիվանդությունների կանխարգելման ծրագիր | H73: =+H75 -> 261611.9 | I73: =+I75 -> 261611.9
G74: այդ թվում`
F75: 11001 | G75: ՄԻԱՎ/ՁԻԱՀ-ի կանխարգելման և բուժօգնության ծառայություններ | H75: =+H77 -> 261611.9 | I75: =+I77 -> 261611.9
G76: այդ թվում` ըստ կատարողների
G77: ՀՀ առողջապահության նախարարություն | H77: =+H79 -> 261611.9 | I77: =+I79 -> 261611.9
G78: այդ թվում` բյուջետային ծախսերի տնտեսագիտական դասակարգման հոդվածներ
G79: ԸՆԴԱՄԵՆԸ ԾԱԽՍԵՐ | H79: =+H80 -> 261611.9 | I79: =+I80 -> 261611.9
G80: ԸՆԹԱՑԻԿ ԾԱԽՍԵՐ | H80: =H81 -> 261611.9 | I80: =I81 -> 261611.9
G81: ՍՈՑԻԱԼԱԿԱՆ ՆՊԱՍՏՆԵՐ ԵՎ ԿԵՆՍԱԹՈՇԱԿՆԵՐ | H81: =+H83 -> 261611.9 | I81: =+I83 -> 261611.9
G82: Սոցիալական օգնության դրամական արտահայտությամբ նպաստներ (բյուջեից)
G83: - Այլ նպաստներ բյուջեից | H83: =+'2'!E124 -> 261611.9 | I83: =+'2'!F124 -> 261611.9
D84: 03 | G84: Ստոմատոլոգիական ծառայություններ | H84: =+H88 -> 95287.4 | I84: =+I88 -> 95287.4
G85: այդ թվում`
G86: ՀՀ առողջապահության նախարարություն | H86: =+H88 -> 95287.4 | I86: =+I88 -> 95287.4
G87: այդ թվում՝
E88: 1207 | G88: Սոցիալապես անապահով և առանձին խմբերի անձանց բժշկական օգնություն | H88: =+H90 -> 95287.4 | I88: =+I90 -> 95287.4
G89: այդ թվում`
F90: 11002 | G90: Ստոմատոլոգիական բժշկական օգնության ծառայություններ | H90: =+H92 -> 95287.4 | I90: =+I92 -> 95287.4
G91: այդ թվում` ըստ կատարողների
G92: ՀՀ առողջապահության նախարարություն | H92: =+H94 -> 95287.4 | I92: =+I94 -> 95287.4
G93: այդ թվում` բյուջետային ծախսերի տնտեսագիտական դասակարգման հոդվածներ
G94: ԸՆԴԱՄԵՆԸ ԾԱԽՍԵՐ | H94: =+H95 -> 95287.4 | I94: =+I95 -> 95287.4
G95: ԸՆԹԱՑԻԿ ԾԱԽՍԵՐ | H95: =H96 -> 95287.4 | I95: =I96 -> 95287.4
G96: ՍՈՑԻԱԼԱԿԱՆ ՆՊԱՍՏՆԵՐ ԵՎ ԿԵՆՍԱԹՈՇԱԿՆԵՐ | H96: =+H98 -> 95287.4 | I96: =+I98 -> 95287.4
G97: Սոցիալական օգնության դրամական արտահայտությամբ նպաստներ (բյուջեից)
G98: - Այլ նպաստներ բյուջեից | H98: =+'2'!E111 -> 95287.4 | I98: =+'2'!F111 -> 95287.4
C99: 03 | G99: Հիվանդանոցային ծառայություններ | H99: =+H101+H145+H171 -> 4303360.2 | I99: =+I101+I145+I171 -> -696639.8
G100: այդ թվում՝
...

Sheet 4
B1: Հավելված № 4
B2: ՀՀ կառավարության 2024 թվականի
B3: __________ «____» -ի
B4: № ------------ -Ն որոշման
B5: ՀՀ Առողջապահության նախարարություն
B6: ՀԱՅԱՍՏԱՆԻ ՀԱՆՐԱՊԵՏՈՒԹՅԱՆ ԿԱՌԱՎԱՐՈՒԹՅԱՆ 2023 ԹՎԱԿԱՆԻ ԴԵԿՏԵՄԲԵՐԻ 28-Ի N 2323-Ն ՈՐՈՇՄԱՆ N 9 ՀԱՎԵԼՎԱԾԻ 9.8 ԱՂՅՈՒՍԱԿՈՒՄ ԿԱՏԱՐՎՈՂ ՓՈՓՈԽՈՒԹՅՈՒՆՆԵՐԸ
B7: ՄԱՍ 2. ՊԵՏԱԿԱՆ ՄԱՐՄՆԻ ԳԾՈՎ ԱՐԴՅՈՒՆՔԱՅԻՆ (ԿԱՏԱՐՈՂԱԿԱՆ) ՑՈՒՑԱՆԻՇՆԵՐԸ
B8: Ծրագրի դասիչը | C8: Ծրագրի անվանումը
B9: 1099 | C9: Առողջության առաջնային պահպանում
B10: Ծրագրի միջոցառումները
B11: Ծրագրի դասիչը` | C11: 1099 | D11: Ցուցանիշների փոփոխությունները (նվազեցումները նշված են փակագծերում)
B12: Միջոցառման դասիչը` | C12: 11001 | D12: Ինն ամիս | E12: Տարի
B13: Միջոցառման անվանումը` | C13: Ըստ փաստացի կատարողականի փոխհատուցվող ամբուլատոր-պոլիկլինիկական բժշկական օգնության ծառայություններ
B14: Նկարագրությունը` | C14: Հիվանդությունների կանխարգելում, հայտնաբերում, բուժում, նեղ մասնագիտացված ամբուլատոր ծառայություններ, լաբորատոր-գործիքային հետազոտություններ, զորակոչային և նախազորակոչային տարիքի անձանց բուժման և փորձաքննության ամբուլատոր ծառայություններ
B15: Միջոցառման տեսակը` | C15: Ծառայությունների մատուցում
B16: Ակտիվն օգտագործող կազմակերպության (ների) անվանում(ներ)ը | C16: ՀՀ գնումների մասին օրենսդրությանը համապատասխան ընտրված կազմակերպություններ
B17: Արդյունքի չափորոշիչներ
B18: Միջոցառման վրա կատարվող ծախսը (հազար դրամ) | D18: =+'3'!H28 -> -200000 | E18: =+'3'!I28 -> 0
B20: Ծրագրի դասիչը | C20: Ծրագրի անվանումը
B21: 1099 | C21: Առողջության առաջնային պահպանում
B22: Ծրագրի միջոցառումները
B23: Ծրագրի դասիչը` | C23: 1099 | D23: Ցուցանիշների փոփոխությունները (ավելացումները նշված են դրական նշանով)
B24: Միջոցառման դասիչը` | C24: 12001 | D24: Ինն ամիս | E24: Տարի
B25: Միջոցառման անվանումը` | C25: Ըստ մարդաշնչի փոխհատուցվող ամբուլատոր-պոլիկլինիկական բժշկական օգնության ծառայություններ
B26: Նկարագրությունը` | C26: Հիվանդությունների կանխարգելում, հայտնաբերում, բուժում, նեղ մասնագիտացված ամբուլատոր ծառայություններ, լաբորատոր-գործիքային հետազոտություններ, զորակոչային և նախազորակոչային տարիքի անձանց բուժման և փորձաքննության ամբուլատոր ծառայություններ
B27: Միջոցառման տեսակը` | C27: Տրանսֆերտների տրամադրում
B28: Ակտիվն օգտագործող կազմակերպության (ների) անվանում(ներ)ը | C28: Առողջության առաջնային պահպանման ծառայություններից պետության կողմից երաշխավորված անվճար և արտոնյալ պայմաններով բժշկական օգնության և պասարկման իրավունք ունեցող ՀՀ յուրաքանչյուր քաղաքացի
B29: Արդյունքի չափորոշիչներ
B30: Միջոցառման վրա կատարվող ծախսը (հազար դրամ) | D30: =+'3'!H37 -> 200000 | E30: =+'3'!I37 -> 0
B32: Ծրագրի դասիչը` | C32: 1200 | D32: Ցուցանիշների փոփոխությունները (ավելացումները նշված են դրական նշանով)
B33: Միջոցառման դասիչը` | C33: 11003 | D33: Ինն ամիս | E33: Տարի
B34: Միջոցառման անվանումը` | C34: Երեխաներին բժշկական օգնության ծառայություններ
B35: Նկարագրությունը` | C35: Երեխաների (0-18 տարեկան երեխաներին) հիվանդանոցային բժշկական օգնության իրականացում (հետազոտում, ախտորոշում, բուժում)
B36: Միջոցառման տեսակը` | C36: Ծառայությունների մատուցում
B37: Ակտիվն օգտագործող կազմակերպության (ների) անվանում(ներ)ը | C37: ՀՀ գնումների մասին օրենսդրությանը համապատասխան ընտրված կազմակերպություններ
B38: Արդյունքի չափորոշիչներ
B39: Երեխաների բժշկական օգնության գծով ծառայություններից օգտվելու դեպքերի թիվ, հատ | E39: 6271
B40: Միջոցառման վրա կատարվող ծախսը (հազար դրամ) | D40: =+'2'!E37 -> 718617.5 | E40: =+'2'!F37 -> 718617.5
B42: Ծրագրի դասիչը` | C42: 1200 | D42: Ցուցանիշների փոփոխությունները (ավելացումները նշված են դրական նշանով)
B43: Միջոցառման դասիչը` | C43: 11004 | D43: Ինն ամիս | E43: Տարի
B44: Միջոցառման անվանումը` | C44: Մտավոր, հոգեկան (վարքագծային), լսողական, ֆիզիկական (շարժողական) և զարգացման այլ խանգարումներով երեխաների գնահատման և վերականգնողական բուժման ծառայություններ
B45: Նկարագրությունը` | C45: Մտավոր, հոգեկան (վարքագծային), լսողական, ֆիզիկական (շարժողական) և զարգացման այլ խանգարումներով երեխաների առողջական վիճակի գնահատումը և վերականգնողական ամբուլատոր բուժման կազմակերպումը
B46: Միջոցառման տեսակը` | C46: Ծառայությունների մատուցում
B47: Միջոցառումն իրականացնողի անվանումը | C47: ՀՀ գնումների մասին օրենսդրությանը համապատասխան ընտրված կազմակերպություններ
B48: Արդյունքի չափորոշիչներ
B49: Մտավոր, հոգեկան (վարքագծային), լսողական, ֆիզիկական (շարժողական) և զարգացման այլ խանգարումներով երեխաների վերականգնողական բուժման գծով ծառայություններից օգտվելու դեպքերի թիվ, հատ | E49: 11729
B50: Միջոցառման վրա կատարվող ծախսը (հազար դրամ) | D50: =++'2'!E43 -> 55124.6 | E50: =++'2'!F43 -> 55124.6
B52: Ծրագրի դասիչը` | C52: 1200 | D52: Ցուցանիշների փոփոխությունները (նվազեցումները նշված են փակագծերում)
B53: Միջոցառման դասիչը` | C53: 11006 | D53: Ինն ամիս | E53: Տարի
B54: Միջոցառման անվանումը` | C54: Անպտուղ զույգերի համար վերարտադրողական օժանդակ տեխնոլոգիաների կիրառմամբ բժշկական օգնության ծառայություններ
B55: Նկարագրությունը` | C55: Բնակչության առանձին և հատուկ խմբերում ընդգրկված անպտուղ զույգերին վերարտադրողական օժանդակ տեխնոլոգիաների կիրառմամբ բժշկական օգնության տրամադրում
B56: Միջոցառման տեսակը` | C56: Ծառայությունների մատուցում
B57: Միջոցառումն իրականացնողի անվանումը | C57: ՀՀ գնումների մասին օրենսդրությանը համապատասխան ընտրված կազմակերպություններ
B58: Արդյունքի չափորոշիչներ
B59: Միջոցառման վրա կատարվող ծախսը (հազար դրամ) | D59: =+'2'!E49 -> -500000 | E59: =+'2'!F49 -> -500000
B61: Ծրագրի դասիչը` | C61: 1200 | D61: Ցուցանիշների փոփոխությունները (ավելացումները նշված են դրական նշանով)
B62: Միջոցառման դասիչը` | C62: 11007 | D62: Ինն ամիս | E62: Տարի
B63: Միջոցառման անվանումը` | C63: Բնածին հիպոթիրեոզի, ֆենիլկենտոնուրիայի, լսողության և տեսողության (անհասների ռետինոպաթիա) խանգարումների, կոնքազդրային հոդի խախտման վաղ հայտնաբերման նպատակով նորածնային սքրինգների անցկացում
B64: Նկարագրությունը` | C64: Նորածնային սքրինինգներ իրականացում (բնածին հիպոթիրեոզի, ֆենիլկետոնուրիայի, լսողության, տեսողության և կոնքազդրային հոդի)
B65: Միջոցառման տեսակը` | C65: Ծառայությունների մատուցում
B66: Միջոցառումն իրականացնողի անվանումը | C66: ՀՀ գնումների մասին օրենսդրությանը համապատասխան ընտրված կազմակերպություններ
B67: Արդյունքի չափորոշիչներ
B68: Հետազոտությունների քանակ, հատ | E68: 7047
B69: Միջոցառման վրա կատարվող ծախսը (հազար դրամ) | D69: =+'2'!E55 -> 45243.3 | E69: =+'2'!F55 -> 45243.3
B71: Ծրագրի դասիչը | C71: Ծրագրի անվանումը
B72: 1202 | C72: Ոչ վարակիչ հիվանդությունների բժշկական օգնության ապահովում
B73: Ծրագրի միջոցառումները
B74: Ծրագրի դասիչը` | C74: 1202 | D74: Ցուցանիշների փոփոխությունները (ավելացումները նշված են դրական նշանով)
B75: Միջոցառման դասիչը` | C75: 11001 | D75: Ինն ամիս | E75: Տարի
B76: Միջոցառման անվանումը` | C76: Հեմոդիալիզի և պերիտոնիալ դիալիզի անցկացման ծառայություններ
B77: Նկարագրությունը` | C77: Հեմոդիալիզի կարիք ունեցող հիվանդների բժշկական օգնության համալիր միջոցառումների իրականացում
B78: Միջոցառման տեսակը` | C78: Ծառայությունների մատուցում
B79: Միջոցառումն իրականացնողի անվանումը | C79: ՀՀ գնումների մասին օրենսդրությանը համապատասխան ընտրված կազմակերպություններ
B80: Արդյունքի չափորոշիչներ
B81: Հեմոդիալիզի սեանսների թիվ, հատ | E81: 10881
B82: Միջոցառման վրա կատարվող ծախսը (հազար դրամ) | D82: =+'2'!E68 -> 239372.6 | E82: =+'2'!F68 -> 239372.6
B84: Ծրագրի դասիչը` | C84: 1202 | D84: Ցուցանիշների փոփոխությունները (ավելացումները նշված են դրական նշանով)
B85: Միջոցառման դասիչը` | C85: 11002 | D85: Ինն ամիս | E85: Տարի
B86: Միջոցառման անվանումը` | C86: Անհետաձգելի բժշկական օգնության ծառայություններ
B87: Նկարագրությունը` | C87: Անհետաձգելի բժշկական օգնության իրականացում` ՀՀ առողջապահության նախարարի կողմից հաստատված հիվանդությունների, վիճակների ցանկի համաձայն
B88: Միջոցառման տեսակը` | C88: Ծառայությունների մատուցում
B89: Միջոցառումն իրականացնողի անվանումը | C89: ՀՀ գնումների մասին օրենսդրությանը համապատասխան ընտրված կազմակերպություններ
B90: Արդյունքի չափորոշիչներ
B91: Անհետաձգելի բժշկական օգնության ծառայություններից օգտվելու դեպքերի թիվ, հատ | E91: 1587
B92: Հիվանդանոցային պայմաններում արտահիվանդանոցային բժշկական օգնություն (emergency) | E92: 2000
B93: Միջոցառման վրա կատարվող ծախսը (հազար դրամ) | D93: =+'2'!E74 -> 329371.7 | E93: =+'2'!F74 -> 329371.7
B95: Ծրագրի դասիչը` | C95: 1202 | D95: Ցուցանիշների փոփոխությունները (ավելացումները նշված են դրական նշանով)
B96: Միջոցառման դասիչը` | C96: 11004 | D96: Ինն ամիս | E96: Տարի
B97: Միջոցառման անվանումը` | C97: Ուռուցքաբանական և արյունաբանական հիվանդությունների բժշկական օգնության ծառայություններ
B98: Նկարագրությունը` | C98: Ուռուցքաբանական և արյունաբանական հիվանդների բուժում և շարունակական հսկողության համալիր միջոցառումների իրականացում
B99: Միջոցառման տեսակը` | C99: Ծառայությունների մատուցում
B100: Միջոցառումն իրականացնողի անվանումը | C100: ՀՀ գնումների մասին օրենսդրությանը համապատասխան ընտրված կազմակերպություններ
B101: Արդյունքի չափորոշիչներ
B102: Ուռուցքաբանական և արյունաբանական հիվանդությունների բժշկական օգնության գծով ծառայություններից օգտվելու դեպքերի թիվ, հատ | E102: 3494
B103: Միջոցառման վրա կատարվող ծախսը (հազար դրամ) | D103: =+'2'!E80 -> 717505.17 | E103: =+'2'!F80 -> 717505.17
B105: Ծրագրի դասիչը` | C105: 1202 | D105: Ցուցանիշների փոփոխությունները (ավելացումները նշված են դրական նշանով)
B106: Միջոցառման դասիչը` | C106: 11005 | D106: Ինն ամիս | E106: Տարի
B107: Միջոցառման անվանումը` | C107: Սրտի անհետաձգելի վիրահատություններ
B108: Նկարագրությունը` | C108: Սրտի անհետաձգելի վիրահատության կարիք ունեցող հիվանդների բժշկական օգնության իրականացում` ՀՀ առողջապահության նախարարի հրամանով սահմանված կարգով
B109: Միջոցառման տեսակը` | C109: Ծառայությունների մատուցում
...

Sheet 5
B1: Հավելված № 5
B2: ՀՀ կառավարության 2024 թվականի
B3: __________ «____» -ի
B4: № ------------ -Ն որոշման
B5: ՀՀ Առողջապահության նախարարություն
B6: ՀԱՅԱՍՏԱՆԻ ՀԱՆՐԱՊԵՏՈՒԹՅԱՆ ԿԱՌԱՎԱՐՈՒԹՅԱՆ 2023 ԹՎԱԿԱՆԻ ԴԵԿՏԵՄԲԵՐԻ 28-Ի N 2323-Ն ՈՐՈՇՄԱՆ N 9.1 ՀԱՎԵԼՎԱԾԻ 9.1.8 ԱՂՅՈՒՍԱԿՈՒՄ ԿԱՏԱՐՎՈՂ ՓՈՓՈԽՈՒԹՅՈՒՆՆԵՐԸ
B7: ՄԱՍ 1. ՊԵՏԱԿԱՆ ՄԱՐՄՆԻ ԳԾՈՎ ԱՐԴՅՈՒՆՔԱՅԻՆ (ԿԱՏԱՐՈՂԱԿԱՆ) ՑՈՒՑԱՆԻՇՆԵՐԸ
B8: Ծրագրի դասիչը | C8: Ծրագրի անվանումը
B9: 1099 | C9: Առողջության առաջնային պահպանում
B10: Ծրագրի միջոցառումները
B11: Ծրագրի դասիչը` | C11: 1099 | D11: Ցուցանիշների փոփոխությունները (նվազեցումները նշված են փակագծերում)
B12: Միջոցառման դասիչը` | C12: 11001 | D12: Ինն ամիս | E12: Տարի
B13: Միջոցառման անվանումը` | C13: Ըստ փաստացի կատարողականի փոխհատուցվող ամբուլատոր-պոլիկլինիկական բժշկական օգնության ծառայություններ
B14: Նկարագրությունը` | C14: Հիվանդությունների կանխարգելում, հայտնաբերում, բուժում, նեղ մասնագիտացված ամբուլատոր ծառայություններ, լաբորատոր-գործիքային հետազոտություններ, զորակոչային և նախազորակոչային տարիքի անձանց բուժման և փորձաքննության ամբուլատոր ծառայություններ
B15: Միջոցառման տեսակը` | C15: Ծառայությունների մատուցում
B16: Ակտիվն օգտագործող կազմակերպության (ների) անվանում(ներ)ը | C16: ՀՀ գնումների մասին օրենսդրությանը համապատասխան ընտրված կազմակերպություններ
B17: Արդյունքի չափորոշիչներ
B18: Միջոցառման վրա կատարվող ծախսը (հազար դրամ) | D18: =+'4'!D18 -> -200000 | E18: =+'4'!E18 -> 0
B20: Ծրագրի դասիչը | C20: Ծրագրի անվանումը
B21: 1099 | C21: Առողջության առաջնային պահպանում
B22: Ծրագրի միջոցառումները
B23: Ծրագրի դասիչը` | C23: 1099 | D23: Ցուցանիշների փոփոխությունները (ավելացումները նշված են դրական նշանով)
B24: Միջոցառման դասիչը` | C24: 12001 | D24: Ինն ամիս | E24: Տարի
B25: Միջոցառման անվանումը` | C25: Ըստ մարդաշնչի փոխհատուցվող ամբուլատոր-պոլիկլինիկական բժշկական օգնության ծառայություններ
B26: Նկարագրությունը` | C26: Հիվանդությունների կանխարգելում, հայտնաբերում, բուժում, նեղ մասնագիտացված ամբուլատոր ծառայություններ, լաբորատոր-գործիքային հետազոտություններ, զորակոչային և նախազորակոչային տարիքի անձանց բուժման և փորձաքննության ամբուլատոր ծառայություններ
B27: Միջոցառման տեսակը` | C27: Տրանսֆերտների տրամադրում
B28: Ակտիվն օգտագործող կազմակերպության (ների) անվանում(ներ)ը | C28: Առողջության առաջնային պահպանման ծառայություններից պետության կողմից երաշխավորված անվճար և արտոնյալ պայմաններով բժշկական օգնության և պասարկման իրավունք ունեցող ՀՀ յուրաքանչյուր քաղաքացի
B29: Արդյունքի չափորոշիչներ
B30: Միջոցառման վրա կատարվող ծախսը (հազար դրամ) | D30: =+'4'!D30 -> 200000 | E30: =+'[1]5'!F23 -> 0
B32: Ծրագրի դասիչը` | C32: 1200 | D32: Ցուցանիշների փոփոխությունները (ավելացումները նշված են դրական նշանով)
B33: Միջոցառման դասիչը` | C33: 11003 | D33: Ինն ամիս | E33: Տարի
B34: Միջոցառման անվանումը` | C34: Երեխաներին բժշկական օգնության ծառայություններ
B35: Նկարագրությունը` | C35: Երեխաների (0-18 տարեկան երեխաներին) հիվանդանոցային բժշկական օգնության իրականացում (հետազոտում, ախտորոշում, բուժում)
B36: Միջոցառման տեսակը` | C36: Ծառայությունների մատուցում
B37: Ակտիվն օգտագործող կազմակերպության (ների) անվանում(ներ)ը | C37: ՀՀ գնումների մասին օրենսդրությանը համապատասխան ընտրված կազմակերպություններ
B38: Արդյունքի չափորոշիչներ
B39: Երեխաների բժշկական օգնության գծով ծառայություններից օգտվելու դեպքերի թիվ, հատ | E39: 6271
B40: Միջոցառման վրա կատարվող ծախսը (հազար դրամ) | D40: =+'2'!E37 -> 718617.5 | E40: =+'2'!F37 -> 718617.5
B42: Ծրագրի դասիչը` | C42: 1200 | D42: Ցուցանիշների փոփոխությունները (ավելացումները նշված են դրական նշանով)
B43: Միջոցառման դասիչը` | C43: 11004 | D43: Ինն ամիս | E43: Տարի
B44: Միջոցառման անվանումը` | C44: Մտավոր, հոգեկան (վարքագծային), լսողական, ֆիզիկական (շարժողական) և զարգացման այլ խանգարումներով երեխաների գնահատման և վերականգնողական բուժման ծառայություններ
B45: Նկարագրությունը` | C45: Մտավոր, հոգեկան (վարքագծային), լսողական, ֆիզիկական (շարժողական) և զարգացման այլ խանգարումներով երեխաների առողջական վիճակի գնահատումը և վերականգնողական ամբուլատոր բուժման կազմակերպումը
B46: Միջոցառման տեսակը` | C46: Ծառայությունների մատուցում
B47: Միջոցառումն իրականացնողի անվանումը | C47: ՀՀ գնումների մասին օրենսդրությանը համապատասխան ընտրված կազմակերպություններ
B48: Արդյունքի չափորոշիչներ
B49: Մտավոր, հոգեկան (վարքագծային), լսողական, ֆիզիկական (շարժողական) և զարգացման այլ խանգարումներով երեխաների վերականգնողական բուժման գծով ծառայություններից օգտվելու դեպքերի թիվ, հատ | E49: 11729
B50: Միջոցառման վրա կատարվող ծախսը (հազար դրամ) | D50: =++'2'!E43 -> 55124.6 | E50: =++'2'!F43 -> 55124.6
B52: Ծրագրի դասիչը` | C52: 1200 | D52: Ցուցանիշների փոփոխությունները (նվազեցումները նշված են փակագծերում)
B53: Միջոցառման դասիչը` | C53: 11006 | D53: Ինն ամիս | E53: Տարի
B54: Միջոցառման անվանումը` | C54: Անպտուղ զույգերի համար վերարտադրողական օժանդակ տեխնոլոգիաների կիրառմամբ բժշկական օգնության ծառայություններ
B55: Նկարագրությունը` | C55: Բնակչության առանձին և հատուկ խմբերում ընդգրկված անպտուղ զույգերին վերարտադրողական օժանդակ տեխնոլոգիաների կիրառմամբ բժշկական օգնության տրամադրում
B56: Միջոցառման տեսակը` | C56: Ծառայությունների մատուցում
B57: Միջոցառումն իրականացնողի անվանումը | C57: ՀՀ գնումների մասին օրենսդրությանը համապատասխան ընտրված կազմակերպություններ
B58: Արդյունքի չափորոշիչներ
B59: Միջոցառման վրա կատարվող ծախսը (հազար դրամ) | D59: =+'2'!E49 -> -500000 | E59: =+'2'!F49 -> -500000
B61: Ծրագրի դասիչը` | C61: 1200 | D61: Ցուցանիշների փոփոխությունները (ավելացումները նշված են դրական նշանով)
B62: Միջոցառման դասիչը` | C62: 11007 | D62: Ինն ամիս | E62: Տարի
B63: Միջոցառման անվանումը` | C63: Բնածին հիպոթիրեոզի, ֆենիլկենտոնուրիայի, լսողության և տեսողության (անհասների ռետինոպաթիա) խանգարումների, կոնքազդրային հոդի խախտման վաղ հայտնաբերման նպատակով նորածնային սքրինգների անցկացում
B64: Նկարագրությունը` | C64: Նորածնային սքրինինգներ իրականացում (բնածին հիպոթիրեոզի, ֆենիլկետոնուրիայի, լսողության, տեսողության և կոնքազդրային հոդի)
B65: Միջոցառման տեսակը` | C65: Ծառայությունների մատուցում
B66: Միջոցառումն իրականացնողի անվանումը | C66: ՀՀ գնումների մասին օրենսդրությանը համապատասխան ընտրված կազմակերպություններ
B67: Արդյունքի չափորոշիչներ
B68: Հետազոտությունների քանակ, հատ | E68: 7047
B69: Միջոցառման վրա կատարվող ծախսը (հազար դրամ) | D69: =+'2'!E55 -> 45243.3 | E69: =+'2'!F55 -> 45243.3
B71: Ծրագրի դասիչը | C71: Ծրագրի անվանումը
B72: 1202 | C72: Ոչ վարակիչ հիվանդությունների բժշկական օգնության ապահովում
B73: Ծրագրի միջոցառումները
B74: Ծրագրի դասիչը` | C74: 1202 | D74: Ցուցանիշների փոփոխությունները (ավելացումները նշված են դրական նշանով)
B75: Միջոցառման դասիչը` | C75: 11001 | D75: Ինն ամիս | E75: Տարի
B76: Միջոցառման անվանումը` | C76: Հեմոդիալիզի և պերիտոնիալ դիալիզի անցկացման ծառայություններ
B77: Նկարագրությունը` | C77: Հեմոդիալիզի կարիք ունեցող հիվանդների բժշկական օգնության համալիր միջոցառումների իրականացում
B78: Միջոցառման տեսակը` | C78: Ծառայությունների մատուցում
B79: Միջոցառումն իրականացնողի անվանումը | C79: ՀՀ գնումների մասին օրենսդրությանը համապատասխան ընտրված կազմակերպություններ
B80: Արդյունքի չափորոշիչներ
B81: Հեմոդիալիզի սեանսների թիվ, հատ | E81: 10881
B82: Միջոցառման վրա կատարվող ծախսը (հազար դրամ) | D82: =+'2'!E68 -> 239372.6 | E82: =+'2'!F68 -> 239372.6
B84: Ծրագրի դասիչը` | C84: 1202 | D84: Ցուցանիշների փոփոխությունները (ավելացումները նշված են դրական նշանով)
B85: Միջոցառման դասիչը` | C85: 11002 | D85: Ինն ամիս | E85: Տարի
B86: Միջոցառման անվանումը` | C86: Անհետաձգելի բժշկական օգնության ծառայություններ
B87: Նկարագրությունը` | C87: Անհետաձգելի բժշկական օգնության իրականացում` ՀՀ առողջապահության նախարարի կողմից հաստատված հիվանդությունների, վիճակների ցանկի համաձայն
B88: Միջոցառման տեսակը` | C88: Ծառայությունների մատուցում
B89: Միջոցառումն իրականացնողի անվանումը | C89: ՀՀ գնումների մասին օրենսդրությանը համապատասխան ընտրված կազմակերպություններ
B90: Արդյունքի չափորոշիչներ
B91: Անհետաձգելի բժշկական օգնության ծառայություններից օգտվելու դեպքերի թիվ, հատ | E91: 1587
B92: Հիվանդանոցային պայմաններում արտահիվանդանոցային բժշկական օգնություն (emergency) | E92: 2000
B93: Միջոցառման վրա կատարվող ծախսը (հազար դրամ) | D93: =+'2'!E74 -> 329371.7 | E93: =+'2'!F74 -> 329371.7
B95: Ծրագրի դասիչը` | C95: 1202 | D95: Ցուցանիշների փոփոխությունները (ավելացումները նշված են դրական նշանով)
B96: Միջոցառման դասիչը` | C96: 11004 | D96: Ինն ամիս | E96: Տարի
B97: Միջոցառման անվանումը` | C97: Ուռուցքաբանական և արյունաբանական հիվանդությունների բժշկական օգնության ծառայություններ
B98: Նկարագրությունը` | C98: Ուռուցքաբանական և արյունաբանական հիվանդների բուժում և շարունակական հսկողության համալիր միջոցառումների իրականացում
B99: Միջոցառման տեսակը` | C99: Ծառայությունների մատուցում
B100: Միջոցառումն իրականացնողի անվանումը | C100: ՀՀ գնումների մասին օրենսդրությանը համապատասխան ընտրված կազմակերպություններ
B101: Արդյունքի չափորոշիչներ
B102: Ուռուցքաբանական և արյունաբանական հիվանդությունների բժշկական օգնության գծով ծառայություններից օգտվելու դեպքերի թիվ, հատ | E102: 3494
B103: Միջոցառման վրա կատարվող ծախսը (հազար դրամ) | D103: =+'2'!E80 -> 717505.17 | E103: =+'2'!F80 -> 717505.17
B105: Ծրագրի դասիչը` | C105: 1202 | D105: Ցուցանիշների փոփոխությունները (ավելացումները նշված են դրական նշանով)
B106: Միջոցառման դասիչը` | C106: 11005 | D106: Ինն ամիս | E106: Տարի
B107: Միջոցառման անվանումը` | C107: Սրտի անհետաձգելի վիրահատություններ
B108: Նկարագրությունը` | C108: Սրտի անհետաձգելի վիրահատության կարիք ունեցող հիվանդների բժշկական օգնության իրականացում` ՀՀ առողջապահության նախարարի հրամանով սահմանված կարգով
B109: Միջոցառման տեսակը` | C109: Ծառայությունների մատուցում
...
