Workbook
Name a: #REF!
Name a: #REF!
Name a: #REF!
Name a: #REF!
Name a: #REF!
Name a: #REF!
Name AgencyCode: #REF!
Name AgencyCode: #REF!
Name AgencyCode: #REF!
Name AgencyCode: #REF!
Name AgencyCode: #REF!
Name AgencyCode: #REF!
Name AgencyCode: #REF!
Name AgencyCode: #REF!
Name AgencyName: #REF!
Name AgencyName: #REF!
Name AgencyName: #REF!
Name AgencyName: #REF!
Name AgencyName: #REF!
Name AgencyName: #REF!
Name BOP: #REF!
Name BOP: #REF!
Name BOPfoot: #REF!
Name BOPfoot: #REF!
Name davit: #REF!
Name davit: #REF!
Name davit: #REF!
Name davit: #REF!
Name davit: #REF!
Name DebtCG: #REF!
Name DebtCG: #REF!
Name DebtGG: #REF!
Name DebtGG: #REF!
Name Functional1: #REF!
Name Functional1: #REF!
Name Functional1: #REF!
Name Functional1: #REF!
Name Functional1: #REF!
Name Functional1: #REF!
Name ggg: #REF!
Name ggg: #REF!
Name ggg: #REF!
Name ggg: #REF!
Name ggg: #REF!
Name MonExo: #REF!
Name MonExo: #REF!
Name MonGrow: #REF!
Name MonGrow: #REF!
Name PANature: #REF!
Name PANature: #REF!
Name PANature: #REF!
Name PANature: #REF!
Name PANature: #REF!
Name PANature: #REF!
Name PAType: #REF!
Name PAType: #REF!
Name PAType: #REF!
Name PAType: #REF!
Name PAType: #REF!
Name PAType: #REF!

Sheet Հավելված N 1
C1: Հավելված N 1
C2: ՀՀ կառավարության 2024 թվականի
C3: ______________ ի ___Ն որոշման
A6: «ՀԱՅԱUՏԱՆԻ ՀԱՆՐԱՊԵՏՈՒԹՅԱՆ 2024 ԹՎԱԿԱՆԻ ՊԵՏԱԿԱՆ ԲՅՈՒՋԵԻ ՄԱUԻՆ» ՀԱՅԱUՏԱՆԻ ՀԱՆՐԱՊԵՏՈՒԹՅԱՆ OՐԵՆՔԻ N 1 ՀԱՎԵԼՎԱԾԻ N 2 ԱՂՅՈՒՍԱԿՈՒՄ ԿԱՏԱՐՎՈՂ ՎԵՐԱԲԱՇԽՈՒՄԸ ԵՎ ՀԱՅԱՍՏԱՆԻ ՀԱՆՐԱՊԵՏՈՒԹՅԱՆ ԿԱՌԱՎԱՐՈՒԹՅԱՆ 2023 ԹՎԱԿԱՆԻ ԴԵԿՏԵՄԲԵՐԻ 28-Ի N 2323-Ն ՈՐՈՇՄԱՆ N 5 ՀԱՎԵԼՎԱԾԻ N 1 ԱՂՅՈՒՍԱԿՈՒՄ ԿԱՏԱՐՎՈՂ ՓՈՓՈԽՈՒԹՅՈՒՆՆԵՐԸ ԵՎ ԼՐԱՑՈՒՄՆԵՐԸ
E9: հազ. դրամներով
A10: Ծրագրային դասիչը | C10: Բյուջետային հատկացումների գլխավոր կարգադրիչների, ծրագրերի և միջոցառումների անվանումները | D10: Ցուցանիշների փոփոխությունը (ավելացումները նշված են դրական նշանով, իսկ նվազեցումները փակագծերում)
A11: Ծրագիր | B11: Միջոցառում | D11: Ինն ամիս | E11: Տարի
A12: 1192 | C12: ԸՆԴԱՄԵՆԸ | D12: =+D14+G106 -> 0 | E12: =+E14+H106 -> 0
C13: այդ թվում
C14: ՀՀ ԿՐԹՈՒԹՅԱՆ, ԳԻՏՈՒԹՅԱՆ, ՄՇԱԿՈՒՅԹԻ ԵՎ ՍՊՈՐՏԻ ՆԱԽԱՐԱՐՈՒԹՅՈՒՆ | D14: =+D16+D29+D42+D61+D74+D87 -> 0 | E14: =+E16+E29+E42+E61+E74+E87 -> 0
A15: 1041 | C15: Ծրագրի անվանումը`
C16: Մեծ նվաճումների սպորտ | D16: =+D23 -> 4439.2 | E16: =+E23 -> 4439.2
C17: Ծրագրի նպատակը`
C18: Նպաստել Հայաստանում մեծ սպորտի շարունակական զարգացմանը և միջազգային հարթակներում ՀՀ դիրքի բարելավմանը
C19: Վերջնական արդյունքի նկարագրությունը`
C20: ՀՀ առաջնությունների ընդլայնում, միջազգային սպորտային միջոցառումներին մասնակցության և նվաճումների ապահովում
C21: Ծրագրի միջոցառումներ
B22: 32001 | C22: Միջոցառման անվանումը`
C23: Մանկապատանեկան մարզադպրոցներին, մարզաձևերի ազգային ֆեդերացիաներին և այլ մարզական հասարակական կազմակերպություններին գույքով ապահովում | D23: =+'Հավելված N 2'!G26 -> 4439.2 | E23: =+'Հավելված N 2'!H26 -> 4439.2
C24: Միջոցառման նկարագրությունը`
C25: Սպորտի զարգացման նպատակով մարզադպրոցներին, ազգային ֆեդերացիաներին և այլ մարզական հասարակական կազմակերպություններին մարզական և այլ անհրաժեշտ գույքի տրամադրում
C26: Միջոցառման տեսակը
C27: Այլ պետական կազմակերպությունների կողմից օգտագործվող ոչ ֆինանսական ակտիվների հետ գործառնություններ
A28: 1075 | C28: Ծրագրի անվանումը`
C29: Մշակութային ժառանգության ծրագիր | D29: =+D36 -> 0 | E29: =+E36 -> -33931.7
C30: Ծրագրի նպատակը`
C31: Մշակութային ժառանգության պահպանում, օգտագործում, համալրում և հանրահռչակում
C32: Վերջնական արդյունքի նկարագրությունը`
C33: Մշակութային ժառանգության շարունակական պահպանում, մշակութային զբոսաշրջության զարգացում և խթանում
C34: Ծրագրի միջոցառումներ
B35: 32001 | C35: Միջոցառման անվանումը`
C36: Ներդրումներ թանգարանների և պատկերասրահների հիմնանորոգման համար | D36: =+'Հավելված N 2'!G54 -> 0 | E36: =+'Հավելված N 2'!H54 -> -33931.7
C37: Միջոցառման նկարագրությունը`
C38: Թանգարանների և պատկերասրահների շենքերի, մասնաշենքերի հիմնանորոգում, համաշինարարական աշխատանքներ, ջեռուցման համակարգի իրականացում, ներքին հարդարում, տարածքի բարեկարգում և նախագծում
C39: Միջոցառման տեսակը
C40: Այլ պետական կազմակերպությունների կողմից օգտագործվող ոչ ֆինանսական ակտիվների հետ գործառնություններ
A41: 1163 | C41: Ծրագրի անվանումը`
C42: Մասսայական սպորտ | D42: =+D49+D55 -> 59045.5 | E42: =+E49+E55 -> 91371.6
C43: Ծրագրի նպատակը`
C44: Բնակչության շրջանում առողջ ապրելակերպի արմատավորում, անհատի բազմակողմանի ու ներդաշնակ զարգացման գործում ֆիզիկական կուլտուրայի և սպորտի դերի բարձրացում
C45: Վերջնական արդյունքի նկարագրությունը`
C46: Սպորտի նկատմամբ հետաքրքրվածության և մասնակցության ընդլայնում
C47: Ծրագրի միջոցառումներ
B48: 32001 | C48: Միջոցառման անվանումը`
C49: Մարզական օբյեկտների շինարարություն | D49: =+'Հավելված N 2'!G114 -> -25000 | E49: =+'Հավելված N 2'!H114 -> -65909.4
C50: Միջոցառման նկարագրությունը`
C51: Մարզական օբյեկտների շենքերի (մասնաշենքերի) կառուցում (համաշինարարական աշխատանքներ, ջեռուցման համակարգի իրականացում, ներքին հարդարում, տարածքի բարեկարգում) և նախագծում
C52: Միջոցառման տեսակը
C53: Այլ պետական կազմակերպությունների կողմից օգտագործվող ոչ ֆինանսական ակտիվների հետ գործառնություններ
B54: 32005 | C54: Միջոցառման անվանումը`
C55: «Վորքաութ» տեսակի մարզահրապարակների կառուցում | D55: =+'Հավելված N 2'!G37 -> 84045.5 | E55: =+'Հավելված N 2'!H37 -> 157281
C56: Միջոցառման նկարագրությունը`
C57: Առողջ ապրելակերպի զարգացման նպատակով բնակելի շենքերի, դպրոցների բակերում և այլ հասարակական վայրերում «Վորքաութ» տեսակի մարզահրապարակների կառուցում, նախագծում
C58: Միջոցառման տեսակը
C59: Ծառայությունների մատուցում
A60: 1168 | C60: Ծրագրի անվանումը`
C61: Արվեստների ծրագիր | D61: =+D68 -> -43684.7 | E61: =+E68 -> -61879.1
C62: Ծրագրի նպատակը`
C63: Նպաստել ազգային հենքի վրա ժամանակակից թատերարվեստի, երաժշտարվեստի, կերպարվեստի և պարարվեստի զարգացմանը և հանրահռչակմանը
C64: Վերջնական արդյունքի նկարագրությունը`
C65: Մրցունակ արվեստային արտադրանքի ստեղծում, ստեղծագործական գործընթացների խթանում, արվեստի նոր նախագծերի ներդրում և մշակութային կյանքում հասարակության ներգրավում
C66: Ծրագրի միջոցառումներ
B67: 32001 | C67: Միջոցառման անվանումը`
C68: Ներդրումներ թատրոնների և համերգային կազմակերպությունների շենքերի կապիտալ վերանորոգման համար | D68: =+'Հավելված N 2'!G69 -> -43684.7 | E68: =+'Հավելված N 2'!H69 -> -61879.1
C69: Միջոցառման նկարագրությունը`
C70: Թատրոնների և համերգային կազմակերպությունների շենքերի մասնաշենքերի հիմնանորոգում, համաշինարարական աշխատանքներ, ջեռուցման համակարգի իրականացում, ներքին հարդարում, տարածքի բարեկարգում և նախագծում
C71: Միջոցառման տեսակը
C72: Այլ պետական կազմակերպությունների կողմից օգտագործվող ոչ ֆինանսական ակտիվների հետ գործառնություններ
A73: 1189 | C73: Ծրագրի անվանումը`
C74: Դպրոցների սեյսմիկ անվտանգության մակարդակի բարձրացման ծրագիր | D74: =+D81 -> 60000 | E74: =+E81 -> 60000
C75: Ծրագրի նպատակը`
C76: Նպաստել երկրի սեյսմակայունության ապահովմանը, անհատական և հասարակական անվտանգության մակարդակի բարձրացմանը
C77: Վերջնական արդյունքի նկարագրությունը`
C78: Դպրոցական շենքերի սեյսմակայունության մակարդակի բարձրացում
C79: Ծրագրի միջոցառումներ
B80: 11001 | C80: Միջոցառման անվանումը`
C81: Ասիական զարգացման բանկի աջակցությամբ իրականացվող դպրոցների սեյսմիկ պաշտպանության ծրագրի կառավարում | D81: =+'Հավելված N 2'!G125 -> 60000 | E81: =+'Հավելված N 2'!H125 -> 60000
C82: Միջոցառման նկարագրությունը`
C83: Դպրոցների սեյսմիկ պաշտպանության ծրագիր` ՀՀ դպրոցների սեյսմիկ անվտանգության բարելավման նպատակով
C84: Միջոցառման տեսակը
C85: Ծառայությունների մատուցում
A86: 1236 | C86: Ծրագրի անվանումը`
C87: Հանրակրթական և նախադպրոցական հաստատությունների հիմնում, կառուցում, բարելավում | D87: =+D94+D100 -> -79800 | E87: =+E94+E100 -> -60000
C88: Ծրագրի նպատակը`
C89: Առնվազն 300 դպրոցի և 500 մանկապարտեզի կառուցման, վերակառուցման, հիմնանորոգման ծրագրերի իրականացում ՀՀ պետական բյուջեի միջոցների շրջանակներում
C90: Վերջնական արդյունքի նկարագրությունը`
C91: Կրթական միջավայրի բարելավում
C92: Ծրագրի միջոցառումներ
B93: 32003 | C93: Միջոցառման անվանումը`
C94: Հանրակրթական դպրոցների նոր շենքերի կառուցում | D94: =+'Հավելված N 2'!G88 -> -79800 | E94: =+'Հավելված N 2'!H88 -> -79800
C95: Միջոցառման նկարագրությունը`
C96: ՀՀ մարզերում կրթական որակյալ ծառայությունների հասանելիության ապահովման ծրագրի շրջանակներում հանրակրթական և նախադպրոցական կրթության հասանելիության ապահովման նպատակով կրթական կենտրոնների կառուցում
C97: Միջոցառման տեսակը
C98: Այլ պետական կազմակերպությունների կողմից օգտագործվող ոչ ֆինանսական ակտիվների հետ գործառնություններ
B99: 32007 | C99: Միջոցառման անվանումը`
C100: Բարգավաճ և դիմակայուն Ասիայի և Խաղաղ օվկիանոսի Ճապոնիայի հիմնադրամի աջակցությամբ դպրոցների շենքային ապահովվածության բարելավում | D100: =+'Հավելված N 2'!G97 -> 0 | E100: =+'Հավելված N 2'!H97 -> 19800
C101: Միջոցառման նկարագրությունը`
C102: «Սեյսմիկ անվտանգության բարելավման» ծրագրի շրջանակներում Բարգավաճ և դիմակայուն Ասիայի և Խաղաղ օվկիանոսի Ճապոնիայի հիմնադրամի աջակցությամբ դպրոցների նոր շենքերի կառուցում, առկա շենքերի վերակառուցում, հիմնանորոգում
C103: Միջոցառման տեսակը
C104: Այլ պետական կազմակերպությունների կողմից օգտագործվող ոչ ֆինանսական ակտիվների հետ գործառնություններ
...

Sheet Հավելված N 2
F1: Հավելված N 2
F2: ՀՀ կառավարության 2024 թվականի
F3: ______________ ի ___Ն որոշման
A7: ՀԱՅԱՍՏԱՆԻ ՀԱՆՐԱՊԵՏՈՒԹՅԱՆ ԿԱՌԱՎԱՐՈՒԹՅԱՆ 2023 ԹՎԱԿԱՆԻ ԴԵԿՏԵՄԲԵՐԻ 28-Ի N 2323-Ն ՈՐՈՇՄԱՆ N 3 ԵՎ N 4 ՀԱՎԵԼՎԱԾՆԵՐՈՒՄ ԿԱՏԱՐՎՈՂ ՓՈՓՈԽՈՒԹՅՈՒՆՆԵՐԸ ԵՎ ԼՐԱՑՈՒՄՆԵՐԸ
H10: հազ. դրամներով
A11: Գործառական դասիչը | D11: Ծրագրային դասիչը | F11: Բյուջետային հատկացումների գլխավոր կարգադրիչների, ծրագրերի, միջոցառումների և միջոցառումները կատարող պետական մարմինների անվանումները | G11: Ցուցանիշների փոփոխությունը (ավելացումները նշված են դրական նշանով, իսկ նվազեցումները փակագծերում)
A12: Բաժին | B12: Խումբ | C12: Դաս | D12: Ծրագիր | E12: Միջոցառում | G12: Ինն ամիս | H12: Տարի
F13: ԸՆԴԱՄԵՆԸ | G13: =+G15+G134 -> 0 | H13: =+H15+H134 -> 0
F14: այդ թվում՝
F15: ՀՀ ԿՐԹՈՒԹՅԱՆ, ԳԻՏՈՒԹՅԱՆ, ՄՇԱԿՈՒՅԹԻ ԵՎ ՍՊՈՐՏԻ ՆԱԽԱՐԱՐՈՒԹՅՈՒՆ | G15: =+G16+G78 -> 0 | H15: =+H16+H78 -> 0
A16: 08 | F16: ՀԱՆԳԻՍՏ, ՄՇԱԿՈՒՅԹ ԵՎ ԿՐՈՆ | G16: =+G18+G46 -> 44800 | H16: =+H18+H46 -> 65909.4
F17: այդ թվում`
B18: 01 | F18: Հանգստի և սպորտի ծառայություններ | G18: =+G20 -> 88484.7 | H18: =+H20 -> 161720.2
F19: այդ թվում`
C20: 01 | F20: Հանգստի և սպորտի ծառայություններ | G20: =+G22 -> 88484.7 | H20: =+H22 -> 161720.2
F21: այդ թվում`
F22: ՀՀ կրթության, գիտության, մշակույթի և սպորտի նախարարություն | G22: =+G24+G35 -> 88484.7 | H22: =+H24+H35 -> 161720.2
F23: այդ թվում`
D24: 1041 | E24: Մեծ նվաճումների սպորտ | G24: =+G26 -> 4439.2 | H24: =+H26 -> 4439.2
F25: այդ թվում`
E26: 32001 | F26: Մանկապատանեկան մարզադպրոցներին, մարզաձևերի ազգային ֆեդերացիաներին այլ մարզական կազմակերպություններին գույքով ապահովում | G26: =+G28 -> 4439.2 | H26: =+H28 -> 4439.2
F27: այդ թվում` ըստ կատարողների
F28: ՀՀ կրթության , գիտության, մշակույթի և սպորտի նախարարություն | G28: =+G30 -> 4439.2 | H28: =+H30 -> 4439.2
F29: այդ թվում` բյուջետային ծախսերի տնտեսագիտական դասակարգման հոդվածներ
F30: ԸՆԴԱՄԵՆԸ ԾԱԽՍԵՐ | G30: =+G31 -> 4439.2 | H30: =+H31 -> 4439.2
F31: ՈՉ ՖԻՆԱՆՍԱԿԱՆ ԱԿՏԻՎՆԵՐԻ ԳԾՈՎ ԾԱԽՍԵՐ | G31: =+G32 -> 4439.2 | H31: =+H32 -> 4439.2
F32: ՀԻՄՆԱԿԱՆ ՄԻՋՈՑՆԵՐ | G32: =+G33 -> 4439.2 | H32: =+H33 -> 4439.2
F33: ՄԵՔԵՆԱՆԵՐ ԵՎ ՍԱՐՔԱՎՈՐՈՒՄՆԵՐ | G33: =+G34 -> 4439.2 | H33: =+H34 -> 4439.2
F34: - Այլ մեքենաներ և սարքավորումներ | G34: =+'Հավելված N 4'!E15 -> 4439.2 | H34: =+'Հավելված N 4'!F15 -> 4439.2
D35: 1163 | E35: Մասսայական սպորտ | G35: =+G37 -> 84045.5 | H35: =+H37 -> 157281
F36: այդ թվում`
E37: 32005 | F37: «Վորքաութ» տեսակի մարզահրապարակների կառուցում | G37: =+G39 -> 84045.5 | H37: =+H39 -> 157281
F38: այդ թվում` ըստ կատարողների
F39: ՀՀ կրթության , գիտության, մշակույթի և սպորտի նախարարություն | G39: =+G41 -> 84045.5 | H39: =+H41 -> 157281
F40: այդ թվում` բյուջետային ծախսերի տնտեսագիտական դասակարգման հոդվածներ
F41: ԸՆԴԱՄԵՆԸ ԾԱԽՍԵՐ | G41: =+G42 -> 84045.5 | H41: =+H42 -> 157281
F42: ՈՉ ՖԻՆԱՆՍԱԿԱՆ ԱԿՏԻՎՆԵՐԻ ԳԾՈՎ ԾԱԽՍԵՐ | G42: =+G43 -> 84045.5 | H42: =+H43 -> 157281
F43: ՀԻՄՆԱԿԱՆ ՄԻՋՈՑՆԵՐ | G43: =+G44 -> 84045.5 | H43: =+H44 -> 157281
F44: ՇԵՆՔԵՐ ԵՎ ՇԻՆՈՒԹՅՈՒՆՆԵՐ | G44: =+G45 -> 84045.5 | H44: =+H45 -> 157281
F45: - Շենքերի և շինությունների շինարարություն | G45: =+'Հավելված N 4'!E34 -> 84045.5 | H45: =+'Հավելված N 4'!F34 -> 157281
B46: 02 | F46: Մշակութային ծառայություններ | G46: =+G48+G63 -> -43684.7 | H46: =+H48+H63 -> -95810.8
F47: այդ թվում`
C48: 02 | F48: Թանգարաններ և ցուցասրահներ | G48: =+G50 -> 0 | H48: =+H50 -> -33931.7
F49: այդ թվում`
F50: ՀՀ կրթության, գիտության, մշակույթի և սպորտի նախարարություն | G50: =+G52 -> 0 | H50: =+H52 -> -33931.7
F51: այդ թվում`
D52: 1075 | E52: Մշակութային ժառանգության ծրագիր | G52: =+G54 -> 0 | H52: =+H54 -> -33931.7
F53: այդ թվում`
E54: 32001 | F54: Ներդրումներ թանգարանների և պատկերասրահների հիմնանորոգման համար | G54: =+G56 -> 0 | H54: =+H56 -> -33931.7
F55: այդ թվում` ըստ կատարողների
F56: ՀՀ քաղաքաշինության կոմիտե | G56: =+G58 -> 0 | H56: =+H58 -> -33931.7
F57: այդ թվում՝ բյուջետային ծախսերի տնտեսագիտական դասակարգման հոդվածներ
F58: ԸՆԴԱՄԵՆԸ ԾԱԽՍԵՐ | G58: =G59 -> 0 | H58: =H59 -> -33931.7
F59: ՈՉ ՖԻՆԱՆՍԱԿԱՆ ԱԿՏԻՎՆԵՐԻ ԳԾՈՎ ԾԱԽՍԵՐ | G59: =+G60 -> 0 | H59: =+H60 -> -33931.7
F60: ՀԻՄՆԱԿԱՆ ՄԻՋՈՑՆԵՐ | G60: =+G61 -> 0 | H60: =+H61 -> -33931.7
F61: ՇԵՆՔԵՐ ԵՎ ՇԻՆՈՒԹՅՈՒՆՆԵՐ | G61: =+G62 -> 0 | H61: =+H62 -> -33931.7
F62: - Շենքերի և շինությունների կապիտալ վերանորոգում | G62: =+'Հավելված N 4'!E21 -> 0 | H62: =+'Հավելված N 4'!F21 -> -33931.7
C63: 05 | F63: Արվեստ | G63: =+G65 -> -43684.7 | H63: =+H65 -> -61879.1
F64: այդ թվում`
F65: ՀՀ կրթության, գիտության, մշակույթի և սպորտի նախարարություն | G65: =+G67 -> -43684.7 | H65: =+H67 -> -61879.1
F66: այդ թվում`
D67: 1168 | E67: Արվեստների ծրագիր | G67: =+G69 -> -43684.7 | H67: =+H69 -> -61879.1
F68: այդ թվում`
E69: 32001 | F69: Ներդրումներ թատրոնների և համերգային կազմակերպությունների շենքերի կապիտալ վերանորոգման համար | G69: =+G71 -> -43684.7 | H69: =+H71 -> -61879.1
F70: այդ թվում` ըստ կատարողների
F71: ՀՀ կրթության, գիտության, մշակույթի և սպորտի նախարարություն | G71: =+G73 -> -43684.7 | H71: =+H73 -> -61879.1
F72: այդ թվում՝ բյուջետային ծախսերի տնտեսագիտական դասակարգման հոդվածներ
F73: ԸՆԴԱՄԵՆԸ ԾԱԽՍԵՐ | G73: =+G74 -> -43684.7 | H73: =+H74 -> -61879.1
F74: ՈՉ ՖԻՆԱՆՍԱԿԱՆ ԱԿՏԻՎՆԵՐԻ ԳԾՈՎ ԾԱԽՍԵՐ | G74: =+G75 -> -43684.7 | H74: =+H75 -> -61879.1
F75: ՀԻՄՆԱԿԱՆ ՄԻՋՈՑՆԵՐ | G75: =+G76 -> -43684.7 | H75: =+H76 -> -61879.1
F76: ՇԵՆՔԵՐ ԵՎ ՇԻՆՈՒԹՅՈՒՆՆԵՐ | G76: =+G77 -> -43684.7 | H76: =+H77 -> -61879.1
F77: – Շենքերի և շինությունների կապիտալ վերանորոգում | G77: =+'Հավելված N 4'!E46 -> -43684.7 | H77: =+'Հավելված N 4'!F46 -> -61879.1
A78: 09 | F78: ԿՐԹՈՒԹՅՈՒՆ | G78: =+G80+G106 -> -44800 | H78: =+H80+H106 -> -65909.4
F79: այդ թվում`
B80: 02 | F80: Միջնակարգ ընդհանուր կրթություն | G80: =+G82 -> -79800 | H80: =+H82 -> -60000
F81: այդ թվում`
C82: 01 | F82: Հիմնական ընդհանուր կրթություն | G82: =+G84 -> -79800 | H82: =+H84 -> -60000
F83: այդ թվում`
F84: ՀՀ կրթության, գիտության, մշակույթի և սպորտի նախարարություն | G84: =+G86 -> -79800 | H84: =+H86 -> -60000
F85: այդ թվում`
D86: 1236 | E86: Հանրակրթական և նախադպրոցական հաստատությունների հիմնում, կառուցում, բարելավում | G86: =+G88+G97 -> -79800 | H86: =+H88+H97 -> -60000
F87: այդ թվում`
E88: 32003 | F88: Հանրակրթական դպրոցների նոր շենքերի կառուցում | G88: =+G90 -> -79800 | H88: =+H90 -> -79800
F89: այդ թվում` ըստ կատարողների
F90: ՀՀ կառավարություն | G90: =+G92 -> -79800 | H90: =+H92 -> -79800
F91: այդ թվում՝ բյուջետային ծախսերի տնտեսագիտական դասակարգման հոդվածներ
F92: ԸՆԴԱՄԵՆԸ ԾԱԽՍԵՐ | G92: =G93 -> -79800 | H92: =H93 -> -79800
F93: ՈՉ ՖԻՆԱՆՍԱԿԱՆ ԱԿՏԻՎՆԵՐԻ ԳԾՈՎ ԾԱԽՍԵՐ | G93: =+G94 -> -79800 | H93: =+H94 -> -79800
F94: ՀԻՄՆԱԿԱՆ ՄԻՋՈՑՆԵՐ | G94: =+G95 -> -79800 | H94: =+H95 -> -79800
F95: ՇԵՆՔԵՐ ԵՎ ՇԻՆՈՒԹՅՈՒՆՆԵՐ | G95: =+G96 -> -79800 | H95: =+H96 -> -79800
F96: - Շենքերի և շինությունների շինարարություն | G96: =+'Հավելված N 4'!E52 -> -79800 | H96: =+'Հավելված N 4'!F52 -> -79800
E97: 32007 | F97: Բարգավաճ և դիմակայուն Ասիայի և Խաղաղ օվկիանոսի Ճապոնիայի հիմնադրամի աջակցությամբ դպրոցների շենքային ապահովվածության բարելավում | G97: =+G99 -> 0 | H97: =+H99 -> 19800
F98: այդ թվում` ըստ կատարողների
F99: ՀՀ կրթության, գիտության, մշակույթի և սպորտի նախարարություն | G99: =+G101 -> 0 | H99: =+H101 -> 19800
F100: այդ թվում՝ բյուջետային ծախսերի տնտեսագիտական դասակարգման հոդվածներ
F101: ԸՆԴԱՄԵՆԸ ԾԱԽՍԵՐ | G101: =G102 -> 0 | H101: =H102 -> 19800
F102: ՈՉ ՖԻՆԱՆՍԱԿԱՆ ԱԿՏԻՎՆԵՐԻ ԳԾՈՎ ԾԱԽՍԵՐ | G102: =+G103 -> 0 | H102: =+H103 -> 19800
F103: ՀԻՄՆԱԿԱՆ ՄԻՋՈՑՆԵՐ | G103: =+G104 -> 0 | H103: =+H104 -> 19800
F104: ԱՅԼ ՀԻՄՆԱԿԱՆ ՄԻՋՈՑՆԵՐ | G104: =+G105 -> 0 | H104: =+H105 -> 19800
F105: - Նախագծահետազոտական ծախսեր | G105: =+'Հավելված N 4'!E55 -> 0 | H105: =+'Հավելված N 4'!F55 -> 19800
...

Sheet Հավելված N 3
F1: Հավելված N 3
F2: ՀՀ կառավարության 2024 թվականի
F3: ______________ ի ___Ն որոշման
A5: «ՀԱՅԱUՏԱՆԻ ՀԱՆՐԱՊԵՏՈՒԹՅԱՆ 2024 ԹՎԱԿԱՆԻ ՊԵՏԱԿԱՆ ԲՅՈՒՋԵԻ ՄԱUԻՆ» ՀԱՅԱUՏԱՆԻ ՀԱՆՐԱՊԵՏՈՒԹՅԱՆ OՐԵՆՔԻ N 1 ՀԱՎԵԼՎԱԾԻ N 3 ԱՂՅՈՒՍԱԿՈՒՄ ԿԱՏԱՐՎՈՂ ՓՈՓՈԽՈՒԹՅՈՒՆՆԵՐԸ ԵՎ ԼՐԱՑՈՒՄՆԵՐԸ
G8: հազ. դրամներով
A9: Ծրագրային դասիչ | C9: Բյուջետային գլխավոր կարգադրիչների, ծրագրերի, միջոցառումների, միջոցառումները կատարող պետական մարմինների և ուղղությունների անվանումները | D9: Ընդամենը | E9: Ցուցանիշների փոփոխությունը (ավելացումները նշված են դրական նշանով, իսկ նվազեցումները՝ փակագծերում)
A10: Ծրագիր | B10: Միջոցառում | E10: Կառուցման աշխատանքներ | F10: Վերակառուցման, վերանորոգման և վերականգնման աշխատանքներ | G10: Նախագծահե- տազոտական, գեոդեզիա- քարտեզագրա- կան աշխա- տանքներ | H10: Ոչ ֆինանսական այլ ակտիվների ձեռքբերում
C11: ԸՆԴԱՄԵՆԸ | D11: =SUM(E11:H11) -> -60000 | E11: =+E13 -> 77481 | F11: =+F13 -> -95810.8 | G11: =+G13 -> -46109.4 | H11: =+H13 -> 4439.2
C12: այդ թվում՝
C13: ՀՀ ԿՐԹՈՒԹՅԱՆ, ԳԻՏՈՒԹՅԱՆ, ՄՇԱԿՈՒՅԹԻ ԵՎ ՍՊՈՐՏԻ ՆԱԽԱՐԱՐՈՒԹՅՈՒՆ | D13: =SUM(E13:H13) -> -60000 | E13: =+E15+E19+E23+E28+E38+E42+E45 -> 77481 | F13: =+F15+F19+F23+F28+F38+F42+F45 -> -95810.8 | G13: =+G15+G19+G23+G28+G38+G42+G45 -> -46109.4 | H13: =+H15+H19+H23+H28+H38+H42+H45 -> 4439.2
C14: այդ թվում`
A15: 1041 | B15: 32001 | C15: Մանկապատանեկան մարզադպրոցներին, մարզաձևերի ազգային ֆեդերացիաներին այլ մարզական կազմակերպություններին գույքով ապահովում | D15: =SUM(E15:H15) -> 4439.2 | E15: =+E17 -> 0 | F15: =+F17 -> 0 | G15: =+G17 -> 0 | H15: =+H17 -> 4439.2
C16: այդ թվում`
C17: ՀՀ Լոռու մարզ | D17: =SUM(E17:H17) -> 4439.2 | E17: =+E18 -> 0 | F17: =+F18 -> 0 | G17: =+G18 -> 0 | H17: =+H18 -> 4439.2
C18: Օձուն բնակավայրի մարզաառողջարանային կենտրոն | D18: =+E18+F18+G18+H18 -> 4439.2 | H18: =+'Հավելված N 8'!I16 -> 4439.2
A19: 1075 | B19: 32001 | C19: Ներդրումներ թանգարանների և պատկերասրահների հիմնանորոգման համար | D19: =SUM(E19:H19) -> -33931.7 | E19: =+E21 -> 0 | F19: =+F21 -> -33931.7 | G19: =+G21 -> 0 | H19: =+H21 -> 0
C20: այդ թվում`
C21: Երևան քաղաք | D21: =SUM(E21:H21) -> -33931.7 | E21: =+E22 -> 0 | F21: =+F22 -> -33931.7 | G21: =+G22 -> 0 | H21: =+H22 -> 0
C22: Հայաստանի ազգային պատկերասրահ ՊՈԱԿ-ի Արա Սարգսյանի և Հակոբ Կոջոյանի տուն-թանգարան մասնաճյուղ | D22: =SUM(E22:H22) -> -33931.7 | F22: =+'Հավելված N 8'!I73+'Հավելված N 8'!I75+'Հավելված N 8'!I76 -> -33931.7
A23: 1163 | B23: 32001 | C23: Մարզական օբյեկտների շինարարություն | D23: =SUM(E23:H23) -> -65909.4 | E23: =+E25+E26 -> 0 | F23: =+F25+F26 -> 0 | G23: =+G25+G26 -> -65909.4 | H23: =+H25+H26 -> 0
C24: այդ թվում`
C25: Մարզական համալիրի կառուցման բազմակի կիրառման օրինակելի նախագծանախահաշվային փաստաթղթեր | D25: =SUM(E25:H25) -> -25000 | E25: =+E26 -> 0 | F25: =+F26 -> 0 | G25: =+'Հավելված N 8'!I80+'Հավելված N 8'!I82 -> -25000 | H25: =+H26 -> 0
C26: Երևան քաղաք | D26: =SUM(E26:H26) -> -40909.4 | E26: =+E27 -> 0 | F26: =+F27 -> 0 | G26: =+G27 -> -40909.4 | H26: =+H27 -> 0
C27: «Խաղային մարզաձևերի օլիմպիական մանկապատանեկան մարզադպրոց» ՊՈԱԿ | D27: =SUM(E27:H27) -> -40909.4 | G27: =+'Հավելված N 8'!I81+'Հավելված N 8'!I83 -> -40909.4
A28: 1163 | B28: 32005 | C28: «Վորքաութ» տեսակի մարզահրապարակների կառուցում | D28: =SUM(E28:H28) -> 157281 | E28: =+E30+E32+E34+E36 -> 157281 | F28: =+F30+F32+F34+F36 -> 0 | G28: =+G30+G32+G34+G36 -> 0 | H28: =+H30+H32+H34+H36 -> 0
C29: այդ թվում`
C30: ՀՀ Գեղարքունիքի մարզ | D30: =SUM(E30:H30) -> 33169.6 | E30: =+E31 -> 33169.6 | F30: =+F31 -> 0 | G30: =+G31 -> 0 | H30: =+H31 -> 0
C31: Ճամբարակ քաղաքի Տիգրան Մեծի փ. 18/5, Նադարյան փ. 3/4 շենքերի բակերում գտնվող տարածքներում «Վորքաութ» տեսակի մարզահրապարակներ | D31: =SUM(E31:H31) -> 33169.6 | E31: =+'Հավելված N 8'!I43+'Հավելված N 8'!I48+'Հավելված N 8'!I52 -> 33169.6
C32: ՀՀ Սյունիքի մարզ | D32: =SUM(E32:H32) -> 48079.3 | E32: =+E33 -> 48079.3 | F32: =+F33 -> 0 | G32: =+G33 -> 0 | H32: =+H33 -> 0
C33: Կապան քաղաքի Մանուկյան փ. 1-ին նրբ. թիվ 2 և 3 շենքերի, Թումանյան փ. թիվ 18, Շահումյան փ. թիվ 15 և 19 շենքերի բակերում գտնվող տարածքներում «Վորքաութ» տեսակի մարզահրապարակներ | D33: =SUM(E33:H33) -> 48079.3 | E33: =+'Հավելված N 8'!I44+'Հավելված N 8'!I49+'Հավելված N 8'!I53 -> 48079.3
C34: ՀՀ Վայոց Ձորի մարզ | D34: =SUM(E34:H34) -> 30737.9 | E34: =+E35 -> 30737.9 | F34: =+F35 -> 0 | G34: =+G35 -> 0 | H34: =+H35 -> 0
C35: Ջերմուկ քաղաքի Ս. Շահումյանի փ. թիվ 1 շենքի, Ջերմուկի կրթահամալիրի բակերում գտնվող տարածքներում «Վորքաութ» տեսակի մարզահրապարակներ | D35: =SUM(E35:H35) -> 30737.9 | E35: =+'Հավելված N 8'!I46+'Հավելված N 8'!I50+'Հավելված N 8'!I54 -> 30737.9
C36: ՀՀ Տավուշի մարզ | D36: =SUM(E36:H36) -> 45294.2 | E36: =+E37 -> 45294.2 | F36: =+F37 -> 0 | G36: =+G37 -> 0 | H36: =+H37 -> 0
C37: Բերդ քաղաքի Սայաթ-Նովա 1 շենքերի, թիվ 4 դպրոցի և թիվ 3 դպրոցի բակերում գտնվող տարածքներում «Վորքաութ» տեսակի մարզահրապարակներ | D37: =SUM(E37:H37) -> 45294.2 | E37: =+'Հավելված N 8'!I45+'Հավելված N 8'!I51+'Հավելված N 8'!I55 -> 45294.2
A38: 1168 | B38: 32001 | C38: Ներդրումներ թատրոնների և համերգային կազմակերպությունների շենքերի կապիտալ վերանորոգման համար | D38: =+E38+F38+G38+H38 -> -61879.1 | E38: =+E40 -> 0 | F38: =+F40 -> -61879.1 | G38: =+G40 -> 0 | H38: =+H40 -> 0
C39: այդ թվում`
C40: Երևան քաղաք | D40: =SUM(E40:H40) -> -61879.1 | E40: =+E41 -> 0 | F40: =+F41 -> -61879.1 | G40: =+G41 -> 0 | H40: =+H41 -> 0
C41: «Հայաստանի պետական սիմֆոնիկ նվագախումբ» ՊՈԱԿ | D41: =+E41+F41+G41+H41 -> -61879.1 | F41: =+'Հավելված N 8'!I59+'Հավելված N 8'!I61+'Հավելված N 8'!I62 -> -61879.1
A42: 1236 | B42: 32003 | C42: Հանրակրթական դպրոցների նոր շենքերի կառուցում | D42: =+D44 -> -79800 | E42: =+E44 -> -79800 | F42: =+F44 -> 0 | G42: =+G44 -> 0 | H42: =+H44 -> 0
C43: այդ թվում`
C44: Հանրակրթական դպրոցների նոր շենքերի կառուցում | D44: =SUM(E44:H44) -> -79800 | E44: -79800 | G44: 0 | H44: 0
A45: 1236 | B45: 32007 | C45: Բարգավաճ և դիմակայուն Ասիայի և Խաղաղ օվկիանոսի Ճապոնիայի հիմնադրամի աջակցությամբ դպրոցների շենքային ապահովվածության բարելավում | D45: =SUM(E45:H45) -> 19800 | E45: =+E47 -> 0 | F45: =+F47 -> 0 | G45: =+G47 -> 19800 | H45: =+H47 -> 0
C46: այդ թվում`
C47: ՀՀ Արմավիրի մարզ | D47: =SUM(E47:H47) -> 19800 | E47: =+E48 -> 0 | F47: =+F48 -> 0 | G47: =+G48 -> 19800 | H47: =+H48 -> 0
C48: «Ոսկեհատի միջնակարգ դպրոց» ՊՈԱԿ | D48: =+E48+F48+G48+H48 -> 19800 | G48: =+'Հավելված N 8'!I66+'Հավելված N 8'!I67 -> 19800

Sheet Հավելված N 4
E1: Հավելված N 4
D2: ՀՀ կառավարության 2024 թվականի
E3: ______________ ի ___Ն որոշման
B6: ՀԱՅԱՍՏԱՆԻ ՀԱՆՐԱՊԵՏՈՒԹՅԱՆ ԿԱՌԱՎԱՐՈՒԹՅԱՆ 2023 ԹՎԱԿԱՆԻ ԴԵԿՏԵՄԲԵՐԻ 28-Ի N 2323-Ն ՈՐՈՇՄԱՆ N 5 ՀԱՎԵԼՎԱԾԻ N 2 ԱՂՅՈՒՍԱԿՈՒՄ ԿԱՏԱՐՎՈՂ ՓՈՓՈԽՈՒԹՅՈՒՆՆԵՐԸ ԵՎ ԼՐԱՑՈՒՄՆԵՐԸ
F8: հազ. դրամներով
B9: Ծրագրային դասիչ | D9: Բյուջետային գլխավոր կարգադրիչների, ծրագրերի, միջոցառումների, միջոցառումները կատարող պետական մարմինների և ուղղությունների անվանումները | E9: Ցուցանիշների փոփոխությունը (ավելացումները նշված են դրական նշանով, իսկ նվազեցումները՝ փակագծերում)
B10: Ծրագիր | C10: Միջոցառում | E10: Ինն ամիս | F10: Տարի
D11: ՀՀ ԿՐԹՈՒԹՅԱՆ, ԳԻՏՈՒԹՅԱՆ, ՄՇԱԿՈՒՅԹԻ ԵՎ ՍՊՈՐՏԻ ՆԱԽԱՐԱՐՈՒԹՅՈՒՆ | E11: =+E13+E19+E25+E32+E44+E50+E53 -> -60000 | F11: =+F13+F19+F25+F32+F44+F50+F53 -> -60000
D12: այդ թվում՝
B13: 1041 | C13: 32001 | D13: Մանկապատանեկան մարզադպրոցներին, մարզաձևերի ազգային ֆեդերացիաներին այլ մարզական կազմակերպություններին գույքով ապահովում | E13: =+E15 -> 4439.2 | F13: =+F15 -> 4439.2
D14: այդ թվում` ըստ կատարողների
D15: ՀՀ կրթության, գիտության, մշակույթի և սպորտի նախարարություն | E15: =+E17 -> 4439.2 | F15: =+F17 -> 4439.2
D16: այդ թվում`ըստ ուղղությունների
D17: ՀՀ Լոռու մարզ | E17: =+E18 -> 4439.2 | F17: =+F18 -> 4439.2
D18: =+'Հավելված N 3'!C18 -> Օձուն բնակավայրի մարզաառողջարանային կենտրոն | E18: =+F18 -> 4439.2 | F18: =+'Հավելված N 3'!D18 -> 4439.2
B19: 1075 | C19: 32001 | D19: Ներդրումներ թանգարանների և պատկերասրահների հիմնանորոգման համար | E19: =+E21 -> 0 | F19: =+F21 -> -33931.7
D20: այդ թվում` ըստ կատարողների
D21: ՀՀ քաղաքաշինության կոմիտե | E21: =+E23 -> 0 | F21: =+F23 -> -33931.7
D22: այդ թվում`ըստ ուղղությունների
D23: Երևան քաղաք | E23: =+E24 -> 0 | F23: =+F24 -> -33931.7
D24: =+'Հավելված N 3'!C22 -> Հայաստանի ազգային պատկերասրահ ՊՈԱԿ-ի Արա Սարգսյանի և Հակոբ Կոջոյանի տուն-թանգարան մասնաճյուղ | F24: =+'Հավելված N 3'!D22 -> -33931.7
B25: 1163 | C25: 32001 | D25: Մարզական օբյեկտների շինարարություն | E25: =+E27 -> -25000 | F25: =+F27 -> -65909.4
D26: այդ թվում` ըստ կատարողների
D27: ՀՀ քաղաքաշինության կոմիտե | E27: =+E29+E30 -> -25000 | F27: =+F29+F30 -> -65909.4
D28: այդ թվում`ըստ ուղղությունների
D29: =+'Հավելված N 3'!C25 -> Մարզական համալիրի կառուցման բազմակի կիրառման օրինակելի նախագծանախահաշվային փաստաթղթեր | E29: =+F29 -> -25000 | F29: =+'Հավելված N 3'!D25 -> -25000
D30: Երևան քաղաք | E30: =+E31 -> 0 | F30: =+F31 -> -40909.4
D31: =+'Հավելված N 3'!C27 -> «Խաղային մարզաձևերի օլիմպիական մանկապատանեկան մարզադպրոց» ՊՈԱԿ | E31: 0 | F31: =+'Հավելված N 3'!D27 -> -40909.4
B32: 1163 | C32: 32005 | D32: «Վորքաութ» տեսակի մարզահրապարակների կառուցում | E32: =+E34 -> 84045.5 | F32: =+F34 -> 157281
D33: այդ թվում` ըստ կատարողների
D34: ՀՀ կրթության, գիտության, մշակույթի և սպորտի նախարարություն | E34: =+E36+E38+E40+E42 -> 84045.5 | F34: =+F36+F38+F40+F42 -> 157281
D35: այդ թվում`ըստ ուղղությունների
D36: ՀՀ Գեղարքունիքի մարզ | E36: =+E37 -> 22578.1 | F36: =+F37 -> 33169.6
D37: =+'Հավելված N 3'!C31 -> Ճամբարակ քաղաքի Տիգրան Մեծի փ. 18/5, Նադարյան փ. 3/4 շենքերի բակերում գտնվող տարածքներում «Վորքաութ» տեսակի մարզահրապարակներ | E37: 22578.1 | F37: =+'Հավելված N 3'!D31 -> 33169.6
D38: ՀՀ Սյունիքի մարզ | E38: =+E39 -> 18700.7 | F38: =+F39 -> 48079.3
D39: =+'Հավելված N 3'!C33 -> Կապան քաղաքի Մանուկյան փ. 1-ին նրբ. թիվ 2 և 3 շենքերի, Թումանյան փ. թիվ 18, Շահումյան փ. թիվ 15 և 19 շենքերի բակերում գտնվող տարածքներում «Վորքաութ» տեսակի մարզահրապարակներ | E39: 18700.7 | F39: =+'Հավելված N 3'!D33 -> 48079.3
D40: ՀՀ Վայոց Ձորի մարզ | E40: =+E41 -> 11935.5 | F40: =+F41 -> 30737.9
D41: =+'Հավելված N 3'!C35 -> Ջերմուկ քաղաքի Ս. Շահումյանի փ. թիվ 1 շենքի, Ջերմուկի կրթահամալիրի բակերում գտնվող տարածքներում «Վորքաութ» տեսակի մարզահրապարակներ | E41: 11935.5 | F41: =+'Հավելված N 3'!D35 -> 30737.9
D42: ՀՀ Տավուշի մարզ | E42: =+E43 -> 30831.2 | F42: =+F43 -> 45294.2
D43: =+'Հավելված N 3'!C37 -> Բերդ քաղաքի Սայաթ-Նովա 1 շենքերի, թիվ 4 դպրոցի և թիվ 3 դպրոցի բակերում գտնվող տարածքներում «Վորքաութ» տեսակի մարզահրապարակներ | E43: 30831.2 | F43: =+'Հավելված N 3'!D37 -> 45294.2
B44: 1168 | C44: 32001 | D44: Ներդրումներ թատրոնների և համերգային կազմակերպությունների շենքերի կապիտալ վերանորոգման համար | E44: =+E46 -> -43684.7 | F44: =+F46 -> -61879.1
D45: այդ թվում` ըստ կատարողների
D46: ՀՀ կրթության, գիտության, մշակույթի և սպորտի նախարարություն | E46: =+E48 -> -43684.7 | F46: =+F48 -> -61879.1
D47: այդ թվում`ըստ ուղղությունների
D48: Երևան քաղաք | E48: =+E49 -> -43684.7 | F48: =+F49 -> -61879.1
D49: =+'Հավելված N 3'!C41 -> «Հայաստանի պետական սիմֆոնիկ նվագախումբ» ՊՈԱԿ | E49: =-42577.7-851.6-255.4 -> -43684.7 | F49: =+'Հավելված N 3'!D41 -> -61879.1
B50: 1236 | C50: 32003 | D50: Հանրակրթական դպրոցների նոր շենքերի կառուցում | E50: =+E52 -> -79800 | F50: =+F52 -> -79800
D51: այդ թվում` ըստ կատարողների
D52: ՀՀ կառավարություն | E52: =-79800 -> -79800 | F52: =+'Հավելված N 3'!D44 -> -79800
B53: 1236 | C53: 32007 | D53: Բարգավաճ և դիմակայուն Ասիայի և Խաղաղ օվկիանոսի Ճապոնիայի հիմնադրամի աջակցությամբ դպրոցների շենքային ապահովվածության բարելավում | E53: =+E55 -> 0 | F53: =+F55 -> 19800
D54: այդ թվում` ըստ կատարողների
D55: ՀՀ կրթության, գիտության, մշակույթի և սպորտի նախարարություն | E55: =+E57 -> 0 | F55: =+F57 -> 19800
D56: այդ թվում`ըստ ուղղությունների
D57: ՀՀ Արմավիրի մարզ | E57: =+E58 -> 0 | F57: =+F58 -> 19800
D58: =+'Հավելված N 3'!C48 -> «Ոսկեհատի միջնակարգ դպրոց» ՊՈԱԿ | E58: 0 | F58: =+'Հավելված N 3'!D48 -> 19800

Sheet Հավելված N 5
H1: Հավելված N 5
F2: ՀՀ կառավարության 2024 թվականի
H3: ______________ ի ___Ն որոշման
A6: «ՀԱՅԱՍՏԱՆԻ ՀԱՆՐԱՊԵՏՈՒԹՅԱՆ 2024 ԹՎԱԿԱՆԻ ՊԵՏԱԿԱՆ ԲՅՈՒՋԵԻ ՄԱՍԻՆ» ՕՐԵՆՔԻ N 1 ՀԱՎԵԼՎԱԾԻ N 4 ԱՂՅՈՒՍԱԿՈՒՄ ԵՎ ՀԱՅԱՍՏԱՆԻ ՀԱՆՐԱՊԵՏՈՒԹՅԱՆ ԿԱՌԱՎԱՐՈՒԹՅԱՆ 2023 ԹՎԱԿԱՆԻ ԴԵԿՏԵՄԲԵՐԻ 28-Ի N 2323-Ն ՈՐՈՇՄԱՆ N 5 ՀԱՎԵԼՎԱԾԻ N 3 ԱՂՅՈՒՍԱԿՈՒՄ ԿԱՏԱՐՎՈՂ ԼՐԱՑՈՒՄԸ
I8: հազ. դրամներով
A9: Ծրագրային դասիչը | C9: Բյուջետային հատկացումների գլխավոր կարգադրիչների, ծրագրերի, միջոցառումների և միջոցառումները կատարող պետական մարմինների անվանումները | D9: Ցուցանիշների փոփոխությունը (ավելացումները նշված են դրական նշանով)
D10: Ինն ամիս | G10: Տարի
D11: Ընդամենը | E11: այդ թվում` | G11: Ընդամենը | H11: այդ թվում`
A12: Ծրագիր | B12: Միջոցառում | E12: Վարկային միջոցներ | F12: Համաֆինան սավորում | H12: Վարկային միջոցներ | I12: Համաֆինան սավորում
C13: ԸՆԴԱՄԵՆԸ | D13: =+E13+F13 -> 60000 | E13: =+E15 -> 0 | F13: =+F15 -> 60000 | G13: =+H13+I13 -> 60000 | H13: =+H15 -> 0 | I13: =+I15 -> 60000
C14: այդ թվում`
C15: ԸՆԹԱՑԻԿ ԾԱԽՍԵՐ | D15: =+E15+F15 -> 60000 | E15: =+E16 -> 0 | F15: =+F16 -> 60000 | G15: =+H15+I15 -> 60000 | H15: =+H16 -> 0 | I15: =+I16 -> 60000
C16: ՀՀ կրթության, գիտության, մշակույթի և սպորտի նախարարություն | D16: =+E16+F16 -> 60000 | E16: =+E18 -> 0 | F16: =+F18 -> 60000 | G16: =+H16+I16 -> 60000 | H16: =+H18 -> 0 | I16: =+I18 -> 60000
C17: այդ թվում`
A18: 1189 | C18: Դպրոցների սեյսմիկ անվտանգության մակարդակի բարձրացման ծրագիր | D18: =+E18+F18 -> 60000 | E18: =+E20 -> 0 | F18: =+F20 -> 60000 | G18: =+H18+I18 -> 60000 | H18: =+H20 -> 0 | I18: =+I20 -> 60000
C19: այդ թվում`
B20: 11001 | C20: Ասիական զարգացման բանկի աջակցությամբ իրականացվող դպրոցների սեյսմիկ պաշտպանության ծրագրի կառավարում | D20: =+E20+F20 -> 60000 | E20: =+E22 -> 0 | F20: =+F22 -> 60000 | G20: =+H20+I20 -> 60000 | H20: =+H22 -> 0 | I20: =+I22 -> 60000
C21: այդ թվում` ըստ կատարողների
C22: ՀՀ տարածքային կառավարման և ենթակառուցվածքների նախարարություն | D22: =+E22+F22 -> 60000 | E22: =+E24 -> 0 | F22: =+F24 -> 60000 | G22: =+H22+I22 -> 60000 | H22: =+H24 -> 0 | I22: =+I24 -> 60000
C23: այդ թվում` բյուջետային ծախսերի տնտեսագիտական դասակարգման հոդվածներ
C24: ԸՆԴԱՄԵՆԸ ԾԱԽՍԵՐ | D24: =+E24+F24 -> 60000 | E24: =+E25 -> 0 | F24: =+F25 -> 60000 | G24: =+H24+I24 -> 60000 | H24: =+H25 -> 0 | I24: =+I25 -> 60000
C25: ԸՆԹԱՑԻԿ ԾԱԽՍԵՐ | D25: =+E25+F25 -> 60000 | E25: =+E26 -> 0 | F25: =+F26 -> 60000 | G25: =+H25+I25 -> 60000 | H25: =+H26 -> 0 | I25: =+I26 -> 60000
C26: ԱՅԼ ԾԱԽՍԵՐ | D26: =+E26+F26 -> 60000 | E26: =+E27 -> 0 | F26: =+F27 -> 60000 | G26: =+H26+I26 -> 60000 | H26: =+H27 -> 0 | I26: =+I27 -> 60000
C27: Հարկեր, պարտադիր վճարներ և տույժեր, որոնք կառավարման տարբեր մակարդակների կողմից կիրառվում են միմյանց նկատմամբ | D27: =+E27+F27 -> 60000 | E27: 0 | F27: 60000 | G27: =+H27+I27 -> 60000 | H27: =+E27 -> 0 | I27: =+F27 -> 60000

Sheet Հավելված N 6
C1: Հավելված N 6
C2: ՀՀ կառավարության 2024 թվականի
C3: ______________ ի ___Ն որոշման
B6: ՀԱՅԱՍՏԱՆԻ ՀԱՆՐԱՊԵՏՈՒԹՅԱՆ ԿԱՌԱՎԱՐՈՒԹՅԱՆ 2023 ԹՎԱԿԱՆԻ ԴԵԿՏԵՄԲԵՐԻ 28-Ի N 2323-Ն ՈՐՈՇՄԱՆ N 9 ՀԱՎԵԼՎԱԾԻ NN 9.13 ԵՎ 9.48 ԱՂՅՈՒՍԱԿՆԵՐՈՒՄ ԿԱՏԱՐՎՈՂ ՓՈՓՈԽՈՒԹՅՈՒՆՆԵՐԸ ԵՎ ԼՐԱՑՈՒՄՆԵՐԸ
A8: Աղյուսակ 9․13
C9: ՀՀ կրթության, գիտության, մշակույթի և սպորտի նախարարություն
B10: ՄԱՍ 2. ՊԵՏԱԿԱՆ ՄԱՐՄՆԻ ԳԾՈՎ ԱՐԴՅՈՒՆՔԱՅԻՆ (ԿԱՏԱՐՈՂԱԿԱՆ) ՑՈՒՑԱՆԻՇՆԵՐԸ
B13: Ծրագրի դասիչը | C13: Ծրագրի անվանումը
B14: 1041 | C14: Մեծ նվաճումների սպորտ
B16: Ծրագրի միջոցառումները
B17: Ծրագրի դասիչը՝ | C17: 1041 | D17: Ցուցանիշների փոփոխությունը (ավելացումները նշված են դրական նշանով)
B18: Միջոցառման դասիչը՝ | C18: 32001 | D18: Ինն ամիս | E18: Տարի
B19: Միջոցառման անվանումը` | C19: Մանկապատանեկան մարզադպրոցներին, մարզաձևերի ազգային ֆեդերացիաներին և այլ մարզական հասարակական կազմակերպություններին գույքով ապահովում
B20: Նկարագրությունը` | C20: Սպորտի զարգացման նպատակով մարզադպրոցներին, ազգային ֆեդերացիաներին և այլ մարզական հասարակական կազմակերպություններին մարզական և այլ անհրաժեշտ գույքի տրամադրում
B21: Միջոցառման տեսակը` | C21: Այլ պետական կազմակերպությունների կողմից օգտագործվող ոչ ֆինանսական ակտիվների հետ գործառնություններ
B22: Ակտիվն օգտագործող կազմակերպությունների անվանում | C22: Մարզական հաստատություններ
B23: Արդյունքի չափորոշիչներ
B24: Մարզաառողջարանային կենտրոնների քանակը, որոնք ապահովվում են գույքով | E24: 1
B25: Միջոցառման վրա կատարվող ծախսը (հազար դրամ) | D25: =+'Հավելված N 1'!D23 -> 4439.2 | E25: =+'Հավելված N 1'!E23 -> 4439.2
B27: Ծրագրի դասիչը | C27: Ծրագրի անվանումը
B28: 1075 | C28: Մշակութային ժառանգության ծրագիր
B30: Ծրագրի միջոցառումները
B31: Ծրագրի դասիչը՝ | C31: 1075 | D31: Ցուցանիշների փոփոխությունը (նվազեցումները նշված են փակագծերում)
B32: Միջոցառման դասիչը՝ | C32: 32001 | D32: Ինն ամիս | E32: Տարի
B33: Միջոցառման անվանումը` | C33: Ներդրումներ թանգարանների և պատկերասրահների հիմնանորոգման համար
B34: Նկարագրությունը` | C34: Թանգարանների և պատկերասրահների շենքերի, մասնաշենքերի հիմնանորոգում, համաշինարարական աշխատանքներ, ջեռուցման համակարգի իրականացում, ներքին հարդարում, տարածքի բարեկարգում և նախագծում
B35: Միջոցառման տեսակը` | C35: Այլ պետական կազմակերպությունների կողմից օգտագործվող ոչ ֆինանսական ակտիվների հետ գործառնություններ
B36: Ակտիվն օգտագործող կազմակերպությունների անվանումները | C36: Թանգարաններ և պատկերասրահներ
B37: Արդյունքի չափորոշիչներ
B38: Միջոցառման վրա կատարվող ծախսը (հազար դրամ) | D38: =+'Հավելված N 1'!D36 -> 0 | E38: =+'Հավելված N 1'!E36 -> -33931.7
B40: Ծրագրի դասիչը | C40: Ծրագրի անվանումը
B41: 1163 | C41: Մասսայական սպորտ
B43: Ծրագրի միջոցառումները
B44: Ծրագրի դասիչը՝ | C44: 1163 | D44: Ցուցանիշների փոփոխությունը (նվազեցումները նշված են փակագծերում)
B45: Միջոցառման դասիչը՝ | C45: 32001 | D45: Ինն ամիս | E45: Տարի
B46: Միջոցառման անվանումը` | C46: Մարզական օբյեկտների շինարարություն
B47: Նկարագրությունը` | C47: Մարզական օբյեկտների շենքերի (մասնաշենքերի) կառուցում (համաշինարարական աշխատանքներ, ջեռուցման համակարգի իրականացում, ներքին հարդարում, տարածքի բարեկարգում) և նախագծում
B48: Միջոցառման տեսակը` | C48: Այլ պետական կազմակերպությունների կողմից օգտագործվող ոչ ֆինանսական ակտիվների հետ գործառնություններ
B49: Ակտիվն օգտագործող կազմակերպությունների անվանումները | C49: Մարզական հաստատություններ
B50: Արդյունքի չափորոշիչներ
B51: Նախագծանահաշվային փաստաթղթերի քանակ, հատ | E51: -1
B52: Միջոցառման վրա կատարվող ծախսը (հազար դրամ) | D52: =+'Հավելված N 1'!D49 -> -25000 | E52: =+'Հավելված N 1'!E49 -> -65909.4
B54: Ծրագրի միջոցառումները
B55: Ծրագրի դասիչը՝ | C55: 1163 | D55: Ցուցանիշների փոփոխությունը (ավելացումները նշված են դրական նշանով)
B56: Միջոցառման դասիչը՝ | C56: 32005 | D56: Ինն ամիս | E56: Տարի
B57: Միջոցառման անվանումը` | C57: «Վորքաութ» տեսակի մարզահրապարակների կառուցում
B58: Նկարագրությունը` | C58: Առողջ ապրելակերպի զարգացման նպատակով բնակելի շենքերի, դպրոցների բակերում և այլ հասարակական վայրերում «Վորքաութ» տեսակի մարզահրապարակների կառուցում, նախագծում
B59: Միջոցառման տեսակը` | C59: Ծառայությունների մատուցում
B60: Միջոցառումն իրականացնողի անվանումը՛ | C60: «Գնումների մասին» ՀՀ օրենքի համաձայն ընտրված կազմակերպություն
B61: Արդյունքի չափորոշիչներ
B62: ՀՀ Գեղարքունիքի մարզում կառուցվող «Վորքաութ» տեսակի մարզահրապարակների քանակ, հատ | E62: 2
B63: ՀՀ Սյունիքի մարզում կառուցվող «Վորքաութ» տեսակի մարզահրապարակների քանակ, հատ | E63: 3
B64: ՀՀ Վայոց Ձորի մարզում կառուցվող «Վորքաութ» տեսակի մարզահրապարակների քանակ, հատ | E64: 2
B65: ՀՀ Տավուշի մարզում կառուցվող «Վորքաութ» տեսակի մարզահրապարակների քանակ, հատ | E65: 3
B66: Միջոցառման վրա կատարվող ծախսը (հազար դրամ) | D66: =+'Հավելված N 1'!D55 -> 84045.5 | E66: =+'Հավելված N 1'!E55 -> 157281
B68: Ծրագրի դասիչը | C68: Ծրագրի անվանումը
B69: 1168 | C69: Արվեստների ծրագիր
B71: Ծրագրի միջոցառումները
B72: Ծրագրի դասիչը՝ | C72: 1168 | D72: Ցուցանիշների փոփոխությունը (նվազեցումները նշված են փակագծերում)
B73: Միջոցառման դասիչը` | C73: 32001 | D73: Ինն ամիս | E73: Տարի
B74: Միջոցառման անվանումը` | C74: Ներդրումներ թատրոնների և համերգային կազմակերպությունների շենքերի կապիտալ վերանորոգման համար
B75: Նկարագրությունը` | C75: Թատրոնների և համերգային կազմակերպությունների շենքերի մասնաշենքերի հիմնանորոգում, համաշինարարական աշխատանքներ, ջեռուցման համակարգի իրականացում, ներքին հարդարում, տարածքի բարեկարգում և նախագծում
B76: Միջոցառման տեսակը` | C76: Այլ պետական կազմակերպությունների կողմից օգտագործվող ոչ ֆինանսական ակտիվների հետ գործառնություններ
B77: Ակտիվն օգտագործող կազմակերպությունների անվանումները | C77: Թատրոններ և համերգային կազմակերպություններ
B78: Արդյունքի չափորոշիչներ
B79: Միջոցառման վրա կատարվող ծախսը (հազար դրամ) | D79: =+'Հավելված N 1'!D68 -> -43684.7 | E79: =+'Հավելված N 1'!E68 -> -61879.1
B81: Ծրագրի դասիչը | C81: Ծրագրի անվանումը
B82: 1189 | C82: Դպրոցների սեյսմիկ անվտանգության մակարդակի բարձրացման ծրագիր
B84: Ծրագրի միջոցառումները
B85: Ծրագրի դասիչը՝ | C85: 1189 | D85: Ցուցանիշների փոփոխությունը (ավելացումները նշված են դրական նշանով)
B86: Միջոցառման դասիչը` | C86: 11001 | D86: Ինն ամիս | E86: Տարի
B87: Միջոցառման անվանումը` | C87: Ասիական զարգացման բանկի աջակցությամբ իրականացվող դպրոցների սեյսմիկ պաշտպանության ծրագրի կառավարում
B88: Նկարագրությունը` | C88: Դպրոցների սեյսմիկ պաշտպանության ծրագիր` ՀՀ դպրոցների սեյսմիկ անվտանգության բարելավման նպատակով
B89: Միջոցառման տեսակը` | C89: Ծառայությունների մատուցում
B90: Միջոցառումն իրականացնողի անվանումը՛ | C90: Մասնագիտացված միավոր
B91: Արդյունքի չափորոշիչներ
B92: Միջոցառման վրա կատարվող ծախսը (հազար դրամ) | D92: =+'Հավելված N 1'!D81 -> 60000 | E92: =+'Հավելված N 1'!E81 -> 60000
B94: Ծրագրի դասիչը | C94: Ծրագրի անվանումը
B95: 1236 | C95: Հանրակրթական և նախադպրոցական հաստատությունների հիմնում, կառուցում, բարելավում
B97: Ծրագրի միջոցառումները
B98: Ծրագրի դասիչը՝ | C98: 1236 | D98: Ցուցանիշների փոփոխությունը (նվազեցումները նշված են փակագծերում)
B99: Միջոցառման դասիչը՝ | C99: 32003 | D99: Ինն ամիս | E99: Տարի
B100: Միջոցառման անվանումը` | C100: Հանրակրթական դպրոցների նոր շենքերի կառուցում
B101: Նկարագրությունը` | C101: ՀՀ մարզերում կրթական որակյալ ծառայությունների հասանելիության ապահովման ծրագրի շրջանակներում հանրակրթական և նախադպրոցական կրթության հասանելիության ապահովման նպատակով կրթական կենտրոնների կառուցում
B102: Միջոցառման տեսակը` | C102: Այլ պետական կազմակերպությունների կողմից օգտագործվող ոչ ֆինանսական ակտիվների հետ գործառնություններ
B103: Ակտիվն օգտագործող կազմակերպությունների անվանումները | C103: Հանրակրթական դպրոցներ
B104: Արդյունքի չափորոշիչներ
B105: Միջոցառման վրա կատարվող ծախսը (հազար դրամ) | D105: =+'Հավելված N 1'!D94 -> -79800 | E105: =+'Հավելված N 1'!E94 -> -79800
B107: Ծրագրի միջոցառումները
B108: Ծրագրի դասիչը՝ | C108: 1236 | D108: Ցուցանիշների փոփոխությունը (ավելացումները նշված են դրական նշանով)
B109: Միջոցառման դասիչը՝ | C109: 32007 | D109: Ինն ամիս | E109: Տարի
B110: Միջոցառման անվանումը` | C110: Բարգավաճ և դիմակայուն Ասիայի և Խաղաղ օվկիանոսի Ճապոնիայի հիմնադրամի աջակցությամբ դպրոցների շենքային ապահովվածության բարելավում
B111: Նկարագրությունը` | C111: «Սեյսմիկ անվտանգության բարելավման» ծրագրի շրջանակներում Բարգավաճ և դիմակայուն Ասիայի և Խաղաղ օվկիանոսի Ճապոնիայի հիմնադրամի աջակցությամբ դպրոցների նոր շենքերի կառուցում, առկա շենքերի վերակառուցում, հիմնանորոգում
B112: Միջոցառման տեսակը` | C112: Այլ պետական կազմակերպությունների կողմից օգտագործվող ոչ ֆինանսական ակտիվների հետ գործառնություններ
B113: Ակտիվն օգտագործող կազմակերպությունների անվանումները | C113: Հանրակրթական դպրոցներ
B114: Արդյունքի չափորոշիչներ
B115: Նախագծանահաշվային փաստաթղթերի քանակ, հատ | E115: 1
B116: Միջոցառման վրա կատարվող ծախսը (հազար դրամ) | D116: =+'Հավելված N 1'!D100 -> 0 | E116: =+'Հավելված N 1'!E100 -> 19800
A122: Աղյուսակ 9․48
C123: ՀՀ կառավարություն
...

Sheet Հավելված N 7
C1: Հավելված N 7
C2: ՀՀ կառավարության 2024 թվականի
C3: ______________ ի ___Ն որոշման
B6: ՀԱՅԱՍՏԱՆԻ ՀԱՆՐԱՊԵՏՈՒԹՅԱՆ ԿԱՌԱՎԱՐՈՒԹՅԱՆ 2023 ԹՎԱԿԱՆԻ ԴԵԿՏԵՄԲԵՐԻ 28-Ի N 2323-Ն ՈՐՈՇՄԱՆ N 9.1 ՀԱՎԵԼՎԱԾԻ NN 9.1.7, 9.1.13, 9.1.39 ԵՎ 9.1.58 ԱՂՅՈՒՍԱԿՆԵՐՈՒՄ ԿԱՏԱՐՎՈՂ ՓՈՓՈԽՈՒԹՅՈՒՆՆԵՐԸ ԵՎ ԼՐԱՑՈՒՄՆԵՐԸ
A9: Աղյուսակ 9․1.7
C10: ՀՀ տարածքային կառավարման և ենթակառուցվածքների նախարարություն
B11: ՄԱՍ 1. ՊԵՏԱԿԱՆ ՄԱՐՄՆԻ ԳԾՈՎ ԱՐԴՅՈՒՆՔԱՅԻՆ (ԿԱՏԱՐՈՂԱԿԱՆ) ՑՈՒՑԱՆԻՇՆԵՐԸ
B14: Ծրագրի դասիչը | C14: Ծրագրի անվանումը
B15: 1189 | C15: Դպրոցների սեյսմիկ անվտանգության մակարդակի բարձրացման ծրագիր
B17: Ծրագրի միջոցառումները
B18: Ծրագրի դասիչը՝ | C18: 1189 | D18: Ցուցանիշների փոփոխությունը (ավելացումները նշված են դրական նշանով)
B19: Միջոցառման դասիչը` | C19: 11001 | D19: Ինն ամիս | E19: Տարի
B20: Միջոցառման անվանումը` | C20: Ասիական զարգացման բանկի աջակցությամբ իրականացվող դպրոցների սեյսմիկ պաշտպանության ծրագրի կառավարում
B21: Նկարագրությունը` | C21: Դպրոցների սեյսմիկ պաշտպանության ծրագիր` ՀՀ դպրոցների սեյսմիկ անվտանգության բարելավման նպատակով
B22: Միջոցառման տեսակը` | C22: Ծառայությունների մատուցում
B23: Միջոցառումն իրականացնողի անվանումը՛ | C23: Մասնագիտացված միավոր
B24: Արդյունքի չափորոշիչներ
B25: Միջոցառման վրա կատարվող ծախսը (հազար դրամ) | D25: =+'Հավելված N 2'!G127 -> 60000 | E25: =+'Հավելված N 2'!H127 -> 60000
A31: Աղյուսակ 9․1.13
C32: ՀՀ կրթության, գիտության, մշակույթի և սպորտի նախարարություն
B33: ՄԱՍ 1. ՊԵՏԱԿԱՆ ՄԱՐՄՆԻ ԳԾՈՎ ԱՐԴՅՈՒՆՔԱՅԻՆ (ԿԱՏԱՐՈՂԱԿԱՆ) ՑՈՒՑԱՆԻՇՆԵՐԸ
B36: Ծրագրի դասիչը | C36: Ծրագրի անվանումը
B37: 1041 | C37: Մեծ նվաճումների սպորտ
B39: Ծրագրի միջոցառումները
B40: Ծրագրի դասիչը՝ | C40: 1041 | D40: Ցուցանիշների փոփոխությունը (ավելացումները նշված են դրական նշանով)
B41: Միջոցառման դասիչը՝ | C41: 32001 | D41: Ինն ամիս | E41: Տարի
B42: Միջոցառման անվանումը` | C42: Մանկապատանեկան մարզադպրոցներին, մարզաձևերի ազգային ֆեդերացիաներին և այլ մարզական հասարակական կազմակերպություններին գույքով ապահովում
B43: Նկարագրությունը` | C43: Սպորտի զարգացման նպատակով մարզադպրոցներին, ազգային ֆեդերացիաներին և այլ մարզական հասարակական կազմակերպություններին մարզական և այլ անհրաժեշտ գույքի տրամադրում
B44: Միջոցառման տեսակը` | C44: Այլ պետական կազմակերպությունների կողմից օգտագործվող ոչ ֆինանսական ակտիվների հետ գործառնություններ
B45: Ակտիվն օգտագործող կազմակերպությունների անվանում | C45: Մարզական հաստատություններ
B46: Արդյունքի չափորոշիչներ
B47: Մարզաառողջարանային կենտրոնների քանակը, որոնք ապահովվում են գույքով | E47: 1
B48: Միջոցառման վրա կատարվող ծախսը (հազար դրամ) | D48: =+'Հավելված N 2'!G28 -> 4439.2 | E48: =+'Հավելված N 2'!H28 -> 4439.2
B50: Ծրագրի դասիչը | C50: Ծրագրի անվանումը
B51: 1163 | C51: Մասսայական սպորտ
B53: Ծրագրի միջոցառումները
B54: Ծրագրի դասիչը՝ | C54: 1163 | D54: Ցուցանիշների փոփոխությունը (ավելացումները նշված են դրական նշանով)
B55: Միջոցառման դասիչը՝ | C55: 32005 | D55: Ինն ամիս | E55: Տարի
B56: Միջոցառման անվանումը` | C56: «Վորքաութ» տեսակի մարզահրապարակների կառուցում
B57: Նկարագրությունը` | C57: Առողջ ապրելակերպի զարգացման նպատակով բնակելի շենքերի, դպրոցների բակերում և այլ հասարակական վայրերում «Վորքաութ» տեսակի մարզահրապարակների կառուցում, նախագծում
B58: Միջոցառման տեսակը` | C58: Ծառայությունների մատուցում
B59: Միջոցառումն իրականացնողի անվանումը՛ | C59: «Գնումների մասին» ՀՀ օրենքի համաձայն ընտրված կազմակերպություն
B60: Արդյունքի չափորոշիչներ
B61: ՀՀ Գեղարքունիքի մարզում կառուցվող «Վորքաութ» տեսակի մարզահրապարակների քանակ, հատ | E61: 2
B62: ՀՀ Սյունիքի մարզում կառուցվող «Վորքաութ» տեսակի մարզահրապարակների քանակ, հատ | E62: 3
B63: ՀՀ Վայոց Ձորի մարզում կառուցվող «Վորքաութ» տեսակի մարզահրապարակների քանակ, հատ | E63: 2
B64: ՀՀ Տավուշի մարզում կառուցվող «Վորքաութ» տեսակի մարզահրապարակների քանակ, հատ | E64: 3
B65: Միջոցառման վրա կատարվող ծախսը (հազար դրամ) | D65: =+'Հավելված N 2'!G39 -> 84045.5 | E65: =+'Հավելված N 2'!H39 -> 157281
B67: Ծրագրի դասիչը | C67: Ծրագրի անվանումը
B68: 1168 | C68: Արվեստների ծրագիր
B70: Ծրագրի միջոցառումները
B71: Ծրագրի դասիչը՝ | C71: 1168 | D71: Ցուցանիշների փոփոխությունը (նվազեցումները նշված են փակագծերում)
B72: Միջոցառման դասիչը` | C72: 32001 | D72: Ինն ամիս | E72: Տարի
B73: Միջոցառման անվանումը` | C73: Ներդրումներ թատրոնների և համերգային կազմակերպությունների շենքերի կապիտալ վերանորոգման համար
B74: Նկարագրությունը` | C74: Թատրոնների և համերգային կազմակերպությունների շենքերի մասնաշենքերի հիմնանորոգում, համաշինարարական աշխատանքներ, ջեռուցման համակարգի իրականացում, ներքին հարդարում, տարածքի բարեկարգում և նախագծում
B75: Միջոցառման տեսակը` | C75: Այլ պետական կազմակերպությունների կողմից օգտագործվող ոչ ֆինանսական ակտիվների հետ գործառնություններ
B76: Ակտիվն օգտագործող կազմակերպությունների անվանումները | C76: Թատրոններ և համերգային կազմակերպություններ
B77: Արդյունքի չափորոշիչներ
B78: Միջոցառման վրա կատարվող ծախսը (հազար դրամ) | D78: =+'Հավելված N 2'!G71 -> -43684.7 | E78: =+'Հավելված N 2'!H71 -> -61879.1
B80: Ծրագրի դասիչը | C80: Ծրագրի անվանումը
B81: 1236 | C81: Հանրակրթական և նախադպրոցական հաստատությունների հիմնում, կառուցում, բարելավում
B83: Ծրագրի միջոցառումները
B84: Ծրագրի դասիչը՝ | C84: 1236 | D84: Ցուցանիշների փոփոխությունը (ավելացումները նշված են դրական նշանով)
B85: Միջոցառման դասիչը՝ | C85: 32007 | D85: Ինն ամիս | E85: Տարի
B86: Միջոցառման անվանումը` | C86: Բարգավաճ և դիմակայուն Ասիայի և Խաղաղ օվկիանոսի Ճապոնիայի հիմնադրամի աջակցությամբ դպրոցների շենքային ապահովվածության բարելավում
B87: Նկարագրությունը` | C87: «Սեյսմիկ անվտանգության բարելավման» ծրագրի շրջանակներում Բարգավաճ և դիմակայուն Ասիայի և Խաղաղ օվկիանոսի Ճապոնիայի հիմնադրամի աջակցությամբ դպրոցների նոր շենքերի կառուցում, առկա շենքերի վերակառուցում, հիմնանորոգում
B88: Միջոցառման տեսակը` | C88: Այլ պետական կազմակերպությունների կողմից օգտագործվող ոչ ֆինանսական ակտիվների հետ գործառնություններ
B89: Ակտիվն օգտագործող կազմակերպությունների անվանումները | C89: Հանրակրթական դպրոցներ
B90: Արդյունքի չափորոշիչներ
B91: Նախագծանահաշվային փաստաթղթերի քանակ, հատ | E91: 1
B92: Միջոցառման վրա կատարվող ծախսը (հազար դրամ) | D92: =+'Հավելված N 2'!G99 -> 0 | E92: =+'Հավելված N 2'!H99 -> 19800
A98: Աղյուսակ 9․1.39
C99: ՀՀ քաղաքաշինության կոմիտե
B100: ՄԱՍ 1. ՊԵՏԱԿԱՆ ՄԱՐՄՆԻ ԳԾՈՎ ԱՐԴՅՈՒՆՔԱՅԻՆ (ԿԱՏԱՐՈՂԱԿԱՆ) ՑՈՒՑԱՆԻՇՆԵՐԸ
B103: Ծրագրի դասիչը | C103: Ծրագրի անվանումը
B104: 1075 | C104: Մշակութային ժառանգության ծրագիր
B106: Ծրագրի միջոցառումները
B107: Ծրագրի դասիչը՝ | C107: 1075 | D107: Ցուցանիշների փոփոխությունը (նվազեցումները նշված են փակագծերում)
B108: Միջոցառման դասիչը՝ | C108: 32001 | D108: Ինն ամիս | E108: Տարի
B109: Միջոցառման անվանումը` | C109: Ներդրումներ թանգարանների և պատկերասրահների հիմնանորոգման համար
B110: Նկարագրությունը` | C110: Թանգարանների և պատկերասրահների շենքերի, մասնաշենքերի հիմնանորոգում, համաշինարարական աշխատանքներ, ջեռուցման համակարգի իրականացում, ներքին հարդարում, տարածքի բարեկարգում և նախագծում
B111: Միջոցառման տեսակը` | C111: Այլ պետական կազմակերպությունների կողմից օգտագործվող ոչ ֆինանսական ակտիվների հետ գործառնություններ
B112: Ակտիվն օգտագործող կազմակերպությունների անվանումները | C112: Թանգարաններ և պատկերասրահներ
B113: Արդյունքի չափորոշիչներ
B114: Միջոցառման վրա կատարվող ծախսը (հազար դրամ) | D114: =+'Հավելված N 2'!G56 -> 0 | E114: =+'Հավելված N 2'!H56 -> -33931.7
B116: Ծրագրի դասիչը | C116: Ծրագրի անվանումը
B117: 1163 | C117: Մասսայական սպորտ
B119: Ծրագրի միջոցառումները
B120: Ծրագրի դասիչը՝ | C120: 1163 | D120: Ցուցանիշների փոփոխությունը (նվազեցումները նշված են փակագծերում)
B121: Միջոցառման դասիչը՝ | C121: 32001 | D121: Ինն ամիս | E121: Տարի
B122: Միջոցառման անվանումը` | C122: Մարզական օբյեկտների շինարարություն
B123: Նկարագրությունը` | C123: Մարզական օբյեկտների շենքերի (մասնաշենքերի) կառուցում (համաշինարարական աշխատանքներ, ջեռուցման համակարգի իրականացում, ներքին հարդարում, տարածքի բարեկարգում) և նախագծում
B124: Միջոցառման տեսակը` | C124: Այլ պետական կազմակերպությունների կողմից օգտագործվող ոչ ֆինանսական ակտիվների հետ գործառնություններ
B125: Ակտիվն օգտագործող կազմակերպությունների անվանումները | C125: Մարզական հաստատություններ
B126: Արդյունքի չափորոշիչներ
B127: Նախագծանահաշվային փաստաթղթերի քանակ, հատ | E127: -1
B128: Միջոցառման վրա կատարվող ծախսը (հազար դրամ) | D128: =+'Հավելված N 2'!G116 -> -25000 | E128: =+'Հավելված N 2'!H116 -> -65909.4
A134: Աղյուսակ 9․1.58
C135: ՀՀ կառավարություն
B136: ՄԱՍ 1. ՊԵՏԱԿԱՆ ՄԱՐՄՆԻ ԳԾՈՎ ԱՐԴՅՈՒՆՔԱՅԻՆ (ԿԱՏԱՐՈՂԱԿԱՆ) ՑՈՒՑԱՆԻՇՆԵՐԸ
...

Sheet Հավելված N 8
H1: Հավելված N 8
H2: ՀՀ կառավարության 2024 թվականի
H3: ______________ ի ___Ն որոշման
A6: ՀԱՅԱՍՏԱՆԻ ՀԱՆՐԱՊԵՏՈՒԹՅԱՆ ԿԱՌԱՎԱՐՈՒԹՅԱՆ 2023 ԹՎԱԿԱՆԻ ԴԵԿՏԵՄԲԵՐԻ 28-Ի N 2323-Ն N 10 ՀԱՎԵԼՎԱԾՈՒՄ ԿԱՏԱՐՎՈՂ ՓՈՓՈԽՈՒԹՅՈՒՆՆԵՐԸ ԵՎ ԼՐԱՑՈՒՄՆԵՐԸ
A10: Կոդը | B10: Անվանումը | E10: Գնման ձևը | F10: Չափման միավորը | G10: Միավորի գինը | H10: Ցուցանիշների փոփոխությունը (ավելացումները նշված են դրական նշանով, իսկ նվազեցումները՝ փակագծերում)
H11: Քանակը | I11: Գումարը (հազար դրամ)
A12: 1 | B12: 2 | E12: 3 | F12: 4 | G12: 5 | H12: 6 | I12: 7
A13: ՀՀ կրթության, գիտության, մշակույթի և սպորտի նախարարություն | I13: =+I14+I56+I63 -> 119641.1
A14: Բաժին N 08 | B14: Խումբ N 01 | C14: Դաս N 01 | D14: Հանգստի և սպորտի ծառայություններ | I14: =+I15+I41 -> 161720.2
A15: 1041-32001 | B15: Մանկապատանեկան մարզադպրոցներին, մարզաձևերի ազգային ֆեդերացիաներին այլ մարզական կազմակերպություններին գույքով ապահովում | I15: =+I16 -> 4439.2
B16: ՄԱՍ I. ԱՊՐԱՆՔՆԵՐ | I16: =SUM(I17:I40) -> 4439.2
A17: 37421210-503 | B17: վարժասարքեր | E17: ԷԱՃ | F17: հատ | G17: 387621 | H17: 1 | I17: =+ROUNDUP(H17*G17/1000,1) -> 387.7
A18: 37421210-504 | B18: վարժասարքեր | E18: ԷԱՃ | F18: հատ | G18: 693600 | H18: 1 | I18: =+ROUNDUP(H18*G18/1000,1) -> 693.6
A19: 37421210-505 | B19: վարժասարքեր | E19: ԷԱՃ | F19: հատ | G19: 115200 | H19: 1 | I19: =+ROUNDUP(H19*G19/1000,1) -> 115.2
A20: 37421210-506 | B20: վարժասարքեր | E20: ԷԱՃ | F20: հատ | G20: 142800 | H20: 1 | I20: =+ROUNDUP(H20*G20/1000,1) -> 142.8
A21: 37421210-507 | B21: վարժասարքեր | E21: ԷԱՃ | F21: հատ | G21: 822000 | H21: 1 | I21: =+ROUNDUP(H21*G21/1000,1) -> 822
A22: 37421210-508 | B22: վարժասարքեր | E22: ԷԱՃ | F22: հատ | G22: 71000 | H22: 1 | I22: =+ROUNDUP(H22*G22/1000,1) -> 71
A23: 37421210-509 | B23: վարժասարքեր | E23: ԷԱՃ | F23: հատ | G23: 115000 | H23: 1 | I23: =+ROUNDUP(H23*G23/1000,1) -> 115
A24: 37421210-510 | B24: վարժասարքեր | E24: ԷԱՃ | F24: հատ | G24: 612000 | H24: 1 | I24: =+ROUNDUP(H24*G24/1000,1) -> 612
A25: 37431270-501 | B25: մարզագունդ (հանտել) | E25: ԷԱՃ | F25: հատ | G25: 12207 | H25: 2 | I25: =+ROUNDUP(H25*G25/1000,1) -> 24.5
A26: 37431270-502 | B26: մարզագունդ (հանտել) | E26: ԷԱՃ | F26: հատ | G26: 10680 | H26: 2 | I26: =+ROUNDUP(H26*G26/1000,1) -> 21.4
A27: 37431270-503 | B27: մարզագունդ (հանտել) | E27: ԷԱՃ | F27: հատ | G27: 15259 | H27: 2 | I27: =+ROUNDUP(H27*G27/1000,1) -> 30.6
A28: 37431270-504 | B28: մարզագունդ (հանտել) | E28: ԷԱՃ | F28: հատ | G28: 8916 | H28: 2 | I28: =+ROUNDUP(H28*G28/1000,1) -> 17.9
... A40: 37451861-501 | B40: ֆուտբոլի դարպասներ | E40: ԷԱՃ | F40: հատ | G40: 126000 | H40: 2 | I40: =+ROUNDUP(H40*G40/1000,1) -> 252
A41: 1163-32005 | B41: «Վորքաութ» տեսակի մարզահրապարակների կառուցում | I41: =+I42+I47 -> 157281
B42: ՄԱՍ II. ԱՇԽԱՏԱՆՔՆԵՐ | I42: =SUM(I43:I46) -> 152889.7
A43: 45211137-501 | B43: Մարզական հրապարակների հետ կապված կառույցների կառուցման աշխատանքներ | E43: ԳՀ | F43: դրամ | G43: 32254416 | H43: 1 | I43: =+ROUNDUP(H43*G43/1000,1) -> 32254.5
A44: 45211137-502 | B44: Մարզական հրապարակների հետ կապված կառույցների կառուցման աշխատանքներ | E44: ԳՀ | F44: դրամ | G44: 46751640 | H44: 1 | I44: =+ROUNDUP(H44*G44/1000,1) -> 46751.7
A45: 45211137-503 | B45: Մարզական հրապարակների հետ կապված կառույցների կառուցման աշխատանքներ | E45: ԳՀ | F45: դրամ | G45: 44044542 | H45: 1 | I45: =+ROUNDUP(H45*G45/1000,1) -> 44044.6
A46: 45211137-504 | B46: Մարզական հրապարակների հետ կապված կառույցների կառուցման աշխատանքներ | E46: ԳՀ | F46: դրամ | G46: 29838840 | H46: 1 | I46: =+ROUNDUP(H46*G46/1000,1) -> 29838.9
B47: ՄԱՍ III. ԾԱՌԱՅՈՒԹՅՈՒՆՆԵՐ | I47: =SUM(I48:I55) -> 4391.3
A48: 71351540 | B48: տեխնիկական հսկողության ծառայություններ | E48: ԳՀ | F48: դրամ | G48: 703890 | H48: 1 | I48: =+ROUND(H48*G48/1000,1) -> 703.9
A49: 71351540 | B49: տեխնիկական հսկողության ծառայություններ | E49: ԳՀ | F49: դրամ | G49: 995650 | H49: 1 | I49: =+ROUND(H49*G49/1000,1) -> 995.7
A50: 71351540 | B50: տեխնիկական հսկողության ծառայություններ | E50: ԳՀ | F50: դրամ | G50: 691530 | H50: 1 | I50: =+ROUND(H50*G50/1000,1) -> 691.5
A51: 71351540 | B51: տեխնիկական հսկողության ծառայություններ | E51: ԳՀ | F51: դրամ | G51: 961190 | H51: 1 | I51: =+ROUND(H51*G51/1000,1) -> 961.2
A52: 98111140 | B52: հեղինակային հսկողության ծառայություններ | E52: ՄԱ | F52: դրամ | G52: 211170 | H52: 1 | I52: =+ROUND(H52*G52/1000,1) -> 211.2
A53: 98111140 | B53: հեղինակային հսկողության ծառայություններ | E53: ՄԱ | F53: դրամ | G53: 331880 | H53: 1 | I53: =+ROUND(H53*G53/1000,1) -> 331.9
A54: 98111140 | B54: հեղինակային հսկողության ծառայություններ | E54: ՄԱ | F54: դրամ | G54: 207460 | H54: 1 | I54: =+ROUND(H54*G54/1000,1) -> 207.5
A55: 98111140 | B55: հեղինակային հսկողության ծառայություններ | E55: ՄԱ | F55: դրամ | G55: 288350 | H55: 1 | I55: =+ROUND(H55*G55/1000,1) -> 288.4
A56: Բաժին N 08 | B56: Խումբ N 02 | C56: Դաս N 05 | D56: Արվեստ | I56: =+I57 -> -61879.1
A57: 1168-32001 | B57: Ներդրումներ թատրոնների և համերգային կազմակերպությունների շենքերի կապիտալ վերանորոգման համար | I57: =+I58+I60 -> -61879.1
B58: ՄԱՍ II. ԱՇԽԱՏԱՆՔՆԵՐ | I58: =+I59 -> -60311
A59: 45611200-1 | B59: մշակութային օբյեկտների հիմնանորոգում | E59: ԲՄ | F59: դրամ | I59: -60311
B60: ՄԱՍ III. ԾԱՌԱՅՈՒԹՅՈՒՆՆԵՐ | I60: =SUM(I61:I62) -> -1568.1
A61: 71351540-1 | B61: տեխնիկական հսկողության ծառայություններ | E61: ԳՀ | F61: դրամ | I61: -1206.2
A62: 98111140-1 | B62: հեղինակային հսկողության ծառայություններ | E62: ՄԱ | F62: դրամ | I62: -361.9
A63: Բաժին N 09 | B63: Խումբ N 02 | C63: Դաս N 01 | D63: Հիմնական ընդհանուր կրթություն | I63: =+I64 -> 19800
A64: 1236-32007 | B64: Բարգավաճ և դիմակայուն Ասիայի և Խաղաղ օվկիանոսի Ճապոնիայի հիմնադրամի աջակցությամբ դպրոցների շենքային ապահովվածության բարելավում | I64: =+I65 -> 19800
B65: ՄԱՍ III. ԾԱՌԱՅՈՒԹՅՈՒՆՆԵՐ | I65: =SUM(I66:I67) -> 19800
A66: 71241200 | B66: նախագծերի պատրաստում, ծախսերի գնահատում | E66: ԳՀ | F66: դրամ | G66: 18500000 | H66: 1 | I66: =+ROUNDUP(H66*G66/1000,1) -> 18500
A67: 50531140 | B67: փորձաքննության ծառայություններ | E67: ԳՀ | F67: դրամ | G67: 1300000 | H67: 1 | I67: =+ROUND(H67*G67/1000,1) -> 1300
A69: ՀՀ քաղաքաշինության կոմիտե | I69: =+I70+I77 -> -99841.1
A70: Բաժին N 08 | B70: Խումբ N 02 | C70: Դաս N 02 | D70: Թանգարաններ և ցուցասրահներ | I70: =+I71 -> -33931.7
A71: 1075-32001 | B71: Ներդրումներ թանգարանների և պատկերասրահների հիմնանորոգման համար | I71: =+I72+I74 -> -33931.7
B72: ՄԱՍ II. ԱՇԽԱՏԱՆՔՆԵՐ | I72: =+I73 -> -33355.8
A73: 45611200-1 | B73: մշակութային օբյեկտների հիմնանորոգում | E73: ԲՄ | F73: դրամ | I73: -33355.8
B74: ՄԱՍ III. ԾԱՌԱՅՈՒԹՅՈՒՆՆԵՐ | I74: =SUM(I75:I76) -> -575.9
A75: 71351540-1 | B75: տեխնիկական հսկողության ծառայություններ | E75: ԳՀ | F75: դրամ | I75: -411.4
A76: 98111140-1 | B76: հեղինակային հսկողության ծառայություններ | E76: ՄԱ | F76: դրամ | I76: -164.5
A77: Բաժին N 09 | B77: Խումբ N 06 | C77: Դաս N 01 | D77: Կրթությանը տրամադրվող օժանդակ ծառայություններ | I77: =+I78 -> -65909.4
A78: 1163-32001 | B78: Մարզական օբյեկտների շինարարություն | I78: =+I79 -> -65909.4
B79: ՄԱՍ III. ԾԱՌԱՅՈՒԹՅՈՒՆՆԵՐ | I79: =SUM(I80:I83) -> -65909.4
A80: 71241200-1 | B80: նախագծերի պատրաստում, ծախսերի գնահատում | E80: ԳՀ | F80: դրամ | G80: 23800000 | H80: -1 | I80: =+ROUNDUP(H80*G80/1000,1) -> -23800
A81: 71241200-3 | B81: նախագծերի պատրաստում, ծախսերի գնահատում | E81: ԳՀ | F81: դրամ | G81: 38961300 | H81: -1 | I81: =+ROUNDUP(H81*G81/1000,1) -> -38961.3
A82: 50531140-1 | B82: փորձաքննության ծառայություններ | E82: ԳՀ | F82: դրամ | G82: 1200000 | H82: -1 | I82: =+ROUND(H82*G82/1000,1) -> -1200
A83: 50531140-3 | B83: փորձաքննության ծառայություններ | E83: ԳՀ | F83: դրամ | G83: 1948100 | H83: -1 | I83: =+ROUND(H83*G83/1000,1) -> -1948.1

Sheet Հավելված N 9
G1: Հավելված N 9
H2: ՀՀ կառավարության 2024 թվականի
H3: ______________ ի ___Ն որոշման
A6: ՀԱՅԱՍՏԱՆԻ ՀԱՆՐԱՊԵՏՈՒԹՅԱՆ 2024 ԹՎԱԿԱՆԻ ՊԵՏԱԿԱՆ ԲՅՈՒՋԵՈՎ ՆԱԽԱՏԵՍՎԱԾ՝ ՀԱՅԱՍՏԱՆԻ ՀԱՆՐԱՊԵՏՈՒԹՅԱՆ ԿԱՌԱՎԱՐՈՒԹՅԱՆ ՊԱՀՈՒՍՏԱՅԻՆ ՖՈՆԴԻՑ ՀԱՏԿԱՑՈՒՄՆԵՐ ԿԱՏԱՐԵԼՈՒ ՎԵՐԱԲԵՐՅԱԼ
G8: հազ. դրամներով
A9: Գործառական դասիչը | D9: Ծրագրային դասիչը | F9: Բյուջետային հատկացումների գլխավոր կարգադրիչների, ծրագրերի, միջոցառումների և միջոցառումները կատարող պետական մարմինների անվանումները | G9: Ցուցանիշների փոփոխությունը (ավելացումները նշված են դրական նշանով, իսկ նվազեցումները՝ փակագծերում)
A10: Բաժին | B10: Խումբ | C10: Դաս | D10: Ծրագիր | E10: Միջոցառում | G10: Ինն ամիս | H10: Տարի
F11: ԸՆԴԱՄԵՆԸ | G11: =+G13+G34 -> 0 | H11: =+H13+H34 -> 0
F12: այդ թվում
F13: ՀՀ ԿԱՌԱՎԱՐՈՒԹՅՈՒՆ | G13: =+G14 -> 0 | H13: =+H14 -> -19800
A14: 11 | F14: ՀԻՄՆԱԿԱՆ ԲԱԺԻՆՆԵՐԻՆ ՉԴԱՍՎՈՂ ՊԱՀՈՒՍՏԱՅԻՆ ՖՈՆԴԵՐ | G14: =+G16 -> 0 | H14: =+H16 -> -19800
F15: այդ թվում`
B16: 01 | F16: ՀՀ կառավարության և համայնքների պահուստային ֆոնդ | G16: =+G18 -> 0 | H16: =+H18 -> -19800
F17: այդ թվում`
C18: 01 | F18: ՀՀ կառավարության պահուստային ֆոնդ | G18: =+G20 -> 0 | H18: =+H20 -> -19800
F19: այդ թվում`
F20: ՀՀ կառավարություն | G20: =+G22 -> 0 | H20: =+H22 -> -19800
F21: այդ թվում`
D22: 1139 | E22: ՀՀ կառավարության պահուստային ֆոնդ | F22: ՀՀ կառավարության պահուստային ֆոնդ | G22: =+G24 -> 0 | H22: =+H24 -> -19800
F23: այդ թվում`
E24: 11001 | F24: ՀՀ կառավարության պահուստային ֆոնդ | G24: =+G26 -> 0 | H24: =+H26 -> -19800
F25: այդ թվում` ըստ կատարողների
F26: ՀՀ կառավարություն | G26: =+G28 -> 0 | H26: =+H28 -> -19800
F27: այդ թվում՝ բյուջետային ծախսերի տնտեսագիտական դասակարգման հոդվածներ
F28: ԸՆԴԱՄԵՆԸ ԾԱԽՍԵՐ | G28: =+G29 -> 0 | H28: =+H29 -> -19800
F29: ՈՉ ՖԻՆԱՆՍԱԿԱՆ ԱԿՏԻՎՆԵՐԻ ԳԾՈՎ ԾԱԽՍԵՐ | G29: =+G30 -> 0 | H29: =+H30 -> -19800
F30: ՀԻՄՆԱԿԱՆ ՄԻՋՈՑՆԵՐ | G30: =+G31 -> 0 | H30: =+H31 -> -19800
F31: ՇԵՆՔԵՐ ԵՎ ՇԻՆՈՒԹՅՈՒՆՆԵՐ | G31: =+G32 -> 0 | H31: =+H32 -> -19800
F32: - Շենքերի և շինությունների շինարարություն | G32: =+'Հավելված N 2'!G160 -> 0 | H32: =+'Հավելված N 2'!H160 -> -19800
F34: ՀՀ ԿՐԹՈՒԹՅԱՆ, ԳԻՏՈՒԹՅԱՆ, ՄՇԱԿՈՒՅԹԻ ԵՎ ՍՊՈՐՏԻ ՆԱԽԱՐԱՐՈՒԹՅՈՒՆ | G34: =+G35 -> 0 | H34: =+H35 -> 19800
A35: 09 | F35: ԿՐԹՈՒԹՅՈՒՆ | G35: =+G37 -> 0 | H35: =+H37 -> 19800
F36: այդ թվում`
B37: 02 | F37: Միջնակարգ ընդհանուր կրթություն | G37: =+G39 -> 0 | H37: =+H39 -> 19800
F38: այդ թվում`
C39: 01 | F39: Հիմնական ընդհանուր կրթություն | G39: =+G41 -> 0 | H39: =+H41 -> 19800
F40: այդ թվում`
F41: ՀՀ կրթության, գիտության, մշակույթի և սպորտի նախարարություն | G41: =+G43 -> 0 | H41: =+H43 -> 19800
F42: այդ թվում`
D43: 1236 | E43: Հանրակրթական և նախադպրոցական հաստատությունների հիմնում, կառուցում, բարելավում | G43: =+G45 -> 0 | H43: =+H45 -> 19800
F44: այդ թվում`
E45: 32007 | F45: Բարգավաճ և դիմակայուն Ասիայի և Խաղաղ օվկիանոսի Ճապոնիայի հիմնադրամի աջակցությամբ դպրոցների շենքային ապահովվածության բարելավում | G45: =+G47 -> 0 | H45: =+H47 -> 19800
F46: այդ թվում` ըստ կատարողների
F47: ՀՀ կրթության, գիտության, մշակույթի և սպորտի նախարարություն | G47: =+G49 -> 0 | H47: =+H49 -> 19800
F48: այդ թվում՝ բյուջետային ծախսերի տնտեսագիտական դասակարգման հոդվածներ
F49: ԸՆԴԱՄԵՆԸ ԾԱԽՍԵՐ | G49: =+G50 -> 0 | H49: =+H50 -> 19800
F50: ՈՉ ՖԻՆԱՆՍԱԿԱՆ ԱԿՏԻՎՆԵՐԻ ԳԾՈՎ ԾԱԽՍԵՐ | G50: =+G51 -> 0 | H50: =+H51 -> 19800
F51: ՀԻՄՆԱԿԱՆ ՄԻՋՈՑՆԵՐ | G51: =+G52 -> 0 | H51: =+H52 -> 19800
F52: ԱՅԼ ՀԻՄՆԱԿԱՆ ՄԻՋՈՑՆԵՐ | G52: =+G53 -> 0 | H52: =+H53 -> 19800
F53: - Նախագծահետազոտական ծախսեր | G53: =+'Հավելված N 2'!G105 -> 0 | H53: =+'Հավելված N 2'!H105 -> 19800
