Workbook

Sheet 1
E1: Հավելված N1
E2: ՀՀ կառավարության 2024 թվականի
E3: ______________ ի ___Ն որոշման
A5: «ՀԱՅԱUՏԱՆԻ ՀԱՆՐԱՊԵՏՈՒԹՅԱՆ 2024 ԹՎԱԿԱՆԻ ՊԵՏԱԿԱՆ ԲՅՈՒՋԵԻ ՄԱUԻՆ» OՐԵՆՔԻ N 1 ՀԱՎԵԼՎԱԾԻ N 2 ԱՂՅՈՒՍԱԿՈՒՄ ԵՎ ՀԱՅԱՍՏԱՆԻ ՀԱՆՐԱՊԵՏՈՒԹՅԱՆ ԿԱՌԱՎԱՐՈՒԹՅԱՆ 2023 ԹՎԱԿԱՆԻ ԴԵԿՏԵՄԲԵՐԻ 28-Ի N 2323-Ն ՈՐՈՇՄԱՆ N 5 ՀԱՎԵԼՎԱԾԻ N 1 ԱՂՅՈՒՍԱԿՈՒՄ ԿԱՏԱՐՎՈՂ ՓՈՓՈԽՈՒԹՅՈՒՆՆԵՐԸ
E6: հազ. դրամ
A7: Ծրագրային դասիչը | C7: Բյուջետային հատկացումների գլխավոր կարգադրիչների, ծրագրերի և միջոցառումների անվանումները | D7: Ցուցանիշների փոփոխությունը (ավելացումները նշված են դրական նշանով, իսկ նվազեցումները` փակագծերում)
A8: Ծրագիր | B8: Միջոցառում | D8: Ինն ամիս | E8: Տարի
A9: 1192 | C9: ԸՆԴԱՄԵՆԸ | D9: =D31 -> 0 | E9: =E31 -> 0
C10: ՀՀ տարածքային կառավարման և ենթակառուցվածքների նախարարություն | D10: =D11 -> 0 | E10: =E11 -> 0
A11: 1004 | C11: Ծրագրի անվանումը` | D11: =D18+D25 -> 0 | E11: =E18+E25 -> 0
C12: Ոռոգման համակարգի առողջացում
C13: Ծրագրի նպատակը`
C14: Ոռոգման ծառայությունների հասանելիության և մատչելիության ապահովում
C15: Վերջնական արդյունքի նկարագրությունը`
C16: Ոռոգման ջրի մատակարարման արդյունավետության և հասանելիության բարելավում՝ կորուստների կրճատում
A17: Ծրագրի միջոցառումներ
B18: 31002 | C18: Միջոցառման անվանումը` | D18: ='3'!G21 -> -5878.4 | E18: ='3'!H21 -> -5878.4
C19: Ոռոգման համակարգերի հիմնանորոգում
C20: Միջոցառման նկարագրությունը`
C21: Ոռոգման համակարգերի հիմնանորոգում
C22: Միջոցառման տեսակը
C23: Պետական մարմինների կողմից օգտագործվող ոչ ֆինանսական ակտիվների հետ գործառնություններ
A24: Ծրագրի միջոցառումներ
B25: 31002 | C25: Միջոցառման անվանումը` | D25: ='3'!G30 -> 5878.4 | E25: ='3'!H30 -> 5878.4
C26: Ոռոգման համակարգերի հիմնանորոգում
C27: Միջոցառման նկարագրությունը`
C28: Ոռոգման համակարգերի հիմնանորոգում
C29: Միջոցառման տեսակը
C30: Պետական մարմինների կողմից օգտագործվող ոչ ֆինանսական ակտիվների հետ գործառնություններ
C31: ՀՀ կառավարություն | D31: =D32 -> 0 | E31: =E32 -> 0
A32: 1139 | C32: Ծրագրի անվանումը` | D32: =D39+D45 -> 0 | E32: =E39+E45 -> 0
C33: ՀՀ կառավարության պահուստային ֆոնդ
C34: Ծրագրի նպատակը`
C35: Պետական բյուջեում չկանխատեսված՝ ինչպես նաեւ բյուջետային երաշխիքների ապահովման ծախսերի ֆինանսավորման ապահովում
C36: Վերջնական արդյունքի նկարագրությունը`
C37: Պահուստային ֆոնդի կառավարման արդյունավետության և թափանցիկության ապահովում
C38: Ծրագրի միջոցառումներ
B39: 11001 | C39: Միջոցառման անվանումը` | D39: ='3'!G50 -> 5878.4 | E39: ='3'!H50 -> 5878.4
C40: ՀՀ կառավարության պահուստային ֆոնդ
C41: Միջոցառման նկարագրությունը`
C42: ՀՀ պետական բյուջեում նախատեսված ելքերի լրացուցիչ ֆինանսավորման՝ պետական բյուջեում չկանխատեսված ելքերի՝ ինչպես նաև բյուջետային երաշխիքների ապահովման ելքերի ֆինանսավորման ապահովում
C43: Միջոցառման տեսակը
C44: Ծառայությունների մատուցում
B45: 11001 | C45: Միջոցառման անվանումը` | D45: ='3'!G58 -> -5878.4 | E45: ='3'!H58 -> -5878.4
C46: ՀՀ կառավարության պահուստային ֆոնդ
C47: Միջոցառման նկարագրությունը`
C48: ՀՀ պետական բյուջեում նախատեսված ելքերի լրացուցիչ ֆինանսավորման՝ պետական բյուջեում չկանխատեսված ելքերի՝ ինչպես նաև բյուջետային երաշխիքների ապահովման ելքերի ֆինանսավորման ապահովում
C49: Միջոցառման տեսակը
C50: Ծառայությունների մատուցում

Sheet 2
A1: Հավելված N 2
A2: ՀՀ կառավարության 2024 թվականի
A3: -ի N -Ն որոշման
A4: «ՀԱՅԱՍՏԱՆԻ ՀԱՆՐԱՊԵՏՈՒԹՅԱՆ 2024 ԹՎԱԿԱՆԻ ՊԵՏԱԿԱՆ ԲՅՈՒՋԵԻ ՄԱՍԻՆ» ՀԱՅԱՍՏԱՆԻ ՀԱՆՐԱՊԵՏՈՒԹՅԱՆ ՕՐԵՆՔԻ N 1 ՀԱՎԵԼՎԱԾԻ N 3 ԱՂՅՈՒՍԱԿՈՒՄ ԿԱՏԱՐՎՈՂ ՓՈՓՈԽՈՒԹՅՈՒՆՆԵՐԸ ԵՎ ԼՐԱՑՈՒՄԸ
G5: (հազ. դրամ)
A6: Ծրագրային դասիչ | C6: Բյուջետային գլխավոր կարգադրիչների, ծրագրերի, միջոցառումների և ուղղությունների անվանումները | D6: Ցուցանիշների փոփոխությունը (ավելացումները նշված են դրական նշանով, իսկ նվազեցումները՝ փակագծերում)
D7: Ընդամենը, | E7: այդ թվում՝
A8: Ծրագիր | B8: Միջոցառում | E8: Կառուցման աշխատանքներ | F8: Վերակառուցման, վերանորոգման և վերականգնման աշխատանքներ | G8: Նախագծահե- տազոտական, գեոդեզիա- քարտեզագրա- կան աշխա- տանքներ | H8: Ոչ ֆինանսական այլ ակտիվների ձեռքբերում
C9: ԸՆԴԱՄԵՆԸ | D9: =SUM(E9:H9) -> 0 | E9: =E11 -> 5878.4 | F9: =F11 -> 0 | G9: =G11 -> -5878.4 | H9: =H11 -> 0
C10: այդ թվում՝
C11: ՀՀ ՏԱՐԱԾՔԱՅԻՆ ԿԱՌԱՎԱՐՄԱՆ ԵՎ ԵՆԹԱԿԱՌՈՒՑՎԱԾՔՆԵՐԻ ՆԱԽԱՐԱՐՈՒԹՅՈՒՆ | D11: =D13 -> 0 | E11: =E13 -> 5878.4 | F11: =F13 -> 0 | G11: =G13 -> -5878.4 | H11: =H13 -> 0
C12: այդ թվում`
A13: 1004 | B13: 31002 | C13: Ոռոգման համակարգերի հիմնանորոգում | D13: =SUM(E13:H13) -> 0 | E13: =SUM(E15:E16) -> 5878.4 | F13: =SUM(F15:F16) -> 0 | G13: =SUM(G15:G16) -> -5878.4 | H13: =SUM(H15:H16) -> 0
C14: այդ թվում`
C15: Ոռոգման համակարգերում վերականգնման աշխատանքների նախագծերի և փորձաքննությունների ձեռքբերում | D15: =SUM(E15:H15) -> -5878.4 | E15: 0 | F15: 0 | G15: -5878.4 | H15: 0
C16: Երևան քաղաքի Եղվարդի խճուղու միջնամասից մինչև Հալաբյան փողոցի վերջնամասը 1954 մ երկարությամբ և 525 մմ տրամագծով ոռոգման ջրագծի կառուցում | D16: =SUM(E16:H16) -> 5878.4 | E16: 5878.4 | F16: 0 | G16: 0 | H16: 0

Sheet 3
A1: Հավելված N 3
A2: ՀՀ կառավարության 2024 թվականի
A3: -ի N -Ն որոշման
A4: ՀԱՅԱՍՏԱՆԻ ՀԱՆՐԱՊԵՏՈՒԹՅԱՆ ԿԱՌԱՎԱՐՈՒԹՅԱՆ 2023 ԹՎԱԿԱՆԻ ԴԵԿՏԵՄԲԵՐԻ 28-Ի N 2323-Ն ՈՐՈՇՄԱՆ N 3 ԵՎ N 4 ՀԱՎԵԼՎԱԾՆԵՐՈՒՄ ԿԱՏԱՐՎՈՂ ՓՈՓՈԽՈՒԹՅՈՒՆՆԵՐԸ
G5: (հազ. դրամ)
A6: Գործառական դասիչը | D6: Ծրագրային դասիչը | F6: Բյուջետային ծախսերի գործառական դասակարգման բաժինների, խմբերի և դասերի, բյուջետային ծրագրերի միջոցառումների, բյուջետային հատկացումների գլխավոր կարգադրիչների անվանումները | G6: Ցուցանիշների փոփոխությունը (ավելացումները նշված են դրական նշանով, իսկ նվազեցումները՝ փակագծերում)
A7: Բաժին | B7: Խումբ | C7: Դաս | D7: Ծրագիր | E7: Միջոցառում | G7: Ինն ամիս | H7: Տարի
F8: ԸՆԴԱՄԵՆԸ ԾԱԽՍԵՐ | G8: =G10 -> 0 | H8: =H10 -> 0
F9: այդ թվում`
F10: ՀՀ տարածքային կառավարման և ենթակառուցվածքների նախարարություն | G10: =G11 -> 0 | H10: =H11 -> 0
A11: 04 | F11: ՏՆՏԵՍԱԿԱՆ ՀԱՐԱԲԵՐՈՒԹՅՈՒՆՆԵՐ | G11: =G13 -> 0 | H11: =H13 -> 0
F12: այդ թվում`
B13: 02 | F13: Գյուղատնտեսություն, անտառային տնտեսություն, ձկնորսություն և որսորդություն | G13: =G15 -> 0 | H13: =H15 -> 0
F14: այդ թվում`
C15: 04 | F15: Ոռոգում | G15: =G17 -> 0 | H15: =H17 -> 0
F16: այդ թվում`
F17: ՀՀ տարածքային կառավարման և ենթակառուցվածքների նախարարություն | G17: =G19 -> 0 | H17: =H19 -> 0
F18: այդ թվում`
D19: 1004 | F19: Ոռոգման համակարգի առողջացում | G19: =G21+G30 -> 0 | H19: =H21+H30 -> 0
F20: այդ թվում`
E21: 31002 | F21: Ոռոգման համակարգերի հիմնանորոգում | G21: =G23 -> -5878.4 | H21: =H23 -> -5878.4
F22: այդ թվում` ըստ կատարողների
F23: ՀՀ տարածքային կառավարման և ենթակառուցվածքների նախարարության ջրային կոմիտե | G23: =G25 -> -5878.4 | H23: =H25 -> -5878.4
F24: այդ թվում` բյուջետային ծախսերի տնտեսագիտական դասակարգման հոդվածներ
F25: ԸՆԴԱՄԵՆԸ ԾԱԽՍԵՐ | G25: =G26 -> -5878.4 | H25: =H26 -> -5878.4
F26: ՈՉ ՖԻՆԱՆՍԱԿԱՆ ԱԿՏԻՎՆԵՐԻ ԳԾՈՎ ԾԱԽՍԵՐ | G26: =G27 -> -5878.4 | H26: =H27 -> -5878.4
F27: ՀԻՄՆԱԿԱՆ ՄԻՋՈՑՆԵՐ | G27: =G28 -> -5878.4 | H27: =H28 -> -5878.4
F28: ԱՅԼ ՀԻՄՆԱԿԱՆ ՄԻՋՈՑՆԵՐ | G28: =G29 -> -5878.4 | H28: =H29 -> -5878.4
F29: - Նախագծահետազոտական ծախսեր | G29: ='2'!G15 -> -5878.4 | H29: =G29 -> -5878.4
E30: 31002 | F30: Ոռոգման համակարգերի հիմնանորոգում | G30: =G32 -> 5878.4 | H30: =H32 -> 5878.4
F31: այդ թվում` ըստ կատարողների
F32: ՀՀ տարածքային կառավարման և ենթակառուցվածքների նախարարության ջրային կոմիտե | G32: =G34 -> 5878.4 | H32: =H34 -> 5878.4
F33: այդ թվում` բյուջետային ծախսերի տնտեսագիտական դասակարգման հոդվածներ
F34: ԸՆԴԱՄԵՆԸ ԾԱԽՍԵՐ | G34: =G35 -> 5878.4 | H34: =H35 -> 5878.4
F35: ՈՉ ՖԻՆԱՆՍԱԿԱՆ ԱԿՏԻՎՆԵՐԻ ԳԾՈՎ ԾԱԽՍԵՐ | G35: =G36 -> 5878.4 | H35: =H36 -> 5878.4
F36: ՀԻՄՆԱԿԱՆ ՄԻՋՈՑՆԵՐ | G36: =G37 -> 5878.4 | H36: =H37 -> 5878.4
F37: ՇԵՆՔԵՐ ԵՎ ՇԻՆՈՒԹՅՈՒՆՆԵՐ | G37: =G38 -> 5878.4 | H37: =H38 -> 5878.4
F38: - Շենքերի և շինությունների շինարարություն | G38: =-G65 -> 5878.4 | H38: =-H65 -> 5878.4
F39: ՀՀ Կառավարություն | G39: =G40 -> 0 | H39: =H40 -> 0
A40: 11 | F40: ՀԻՄՆԱԿԱՆ ԲԱԺԻՆՆԵՐԻՆ ՉԴԱՍՎՈՂ ՊԱՀՈՒՍՏԱՅԻՆ ՖՈՆԴԵՐ | G40: =G42 -> 0 | H40: =H42 -> 0
F41: այդ թվում`
B42: 01 | F42: ՀՀ կառավարության և համայնքների պահուստային ֆոնդ | G42: =G44 -> 0 | H42: =H44 -> 0
F43: այդ թվում`
C44: 01 | F44: ՀՀ կառավարության պահուստային ֆոնդ | G44: =G46 -> 0 | H44: =H46 -> 0
F45: այդ թվում`
F46: ՀՀ կառավարություն | G46: =G48 -> 0 | H46: =H48 -> 0
F47: այդ թվում`
D48: 1139 | F48: ՀՀ կառավարության պահուստային ֆոնդ | G48: =G50+G58 -> 0 | H48: =H50+H58 -> 0
F49: այդ թվում`
E50: 11001 | F50: ՀՀ կառավարության պահուստային ֆոնդ | G50: =G52 -> 5878.4 | H50: =H52 -> 5878.4
F51: այդ թվում` ըստ կատարողների
F52: ՀՀ կառավարություն | G52: =G54 -> 5878.4 | H52: =H54 -> 5878.4
F53: այդ թվում` բյուջետային ծախսերի տնտեսագիտական դասակարգման հոդվածներ
F54: ԸՆԴԱՄԵՆԸ ԾԱԽՍԵՐ | G54: =G55 -> 5878.4 | H54: =H55 -> 5878.4
F55: ԸՆԹԱՑԻԿ ԾԱԽՍԵՐ | G55: =G56 -> 5878.4 | H55: =H56 -> 5878.4
F56: ԱՅԼ ԾԱԽՍԵՐ | G56: =G57 -> 5878.4 | H56: =H57 -> 5878.4
F57: Պահուստային միջոցներ | G57: =-G21 -> 5878.4 | H57: =-H21 -> 5878.4
E58: 11001 | F58: ՀՀ կառավարության պահուստային ֆոնդ | G58: =G60 -> -5878.4 | H58: =H60 -> -5878.4
F59: այդ թվում` ըստ կատարողների
F60: ՀՀ կառավարություն | G60: =G62 -> -5878.4 | H60: =H62 -> -5878.4
F61: այդ թվում` բյուջետային ծախսերի տնտեսագիտական դասակարգման հոդվածներ
F62: ԸՆԴԱՄԵՆԸ ԾԱԽՍԵՐ | G62: =G63 -> -5878.4 | H62: =H63 -> -5878.4
F63: ԸՆԹԱՑԻԿ ԾԱԽՍԵՐ | G63: =G64 -> -5878.4 | H63: =H64 -> -5878.4
F64: ԱՅԼ ԾԱԽՍԵՐ | G64: =G65 -> -5878.4 | H64: =H65 -> -5878.4
F65: Պահուստային միջոցներ | G65: =-G57 -> -5878.4 | H65: =-H57 -> -5878.4

Sheet 4
A1: Հավելված N 4
A2: ՀՀ կառավարության 2024 թվականի
A3: -ի N -Ն որոշման
A4: ՀԱՅԱՍՏԱՆԻ ՀԱՆՐԱՊԵՏՈՒԹՅԱՆ ԿԱՌԱՎԱՐՈՒԹՅԱՆ 2023 ԹՎԱԿԱՆԻ ԴԵԿՏԵՄԲԵՐԻ 28-Ի N 2323-Ն ՈՐՈՇՄԱՆ N 5 ՀԱՎԵԼՎԱԾԻ N 2 ԱՂՅՈՒՍԱԿՈՒՄ ԿԱՏԱՐՎՈՂ ՓՈՓՈԽՈՒԹՅՈՒՆՆԵՐԸ ԵՎ ԼՐԱՑՈՒՄԸ
E5: (հազ. դրամ)
A6: Ծրագրային դասիչ | C6: Բյուջետային գլխավոր կարգադրիչների, ծրագրերի, միջոցառումների, միջոցառումները կատարող պետական մարմինների և ուղղությունների անվանումները | D6: Ցուցանիշների փոփոխությունը (ավելացումները նշված են դրական նշանով, իսկ նվազեցումները` փակագծերում)
A7: Ծրագիր | B7: Միջոցառում | D7: Ինն ամիս | E7: Տարի
C8: ԸՆԴԱՄԵՆԸ | D8: =D10 -> 0 | E8: =E10 -> 0
C9: այդ թվում՝
C10: ՀՀ ՏԱՐԱԾՔԱՅԻՆ ԿԱՌԱՎԱՐՄԱՆ ԵՎ ԵՆԹԱԿԱՌՈՒՑՎԱԾՔՆԵՐԻ ՆԱԽԱՐԱՐՈՒԹՅՈՒՆ | D10: =D12 -> 0 | E10: =E12 -> 0
C11: այդ թվում`
A12: 1004 | B12: 31002 | C12: Ոռոգման համակարգերի հիմնանորոգում | D12: =D14 -> 0 | E12: =E14 -> 0
C13: այդ թվում` ըստ կատարողների
C14: ՀՀ տարածքային կառավարման և ենթակառուցվածքների նախարարության ջրային կոմիտե | D14: =D16+D17 -> 0 | E14: =E16+E17 -> 0
C15: այդ թվում` ըստ ուղղությունների
C16: Ոռոգման համակարգերում վերականգնման աշխատանքների նախագծերի և փորձաքննությունների ձեռքբերում | D16: ='2'!G15 -> -5878.4 | E16: =D16 -> -5878.4
C17: Երևան քաղաքի Եղվարդի խճուղու միջնամասից մինչև Հալաբյան փողոցի վերջնամասը 1954 մ երկարությամբ և 525 մմ տրամագծով ոռոգման ջրագծի կառուցում | D17: ='2'!E16 -> 5878.4 | E17: =D17 -> 5878.4

Sheet 5-1
A1: Հավելված N 5
A2: ՀՀ կառավարության 2024 թվականի
A3: -ի N -Ն որոշման
D4: Աղյուսակ 1
A5: ՀԱՅԱՍՏԱՆԻ ՀԱՆՐԱՊԵՏՈՒԹՅԱՆ ԿԱՌԱՎԱՐՈՒԹՅԱՆ 2023 ԹՎԱԿԱՆԻ ԴԵԿՏԵՄԲԵՐԻ 28-Ի N 2323-Ն ՈՐՈՇՄԱՆ N 9 ՀԱՎԵԼՎԱԾԻ N 9.7 ԵՎ N 9.47 ԱՂՅՈՒՍԱԿՆԵՐՈՒՄ ԿԱՏԱՐՎՈՂ ՓՈՓՈԽՈՒԹՅՈՒՆՆԵՐԸ
A6: ՀՀ տարածքային կառավարման և ենթակառուցվածքների նախարարություն
A8: ՄԱՍ 2. ՊԵՏԱԿԱՆ ՄԱՐՄՆԻ ԳԾՈՎ ԱՐԴՅՈՒՆՔԱՅԻՆ (ԿԱՏԱՐՈՂԱԿԱՆ) ՑՈՒՑԱՆԻՇՆԵՐԸ | D8: Աղյուսակ 9.7
A10: Ծրագրի դասիչը | B10: Ծրագրի անվանումը
A11: 1004 | B11: Ոռոգման համակարգի առողջացում
A13: Ծրագրի միջոցառումները
A14: Ծրագրի դասիչը` | B14: 1004 | C14: Ցուցանիշների փոփոխությունը (նվազեցումները նշված են փակագծերում)
A16: Միջոցառման դասիչը` | B16: 31002 | C16: Ինն ամիս | D16: Տարի
A17: Միջոցառման անվանումը` | B17: Ոռոգման համակարգերի հիմնանորոգում
A18: Նկարագրությունը` | B18: Ոռոգման համակարգերի հիմնանորոգում
A19: Միջոցառման տեսակը` | B19: Պետական մարմինների կողմից օգտագործվող ոչ ֆինանսական ակտիվների հետ գործառնություններ
A20: Միջոցառումն իրականացնողի անվանումը | B20: Ոռոգման համակարգի ընկերություններ
A21: Արդյունքի չափորոշիչներ
A22: Միջոցառման վրա կատարվող ծախսը (հազար դրամ) | C22: ='1'!D18 -> -5878.4 | D22: ='1'!E18 -> -5878.4
A24: Ծրագրի դասիչը` | B24: 1004 | C24: Ցուցանիշների փոփոխությունը (ավելացումները նշված են դրական նշանով
A26: Միջոցառման դասիչը` | B26: 31002 | C26: Ինն ամիս | D26: Տարի
A27: Միջոցառման անվանումը` | B27: Ոռոգման համակարգերի հիմնանորոգում
A28: Նկարագրությունը` | B28: Ոռոգման համակարգերի հիմնանորոգում
A29: Միջոցառման տեսակը` | B29: Պետական մարմինների կողմից օգտագործվող ոչ ֆինանսական ակտիվների հետ գործառնություններ
A30: Միջոցառումն իրականացնողի անվանումը | B30: Ոռոգման համակարգի ընկերություններ
A31: Արդյունքի չափորոշիչներ
A32: Միջոցառման վրա կատարվող ծախսը (հազար դրամ) | C32: ='1'!D25 -> 5878.4 | D32: ='1'!E25 -> 5878.4
A34: Ծրագրի դասիչը | B34: Ծրագրի անվանումը
A35: 9025 | B35: Աջակցություն ոռոգման համակարգի արդիականացմանը
A37: Ծրագրի միջոցառումները
A38: Ծրագրի դասիչը` | B38: 9025 | C38: Ցուցանիշների փոփոխությունը (ավելացումները նշված են դրական նշանով
A40: Միջոցառման դասիչը` | B40: 12001 | C40: Ինն ամիս | D40: Տարի
A41: Միջոցառման անվանումը` | B41: Աջակցություն ոռոգման համակարգերի հիմնանորոգմանը
A42: Նկարագրությունը` | B42: Աջակցություն ոռոգման համակարգերի հիմնանորոգման նպատակով իրականացվող միջոցառումներին
A43: Միջոցառման տեսակը` | B43: Տրանսֆերտների տրամադրում
A44: Ակտիվն օգտագործող կազմակերպության(ների) անվանում(ները)՛ | B44: «Ջրառ» ՓԲԸ
A45: Արդյունքի չափորոշիչներ
A46: Արտաշատի ջրանցքի հիմնանորոգում, մ | D46: 18
A47: Արզնի-Շամիրամ ջրանցքի 2-րդ հերթի հիմնանորոգում,մ | D47: 17
A48: Միջոցառման վրա կատարվող ծախսը (հազար դրամ) | C48: 0 | D48: 0
D50: Աղյուսակ 9.48
A51: ՀՀ կառավարություն
A52: ՄԱՍ 2. ՊԵՏԱԿԱՆ ՄԱՐՄՆԻ ԳԾՈՎ ԱՐԴՅՈՒՆՔԱՅԻՆ (ԿԱՏԱՐՈՂԱԿԱՆ) ՑՈՒՑԱՆԻՇՆԵՐԸ
A54: Ծրագրի դասիչը | B54: Ծրագրի անվանումը
A55: 1139 | B55: ՀՀ կառավարության պահուստային ֆոնդ
A57: Ծրագրի միջոցառումները
A58: Ծրագրի դասիչը` | B58: 1139 | C58: Ցուցանիշների փոփոխությունը (ավելացումները նշված են դրական նշանով)
A59: Միջոցառման դասիչը` | B59: 11001 | C59: Ինն ամիս | D59: Տարի
A60: Միջոցառման անվանումը` | B60: ՀՀ կառավարության պահուստային ֆոնդ
A61: Նկարագրությունը` | B61: ՀՀ պետական բյուջեում նախատեսված ելքերի լրացուցիչ ֆինանսավորման՝ պետական բյուջեում չկանխատեսված ելքերի՝ ինչպես նաև բյուջետային երաշխիքների ապահովման ելքերի ֆինանսավորման ապահովում
A62: Միջոցառման տեսակը` | B62: Ծառայությունների մատուցում
A63: Միջոցառումն իրականացնողի անվանումը | B63: ՀՀ կառավարություն
A64: Արդյունքի չափորոշիչներ
A65: Միջոցառման վրա կատարվող ծախսը (հազար դրամ) | C65: ='1'!D39 -> 5878.4 | D65: ='1'!E39 -> 5878.4
A68: Ծրագրի դասիչը | B68: Ծրագրի անվանումը
A69: 1139 | B69: ՀՀ կառավարության պահուստային ֆոնդ
A71: Ծրագրի միջոցառումները
A72: Ծրագրի դասիչը` | B72: 1139 | C72: Ցուցանիշների փոփոխությունը (նվազեցումները նշված են փակագծերում)
A73: Միջոցառման դասիչը` | B73: 11001 | C73: Ինն ամիս | D73: Տարի
A74: Միջոցառման անվանումը` | B74: ՀՀ կառավարության պահուստային ֆոնդ
A75: Նկարագրությունը` | B75: ՀՀ պետական բյուջեում նախատեսված ելքերի լրացուցիչ ֆինանսավորման՝ պետական բյուջեում չկանխատեսված ելքերի՝ ինչպես նաև բյուջետային երաշխիքների ապահովման ելքերի ֆինանսավորման ապահովում
A76: Միջոցառման տեսակը` | B76: Ծառայությունների մատուցում
A77: Միջոցառումն իրականացնողի անվանումը | B77: ՀՀ կառավարություն
A78: Արդյունքի չափորոշիչներ
A79: Միջոցառման վրա կատարվող ծախսը (հազար դրամ) | C79: ='1'!D45 -> -5878.4 | D79: ='1'!E45 -> -5878.4

Sheet 5-2
A1: Աղյուսակ 2
A3: ՀԱՅԱՍՏԱՆԻ ՀԱՆՐԱՊԵՏՈՒԹՅԱՆ ԿԱՌԱՎԱՐՈՒԹՅԱՆ 2023 ԹՎԱԿԱՆԻ ԴԵԿՏԵՄԲԵՐԻ 28-Ի N 2323-Ն ՈՐՈՇՄԱՆ N 9.1 ՀԱՎԵԼՎԱԾԻ N 9.1.25 ԵՎ N 9.1.58 ԱՂՅՈՒՍԱԿՆԵՐՈՒՄ ԿԱՏԱՐՎՈՂ ՓՈՓՈԽՈՒԹՅՈՒՆՆԵՐԸ
C4: Աղյուսակ 9.1.25
A5: ՀՀ տարածքային կառավարման և ենթակառուցվածքների նախարարության ջրային կոմիտե
A6: ՄԱՍ 1. ՊԵՏԱԿԱՆ ՄԱՐՄՆԻ ԳԾՈՎ ԱՐԴՅՈՒՆՔԱՅԻՆ (ԿԱՏԱՐՈՂԱԿԱՆ) ՑՈՒՑԱՆԻՇՆԵՐԸ
A8: Ծրագրի դասիչը | B8: Ծրագրի անվանումը
A9: 1004 | B9: Ոռոգման համակարգի առողջացում
A10: Ծրագրի միջոցառումները
A11: Ծրագրի դասիչը` | B11: 1004 | C11: Ցուցանիշների փոփոխությունը (նվազեցումները նշված են փակագծերում)
A13: Միջոցառման դասիչը` | B13: 31002 | C13: Ինն ամիս | D13: Տարի
A14: Միջոցառման անվանումը` | B14: Ոռոգման համակարգերի հիմնանորոգում
A15: Նկարագրությունը` | B15: Ոռոգման համակարգերի հիմնանորոգում
A16: Միջոցառման տեսակը` | B16: Պետական մարմինների կողմից օգտագործվող ոչ ֆինանսական ակտիվների հետ գործառնություններ
A17: Միջոցառումն իրականացնողի անվանումը | B17: Ոռոգման համակարգի ընկերություններ
A18: Արդյունքի չափորոշիչներ
A19: Միջոցառման վրա կատարվող ծախսը (հազար դրամ) | C19: ='5-1'!C22 -> -5878.4 | D19: ='5-1'!D22 -> -5878.4
A21: Ծրագրի դասիչը` | B21: 1004 | C21: Ցուցանիշների փոփոխությունը (ավելացումները նշված են դրական նշանով
A23: Միջոցառման դասիչը` | B23: 31002 | C23: Ինն ամիս | D23: Տարի
A24: Միջոցառման անվանումը` | B24: Ոռոգման համակարգերի հիմնանորոգում
A25: Նկարագրությունը` | B25: Ոռոգման համակարգերի հիմնանորոգում
A26: Միջոցառման տեսակը` | B26: Պետական մարմինների կողմից օգտագործվող ոչ ֆինանսական ակտիվների հետ գործառնություններ
A27: Միջոցառումն իրականացնողի անվանումը | B27: Ոռոգման համակարգի ընկերություններ
A28: Արդյունքի չափորոշիչներ
A29: Միջոցառման վրա կատարվող ծախսը (հազար դրամ) | C29: ='5-1'!C32 -> 5878.4 | D29: ='5-1'!D32 -> 5878.4
A31: Ծրագրի դասիչը | B31: Ծրագրի անվանումը
A32: 9025 | B32: Աջակցություն ոռոգման համակարգի արդիականացմանը
A33: Ծրագրի միջոցառումները
A34: Ծրագրի դասիչը` | B34: 9025 | C34: Ցուցանիշների փոփոխությունը (ավելացումները նշված են դրական նշանով
A36: Միջոցառման դասիչը` | B36: 12001 | C36: Ինն ամիս | D36: Տարի
A37: Միջոցառման անվանումը` | B37: Աջակցություն ոռոգման համակարգերի հիմնանորոգմանը
A38: Նկարագրությունը` | B38: Աջակցություն ոռոգման համակարգերի հիմնանորոգման նպատակով իրականացվող միջոցառումներին
A39: Միջոցառման տեսակը` | B39: Տրանսֆերտների տրամադրում
A40: Ակտիվն օգտագործող կազմակերպության(ների) անվանում(ները)՛ | B40: «Ջրառ» ՓԲԸ
A41: Արդյունքի չափորոշիչներ
A42: Արտաշատի ջրանցքի հիմնանորոգում, մ | D42: 18
A43: Արզնի-Շամիրամ ջրանցքի 2-րդ հերթի հիմնանորոգում,մ | D43: 17
A44: Միջոցառման վրա կատարվող ծախսը (հազար դրամ) | C44: 0 | D44: 0
C46: Աղյուսակ 9.1.58
A48: ՀՀ կառավարություն
A49: ՄԱՍ 1. ՊԵՏԱԿԱՆ ՄԱՐՄՆԻ ԳԾՈՎ ԱՐԴՅՈՒՆՔԱՅԻՆ (ԿԱՏԱՐՈՂԱԿԱՆ) ՑՈՒՑԱՆԻՇՆԵՐԸ
A51: Ծրագրի դասիչը | B51: Ծրագրի անվանումը
A52: 1139 | B52: ՀՀ կառավարության պահուստային ֆոնդ
A54: Ծրագրի միջոցառումները
A55: Ծրագրի դասիչը` | B55: 1139 | C55: Ցուցանիշների փոփոխությունը (ավելացումները նշված են դրական նշանով)
A56: Միջոցառման դասիչը` | B56: 11001 | C56: =C36 -> Ինն ամիս | D56: =D36 -> Տարի
A57: Միջոցառման անվանումը` | B57: ՀՀ կառավարության պահուստային ֆոնդ
A58: Նկարագրությունը` | B58: ՀՀ պետական բյուջեում նախատեսված ելքերի լրացուցիչ ֆինանսավորման՝ պետական բյուջեում չկանխատեսված ելքերի՝ ինչպես նաև բյուջետային երաշխիքների ապահովման ելքերի ֆինանսավորման ապահովում
A59: Միջոցառման տեսակը` | B59: Ծառայությունների մատուցում
A60: Միջոցառումն իրականացնողի անվանումը | B60: ՀՀ կառավարություն
A61: Արդյունքի չափորոշիչներ
A62: Միջոցառման վրա կատարվող ծախսը (հազար դրամ) | C62: ='5-1'!C65 -> 5878.4 | D62: ='5-1'!D65 -> 5878.4
A64: Ծրագրի դասիչը | B64: Ծրագրի անվանումը
A65: 1139 | B65: ՀՀ կառավարության պահուստային ֆոնդ
A67: Ծրագրի միջոցառումները
A68: Ծրագրի դասիչը` | B68: 1139 | C68: Ցուցանիշների փոփոխությունը (նվազեցումները նշված են փակագծերում)
A69: Միջոցառման դասիչը` | B69: 11001 | C69: =C56 -> Ինն ամիս | D69: =D56 -> Տարի
A70: Միջոցառման անվանումը` | B70: ՀՀ կառավարության պահուստային ֆոնդ
A71: Նկարագրությունը` | B71: ՀՀ պետական բյուջեում նախատեսված ելքերի լրացուցիչ ֆինանսավորման՝ պետական բյուջեում չկանխատեսված ելքերի՝ ինչպես նաև բյուջետային երաշխիքների ապահովման ելքերի ֆինանսավորման ապահովում
A72: Միջոցառման տեսակը` | B72: Ծառայությունների մատուցում
A73: Միջոցառումն իրականացնողի անվանումը | B73: ՀՀ կառավարություն
A74: Արդյունքի չափորոշիչներ
A75: Միջոցառման վրա կատարվող ծախսը (հազար դրամ) | C75: ='5-1'!C79 -> -5878.4 | D75: ='5-1'!D79 -> -5878.4

Sheet 6
A1: Հավելված N 6
A2: ՀՀ կառավարության 2024 թվականի
A3: -ի N -Ն որոշման
A5: ՀՀ ԿԱՌԱՎԱՐՈՒԹՅԱՆ 2023 ԹՎԱԿԱՆԻ ԴԵԿՏԵՄԲԵՐԻ 28-Ի N 2323-Ն ՈՐՈՇՄԱՆ N 10 ՀԱՎԵԼՎԱԾՈՒՄ ԿԱՏԱՐՎՈՂ ՓՈՓՈԽՈՒԹՅՈՒՆՆԵՐԸ ԵՎ ԼՐԱՑՈՒՄՆԵՐԸ
A7: Կոդը | B7: Անվանումը | C7: Գնման ձևը | D7: Չափի միավորը | E7: Ցուցանիշների փոփոխությունը (ավելացումները նշված են դրական նշանով, իսկ նվազեցումները՝ փակագծերում)
E8: Միավորի գինը | F8: քանակը | G8: գումարը (հազ. դրամ)
A9: ՀՀ տարածքային կառավարման և ենթակառուցվածքների նախարարության ջրային կոմիտե | G9: =G10 -> -0.031
A10: Բաժին N 04 | B10: Խումբ N 02 | C10: Դաս N 04 | D10: Ոռոգում | G10: =G12+G14 -> -0.031
A11: 1004 31002 | B11: Ոռոգման համակարգերի հիմնանորոգում | G11: =G12+G14 -> -0.031
B12: ՄԱՍ II ԱՇԽԱՏԱՆՔՆԵՐ | G12: =G13 -> 5878.359
A13: 45231126/ | B13: Ոռոգման խողովակաշարերի կառուցման աշխատանքներ | C13: ՀԲՄ | D13: դրամ | E13: 5878359 | F13: 1 | G13: =E13*F13/1000 -> 5878.359
B14: ՄԱՍ III ԾԱՌԱՅՈՒԹՅՈՒՆՆԵՐ | G14: =SUM(G15:G19) -> -5878.39
A15: 50531140/1 | B15: փորձաքննության ծառայություններ | C15: ԳՀ | D15: դրամ | G15: -3197.09
A16: 50531140/5 | B16: փորձաքննության ծառայություններ | C16: ԳՀ | D16: դրամ | G16: -52.1
A17: 71241200/527 | B17: նախագծերի պատրաստում, ծախսերի գնահատում | C17: ԳՀ | D17: դրամ | G17: -1490
A18: 45231131/26 | B18: նախագծերի պատրաստում, ծախսերի գնահատում | C18: ԳՀ | D18: դրամ | G18: -459.6
A19: 71241200/516 | B19: նախագծերի պատրաստում, ծախսերի գնահատում | C19: ԳՀ | D19: դրամ | G19: -679.6
