Workbook
Name շախմատիստ: #REF!

Sheet Հավելված N 1
D1: Հավելված N 1
D2: ՀՀ կառավարության 2024 թվականի
D3: ______________ ի ___Ն որոշման
A4: «ՀԱՅԱՍՏԱՆԻ ՀԱՆՐԱՊԵՏՈՒԹՅԱՆ 2024 ԹՎԱԿԱՆԻ ՊԵՏԱԿԱՆ ԲՅՈՒՋԵԻ ՄԱՍԻՆ» ՀՀ ՕՐԵՆՔԻ N 1 ՀԱՎԵԼՎԱԾԻ N 2 ԱՂՅՈՒՍԱԿՈՒՄ ԿԱՏԱՐՎՈՂ ՎԵՐԱԲԱՇԽՈՒՄԸ ԵՎ ՀԱՅԱՍՏԱՆԻ ՀԱՆՐԱՊԵՏՈՒԹՅԱՆ ԿԱՌԱՎԱՐՈՒԹՅԱՆ 2023 ԹՎԱԿԱՆԻ ԴԵԿՏԵՄԲԵՐԻ 28-Ի N 2323-Ն ՈՐՈՇՄԱՆ N 5 ՀԱՎԵԼՎԱԾԻ N 1 ԱՂՅՈՒՍԱԿՈՒՄ ԿԱՏԱՐՎՈՂ ՓՈՓՈԽՈՒԹՅՈՒՆԸ
D5: հազար դրամներով
A6: Ծրագրային դասիչը | C6: Բյուջետային հատկացումների գլխավոր կարգադրիչների, ծրագրերի և միջոցառումների անվանումները | D6: Ցուցանիշների փոփոխությունը (ավելացումները նշված են դրական նշանով, իսկ նվազեցումները՝ փակագծերում)
A7: ծրագիր | B7: միջոցառում | D7: Ինն ամիս | E7: Տարի
C8: ԸՆԴԱՄԵՆԸ | D8: =D9 -> 0 | E8: =E9 -> 0
A9: ՀՀ Կրթության, գիտության, մշակույթի և սպորտի նախարարություն | D9: =D11 -> 0 | E9: =E11 -> 0
A10: 1148 | C10: Ծրագրի անվանումը`
C11: Արտադպրոցական դաստիարակության ծրագիր | D11: =D17+D24 -> 0 | E11: =E17+E24 -> 0
C12: Ծրագրի նպատակը`
C13: Նպաստել հանրակրթական ուսուցման համակարգում ընդգրկված երեխաների ֆիզիկական, հոգևոր և գեղագիտական զարգացմանը, բնապահպանական և կիրառական գիտելիքների ձեռքբերմանը
C14: Վերջնական արդյունքի նկարագրությունը`
C15: Ստեղծել պայմաններ սովորողների ազատ ժամանացի կազմակերպման միջոցով նրանց հետաքրքրությունների բացահայտման, ձևավորման և զարգացման համար
A16: Ծրագրի միջոցառումներ
B17: 11001 | C17: Միջոցառման անվանումը` | D17: 0 | E17: -8555.7
C18: Արտադպրոցական դաստիարակություն
C19: Միջոցառման նկարագրությունը`
C20: Արվեստի, երաժշտության, սպորտի դասընթացներ մարզադպրոցներում, ստեղծագործական և արտադպրոցական դաստիարակության այլ կենտրոններում
C21: Միջոցառման տեսակը
C22: Ծառայությունների մատուցում
A23: Ծրագրի միջոցառումներ
B24: 12002 | C24: Միջոցառման անվանումը` | D24: =-D17 -> 0 | E24: =-E17 -> 8555.7
C25: Կամավոր ատեստավորման նոր համակարգի ներդրում՝ ուղղված արտադպրոցական ուսումնական հաստատությունների մանկավարժական աշխատողների որակի բարձրացմանը
C26: Միջոցառման նկարագրությունը`
C27: Արտադպրոցական հաստատություններում դասավանդող մանկավարժական աշխատողների կամավոր ատեստավորման համակարգի մշակում և ներդրում
C28: Միջոցառման տեսակը
C29: Տրանսֆերտների տրամադրում

Sheet Հավելված N 2
G1: Հավելված N 2
G2: ՀՀ կառավարության 2024 թվականի
G3: ______________ ի ___Ն որոշման
A4: ՀԱՅԱՍՏԱՆԻ ՀԱՆՐԱՊԵՏՈՒԹՅԱՆ ԿԱՌԱՎԱՐՈՒԹՅԱՆ 2023 ԹՎԱԿԱՆԻ ԴԵԿՏԵՄԲԵՐԻ 28-Ի N 2323-Ն ՈՐՈՇՄԱՆ N 3 ԵՎ N 4 ՀԱՎԵԼՎԱԾՆԵՐՈՒՄ ԿԱՏԱՐՎՈՂ ՓՈՓՈԽՈՒԹՅՈՒՆՆԵՐԸ ԵՎ ԼՐԱՑՈՒՄՆԵՐԸ
G5: հազար դրամներով
A6: Գործառական դասիչը | D6: Ծրագրային դասիչը | F6: Բյուջետային ծախսերի գործառական դասակարգման բաժինների, խմբերի և դասերի, բյուջետային ծրագրերի միջոցառումների, բյուջետային հատկացումների գլխավոր կարգադրիչների անվանումները | G6: Ցուցանիշների փոփոխություն (ավելացումները նշված են դրական նշանով, իսկ նվազեցումները՝ փակագծերում)
A7: Բաժին | B7: Խումբ | C7: Դաս | D7: Ծրագիր | E7: Միջոցառում | G7: Ինն ամիս | H7: Տարի
F8: ԸՆԴԱՄԵՆԸ | G8: =+G10 -> 0 | H8: =+H10 -> 0
F9: այդ թվում`
F10: ՀՀ Կրթության, գիտության, մշակույթի և սպորտի նախարարություն | G10: =G12 -> 0 | H10: =H12 -> 0
F11: այդ թվում`
A12: 09 | E12: 11010 | F12: ԿՐԹՈՒԹՅՈՒՆ | G12: =G14 -> 0 | H12: =H14 -> 0
F13: այդ թվում`
B14: 05 | F14: Ըստ մակարդակների չդասակարգվող կրթություն | G14: =G16 -> 0 | H14: =H16 -> 0
F15: այդ թվում`
C16: 01 | F16: Արտադպրոցական դաստիարակություն | G16: =G18 -> 0 | H16: =H18 -> 0
F17: այդ թվում`
D18: ='Հավելված N 1'!A10 -> 1148 | F18: ='Հավելված N 1'!C11 -> Արտադպրոցական դաստիարակության ծրագիր | G18: =G20+G29 -> 0 | H18: =H20+H29 -> 0
F19: այդ թվում`
E20: 11001 | F20: ='Հավելված N 1'!C18 -> Արտադպրոցական դաստիարակություն | G20: =+G22 -> 0 | H20: =+H22 -> -8555.7
F21: այդ թվում` ըստ կատարողների
F22: ՀՀ կրթության, գիտության, մշակույթի և սպորտի նախարարություն | G22: =G24 -> 0 | H22: =H24 -> -8555.7
F23: այդ թվում` բյուջետային ծախսերի տնտեսագիտական դասակարգման հոդվածներ
F24: ԸՆԴԱՄԵՆԸ ԾԱԽՍԵՐ | G24: =+G25 -> 0 | H24: =+H25 -> -8555.7
F25: ԸՆԹԱՑԻԿ ԾԱԽՍԵՐ | G25: =+G26 -> 0 | H25: =+H26 -> -8555.7
F26: ՍՈՒԲՍԻԴԻԱՆԵՐ | G26: =+G27 -> 0 | H26: =+H27 -> -8555.7
F27: Սուբսիդիաներ պետական կազմակերպություններին | G27: =G28 -> 0 | H27: =H28 -> -8555.7
F28: - Սուբսիդիաներ ոչ ֆինանսական պետական կազմակերպություններին | G28: ='Հավելված N 1'!D17 -> 0 | H28: ='Հավելված N 1'!E17 -> -8555.7
E29: ='Հավելված N 1'!B24 -> 12002 | F29: ='Հավելված N 1'!C25 -> Կամավոր ատեստավորման նոր համակարգի ներդրում՝ ուղղված արտադպրոցական ուսումնական հաստատությունների մանկավարժական աշխատողների որակի բարձրացմանը | G29: =G108+G101+G94+G87+G80+G73+G66+G59+G52+G45+G38+G31 -> 0 | H29: =H108+H101+H94+H87+H80+H73+H66+H59+H52+H45+H38+H31 -> 8555.7
F30: այդ թվում` ըստ կատարողների
F31: ՀՀ տարածքային կառավարման և ենթակառուցվածքների նախարարություն | G31: =G33 -> 13049 | H31: =H33 -> 28566.8
F32: այդ թվում` բյուջետային ծախսերի տնտեսագիտական դասակարգման հոդվածներ
F33: ԸՆԴԱՄԵՆԸ ԾԱԽՍԵՐ | G33: =G34 -> 13049 | H33: =H34 -> 28566.8
F34: ԸՆԹԱՑԻԿ ԾԱԽՍԵՐ | G34: =G35 -> 13049 | H34: =H35 -> 28566.8
F35: ՍՈՑԻԱԼԱԿԱՆ ՆՊԱՍՏՆԵՐ ԵՎ ԿԵՆՍԱԹՈՇԱԿՆԵՐ | G35: =G36 -> 13049 | H35: =H36 -> 28566.8
F36: Սոցիալական օգնության դրամական արտահայտությամբ նպաստներ (բյուջեից) | G36: =G37 -> 13049 | H36: =H37 -> 28566.8
F37: - Այլ նպաստներ բյուջեից | G37: 13049 | H37: 28566.8
F38: ՀՀ կրթության, գիտության, մշակույթի և սպորտի նախարարություն | G38: =G40 -> -36574.5 | H38: =H40 -> -74684.9
F39: այդ թվում` բյուջետային ծախսերի տնտեսագիտական դասակարգման հոդվածներ
F40: ԸՆԴԱՄԵՆԸ ԾԱԽՍԵՐ | G40: =G41 -> -36574.5 | H40: =H41 -> -74684.9
F41: ԸՆԹԱՑԻԿ ԾԱԽՍԵՐ | G41: =G42 -> -36574.5 | H41: =H42 -> -74684.9
F42: ՍՈՑԻԱԼԱԿԱՆ ՆՊԱՍՏՆԵՐ ԵՎ ԿԵՆՍԱԹՈՇԱԿՆԵՐ | G42: =G43 -> -36574.5 | H42: =H43 -> -74684.9
F43: Սոցիալական օգնության դրամական արտահայտությամբ նպաստներ (բյուջեից) | G43: =G44 -> -36574.5 | H43: =H44 -> -74684.9
F44: - Այլ նպաստներ բյուջեից | G44: -36574.5 | H44: -74684.9
F45: ՀՀ Արագածոտնի մարզպետի աշխատակազմ | G45: =G47 -> 814.9 | H45: =H47 -> 1901.5
F46: այդ թվում` բյուջետային ծախսերի տնտեսագիտական դասակարգման հոդվածներ
F47: ԸՆԴԱՄԵՆԸ ԾԱԽՍԵՐ | G47: =G48 -> 814.9 | H47: =H48 -> 1901.5
F48: ԸՆԹԱՑԻԿ ԾԱԽՍԵՐ | G48: =G49 -> 814.9 | H48: =H49 -> 1901.5
F49: ՍՈՑԻԱԼԱԿԱՆ ՆՊԱՍՏՆԵՐ ԵՎ ԿԵՆՍԱԹՈՇԱԿՆԵՐ | G49: =G50 -> 814.9 | H49: =H50 -> 1901.5
F50: Սոցիալական օգնության դրամական արտահայտությամբ նպաստներ (բյուջեից) | G50: =G51 -> 814.9 | H50: =H51 -> 1901.5
F51: - Այլ նպաստներ բյուջեից | G51: 814.9 | H51: 1901.5
F52: ՀՀ Արարատի մարզպետի աշխատակազմ | G52: =G54 -> 1902.3 | H52: =H54 -> 4394.2
F53: այդ թվում` բյուջետային ծախսերի տնտեսագիտական դասակարգման հոդվածներ
F54: ԸՆԴԱՄԵՆԸ ԾԱԽՍԵՐ | G54: =G55 -> 1902.3 | H54: =H55 -> 4394.2
F55: ԸՆԹԱՑԻԿ ԾԱԽՍԵՐ | G55: =G56 -> 1902.3 | H55: =H56 -> 4394.2
F56: ՍՈՑԻԱԼԱԿԱՆ ՆՊԱՍՏՆԵՐ ԵՎ ԿԵՆՍԱԹՈՇԱԿՆԵՐ | G56: =G57 -> 1902.3 | H56: =H57 -> 4394.2
F57: Սոցիալական օգնության դրամական արտահայտությամբ նպաստներ (բյուջեից) | G57: =G58 -> 1902.3 | H57: =H58 -> 4394.2
F58: - Այլ նպաստներ բյուջեից | G58: 1902.3 | H58: 4394.2
F59: ՀՀ Արմավիրի մարզպետի աշխատակազմ | G59: =G61 -> 3007.4 | H59: =H61 -> 7185.2
F60: այդ թվում` բյուջետային ծախսերի տնտեսագիտական դասակարգման հոդվածներ
F61: ԸՆԴԱՄԵՆԸ ԾԱԽՍԵՐ | G61: =G62 -> 3007.4 | H61: =H62 -> 7185.2
F62: ԸՆԹԱՑԻԿ ԾԱԽՍԵՐ | G62: =G63 -> 3007.4 | H62: =H63 -> 7185.2
F63: ՍՈՑԻԱԼԱԿԱՆ ՆՊԱՍՏՆԵՐ ԵՎ ԿԵՆՍԱԹՈՇԱԿՆԵՐ | G63: =G64 -> 3007.4 | H63: =H64 -> 7185.2
F64: Սոցիալական օգնության դրամական արտահայտությամբ նպաստներ (բյուջեից) | G64: =G65 -> 3007.4 | H64: =H65 -> 7185.2
F65: - Այլ նպաստներ բյուջեից | G65: 3007.4 | H65: 7185.2
F66: ՀՀ Գեղարքունիքի մարզպետի աշխատակազմ | G66: =G68 -> 2268.2 | H66: =H68 -> 5292.5
F67: այդ թվում` բյուջետային ծախսերի տնտեսագիտական դասակարգման հոդվածներ
F68: ԸՆԴԱՄԵՆԸ ԾԱԽՍԵՐ | G68: =G69 -> 2268.2 | H68: =H69 -> 5292.5
F69: ԸՆԹԱՑԻԿ ԾԱԽՍԵՐ | G69: =G70 -> 2268.2 | H69: =H70 -> 5292.5
F70: ՍՈՑԻԱԼԱԿԱՆ ՆՊԱՍՏՆԵՐ ԵՎ ԿԵՆՍԱԹՈՇԱԿՆԵՐ | G70: =G71 -> 2268.2 | H70: =H71 -> 5292.5
F71: Սոցիալական օգնության դրամական արտահայտությամբ նպաստներ (բյուջեից) | G71: =G72 -> 2268.2 | H71: =H72 -> 5292.5
F72: - Այլ նպաստներ բյուջեից | G72: 2268.2 | H72: 5292.5
F73: ՀՀ Լոռու մարզպետի աշխատակազմ | G73: =G75 -> 1522.3 | H73: =H75 -> 3410.9
F74: այդ թվում` բյուջետային ծախսերի տնտեսագիտական դասակարգման հոդվածներ
F75: ԸՆԴԱՄԵՆԸ ԾԱԽՍԵՐ | G75: =G76 -> 1522.3 | H75: =H76 -> 3410.9
F76: ԸՆԹԱՑԻԿ ԾԱԽՍԵՐ | G76: =G77 -> 1522.3 | H76: =H77 -> 3410.9
F77: ՍՈՑԻԱԼԱԿԱՆ ՆՊԱՍՏՆԵՐ ԵՎ ԿԵՆՍԱԹՈՇԱԿՆԵՐ | G77: =G78 -> 1522.3 | H77: =H78 -> 3410.9
F78: Սոցիալական օգնության դրամական արտահայտությամբ նպաստներ (բյուջեից) | G78: =G79 -> 1522.3 | H78: =H79 -> 3410.9
F79: - Այլ նպաստներ բյուջեից | G79: 1522.3 | H79: 3410.9
F80: ՀՀ Կոտայքի մարզպետի աշխատակազմ | G80: =G82 -> 5898 | H80: =H82 -> 13748.2
F81: այդ թվում` բյուջետային ծախսերի տնտեսագիտական դասակարգման հոդվածներ
F82: ԸՆԴԱՄԵՆԸ ԾԱԽՍԵՐ | G82: =G83 -> 5898 | H82: =H83 -> 13748.2
F83: ԸՆԹԱՑԻԿ ԾԱԽՍԵՐ | G83: =G84 -> 5898 | H83: =H84 -> 13748.2
F84: ՍՈՑԻԱԼԱԿԱՆ ՆՊԱՍՏՆԵՐ ԵՎ ԿԵՆՍԱԹՈՇԱԿՆԵՐ | G84: =G85 -> 5898 | H84: =H85 -> 13748.2
F85: Սոցիալական օգնության դրամական արտահայտությամբ նպաստներ (բյուջեից) | G85: =G86 -> 5898 | H85: =H86 -> 13748.2
F86: - Այլ նպաստներ բյուջեից | G86: 5898 | H86: 13748.2
F87: ՀՀ Շիրակի մարզպետի աշխատակազմ | G87: =G89 -> 2925.8 | H87: =H89 -> 6733.5
F88: այդ թվում` բյուջետային ծախսերի տնտեսագիտական դասակարգման հոդվածներ
F89: ԸՆԴԱՄԵՆԸ ԾԱԽՍԵՐ | G89: =G90 -> 2925.8 | H89: =H90 -> 6733.5
F90: ԸՆԹԱՑԻԿ ԾԱԽՍԵՐ | G90: =G91 -> 2925.8 | H90: =H91 -> 6733.5
F91: ՍՈՑԻԱԼԱԿԱՆ ՆՊԱՍՏՆԵՐ ԵՎ ԿԵՆՍԱԹՈՇԱԿՆԵՐ | G91: =G92 -> 2925.8 | H91: =H92 -> 6733.5
F92: Սոցիալական օգնության դրամական արտահայտությամբ նպաստներ (բյուջեից) | G92: =G93 -> 2925.8 | H92: =H93 -> 6733.5
F93: - Այլ նպաստներ բյուջեից | G93: 2925.8 | H93: 6733.5
F94: ՀՀ Սյունիքի մարզպետի աշխատակազմ | G94: =G96 -> 472.6 | H94: =H96 -> 997.8
F95: այդ թվում` բյուջետային ծախսերի տնտեսագիտական դասակարգման հոդվածներ
F96: ԸՆԴԱՄԵՆԸ ԾԱԽՍԵՐ | G96: =G97 -> 472.6 | H96: =H97 -> 997.8
F97: ԸՆԹԱՑԻԿ ԾԱԽՍԵՐ | G97: =G98 -> 472.6 | H97: =H98 -> 997.8
F98: ՍՈՑԻԱԼԱԿԱՆ ՆՊԱՍՏՆԵՐ ԵՎ ԿԵՆՍԱԹՈՇԱԿՆԵՐ | G98: =G99 -> 472.6 | H98: =H99 -> 997.8
F99: Սոցիալական օգնության դրամական արտահայտությամբ նպաստներ (բյուջեից) | G99: =G100 -> 472.6 | H99: =H100 -> 997.8
F100: - Այլ նպաստներ բյուջեից | G100: 472.6 | H100: 997.8
...

Sheet Հավելված N 3
C1: Հավելված N 3
C2: ՀՀ կառավարության 2024 թվականի
C3: ______________ ի ___Ն որոշման
A5: ՀԱՅԱՍՏԱՆԻ ՀԱՆՐԱՊԵՏՈՒԹՅԱՆ ԿԱՌԱՎԱՐՈՒԹՅԱՆ 2023 ԹՎԱԿԱՆԻ ԴԵԿՏԵՄԲԵՐԻ 28-Ի N 2323-Ն ՈՐՈՇՄԱՆ N 8 ՀԱՎԵԼՎԱԾՈՒՄ ԿԱՏԱՐՎՈՂ ՓՈՓՈԽՈՒԹՅՈՒՆՆԵՐԸ
D6: հազար դրամներով
A7: Ծրագրային դասիչը | C7: Բյուջետային հատակացումների գլխավոր կարգադրիչներ, ծրագրերի, միջոցառումների անվանումները | D7: Ցուցանիշների փոփոխությունը (ավելացումները նշված են դրական նշանով)
A8: Ծրագիր | B8: Միջոցառում
C9: ԸՆԴԱՄԵՆԸ ԾԱԽՍԵՐ | D9: =D11 -> 28566.8
C10: այդ թվում՝
A11: 1148 | C11: Արտադպրոցական դաստիարակության ծրագիր | D11: =D12 -> 28566.8
B12: 12002 | C12: ='Հավելված N 1'!C25 -> Կամավոր ատեստավորման նոր համակարգի ներդրում՝ ուղղված արտադպրոցական ուսումնական հաստատությունների մանկավարժական աշխատողների որակի բարձրացմանը | D12: ='Հավելված N 5'!D25 -> 28566.8

Sheet Հավելված N 4
C1: Հավելված N 4
C2: ՀՀ կառավարության 2024 թվականի
C3: ______________ ի ___Ն որոշման
A5: ՀԱՅԱՍՏԱՆԻ ՀԱՆՐԱՊԵՏՈՒԹՅԱՆ ԿԱՌԱՎԱՐՈՒԹՅԱՆ 2023 ԹՎԱԿԱՆԻ ԴԵԿՏԵՄԲԵՐԻ 28-Ի N 2323-Ն ՈՐՈՇՄԱՆ N 9 ՀԱՎԵԼՎԱԾԻ N 9.13 ԱՂՅՈՒՍԱԿՈՒՄ ԿԱՏԱՐՎՈՂ ՓՈՓՈԽՈՒԹՅՈՒՆՆԵՐԸ
C6: Աղյուսակ 9.13
A7: ՀՀ կրթության, գիտության, մշակույթի և սպորտի նախարարություն
A8: ՄԱՍ 2. ՊԵՏԱԿԱՆ ՄԱՐՄՆԻ ԳԾՈՎ ԱՐԴՅՈՒՆՔԱՅԻՆ (ԿԱՏԱՐՈՂԱԿԱՆ) ՑՈՒՑԱՆԻՇՆԵՐԸ
A10: Ծրագրի դասիչը | B10: Ծրագրի անվանումը
A11: ='Հավելված N 2'!D18 -> 1148 | B11: Արտադպրոցական դաստիարակության ծրագիր
A13: Ծրագրի միջոցառումները
A15: Ծրագրի դասիչը՝ | B15: 1148 | C15: Ցուցանիշների փոփոխությունը (նվազեցումները նշված են փակագծերում)
A16: Միջոցառման դասիչը՝ | B16: 11001 | C16: Ինն ամիս | D16: Տարի
A17: Միջոցառման անվանումը՝ | B17: ='Հավելված N 1'!C18 -> Արտադպրոցական դաստիարակություն
A18: Նկարագրությունը՝ | B18: ='Հավելված N 1'!C20 -> Արվեստի, երաժշտության, սպորտի դասընթացներ մարզադպրոցներում, ստեղծագործական և արտադպրոցական դաստիարակության այլ կենտրոններում
A19: Միջոցառման տեսակը՝ | B19: ='Հավելված N 1'!C22 -> Ծառայությունների մատուցում
A20: Ծառայությունը մատուցող կազմակերպության(ների) անվանում(ներ)ը՛ | B20: Մասնագիտացված կազմակերպություններ
A21: Արդյունքի չափորոշիչներ
A22: Սաների թիվ, մարդ, այդ թվում` | D22: -60
A23: աղջիկ | D23: -60
A24: Միջոցառման վրա կատարվող ծախսը (հազար դրամ) | D24: ='Հավելված N 1'!E17 -> -8555.7
A26: Ծրագրի դասիչը՝ | B26: 1148 | C26: Ցուցանիշների փոփոխությունը (ավելացումները նշված են դրական նշանով)
A27: Միջոցառման դասիչը՝ | B27: ='Հավելված N 1'!B24 -> 12002 | C27: Ինն ամիս | D27: Տարի
A28: Միջոցառման անվանումը՝ | B28: ='Հավելված N 1'!C25 -> Կամավոր ատեստավորման նոր համակարգի ներդրում՝ ուղղված արտադպրոցական ուսումնական հաստատությունների մանկավարժական աշխատողների որակի բարձրացմանը
A29: Նկարագրությունը՝ | B29: ='Հավելված N 1'!C27 -> Արտադպրոցական հաստատություններում դասավանդող մանկավարժական աշխատողների կամավոր ատեստավորման համակարգի մշակում և ներդրում
A30: Միջոցառման տեսակը` | B30: Տրանսֆերտների տրամադրում
A31: Շահառուների ընտրության չափորոշիչները՝ | B31: Շահառուների ընտրության չափորոշիչները սահմանված են ԿԳՄՍ նախարարի հրամանով
A32: Արդյունքի չափորոշիչներ
A33: Կամավոր ատեստավորման արդյունքում ընթացիկ տարում ատեստավորված մանկավարժների թիվը, մարդ | D33: 43
A34: Կամավոր ատեստավորման արդյունքում հավելավճար ստացած արտադպրոցական ուսումնական հաստատությունների մանկավարժական աշխատողների ընդհանուր թվաքանակը, մարդ | D34: 28
A35: Կամավոր ատեստավորման արդյունքում ընթացիկ տարում հավելավճար ստացած մանկավարժների թիվը, մարդ | D35: 37
A36: Միջոցառման վրա կատարվող ծախսը (հազար դրամ) | D36: ='Հավելված N 1'!E24 -> 8555.7

Sheet Հավելված N 5
C1: Հավելված N 5
C2: ՀՀ կառավարության 2024 թվականի
C3: ______________ ի ___Ն որոշման
A5: ՀԱՅԱՍՏԱՆԻ ՀԱՆՐԱՊԵՏՈՒԹՅԱՆ ԿԱՌԱՎԱՐՈՒԹՅԱՆ 2023 ԹՎԱԿԱՆԻ ԴԵԿՏԵՄԲԵՐԻ 28-Ի N 2323-Ն ՈՐՈՇՄԱՆ N 9.1 ՀԱՎԵԼՎԱԾԻ NN 9.1.7, 9.1.13, 9.1.48, 9.1.49, 9.1.50, 9.1.51, 9.1.52, 9.1.53, 9.1.54, 9.1.55, 9.1.56 ԵՎ 9.1.57 ԱՂՅՈՒՍԱԿՆԵՐՈՒՄ ԿԱՏԱՐՎՈՂ ՓՈՓՈԽՈՒԹՅՈՒՆՆԵՐԸ ԵՎ ԼՐԱՑՈՒՄՆԵՐԸ
C6: Աղյուսակ 9.1.7
A7: ՀՀ տարածքային կառավարման և ենթակառուցվածքների նախարարություն
A8: ՄԱՍ 1. ՊԵՏԱԿԱՆ ՄԱՐՄՆԻ ԳԾՈՎ ԱՐԴՅՈՒՆՔԱՅԻՆ (ԿԱՏԱՐՈՂԱԿԱՆ) ՑՈՒՑԱՆԻՇՆԵՐԸ
A10: Ծրագրի դասիչը | B10: Ծրագրի անվանումը
A11: 1148 | B11: Արտադպրոցական դաստիարակության ծրագիր
A13: Ծրագրի միջոցառումները
A15: Ծրագրի դասիչը՝ | B15: 1148 | C15: Ցուցանիշների փոփոխությունը (ավելացումները նշված են դրական նշանով)
A16: Միջոցառման դասիչը՝ | B16: 12002 | C16: Ինն ամիս | D16: Տարի
A17: Միջոցառման անվանումը՝ | B17: Կամավոր ատեստավորման նոր համակարգի ներդրում՝ ուղղված արտադպրոցական ուսումնական հաստատությունների մանկավարժական աշխատողների որակի բարձրացմանը
A18: Նկարագրությունը՝ | B18: Արտադպրոցական հաստատություններում դասավանդող մանկավարժական աշխատողների կամավոր ատեստավորման համակարգի մշակում և ներդրում
A19: Միջոցառման տեսակը` | B19: Տրանսֆերտների տրամադրում
A20: Շահառուների ընտրության չափորոշիչները՝ | B20: Շահառուների ընտրության չափորոշիչները սահմանված են ԿԳՄՍ նախարարի հրամանով
A21: Արդյունքի չափորոշիչներ
A22: Կամավոր ատեստավորման արդյունքում ընթացիկ տարում ատեստավորված մանկավարժների թիվը, մարդ | D22: 51
A23: Կամավոր ատեստավորման արդյունքում հավելավճար ստացած արտադպրոցական ուսումնական հաստատությունների մանկավարժական աշխատողների ընդհանուր թվաքանակը, մարդ | D23: 46
A24: Կամավոր ատեստավորման արդյունքում ընթացիկ տարում հավելավճար ստացած մանկավարժների թիվը, մարդ | D24: 49
A25: Միջոցառման վրա կատարվող ծախսը (հազար դրամ) | C25: ='Հավելված N 2'!G31 -> 13049 | D25: ='Հավելված N 2'!H31 -> 28566.8
C28: Աղյուսակ 9.1.13
A29: ՀՀ կրթության, գիտության, մշակույթի և սպորտի նախարարություն
A30: ՄԱՍ 1. ՊԵՏԱԿԱՆ ՄԱՐՄՆԻ ԳԾՈՎ ԱՐԴՅՈՒՆՔԱՅԻՆ (ԿԱՏԱՐՈՂԱԿԱՆ) ՑՈՒՑԱՆԻՇՆԵՐԸ
A32: Ծրագրի դասիչը | B32: Ծրագրի անվանումը
A33: 1148 | B33: Արտադպրոցական դաստիարակության ծրագիր
A35: Ծրագրի միջոցառումները
A37: Ծրագրի դասիչը՝ | B37: 1148 | C37: Ցուցանիշների փոփոխությունը (նվազեցումները նշված են փակագծերում)
A38: Միջոցառման դասիչը՝ | B38: 11001 | C38: Ինն ամիս | D38: Տարի
A39: Միջոցառման անվանումը՝ | B39: ='Հավելված N 4'!B17 -> Արտադպրոցական դաստիարակություն
A40: Նկարագրությունը՝ | B40: ='Հավելված N 4'!B18 -> Արվեստի, երաժշտության, սպորտի դասընթացներ մարզադպրոցներում, ստեղծագործական և արտադպրոցական դաստիարակության այլ կենտրոններում
A41: Միջոցառման տեսակը՝ | B41: Ծառայությունների մատուցում
A42: Ծառայությունը մատուցող կազմակերպության(ների) անվանում(ներ)ը՛ | B42: ='Հավելված N 4'!B20 -> Մասնագիտացված կազմակերպություններ
A43: Արդյունքի չափորոշիչներ
A44: Սաների թիվ, մարդ, այդ թվում` | D44: -60
A45: աղջիկ | D45: -60
A46: Միջոցառման վրա կատարվող ծախսը (հազար դրամ) | D46: ='Հավելված N 4'!D24 -> -8555.7
A48: Ծրագրի դասիչը՝ | B48: 1148 | C48: Ցուցանիշների փոփոխությունը (նվազեցումները նշված են փակագծերում)
A49: Միջոցառման դասիչը՝ | B49: ='Հավելված N 1'!B24 -> 12002 | C49: Ինն ամիս | D49: Տարի
A50: Միջոցառման անվանումը՝ | B50: ='Հավելված N 1'!C25 -> Կամավոր ատեստավորման նոր համակարգի ներդրում՝ ուղղված արտադպրոցական ուսումնական հաստատությունների մանկավարժական աշխատողների որակի բարձրացմանը
A51: Նկարագրությունը՝ | B51: ='Հավելված N 1'!C27 -> Արտադպրոցական հաստատություններում դասավանդող մանկավարժական աշխատողների կամավոր ատեստավորման համակարգի մշակում և ներդրում
A52: Միջոցառման տեսակը՝ | B52: Տրանսֆերտների տրամադրում
A53: Շահառուների ընտրության չափորոշիչները` | B53: Շահառուների ընտրության չափորոշիչները սահմանվածեն ԿԳՄՍ նախարարի հրամանով
A54: Արդյունքի չափորոշիչներ
A55: Կամավոր ատեստավորման արդյունքում ընթացիկ տարում ատեստավորված մանկավարժների թիվը, մարդ | D55: -87
A56: Կամավոր ատեստավորման արդյունքում հավելավճար ստացած արտադպրոցական ուսումնական հաստատությունների մանկավարժական աշխատողների ընդհանուր թվաքանակը, մարդ | D56: -88
A57: Կամավոր ատեստավորման արդյունքում ընթացիկ տարում հավելավճար ստացած մանկավարժների թիվը, մարդ | D57: -90
A58: Միջոցառման վրա կատարվող ծախսը (հազար դրամ) | C58: ='Հավելված N 2'!G38 -> -36574.5 | D58: ='Հավելված N 2'!H38 -> -74684.9
C61: Աղյուսակ 9.1.48
A62: ՀՀ Արագածոտնի մարզպետի աշխատակազմ
A63: ՄԱՍ 1. ՊԵՏԱԿԱՆ ՄԱՐՄՆԻ ԳԾՈՎ ԱՐԴՅՈՒՆՔԱՅԻՆ (ԿԱՏԱՐՈՂԱԿԱՆ) ՑՈՒՑԱՆԻՇՆԵՐԸ
A65: Ծրագրի դասիչը | B65: Ծրագրի անվանումը
A66: 1148 | B66: Արտադպրոցական դաստիարակության ծրագիր
A68: Ծրագրի միջոցառումները
A70: Ծրագրի դասիչը՝ | B70: 1148 | C70: Ցուցանիշների փոփոխությունը (ավելացումները նշված են դրական նշանով)
A71: Միջոցառման դասիչը՝ | B71: 12002 | C71: Ինն ամիս | D71: Տարի
A72: Միջոցառման անվանումը՝ | B72: Կամավոր ատեստավորման նոր համակարգի ներդրում՝ ուղղված արտադպրոցական ուսումնական հաստատությունների մանկավարժական աշխատողների որակի բարձրացմանը
A73: Նկարագրությունը՝ | B73: Արտադպրոցական հաստատություններում դասավանդող մանկավարժական աշխատողների կամավոր ատեստավորման համակարգի մշակում և ներդրում
A74: Միջոցառման տեսակը` | B74: Տրանսֆերտների տրամադրում
A75: Շահառուների ընտրության չափորոշիչները՝ | B75: Շահառուների ընտրության չափորոշիչները սահմանված են ԿԳՄՍ նախարարի հրամանով
A76: Արդյունքի չափորոշիչներ
A77: Կամավոր ատեստավորման արդյունքում ընթացիկ տարում ատեստավորված մանկավարժների թիվը, մարդ | D77: 3
A78: Կամավոր ատեստավորման արդյունքում հավելավճար ստացած արտադպրոցական ուսումնական հաստատությունների մանկավարժական աշխատողների ընդհանուր թվաքանակը, մարդ | D78: 3
A79: Կամավոր ատեստավորման արդյունքում ընթացիկ տարում հավելավճար ստացած մանկավարժների թիվը, մարդ | D79: 3
A80: Միջոցառման վրա կատարվող ծախսը (հազար դրամ) | C80: ='Հավելված N 2'!G45 -> 814.9 | D80: ='Հավելված N 2'!H45 -> 1901.5
C83: Աղյուսակ 9.1.49
A84: ՀՀ Արարատի մարզպետի աշխատակազմ
A85: ՄԱՍ 1. ՊԵՏԱԿԱՆ ՄԱՐՄՆԻ ԳԾՈՎ ԱՐԴՅՈՒՆՔԱՅԻՆ (ԿԱՏԱՐՈՂԱԿԱՆ) ՑՈՒՑԱՆԻՇՆԵՐԸ
A87: Ծրագրի դասիչը | B87: Ծրագրի անվանումը
A88: 1148 | B88: Արտադպրոցական դաստիարակության ծրագիր
A90: Ծրագրի միջոցառումները
A92: Ծրագրի դասիչը՝ | B92: 1148 | C92: Ցուցանիշների փոփոխությունը (ավելացումները նշված են դրական նշանով)
A93: Միջոցառման դասիչը՝ | B93: 12002 | C93: Ինն ամիս | D93: Տարի
A94: Միջոցառման անվանումը՝ | B94: Կամավոր ատեստավորման նոր համակարգի ներդրում՝ ուղղված արտադպրոցական ուսումնական հաստատությունների մանկավարժական աշխատողների որակի բարձրացմանը
A95: Նկարագրությունը՝ | B95: Արտադպրոցական հաստատություններում դասավանդող մանկավարժական աշխատողների կամավոր ատեստավորման համակարգի մշակում և ներդրում
A96: Միջոցառման տեսակը` | B96: Տրանսֆերտների տրամադրում
A97: Շահառուների ընտրության չափորոշիչները՝ | B97: Շահառուների ընտրության չափորոշիչները սահմանված են ԿԳՄՍ նախարարի հրամանով
A98: Արդյունքի չափորոշիչներ
A99: Կամավոր ատեստավորման արդյունքում ընթացիկ տարում ատեստավորված մանկավարժների թիվը, մարդ | D99: 7
A100: Կամավոր ատեստավորման արդյունքում հավելավճար ստացած արտադպրոցական ուսումնական հաստատությունների մանկավարժական աշխատողների ընդհանուր թվաքանակը, մարդ | D100: 6
A101: Կամավոր ատեստավորման արդյունքում ընթացիկ տարում հավելավճար ստացած մանկավարժների թիվը, մարդ | D101: 7
A102: Միջոցառման վրա կատարվող ծախսը (հազար դրամ) | C102: ='Հավելված N 2'!G52 -> 1902.3 | D102: ='Հավելված N 2'!H52 -> 4394.2
C105: Աղյուսակ 9.1.50
A106: ՀՀ Արմավիրի մարզպետի աշխատակազմ
A107: ՄԱՍ 1. ՊԵՏԱԿԱՆ ՄԱՐՄՆԻ ԳԾՈՎ ԱՐԴՅՈՒՆՔԱՅԻՆ (ԿԱՏԱՐՈՂԱԿԱՆ) ՑՈՒՑԱՆԻՇՆԵՐԸ
A109: Ծրագրի դասիչը | B109: Ծրագրի անվանումը
A110: 1148 | B110: Արտադպրոցական դաստիարակության ծրագիր
A112: Ծրագրի միջոցառումները
A114: Ծրագրի դասիչը՝ | B114: 1148 | C114: Ցուցանիշների փոփոխությունը (ավելացումները նշված են դրական նշանով)
A115: Միջոցառման դասիչը՝ | B115: 12002 | C115: Ինն ամիս | D115: Տարի
A116: Միջոցառման անվանումը՝ | B116: Կամավոր ատեստավորման նոր համակարգի ներդրում՝ ուղղված արտադպրոցական ուսումնական հաստատությունների մանկավարժական աշխատողների որակի բարձրացմանը
A117: Նկարագրությունը՝ | B117: Արտադպրոցական հաստատություններում դասավանդող մանկավարժական աշխատողների կամավոր ատեստավորման համակարգի մշակում և ներդրում
A118: Միջոցառման տեսակը` | B118: Տրանսֆերտների տրամադրում
A119: Շահառուների ընտրության չափորոշիչները՝ | B119: Շահառուների ընտրության չափորոշիչները սահմանված են ԿԳՄՍ նախարարի հրամանով
A120: Արդյունքի չափորոշիչներ
A121: Կամավոր ատեստավորման արդյունքում ընթացիկ տարում ատեստավորված մանկավարժների թիվը, մարդ | D121: 10
A122: Կամավոր ատեստավորման արդյունքում հավելավճար ստացած արտադպրոցական ուսումնական հաստատությունների մանկավարժական աշխատողների ընդհանուր թվաքանակը, մարդ | D122: 9
A123: Կամավոր ատեստավորման արդյունքում ընթացիկ տարում հավելավճար ստացած մանկավարժների թիվը, մարդ | D123: 10
A124: Միջոցառման վրա կատարվող ծախսը (հազար դրամ) | C124: ='Հավելված N 2'!G59 -> 3007.4 | D124: ='Հավելված N 2'!H59 -> 7185.2
C127: Աղյուսակ 9.1.51
...
