Workbook
Name շախմատիստ: #REF!

Sheet Հավելված N 1
D1: Հավելված N 1
D2: ՀՀ կառավարության 2024 թվականի
D3: ______________ ի ___Ն որոշման
A4: «ՀԱՅԱՍՏԱՆԻ ՀԱՆՐԱՊԵՏՈՒԹՅԱՆ 2024 ԹՎԱԿԱՆԻ ՊԵՏԱԿԱՆ ԲՅՈՒՋԵԻ ՄԱՍԻՆ» ՀՀ ՕՐԵՆՔԻ N 1 ՀԱՎԵԼՎԱԾԻ N 2 ԱՂՅՈՒՍԱԿՈՒՄ ԿԱՏԱՐՎՈՂ ՎԵՐԱԲԱՇԽՈՒՄԸ ԵՎ ՀԱՅԱՍՏԱՆԻ ՀԱՆՐԱՊԵՏՈՒԹՅԱՆ ԿԱՌԱՎԱՐՈՒԹՅԱՆ 2023 ԹՎԱԿԱՆԻ ԴԵԿՏԵՄԲԵՐԻ 28-Ի N 2323-Ն ՈՐՈՇՄԱՆ N 5 ՀԱՎԵԼՎԱԾԻ N 1 ԱՂՅՈՒՍԱԿՈՒՄ ԿԱՏԱՐՎՈՂ ՓՈՓՈԽՈՒԹՅՈՒՆԸ
D5: հազար դրամներով
A6: Ծրագրային դասիչը | C6: Բյուջետային հատկացումների գլխավոր կարգադրիչների, ծրագրերի և միջոցառումների անվանումները | D6: Ցուցանիշների փոփոխությունը (ավելացումները նշված են դրական նշանով, իսկ նվազեցումները՝ փակագծերում)
A7: ծրագիր | B7: միջոցառում | D7: Ինն ամիս | E7: Տարի
C8: ԸՆԴԱՄԵՆԸ | D8: =D9 -> 0 | E8: =E9 -> 0
A9: ՀՀ Կրթության, գիտության, մշակույթի և սպորտի նախարարություն | D9: =D11 -> 0 | E9: =E11 -> 0
A10: 1148 | C10: Ծրագրի անվանումը`
C11: Արտադպրոցական դաստիարակության ծրագիր | D11: =D17+D24 -> 0 | E11: =E17+E24 -> 0
C12: Ծրագրի նպատակը`
C13: Նպաստել հանրակրթական ուսուցման համակարգում ընդգրկված երեխաների ֆիզիկական, հոգևոր և գեղագիտական զարգացմանը, բնապահպանական և կիրառական գիտելիքների ձեռքբերմանը
C14: Վերջնական արդյունքի նկարագրությունը`
C15: Ստեղծել պայմաններ սովորողների ազատ ժամանացի կազմակերպման միջոցով նրանց հետաքրքրությունների բացահայտման, ձևավորման և զարգացման համար
A16: Ծրագրի միջոցառումներ
B17: 11001 | C17: Միջոցառման անվանումը` | D17: 0 | E17: -8555.7
C18: Արտադպրոցական դաստիարակություն
C19: Միջոցառման նկարագրությունը`
C20: Արվեստի, երաժշտության, սպորտի դասընթացներ մարզադպրոցներում, ստեղծագործական և արտադպրոցական դաստիարակության այլ կենտրոններում
C21: Միջոցառման տեսակը
C22: Ծառայությունների մատուցում
A23: Ծրագրի միջոցառումներ
B24: 12002 | C24: Միջոցառման անվանումը` | D24: =-D17 -> 0 | E24: =-E17 -> 8555.7
C25: Կամավոր ատեստավորման նոր համակարգի ներդրում՝ ուղղված արտադպրոցական ուսումնական հաստատությունների մանկավարժական աշխատողների որակի բարձրացմանը
C26: Միջոցառման նկարագրությունը`
C27: Արտադպրոցական հաստատություններում դասավանդող մանկավարժական աշխատողների կամավոր ատեստավորման համակարգի մշակում և ներդրում
C28: Միջոցառման տեսակը
C29: Տրանսֆերտների տրամադրում

Sheet Հավելված N 2
G1: Հավելված N 2
G2: ՀՀ կառավարության 2024 թվականի
G3: ______________ ի ___Ն որոշման
A4: ՀԱՅԱՍՏԱՆԻ ՀԱՆՐԱՊԵՏՈՒԹՅԱՆ ԿԱՌԱՎԱՐՈՒԹՅԱՆ 2023 ԹՎԱԿԱՆԻ ԴԵԿՏԵՄԲԵՐԻ 28-Ի N 2323-Ն ՈՐՈՇՄԱՆ N 3 ԵՎ N 4 ՀԱՎԵԼՎԱԾՆԵՐՈՒՄ ԿԱՏԱՐՎՈՂ ՓՈՓՈԽՈՒԹՅՈՒՆՆԵՐԸ ԵՎ ԼՐԱՑՈՒՄՆԵՐԸ
G5: հազար դրամներով
A6: Գործառական դասիչը | D6: Ծրագրային դասիչը | F6: Բյուջետային ծախսերի գործառական դասակարգման բաժինների, խմբերի և դասերի, բյուջետային ծրագրերի միջոցառումների, բյուջետային հատկացումների գլխավոր կարգադրիչների անվանումները | G6: Ցուցանիշների փոփոխություն (ավելացումները նշված են դրական նշանով, իսկ նվազեցումները՝ փակագծերում)
A7: Բաժին | B7: Խումբ | C7: Դաս | D7: Ծրագիր | E7: Միջոցառում | G7: Ինն ամիս | H7: Տարի
F8: ԸՆԴԱՄԵՆԸ | G8: =+G10 -> 0 | H8: =+H10 -> 0
F9: այդ թվում`
F10: ՀՀ Կրթության, գիտության, մշակույթի և սպորտի նախարարություն | G10: =G12 -> 0 | H10: =H12 -> 0
F11: այդ թվում`
A12: 09 | E12: 11010 | F12: ԿՐԹՈՒԹՅՈՒՆ | G12: =G14 -> 0 | H12: =H14 -> 0
F13: այդ թվում`
B14: 05 | F14: Ըստ մակարդակների չդասակարգվող կրթություն | G14: =G16 -> 0 | H14: =H16 -> 0
F15: այդ թվում`
C16: 01 | F16: Արտադպրոցական դաստիարակություն | G16: =G18 -> 0 | H16: =H18 -> 0
F17: այդ թվում`
D18: ='Հավելված N 1'!A10 -> 1148 | F18: ='Հավելված N 1'!C11 -> Արտադպրոցական դաստիարակության ծրագիր | G18: =G20+G29 -> 0 | H18: =H20+H29 -> 0
F19: այդ թվում`
E20: 11001 | F20: ='Հավելված N 1'!C18 -> Արտադպրոցական դաստիարակություն | G20: =+G22 -> 0 | H20: =+H22 -> -8555.7
F21: այդ թվում` ըստ կատարողների
F22: ՀՀ կրթության, գիտության, մշակույթի և սպորտի նախարարություն | G22: =G24 -> 0 | H22: =H24 -> -8555.7
F23: այդ թվում` բյուջետային ծախսերի տնտեսագիտական դասակարգման հոդվածներ
F24: ԸՆԴԱՄԵՆԸ ԾԱԽՍԵՐ | G24: =+G25 -> 0 | H24: =+H25 -> -8555.7
F25: ԸՆԹԱՑԻԿ ԾԱԽՍԵՐ | G25: =+G26 -> 0 | H25: =+H26 -> -8555.7
F26: ՍՈՒԲՍԻԴԻԱՆԵՐ | G26: =+G27 -> 0 | H26: =+H27 -> -8555.7
F27: Սուբսիդիաներ պետական կազմակերպություններին | G27: =G28 -> 0 | H27: =H28 -> -8555.7
F28: - Սուբսիդիաներ ոչ ֆինանսական պետական կազմակերպություններին | G28: ='Հավելված N 1'!D17 -> 0 | H28: ='Հավելված N 1'!E17 -> -8555.7
E29: ='Հավելված N 1'!B24 -> 12002 | F29: ='Հավելված N 1'!C25 -> Կամավոր ատեստավորման նոր համակարգի ներդրում՝ ուղղված արտադպրոցական ուսումնական հաստատությունների մանկավարժական աշխատողների որակի բարձրացմանը | G29: =G108+G101+G94+G87+G80+G73+G66+G59+G52+G45+G38+G31 -> 0 | H29: =H108+H101+H94+H87+H80+H73+H66+H59+H52+H45+H38+H31 -> 8555.7
F30: այդ թվում` ըստ կատարողների
F31: ՀՀ տարածքային կառավարման և ենթակառուցվածքների նախարարություն | G31: =G33 -> 13049 | H31: =H33 -> 28566.8
F32: այդ թվում` բյուջետային ծախսերի տնտեսագիտական դասակարգման հոդվածներ
F33: ԸՆԴԱՄԵՆԸ ԾԱԽՍԵՐ | G33: =G34 -> 13049 | H33: =H34 -> 28566.8
F34: ԸՆԹԱՑԻԿ ԾԱԽՍԵՐ | G34: =G35 -> 13049 | H34: =H35 -> 28566.8
F35: ՍՈՑԻԱԼԱԿԱՆ ՆՊԱՍՏՆԵՐ ԵՎ ԿԵՆՍԱԹՈՇԱԿՆԵՐ | G35: =G36 -> 13049 | H35: =H36 -> 28566.8
F36: Սոցիալական օգնության դրամական արտահայտությամբ նպաստներ (բյուջեից) | G36: =G37 -> 13049 | H36: =H37 -> 28566.8
F37: - Այլ նպաստներ բյուջեից | G37: 13049 | H37: 28566.8
F38: ՀՀ կրթության, գիտության, մշակույթի և սպորտի նախարարություն | G38: =G40 -> -36574.5 | H38: =H40 -> -74684.9
F39: այդ թվում` բյուջետային ծախսերի տնտեսագիտական դասակարգման հոդվածներ
F40: ԸՆԴԱՄԵՆԸ ԾԱԽՍԵՐ | G40: =G41 -> -36574.5 | H40: =H41 -> -74684.9
...

Sheet Հավելված N 3
C1: Հավելված N 3
C2: ՀՀ կառավարության 2024 թվականի
C3: ______________ ի ___Ն որոշման
A5: ՀԱՅԱՍՏԱՆԻ ՀԱՆՐԱՊԵՏՈՒԹՅԱՆ ԿԱՌԱՎԱՐՈՒԹՅԱՆ 2023 ԹՎԱԿԱՆԻ ԴԵԿՏԵՄԲԵՐԻ 28-Ի N 2323-Ն ՈՐՈՇՄԱՆ N 8 ՀԱՎԵԼՎԱԾՈՒՄ ԿԱՏԱՐՎՈՂ ՓՈՓՈԽՈՒԹՅՈՒՆՆԵՐԸ
D6: հազար դրամներով
A7: Ծրագրային դասիչը | C7: Բյուջետային հատակացումների գլխավոր կարգադրիչներ, ծրագրերի, միջոցառումների անվանումները | D7: Ցուցանիշների փոփոխությունը (ավելացումները նշված են դրական նշանով)
A8: Ծրագիր | B8: Միջոցառում
C9: ԸՆԴԱՄԵՆԸ ԾԱԽՍԵՐ | D9: =D11 -> 28566.8
C10: այդ թվում՝
A11: 1148 | C11: Արտադպրոցական դաստիարակության ծրագիր | D11: =D12 -> 28566.8
B12: 12002 | C12: ='Հավելված N 1'!C25 -> Կամավոր ատեստավորման նոր համակարգի ներդրում՝ ուղղված արտադպրոցական ուսումնական հաստատությունների մանկավարժական աշխատողների որակի բարձրացմանը | D12: ='Հավելված N 5'!D25 -> 28566.8

Sheet Հավելված N 4
C1: Հավելված N 4
C2: ՀՀ կառավարության 2024 թվականի
C3: ______________ ի ___Ն որոշման
A5: ՀԱՅԱՍՏԱՆԻ ՀԱՆՐԱՊԵՏՈՒԹՅԱՆ ԿԱՌԱՎԱՐՈՒԹՅԱՆ 2023 ԹՎԱԿԱՆԻ ԴԵԿՏԵՄԲԵՐԻ 28-Ի N 2323-Ն ՈՐՈՇՄԱՆ N 9 ՀԱՎԵԼՎԱԾԻ N 9.13 ԱՂՅՈՒՍԱԿՈՒՄ ԿԱՏԱՐՎՈՂ ՓՈՓՈԽՈՒԹՅՈՒՆՆԵՐԸ
C6: Աղյուսակ 9.13
A7: ՀՀ կրթության, գիտության, մշակույթի և սպորտի նախարարություն
A8: ՄԱՍ 2. ՊԵՏԱԿԱՆ ՄԱՐՄՆԻ ԳԾՈՎ ԱՐԴՅՈՒՆՔԱՅԻՆ (ԿԱՏԱՐՈՂԱԿԱՆ) ՑՈՒՑԱՆԻՇՆԵՐԸ
A10: Ծրագրի դասիչը | B10: Ծրագրի անվանումը
A11: ='Հավելված N 2'!D18 -> 1148 | B11: Արտադպրոցական դաստիարակության ծրագիր
A13: Ծրագրի միջոցառումները
A15: Ծրագրի դասիչը՝ | B15: 1148 | C15: Ցուցանիշների փոփոխությունը (նվազեցումները նշված են փակագծերում)
A16: Միջոցառման դասիչը՝ | B16: 11001 | C16: Ինն ամիս | D16: Տարի
A17: Միջոցառման անվանումը՝ | B17: ='Հավելված N 1'!C18 -> Արտադպրոցական դաստիարակություն
A18: Նկարագրությունը՝ | B18: ='Հավելված N 1'!C20 -> Արվեստի, երաժշտության, սպորտի դասընթացներ մարզադպրոցներում, ստեղծագործական և արտադպրոցական դաստիարակության այլ կենտրոններում
A19: Միջոցառման տեսակը՝ | B19: ='Հավելված N 1'!C22 -> Ծառայությունների մատուցում
A20: Ծառայությունը մատուցող կազմակերպության(ների) անվանում(ներ)ը՛ | B20: Մասնագիտացված կազմակերպություններ
A21: Արդյունքի չափորոշիչներ
A22: Սաների թիվ, մարդ, այդ թվում` | D22: -60
A23: աղջիկ | D23: -60
A24: Միջոցառման վրա կատարվող ծախսը (հազար դրամ) | D24: ='Հավելված N 1'!E17 -> -8555.7
A26: Ծրագրի դասիչը՝ | B26: 1148 | C26: Ցուցանիշների փոփոխությունը (ավելացումները նշված են դրական նշանով)
A27: Միջոցառման դասիչը՝ | B27: ='Հավելված N 1'!B24 -> 12002 | C27: Ինն ամիս | D27: Տարի
A28: Միջոցառման անվանումը՝ | B28: ='Հավելված N 1'!C25 -> Կամավոր ատեստավորման նոր համակարգի ներդրում՝ ուղղված արտադպրոցական ուսումնական հաստատությունների մանկավարժական աշխատողների որակի բարձրացմանը
A29: Նկարագրությունը՝ | B29: ='Հավելված N 1'!C27 -> Արտադպրոցական հաստատություններում դասավանդող մանկավարժական աշխատողների կամավոր ատեստավորման համակարգի մշակում և ներդրում
A30: Միջոցառման տեսակը` | B30: Տրանսֆերտների տրամադրում
A31: Շահառուների ընտրության չափորոշիչները՝ | B31: Շահառուների ընտրության չափորոշիչները սահմանված են ԿԳՄՍ նախարարի հրամանով
A32: Արդյունքի չափորոշիչներ
A33: Կամավոր ատեստավորման արդյունքում ընթացիկ տարում ատեստավորված մանկավարժների թիվը, մարդ | D33: 43
A34: Կամավոր ատեստավորման արդյունքում հավելավճար ստացած արտադպրոցական ուսումնական հաստատությունների մանկավարժական աշխատողների ընդհանուր թվաքանակը, մարդ | D34: 28
A35: Կամավոր ատեստավորման արդյունքում ընթացիկ տարում հավելավճար ստացած մանկավարժների թիվը, մարդ | D35: 37
A36: Միջոցառման վրա կատարվող ծախսը (հազար դրամ) | D36: ='Հավելված N 1'!E24 -> 8555.7

Sheet Հավելված N 5
C1: Հավելված N 5
C2: ՀՀ կառավարության 2024 թվականի
C3: ______________ ի ___Ն որոշման
A5: ՀԱՅԱՍՏԱՆԻ ՀԱՆՐԱՊԵՏՈՒԹՅԱՆ ԿԱՌԱՎԱՐՈՒԹՅԱՆ 2023 ԹՎԱԿԱՆԻ ԴԵԿՏԵՄԲԵՐԻ 28-Ի N 2323-Ն ՈՐՈՇՄԱՆ N 9.1 ՀԱՎԵԼՎԱԾԻ NN 9.1.7, 9.1.13, 9.1.48, 9.1.49, 9.1.50, 9.1.51, 9.1.52, 9.1.53, 9.1.54, 9.1.55, 9.1.56 ԵՎ 9.1.57 ԱՂՅՈՒՍԱԿՆԵՐՈՒՄ ԿԱՏԱՐՎՈՂ ՓՈՓՈԽՈՒԹՅՈՒՆՆԵՐԸ ԵՎ ԼՐԱՑՈՒՄՆԵՐԸ
C6: Աղյուսակ 9.1.7
A7: ՀՀ տարածքային կառավարման և ենթակառուցվածքների նախարարություն
A8: ՄԱՍ 1. ՊԵՏԱԿԱՆ ՄԱՐՄՆԻ ԳԾՈՎ ԱՐԴՅՈՒՆՔԱՅԻՆ (ԿԱՏԱՐՈՂԱԿԱՆ) ՑՈՒՑԱՆԻՇՆԵՐԸ
A10: Ծրագրի դասիչը | B10: Ծրագրի անվանումը
A11: 1148 | B11: Արտադպրոցական դաստիարակության ծրագիր
A13: Ծրագրի միջոցառումները
A15: Ծրագրի դասիչը՝ | B15: 1148 | C15: Ցուցանիշների փոփոխությունը (ավելացումները նշված են դրական նշանով)
A16: Միջոցառման դասիչը՝ | B16: 12002 | C16: Ինն ամիս | D16: Տարի
A17: Միջոցառման անվանումը՝ | B17: Կամավոր ատեստավորման նոր համակարգի ներդրում՝ ուղղված արտադպրոցական ուսումնական հաստատությունների մանկավարժական աշխատողների որակի բարձրացմանը
A18: Նկարագրությունը՝ | B18: Արտադպրոցական հաստատություններում դասավանդող մանկավարժական աշխատողների կամավոր ատեստավորման համակարգի մշակում և ներդրում
A19: Միջոցառման տեսակը` | B19: Տրանսֆերտների տրամադրում
A20: Շահառուների ընտրության չափորոշիչները՝ | B20: Շահառուների ընտրության չափորոշիչները սահմանված են ԿԳՄՍ նախարարի հրամանով
A21: Արդյունքի չափորոշիչներ
A22: Կամավոր ատեստավորման արդյունքում ընթացիկ տարում ատեստավորված մանկավարժների թիվը, մարդ | D22: 51
A23: Կամավոր ատեստավորման արդյունքում հավելավճար ստացած արտադպրոցական ուսումնական հաստատությունների մանկավարժական աշխատողների ընդհանուր թվաքանակը, մարդ | D23: 46
A24: Կամավոր ատեստավորման արդյունքում ընթացիկ տարում հավելավճար ստացած մանկավարժների թիվը, մարդ | D24: 49
A25: Միջոցառման վրա կատարվող ծախսը (հազար դրամ) | C25: ='Հավելված N 2'!G31 -> 13049 | D25: ='Հավելված N 2'!H31 -> 28566.8
C28: Աղյուսակ 9.1.13
A29: ՀՀ կրթության, գիտության, մշակույթի և սպորտի նախարարություն
A30: ՄԱՍ 1. ՊԵՏԱԿԱՆ ՄԱՐՄՆԻ ԳԾՈՎ ԱՐԴՅՈՒՆՔԱՅԻՆ (ԿԱՏԱՐՈՂԱԿԱՆ) ՑՈՒՑԱՆԻՇՆԵՐԸ
A32: Ծրագրի դասիչը | B32: Ծրագրի անվանումը
A33: 1148 | B33: Արտադպրոցական դաստիարակության ծրագիր
A35: Ծրագրի միջոցառումները
A37: Ծրագրի դասիչը՝ | B37: 1148 | C37: Ցուցանիշների փոփոխությունը (նվազեցումները նշված են փակագծերում)
A38: Միջոցառման դասիչը՝ | B38: 11001 | C38: Ինն ամիս | D38: Տարի
A39: Միջոցառման անվանումը՝ | B39: ='Հավելված N 4'!B17 -> Արտադպրոցական դաստիարակություն
A40: Նկարագրությունը՝ | B40: ='Հավելված N 4'!B18 -> Արվեստի, երաժշտության, սպորտի դասընթացներ մարզադպրոցներում, ստեղծագործական և արտադպրոցական դաստիարակության այլ կենտրոններում
A41: Միջոցառման տեսակը՝ | B41: Ծառայությունների մատուցում
A42: Ծառայությունը մատուցող կազմակերպության(ների) անվանում(ներ)ը՛ | B42: ='Հավելված N 4'!B20 -> Մասնագիտացված կազմակերպություններ
A43: Արդյունքի չափորոշիչներ
A44: Սաների թիվ, մարդ, այդ թվում` | D44: -60
A45: աղջիկ | D45: -60
A46: Միջոցառման վրա կատարվող ծախսը (հազար դրամ) | D46: ='Հավելված N 4'!D24 -> -8555.7
A48: Ծրագրի դասիչը՝ | B48: 1148 | C48: Ցուցանիշների փոփոխությունը (նվազեցումները նշված են փակագծերում)
A49: Միջոցառման դասիչը՝ | B49: ='Հավելված N 1'!B24 -> 12002 | C49: Ինն ամիս | D49: Տարի
A50: Միջոցառման անվանումը՝ | B50: ='Հավելված N 1'!C25 -> Կամավոր ատեստավորման նոր համակարգի ներդրում՝ ուղղված արտադպրոցական ուսումնական հաստատությունների մանկավարժական աշխատողների որակի բարձրացմանը
...
