Workbook
Name _tab10: #REF!
Name _tab10: #REF!
Name _tab10: #REF!
Name _tab10: #REF!
Name _tab10: #REF!
Name _tab11: #REF!
Name _tab11: #REF!
Name _tab11: #REF!
Name _tab11: #REF!
Name _tab11: #REF!
Name _tab12: #REF!
Name _tab12: #REF!
Name _tab12: #REF!
Name _tab12: #REF!
Name _tab12: #REF!
Name _tab13: #REF!
Name _tab13: #REF!
Name _tab13: #REF!
Name _tab13: #REF!
Name _tab14: #REF!
Name _tab14: #REF!
Name _tab14: #REF!
Name _tab14: #REF!
Name _tab15: #REF!
Name _tab15: #REF!
Name _tab15: #REF!
Name _tab15: #REF!
Name _tab16: #REF!
Name _tab16: #REF!
Name _tab16: #REF!
Name _tab16: #REF!
Name _tab17: #REF!
Name _tab17: #REF!
Name _tab17: #REF!
Name _tab17: #REF!
Name _tab18: #REF!
Name _tab18: #REF!
Name _tab18: #REF!
Name _tab18: #REF!
Name _tab19: #REF!
Name _tab19: #REF!
Name _tab19: #REF!
Name _tab19: #REF!
Name _tab20: #REF!
Name _tab20: #REF!
Name _tab20: #REF!
Name _tab20: #REF!
Name _tab21: #REF!
Name _tab21: #REF!
Name _tab21: #REF!
Name _tab21: #REF!
Name _tab22: #REF!
Name _tab22: #REF!
Name _tab22: #REF!
Name _tab22: #REF!
Name _tab23: #REF!
Name _tab23: #REF!
Name _tab23: #REF!
Name _tab23: #REF!
Name _tab24: #REF!

Sheet 1
E2: Հավելված N 1
C3: ՀՀ կառավարության 2024 թվականի
E4: N ------------ -Ն որոշման
A5: ՀԱՅԱՍՏԱՆԻ ՀԱՆՐԱՊԵՏՈՒԹՅԱՆ 2024 ԹՎԱԿԱՆԻ ՊԵՏԱԿԱՆ ԲՅՈՒՋԵԻ ՄԱՍԻՆ» ՕՐԵՆՔԻ N 1 ՀԱՎԵԼՎԱԾԻ N 2 ԱՂՅՈՒՍԱԿՈՒՄ ԿԱՏԱՐՎՈՂ ՎԵՐԱԲԱՇԽՈՒՄԸ ԵՎ ՀԱՅԱՍՏԱՆԻ ՀԱՆՐԱՊԵՏՈՒԹՅԱՆ ԿԱՌԱՎԱՐՈՒԹՅԱՆ 2023 ԹՎԱԿԱՆԻ ԴԵԿՏԵՄԲԵՐԻ 28-Ի N 2323-Ն ՈՐՈՇՄԱՆ N 5 ՀԱՎԵԼՎԱԾԻ N 1 ԱՂՅՈՒՍԱԿՈՒՄ ԿԱՏԱՐՎՈՂ ՓՈՓՈԽՈՒԹՅՈՒՆՆԵՐԸ ԵՎ ԼՐԱՑՈՒՄՆԵՐԸ
E7: հազար դրամ
A8: Ծրագրային դասիչը | C8: Բյուջետային հատկացումների գլխավոր կարգադրիչների, ծրագրերի և միջոցառումների անվանումները | D8: Ցուցանիշների փոփոխությունը (ավելացումները նշված են դրական նշանով, իսկ նվազեցումները` փակագծերում)
A9: Ծրագիր | B9: Միջոցառում | D9: Ինն ամիս | E9: Տարի
C10: ԸՆԴԱՄԵՆԸ | D10: =D11 -> 0 | E10: =E11 -> 0
C11: ՀՀ տարածքային կառավարման և ենթակառուցվածքների նախարարություն | D11: =D12+D44+D31 -> 0 | E11: =E12+E44+E31 -> 0
A12: 1049 | C12: Ծրագրի անվանումը` | D12: =D19+D25 -> -10751.2 | E12: =E19+E25 -> -10751.2
C13: Ճանապարհային ցանցի բարելավում
C14: Ծրագրի նպատակը`
C15: Ճանապարհային ցանցի բարելավում և անվտանգ երթևեկության ապահովում
C16: Վերջնական արդյունքի նկարագրությունը`
C17: Ճանապարհների ծածկի որակի և փոխադրումների արդյունավետության բարելավում, ճանապարհների վիճակով պայմանավորված պատահարների նվազում
C18: Ծրագրի միջոցառումներ
B19: 11002 | C19: Միջոցառման անվանումը` | D19: ='2.'!G95 -> -33427.7 | E19: ='2.'!H95 -> -33427.7
C20: Մարզային նշանակության ավտոճանապարհների պահպանման և անվտանգ երթևեկության ծառայություններ
C21: Միջոցառման նկարագրությունը`
C22: Հողային պաստառի, երթևեկելի մասի, արհեստական կառույցների և կահավորման տարրերի նորմատիվ մակարդակում պահպանում և շահագործում
C23: Միջոցառման տեսակը
C24: Ծառայությունների մատուցում
B25: 21001 | C25: Միջոցառման անվանումը` | D25: ='2.'!G111 -> 22676.5 | E25: ='2.'!H111 -> 22676.5
C26: Պետական նշանակության ավտոճանապարհների հիմնանորոգում
C27: Միջոցառման նկարագրությունը`
C28: Միջպետական, հանրապետական և մարզային նշանակության ավտոճոնապարհների քայքայված ծածկի վերանորոգում, մաշված ծածկի փոխարինում
C29: Միջոցառման տեսակը
C30: Հանրության կողմից անմիջականորեն օգտագործվող ակտիվների հետ կապված միջոցառումներ
A31: 1004 | C31: Ծրագրի անվանումը` | D31: ='2.'!G136 -> -90903.6 | E31: ='2.'!H136 -> -90903.6
C32: Ոռոգման համակարգի առողջացում
C33: Ծրագրի նպատակը`
C34: Ոռոգման ծառայությունների հասանելիության և մատչելիության ապահովում
C35: Վերջնական արդյունքի նկարագրությունը`
C36: Ոռոգման ջրի մատակարարման արդյունավետության և հասանելիության բարելավում, կորուստների կրճատում
C37: Ծրագրի միջոցառումներ
B38: 12002 | C38: Միջոցառման անվանումը` | D38: ='2.'!G128 -> -90903.6 | E38: ='2.'!H136 -> -90903.6
C39: Գերմանիայի զարգացման բանկի աջակցությամբ իրականացվող Ախուրյան գետի ջրային ռեսուրսների ինտեգրված կառավարման փուլ 1 ծրագրով Ջրաձոր գյուղի վերաբնակեցման համար ենթակառուցվածքների և բնակելի տների կառուցում
C40: Միջոցառման նկարագրությունը`
C41: Գերմանիայի զարգացման բանկի աջակցությամբ իրականացվող Ախուրյան գետի ջրային ռեսուրսների ինտեգրված կառավարման փուլ 1 ծրագիր
C42: Միջոցառման տեսակը
C43: Տրանսֆերտների տրամադրում
A44: 1212 | C44: Ծրագրի անվանումը` | D44: =D51+D58 -> 101654.8 | E44: =E51+E58 -> 101654.8
C45: Տարածքային զարգացում
C46: Ծրագրի նպատակը`
C47: Տարածքային համաչափ զարգացման խթանում
C48: Վերջնական արդյունքի նկարագրությունը`
C49: ՀՀ համայնքների կառավարման արդյունավետության բարձրացում և տնտեսական գործունեության խթանում
C50: Ծրագրի միջոցառումներ
B51: 12025 | C51: Միջոցառման անվանումը` | D51: ='2.'!G23 -> -115438.9 | E51: ='2.'!H23 -> -115438.9
C52: Մարզերում առաջնահերթ լուծում պահանջող հիմնախնդիրների լուծում
C53: Միջոցառման նկարագրությունը`
C54: Մարզերում առաջնահերթ լուծում պահանջող ծրագրերի իրականացում, որի արդյունքում լուծում կտրվի բնակչության և համայնքների սոցիալական նշանակություն ունեցող հիմնախնդիրներին
C55: Միջոցառման տեսակը
C56: Տրանսֆերտների տրամադրում
A57: Ծրագրի միջոցառումներ
B58: 32001 | C58: Միջոցառման անվանումը` | D58: ='2.'!G57 -> 217093.7 | E58: ='2.'!H57 -> 217093.7
C59: ՀՀ մարզերում առաջնահերթ լուծում պահանջող անհետաձգելի ծրագրերի իրականացում
C60: Միջոցառման նկարագրությունը`
C61: ՀՀ մարզերում առաջնահերթ լուծում պահանջող ծրագրերի իրականացում, որի արդյունքում լուծում կտրվի մարզային ենթակայության կազմակեր-պությունների և համայնքային նշանակություն ունեցող հիմնախնդիրներին:
C62: Միջոցառման տեսակը
C63: Այլ պետական կազմակերպությունների կողմից օգտագործվող ոչ ֆինանսական ակտիվների հետ գործառնություններ
B65: ՀԱՅԱՍՏԱՆԻ ՀԱՆՐԱՊԵՏՈՒԹՅԱՆ
B66: ՎԱՐՉԱՊԵՏԻ ԱՇԽԱՏԱԿԱԶՄԻ
C67: ՂԵԿԱՎԱՐ ՝ Ա. ՀԱՐՈՒԹՅՈՒՆՅԱՆ

Sheet 2.
H1: Հավելված N 2
F2: ՀՀ կառավարության 2024 թվականի
H3: N ------------ -Ն որոշման
A5: ՀԱՅԱՍՏԱՆԻ ՀԱՆՐԱՊԵՏՈՒԹՅԱՆ ԿԱՌԱՎԱՐՈՒԹՅԱՆ 2023 ԹՎԱԿԱՆԻ ԴԵԿՏԵՄԲԵՐԻ 28-Ի N 2323-Ն ՈՐՈՇՄԱՆ NN 3 ԵՎ 4 ՀԱՎԵԼՎԱԾՆԵՐՈՒՄ ԿԱՏԱՐՎՈՂ ՓՈՓՈԽՈՒԹՅՈՒՆՆԵՐԸ ԵՎ ԼՐԱՑՈՒՄՆԵՐԸ
H6: հազար դրամ
A7: Գործառական դասիչը | D7: Ծրագրային դասիչը | F7: Բյուջետային ծախսերի գործառական դասակարգման բաժինների, խմբերի և դասերի, բյուջետային ծրագրերի միջոցառումների, բյուջետային հատկացումների գլխավոր կարգադրիչների անվանումները | G7: Ցուցանիշների փոփոխությունը (ավելացումները նշված են դրական նշանով, իսկ նվազեցումները` փակագծերում)
A8: Բաժին | B8: Խումբ | C8: Դաս | D8: Ծրագիր | E8: Միջոցառում | G8: Ինն ամիս | H8: Տարի
F9: ԸՆԴԱՄԵՆԸ ԾԱԽՍԵՐ | G9: =G11 -> 0 | H9: =H11 -> 0
F10: այդ թվում`
F11: ՀՀ տարածքային կառավարման և ենթակառուցվածքների նախարարություն | G11: =G13+G85 -> 0 | H11: =H13+H85 -> 0
F12: այդ թվում`
A13: 01 | F13: ԸՆԴՀԱՆՈՒՐ ԲՆՈՒՅԹԻ ՀԱՆՐԱՅԻՆ ԾԱՌԱՅՈՒԹՅՈՒՆՆԵՐ | G13: =G15 -> 101654.8 | H13: =H15 -> 101654.8
F14: այդ թվում`
B15: 08 | F15: Կառավարության տարբեր մակարդակների միջև իրականացվող ընդհանուր բնույթի տրանսֆերտներ | G15: =G17 -> 101654.8 | H15: =H17 -> 101654.8
F16: այդ թվում`
C17: 01 | F17: Կառավարության տարբեր մակարդակների միջև իրականացվող ընդհանուր բնույթի տրանսֆերտներ | G17: =G19 -> 101654.8 | H17: =H19 -> 101654.8
F18: այդ թվում`
F19: ՀՀ տարածքային կառավարման և ենթակառուցվածքների նախարարություն | G19: =+G21 -> 101654.8 | H19: =+H21 -> 101654.8
F20: այդ թվում`
D21: 1212 | F21: Տարածքային զարգացում | G21: =G23+G57 -> 101654.8 | H21: =H23+H57 -> 101654.8
F22: այդ թվում
E23: 12025 | F23: Մարզերում առաջնահերթ լուծում պահանջող հիմնախնդիրների լուծում | G23: =G25+G37+G50 -> -115438.9 | H23: =H25+H37+H50 -> -115438.9
F24: այդ թվում` ըստ կատարողների
F25: ՀՀ Տավուշի մարզպետի աշխատակազմ | G25: =+G27 -> -99030.1 | H25: =+H27 -> -99030.1
F26: այդ թվում` բյուջետային ծախսերի տնտեսագիտական դասակարգման հոդվածներ
F27: ԸՆԴԱՄԵՆԸ ԾԱԽՍԵՐ | G27: =+G28 -> -99030.1 | H27: =+H28 -> -99030.1
F28: ԸՆԹԱՑԻԿ ԾԱԽՍԵՐ | G28: =G29+G34 -> -99030.1 | H28: =H29+H34 -> -99030.1
F29: ԾԱՌԱՅՈՒԹՅՈՒՆՆԵՐԻ ԵՎ ԱՊՐԱՆՔՆԵՐԻ ՁԵՌՔԲԵՐՈՒՄ | G29: =G30+G32 -> -59030.1 | H29: =H30+H32 -> -59030.1
F30: Պայմանագրային ծառայություների ձեռք բերում | G30: =G31 -> -50000 | H30: =H31 -> -50000
F31: -Ընդհանուր բնույթի այլ ծառայություններ | G31: =H31 -> -50000 | H31: -50000
F32: Նյութեր (ապրանքներ) | G32: =+G33 -> -9030.1 | H32: =+H33 -> -9030.1
F33: -Կենցաղային և հանրային սննդի նյութեր | G33: =H33 -> -9030.1 | H33: =-9030.1 -> -9030.1
F34: ՍՈՑԻԱԼԱԿԱՆ ՆՊԱՍՏՆԵՐ ԵՎ ԿԵՆՍԱԹՈՇԱԿՆԵՐ | G34: =G35 -> -40000 | H34: =H35 -> -40000
F35: Սոցիալական օգնության դրամական արտահայտությամբ նպաստներ (բյուջեից) | G35: =G36 -> -40000 | H35: =H36 -> -40000
F36: -Այլ նպաստներ բյուջեից | G36: =H36 -> -40000 | H36: =-40000 -> -40000
F37: ՀՀ Լոռու մարզպետի աշխատակազմ | G37: =+G39 -> -80030.8 | H37: =+H39 -> -80030.8
F38: այդ թվում` բյուջետային ծախսերի տնտեսագիտական դասակարգման հոդվածներ
F39: ԸՆԴԱՄԵՆԸ ԾԱԽՍԵՐ | G39: =+G40 -> -80030.8 | H39: =+H40 -> -80030.8
F40: ԸՆԹԱՑԻԿ ԾԱԽՍԵՐ | G40: =G41+G47 -> -80030.8 | H40: =H41+H47 -> -80030.8
F41: ԾԱՌԱՅՈՒԹՅՈՒՆՆԵՐԻ ԵՎ ԱՊՐԱՆՔՆԵՐԻ ՁԵՌՔԲԵՐՈՒՄ | G41: =+G42+G44 -> -95470 | H41: =+H42+H44 -> -95470
F42: Նյութեր (ապրանքներ) | G42: =+G43 -> -51000 | H42: =+H43 -> -51000
F43: -Կենցաղային և հանրային սննդի նյութեր | G43: =H43 -> -51000 | H43: =-51000 -> -51000
F44: ՍՈՑԻԱԼԱԿԱՆ ՆՊԱՍՏՆԵՐ ԵՎ ԿԵՆՍԱԹՈՇԱԿՆԵՐ | G44: =G45 -> -44470 | H44: =H45 -> -44470
F45: Սոցիալական օգնության դրամական արտահայտությամբ նպաստներ (բյուջեից) | G45: =G46 -> -44470 | H45: =H46 -> -44470
F46: -Այլ նպաստներ բյուջեից | G46: -44470 | H46: =G46 -> -44470
F47: ԴՐԱՄԱՇՆՈՐՀՆԵՐ | G47: =G48 -> 15439.2 | H47: =H48 -> 15439.2
F48: Կապիտալ դրամաշնորհներ պետական հատվածի այլ մակարդակներին | G48: =+G49 -> 15439.2 | H48: =+H49 -> 15439.2
F49: - Կապիտալ սուբվենցիաներ համայնքներին | G49: ='6.'!E17 -> 15439.2 | H49: ='6.'!F17 -> 15439.2
F50: ՀՀ Գեղարքունիքի մարզպետի աշխատակազմ | G50: =G52 -> 63622 | H50: =H52 -> 63622
F51: այդ թվում` բյուջետային ծախսերի տնտեսագիտական դասակարգման հոդվածներ
F52: ԸՆԴԱՄԵՆԸ ԾԱԽՍԵՐ | G52: =G53 -> 63622 | H52: =H53 -> 63622
F53: ԸՆԹԱՑԻԿ ԾԱԽՍԵՐ | G53: =G54 -> 63622 | H53: =H54 -> 63622
F54: ԴՐԱՄԱՇՆՈՐՀՆԵՐ | G54: =G55 -> 63622 | H54: =H55 -> 63622
F55: Կապիտալ դրամաշնորհներ պետական հատվածի այլ մակարդակներին | G55: =G56 -> 63622 | H55: =H56 -> 63622
F56: - Կապիտալ սուբվենցիաներ համայնքներին | G56: 63622 | H56: =G56 -> 63622
E57: 32001 | F57: ՀՀ մարզերում առաջնահերթ լուծում պահանջող անհետաձգելի ծրագրերի իրականացում | G57: =G59+G69+G78 -> 217093.7 | H57: =H59+H69+H78 -> 217093.7
F58: այդ թվում` ըստ կատարողների
F59: ՀՀ Տավուշի մարզպետի աշխատակազմ | G59: =G61 -> 109781.3 | H59: =H61 -> 109781.3
F60: այդ թվում` բյուջետային ծախսերի տնտեսագիտական դասակարգման հոդվածներ
F61: ԸՆԴԱՄԵՆԸ ԾԱԽՍԵՐ | G61: =G62 -> 109781.3 | H61: =H62 -> 109781.3
F62: ՈՉ ՖԻՆԱՆՍԱԿԱՆ ԱԿՏԻՎՆԵՐԻ ԳԾՈՎ ԾԱԽՍԵՐ | G62: =G63 -> 109781.3 | H62: =H63 -> 109781.3
F63: ՀԻՄՆԱԿԱՆ ՄԻՋՈՑՆԵՐ | G63: =G65+G66+G67 -> 109781.3 | H63: =H65+H66+H67 -> 109781.3
F64: ՇԵՆՔԵՐ ԵՎ ՇԻՆՈՒԹՅՈՒՆՆԵՐ | G64: =G65+G66 -> 75381.3 | H64: =H65+H66 -> 75381.3
F65: - Շենքերի և շինությունների շինարարություն | G65: ='3'!F24 -> 41423.7 | H65: 41423.7
F66: -Շենքերի և շինությունների կապիտալ վերանորոգում | G66: 33957.6 | H66: 33957.6
F67: ԱՅԼ ՀԻՄՆԱԿԱՆ ՄԻՋՈՑՆԵՐ | G67: =G68 -> 34400 | H67: =H68 -> 34400
F68: - Նախագծահետազոտական ծախսեր | G68: =H68 -> 34400 | H68: 34400
F69: ՀՀ Լոռու մարզպետի աշխատակազմ | G69: =G71 -> 102253.7 | H69: =H71 -> 102253.7
F70: այդ թվում` բյուջետային ծախսերի տնտեսագիտական դասակարգման հոդվածներ
F71: ԸՆԴԱՄԵՆԸ ԾԱԽՍԵՐ | G71: =G72 -> 102253.7 | H71: =H72 -> 102253.7
F72: ՈՉ ՖԻՆԱՆՍԱԿԱՆ ԱԿՏԻՎՆԵՐԻ ԳԾՈՎ ԾԱԽՍԵՐ | G72: =G73 -> 102253.7 | H72: =H73 -> 102253.7
F73: ՀԻՄՆԱԿԱՆ ՄԻՋՈՑՆԵՐ | G73: =G75++G76 -> 102253.7 | H73: =H75++H76 -> 102253.7
F74: ՇԵՆՔԵՐ ԵՎ ՇԻՆՈՒԹՅՈՒՆՆԵՐ | G74: =G75 -> 97083.7 | H74: =H75 -> 97083.7
F75: - Շենքերի և շինությունների շինարարություն | G75: ='3'!E31 -> 97083.7 | H75: ='3'!F31 -> 97083.7
F76: ԱՅԼ ՀԻՄՆԱԿԱՆ ՄԻՋՈՑՆԵՐ | G76: =G77 -> 5170 | H76: =H77 -> 5170
F77: - Նախագծահետազոտական ծախսեր | G77: ='3'!H32 -> 5170 | H77: =G77 -> 5170
F78: ՀՀ Սյունիքի մարզպետի աշխատակազմ | G78: =G80 -> 5058.7 | H78: =H80 -> 5058.7
F79: այդ թվում` բյուջետային ծախսերի տնտեսագիտական դասակարգման հոդվածներ
F80: ԸՆԴԱՄԵՆԸ ԾԱԽՍԵՐ | G80: =G81 -> 5058.7 | H80: =H81 -> 5058.7
F81: ՈՉ ՖԻՆԱՆՍԱԿԱՆ ԱԿՏԻՎՆԵՐԻ ԳԾՈՎ ԾԱԽՍԵՐ | G81: =G82 -> 5058.7 | H81: =H82 -> 5058.7
F82: ՀԻՄՆԱԿԱՆ ՄԻՋՈՑՆԵՐ | G82: =G83 -> 5058.7 | H82: =H83 -> 5058.7
F83: ՇԵՆՔԵՐ ԵՎ ՇԻՆՈՒԹՅՈՒՆՆԵՐ | G83: =G84 -> 5058.7 | H83: =H84 -> 5058.7
F84: - Շենքերի և շինությունների շինարարություն | G84: 5058.7 | H84: 5058.7
A85: 04 | F85: ՏՆՏԵՍԱԿԱՆ ՀԱՐԱԲԵՐՈՒԹՅՈՒՆՆԵՐ | G85: =G87+G120 -> -101654.8 | H85: =H87+H120 -> -101654.8
F86: այդ թվում`
B87: 05 | F87: Տրանսպորտ | G87: =G89 -> -10751.2 | H87: =H89 -> -10751.2
F88: այդ թվում`
C89: 01 | F89: Ճանապարհային տրանսպորտ | G89: =G91 -> -10751.2 | H89: =H91 -> -10751.2
F90: այդ թվում`
F91: ՀՀ տարածքային կառավարման և ենթակառուցվածքների նախարարություն | G91: =G93 -> -10751.2 | H91: =H93 -> -10751.2
F92: այդ թվում`
D93: 1049 | F93: Ճանապարհային ցանցի բարելավում | G93: =G95+G111 -> -10751.2 | H93: =H95+H111 -> -10751.2
F94: այդ թվում`
E95: 11002 | F95: Մարզային նշանակության ավտոճանապարհների պահպանման և անվտանգ երթևեկության ծառայություններ | G95: =G97+G104 -> -33427.7 | H95: =H97+H104 -> -33427.7
F96: այդ թվում` ըստ կատարողների
F97: ՀՀ Տավուշի մարզպետի աշխատակազմ | G97: =G99 -> -10751.2 | H97: =H99 -> -10751.2
F98: այդ թվում` բյուջետային ծախսերի տնտեսագիտական դասակարգման հոդվածներ
F99: ԸՆԴԱՄԵՆԸ ԾԱԽՍԵՐ | G99: =G100 -> -10751.2 | H99: =H101 -> -10751.2
F100: ԸՆԹԱՑԻԿ ԾԱԽՍԵՐ | G100: =G101 -> -10751.2 | H100: =H101 -> -10751.2
F101: ԾԱՌԱՅՈՒԹՅՈՒՆՆԵՐԻ ԵՎ ԱՊՐԱՆՔՆԵՐԻ ՁԵՌՔԲԵՐՈՒՄ | G101: =G102 -> -10751.2 | H101: =H102 -> -10751.2
...

Sheet 3
I1: Հավելված N 3
I2: ՀՀ կառավարության 2024 թվականի
I3: N ------------ -Ն որոշման
B5: «ՀԱՅԱՍՏԱՆԻ ՀԱՆՐԱՊԵՏՈՒԹՅԱՆ 2024 ԹՎԱԿԱՆԻ ՊԵՏԱԿԱՆ ԲՅՈՒՋԵԻ ՄԱՍԻՆ» ՕՐԵՆՔԻ N 1 ՀԱՎԵԼՎԱԾԻ N 3 ԱՂՅՈՒՍԱԿՈՒՄ ԿԱՏԱՐՎՈՂ ԼՐԱՑՈՒՄՆԵՐԸ
H6: հազար դրամ
B7: Ծրագրային դասիչ | D7: Բյուջետային գլխավոր կարգադրիչների ծրագրերի միջոցառումների և ուղղությունների անվանումները | E7: Ընդամենը հազ. դրամ | F7: Ցուցանիշների փոփոխությունը (ավելացումները նշված են դրական նշանով)
F8: այդ թվում
B9: Ծրագիր | C9: Միջոցառում | F9: Կառուցման աշխատանքներ | G9: Վերակառուցման, վերանորոգման և վերականգնման աշխատանքներ | H9: Նախագծահե- տազոտական, գեոդեզիա- քարտեզագրա- կան աշխա- տանքներ | I9: Ոչ ֆինանսական այլ ակտիվների ձեռքբերում
D10: ԸՆԴԱՄԵՆԸ | E10: =F10+G10+H10+I10 -> 239770.2 | F10: =F12 -> 138507.4 | G10: =G12 -> 61692.8 | H10: =H12 -> 39570 | I10: =I12 -> 0
D11: այդ թվում՝
D12: ՀՀ տարածքային կառավարման և ենթակառուցվածքների նախարարություն | E12: =F12+G12+H12+I12 -> 239770.2 | F12: =+F21+F18 -> 138507.4 | G12: =+G21+G18 -> 61692.8 | H12: =+H21+H18 -> 39570 | I12: =+I21+I18 -> 0
D13: այդ թվում`
B14: 1049 | C14: 21001 | D14: Պետական նշանակության ավտոճանապարհների հիմնանորոգում | E14: =E18 -> 22676.5 | F14: =F18 -> 0 | G14: =G18 -> 22676.5 | H14: =H18 -> 0 | I14: =I18 -> 0
D15: այդ թվում`
D16: Մարզային նշանակության ավտոճանապարհներ | E16: =E18 -> 22676.5 | F16: =F18 -> 0 | G16: =G18 -> 22676.5 | H16: =H18 -> 0 | I16: =I18 -> 0
D17: այդ թվում
D18: ՀՀ Գեղարքունիքի մարզ | E18: =E20 -> 22676.5 | F18: =F20 -> 0 | G18: =G20 -> 22676.5 | H18: =H20 -> 0 | I18: =I20 -> 0
D19: այդ թվում`
D20: Մարտունի համայնքի Աստղաձոր և Զոլաքար բնակավայրերի ճանապարհի հենապատերի վերականգնման աշխատանքների ձեռքբերում | E20: =F20+G20+H20+I20 -> 22676.5 | F20: 0 | G20: ='9.'!G50 -> 22676.5 | H20: 0 | I20: 0
B21: 1212 | C21: =+'4'!C18 -> 32001 | D21: =+'4'!D18 -> ՀՀ մարզերում առաջնահերթ լուծում պահանջող անհետաձգելի ծրագրերի իրականացում | E21: =F21+G21+H21+I21 -> 217093.7 | F21: =+F23+F30 -> 138507.4 | G21: =+G23+G30+G33 -> 39016.3 | H21: =+H23+H30 -> 39570 | I21: =+I23+I30 -> 0
D22: այդ թվում`
D23: ՀՀ Տավուշի մարզ | E23: =SUM(F23:I23) -> 109781.3 | F23: =F24 -> 41423.7 | G23: =G24+G25 -> 33957.6 | H23: =SUM(H24:H29) -> 34400 | I23: =SUM(I24:I29) -> 0
D24: =+'4'!D22 -> Իջևան համայնքի Խաշթառակ բնակավայրի ժամանակավոր կամրջի կառուցում | E24: =SUM(F24:I24) -> 41423.7 | F24: 41423.7 | G24: 0 | H24: 0 | I24: 0
D25: =+'4'!D23 -> Դիլիջան համայնքի Դիլիջան քաղաքի Էմմա Ծատուրյան փողոցի սկզբնամասում հեղեղված հենապատի վերականգնում | E25: =SUM(F25:I25) -> 33957.6 | F25: 0 | G25: ='2.'!G66 -> 33957.6 | H25: 0 | I25: 0
D26: =+'4'!D24 -> Իջևան համայնքի Սարիգյուղ բնակավայրի խմելու ջրի համակարգի կառուցման համար նախագծա-նախահաշվային փաստաթղթերի ձեռքբերում | E26: =SUM(F26:I26) -> 8700 | F26: 0 | G26: 0 | H26: 8700 | I26: 0
D27: =+'4'!D25 -> Իջևան համայնքի Կիրանց բնակավայրի խմելու ջրի համակարգի կառուցման համար նախագծա-նախահաշվային փաստաթղթերի ձեռքբերում | E27: =SUM(F27:I27) -> 10500 | F27: 0 | G27: 0 | H27: 10500 | I27: 0
D28: =+'4'!D26 -> Իջևան համայնքի Կիրանց բնակավայրի ոռոգման համակարգի կառուցման համար նախագծա-նախահաշվային փաստաթղթերի ձեռքբերում | E28: =SUM(F28:I28) -> 14700 | H28: 14700
D29: =+'4'!D27 -> Իջևան համայնքի Աճարկուտ բնակավայրի գյուղամիջյան կամրջի հենապատի կառուցման համար նախագծա-նախահաշվային փաստաթղթերի ձեռքբերում | E29: =SUM(F29:I29) -> 500 | H29: 500
D30: ՀՀ Լոռու մարզ | E30: =SUM(F30:I30) -> 102253.7 | F30: =SUM(F31:F32) -> 97083.7 | G30: =SUM(G32:G32) -> 0 | H30: =SUM(H32:H32) -> 5170 | I30: =SUM(I31:I32) -> 0
D31: Ալավերդի համայնքի Սանահին կայարան թաղամասի, Թումանյան փողոցի բազմաբնակարանային շենքերի և Քարկոփ բնակավայրի կոյուղու ցանցի կառուցման աշխատանքներ | E31: =SUM(F31:I31) -> 97083.7 | F31: ='9.'!G44+'9.'!G42+'9.'!G41 -> 97083.7 | G31: 0 | H31: 0 | I31: =SUM(I32:I33) -> 0
D32: Ալավերդի համայնքի Սանահին կայարան թաղամասի, Թումանյան փողոցի բազմաբնակարանային շենքերի և Քարկոփ բնակավայրի կոյուղու ցանցի կառուցման նախագծանախահաշվային փաստաթղթերի ձեռքբերում | E32: =SUM(F32:I32) -> 5170 | F32: 0 | G32: 0 | H32: 5170 | I32: =SUM(I33:I34) -> 0
D33: ՀՀ Սյունիքի մարզ | E33: =E34 -> 5058.7 | F33: =F34 -> 0 | G33: =G34 -> 5058.7 | H33: =H34 -> 0 | I33: =I34 -> 0
D34: «Սիսիանի մանկապատանեկան մարզադպրոց» ՊՈԱԿ-ի գազամատակարարման համակարգերի շինհավաքակցման աշխատանքների ձեռքբերում | E34: =F34+G34+H34+I34 -> 5058.7 | F34: 0 | G34: ='2.'!H84 -> 5058.7 | H34: 0 | I34: 0
D46: ՀԱՅԱՍՏԱՆԻ ՀԱՆՐԱՊԵՏՈՒԹՅԱՆ
D47: ՎԱՐՉԱՊԵՏԻ ԱՇԽԱՏԱԿԱԶՄԻ
D48: ՂԵԿԱՎԱՐ ՝ Ա. ՀԱՐՈՒԹՅՈՒՆՅԱՆ

Sheet 4
F1: Հավելված N 4
F2: ՀՀ կառավարության 2024 թվականի
F3: № ------------ -Ն որոշման
B5: ՀԱՅԱՍՏԱՆԻ ՀԱՆՐԱՊԵՏՈՒԹՅԱՆ ԿԱՌԱՎԱՐՈՒԹՅԱՆ 2023 ԹՎԱԿԱՆԻ ԴԵԿՏԵՄԲԵՐԻ 28-Ի N 2323-Ն ՈՐՈՇՄԱՆ N 5 ՀԱՎԵԼՎԱԾԻ N 2 ԱՂՅՈՒՍԱԿՈՒՄ ԿԱՏԱՐՎՈՂ ԼՐԱՑՈՒՄՆԵՐԸ
F6: հազար դրամ
B7: Ծրագրային դասիչը | D7: Բյուջետային հատկացումների գլխավոր կարգադրիչների, ծրագրերի, միջոցառումների և միջոցառումները կատարող պետական մարմինների անվանումները | E7: Ցուցանիշների փոփոխությունը (ավելացումները նշված են դրական նշանով)
B8: Ծրագիր | C8: Միջոցառում | E8: Ինն ամիս | F8: Տարի
D9: ԸՆԴԱՄԵՆԸ | E9: =E10 -> 239770.2 | F9: =F10 -> 239770.2
D10: ՀՀ տարածքային կառավարման և ենթակառուցվածքների նախարարություն | E10: =E18+E12 -> 239770.2 | F10: =F18+F12 -> 239770.2
D11: այդ թվում`
B12: 1049 | C12: 21001 | D12: Պետական նշանակության ավտոճանապարհների հիմնանորոգում | E12: =E16 -> 22676.5 | F12: =F16 -> 22676.5
D13: այդ թվում` ըստ կատարողների
D14: ՀՀ Գեղարքունիքի մարզպետի աշխատակազմ | E14: =E16 -> 22676.5 | F14: =F16 -> 22676.5
D15: այդ թվում` ըստ ուղղությունների
D16: Մարզային նշանակության ավտոճանապարհներ,այդ թվում` | E16: =E17 -> 22676.5 | F16: =F17 -> 22676.5
D17: Մարտունի համայնքի Աստղաձոր և Զոլաքար բնակավայրերի ճանապարհի հենապատերի վերականգնման աշխատանքների ձեռքբերում | E17: ='3'!E20 -> 22676.5 | F17: =E17 -> 22676.5
B18: 1212 | C18: 32001 | D18: ՀՀ մարզերում առաջնահերթ լուծում պահանջող անհետաձգելի ծրագրերի իրականացում | E18: =E20+E28+E32 -> 217093.7 | F18: =F20+F28+F32 -> 217093.7
D19: այդ թվում` ըստ կատարողների
D20: ՀՀ Տավուշի մարզպետի աշխատակազմ | E20: =E22+E23+E24+E25+E26+E27 -> 109781.3 | F20: =F22+F23+F24+F25+F26+F27 -> 109781.3
D21: այդ թվում` ըստ ուղղությունների
D22: Իջևան համայնքի Խաշթառակ բնակավայրի ժամանակավոր կամրջի կառուցում | E22: 41423.7 | F22: 41423.7
D23: Դիլիջան համայնքի Դիլիջան քաղաքի Էմմա Ծատուրյան փողոցի սկզբնամասում հեղեղված հենապատի վերականգնում | E23: 33957.6 | F23: 33957.6
D24: Իջևան համայնքի Սարիգյուղ բնակավայրի խմելու ջրի համակարգի կառուցման համար նախագծա-նախահաշվային փաստաթղթերի ձեռքբերում | E24: 8700 | F24: 8700
D25: Իջևան համայնքի Կիրանց բնակավայրի խմելու ջրի համակարգի կառուցման համար նախագծա-նախահաշվային փաստաթղթերի ձեռքբերում | E25: 10500 | F25: 10500
D26: Իջևան համայնքի Կիրանց բնակավայրի ոռոգման համակարգի կառուցման համար նախագծա-նախահաշվային փաստաթղթերի ձեռքբերում | E26: 14700 | F26: 14700
D27: Իջևան համայնքի Աճարկուտ բնակավայրի գյուղամիջյան կամրջի հենապատի կառուցման համար նախագծա-նախահաշվային փաստաթղթերի ձեռքբերում | E27: 500 | F27: 500
D28: ՀՀ Լոռու մարզպետի աշխատակազմ | E28: =E30+E31 -> 102253.7 | F28: =F30+F31 -> 102253.7
D29: այդ թվում` ըստ ուղղությունների
D30: ='3'!D31 -> Ալավերդի համայնքի Սանահին կայարան թաղամասի, Թումանյան փողոցի բազմաբնակարանային շենքերի և Քարկոփ բնակավայրի կոյուղու ցանցի կառուցման աշխատանքներ | E30: ='3'!F31 -> 97083.7 | F30: =E30 -> 97083.7
D31: ='3'!D32 -> Ալավերդի համայնքի Սանահին կայարան թաղամասի, Թումանյան փողոցի բազմաբնակարանային շենքերի և Քարկոփ բնակավայրի կոյուղու ցանցի կառուցման նախագծանախահաշվային փաստաթղթերի ձեռքբերում | E31: ='2.'!G77 -> 5170 | F31: ='2.'!H77 -> 5170
D32: ՀՀ Սյունիքի մարզպետի աշխատակազմ | E32: =E34 -> 5058.7 | F32: =F34 -> 5058.7
D33: այդ թվում` ըստ ուղղությունների
D34: «Սիսիանի մանկապատանեկան մարզադպրոց» ՊՈԱԿ-ի գազամատակարարման համակարգերի շինհավաքակցման աշխատանքների ձեռքբերում | E34: ='3'!G34 -> 5058.7 | F34: =E34 -> 5058.7
C45: ՀԱՅԱՍՏԱՆԻ ՀԱՆՐԱՊԵՏՈՒԹՅԱՆ
C46: ՎԱՐՉԱՊԵՏԻ ԱՇԽԱՏԱԿԱԶՄԻ
C47: ՂԵԿԱՎԱՐ ՝ Ա. ՀԱՐՈՒԹՅՈՒՆՅԱՆ

Sheet 5․
J1: Հավելված N5
J2: ՀՀ կառավարության 2023 թվականի
J3: ______________ ի ___Ն որոշման
B5: «ՀԱՅԱUՏԱՆԻ ՀԱՆՐԱՊԵՏՈՒԹՅԱՆ 2023 ԹՎԱԿԱՆԻ ՊԵՏԱԿԱՆ ԲՅՈՒՋԵԻ ՄԱUԻՆ» OՐԵՆՔԻ N 1 ՀԱՎԵԼՎԱԾԻ N 4 ԱՂՅՈՒՍԱԿՈՒՄ ԵՎ ՀԱՅԱՍՏԱՆԻ ՀԱՆՐԱՊԵՏՈՒԹՅԱՆ ԿԱՌԱՎԱՐՈՒԹՅԱՆ 2023 ԹՎԱԿԱՆԻ ԴԵԿՏԵՄԲԵՐԻ 28-Ի N 2111-Ն ՈՐՈՇՄԱՆ N 5 ՀԱՎԵԼՎԱԾԻ N 3 ԱՂՅՈՒՍԱԿՈՒՄ ԿԱՏԱՐՎՈՂ ՓՈՓՈԽՈՒԹՅՈՒՆԸ
J6: հազ. դրամ
B7: Ծրագրային դասիչը | D7: Բյուջետային գլխավոր կարգադրիչների, ծրագրերի և միջոցառումների անվանումները | E7: Ցուցանիշների փոփոխությունը (նվազեցումները նշված են փակագծերում)
E8: Ինն ամիս | H8: Տարի
E9: Ընդամենը | F9: այդ թվում` | H9: Ընդամենը | I9: այդ թվում`
B10: Ծրագիր | C10: Միջոցառում | F10: Վարկային միջոցներ | G10: Համաֆինան սավորում | I10: Վարկային միջոցներ | J10: Համաֆինան սավորում
D11: ԸՆԴԱՄԵՆԸ_x000D_ | E11: =E13 -> -90903.6 | F11: =F13 -> 0 | G11: =G13 -> -90903.6 | H11: =H13 -> -90903.6 | I11: =I13 -> 0 | J11: =J13 -> -90903.6
D12: այդ թվում`
D13: - ՈՉ ՖԻՆԱՆՍԱԿԱՆ ԱԿՏԻՎՆԵՐԻ ԳԾՈՎ ԾԱԽՍԵՐ | E13: =E14 -> -90903.6 | F13: =F14 -> 0 | G13: =G14 -> -90903.6 | H13: =H14 -> -90903.6 | I13: =I14 -> 0 | J13: =J14 -> -90903.6
D14: ՀՀ ՏԱՐԱԾՔԱՅԻՆ ԿԱՌԱՎԱՐՄԱՆ ԵՎ ԵՆԹԱԿԱՌՈՒՑՎԱԾՔՆԵՐԻ ՆԱԽԱՐԱՐՈՒԹՅՈՒՆ_x000D_ | E14: =E16 -> -90903.6 | F14: =F16 -> 0 | G14: =G16 -> -90903.6 | H14: =H16 -> -90903.6 | I14: =I16 -> 0 | J14: =J16 -> -90903.6
D15: այդ թվում`
B16: 1004 | D16: Ոռոգման համակարգի առողջացում | E16: =E18 -> -90903.6 | G16: =G18 -> -90903.6 | H16: =H18 -> -90903.6 | I16: =I18 -> 0 | J16: =J18 -> -90903.6
D17: այդ թվում`
C18: 12002 | D18: Գերմանիայի զարգացման բանկի աջակցությամբ իրականացվող Ախուրյան գետի ջրային ռեսուրսների ինտեգրված կառավարման փուլ 1 ծրագրով Ջրաձոր գյուղի վերաբնակեցման համար ենթակառուցվածքների և բնակելի տների կառուցում | E18: =E20 -> -90903.6 | G18: =G20 -> -90903.6 | H18: =+I18+J18 -> -90903.6 | I18: =+I20 -> 0 | J18: =+J20 -> -90903.6
D19: այդ թվում` ըստ կատարողների
D20: ՀՀ տարածքային կառավարման և ենթակառուցվածքների նախարարության ջրային կոմիտե | E20: =E22 -> -90903.6 | G20: =G22 -> -90903.6 | H20: =I20+J20 -> -90903.6 | I20: =+I22 -> 0 | J20: =+J22 -> -90903.6
D21: այդ թվում` բյուջետային ծախսերի տնտեսագիտական դասակարգման հոդվածներ
D22: ԸՆԴԱՄԵՆԸ ԾԱԽՍԵՐ | E22: =E23 -> -90903.6 | G22: =G23 -> -90903.6 | H22: =+H23 -> -90903.6 | I22: =+I23 -> 0 | J22: =+J23 -> -90903.6
D23: ՈՉ ՖԻՆԱՆՍԱԿԱՆ ԱԿՏԻՎՆԵՐԻ ԳԾՈՎ ԾԱԽՍԵՐ | E23: =E24 -> -90903.6 | G23: =G24 -> -90903.6 | H23: =I23+J23 -> -90903.6 | I23: =+I24 -> 0 | J23: =+J24 -> -90903.6
D24: ՀԻՄՆԱԿԱՆ ՄԻՋՈՑՆԵՐ | E24: =E25 -> -90903.6 | G24: =G25 -> -90903.6 | H24: =+I24+J24 -> -90903.6 | I24: =+I25 -> 0 | J24: =+J25 -> -90903.6
D25: ՇԵՆՔԵՐ ԵՎ ՇԻՆՈՒԹՅՈՒՆՆԵՐ | E25: =E26 -> -90903.6 | G25: =G26 -> -90903.6 | H25: =+I25+J25 -> -90903.6 | I25: =+I26 -> 0 | J25: =+J26 -> -90903.6
D26: - Շենքերի և շինությունների շինարարություն | E26: =G26 -> -90903.6 | G26: =H26 -> -90903.6 | H26: =+I26+J26 -> -90903.6 | I26: 0 | J26: ='2.'!H136 -> -90903.6

Sheet 6.
F1: Հավելված № 6
F2: ՀՀ կառավարության 2023 թվականի
F3: -------------- ի № ---- -Ն որոշման
B5: «ՀԱՅԱՍՏԱՆԻ ՀԱՆՐԱՊԵՏՈՒԹՅԱՆ 2023 ԹՎԱԿԱՆԻ ՊԵՏԱԿԱՆ ԲՅՈՒՋԵԻ ՄԱՍԻՆ» ՕՐԵՆՔԻ N 1 ՀԱՎԵԼՎԱԾԻ N 7 ԱՂՅՈՒՍԱԿՈՒՄ ԵՎ ՀԱՅԱՍՏԱՆԻ ՀԱՆՐԱՊԵՏՈՒԹՅԱՆ ԿԱՌԱՎԱՐՈՒԹՅԱՆ 2023 ԹՎԱԿԱՆԻ ԴԵԿՏԵՄԲԵՐԻ 28-Ի N 2323-Ն ՈՐՈՇՄԱՆ N 5 ՀԱՎԵԼՎԱԾԻ N 6 ԱՂՅՈՒՍԱԿՈՒՄ ԿԱՏԱՐՎՈՂ ԼՐԱՑՈՒՄՆԵՐԸ
F6: հազար դրամ
B7: Ծրագրային դասիչը | D7: Բյուջետային հատկացումների գլխավոր կարգադրիչների, ծրագրերի, միջոցառումների և միջոցառումները կատարող պետական մարմինների անվանումները | E7: Ցուցանիշների փոփոխությունը (ավելացումները նշված են դրական նշանով)
B8: Ծրագիր | C8: Միջոցառում | E8: Ինն ամիս | F8: Տարի
D9: ԸՆԴԱՄԵՆԸ | E9: =E11 -> 79061.2 | F9: =F11 -> 79061.2
D10: այդ թվում
D11: ՀՀ տարածքային կառավարման և ենթակառուցվածքների նախարարություն | E11: =E13 -> 79061.2 | F11: =+F13 -> 79061.2
D12: այդ թվում`
B13: 1212 | D13: Տարածքային զարգացում | E13: =E15 -> 79061.2 | F13: =+F15 -> 79061.2
D14: այդ թվում`
C15: 12025 | D15: =[1]h1!D154 -> Մարզերում առաջնահերթ լուծում պահանջող հիմնախնդիրների լուծում | E15: =E17+E23 -> 79061.2 | F15: =F17+F23 -> 79061.2
D16: այդ թվում` ըստ կատարողների
D17: ՀՀ Լոռու մարզպետի աշխատակազմ | E17: =E19+E20+E21+E22 -> 15439.2 | F17: =F19+F20+F21+F22 -> 15439.2
D18: այդ թվում` ըստ ուղղությունների
D19: Ալավերդի համայնքի Թումանյան փողոցի հենապատերի, մայթերի և երթևեկելի մասի կառուցման նախագծանախահաշվային փաստաթղթերի կազմման աշխատանքներ | E19: 6499.2 | F19: 6499.2
D20: Ալավերդի համայնքի Սանահին կայարան թաղամասի բակերի, Թումանյան փողոցի 5-րդ և 6-րդ շենքերի բակերի, Քարկոփ բնակավայրի 630 մ. երկարությամբ փողոցի և բակային տարածքների բարեկարգման և ասֆալտապատման նախագծանախահաշվային փաստաթղթերի կազմման աշխատանքներ | E20: 3880 | F20: 3880
D21: Ալավերդի համայնքի Սանահին կայարան թաղամասի խմելու ջրի ջրագծերի կառուցման նախագծանախահաշվային փաստաթղթերի կազմման աշխատանքներ | E21: 2560 | F21: 2560
D22: Ալավերդի համայնքի Սանահին կայարան թաղամասի երկու բազմաբնակարան շենքերի տանիքների և ինը շքամուտքերի, Թումանյան փողոցի երկու բազմաբնակարան շենքերի հինգ շքամուտքերի առաջին հարկերի, Քարկոփ բնակավայրի երկու բազմաբնակարան շենքերի տանիքների, ինը շքամուտքերի վերանորոգման և մեկ բազմաբնակարան շենքերի հիմքերի ուժեղացման նախագծանախահաշվային փաստաթղթերի կազմման աշխատանքներ | E22: 2500 | F22: 2500
D23: ՀՀ Գեղարքունիքի մարզպետի աշխատակազմ | E23: =E25 -> 63622 | F23: =F25 -> 63622
D24: այդ թվում` ըստ ուղղությունների
D25: Ճամբարակ քաղաքի Գարեգին Նժդեհ փողոցի սկզբնամասում գտնվող հենապատի և փլված կամուրջի վերանորոգման աշխատանքներ | E25: ='2.'!G56 -> 63622 | F25: =E25 -> 63622
B28: ՀԱՅԱՍՏԱՆԻ ՀԱՆՐԱՊԵՏՈՒԹՅԱՆ ՎԱՐՉԱՊԵՏԻ ԱՇԽԱՏԱԿԱԶՄԻ
D29: ՂԵԿԱՎԱՐ՝ | F29: Ա.ՀԱՐՈՒԹՅՈՒՆՅԱՆ

Sheet 7.
D1: Հավելված N 7
D2: ՀՀ կառավարության 2024 թվականի
D3: N ------------ -Ն որոշման
A5: ՀԱՅԱՍՏԱՆԻ ՀԱՆՐԱՊԵՏՈՒԹՅԱՆ ԿԱՌԱՎԱՐՈՒԹՅԱՆ 2023 ԹՎԱԿԱՆԻ ԴԵԿՏԵՄԲԵՐԻ 28-Ի N 2323-Ն ՈՐՈՇՄԱՆ N 9 ՀԱՎԵԼՎԱԾԻ N 9.7 ԱՂՅՈՒՍԱԿՈՒՄ ԿԱՏԱՐՎՈՂ ՓՈՓՈԽՈՒԹՅՈՒՆՆԵՐԸ ԵՎ ԼՐԱՑՈՒՄՆԵՐԸ
D6: Աղյուսակ 9.7
A8: ՀՀ ՏԱՐԱԾՔԱՅԻՆ ԿԱՌԱՎԱՐՄԱՆ ԵՎ ԵՆԹԱԿԱՌՈՒՑՎԱԾՔՆԵՐԻ ՆԱԽԱՐԱՐՈՒԹՅՈՒՆ
A9: ՄԱՍ 2. ՊԵՏԱԿԱՆ ՄԱՐՄՆԻ ԳԾՈՎ ԱՐԴՅՈՒՆՔԱՅԻՆ (ԿԱՏԱՐՈՂԱԿԱՆ) ՑՈՒՑԱՆԻՇՆԵՐԸ
A11: Ծրագրի դասիչը | B11: Ծրագրի անվանումը
A12: 1004 | B12: Ոռոգման համակարգի առողջացում
A14: Ծրագրի միջոցառումները
A15: Ծրագրի դասիչը` | B15: 1004 | C15: Ցուցանիշների փոփոխությունը ( նվազեցումները` նշված են փակագծերում)
A16: Միջոցառման դասիչը` | B16: 12002 | C16: Ինն ամիս | D16: Տարի
A17: Միջոցառման անվանումը` | B17: Գերմանիայի զարգացման բանկի աջակցությամբ իրականացվող Ախուրյան գետի ջրային ռեսուրսների ինտեգրված կառավարման փուլ 1 ծրագրով Ջրաձոր գյուղի վերաբնակեցման համար ենթակառուցվածքների և բնակելի տների կառուցում
A18: Նկարագրությունը` | B18: Գերմանիայի զարգացման բանկի աջակցությամբ իրականացվող Ախուրյան գետի ջրային ռեսուրսների ինտեգրված կառավարման փուլ 1 ծրագիր
A19: Միջոցառման տեսակը` | B19: Տրանսֆերտների տրամադրում
A20: Ծառայությունը մատուցող կազմակերպության անվանումը | B20: Մասնագիտացված միավոր
A21: Արդյունքի չափորոշիչներ
A22: Միջոցառման վրա կատարվող ծախսը (հազար դրամ) | C22: ='2.'!G136 -> -90903.6 | D22: ='2.'!H136 -> -90903.6
A24: Ծրագրի դասիչը | B24: Ծրագրի անվանումը
A25: 1049 | B25: Ճանապարհային ցանցի բարելավում
A27: Ծրագրի միջոցառումները
A28: Ծրագրի դասիչը` | B28: 1049 | C28: Ցուցանիշների փոփոխությունը ( նվազեցումները` նշված են փակագծերում)
A29: Միջոցառման դասիչը` | B29: 11002 | C29: Ինն ամիս | D29: Տարի
A30: Միջոցառման անվանումը` | B30: Մարզային նշանակության ավտոճանապարհների պահպանման և անվտանգ երթևեկության ծառայություններ
A31: Նկարագրությունը` | B31: Հողային պաստառի, երթևեկելի մասի, արհեստական կառույցների և կահավորման տարրերի նորմատիվ մակարդակում պահպանում և շահագործում
A32: Միջոցառման տեսակը` | B32: Ծառայությունների մատուցում
A33: Միջոցառումն իրականացնողի անվանումը | B33: Մարզպետարան, մրցութային կարգով ընտրված կազմակերպություններ
A34: Արդյունքի չափորոշիչներ
A35: Միջոցառման վրա կատարվող ծախսը (հազար դրամ) | C35: ='2.'!G95 -> -33427.7 | D35: ='2.'!H95 -> -33427.7
A37: Ծրագրի դասիչը` | B37: 1049 | C37: Ցուցանիշների փոփոխությունը (ավելացումները նշված են դրական նշանով)
A38: Միջոցառման դասիչը` | B38: 21001 | C38: Ինն ամիս | D38: Տարի
A39: Միջոցառման անվանումը` | B39: Պետական նշանակության ավտոճանապարհների հիմնանորոգում
A40: Նկարագրությունը` | B40: Միջպետական, հանրապետական և մարզային նշանակության ավտոճոնապարհների քայքայված ծածկի վերանորոգում, մաշված ծածկի փոխարինում
A41: Միջոցառման տեսակը` | B41: Հանրության կողմից անմիջականորեն օգտագործվող ակտիվների հետ կապված միջոցառումներ
A42: Միջոցառումն իրականացնողի անվանումը | B42: Մասնագիտացված միավոր
A43: Արդյունքի չափորոշիչներ
A44: Մարզային նշանակության ավտոճանապարհներ/գմ | D44: 9.6
A45: Միջոցառման վրա կատարվող ծախսը (հազար դրամ) | C45: ='1'!D25 -> 22676.5 | D45: ='1'!E25 -> 22676.5
A48: Ծրագրի դասիչը | B48: Ծրագրի անվանումը
A49: 1212 | B49: Տարածքային զարգացում
A51: Ծրագրի միջոցառումները
A52: Ծրագրի դասիչը` | B52: 1212 | C52: Ցուցանիշների փոփոխությունը (ավելացումները նշված են դրական նշանով, իսկ նվազեցումները` փակագծերում)
A53: Միջոցառման դասիչը` | B53: 12025 | C53: Ինն ամիս | D53: Տարի
A54: Միջոցառման անվանումը` | B54: Մարզերում առաջնահերթ լուծում պահանջող հիմնախնդիրների լուծում
A55: Նկարագրությունը` | B55: Մարզերում առաջնահերթ լուծում պահանջող ծրագրերի իրականացում, որի արդյունքում լուծում կտրվի բնակչության և համայնքների սոցիալական նշանակություն ունեցող հիմնախնդիրներին
A56: Միջոցառման տեսակը` | B56: Տրանսֆերտների տրամադրում
A57: Շահառուների ընտրության չափանիշները | B57: Համայնքներ
A58: Արդյունքի չափորոշիչներ
A59: Համայնքների թիվը/հատ | D59: ='8.'!D79+'8.'!D62 -> 2
A60: Միջոցառման վրա կատարվող ծախսը (հազար դրամ) | C60: ='2.'!G23 -> -115438.9 | D60: ='2.'!H23 -> -115438.9
A63: Ծրագրի դասիչը` | B63: 1212 | C63: Ցուցանիշների փոփոխությունը (ավելացումները նշված են դրական նշանով)
A64: Միջոցառման դասիչը` | B64: 32001 | C64: Ինն ամիս | D64: Տարի
A65: Միջոցառման անվանումը` | B65: ՀՀ մարզերում առաջնահերթ լուծում պահանջող անհետաձգելի ծրագրերի իրականացում
A66: Նկարագրությունը` | B66: ՀՀ մարզերում առաջնահերթ լուծում պահանջող ծրագրերի իրականացում, որի արդյունքում լուծում կտրվի մարզային ենթակայության կազմակերպությունների և համայնքային նշանակություն ունեցող հիմնախնդիրներին:
A67: Միջոցառման տեսակը` | B67: Այլ պետական կազմակերպությունների կողմից օգտագործվող ոչ ֆինանսական ակտիվների հետ գործառնություններ
A68: Շահառուների ընտրության չափանիշները | B68: Համայնքներ
A69: Արդյունքի չափորոշիչներ
A70: Համայնքների թիվը/հատ | D70: ='8.'!D131+'8.'!D90+'8.'!D149 -> 4
A71: Միջոցառման վրա կատարվող ծախսը (հազար դրամ) | C71: ='2.'!G57 -> 217093.7 | D71: ='2.'!H57 -> 217093.7
A75: ՀԱՅԱՍՏԱՆԻ ՀԱՆՐԱՊԵՏՈՒԹՅԱՆ
A76: ՎԱՐՉԱՊԵՏԻ ԱՇԽԱՏԱԿԱԶՄԻ
A77: ՂԵԿԱՎԱՐ ՝ Ա. ՀԱՐՈՒԹՅՈՒՆՅԱՆ

Sheet 8.
D1: Հավելված N 8
D2: ՀՀ կառավարության 2024 թվականի
D3: N ------------ -Ն որոշման
A5: ՀԱՅԱՍՏԱՆԻ ՀԱՆՐԱՊԵՏՈՒԹՅԱՆ ԿԱՌԱՎԱՐՈՒԹՅԱՆ 2023 ԹՎԱԿԱՆԻ ԴԵԿՏԵՄԲԵՐԻ 28-Ի N 2323-Ն ՈՐՈՇՄԱՆ N 9.1 ՀԱՎԵԼՎԱԾԻ NN 9.1.25, 9.1.51,9.1.52, 9.1.55 ԵՎ 9.1.57 ԱՂՅՈՒՍԱԿՆԵՐՈՒՄ ԿԱՏԱՐՎՈՂ ՓՈՓՈԽՈՒԹՅՈՒՆՆԵՐԸ ԵՎ ԼՐԱՑՈՒՄՆԵՐԸ
D7: Աղյուսակ 9.1.25
A8: ՀՀ տարածքային կառավարման և ենթակառուցվածքների նախարարության ջրային կոմիտե
A9: ՄԱՍ 1. ՊԵՏԱԿԱՆ ՄԱՐՄՆԻ ԳԾՈՎ ԱՐԴՅՈՒՆՔԱՅԻՆ (ԿԱՏԱՐՈՂԱԿԱՆ) ՑՈՒՑԱՆԻՇՆԵՐԸ
A11: Ծրագրի դասիչը | B11: Ծրագրի անվանումը
A12: 1004 | B12: Ոռոգման համակարգի առողջացում
A14: Ծրագրի միջոցառումները
A15: Ծրագրի դասիչը` | B15: 1004 | C15: Ցուցանիշների փոփոխությունը (նվազեցումները նշված են փակագծերում)
A16: Միջոցառման դասիչը` | B16: 12002 | C16: Ինն ամիս | D16: Տարի
A17: Միջոցառման անվանումը` | B17: Գերմանիայի զարգացման բանկի աջակցությամբ իրականացվող Ախուրյան գետի ջրային ռեսուրսների ինտեգրված կառավարման փուլ 1 ծրագրով Ջրաձոր գյուղի վերաբնակեցման համար ենթակառուցվածքների և բնակելի տների կառուցում
A18: Նկարագրությունը` | B18: Գերմանիայի զարգացման բանկի աջակցությամբ իրականացվող Ախուրյան գետի ջրային ռեսուրսների ինտեգրված կառավարման փուլ 1 ծրագիր
A19: Միջոցառման տեսակը` | B19: Տրանսֆերտների տրամադրում
A20: Ծառայությունը մատուցող կազմակերպության անվանումը | B20: Մասնագիտացված միավոր
A21: Արդյունքի չափորոշիչներ
A22: Միջոցառման վրա կատարվող ծախսը (հազար դրամ) | C22: ='2.'!G136 -> -90903.6 | D22: ='2.'!H136 -> -90903.6
D24: Աղյուսակ 9.1.51
A25: ՀՀ Գեղարքունիքի մարզպետի աշխատակազմ
A26: ՄԱՍ 1. ՊԵՏԱԿԱՆ ՄԱՐՄՆԻ ԳԾՈՎ ԱՐԴՅՈՒՆՔԱՅԻՆ (ԿԱՏԱՐՈՂԱԿԱՆ) ՑՈՒՑԱՆԻՇՆԵՐԸ
A28: Ծրագրի դասիչը | B28: Ծրագրի անվանումը
A29: 1049 | B29: Ճանապարհային ցանցի բարելավում
A31: Ծրագրի միջոցառումները
A32: Ծրագրի դասիչը` | B32: 1049 | C32: Ցուցանիշների փոփոխությունը ( նվազեցումները` նշված են փակագծերում)
A33: Միջոցառման դասիչը` | B33: 11002 | C33: Ինն ամիս | D33: Տարի
A34: Միջոցառման անվանումը` | B34: Մարզային նշանակության ավտոճանապարհների պահպանման և անվտանգ երթևեկության ծառայություններ
A35: Նկարագրությունը` | B35: Հողային պաստառի, երթևեկելի մասի, արհեստական կառույցների և կահավորման տարրերի նորմատիվ մակարդակում պահպանում և շահագործում
A36: Միջոցառման տեսակը` | B36: Ծառայությունների մատուցում
A37: Միջոցառումն իրականացնողի անվանումը | B37: Մարզպետարան, մրցութային կարգով ընտրված կազմակերպություններ
A38: Արդյունքի չափորոշիչներ
A39: Միջոցառման վրա կատարվող ծախսը (հազար դրամ) | C39: ='2.'!G104 -> -22676.5 | D39: ='2.'!H104 -> -22676.5
A41: Ծրագրի դասիչը` | B41: 1049 | C41: Ցուցանիշների փոփոխությունը (ավելացումները նշված են դրական նշանով)
A42: Միջոցառման դասիչը` | B42: 21001 | C42: Ինն ամիս | D42: Տարի
A43: Միջոցառման անվանումը` | B43: Պետական նշանակության ավտոճանապարհների հիմնանորոգում
A44: Նկարագրությունը` | B44: Միջպետական, հանրապետական և մարզային նշանակության ավտոճոնապարհների քայքայված ծածկի վերանորոգում, մաշված ծածկի փոխարինում
A45: Միջոցառման տեսակը` | B45: Հանրության կողմից անմիջականորեն օգտագործվող ակտիվների հետ կապված միջոցառումներ
A46: Միջոցառումն իրականացնողի անվանումը | B46: Մասնագիտացված միավոր
A47: Արդյունքի չափորոշիչներ
A48: Մարզային նշանակության ավտոճանապարհներ/գմ | D48: 9.6
A49: Միջոցառման վրա կատարվող ծախսը (հազար դրամ) | C49: ='7.'!C45 -> 22676.5 | D49: ='7.'!D45 -> 22676.5
A51: Ծրագրի դասիչը | B51: Ծրագրի անվանումը
A52: 1212 | B52: Տարածքային զարգացում
A54: Ծրագրի միջոցառումները
A55: Ծրագրի դասիչը` | B55: 1212 | C55: Ցուցանիշների փոփոխությունը (ավելացումները նշված են դրական նշանով)
A56: Միջոցառման դասիչը` | B56: 12025 | C56: Ինն ամիս | D56: Տարի
A57: Միջոցառման անվանումը` | B57: Մարզերում առաջնահերթ լուծում պահանջող հիմնախնդիրների լուծում
A58: Նկարագրությունը` | B58: Մարզերում առաջնահերթ լուծում պահանջող ծրագրերի իրականացում, որի արդյունքում լուծում կտրվի բնակչության և համայնքների սոցիալական նշանակություն ունեցող հիմնախնդիրներին
A59: Միջոցառման տեսակը` | B59: Տրանսֆերտների տրամադրում
A60: Միջոցառումն իրականացնողի անվանումը | B60: Համայնքներ
A61: Արդյունքի չափորոշիչներ
A62: Համայնքների թիվը/հատ | D62: 1
A63: Միջոցառման վրա կատարվող ծախսը (հազար դրամ) | C63: ='2.'!G55 -> 63622 | D63: ='2.'!H55 -> 63622
D65: Աղյուսակ 9.1.52
A66: ՀՀ Լոռու մարզպետի աշխատակազմ
A67: ՄԱՍ 1. ՊԵՏԱԿԱՆ ՄԱՐՄՆԻ ԳԾՈՎ ԱՐԴՅՈՒՆՔԱՅԻՆ (ԿԱՏԱՐՈՂԱԿԱՆ) ՑՈՒՑԱՆԻՇՆԵՐԸ
A68: Ծրագրի դասիչը | B68: Ծրագրի անվանումը
A69: 1212 | B69: Տարածքային զարգացում
A71: Ծրագրի միջոցառումները
A72: Ծրագրի դասիչը` | B72: 1212 | C72: Ցուցանիշների փոփոխությունը (նվազեցումները նշված են փակագծերում)
A73: Միջոցառման դասիչը` | B73: 12025 | C73: Ինն ամիս | D73: Տարի
A74: Միջոցառման անվանումը` | B74: Մարզերում առաջնահերթ լուծում պահանջող հիմնախնդիրների լուծում
A75: Նկարագրությունը` | B75: Մարզերում առաջնահերթ լուծում պահանջող ծրագրերի իրականացում, որի արդյունքում լուծում կտրվի բնակչության և համայնքների սոցիալական նշանակություն ունեցող հիմնախնդիրներին
A76: Միջոցառման տեսակը` | B76: Տրանսֆերտների տրամադրում
A77: Շահառուների ընտրության չափանիշները | B77: Համայնքներ
A78: Արդյունքի չափորոշիչներ
A79: Համայնքների թիվը/հատ | D79: 1
A80: Միջոցառման վրա կատարվող ծախսը (հազար դրամ) | C80: ='2.'!G37 -> -80030.8 | D80: ='2.'!H37 -> -80030.8
A83: Ծրագրի դասիչը` | B83: 1212 | C83: Ցուցանիշների փոփոխությունը (ավելացումները նշված են դրական նշանով)
A84: Միջոցառման դասիչը` | B84: 32001 | C84: Ինն ամիս | D84: Տարի
A85: Միջոցառման անվանումը` | B85: ՀՀ մարզերում առաջնահերթ լուծում պահանջող անհետաձգելի ծրագրերի իրականացում
A86: Նկարագրությունը` | B86: ՀՀ մարզերում առաջնահերթ լուծում պահանջող ծրագրերի իրականացում, որի արդյունքում լուծում կտրվի մարզային ենթակայության կազմակերպությունների և համայնքային նշանակություն ունեցող հիմնախնդիրներին:
A87: Միջոցառման տեսակը` | B87: Այլ պետական կազմակերպությունների կողմից օգտագործվող ոչ ֆինանսական ակտիվների հետ գործառնություններ
A88: Շահառուների ընտրության չափանիշները | B88: Համայնքներ
A89: Արդյունքի չափորոշիչներ
A90: Համայնքների թիվը/հատ | D90: 1
A91: Միջոցառման վրա կատարվող ծախսը (հազար դրամ) | C91: ='2.'!G69 -> 102253.7 | D91: ='2.'!H69 -> 102253.7
D93: Աղյուսակ 9.1.57
A94: ՀՀ Տավուշի մարզպետի աշխատակազմ
A95: ՄԱՍ 1. ՊԵՏԱԿԱՆ ՄԱՐՄՆԻ ԳԾՈՎ ԱՐԴՅՈՒՆՔԱՅԻՆ (ԿԱՏԱՐՈՂԱԿԱՆ) ՑՈՒՑԱՆԻՇՆԵՐԸ
A97: Ծրագրի դասիչը | B97: Ծրագրի անվանումը
A98: 1049 | B98: Ճանապարհային ցանցի բարելավում
A100: Ծրագրի միջոցառումները
A101: Ծրագրի դասիչը` | B101: 1049 | C101: Ցուցանիշների փոփոխությունը (նվազեցումները նշված են փակագծերում)
A102: Միջոցառման դասիչը` | B102: 11002 | C102: Ինն ամիս | D102: Տարի
A103: Միջոցառման անվանումը` | B103: Մարզային նշանակության ավտոճանապարհների պահպանման և անվտանգ երթևեկության ծառայություններ
A104: Նկարագրությունը` | B104: Հողային պաստառի, երթևեկելի մասի, արհեստական կառույցների և կահավորման տարրերի նորմատիվ մակարդակում պահպանում և շահագործում
A105: Միջոցառման տեսակը` | B105: Ծառայությունների մատուցում
A106: Միջոցառումն իրականացնողի անվանումը | B106: Մարզպետարան, մրցութային կարգով ընտրված կազմակերպություններ
A107: Արդյունքի չափորոշիչներ
A108: Միջոցառման վրա կատարվող ծախսը (հազար դրամ) | C108: ='2.'!G97 -> -10751.2 | D108: ='2.'!H97 -> -10751.2
A110: Ծրագրի դասիչը | B110: Ծրագրի անվանումը
A111: 1212 | B111: Տարածքային զարգացում
A113: Ծրագրի միջոցառումները
A114: Ծրագրի դասիչը` | B114: 1212 | C114: Ցուցանիշների փոփոխությունը (նվազեցումները նշված են փակագծերում)
A115: Միջոցառման դասիչը` | B115: 12025 | C115: Ինն ամիս | D115: Տարի
A116: Միջոցառման անվանումը` | B116: Մարզերում առաջնահերթ լուծում պահանջող հիմնախնդիրների լուծում
A117: Նկարագրությունը` | B117: Մարզերում առաջնահերթ լուծում պահանջող ծրագրերի իրականացում, որի արդյունքում լուծում կտրվի բնակչության և համայնքների սոցիալական նշանակություն ունեցող հիմնախնդիրներին
A118: Միջոցառման տեսակը` | B118: Տրանսֆերտների տրամադրում
A119: Շահառուների ընտրության չափանիշները | B119: Համայնքներ
...

Sheet 9.
G1: Հավելված N 9
G2: ՀՀ կառավարության 2024 թվականի
G3: N ------------ -Ն որոշման
A6: ՀԱՅԱՍՏԱՆԻ ՀԱՆՐԱՊԵՏՈՒԹՅԱՆ ԿԱՌԱՎԱՐՈՒԹՅԱՆ 2023 ԹՎԱԿԱՆԻ ԴԵԿՏԵՄԲԵՐԻ 28-Ի N 2323-Ն ՈՐՈՇՄԱՆ N 10 ՀԱՎԵԼՎԱԾՈՒՄ ԿԱՏԱՐՎՈՂ ՓՈՓՈԽՈՒԹՅՈՒՆՆԵՐԸ ԵՎ ԼՐԱՑՈՒՄՆԵՐԸ
A9: Կոդը | B9: Անվանումը | C9: Գնման ձևը | D9: Չափի միավորը | E9: Միավորի գինը | F9: Քանակը | G9: Ցուցանիշների փոփոխությունը (ավելացումները նշված են դրական նշանով, իսկ նվազեցումները` փակագծերում)
G10: գումարը (հազար դրամ)
B11: ԸՆԴԱՄԵՆԸ | G11: =G12+G35+G45+G56 -> 206342.5
B12: ՀՀ Տավուշի մարզպետի աշխատակազմ | G12: =G13+G31 -> 99030.1
A13: Բաժին N 01 | B13: Խումբ N 08 | C13: Դաս N 01 | D13: Կառավարության տարբեր մակարդակների միջեւ իրականացվող ընդհանուր բնույթի տրանսֆերտներ | G13: =G14 -> 109781.3
A14: 1212 32001 | B14: ՀՀ մարզերում առաջնահերթ լուծում պահանջող անհետաձգելի ծրագրերի իրականացում | G14: =G15+G18 -> 109781.3
B15: ՄԱՍ II. ԱՇԽԱՏԱՆՔՆԵՐ | G15: =G16+G17 -> 73697.8
A16: 45221100-1 | B16: կամուրջների կառուցման աշխատանքներ | C16: ՀՄԱ | D16: դրամ | E16: 40575700 | F16: 1 | G16: 40575.7
A17: 45231177-2 | B17: ճանապարհի վերանորոգման աշխատանքներ | C17: ՀՄԱ | D17: դրամ | E17: 33122100 | F17: 1 | G17: 33122.1
B18: ՄԱՍ III. ԾԱՌԱՅՈՒԹՅՈՒՆՆԵՐ | G18: =G19+G20+G21+G22+G23+G24+G25+G26+G27+G28+G29+G30 -> 36083.5
A19: 71351540-1 | B19: տեխնիկական հսկողության ծառայություններ | C19: ՀՄԱ | D19: դրամ | E19: 653000 | F19: 1 | G19: =E19*F19/1000 -> 653
A20: 71351540-2 | B20: տեխնիկական հսկողության ծառայություններ | C20: ՀՄԱ | D20: դրամ | E20: 642700 | F20: 1 | G20: =E20*F20/1000 -> 642.7
A21: 98111140-1 | B21: հեղինակային հսկողության ծառայություններ | C21: ՄԱ | D21: դրամ | E21: 195000 | F21: 1 | G21: =E21*F21/1000 -> 195
A22: 98111140-2 | B22: հեղինակային հսկողության ծառայություններ | C22: ՄԱ | D22: դրամ | E22: 192800 | F22: 1 | G22: =E22*F22/1000 -> 192.8
A23: 71241200/1 | B23: նախագծերի պատրաստում, ծախսերի գնահատում | C23: ՀՄԱ | D23: դրամ | E23: 8000000 | F23: 1 | G23: =E23*F23/1000 -> 8000
A24: 71241200/2 | B24: նախագծերի պատրաստում, ծախսերի գնահատում | C24: ՀՄԱ | D24: դրամ | E24: 9500000 | F24: 1 | G24: =E24*F24/1000 -> 9500
A25: 71241200/3 | B25: նախագծերի պատրաստում, ծախսերի գնահատում | C25: ՀՄԱ | D25: դրամ | E25: 13000000 | F25: 1 | G25: =E25*F25/1000 -> 13000
A26: 71241200/4 | B26: նախագծերի պատրաստում, ծախսերի գնահատում | C26: ՀՄԱ | D26: դրամ | E26: 450000 | F26: 1 | G26: =E26*F26/1000 -> 450
A27: 50531140/1 | B27: փորձաքննության ծառայություններ | C27: ՀՄԱ | D27: դրամ | E27: 700000 | F27: 1 | G27: =E27*F27/1000 -> 700
A28: 50531140/2 | B28: փորձաքննության ծառայություններ | C28: ՀՄԱ | D28: դրամ | E28: 1000000 | F28: 1 | G28: =E28*F28/1000 -> 1000
A29: 50531140/3 | B29: փորձաքննության ծառայություններ | C29: ՀՄԱ | D29: դրամ | E29: 1700000 | F29: 1 | G29: =E29*F29/1000 -> 1700
A30: 50531140/4 | B30: փորձաքննության ծառայություններ | C30: ՀՄԱ | D30: դրամ | E30: 50000 | F30: 1 | G30: =E30*F30/1000 -> 50
A31: Բաժին N 04 | B31: Խումբ N 05 | C31: Դաս N 01 | D31: Ճանապարհային տրանսպորտ | G31: =G32 -> -10751.2
A32: 1049 11002 | B32: Մարզային նշանակության ավտոճանապարհների պահպանման և անվտանգ երթևեկության ծառայություններ | G32: =G33 -> -10751.2
B33: ՄԱՍ II. ԱՇԽԱՏԱՆՔՆԵՐ | G33: =G34 -> -10751.2
A34: 45231176-1 | B34: ճանապարհների պահպանման աշխատանքներ | C34: ՀԲՄ | D34: դրամ | G34: -10751.2
B35: ՀՀ Լոռու մարզպետի աշխատակազմ | G35: =G36 -> 102253.7
A36: Բաժին N 01 | B36: Խումբ N 08 | C36: Դաս N 01 | D36: Կառավարության տարբեր մակարդակների միջեւ իրականացվող ընդհանուր բնույթի տրանսֆերտներ | G36: =G37 -> 102253.7
A37: 1212 32001 | B37: ՀՀ մարզերում առաջնահերթ լուծում պահանջող անհետաձգելի ծրագրերի իրականացում | G37: =G38+G43 -> 102253.7
B38: ՄԱՍ III. ԾԱՌԱՅՈՒԹՅՈՒՆՆԵՐ | G38: =+G40+G39+G41+G42 -> 8024.4
A39: 71241200-5 | B39: նախագծերի պատրաստում, ծախսերի գնահատում | C39: ՀՄԱ | D39: դրամ | E39: 4700000 | F39: 1 | G39: =E39*F39/1000 -> 4700
A40: 50531140-3 | B40: փորձաքննության ծառայություններ | C40: ՀՄԱ | D40: դրամ | E40: =G40*1000 -> 470000 | F40: 1 | G40: 470
A41: 71351540-1 | B41: տեխնիկական հսկողության ծառայություններ | C41: ՀՄԱ | D41: դրամ | E41: =G41*1000 -> 2195700 | F41: 1 | G41: 2195.7
A42: 98111140-1 | B42: հեղինակային հսկողության ծառայություններ | C42: ՄԱ | D42: դրամ | E42: =G42*1000 -> 658700 | F42: 1 | G42: 658.7
B43: ՄԱՍ II. ԱՇԽԱՏԱՆՔՆԵՐ | G43: =G44 -> 94229.3
A44: 45231143-1 | B44: կոյուղիների կառուցման աշխատանքներ | C44: ՀՄԱ | D44: դրամ | E44: =G44*1000 -> 94229300 | F44: 1 | G44: 94229.3
A45: ՀՀ Գեղարքունիքի մարզպետի աշխատակազմ | G45: =G46 -> 0
A46: Բաժին N 04 | B46: Խումբ N 05 | C46: Դաս N 01 | D46: Ճանապարհային տրանսպորտ | G46: =G48+G50 -> 0
A47: 1049 /11002 | B47: Մարզային նշանակության ավտոճանապարհների պահպանման և անվտանգ երթևեկության ծառայություններ | G47: =G48 -> -22676.5
B48: ՄԱՍ II. ԱՇԽԱՏԱՆՔՆԵՐ | G48: =G49 -> -22676.5
A49: 45231176-1 | B49: ճանապարհների պահպանման աշխատանքներ | C49: ՀԲՄ | D49: դրամ | G49: =-G50 -> -22676.5
A50: 1049/21001 | B50: Պետական նշանակության ավտոճանապարհների հիմնանորոգում | G50: =G51+G53 -> 22676.5
B51: ՄԱՍ II. ԱՇԽԱՏԱՆՔՆԵՐ | G51: =G52 -> 22110.3
A52: 45231177/503 | B52: Ճանապարհների վերանորգման աշխատանքներ | C52: ԳՀ | D52: դրամ | E52: =G52*1000 -> 22110300 | F52: 1 | G52: 22110.3
B53: ՄԱՍ III. ԾԱՌԱՅՈՒԹՅՈՒՆՆԵՐ | G53: =G55+G54 -> 566.2
A54: 71351540/509 | B54: տեխնիկական հսկողության ծառայություններ | C54: ԳՀ | D54: դրամ | E54: =G54*1000 -> 435600 | F54: 1 | G54: 435.6
A55: 98111140/6 | B55: հեղինակային հսկողության ծառայություններ | C55: ՄԱ | D55: դրամ | E55: =G55*1000 -> 130600 | F55: 1 | G55: 130.6
B56: ՀՀ Սյունիք մարզպետի աշխատակազմ | G56: =G57 -> 5058.7
A57: Բաժին N 01 | B57: Խումբ N 08 | C57: Դաս N 01 | D57: Կառավարության տարբեր մակարդակների միջեւ իրականացվող ընդհանուր բնույթի տրանսֆերտներ | G57: =G58 -> 5058.7
A58: 1212 32001 | B58: ՀՀ մարզերում առաջնահերթ լուծում պահանջող անհետաձգելի ծրագրերի իրականացում | G58: =G60 -> 5058.7
B59: ՄԱՍ II. ԱՇԽԱՏԱՆՔՆԵՐ | G59: =G60 -> 5058.7
A60: 45231118/501 | B60: Գազի բաշխման օժանդակ աշխատանքներ | C60: ԳՀ | D60: դրամ | E60: =G60*1000 -> 5058700 | F60: 1 | G60: ='2.'!H83 -> 5058.7
B74: ՀԱՅԱՍՏԱՆԻ ՀԱՆՐԱՊԵՏՈՒԹՅԱՆ
B75: ՎԱՐՉԱՊԵՏԻ ԱՇԽԱՏԱԿԱԶՄԻ
B76: ՂԵԿԱՎԱՐ ՝ Ա. ՀԱՐՈՒԹՅՈՒՆՅԱՆ
