Workbook
Name a: #REF!
Name a: #REF!
Name a: #REF!
Name AgencyCode: #REF!
Name AgencyCode: #REF!
Name AgencyCode: #REF!
Name AgencyCode: #REF!
Name AgencyCode: #REF!
Name AgencyCode: #REF!
Name AgencyName: #REF!
Name AgencyName: #REF!
Name AgencyName: #REF!
Name davit: #REF!
Name davit: #REF!
Name Functional1: #REF!
Name Functional1: #REF!
Name Functional1: #REF!
Name ggg: #REF!
Name ggg: #REF!
Name PANature: #REF!
Name PANature: #REF!
Name PANature: #REF!
Name PAType: #REF!
Name PAType: #REF!
Name PAType: #REF!
Name Performance2: #REF!
Name Performance2: #REF!
Name Performance2: #REF!
Name PerformanceType: #REF!
Name PerformanceType: #REF!
Name PerformanceType: #REF!
Name Հավելված: #REF!
Name Հավելված: #REF!
Name Հավելված10: #REF!
Name Հավելված10: #REF!
Name Հավելված11: #REF!
Name Հավելված11: #REF!
Name Հավելված20: #REF!
Name Հավելված20: #REF!
Name Հավելված9: #REF!
Name Հավելված9: #REF!
Name Մաս: #REF!
Name Մաս: #REF!
Name շախմատիստ: #REF!
Name շախմատիստ: #REF!

Sheet Հավելված N 1
C1: Հավելված N 1
C2: ՀՀ կառավարության 2024 թվականի
C3: ______________ ի ___Ն որոշման
A6: «ՀԱՅԱUՏԱՆԻ ՀԱՆՐԱՊԵՏՈՒԹՅԱՆ 2024 ԹՎԱԿԱՆԻ ՊԵՏԱԿԱՆ ԲՅՈՒՋԵԻ ՄԱUԻՆ» ՀԱՅԱUՏԱՆԻ ՀԱՆՐԱՊԵՏՈՒԹՅԱՆ OՐԵՆՔԻ N 1 ՀԱՎԵԼՎԱԾԻ N 2 ԱՂՅՈՒՍԱԿՈՒՄ ԿԱՏԱՐՎՈՂ ՎԵՐԱԲԱՇԽՈՒՄԸ ԵՎ ՀԱՅԱՍՏԱՆԻ ՀԱՆՐԱՊԵՏՈՒԹՅԱՆ ԿԱՌԱՎԱՐՈՒԹՅԱՆ 2023 ԹՎԱԿԱՆԻ ԴԵԿՏԵՄԲԵՐԻ 28-Ի N 2323-Ն ՈՐՈՇՄԱՆ N 5 ՀԱՎԵԼՎԱԾԻ N 1 ԱՂՅՈՒՍԱԿՈՒՄ ԿԱՏԱՐՎՈՂ ՓՈՓՈԽՈՒԹՅՈՒՆՆԵՐԸ ԵՎ ԼՐԱՑՈՒՄՆԵՐԸ
D9: հազ. դրամներով
A10: Ծրագրային դասիչը | C10: Բյուջետային հատկացումների գլխավոր կարգադրիչների, ծրագրերի և միջոցառումների անվանումները | D10: Ցուցանիշների փոփոխությունը (ավելացումները նշված են դրական նշանով, իսկ նվազեցումները՝ փակագծերում)
A11: Ծրագիր | B11: Միջոցառում | D11: Տարի
A12: 1192 | C12: ԸՆԴԱՄԵՆԸ | D12: =+D14 -> 0
C13: այդ թվում
C14: ՀՀ ԿՐԹՈՒԹՅԱՆ, ԳԻՏՈՒԹՅԱՆ, ՄՇԱԿՈՒՅԹԻ ԵՎ ՍՊՈՐՏԻ ՆԱԽԱՐԱՐՈՒԹՅՈՒՆ | D14: =+D16 -> 0
A15: 1236 | C15: Ծրագրի անվանումը`
C16: Հանրակրթական և նախադպրոցական հաստատությունների հիմնում, կառուցում, բարելավում | D16: =+D23+D29 -> 0
C17: Ծրագրի նպատակը`
C18: Առնվազն 300 դպրոցի և 500 մանկապարտեզի կառուցման, վերակառուցման, հիմնանորոգման ծրագրերի իրականացում ՀՀ պետական բյուջեի միջոցների շրջանակներում
C19: Վերջնական արդյունքի նկարագրությունը`
C20: Կրթական միջավայրի բարելավում
C21: Ծրագրի միջոցառումներ
B22: 32003 | C22: Միջոցառման անվանումը`
C23: Հանրակրթական դպրոցների նոր շենքերի կառուցում | D23: =+'Հավելված N 2'!G26 -> -240700
C24: Միջոցառման նկարագրությունը`
C25: ՀՀ մարզերում կրթական որակյալ ծառայությունների հասանելիության ապահովման ծրագրի շրջանակներում հանրակրթական և նախադպրոցական կրթության հասանելիության ապահովման նպատակով կրթական կենտրոնների կառուցում
C26: Միջոցառման տեսակը
C27: Այլ պետական կազմակերպությունների կողմից օգտագործվող ոչ ֆինանսական ակտիվների հետ գործառնություններ
B28: 32005 | C28: Միջոցառման անվանումը`
C29: Կրթահամալիրների կառուցում | D29: =+'Հավելված N 2'!G49 -> 240700
C30: Միջոցառման նկարագրությունը`
C31: ՀՀ մարզերում կրթական որակյալ ծառայությունների հասանելիության ապահովման ծրագրի շրջանակներում հանրակրթական և նախադպրոցական կրթության հասանելիության ապահովման նպատակով կրթական կենտրոնների կառուցում
C32: Միջոցառման տեսակը
C33: Այլ պետական կազմակերպությունների կողմից օգտագործվող ոչ ֆինանսական ակտիվների հետ գործառնություններ

Sheet Հավելված N 2
F1: Հավելված N 2
F2: ՀՀ կառավարության 2024 թվականի
F3: ______________ ի ___Ն որոշման
A7: ՀԱՅԱՍՏԱՆԻ ՀԱՆՐԱՊԵՏՈՒԹՅԱՆ ԿԱՌԱՎԱՐՈՒԹՅԱՆ 2023 ԹՎԱԿԱՆԻ ԴԵԿՏԵՄԲԵՐԻ 28-Ի N 2323-Ն ՈՐՈՇՄԱՆ N 3 ԵՎ N 4 ՀԱՎԵԼՎԱԾՆԵՐՈՒՄ ԿԱՏԱՐՎՈՂ ՓՈՓՈԽՈՒԹՅՈՒՆՆԵՐԸ ԵՎ ԼՐԱՑՈՒՄՆԵՐԸ
G10: հազ. դրամներով
A11: Գործառական դասիչը | D11: Ծրագրային դասիչը | F11: Բյուջետային հատկացումների գլխավոր կարգադրիչների, ծրագրերի, միջոցառումների և միջոցառումները կատարող պետական մարմինների անվանումները | G11: Ցուցանիշների փոփոխությունը (ավելացումները նշված են դրական նշանով, իսկ նվազեցումները՝ փակագծերում)
A12: Բաժին | B12: Խումբ | C12: Դաս | D12: Ծրագիր | E12: Միջոցառում | G12: Տարի
F13: ԸՆԴԱՄԵՆԸ | G13: =+G15 -> 0
F14: այդ թվում՝
F15: ՀՀ ԿՐԹՈՒԹՅԱՆ, ԳԻՏՈՒԹՅԱՆ, ՄՇԱԿՈՒՅԹԻ ԵՎ ՍՊՈՐՏԻ ՆԱԽԱՐԱՐՈՒԹՅՈՒՆ | G15: =+G16 -> 0
A16: 09 | F16: ԿՐԹՈՒԹՅՈՒՆ | G16: =+G18 -> 0
F17: այդ թվում`
B18: 02 | F18: Միջնակարգ ընդհանուր կրթություն | G18: =+G20 -> 0
F19: այդ թվում`
F20: Հիմնական ընդհանուր կրթություն | G20: =+G22 -> 0
C21: 01 | F21: այդ թվում`
F22: ՀՀ կրթության, գիտության, մշակույթի և սպորտի նախարարություն | G22: =+G24 -> 0
F23: այդ թվում`
D24: 1236 | E24: Հանրակրթական և նախադպրոցական հաստատությունների հիմնում, կառուցում, բարելավում | G24: =+G26+G49 -> 0
F25: այդ թվում`
E26: 32003 | F26: Հանրակրթական դպրոցների նոր շենքերի կառուցում | G26: =+G28+G35+G42 -> -240700
F27: այդ թվում` ըստ կատարողների
F28: ՀՀ քաղաքաշինության կոմիտե | G28: =+G30 -> -1505000
F29: այդ թվում՝ բյուջետային ծախսերի տնտեսագիտական դասակարգման հոդվածներ
F30: ԸՆԴԱՄԵՆԸ ԾԱԽՍԵՐ | G30: =G31 -> -1505000
F31: ՈՉ ՖԻՆԱՆՍԱԿԱՆ ԱԿՏԻՎՆԵՐԻ ԳԾՈՎ ԾԱԽՍԵՐ | G31: =+G32 -> -1505000
F32: ՀԻՄՆԱԿԱՆ ՄԻՋՈՑՆԵՐ | G32: =+G33 -> -1505000
F33: ՇԵՆՔԵՐ ԵՎ ՇԻՆՈՒԹՅՈՒՆՆԵՐ | G33: =+G34 -> -1505000
F34: - Շենքերի և շինությունների շինարարություն | G34: =+'Հավելված N 4'!E15 -> -1505000
F35: ՀՀ կրթության, գիտության, մշակույթի և սպորտի նախարարություն | G35: =+G37 -> 900000
F36: այդ թվում՝ բյուջետային ծախսերի տնտեսագիտական դասակարգման հոդվածներ
F37: ԸՆԴԱՄԵՆԸ ԾԱԽՍԵՐ | G37: =G38 -> 900000
F38: ՈՉ ՖԻՆԱՆՍԱԿԱՆ ԱԿՏԻՎՆԵՐԻ ԳԾՈՎ ԾԱԽՍԵՐ | G38: =+G39 -> 900000
F39: ՀԻՄՆԱԿԱՆ ՄԻՋՈՑՆԵՐ | G39: =+G40 -> 900000
F40: ՇԵՆՔԵՐ ԵՎ ՇԻՆՈՒԹՅՈՒՆՆԵՐ | G40: =+G41 -> 900000
F41: - Շենքերի և շինությունների շինարարություն | G41: =+'Հավելված N 4'!E22 -> 900000
F42: ՀՀ կառավարություն | G42: =+G44 -> 364300
F43: այդ թվում՝ բյուջետային ծախսերի տնտեսագիտական դասակարգման հոդվածներ
F44: ԸՆԴԱՄԵՆԸ ԾԱԽՍԵՐ | G44: =G45 -> 364300
F45: ՈՉ ՖԻՆԱՆՍԱԿԱՆ ԱԿՏԻՎՆԵՐԻ ԳԾՈՎ ԾԱԽՍԵՐ | G45: =+G46 -> 364300
...

Sheet Հավելված N 3
F1: Հավելված N 3
F2: ՀՀ կառավարության 2024 թվականի
F3: ______________ ի ___Ն որոշման
A5: «ՀԱՅԱUՏԱՆԻ ՀԱՆՐԱՊԵՏՈՒԹՅԱՆ 2024 ԹՎԱԿԱՆԻ ՊԵՏԱԿԱՆ ԲՅՈՒՋԵԻ ՄԱUԻՆ» ՀԱՅԱUՏԱՆԻ ՀԱՆՐԱՊԵՏՈՒԹՅԱՆ OՐԵՆՔԻ N 1 ՀԱՎԵԼՎԱԾԻ N 3 ԱՂՅՈՒՍԱԿՈՒՄ ԿԱՏԱՐՎՈՂ ՓՈՓՈԽՈՒԹՅՈՒՆՆԵՐԸ ԵՎ ԼՐԱՑՈՒՄՆԵՐԸ
G8: հազ. դրամներով
A9: Ծրագրային դասիչ | C9: Բյուջետային գլխավոր կարգադրիչների, ծրագրերի, միջոցառումների, միջոցառումները կատարող պետական մարմինների և ուղղությունների անվանումները | D9: Ընդամենը | E9: Ցուցանիշների փոփոխությունը (ավելացումները նշված են դրական նշանով, իսկ նվազեցումները՝ փակագծերում)
A10: Ծրագիր | B10: Միջոցառում | E10: Կառուցման աշխատանքներ | F10: Վերակառուցման, վերանորոգման և վերականգնման աշխատանքներ | G10: Նախագծահե- տազոտական, գեոդեզիա- քարտեզագրա- կան աշխա- տանքներ | H10: Ոչ ֆինանսական այլ ակտիվների ձեռքբերում
C11: ԸՆԴԱՄԵՆԸ | D11: =SUM(E11:H11) -> 0 | E11: =+E13 -> 18300 | F11: =+F13 -> 0 | G11: =+G13 -> -18300 | H11: =+H13 -> 0
C12: այդ թվում՝
C13: ՀՀ ԿՐԹՈՒԹՅԱՆ, ԳԻՏՈՒԹՅԱՆ, ՄՇԱԿՈՒՅԹԻ ԵՎ ՍՊՈՐՏԻ ՆԱԽԱՐԱՐՈՒԹՅՈՒՆ | D13: =SUM(E13:H13) -> 0 | E13: =+E15+E24 -> 18300 | F13: =+F15+F24 -> 0 | G13: =+G15+G24 -> -18300 | H13: =+H15+H24 -> 0
C14: այդ թվում`
A15: 1236 | B15: 32003 | C15: Հանրակրթական դպրոցների նոր շենքերի կառուցում | D15: =SUM(E15:H15) -> -240700 | E15: =+E17+E18 -> -240700 | F15: =+F17+F18 -> 0 | G15: =+G17+G18 -> 0 | H15: =+H17+H18 -> 0
C16: այդ թվում`
C17: Հանրակրթական դպրոցների նոր շենքերի կառուցում | D17: =SUM(E17:H17) -> 364300 | E17: =-(D18+D24) -> 364300 | F17: 0 | G17: 0 | H17: 0
C18: ՀՀ Սյունիքի մարզ | D18: =SUM(E18:H18) -> -605000 | E18: =+E19+E20+E21+E22+E23 -> -605000 | F18: =+F21+F22+F23 -> 0 | G18: =+G21+G22+G23 -> 0 | H18: =+H21+H22+H23 -> 0
C19: «գ. Խնածախի միջնակարգ դպրոց» ՊՈԱԿ | D19: =+E19+F19+G19+H19 -> -360000 | E19: =+'Հավելված N 7'!I29+'Հավելված N 7'!I34+'Հավելված N 7'!I38 -> -360000
C20: «գ. Ակների միջնակարգ դպրոց» ՊՈԱԿ | D20: =+E20+F20+G20+H20 -> -360000 | E20: =+'Հավելված N 7'!I31+'Հավելված N 7'!I36+'Հավելված N 7'!I40 -> -360000
C21: «գ. Վերիշենի միջնակարգ դպրոց» ՊՈԱԿ | D21: =+E21+F21+G21+H21 -> -20000 | E21: =+'Հավելված N 7'!I17+'Հավելված N 7'!I30+'Հավելված N 7'!I35+'Հավելված N 7'!I39 -> -20000
C22: «ք. Գորիսի Ս. Խանզադյանի անվան թիվ 6 հիմնական դպրոց» ՊՈԱԿ | D22: =+E22+F22+G22+H22 -> -165000 | E22: =+'Հավելված N 7'!I18+'Հավելված N 7'!I32+'Հավելված N 7'!I37+'Հավելված N 7'!I41 -> -165000
C23: գ․ Իշխանասարի միջնակարգ դպրոց | D23: =+E23+F23+G23+H23 -> 300000 | E23: =+'Հավելված N 7'!I19 -> 300000
A24: 1236 | B24: 32005 | C24: Կրթահամալիրների կառուցում | D24: =SUM(E24:H24) -> 240700 | E24: =+E26 -> 259000 | F24: =+F26 -> 0 | G24: =+G26 -> -18300 | H24: =+H26 -> 0
C25: այդ թվում`
C26: ՀՀ Սյունիքի մարզ | D26: =SUM(E26:H26) -> 240700 | E26: =+E27+E28+E29+E30 -> 259000 | F26: =+F27+F28+F29+F30 -> 0 | G26: =+G27+G28+G29+G30 -> -18300 | H26: =+H27+H28+H29+H30 -> 0
C27: Սիսիան համայնքի Իշխանասարի կրթահամալիր | D27: =+E27+F27+G27+H27 -> -189300 | E27: =+'Հավելված N 7'!I44+'Հավելված N 7'!I47+'Հավելված N 7'!I49 -> -171000 | G27: =+'Հավելված N 7'!I51+'Հավելված N 7'!I52 -> -18300
C28: գ․ Խնածախի կրթահամալիր | D28: =+E28+F28+G28+H28 -> 150000 | E28: =+'Հավելված N 7'!I22 -> 150000
C29: գ․ Ակների կրթահամալիր | D29: =+E29+F29+G29+H29 -> 300000 | E29: =+'Հավելված N 7'!I23 -> 300000
C30: Տեղի թիվ 2 կրթահամալիր | D30: =+E30+F30+G30+H30 -> -20000 | E30: =+'Հավելված N 7'!I24+'Հավելված N 7'!I45+'Հավելված N 7'!I48+'Հավելված N 7'!I50 -> -20000

Sheet Հավելված N 4
E1: Հավելված N 4
E2: ՀՀ կառավարության 2024 թվականի
E3: ______________ ի ___Ն որոշման
B6: ՀԱՅԱՍՏԱՆԻ ՀԱՆՐԱՊԵՏՈՒԹՅԱՆ ԿԱՌԱՎԱՐՈՒԹՅԱՆ 2023 ԹՎԱԿԱՆԻ ԴԵԿՏԵՄԲԵՐԻ 28-Ի N 2323-Ն ՈՐՈՇՄԱՆ N 5 ՀԱՎԵԼՎԱԾԻ N 2 ԱՂՅՈՒՍԱԿՈՒՄ ԿԱՏԱՐՎՈՂ ՓՈՓՈԽՈՒԹՅՈՒՆՆԵՐԸ ԵՎ ԼՐԱՑՈՒՄՆԵՐԸ
E8: հազ. դրամներով
B9: Ծրագրային դասիչ | D9: Բյուջետային գլխավոր կարգադրիչների, ծրագրերի, միջոցառումների, միջոցառումները կատարող պետական մարմինների և ուղղությունների անվանումները | E9: Ցուցանիշների փոփոխությունը (ավելացումները նշված են դրական նշանով, իսկ նվազեցումները՝ փակագծերում)
B10: Ծրագիր | C10: Միջոցառում | E10: Տարի
D11: ՀՀ ԿՐԹՈՒԹՅԱՆ, ԳԻՏՈՒԹՅԱՆ, ՄՇԱԿՈՒՅԹԻ ԵՎ ՍՊՈՐՏԻ ՆԱԽԱՐԱՐՈՒԹՅՈՒՆ | E11: =+E13+E29 -> 0
D12: այդ թվում՝
B13: 1236 | C13: 32003 | D13: Հանրակրթական դպրոցների նոր շենքերի կառուցում | E13: =+E15+E22+E28 -> -240700
D14: այդ թվում` ըստ կատարողների
D15: ՀՀ քաղաքաշինության կոմիտե | E15: =+E17 -> -1505000
D16: այդ թվում՝ ըստ ուղղությունների
D17: ՀՀ Սյունիքի մարզ | E17: =+E18+E19+E20+E21 -> -1505000
D18: =+'Հավելված N 3'!C19 -> «գ. Խնածախի միջնակարգ դպրոց» ՊՈԱԿ | E18: =+'Հավելված N 7'!I29+'Հավելված N 7'!I34+'Հավելված N 7'!I38 -> -360000
D19: =+'Հավելված N 3'!C20 -> «գ. Ակների միջնակարգ դպրոց» ՊՈԱԿ | E19: =+'Հավելված N 7'!I31+'Հավելված N 7'!I36+'Հավելված N 7'!I40 -> -360000
D20: =+'Հավելված N 3'!C21 -> «գ. Վերիշենի միջնակարգ դպրոց» ՊՈԱԿ | E20: =+'Հավելված N 7'!I30+'Հավելված N 7'!I35+'Հավելված N 7'!I39 -> -320000
D21: =+'Հավելված N 3'!C22 -> «ք. Գորիսի Ս. Խանզադյանի անվան թիվ 6 հիմնական դպրոց» ՊՈԱԿ | E21: =+'Հավելված N 7'!I32+'Հավելված N 7'!I37+'Հավելված N 7'!I41 -> -465000
D22: ՀՀ կրթության, գիտության, մշակույթի և սպորտի նախարարություն | E22: =+E24 -> 900000
D23: այդ թվում՝ ըստ ուղղությունների
D24: ՀՀ Սյունիքի մարզ | E24: =+E25+E26+E27 -> 900000
D25: =+'Հավելված N 3'!C21 -> «գ. Վերիշենի միջնակարգ դպրոց» ՊՈԱԿ | E25: =+'Հավելված N 7'!I17 -> 300000
D26: =+'Հավելված N 3'!C22 -> «ք. Գորիսի Ս. Խանզադյանի անվան թիվ 6 հիմնական դպրոց» ՊՈԱԿ | E26: =+'Հավելված N 7'!I18 -> 300000
D27: =+'Հավելված N 3'!C23 -> գ․ Իշխանասարի միջնակարգ դպրոց | E27: =+'Հավելված N 7'!I19 -> 300000
D28: ՀՀ կառավարություն | E28: =+'Հավելված N 3'!D17 -> 364300
B29: 1236 | C29: 32005 | D29: Կրթահամալիրների կառուցում | E29: =+E31+E36 -> 240700
D30: այդ թվում` ըստ կատարողների
D31: ՀՀ քաղաքաշինության կոմիտե | E31: =+E33 -> -509300
D32: այդ թվում՝ ըստ ուղղությունների
D33: ՀՀ Սյունիքի մարզ | E33: =+E34+E35 -> -509300
D34: =+'Հավելված N 3'!C27 -> Սիսիան համայնքի Իշխանասարի կրթահամալիր | E34: =+'Հավելված N 7'!I44+'Հավելված N 7'!I47+'Հավելված N 7'!I49+'Հավելված N 7'!I51+'Հավելված N 7'!I52 -> -189300
D35: =+'Հավելված N 3'!C30 -> Տեղի թիվ 2 կրթահամալիր | E35: =+'Հավելված N 7'!I45+'Հավելված N 7'!I48+'Հավելված N 7'!I50 -> -320000
D36: ՀՀ կրթության, գիտության, մշակույթի և սպորտի նախարարություն | E36: =+E38 -> 750000
D37: այդ թվում՝ ըստ ուղղությունների
D38: ՀՀ Սյունիքի մարզ | E38: =+E39+E40+E41 -> 750000
D39: =+'Հավելված N 3'!C28 -> գ․ Խնածախի կրթահամալիր | E39: =+'Հավելված N 7'!I22 -> 150000
D40: =+'Հավելված N 3'!C29 -> գ․ Ակների կրթահամալիր | E40: =+'Հավելված N 7'!I23 -> 300000
D41: =+'Հավելված N 3'!C30 -> Տեղի թիվ 2 կրթահամալիր | E41: =+'Հավելված N 7'!I24 -> 300000

Sheet Հավելված N 5
C1: Հավելված N 5
C2: ՀՀ կառավարության 2024 թվականի
C3: ______________ ի ___Ն որոշման
B6: ՀԱՅԱՍՏԱՆԻ ՀԱՆՐԱՊԵՏՈՒԹՅԱՆ ԿԱՌԱՎԱՐՈՒԹՅԱՆ 2023 ԹՎԱԿԱՆԻ ԴԵԿՏԵՄԲԵՐԻ 28-Ի N 2323-Ն ՈՐՈՇՄԱՆ N 9 ՀԱՎԵԼՎԱԾԻ NN 9.13 ԱՂՅՈՒՍԱԿՈՒՄ ԿԱՏԱՐՎՈՂ ՓՈՓՈԽՈՒԹՅՈՒՆՆԵՐԸ ԵՎ ԼՐԱՑՈՒՄՆԵՐԸ
A8: Աղյուսակ 9․13
C9: ՀՀ կրթության, գիտության, մշակույթի և սպորտի նախարարություն
B10: ՄԱՍ 2. ՊԵՏԱԿԱՆ ՄԱՐՄՆԻ ԳԾՈՎ ԱՐԴՅՈՒՆՔԱՅԻՆ (ԿԱՏԱՐՈՂԱԿԱՆ) ՑՈՒՑԱՆԻՇՆԵՐԸ
B13: Ծրագրի դասիչը | C13: Ծրագրի անվանումը
B14: 1236 | C14: Հանրակրթական և նախադպրոցական հաստատությունների հիմնում, կառուցում, բարելավում
B16: Ծրագրի միջոցառումները
B17: Ծրագրի դասիչը՝ | C17: 1236 | D17: Ցուցանիշների փոփոխությունը (նվազեցումները նշված են փակագծերում)
B18: Միջոցառման դասիչը՝ | C18: 32003 | D18: Տարի
B19: Միջոցառման անվանումը` | C19: Հանրակրթական դպրոցների նոր շենքերի կառուցում
B20: Նկարագրությունը` | C20: ՀՀ մարզերում կրթական որակյալ ծառայությունների հասանելիության ապահովման ծրագրի շրջանակներում հանրակրթական և նախադպրոցական կրթության հասանելիության ապահովման նպատակով կրթական կենտրոնների կառուցում
B21: Միջոցառման տեսակը` | C21: Այլ պետական կազմակերպությունների կողմից օգտագործվող ոչ ֆինանսական ակտիվների հետ գործառնություններ
B22: Ակտիվն օգտագործող կազմակերպությունների անվանումները | C22: Հանրակրթական դպրոցներ
B23: Արդյունքի չափորոշիչներ
B24: Սյունիքի մարզում կրթական որակյալ ծառայությունների հասանելիության ապահովման ծրագրի շրջանակներում կառուցվող՛ կլաստերների կենտրոն-դպրոցների թիվը, հատ | D24: -1
B25: Միջոցառման վրա կատարվող ծախսը (հազար դրամ) | D25: =+'Հավելված N 1'!D23 -> -240700
B27: Ծրագրի միջոցառումները
B28: Ծրագրի դասիչը՝ | C28: 1236 | D28: Ցուցանիշների փոփոխությունը (ավելացումները նշված են դրական նշանով)
B29: Միջոցառման դասիչը՝ | C29: 32005 | D29: Տարի
B30: Միջոցառման անվանումը` | C30: Կրթահամալիրների կառուցում
B31: Նկարագրությունը` | C31: ՀՀ մարզերում կրթական որակյալ ծառայությունների հասանելիության ապահովման ծրագրի շրջանակներում հանրակրթական և նախադպրոցական կրթության հասանելիության ապահովման նպատակով կրթական կենտրոնների կառուցում
B32: Միջոցառման տեսակը` | C32: Այլ պետական կազմակերպությունների կողմից օգտագործվող ոչ ֆինանսական ակտիվների հետ գործառնություններ
B33: Ակտիվն օգտագործող կազմակերպությունների անվանումները | C33: Ստեղծվող կրթահամալիրներ
B34: Արդյունքի չափորոշիչներ
B35: Սյունիքի մարզում ՀՀ-ում կրթական որակյալ ծառայությունների հասանելիության ապահովման ծրագրի շրջանակներում կառուցվող կրթահամալիրների (կրթական կենտրոնների) քանակ, հատ | D35: 1
B36: Միջոցառման վրա կատարվող ծախսը (հազար դրամ) | D36: =+'Հավելված N 1'!D29 -> 240700

Sheet Հավելված N 6
C1: Հավելված N 6
C2: ՀՀ կառավարության 2024 թվականի
C3: ______________ ի ___Ն որոշման
B6: ՀԱՅԱՍՏԱՆԻ ՀԱՆՐԱՊԵՏՈՒԹՅԱՆ ԿԱՌԱՎԱՐՈՒԹՅԱՆ 2023 ԹՎԱԿԱՆԻ ԴԵԿՏԵՄԲԵՐԻ 28-Ի N 2323-Ն ՈՐՈՇՄԱՆ N 9.1 ՀԱՎԵԼՎԱԾԻ NN 9.1.13, 9.1.39 ԵՎ 9.1.58 ԱՂՅՈՒՍԱԿՆԵՐՈՒՄ ԿԱՏԱՐՎՈՂ ՓՈՓՈԽՈՒԹՅՈՒՆՆԵՐԸ ԵՎ ԼՐԱՑՈՒՄՆԵՐԸ
A9: Աղյուսակ 9․1.13
C10: ՀՀ կրթության, գիտության, մշակույթի և սպորտի նախարարություն
B11: ՄԱՍ 1. ՊԵՏԱԿԱՆ ՄԱՐՄՆԻ ԳԾՈՎ ԱՐԴՅՈՒՆՔԱՅԻՆ (ԿԱՏԱՐՈՂԱԿԱՆ) ՑՈՒՑԱՆԻՇՆԵՐԸ
B14: Ծրագրի դասիչը | C14: Ծրագրի անվանումը
B15: 1236 | C15: Հանրակրթական և նախադպրոցական հաստատությունների հիմնում, կառուցում, բարելավում
B17: Ծրագրի միջոցառումները
B18: Ծրագրի դասիչը՝ | C18: 1236 | D18: Ցուցանիշների փոփոխությունը (ավելացումները նշված են դրական նշանով)
B19: Միջոցառման դասիչը՝ | C19: 32003 | D19: Տարի
B20: Միջոցառման անվանումը` | C20: Հանրակրթական դպրոցների նոր շենքերի կառուցում
B21: Նկարագրությունը` | C21: ՀՀ մարզերում կրթական որակյալ ծառայությունների հասանելիության ապահովման ծրագրի շրջանակներում հանրակրթական և նախադպրոցական կրթության հասանելիության ապահովման նպատակով կրթական կենտրոնների կառուցում
B22: Միջոցառման տեսակը` | C22: Այլ պետական կազմակերպությունների կողմից օգտագործվող ոչ ֆինանսական ակտիվների հետ գործառնություններ
B23: Ակտիվն օգտագործող կազմակերպությունների անվանումները | C23: Հանրակրթական դպրոցներ
B24: Արդյունքի չափորոշիչներ
B25: Սյունիքի մարզում կրթական որակյալ ծառայությունների հասանելիության ապահովման ծրագրի շրջանակներում կառուցվող դպրոցների թիվը, հատ | D25: 3
B26: Միջոցառման վրա կատարվող ծախսը (հազար դրամ) | D26: =+'Հավելված N 2'!G35 -> 900000
B28: Ծրագրի միջոցառումները
B29: Ծրագրի դասիչը՝ | C29: 1236 | D29: Ցուցանիշների փոփոխությունը (ավելացումները նշված են դրական նշանով)
B30: Միջոցառման դասիչը՝ | C30: 32005 | D30: Տարի
B31: Միջոցառման անվանումը` | C31: Կրթահամալիրների կառուցում
B32: Նկարագրությունը` | C32: ՀՀ մարզերում կրթական որակյալ ծառայությունների հասանելիության ապահովման ծրագրի շրջանակներում հանրակրթական և նախադպրոցական կրթության հասանելիության ապահովման նպատակով կրթական կենտրոնների կառուցում
B33: Միջոցառման տեսակը` | C33: Այլ պետական կազմակերպությունների կողմից օգտագործվող ոչ ֆինանսական ակտիվների հետ գործառնություններ
B34: Ակտիվն օգտագործող կազմակերպությունների անվանումները | C34: Ստեղծվող կրթահամալիրներ
B35: Արդյունքի չափորոշիչներ
B36: Սյունիքի մարզում ՀՀ-ում կրթական որակյալ ծառայությունների հասանելիության ապահովման ծրագրի շրջանակներում կառուցվող կրթահամալիրների (կրթական կենտրոնների) քանակ, հատ | D36: 3
B37: Միջոցառման վրա կատարվող ծախսը (հազար դրամ) | D37: =+'Հավելված N 2'!G60 -> 750000
A40: Աղյուսակ 9․1.39
C41: ՀՀ քաղաքաշինության կոմիտե
B42: ՄԱՍ 1. ՊԵՏԱԿԱՆ ՄԱՐՄՆԻ ԳԾՈՎ ԱՐԴՅՈՒՆՔԱՅԻՆ (ԿԱՏԱՐՈՂԱԿԱՆ) ՑՈՒՑԱՆԻՇՆԵՐԸ
B45: Ծրագրի դասիչը | C45: Ծրագրի անվանումը
B46: 1236 | C46: Հանրակրթական և նախադպրոցական հաստատությունների հիմնում, կառուցում, բարելավում
B48: Ծրագրի միջոցառումները
B49: Ծրագրի դասիչը՝ | C49: 1236 | D49: Ցուցանիշների փոփոխությունը (նվազեցումները նշված են փակագծերում)
B50: Միջոցառման դասիչը՝ | C50: 32003 | D50: Տարի
B51: Միջոցառման անվանումը` | C51: Հանրակրթական դպրոցների նոր շենքերի կառուցում
B52: Նկարագրությունը` | C52: ՀՀ մարզերում կրթական որակյալ ծառայությունների հասանելիության ապահովման ծրագրի շրջանակներում հանրակրթական և նախադպրոցական կրթության հասանելիության ապահովման նպատակով կրթական կենտրոնների կառուցում
B53: Միջոցառման տեսակը` | C53: Այլ պետական կազմակերպությունների կողմից օգտագործվող ոչ ֆինանսական ակտիվների հետ գործառնություններ
...

Sheet Հավելված N 7
H1: Հավելված N 7
H2: ՀՀ կառավարության 2024 թվականի
H3: ______________ ի ___Ն որոշման
A6: ՀԱՅԱՍՏԱՆԻ ՀԱՆՐԱՊԵՏՈՒԹՅԱՆ ԿԱՌԱՎԱՐՈՒԹՅԱՆ 2023 ԹՎԱԿԱՆԻ ԴԵԿՏԵՄԲԵՐԻ 28-Ի N 2323-Ն N 10 ՀԱՎԵԼՎԱԾՈՒՄ ԿԱՏԱՐՎՈՂ ՓՈՓՈԽՈՒԹՅՈՒՆՆԵՐԸ ԵՎ ԼՐԱՑՈՒՄՆԵՐԸ
A10: Կոդը | B10: Անվանումը | E10: Գնման ձևը | F10: Չափման միավորը | G10: Միավորի գինը | H10: Ցուցանիշների փոփոխությունը (ավելացումները նշված են դրական նշանով, իսկ նվազեցումները՝ փակագծերում)
H11: Քանակը | I11: Գումարը (հազար դրամ)
A12: 1 | B12: 2 | E12: 3 | F12: 4 | G12: 5 | H12: 6 | I12: 7
A13: ՀՀ կրթության, գիտության, մշակությի և սպորտի նախարարություն | I13: =+I14 -> 1650000
A14: Բաժին N 09 | B14: Խումբ N 02 | C14: Դաս N 01 | D14: Հիմնական ընդհանուր կրթություն | I14: =+I15+I20 -> 1650000
A15: 1236-32003 | B15: Հանրակրթական դպրոցների նոր շենքերի կառուցում | I15: =+I16 -> 900000
B16: ՄԱՍ II. ԱՇԽԱՏԱՆՔՆԵՐ | I16: =SUM(I17:I19) -> 900000
A17: 45211229-585 | B17: շինարարական աշխատանքներ դպրոցների համար | E17: ՀԲՄ | F17: դրամ | G17: 300000000 | H17: 1 | I17: =+ROUNDUP(H17*G17/1000,1) -> 300000
A18: 45211229-580 | B18: շինարարական աշխատանքներ դպրոցների համար | E18: ՀԲՄ | F18: դրամ | G18: 300000000 | H18: 1 | I18: =+ROUNDUP(H18*G18/1000,1) -> 300000
A19: 45211229-589 | B19: շինարարական աշխատանքներ դպրոցների համար | E19: ՀԲՄ | F19: դրամ | G19: 300000000 | H19: 1 | I19: =+ROUNDUP(H19*G19/1000,1) -> 300000
A20: 1236-32005 | B20: Կրթահամալիրների կառուցում | I20: =+I21 -> 750000
B21: ՄԱՍ II. ԱՇԽԱՏԱՆՔՆԵՐ | I21: =SUM(I22:I24) -> 750000
A22: 45211229-588 | B22: շինարարական աշխատանքներ դպրոցների համար | E22: ՀԲՄ | F22: դրամ | G22: 150000000 | H22: 1 | I22: =+ROUNDUP(H22*G22/1000,1) -> 150000
A23: 45211229-584 | B23: շինարարական աշխատանքներ դպրոցների համար | E23: ՀԲՄ | F23: դրամ | G23: 300000000 | H23: 1 | I23: =+ROUNDUP(H23*G23/1000,1) -> 300000
A24: 45211229-586 | B24: շինարարական աշխատանքներ դպրոցների համար | E24: ՀԲՄ | F24: դրամ | G24: 300000000 | H24: 1 | I24: =+ROUNDUP(H24*G24/1000,1) -> 300000
A25: ՀՀ քաղաքաշինության կոմիտե | I25: =+I26 -> -2014300
A26: Բաժին N 09 | B26: Խումբ N 02 | C26: Դաս N 01 | D26: Հիմնական ընդհանուր կրթություն | I26: =+I27+I42 -> -2014300
A27: 1236-32003 | B27: Հանրակրթական դպրոցների նոր շենքերի կառուցում | I27: =+I28+I33 -> -1505000
B28: ՄԱՍ II. ԱՇԽԱՏԱՆՔՆԵՐ | I28: =SUM(I29:I32) -> -1443105.6
A29: 45221142-64 | B29: ընդհանուր շինարարական աշխատանքներ | E29: ՀԲՄ | F29: դրամ | G29: 344168300 | H29: -1 | I29: =+ROUNDUP(H29*G29/1000,1) -> -344168.3
A30: 45221142-75 | B30: ընդհանուր շինարարական աշխատանքներ | E30: ՀԲՄ | F30: դրամ | G30: 305927300 | H30: -1 | I30: =+ROUNDUP(H30*G30/1000,1) -> -305927.3
A31: 45221142-62 | B31: ընդհանուր շինարարական աշխատանքներ | E31: ՀԲՄ | F31: դրամ | G31: 344168300 | H31: -1 | I31: =+ROUNDUP(H31*G31/1000,1) -> -344168.3
A32: 45221142-57 | B32: ընդհանուր շինարարական աշխատանքներ | E32: ՀԲՄ | F32: դրամ | G32: 448841700 | H32: -1 | I32: =+ROUNDUP(H32*G32/1000,1) -> -448841.7
B33: ՄԱՍ III. ԾԱՌԱՅՈՒԹՅՈՒՆՆԵՐ | I33: =SUM(I34:I41) -> -61894.4
A34: 71351540-73 | B34: տեխնիկական հսկողության ծառայություններ | E34: ԳՀ | F34: դրամ | G34: 13766700 | H34: -1 | I34: =+ROUNDUP(H34*G34/1000,1) -> -13766.7
A35: 71351540-75 | B35: տեխնիկական հսկողության ծառայություններ | E35: ԳՀ | F35: դրամ | G35: 12237100 | H35: -1 | I35: =+ROUNDUP(H35*G35/1000,1) -> -12237.1
A36: 71351540-71 | B36: տեխնիկական հսկողության ծառայություններ | E36: ԳՀ | F36: դրամ | G36: 13766700 | H36: -1 | I36: =+ROUNDUP(H36*G36/1000,1) -> -13766.7
A37: 71351540-66 | B37: տեխնիկական հսկողության ծառայություններ | E37: ԳՀ | F37: դրամ | G37: 13465200 | H37: -1 | I37: =+ROUNDUP(H37*G37/1000,1) -> -13465.2
A38: 98111140-73 | B38: հեղինակային հսկողության ծառայություններ | E38: ՄԱ | F38: դրամ | G38: 2065000 | H38: -1 | I38: =+ROUNDUP(H38*G38/1000,1) -> -2065
A39: 98111140-75 | B39: հեղինակային հսկողության ծառայություններ | E39: ՄԱ | F39: դրամ | G39: 1835600 | H39: -1 | I39: =+ROUNDUP(H39*G39/1000,1) -> -1835.6
A40: 98111140-71 | B40: հեղինակային հսկողության ծառայություններ | E40: ՄԱ | F40: դրամ | G40: 2065000 | H40: -1 | I40: =+ROUNDUP(H40*G40/1000,1) -> -2065
A41: 98111140-66 | B41: հեղինակային հսկողության ծառայություններ | E41: ՄԱ | F41: դրամ | G41: 2693100 | H41: -1 | I41: =+ROUNDUP(H41*G41/1000,1) -> -2693.1
A42: 1236-32005 | B42: Կրթահամալիրների կառուցում | I42: =+I43+I46 -> -509300
B43: ՄԱՍ II. ԱՇԽԱՏԱՆՔՆԵՐ | I43: =SUM(I44:I45) -> -469407.2
A44: 45221142-41 | B44: ընդհանուր շինարարական աշխատանքներ | E44: ՀԲՄ | F44: դրամ | G44: 163479900 | H44: -1 | I44: =+ROUNDUP(H44*G44/1000,1) -> -163479.9
A45: 45221142-46 | B45: ընդհանուր շինարարական աշխատանքներ | E45: ՀԲՄ | F45: դրամ | G45: 305927300 | H45: -1 | I45: =+ROUNDUP(H45*G45/1000,1) -> -305927.3
...
