Workbook
Name _tab10: #REF!
Name _tab10: #REF!
Name _tab10: #REF!
Name _tab11: #REF!
Name _tab11: #REF!
Name _tab11: #REF!
Name _tab12: #REF!
Name _tab12: #REF!
Name _tab12: #REF!
Name _tab13: #REF!
Name _tab13: #REF!
Name _tab13: #REF!
Name _tab14: #REF!
Name _tab14: #REF!
Name _tab14: #REF!
Name _tab15: #REF!
Name _tab15: #REF!
Name _tab15: #REF!
Name _tab16: #REF!
Name _tab16: #REF!
Name _tab16: #REF!
Name _tab17: #REF!
Name _tab17: #REF!
Name _tab17: #REF!
Name _tab18: #REF!
Name _tab18: #REF!
Name _tab18: #REF!
Name _tab19: #REF!
Name _tab19: #REF!
Name _tab19: #REF!
Name _tab20: #REF!
Name _tab20: #REF!
Name _tab20: #REF!
Name _tab21: #REF!
Name _tab21: #REF!
Name _tab21: #REF!
Name _tab22: #REF!
Name _tab22: #REF!
Name _tab22: #REF!
Name _tab23: #REF!
Name _tab23: #REF!
Name _tab23: #REF!
Name _tab24: #REF!
Name _tab24: #REF!
Name _tab24: #REF!
Name _tab5: #REF!
Name _tab5: #REF!
Name _tab5: #REF!
Name _tab6: #REF!
Name _tab6: #REF!
Name _tab6: #REF!
Name _tab7: #REF!
Name _tab7: #REF!
Name _tab7: #REF!
Name _tab8: #REF!
Name _tab8: #REF!
Name _tab8: #REF!
Name _tab9: #REF!
Name _tab9: #REF!
Name _tab9: #REF!

Sheet h1
B1: Հավելված N 1
B2: ՀՀ կառավարության 2024 թվականի
B3: ______________ ի ___Ն որոշման
A5: «ՀԱՅԱՍՏԱՆԻ ՀԱՆՐԱՊԵՏՈՒԹՅԱՆ 2024 ԹՎԱԿԱՆԻ ՊԵՏԱԿԱՆ ԲՅՈՒՋԵԻ ՄԱՍԻՆ» ՕՐԵՆՔԻ N 2 ՀՈԴՎԱԾԻ ԱՂՅՈՒՍԱԿՈՒՄ ԿԱՏԱՐՎՈՂ ՓՈՓՈԽՈՒԹՅՈՒՆՆԵՐԸ
B7: հազար դրամներով
B8: Ցուցանիշների փոփոխությունը (նվազեցումները նշված են փակագծերում)
B9: Տարի
A10: 1. Եկամուտների գծով | B10: =+'h2'!B10 -> -1363045.6
A11: 2. Ծախսերի գծով | B11: =+'h5'!G8 -> -4822678.8
A12: 3. Դեֆիցիտը (պակասուրդը) | B12: =-B10+B11 -> -3459633.2

Sheet h2
B1: Հավելված N 2
B2: ՀՀ կառավարության 2024 թվականի
B3: ______________ ի ___Ն որոշման
A5: «ՀԱՅԱՍՏԱՆԻ ՀԱՆՐԱՊԵՏՈՒԹՅԱՆ 2024 ԹՎԱԿԱՆԻ ՊԵՏԱԿԱՆ ԲՅՈՒՋԵԻ ՄԱՍԻՆ» ՕՐԵՆՔԻ N 6 ՀՈԴՎԱԾԻ ԱՂՅՈՒՍԱԿՈՒՄ ԵՎ ՀԱՅԱՍՏԱՆԻ ՀԱՆՐԱՊԵՏՈՒԹՅԱՆ ԿԱՌԱՎԱՐՈՒԹՅԱՆ 2023 ԹՎԱԿԱՆԻ ԴԵԿՏԵՄԲԵՐԻ 28-Ի N 2323-Ն ՈՐՈՇՄԱՆ N 2 ՀԱՎԵԼՎԱԾՈՒՄ ԿԱՏԱՐՎՈՂ ՓՈՓՈԽՈՒԹՅՈՒՆՆԵՐԸ
B7: հազար դրամներով
A8: Եկամտատեսակ | B8: Ցուցանիշների փոփոխությունը (նվազեցումները նշված են փակագծերում)
B9: Տարի
A10: ՊԵՏԱԿԱՆ ԲՅՈՒՋԵԻ ԵԿԱՄՈՒՏՆԵՐ | B10: =+B12 -> -1363045.6
A11: այդ թվում`
A12: Պաշտոնական դրամաշնորհներ | B12: =+'h8'!E11 -> -1363045.6

Sheet h3
D1: Հավելված N 3
D2: ՀՀ կառավարության 2024թվականի
D3: ______________ ի ___Ն որոշման
B5: ՀԱՅԱՍՏԱՆԻ ՀԱՆՐԱՊԵՏՈՒԹՅԱՆ ԿԱՌԱՎԱՐՈՒԹՅԱՆ 2023 ԹՎԱԿԱՆԻ ԴԵԿՏԵՄԲԵՐԻ 28-Ի N 2323-Ն ՈՐՈՇՄԱՆ N 1 ՀԱՎԵԼՎԱԾԻ N 1 ԱՂՅՈՒՍԱԿՈՒՄ ԿԱՏԱՐՎՈՂ ՓՈՓՈԽՈՒԹՅՈՒՆՆԵՐԸ
C7: հազ. դրամ
B8: Պետական բյուջեի դեֆիցիտի ֆինանսավորման աղբյուրներն ու դրանց տարրերի անվանումները | C8: Ցուցանիշների փոփոխությունը ( նվազեցումները նշված են փակագծերում)
C9: Տարի
B10: ԸՆԴԱՄԵՆԸ | C10: =C12 -> -3459633.2
B11: այդ թվում՝
B12: Բ. Արտաքին աղբյուրներ - ընդամենը | C12: =C14 -> -3459633.2
B13: այդ թվում
B14: 1. Փոխառու զուտ միջոցներ | C14: =C16 -> -3459633.2
B15: այդ թվում՝
B16: 1.1. Վարկերի և փոխատվությունների ստացում | C16: =+C18 -> -3459633.2
B17: որից`
B18: նպատակային վարկերի գծով | C18: ='h7'!E11 -> -3459633.2

Sheet h4
D1: Հավելված N 4
D2: ՀՀ կառավարության 2024 թվականի
D3: -ի N -Ն որոշման
A4: «ՀԱՅԱՍՏԱՆԻ ՀԱՆՐԱՊԵՏՈՒԹՅԱՆ 2024 ԹՎԱԿԱՆԻ ՊԵՏԱԿԱՆ ԲՅՈՒՋԵԻ ՄԱՍԻՆ» ՀԱՅԱՍՏԱՆԻ ՀԱՆՐԱՊԵՏՈՒԹՅԱՆ ՕՐԵՆՔԻ N 1 ՀԱՎԵԼՎԱԾԻ N 2 ԱՂՅՈՒՍԱԿՈՒՄ, ՀԱՅԱՍՏԱՆԻ ՀԱՆՐԱՊԵՏՈՒԹՅԱՆ ԿԱՌԱՎԱՐՈՒԹՅԱՆ 2023 ԹՎԱԿԱՆԻ ԴԵԿՏԵՄԲԵՐԻ 28-Ի N 2323-Ն ՈՐՈՇՄԱՆ N 5 ՀԱՎԵԼՎԱԾԻ N 1 ԱՂՅՈՒՍԱԿՈՒՄ ԿԱՏԱՐՎՈՂ ՓՈՓՈԽՈՒԹՅՈՒՆՆԵՐԸ ԵՎ ԼՐԱՑՈՒՄՆԵՐԸ
D6: (հազ. դրամ)
A7: Ծրագրային դասիչը | C7: Բյուջետային գլխավոր կարգադրիչների, ծրագրերի և միջոցառումների անվանումները | D7: Ցուցանիշների փոփոխությունը (ավելացումները նշված են դրական նշանով, իսկ նվազեցումները՝ փակագծերում)
A8: Ծրագիր | B8: Միջոցառում | D8: Տարի
C9: ԸՆԴԱՄԵՆԸ | D9: =+D10+D145+D165 -> -4822678.8
C10: ՀՀ տարածքային կառավարման և ենթակառուցվածքների նախարարություն | D10: =+D11+D72+D96 -> -7125678.8
A11: 1004 | C11: Ծրագրի անվանումը` | D11: =+D48+D54+D60+D66+D36+D42+D30+D18+D24 -> -6455908.9
C12: Ոռոգման համակարգի առողջացում
C13: Ծրագրի նպատակը`
C14: Ոռոգման ծառայությունների հասանելիության և մատչելիության ապահովում
C15: Վերջնական արդյունքի նկարագրությունը`
C16: Ոռոգման ջրի մատակարարման արդյունավետության և հասանելիության բարելավում՝ կորուստների կրճատում
A17: Ծրագրի միջոցառումներ
B18: 11005 | C18: Միջոցառման անվանումը` | D18: =+'h7'!D22 -> -80000
C19: =+'h7'!C18 -> Եվրասիական զարգացման բանկի աջակցությամբ իրականացվող ոռոգման համակարգերի զարգացման ծրագրի խորհրդատվություն և կառավարում
C20: Միջոցառման նկարագրությունը`
C21: Եվրասիական զարգացման բանկի աջակցությամբ իրականացվող ոռոգման համակարգերի զարգացման ծրագրի համակարգում և ղեկավարում
C22: Միջոցառման տեսակը
C23: Ծառայությունների մատուցում
B24: 11006 | C24: Միջոցառման անվանումը` | D24: =+'h7'!D28 -> 11921
C25: =+'h7'!C26 -> Ֆրանսիայի Հանրապետության կառավարության աջակցությամբ իրականացվող Վեդու ջրամբարի և որռոգման համակարգի կառուցման ծրագրի խորհրդատվություն և կառավարում
C26: Միջոցառման նկարագրությունը`
C27: Ֆրանսիայի Հանրապետության կառավարության աջակցությամբ իրականացվող Վեդու ջրամբարի և որռոգման համակարգի համակարգում և ղեկավարում
C28: Միջոցառման տեսակը
C29: Ծառայությունների մատուցում
B30: =+'h7'!B34 -> 11007 | C30: Միջոցառման անվանումը` | D30: =+'h7'!D34 -> -41000
C31: =+'h7'!C34 -> Գերմանիայի զարգացման վարկերի բանկի աջակցությամբ իրականացվող Ախուրյան գետի ջրային ռեսուրսների ինտեգրացված կառավարում ծրագրի խորհրդատվություն և կառավարում
C32: Միջոցառման նկարագրությունը`
C33: Գերմանիայի զարգացման վարկերի բանկի աջակցությամբ իրականացվող Ախուրյան գետի ջրային ռեսուրսների ինտեգրացված կառավարման դրամաշնորհային ծրագրի համակարգում և ղեկավարում
C34: Միջոցառման տեսակը
C35: Ծառայությունների մատուցում
B36: =+'h8'!B18 -> 11009 | C36: Միջոցառման անվանումը` | D36: =+'h8'!D18 -> -9099.8
C37: =+'h8'!C18 -> Գերմանիայի զարգացման վարկերի բանկի աջակցությամբ իրականացվող Ախուրյան գետի ջրային ռեսուրսների ինտեգրացված կառավարման դրամաշնորհային ծրագիր
C38: Միջոցառման նկարագրությունը`
C39: Գերմանիայի զարգացման վարկերի բանկի աջակցությամբ իրականացվող Ախուրյան գետի ջրային ռեսուրսների ինտեգրացված կառավարման դրամաշնորհային ծրագրի համակարգում և ղեկավարում
C40: Միջոցառման տեսակը
C41: Ծառայությունների մատուցում
B42: =+'h8'!B26 -> 11011 | C42: Միջոցառման անվանումը` | D42: =+'h8'!D26 -> -283775.9
C43: =+'h8'!C26 -> Զարգացման ֆրանսիական գործակալության աջակցությամբ իրականացվող ոռոգման ոլորտի ֆինանսական կայունության և ոռոգման կառավարման կարողությունների բարելավման դրամաշնորհային ծրագրի խորհրդատվություն և կառավարում
C44: Միջոցառման նկարագրությունը`
C45: Զարգացման ֆրանսիական գործակալության աջակցությամբ իրականացվող ոռոգման ոլորտի ֆինանսական կայունության և ոռոգման կառավարման կարողությունների բարելավման ծրագրի համակարգում և ղեկավարում
C46: Միջոցառման տեսակը
C47: Ծառայությունների մատուցում
B48: =+'h7'!B42 -> 31001 | C48: Միջոցառման անվանումը` | D48: ='h7'!D42 -> -303200
C49: =+'h7'!C42 -> Ֆրանսիայի Հանրապետության կառավարության աջակցությամբ իրականացվող Վեդու ջրամբարի և ոռոգման համակարգի կառուցում
C50: Միջոցառման նկարագրությունը`
C51: Ֆրանսիայի Հանրապետության կառավարության աջակցությամբ իրականացվող Վեդու ջրամբարի և ոռոգման համակարգի կառուցման ծրագիր
C52: Միջոցառման տեսակը
C53: Պետական մարմինների կողմից օգտագործվող ոչ ֆինանսական ակտիվների հետ գործառնություններ
B54: 31004 | C54: Միջոցառման անվանումը` | D54: =+'h7'!D53 -> -3866649.2
C55: =+'h7'!C53 -> Գերմանիայի զարգացման վարկերի բանկի աջակցությամբ իրականացվող Ախուրյան գետի ջրային ռեսուրսների ինտեգրված կառավարման ծրագրի շրջանակներում ջրային տնտեսության ենթակառուցվածքների հիմնանորոգում
C56: Միջոցառման նկարագրությունը`
C57: Գերմանիայի զարգացման վարկերի բանկի աջակցությամբ իրականացվող Ախուրյան գետի ջրային ռեսուրսների ինտեգրված կառավարման ծրագիր
C58: Միջոցառման տեսակը
C59: Պետական մարմինների կողմից օգտագործվող ոչ ֆինանսական ակտիվների հետ գործառնություններ
B60: =+'h7'!B64 -> 31005 | C60: Միջոցառման անվանումը` | D60: =+'h7'!D64 -> 105895
C61: =+'h7'!C64 -> Եվրասիական զարգացման բանկի աջակցությամբ իրականացվող ոռոգման համակարգերի զարգացման ծրագրի շրջանակներում ջրային տնտեսության ենթակառուցվածքների հիմնանորոգում
C62: Միջոցառման նկարագրությունը`
C63: Եվրասիական զարգացման բանկի աջակցությամբ իրականացվող ոռոգման համակարգերի զարգացման ծրագիր
C64: Միջոցառման տեսակը
C65: Պետական մարմինների կողմից օգտագործվող ոչ ֆինանսական ակտիվների հետ գործառնություններ
B66: =+'h7'!B73 -> 31006 | C66: Միջոցառման անվանումը` | D66: =+'h7'!D73 -> -1990000
C67: =+'h7'!C73 -> Գերմանիայի զարգացման վարկերի բանկի աջակցությամբ իրականացվող Ախուրյան գետի ջրային ռեսուրսների ինտեգրացված կառավարման ծրագրի երկրորդ փուլի շրջանակներում ջրային տնտեսության ենթակառուցվածքների հիմնանորոգում
C68: Միջոցառման նկարագրությունը`
C69: Գերմանիայի զարգացման վարկերի բանկի աջակցությամբ իրականացվող Ախուրյան գետի ջրային ռեսուրսների ինտեգրացված կառավարման ծրագրի երկրորդ փուլ
C70: Միջոցառման տեսակը
C71: Պետական մարմինների կողմից օգտագործվող ոչ ֆինանսական ակտիվների հետ գործառնություններ
A72: 1019 | C72: Ծրագրի անվանումը` | D72: =+D78+D84+D90 -> -151220
C73: Սոցիալական ներդրումների և տեղական զարգացման ծրագիր
C74: Ծրագրի նպատակը`
C75: Նպաստել տարածքներում բնակչության նյութական և ոչ նյութական բարեկեցության աճին
C76: Վերջնական արդյունքի նկարագրությունը`
C77: Համայնքային և միջհամայնքային ենթակառուցվածքների և որակի հասանելիության բարելավում, ինստիտուցիոնալ և ֆինանասական կարողությունների հզորացում
B78: =+'h7'!B84 -> 12004 | C78: Միջոցառման անվանումը` | D78: =+'h7'!D84 -> -92590
C79: =+'h7'!C84 -> Համաշխարհային բանկի աջակցությամբ իրականացվող Սոցիալական ներդրումների և տեղական զարգացման ծրագրի լրացուցիչ ֆինանսավորման վարկի շրջանակներում ՀՀ համայնքային և միջհամայնքային ենթակառուցվածքների որակի, օգտագործման և հասանելիության բարելավում
C80: Միջոցառման նկարագրությունը`
C81: Ջրագծերի, առողջապահության, կրթության օբյեկտների, մշակութային տների, ծերանոցների, մանկատների, հատուկ դպրոցների, մանկապարտեզների և կոյուղու օբյեկտնրի հիմն. և շինարարություն., գույքի և սարքավորումների տրամադրում շահառու ենթածրագրերի համար
C82: Միջոցառման տեսակը
C83: Տրանսֆերտների տրամադրում
B84: =+'h8'!B36 -> 12005 | C84: Միջոցառման անվանումը` | D84: =+'h8'!D36 -> -66000
C85: =+'h8'!C36 -> ԱՄՆ ՄԶԳ աջակցությամբ իրականացվող Տեղականինքնակառավարման և ապակենտրոնացման բարեփոխումների դրամաշնորհային ծրագրի շրջանակներում Տեղական կառավարման համակարգերի հզորացում,ապակենտրոնացման գործընթացներին աջակցություն, պիլոտային ծրագրերի իրականացում
C86: Միջոցառման նկարագրությունը`
C87: ԱՄՆ ՄԶԳ աջակցությամբ իրականացվող Տեղականինքնակառավարման և ապակենտրոնացմանբարեփոխումների դրամաշնորհային ծրագրիշրջանակներում մեքենասարքավորումներիտրամադրում և համայնքային մակարդակի ենթակառուցվածքների կառուցում և վերականգնում
C88: Միջոցառման տեսակը
C89: Տրանսֆերտների տրամադրում
B90: 12007 | C90: Միջոցառման անվանումը՝ | D90: =+'h6'!G13 -> 7370
C91: Համայնքների պոլիկլինիկաների տեխնիկական վերազինում
C92: Միջոցառման նկարագրությունը`
C93: Համայնքներում պոլիկլինիկաների տեխնիկական հագեցվածության ապահովում
C94: Միջոցառման տեսակը՝
C95: Տրանսֆերտների տրամադրում
A96: 1072 | C96: Ծրագրի անվանումը` | D96: =+D103+D115+D121+D127+D133+D139+D109 -> -518549.9
C97: Ջրամատակարարաման և ջրահեռացման բարելավում
C98: Ծրագրի նպատակը`
C99: Ջրամատակարարման ծառայությունների հասանելիության և մատչելիության ապահովում
C100: Վերջնական արդյունքի նկարագրությունը`
C101: Խմելու ջրի մատակարարման և ջրահեռացման համակարգի բարելավում, կորուստների կրճատում
...

Sheet h5
A1: Հավելված N5
A2: ՀՀ կառավարության 2024 թվականի
A3: -ի N -Ն որոշման
A4: ՀԱՅԱՍՏԱՆԻ ՀԱՆՐԱՊԵՏՈՒԹՅԱՆ ԿԱՌԱՎԱՐՈՒԹՅԱՆ 2023 ԹՎԱԿԱՆԻ ԴԵԿՏԵՄԲԵՐԻ 28-Ի N 2323-Ն ՈՐՈՇՄԱՆ N 3 ԵՎ N 4 ՀԱՎԵԼՎԱԾՆԵՐՈՒՄ ԿԱՏԱՐՎՈՂ ՓՈՓՈԽՈՒԹՅՈՒՆՆԵՐԸ ԵՎ ԼՐԱՑՈՒՄՆԵՐԸ
A6: Գործառական դասիչը | D6: Ծրագրային դասիչը | F6: Բյուջետային ծախսերի գործառական դասակարգման բաժինների, խմբերի և դասերի, բյուջետային ծրագրերի միջոցառումների, բյուջետային հատկացումների գլխավոր կարգադրիչների անվանումները | G6: Ցուցանիշների փոփոխությունը (ավելացումները նշված են դրական նշանով, իսկ նվազեցումները՝ փակագծերում)
A7: Բաժին | B7: Խումբ | C7: Դաս | D7: Ծրագիր | E7: Միջոցառում | G7: Տարի
F8: ԸՆԴԱՄԵՆԸ ԾԱԽՍԵՐ | G8: =+G10+G214+G243 -> -4822678.8
F9: այդ թվում`
F10: ՀՀ տարածքային կառավարման և ենթակառուցվածքների նախարարություն | G10: =+G11+G138 -> -7125678.8
A11: 04 | F11: ՏՆՏԵՍԱԿԱՆ ՀԱՐԱԲԵՐՈՒԹՅՈՒՆՆԵՐ | G11: =+G13+G101 -> -6607128.9
F12: այդ թվում`
B13: 02 | F13: Գյուղատնտեսություն, անտառային տնտեսություն, ձկնորսություն և որսորդություն | G13: =G15 -> -6455908.9
F14: այդ թվում`
C15: 04 | F15: Ոռոգում | G15: =+G17 -> -6455908.9
F16: այդ թվում`
F17: ՀՀ տարածքային կառավարման և ենթակառուցվածքների նախարարություն | G17: =+G19 -> -6455908.9
F18: այդ թվում`
D19: 1004 | F19: Ոռոգման համակարգի առողջացում | G19: =++G61+G72+G83+G92+G45+G53+G37+G21+G29 -> -6455908.9
F20: այդ թվում`
E21: =+'h7'!B18 -> 11005 | F21: =+'h7'!C18 -> Եվրասիական զարգացման բանկի աջակցությամբ իրականացվող ոռոգման համակարգերի զարգացման ծրագրի խորհրդատվություն և կառավարում | G21: =G23 -> -80000
F22: այդ թվում` ըստ կատարողների
F23: ՀՀ տարածքային կառավարման և ենթակառուցվածքների նախարարության ջրային կոմիտե | G23: =G25 -> -80000
F24: այդ թվում` բյուջետային ծախսերի տնտեսագիտական դասակարգման հոդվածներ
F25: ԸՆԴԱՄԵՆԸ ԾԱԽՍԵՐ | G25: =G26 -> -80000
F26: ԸՆԹԱՑԻԿ ԾԱԽՍԵՐ | G26: =G27 -> -80000
F27: =+'h7'!C24 -> ԱՅԼ ԾԱԽՍԵՐ | G27: =+G28 -> -80000
F28: =+'h7'!C25 -> Այլ ծախսեր | G28: =+'h7'!D25 -> -80000
E29: =+'h7'!B26 -> 11006 | F29: =+'h7'!C26 -> Ֆրանսիայի Հանրապետության կառավարության աջակցությամբ իրականացվող Վեդու ջրամբարի և որռոգման համակարգի կառուցման ծրագրի խորհրդատվություն և կառավարում | G29: =G31 -> 11921
F30: այդ թվում` ըստ կատարողների
F31: ՀՀ տարածքային կառավարման և ենթակառուցվածքների նախարարության ջրային կոմիտե | G31: =G33 -> 11921
F32: այդ թվում` բյուջետային ծախսերի տնտեսագիտական դասակարգման հոդվածներ
F33: ԸՆԴԱՄԵՆԸ ԾԱԽՍԵՐ | G33: =G34 -> 11921
F34: ԸՆԹԱՑԻԿ ԾԱԽՍԵՐ | G34: =G35 -> 11921
F35: =+'h7'!C32 -> ԱՅԼ ԾԱԽՍԵՐ | G35: =+G36 -> 11921
F36: =+'h7'!C33 -> Այլ ծախսեր | G36: =+'h7'!D33 -> 11921
E37: =+'h7'!B34 -> 11007 | F37: =+'h7'!C34 -> Գերմանիայի զարգացման վարկերի բանկի աջակցությամբ իրականացվող Ախուրյան գետի ջրային ռեսուրսների ինտեգրացված կառավարում ծրագրի խորհրդատվություն և կառավարում | G37: =G39 -> -41000
F38: այդ թվում` ըստ կատարողների
F39: ՀՀ տարածքային կառավարման և ենթակառուցվածքների նախարարության ջրային կոմիտե | G39: =G41 -> -41000
F40: այդ թվում` բյուջետային ծախսերի տնտեսագիտական դասակարգման հոդվածներ
F41: ԸՆԴԱՄԵՆԸ ԾԱԽՍԵՐ | G41: =G42 -> -41000
F42: ԸՆԹԱՑԻԿ ԾԱԽՍԵՐ | G42: =G43 -> -41000
F43: =+'h7'!C40 -> ԱՅԼ ԾԱԽՍԵՐ | G43: =+G44 -> -41000
F44: =+'h7'!C41 -> Այլ ծախսեր | G44: =+'h7'!D41 -> -41000
E45: =+'h8'!B18 -> 11009 | F45: =+'h8'!C18 -> Գերմանիայի զարգացման վարկերի բանկի աջակցությամբ իրականացվող Ախուրյան գետի ջրային ռեսուրսների ինտեգրացված կառավարման դրամաշնորհային ծրագիր | G45: =G47 -> -9099.8
F46: այդ թվում` ըստ կատարողների
F47: ՀՀ տարածքային կառավարման և ենթակառուցվածքների նախարարության ջրային կոմիտե | G47: =G49 -> -9099.8
F48: այդ թվում` բյուջետային ծախսերի տնտեսագիտական դասակարգման հոդվածներ
F49: ԸՆԴԱՄԵՆԸ ԾԱԽՍԵՐ | G49: =G50 -> -9099.8
F50: ԸՆԹԱՑԻԿ ԾԱԽՍԵՐ | G50: =G51 -> -9099.8
F51: ԸՆԹԱՑԻԿ ԾԱԽՍԵՐ | G51: =+G52 -> -9099.8
F52: =+'h8'!C25 -> Այլ ծախսեր | G52: =+'h8'!D18 -> -9099.8
E53: =+'h8'!B26 -> 11011 | F53: =+'h8'!C26 -> Զարգացման ֆրանսիական գործակալության աջակցությամբ իրականացվող ոռոգման ոլորտի ֆինանսական կայունության և ոռոգման կառավարման կարողությունների բարելավման դրամաշնորհային ծրագրի խորհրդատվություն և կառավարում | G53: =G55 -> -283775.9
F54: այդ թվում` ըստ կատարողների
F55: ՀՀ տարածքային կառավարման և ենթակառուցվածքների նախարարության ջրային կոմիտե | G55: =G57 -> -283775.9
F56: այդ թվում` բյուջետային ծախսերի տնտեսագիտական դասակարգման հոդվածներ
F57: ԸՆԴԱՄԵՆԸ ԾԱԽՍԵՐ | G57: =G58 -> -283775.9
F58: ԸՆԹԱՑԻԿ ԾԱԽՍԵՐ | G58: =G59 -> -283775.9
F59: =+'h8'!C32 -> ԱՅԼ ԾԱԽՍԵՐ | G59: =+G60 -> -283775.9
F60: =+'h8'!C33 -> Այլ ծախսեր | G60: =+'h8'!D26 -> -283775.9
E61: =+'h7'!B42 -> 31001 | F61: =+'h7'!C42 -> Ֆրանսիայի Հանրապետության կառավարության աջակցությամբ իրականացվող Վեդու ջրամբարի և ոռոգման համակարգի կառուցում | G61: =G63 -> -303200
F62: այդ թվում` ըստ կատարողների
F63: ՀՀ տարածքային կառավարման և ենթակառուցվածքների նախարարության ջրային կոմիտե | G63: =G65 -> -303200
F64: այդ թվում` բյուջետային ծախսերի տնտեսագիտական դասակարգման հոդվածներ
F65: ԸՆԴԱՄԵՆԸ ԾԱԽՍԵՐ | G65: =G66 -> -303200
F66: ՈՉ ՖԻՆԱՆՍԱԿԱՆ ԱԿՏԻՎՆԵՐԻ ԳԾՈՎ ԾԱԽՍԵՐ | G66: =G67 -> -303200
F67: ՀԻՄՆԱԿԱՆ ՄԻՋՈՑՆԵՐ | G67: =G68+G70 -> -303200
F68: ՇԵՆՔԵՐ ԵՎ ՇԻՆՈՒԹՅՈՒՆՆԵՐ | G68: =G69 -> -292200
F69: - Շենքերի և շինությունների շինարարություն | G69: =+'h7'!D50 -> -292200
F70: ՄԵՔԵՆԱՆԵՐ ԵՎ ՍԱՐՔԱՎՈՐՈՒՄՆԵՐ | G70: =+G71 -> -11000
F71: - Վարչական սարքավորումներ | G71: =+'h7'!D52 -> -11000
E72: 31004 | F72: Գերմանիայի զարգացման վարկերի բանկի աջակցությամբ իրականացվող Ախուրյան գետի ջրային ռեսուրսների ինտեգրված կառավարման ծրագրի շրջանակներում ջրային տնտեսության ենթակառուցվածքների հիմնանորոգում | G72: =G74 -> -3866649.2
F73: այդ թվում` ըստ կատարողների
F74: ՀՀ տարածքային կառավարման և ենթակառուցվածքների նախարարության ջրային կոմիտե | G74: =G76 -> -3866649.2
F75: այդ թվում` բյուջետային ծախսերի տնտեսագիտական դասակարգման հոդվածներ
F76: ԸՆԴԱՄԵՆԸ ԾԱԽՍԵՐ | G76: =G77 -> -3866649.2
F77: ՈՉ ՖԻՆԱՆՍԱԿԱՆ ԱԿՏԻՎՆԵՐԻ ԳԾՈՎ ԾԱԽՍԵՐ | G77: =G78 -> -3866649.2
F78: ՀԻՄՆԱԿԱՆ ՄԻՋՈՑՆԵՐ | G78: =G79+G81 -> -3866649.2
F79: ՇԵՆՔԵՐ ԵՎ ՇԻՆՈՒԹՅՈՒՆՆԵՐ | G79: =G80 -> -3349497.2
F80: - Շենքերի և շինությունների շինարարություն | G80: =+'h7'!D61 -> -3349497.2
F81: ԱՅԼ ՀԻՄՆԱԿԱՆ ՄԻՋՈՑՆԵՐ | G81: =+G82 -> -517152
F82: - Նախագծահետազոտական ծախսեր | G82: =+'h7'!D63 -> -517152
E83: =+'h7'!B64 -> 31005 | F83: =+'h7'!C64 -> Եվրասիական զարգացման բանկի աջակցությամբ իրականացվող ոռոգման համակարգերի զարգացման ծրագրի շրջանակներում ջրային տնտեսության ենթակառուցվածքների հիմնանորոգում | G83: =G85 -> 105895
F84: այդ թվում` ըստ կատարողների
F85: ՀՀ տարածքային կառավարման և ենթակառուցվածքների նախարարության ջրային կոմիտե | G85: =G87 -> 105895
F86: այդ թվում` բյուջետային ծախսերի տնտեսագիտական դասակարգման հոդվածներ
F87: ԸՆԴԱՄԵՆԸ ԾԱԽՍԵՐ | G87: =G88 -> 105895
F88: ՈՉ ՖԻՆԱՆՍԱԿԱՆ ԱԿՏԻՎՆԵՐԻ ԳԾՈՎ ԾԱԽՍԵՐ | G88: =G89 -> 105895
F89: ՀԻՄՆԱԿԱՆ ՄԻՋՈՑՆԵՐ | G89: =G90 -> 105895
F90: ՇԵՆՔԵՐ ԵՎ ՇԻՆՈՒԹՅՈՒՆՆԵՐ | G90: =G91 -> 105895
F91: - Շենքերի և շինությունների շինարարություն | G91: =+'h7'!D72 -> 105895
E92: =+'h7'!B73 -> 31006 | F92: =+'h7'!C73 -> Գերմանիայի զարգացման վարկերի բանկի աջակցությամբ իրականացվող Ախուրյան գետի ջրային ռեսուրսների ինտեգրացված կառավարման ծրագրի երկրորդ փուլի շրջանակներում ջրային տնտեսության ենթակառուցվածքների հիմնանորոգում | G92: =G94 -> -1990000
F93: այդ թվում` ըստ կատարողների
F94: ՀՀ տարածքային կառավարման և ենթակառուցվածքների նախարարության ջրային կոմիտե | G94: =G96 -> -1990000
F95: այդ թվում` բյուջետային ծախսերի տնտեսագիտական դասակարգման հոդվածներ
F96: ԸՆԴԱՄԵՆԸ ԾԱԽՍԵՐ | G96: =G97 -> -1990000
F97: ՈՉ ՖԻՆԱՆՍԱԿԱՆ ԱԿՏԻՎՆԵՐԻ ԳԾՈՎ ԾԱԽՍԵՐ | G97: =G98 -> -1990000
F98: ՀԻՄՆԱԿԱՆ ՄԻՋՈՑՆԵՐ | G98: =G99 -> -1990000
F99: ՇԵՆՔԵՐ ԵՎ ՇԻՆՈՒԹՅՈՒՆՆԵՐ | G99: =G100 -> -1990000
F100: - Շենքերի և շինությունների շինարարություն | G100: =+'h7'!D81 -> -1990000
B101: 09 | F101: Տնտեսական հարաբերություններ (այլ դասերին չպատկանող) | G101: =G103 -> -151220
...

Sheet h6
G1: Հավելված N 6
G2: ՀՀ կառավարության 2024 թվականի
G3: ______________ ի ___Ն որոշման
A6: ՀԱՅԱՍՏԱՆԻ ՀԱՆՐԱՊԵՏՈՒԹՅԱՆ ԿԱՌԱՎԱՐՈՒԹՅԱՆ 2023 ԹՎԱԿԱՆԻ ԴԵԿՏԵՄԲԵՐԻ 28-Ի N 2323-Ն ՈՐՈՇՄԱՆ N 5 ՀԱՎԵԼՎԱԾԻ N 7 ԱՂՅՈՒՍԱԿՈՒՄ ԿԱՏԱՐՎՈՂ ԼՐԱՑՈՒՄՆԵՐԸ
G8: հազ. դրամ
A9: Ծրագրային դասիչ | C9: Բյուջետային հատկացումների գլխավոր կարգադրիչների, ծրագրերի, միջոցառումների, ծախսային ուղղությունների անվանումները | F9: Միջոցառումները կատարող պետական մարմինների և դրամաշնորհ ստացող տնտեսվարող սուբյեկտների անվանումները | G9: Ցուցանիշների փոփոխությունը (ավելացումները նշված են դրական նշանով)
A10: Ծրագիր | B10: Միջոցառում | G10: Տարի
A11: 1 | B11: 2 | C11: 3 | F11: 4 | G11: 5
A12: ՀՀ տարածքային կառավարման և ենթակառուցվածքների նախարարություն | G12: =+G16+G13 -> 925036.3
A13: 1019 | B13: Սոցիալական ներդրումների և տեղական զարգացման ծրագիր | G13: =+G14 -> 7370
B14: 12007 | C14: Համայնքների պոլիկլինիկաների տեխնիկական վերազինում | F14: ՀՀ տարածքային կառավարման և ենթակառուցվածքների նախարարություն | G14: =+G15 -> 7370
F15: Հայաստանի տարածքային զարգացման հիմնադրամ | G15: 7370
A16: 1072 | B16: Ջրամատակարարաման և ջրահեռացման բարելավում | G16: =G19+G17 -> 917666.3
B17: 12004 | C17: Մաքրման կայանների պահպանություն | F17: ՀՀ տարածքային կառավարման և ենթակառուցվածքների նախարարություն | G17: 16986
F18: Հայաստանի տարածքային զարգացման հիմնադրամ | G18: 16986
B19: 31015 | C19: Ջրամատակարարման և ջրահեռացման համակարգերի հիմնանորոգում որոշ բնակավայրերում | F19: ՀՀ տարածքային կառավարման և ենթակառուցվածքների նախարարություն | G19: =+G20 -> 900680.3
F20: Հայաստանի տարածքային զարգացման հիմնադրամ | G20: =457046.7+443633.6 -> 900680.3

Sheet h7
F1: Հավելված N 7
D2: ՀՀ կառավարության 2024 թվականի
D3: ______________ ի ___Ն որոշման
A5: «ՀԱՅԱUՏԱՆԻ ՀԱՆՐԱՊԵՏՈՒԹՅԱՆ 2024 ԹՎԱԿԱՆԻ ՊԵՏԱԿԱՆ ԲՅՈՒՋԵԻ ՄԱUԻՆ» OՐԵՆՔԻ N 1 ՀԱՎԵԼՎԱԾԻ N 4 ԱՂՅՈՒՍԱԿՈՒՄ ԵՎ ՀԱՅԱՍՏԱՆԻ ՀԱՆՐԱՊԵՏՈՒԹՅԱՆ ԿԱՌԱՎԱՐՈՒԹՅԱՆ 2023 ԹՎԱԿԱՆԻ ԴԵԿՏԵՄԲԵՐԻ 28-Ի N 2323-Ն ՈՐՈՇՄԱՆ N 5 ՀԱՎԵԼՎԱԾԻ N 3 ԱՂՅՈՒՍԱԿՈՒՄ ԿԱՏԱՐՎՈՂ ՓՈՓՈԽՈՒԹՅՈՒՆՆԵՐԸ
F6: հազ. դրամ
A7: Ծրագրային դասիչը | C7: Բյուջետային գլխավոր կարգադրիչների, ծրագրերի և միջոցառումների անվանումները | D7: Ցուցանիշների փոփոխությունը (ավելացումները նշված են դրական նշանով, իսկ նվազեցումները` փակագծերում)
D8: Տարի
D9: Ընդամենը | E9: այդ թվում`
A10: Ծրագիր | B10: Միջոց առում | E10: Վարկային միջոցներ | F10: Համաֆինան սավորում
C11: ԸՆԴԱՄԵՆԸ | D11: =+E11+F11 -> -4081057.2 | E11: =+E15+E128 -> -3459633.2 | F11: =+F15+F128 -> -621424
C12: այդ թվում`
C13: ԸՆԹԱՑԻԿ ԾԱԽՍԵՐ | D13: =+E13+F13 -> -109079 | E13: =+E39+E25+E33 -> -110800 | F13: =F23+F31+F39 -> 1721
C14: ՈՉ ՖԻՆԱՆՍԱԿԱՆ ԱԿՏԻՎՆԵՐԻ ԳԾՈՎ ԾԱԽՍԵՐ | D14: =+E14+F14 -> -3971978.2 | E14: =+E47+E58+E69+E78+E89+E102+E113+E122+E144+E135 -> -3348833.2 | F14: =+F47+F58+F69+F78+F89+F102+F113+F122+F144+F135 -> -623145
C15: ՀՀ ՏԱՐԱԾՔԱՅԻՆ ԿԱՌԱՎԱՐՄԱՆ ԵՎ ԵՆԹԱԿԱՌՈՒՑՎԱԾՔՆԵՐԻ ՆԱԽԱՐԱՐՈՒԹՅՈՒՆ | D15: =+E15+F15 -> -6384057.2 | E15: =+E16+E82+E95 -> -5379633.2 | F15: =+F16+F82+F95 -> -1004424
A16: 1004 | C16: Ոռոգման համակարգի առողջացում | D16: =+E16+F16 -> -6163033.2 | E16: =+E42+E53+E64+E73+E34+E18+E26 -> -5048258.2 | F16: =+F42+F53+F64+F73+F34+F18+F26 -> -1114775
C17: այդ թվում`
B18: 11005 | C18: Եվրասիական զարգացման բանկի աջակցությամբ իրականացվող ոռոգման համակարգերի զարգացման ծրագրի խորհրդատվություն և կառավարում | D18: =+D20 -> -80000 | E18: =+E20 -> -80000 | F18: =+F20 -> 0
C19: այդ թվում` ըստ կատարողների
C20: ՀՀ տարածքային կառավարման և ենթակառուցվածքների նախարարության ջրային կոմիտե | D20: =+D22 -> -80000 | E20: =+E22 -> -80000 | F20: =+F22 -> 0
C21: այդ թվում` բյուջետային ծախսերի տնտեսագիտական դասակարգման հոդվածներ
C22: ԸՆԴԱՄԵՆԸ ԾԱԽՍԵՐ | D22: =+E22+F22 -> -80000 | E22: =+E23 -> -80000 | F22: =+F23 -> 0
C23: ԸՆԹԱՑԻԿ ԾԱԽՍԵՐ | D23: =+E23+F23 -> -80000 | E23: =+E24 -> -80000 | F23: =+F24 -> 0
C24: ԱՅԼ ԾԱԽՍԵՐ | D24: =+E24+F24 -> -80000 | E24: =+E25 -> -80000 | F24: =+F25 -> 0
C25: Այլ ծախսեր | D25: =+E25+F25 -> -80000 | E25: -80000
B26: 11006 | C26: Ֆրանսիայի Հանրապետության կառավարության աջակցությամբ իրականացվող Վեդու ջրամբարի և որռոգման համակարգի կառուցման ծրագրի խորհրդատվություն և կառավարում | D26: =+D28 -> 11921 | E26: =+E28 -> 10200 | F26: =+F28 -> 1721
C27: այդ թվում` ըստ կատարողների
C28: ՀՀ տարածքային կառավարման և ենթակառուցվածքների նախարարության ջրային կոմիտե | D28: =+D30 -> 11921 | E28: =+E30 -> 10200 | F28: =+F30 -> 1721
C29: այդ թվում` բյուջետային ծախսերի տնտեսագիտական դասակարգման հոդվածներ
C30: ԸՆԴԱՄԵՆԸ ԾԱԽՍԵՐ | D30: =+E30+F30 -> 11921 | E30: =+E31 -> 10200 | F30: =+F31 -> 1721
C31: ԸՆԹԱՑԻԿ ԾԱԽՍԵՐ | D31: =+E31+F31 -> 11921 | E31: =+E32 -> 10200 | F31: =+F32 -> 1721
C32: ԱՅԼ ԾԱԽՍԵՐ | D32: =+E32+F32 -> 11921 | E32: =+E33 -> 10200 | F32: =+F33 -> 1721
C33: Այլ ծախսեր | D33: =+E33+F33 -> 11921 | E33: 10200 | F33: 1721
B34: 11007 | C34: Գերմանիայի զարգացման վարկերի բանկի աջակցությամբ իրականացվող Ախուրյան գետի ջրային ռեսուրսների ինտեգրացված կառավարում ծրագրի խորհրդատվություն և կառավարում | D34: =+D36 -> -41000 | E34: =+E36 -> -41000 | F34: =+F36 -> 0
C35: այդ թվում` ըստ կատարողների
C36: ՀՀ տարածքային կառավարման և ենթակառուցվածքների նախարարության ջրային կոմիտե | D36: =+D38 -> -41000 | E36: =+E38 -> -41000 | F36: =+F38 -> 0
C37: այդ թվում` բյուջետային ծախսերի տնտեսագիտական դասակարգման հոդվածներ
C38: ԸՆԴԱՄԵՆԸ ԾԱԽՍԵՐ | D38: =+E38+F38 -> -41000 | E38: =+E39 -> -41000 | F38: =+F39 -> 0
C39: ԸՆԹԱՑԻԿ ԾԱԽՍԵՐ | D39: =+E39+F39 -> -41000 | E39: =+E40 -> -41000 | F39: =+F40 -> 0
C40: ԱՅԼ ԾԱԽՍԵՐ | D40: =+E40+F40 -> -41000 | E40: =+E41 -> -41000 | F40: =+F41 -> 0
C41: Այլ ծախսեր | D41: =+E41+F41 -> -41000 | E41: -41000
B42: 31001 | C42: Ֆրանսիայի Հանրապետության կառավարության աջակցությամբ իրականացվող Վեդու ջրամբարի և ոռոգման համակարգի կառուցում | D42: =+D44 -> -303200 | E42: =+E44 -> -405000 | F42: =+F44 -> 101800
C43: այդ թվում` ըստ կատարողների
C44: ՀՀ տարածքային կառավարման և ենթակառուցվածքների նախարարության ջրային կոմիտե | D44: =+D46 -> -303200 | E44: =+E46 -> -405000 | F44: =+F46 -> 101800
C45: այդ թվում` բյուջետային ծախսերի տնտեսագիտական դասակարգման հոդվածներ
C46: ԸՆԴԱՄԵՆԸ ԾԱԽՍԵՐ | D46: =+E46+F46 -> -303200 | E46: =+E47 -> -405000 | F46: =+F47 -> 101800
C47: ՈՉ ՖԻՆԱՆՍԱԿԱՆ ԱԿՏԻՎՆԵՐԻ ԳԾՈՎ ԾԱԽՍԵՐ | D47: =+E47+F47 -> -303200 | E47: =+E48 -> -405000 | F47: =+F48 -> 101800
C48: ՀԻՄՆԱԿԱՆ ՄԻՋՈՑՆԵՐ | D48: =+E48+F48 -> -303200 | E48: =+E50+E51 -> -405000 | F48: =+F50+F51 -> 101800
C49: ՇԵՆՔԵՐ ԵՎ ՇԻՆՈՒԹՅՈՒՆՆԵՐ | D49: =+E49+F49 -> -292200 | E49: =E50 -> -396000 | F49: =F50 -> 103800
C50: - Շենքերի և շինությունների շինարարություն | D50: =+E50+F50 -> -292200 | E50: -396000 | F50: 103800
C51: ՄԵՔԵՆԱՆԵՐ ԵՎ ՍԱՐՔԱՎՈՐՈՒՄՆԵՐ | D51: =+E51+F51 -> -11000 | E51: =E52 -> -9000 | F51: =F52 -> -2000
C52: - Վարչական սարքավորումներ | D52: =+E52+F52 -> -11000 | E52: -9000 | F52: -2000
B53: 31004 | C53: Գերմանիայի զարգացման վարկերի բանկի աջակցությամբ իրականացվող Ախուրյան գետի ջրային ռեսուրսների ինտեգրված կառավարման ծրագրի շրջանակներում ջրային տնտեսության ենթակառուցվածքների հիմնանորոգում | D53: =+D55 -> -3866649.2 | E53: =+E55 -> -2842458.2 | F53: =+F55 -> -1024191
C54: այդ թվում` ըստ կատարողների
C55: ՀՀ տարածքային կառավարման և ենթակառուցվածքների նախարարության ջրային կոմիտե | D55: =+D57 -> -3866649.2 | E55: =+E57 -> -2842458.2 | F55: =+F57 -> -1024191
C56: այդ թվում` բյուջետային ծախսերի տնտեսագիտական դասակարգման հոդվածներ
C57: ԸՆԴԱՄԵՆԸ ԾԱԽՍԵՐ | D57: =+E57+F57 -> -3866649.2 | E57: =+E58 -> -2842458.2 | F57: =+F58 -> -1024191
C58: ՈՉ ՖԻՆԱՆՍԱԿԱՆ ԱԿՏԻՎՆԵՐԻ ԳԾՈՎ ԾԱԽՍԵՐ | D58: =+E58+F58 -> -3866649.2 | E58: =+E59 -> -2842458.2 | F58: =+F59 -> -1024191
C59: ՀԻՄՆԱԿԱՆ ՄԻՋՈՑՆԵՐ | D59: =+E59+F59 -> -3866649.2 | E59: =+E61+E62 -> -2842458.2 | F59: =+F61+F62 -> -1024191
C60: ՇԵՆՔԵՐ ԵՎ ՇԻՆՈՒԹՅՈՒՆՆԵՐ | D60: =+E60+F60 -> -3349497.2 | E60: =E61 -> -2842458.2 | F60: =F61 -> -507039
C61: - Շենքերի և շինությունների շինարարություն | D61: =+E61+F61 -> -3349497.2 | E61: -2842458.2 | F61: -507039
C62: ԱՅԼ ՀԻՄՆԱԿԱՆ ՄԻՋՈՑՆԵՐ | D62: =+E62+F62 -> -517152 | E62: =E63 -> 0 | F62: =F63 -> -517152
C63: - Նախագծահետազոտական ծախսեր | D63: =+E63+F63 -> -517152 | F63: -517152
B64: 31005 | C64: Եվրասիական զարգացման բանկի աջակցությամբ իրականացվող ոռոգման համակարգերի զարգացման ծրագրի շրջանակներում ջրային տնտեսության ենթակառուցվածքների հիմնանորոգում | D64: =+D66 -> 105895 | E64: =+E66 -> 160000 | F64: =+F66 -> -54105
C65: այդ թվում` ըստ կատարողների
C66: ՀՀ տարածքային կառավարման և ենթակառուցվածքների նախարարության ջրային կոմիտե | D66: =+D68 -> 105895 | E66: =+E68 -> 160000 | F66: =+F68 -> -54105
C67: այդ թվում` բյուջետային ծախսերի տնտեսագիտական դասակարգման հոդվածներ
C68: ԸՆԴԱՄԵՆԸ ԾԱԽՍԵՐ | D68: =+E68+F68 -> 105895 | E68: =+E69 -> 160000 | F68: =+F69 -> -54105
C69: ՈՉ ՖԻՆԱՆՍԱԿԱՆ ԱԿՏԻՎՆԵՐԻ ԳԾՈՎ ԾԱԽՍԵՐ | D69: =+E69+F69 -> 105895 | E69: =+E70 -> 160000 | F69: =+F70 -> -54105
C70: ՀԻՄՆԱԿԱՆ ՄԻՋՈՑՆԵՐ | D70: =+E70+F70 -> 105895 | E70: =+E72 -> 160000 | F70: =+F72 -> -54105
C71: ՇԵՆՔԵՐ ԵՎ ՇԻՆՈՒԹՅՈՒՆՆԵՐ | D71: =+E71+F71 -> 105895 | E71: =E72 -> 160000 | F71: =F72 -> -54105
C72: - Շենքերի և շինությունների շինարարություն | D72: =+E72+F72 -> 105895 | E72: 160000 | F72: -54105
B73: 31006 | C73: Գերմանիայի զարգացման վարկերի բանկի աջակցությամբ իրականացվող Ախուրյան գետի ջրային ռեսուրսների ինտեգրացված կառավարման ծրագրի երկրորդ փուլի շրջանակներում ջրային տնտեսության ենթակառուցվածքների հիմնանորոգում | D73: =+D75 -> -1990000 | E73: =+E75 -> -1850000 | F73: =+F75 -> -140000
C74: այդ թվում` ըստ կատարողների
C75: ՀՀ տարածքային կառավարման և ենթակառուցվածքների նախարարության ջրային կոմիտե | D75: =+D77 -> -1990000 | E75: =+E77 -> -1850000 | F75: =+F77 -> -140000
C76: այդ թվում` բյուջետային ծախսերի տնտեսագիտական դասակարգման հոդվածներ
C77: ԸՆԴԱՄԵՆԸ ԾԱԽՍԵՐ | D77: =+E77+F77 -> -1990000 | E77: =+E78 -> -1850000 | F77: =+F78 -> -140000
C78: ՈՉ ՖԻՆԱՆՍԱԿԱՆ ԱԿՏԻՎՆԵՐԻ ԳԾՈՎ ԾԱԽՍԵՐ | D78: =+E78+F78 -> -1990000 | E78: =+E79 -> -1850000 | F78: =+F79 -> -140000
C79: ՀԻՄՆԱԿԱՆ ՄԻՋՈՑՆԵՐ | D79: =+E79+F79 -> -1990000 | E79: =+E81 -> -1850000 | F79: =+F81 -> -140000
C80: ՇԵՆՔԵՐ ԵՎ ՇԻՆՈՒԹՅՈՒՆՆԵՐ | D80: =+E80+F80 -> -1990000 | E80: =E81 -> -1850000 | F80: =F81 -> -140000
C81: - Շենքերի և շինությունների շինարարություն | D81: =+E81+F81 -> -1990000 | E81: -1850000 | F81: -140000
A82: 1019 | C82: Սոցիալական ներդրումների և տեղական զարգացման ծրագիր | D82: =+E82+F82 -> -92590 | E82: =+E84 -> 78600 | F82: =+F84 -> -171190
C83: այդ թվում`
B84: 12004 | C84: Համաշխարհային բանկի աջակցությամբ իրականացվող Սոցիալական ներդրումների և տեղական զարգացման ծրագրի լրացուցիչ ֆինանսավորման վարկի շրջանակներում ՀՀ համայնքային և միջհամայնքային ենթակառուցվածքների որակի, օգտագործման և հասանելիության բարելավում | D84: =+D86 -> -92590 | E84: =+E86 -> 78600 | F84: =+F86 -> -171190
C85: այդ թվում` ըստ կատարողների
C86: ՀՀ տարածքային կառավարման և ենթակառուցվածքների նախարարություն | D86: =+D88 -> -92590 | E86: =+E88 -> 78600 | F86: =+F88 -> -171190
C87: այդ թվում` բյուջետային ծախսերի տնտեսագիտական դասակարգման հոդվածներ
C88: ԸՆԴԱՄԵՆԸ ԾԱԽՍԵՐ | D88: =+E88+F88 -> -92590 | E88: =+E89 -> 78600 | F88: =+F89 -> -171190
C89: ՈՉ ՖԻՆԱՆՍԱԿԱՆ ԱԿՏԻՎՆԵՐԻ ԳԾՈՎ ԾԱԽՍԵՐ | D89: =+E89+F89 -> -92590 | E89: =+E90 -> 78600 | F89: =+F90 -> -171190
C90: ՀԻՄՆԱԿԱՆ ՄԻՋՈՑՆԵՐ | D90: =+E90+F90 -> -92590 | E90: =+E92+E94 -> 78600 | F90: =+F92+F94 -> -171190
C91: ՇԵՆՔԵՐ ԵՎ ՇԻՆՈՒԹՅՈՒՆՆԵՐ | D91: =+E91+F91 -> 112400 | E91: =E92 -> 87200 | F91: =F92 -> 25200
C92: - Շենքերի և շինությունների շինարարություն | D92: =+E92+F92 -> 112400 | E92: 87200 | F92: 25200
C93: ՄԵՔԵՆԱՆԵՐ ԵՎ ՍԱՐՔԱՎՈՐՈՒՄՆԵՐ | D93: =+E93+F93 -> -204990 | E93: =+E94 -> -8600 | F93: =+F94 -> -196390
C94: - Վարչական սարքավորումներ | D94: =+E94+F94 -> -204990 | E94: -8600 | F94: -196390
A95: 1072 | C95: Ջրամատակարարաման և ջրահեռացման բարելավում | D95: =+E95+F95 -> -128434 | E95: =+E97+E108+E117 -> -409975 | F95: =+F97+F108+F117 -> 281541
C96: այդ թվում`
B97: 31001 | C97: Գերմանիայի զարգացման վարկերի բանկի աջակցությամբ իրականացվող ջրամատակարարման և ջրահեռացման ենթակառուցվածքների վերականգնման ծրագրի երրորդ փուլի շրջանակներում ջրամատակարարման և ջրահեռացման ենթակառուցվածքների հիմնանորոգում | D97: =+D99 -> -496975 | E97: =+E99 -> -726975 | F97: =+F99 -> 230000
C98: այդ թվում` ըստ կատարողների
C99: ՀՀ տարածքային կառավարման և ենթակառուցվածքների նախարարության ջրային կոմիտե | D99: =+D101 -> -496975 | E99: =+E101 -> -726975 | F99: =+F101 -> 230000
C100: այդ թվում` բյուջետային ծախսերի տնտեսագիտական դասակարգման հոդվածներ
C101: ԸՆԴԱՄԵՆԸ ԾԱԽՍԵՐ | D101: =+E101+F101 -> -496975 | E101: =+E102 -> -726975 | F101: =+F102 -> 230000
...

Sheet h8
F1: Հավելված N 8
F2: ՀՀ կառավարության 2024 թվականի
F3: ______________ ի ___Ն որոշման
A5: «ՀԱՅԱUՏԱՆԻ ՀԱՆՐԱՊԵՏՈՒԹՅԱՆ 2024 ԹՎԱԿԱՆԻ ՊԵՏԱԿԱՆ ԲՅՈՒՋԵԻ ՄԱUԻՆ» OՐԵՆՔԻ N 1 ՀԱՎԵԼՎԱԾԻ N 5 ԱՂՅՈՒՍԱԿՈՒՄ ԵՎ ՀԱՅԱՍՏԱՆԻ ՀԱՆՐԱՊԵՏՈՒԹՅԱՆ ԿԱՌԱՎԱՐՈՒԹՅԱՆ 2023 ԹՎԱԿԱՆԻ ԴԵԿՏԵՄԲԵՐԻ 28-Ի N 2323-Ն ՈՐՈՇՄԱՆ N 5 ՀԱՎԵԼՎԱԾԻ N 4 ԱՂՅՈՒՍԱԿՈՒՄ ԿԱՏԱՐՎՈՂ ՓՈՓՈԽՈՒԹՅՈՒՆՆԵՐԸ
F6: հազ. դրամ
A7: Ծրագրային դասիչը | C7: Բյուջետային գլխավոր կարգադրիչների, ծրագրերի և միջոցառումների անվանումները | D7: Ցուցանիշների փոփոխությունը (ավելացումները նշված են դրական նշանով, իսկ նվազեցումները` փակագծերում)
D8: Տարի
D9: Ընդամենը | E9: այդ թվում`
A10: Ծրագիր | B10: Միջոցառում | E10: Դրամաշնորհային միջոցներ | F10: Համաֆինան սավորում
C11: ԸՆԴԱՄԵՆԸ | D11: =+E11+F11 -> -1666657.9 | E11: =+E15 -> -1363045.6 | F11: =+F15 -> -303612.3 | I11: =+F11+'h7'!F11+'h6'!G12 -> 0
C12: այդ թվում`
C13: ԸՆԹԱՑԻԿ ԾԱԽՍԵՐ | D13: =+E13+F13 -> -297704.4 | E13: =+E23+E31+E52 -> -265742.2 | F13: =+F23+F31+F52 -> -31962.2
C14: ՈՉ ՖԻՆԱՆՍԱԿԱՆ ԱԿՏԻՎՆԵՐԻ ԳԾՈՎ ԾԱԽՍԵՐ | D14: =+E14+F14 -> -1368953.5 | E14: =+E41+E60 -> -1097303.4 | F14: =+F41+F60 -> -271650.1
C15: ՀՀ ՏԱՐԱԾՔԱՅԻՆ ԿԱՌԱՎԱՐՄԱՆ ԵՎ ԵՆԹԱԿԱՌՈՒՑՎԱԾՔՆԵՐԻ ՆԱԽԱՐԱՐՈՒԹՅՈՒՆ | D15: =+E15+F15 -> -1666657.9 | E15: =+E16+E34+E45 -> -1363045.6 | F15: =+F16+F34+F45 -> -303612.3
A16: 1004 | C16: Ոռոգման համակարգի առողջացում | D16: =+E16+F16 -> -292875.7 | E16: =+E18+E26 -> -261718.3 | F16: =+F18+F26 -> -31157.4
C17: այդ թվում`
B18: 11009 | C18: Գերմանիայի զարգացման վարկերի բանկի աջակցությամբ իրականացվող Ախուրյան գետի ջրային ռեսուրսների ինտեգրացված կառավարման դրամաշնորհային ծրագիր | D18: =+D20 -> -9099.8 | E18: =+E20 -> -7030.3 | F18: =+F20 -> -2069.5
C19: այդ թվում` ըստ կատարողների
C20: ՀՀ տարածքային կառավարման և ենթակառուցվածքների նախարարության ջրային կոմիտե | D20: =+D22 -> -9099.8 | E20: =+E22 -> -7030.3 | F20: =+F22 -> -2069.5
C21: այդ թվում` բյուջետային ծախսերի տնտեսագիտական դասակարգման հոդվածներ
C22: ԸՆԴԱՄԵՆԸ ԾԱԽՍԵՐ | D22: =+E22+F22 -> -9099.8 | E22: =+E23 -> -7030.3 | F22: =+F23 -> -2069.5
C23: ԸՆԹԱՑԻԿ ԾԱԽՍԵՐ | D23: =+E23+F23 -> -9099.8 | E23: =+E24 -> -7030.3 | F23: =+F24 -> -2069.5
C24: ԱՅԼ ԾԱԽՍԵՐ | D24: =+E24+F24 -> -9099.8 | E24: =+E25 -> -7030.3 | F24: =+F25 -> -2069.5
C25: Այլ ծախսեր | D25: =+E25+F25 -> -9099.8 | E25: -7030.3 | F25: -2069.5
B26: 11011 | C26: Զարգացման ֆրանսիական գործակալության աջակցությամբ իրականացվող ոռոգման ոլորտի ֆինանսական կայունության և ոռոգման կառավարման կարողությունների բարելավման դրամաշնորհային ծրագրի խորհրդատվություն և կառավարում | D26: =+D28 -> -283775.9 | E26: =+E28 -> -254688 | F26: =+F28 -> -29087.9
C27: այդ թվում` ըստ կատարողների
C28: ՀՀ տարածքային կառավարման և ենթակառուցվածքների նախարարության ջրային կոմիտե | D28: =+D30 -> -283775.9 | E28: =+E30 -> -254688 | F28: =+F30 -> -29087.9
C29: այդ թվում` բյուջետային ծախսերի տնտեսագիտական դասակարգման հոդվածներ
C30: ԸՆԴԱՄԵՆԸ ԾԱԽՍԵՐ | D30: =+E30+F30 -> -283775.9 | E30: =+E31 -> -254688 | F30: =+F31 -> -29087.9
C31: ԸՆԹԱՑԻԿ ԾԱԽՍԵՐ | D31: =+E31+F31 -> -283775.9 | E31: =+E32 -> -254688 | F31: =+F32 -> -29087.9
C32: ԱՅԼ ԾԱԽՍԵՐ | D32: =+E32+F32 -> -283775.9 | E32: =+E33 -> -254688 | F32: =+F33 -> -29087.9
C33: Այլ ծախսեր | D33: =+E33+F33 -> -283775.9 | E33: -254688 | F33: =-19717.9-8000-1370 -> -29087.9
A34: 1019 | C34: Սոցիալական ներդրումների և տեղական զարգացման ծրագիր | D34: =+E34+F34 -> -66000 | E34: =+E36 -> -66000 | F34: =+F36 -> 0
C35: այդ թվում`
B36: 12005 | C36: ԱՄՆ ՄԶԳ աջակցությամբ իրականացվող Տեղականինքնակառավարման և ապակենտրոնացման բարեփոխումների դրամաշնորհային ծրագրի շրջանակներում Տեղական կառավարման համակարգերի հզորացում,ապակենտրոնացման գործընթացներին աջակցություն, պիլոտային ծրագրերի իրականացում | D36: =+D38 -> -66000 | E36: =+E38 -> -66000 | F36: =+F38 -> 0
C37: այդ թվում` ըստ կատարողների
C38: ՀՀ տարածքային կառավարման և ենթակառուցվածքների նախարարություն | D38: =+D40 -> -66000 | E38: =+E40 -> -66000 | F38: =+F40 -> 0
C39: այդ թվում` բյուջետային ծախսերի տնտեսագիտական դասակարգման հոդվածներ
C40: ԸՆԴԱՄԵՆԸ ԾԱԽՍԵՐ | D40: =+E40+F40 -> -66000 | E40: =+E41 -> -66000 | F40: =+F41 -> 0
C41: ՈՉ ՖԻՆԱՆՍԱԿԱՆ ԱԿՏԻՎՆԵՐԻ ԳԾՈՎ ԾԱԽՍԵՐ | D41: =+E41+F41 -> -66000 | E41: =+E42 -> -66000 | F41: =+F42 -> 0
C42: ՀԻՄՆԱԿԱՆ ՄԻՋՈՑՆԵՐ | D42: =+E42+F42 -> -66000 | E42: =+E44 -> -66000 | F42: =+F44 -> 0
C43: ՄԵՔԵՆԱՆԵՐ ԵՎ ՍԱՐՔԱՎՈՐՈՒՄՆԵՐ | D43: =+E43+F43 -> -66000 | E43: =E44 -> -66000 | F43: =+F44 -> 0
C44: - Վարչական սարքավորումներ | D44: =+E44+F44 -> -66000 | E44: -66000
A45: 1072 | C45: Ջրամատակարարաման և ջրահեռացման բարելավում | D45: =+E45+F45 -> -1307782.2 | E45: =+E47+E55 -> -1035327.3 | F45: =+F47+F55 -> -272454.9
C46: այդ թվում`
B47: 11004 | C47: Եվրոպական միության հարևանության ներդրումային ծրագրի աջակցությամբ իրականացվող Երևանի ջրամատակարարման բարելավման դրամաշնորհային ծրագիր | D47: =+D49 -> -4828.7 | E47: =+E49 -> -4023.9 | F47: =+F49 -> -804.8
C48: այդ թվում` ըստ կատարողների
C49: ՀՀ տարածքային կառավարման և ենթակառուցվածքների նախարարության ջրային կոմիտե | D49: =+D51 -> -4828.7 | E49: =+E51 -> -4023.9 | F49: =+F51 -> -804.8
C50: այդ թվում` բյուջետային ծախսերի տնտեսագիտական դասակարգման հոդվածներ
C51: ԸՆԴԱՄԵՆԸ ԾԱԽՍԵՐ | D51: =+E51+F51 -> -4828.7 | E51: =+E52 -> -4023.9 | F51: =+F52 -> -804.8
C52: ԸՆԹԱՑԻԿ ԾԱԽՍԵՐ | D52: =+E52+F52 -> -4828.7 | E52: =+E53 -> -4023.9 | F52: =+F53 -> -804.8
C53: ԱՅԼ ԾԱԽՍԵՐ | D53: =+E53+F53 -> -4828.7 | E53: =+E54 -> -4023.9 | F53: =+F54 -> -804.8
C54: Այլ ծախսեր | D54: =+E54+F54 -> -4828.7 | E54: -4023.9 | F54: -804.8
B55: 12001 | C55: Գերմանիայի զարգացման և Եվրոպական միության հարևանության ներդրումային բանկի աջակցությամբ իրականացվող ջրամատակարարման և ջրահեռացման ենթակառուցվածքների դրամաշնորհային ծրագիր` երրորդ փուլ | D55: =+D57 -> -1302953.5 | E55: =+E57 -> -1031303.4 | F55: =+F57 -> -271650.1
C56: այդ թվում` ըստ կատարողների
C57: ՀՀ տարածքային կառավարման և ենթակառուցվածքների նախարարության ջրային կոմիտե | D57: =+D59 -> -1302953.5 | E57: =+E59 -> -1031303.4 | F57: =+F59 -> -271650.1
C58: այդ թվում` բյուջետային ծախսերի տնտեսագիտական դասակարգման հոդվածներ
C59: ԸՆԴԱՄԵՆԸ ԾԱԽՍԵՐ | D59: =+E59+F59 -> -1302953.5 | E59: =+E60 -> -1031303.4 | F59: =+F60 -> -271650.1
C60: ՈՉ ՖԻՆԱՆՍԱԿԱՆ ԱԿՏԻՎՆԵՐԻ ԳԾՈՎ ԾԱԽՍԵՐ | D60: =+E60+F60 -> -1302953.5 | E60: =+E61 -> -1031303.4 | F60: =+F61 -> -271650.1
C61: ՀԻՄՆԱԿԱՆ ՄԻՋՈՑՆԵՐ | D61: =+E61+F61 -> -1302953.5 | E61: =+E63+E64 -> -1031303.4 | F61: =+F63+F64 -> -271650.1
C62: ՇԵՆՔԵՐ ԵՎ ՇԻՆՈՒԹՅՈՒՆՆԵՐ | D62: =+E62+F62 -> -1282953.5 | E62: =E63 -> -1024303.4 | F62: =F63 -> -258650.1
C63: - Շենքերի և շինությունների շինարարություն | D63: =+E63+F63 -> -1282953.5 | E63: -1024303.4 | F63: -258650.1
C64: ԱՅԼ ՀԻՄՆԱԿԱՆ ՄԻՋՈՑՆԵՐ | D64: =+E64+F64 -> -20000 | E64: =E65 -> -7000 | F64: =F65 -> -13000
C65: - Նախագծահետազոտական ծախսեր | D65: =+E65+F65 -> -20000 | E65: -7000 | F65: -13000

Sheet h9
A1: Հավելված N 9
A2: ՀՀ կառավարության 2024 թվականի
A3: -ի N -Ն որոշման
A5: ՀԱՅԱՍՏԱՆԻ ՀԱՆՐԱՊԵՏՈՒԹՅԱՆ ԿԱՌԱՎԱՐՈՒԹՅԱՆ 2023 ԹՎԱԿԱՆԻ ԴԵԿՏԵՄԲԵՐԻ 28-Ի N 2323-Ն ՈՐՈՇՄԱՆ N 9 ՀԱՎԵԼՎԱԾԻ N 9.7, 9.13 ԵՎ N 9.48 ԱՂՅՈՒՍԱԿՆԵՐՈՒՄ ԿԱՏԱՐՎՈՂ ՓՈՓՈԽՈՒԹՅՈՒՆՆԵՐԸ ԵՎ ԼՐԱՑՈՒՄՆԵՐԸ
C6: Աղյուսակ 9.7
A7: ՀՀ տարածքային կառավարման և ենթակառուցվածքների նախարարություն
A8: ՄԱՍ 2. ՊԵՏԱԿԱՆ ՄԱՐՄՆԻ ԳԾՈՎ ԱՐԴՅՈՒՆՔԱՅԻՆ (ԿԱՏԱՐՈՂԱԿԱՆ) ՑՈՒՑԱՆԻՇՆԵՐԸ
A10: Ծրագրի դասիչը | B10: Ծրագրի անվանումը
A11: 1004 | B11: Ոռոգման համակարգի առողջացում
A13: Ծրագրի միջոցառումները
A14: Ծրագրի դասիչը` | B14: 1004 | C14: Ցուցանիշների փոփոխությունը (նվազեցումները նշված են փակագծերում)
A16: Միջոցառման դասիչը` | B16: =+'h4'!B18 -> 11005 | C16: Տարի
A17: Միջոցառման անվանումը` | B17: Եվրասիական զարգացման բանկի աջակցությամբ իրականացվող ոռոգման համակարգերի զարգացման ծրագրի խորհրդատվություն և կառավարում
A18: Նկարագրությունը` | B18: Եվրասիական զարգացման բանկի աջակցությամբ իրականացվող ոռոգման համակարգերի զարգացման ծրագրի համակարգում և ղեկավարում
A19: Միջոցառման տեսակը` | B19: Ծառայությունների մատուցում
A20: Ծառայությունը մատուցող կազմակերպության անվանումը | B20: Մասնագիտացված միավոր
A21: Արդյունքի չափորոշիչներ
A22: Կառավարվող/վերահսկվող խորհրդատվական պայմանագրերի քանակը, հատ | C22: -2
A23: Միջոցառման վրա կատարվող ծախսը (հազար դրամ) | C23: =+'h4'!D18 -> -80000
A26: Ծրագրի դասիչը` | B26: 1004 | C26: Ցուցանիշների փոփոխությունը (ավելացումները նշված են դրական նշանով)
A28: Միջոցառման դասիչը` | B28: =+'h4'!B24 -> 11006 | C28: Տարի
A29: Միջոցառման անվանումը` | B29: Ֆրանսիայի Հանրապետության կառավարության աջակցությամբ իրականացվող Վեդու ջրամբարի և ոռոգման համակարգի կառուցման ծրագրի խորհրդատվություն և կառավարում
A30: Նկարագրությունը` | B30: Ֆրանսիայի Հանրապետության կառավարության աջակցությամբ իրականացվող Վեդու ջրամբարի և ոռոգման համակարգի համակարգում և ղեկավարում
A31: Միջոցառման տեսակը` | B31: Ծառայությունների մատուցում
A32: Ծառայությունը մատուցող կազմակերպության անվանումը | B32: Մասնագիտացված միավոր
A33: Արդյունքի չափորոշիչներ
A34: Կառավարվող/վերահսկվող խորհրդատվական պայմանագրերի քանակը, հատ | C34: 1
A35: Միջոցառման վրա կատարվող ծախսը (հազար դրամ) | C35: =+'h4'!D24 -> 11921
A38: Ծրագրի դասիչը` | B38: 1004 | C38: Ցուցանիշների փոփոխությունը (նվազեցումները նշված են փակագծերում)
A40: Միջոցառման դասիչը` | B40: =+'h4'!B30 -> 11007 | C40: Տարի
A41: Միջոցառման անվանումը` | B41: Գերմանիայի զարգացման վարկերի բանկի աջակցությամբ իրականացվող Ախուրյան գետի ջրային ռեսուրսների ինտեգրացված կառավարում ծրագրի խորհրդատվություն և կառավարում
A42: Նկարագրությունը` | B42: Գերմանիայի զարգացման վարկերի բանկի աջակցությամբ իրականացվող Ախուրյան գետի ջրային ռեսուրսների ինտեգրացված կառավարում ծրագրի համակարգում և ղեկավարում
A43: Միջոցառման տեսակը` | B43: Ծառայությունների մատուցում
A44: Ծառայությունը մատուցող կազմակերպության անվանումը | B44: Մասնագիտացված միավոր
A45: Արդյունքի չափորոշիչներ
A46: Միջոցառման վրա կատարվող ծախսը (հազար դրամ) | C46: =+'h4'!D30 -> -41000
A49: Ծրագրի դասիչը` | B49: 1004 | C49: Ցուցանիշների փոփոխությունը (նվազեցումները նշված են փակագծերում)
A51: Միջոցառման դասիչը` | B51: =+'h4'!B36 -> 11009 | C51: Տարի
A52: Միջոցառման անվանումը` | B52: Գերմանիայի զարգացման վարկերի բանկի աջակցությամբ իրականացվող Ախուրյան գետի ջրային ռեսուրսների ինտեգրացված կառավարման դրամաշնորհային ծրագիր
A53: Նկարագրությունը` | B53: Գերմանիայի զարգացման վարկերի բանկի աջակցությամբ իրականացվող Ախուրյան գետի ջրային ռեսուրսների ինտեգրացված կառավարման դրամաշնորհային ծրագրի համակարգում և ղեկավարում
A54: Միջոցառման տեսակը` | B54: Ծառայությունների մատուցում
A55: Ծառայությունը մատուցող կազմակերպության անվանումը | B55: Մասնագիտացված միավոր
A56: Արդյունքի չափորոշիչներ
A57: Միջոցառման վրա կատարվող ծախսը (հազար դրամ) | C57: =+'h4'!D36 -> -9099.8
A60: Ծրագրի դասիչը` | B60: 1004 | C60: Ցուցանիշների փոփոխությունը (նվազեցումները նշված են փակագծերում)
A62: Միջոցառման դասիչը` | B62: =+'h4'!B42 -> 11011 | C62: Տարի
A63: Միջոցառման անվանումը` | B63: Զարգացման ֆրանսիական գործակալության աջակցությամբ իրականացվող ոռոգման ոլորտի ֆինանսական կայունության և ոռոգման կառավարման կարողությունների բարելավման դրամաշնորհային ծրագրի խորհրդատվություն և կառավարում
A64: Նկարագրությունը` | B64: Զարգացման ֆրանսիական գործակալության աջակցությամբ իրականացվող ոռոգման ոլորտի ֆինանսական կայունության և ոռոգման կառավարման կարողությունն»րի բար»լավման ծրագրի համակարգում և ղ»կավարում
A65: Միջոցառման տեսակը` | B65: Ծառայությունների մատուցում
A66: Ծառայությունը մատուցող կազմակերպության անվանումը | B66: Մասնագիտացված միավոր
A67: Արդյունքի չափորոշիչներ
A68: Միջոցառման վրա կատարվող ծախսը (հազար դրամ) | C68: =+'h4'!D42 -> -283775.9
A72: Ծրագրի դասիչը` | B72: 1004 | C72: Ցուցանիշների փոփոխությունը (նվազեցումները նշված են փակագծերում)
A74: Միջոցառման դասիչը` | B74: =+'h4'!B48 -> 31001 | C74: Տարի
A75: Միջոցառման անվանումը` | B75: Ֆրանսիայի Հանրապետության կառավարության աջակցությամբ իրականացվող Վեդու ջրամբարի և ոռոգման համակարգի կառուցում
A76: Նկարագրությունը` | B76: Ֆրանսիայի Հանրապետության կառավարության աջակցությամբ իրականացվող Վեդու ջրամբարի և ոռոգման համակարգի կառուցման ծրագիր
A77: Միջոցառման տեսակը` | B77: Պետական մարմինների կողմից օգտագործվող ոչ ֆինանսական ակտիվների հետ գործառնություններ
A78: Ակտիվն օգտագործող կազմակերպության(ների) անվանում(ները)՛ | B78: Մասնագիտացված միավոր
A79: Արդյունքի չափորոշիչներ
A80: Միջոցառման վրա կատարվող ծախսը (հազար դրամ) | C80: =+'h7'!D42 -> -303200
A83: Ծրագրի դասիչը` | B83: 1004 | C83: Ցուցանիշների փոփոխությունը (նվազեցումները նշված են փակագծերում)
A85: Միջոցառման դասիչը` | B85: =+'h4'!B54 -> 31004 | C85: Տարի
A86: Միջոցառման անվանումը` | B86: Գերմանիայի զարգացման վարկերի բանկի աջակցությամբ իրականացվող Ախուրյան գետի ջրային ռեսուրսների ինտեգրված կառավարման ծրագրի շրջանակներում ջրային տնտեսության ենթակառուցվածքների հիմնանորոգում
A87: Նկարագրությունը` | B87: Գերմանիայի զարգացման վարկերի բանկի աջակցությամբ իրականացվող Ախուրյան գետի ջրային ռեսուրսների ինտեգրված կառավարման ծրագիր
A88: Միջոցառման տեսակը` | B88: Պետական մարմինների կողմից օգտագործվող ոչ ֆինանսական ակտիվների հետ գործառնություններ
A89: Ակտիվն օգտագործող կազմակերպության(ների) անվանում(ները)՛ | B89: Մասնագիտացված միավոր
A90: Արդյունքի չափորոշիչներ
A91: Թունելների վերակառուցում, մ | C91: -270
A92: Միջոցառման վրա կատարվող ծախսը (հազար դրամ) | C92: ='h4'!D54 -> -3866649.2
A95: Ծրագրի դասիչը` | B95: 1004 | C95: Ցուցանիշների փոփոխությունը (ավելացումները նշված են դրական նշանով)
A97: Միջոցառման դասիչը` | B97: =+'h4'!B60 -> 31005 | C97: Տարի
A98: Միջոցառման անվանումը` | B98: =+'h4'!C61 -> Եվրասիական զարգացման բանկի աջակցությամբ իրականացվող ոռոգման համակարգերի զարգացման ծրագրի շրջանակներում ջրային տնտեսության ենթակառուցվածքների հիմնանորոգում
A99: Նկարագրությունը` | B99: =+'h4'!C63 -> Եվրասիական զարգացման բանկի աջակցությամբ իրականացվող ոռոգման համակարգերի զարգացման ծրագիր
A100: Միջոցառման տեսակը` | B100: =+'h4'!C65 -> Պետական մարմինների կողմից օգտագործվող ոչ ֆինանսական ակտիվների հետ գործառնություններ
A101: Ակտիվն օգտագործող կազմակերպության(ների) անվանում(ները)՛ | B101: Մասնագիտացված միավոր
A102: Արդյունքի չափորոշիչներ
A103: Հիմնանորոգվող ոռոգման ցանցերի երկարություն, կմ | C103: 2.7
A104: Միջոցառման վրա կատարվող ծախսը (հազար դրամ) | C104: =+'h7'!D64 -> 105895
A107: Ծրագրի դասիչը` | B107: 1004 | C107: Ցուցանիշների փոփոխությունը (նվազեցումները նշված են փակագծերում)
A109: Միջոցառման դասիչը` | B109: =+'h4'!B66 -> 31006 | C109: Տարի
A110: Միջոցառման անվանումը` | B110: =+'h4'!C67 -> Գերմանիայի զարգացման վարկերի բանկի աջակցությամբ իրականացվող Ախուրյան գետի ջրային ռեսուրսների ինտեգրացված կառավարման ծրագրի երկրորդ փուլի շրջանակներում ջրային տնտեսության ենթակառուցվածքների հիմնանորոգում
A111: Նկարագրությունը` | B111: =+'h4'!C69 -> Գերմանիայի զարգացման վարկերի բանկի աջակցությամբ իրականացվող Ախուրյան գետի ջրային ռեսուրսների ինտեգրացված կառավարման ծրագրի երկրորդ փուլ
A112: Միջոցառման տեսակը` | B112: =+'h4'!C71 -> Պետական մարմինների կողմից օգտագործվող ոչ ֆինանսական ակտիվների հետ գործառնություններ
A113: Ակտիվն օգտագործող կազմակերպության(ների) անվանում(ները)՛ | B113: Մասնագիտացված միավոր
A114: Արդյունքի չափորոշիչներ | C114: -140
A115: Միջոցառման վրա կատարվող ծախսը (հազար դրամ) | C115: =+'h7'!D73 -> -1990000
A117: Ծրագրի դասիչը | B117: Ծրագրի անվանումը
A118: 1019 | B118: =+'h4'!C73 -> Սոցիալական ներդրումների և տեղական զարգացման ծրագիր
A120: Ծրագրի միջոցառումները
A121: Ծրագրի դասիչը` | B121: 1019 | C121: Ցուցանիշների փոփոխությունը (ավելացումները նշված են դրական նշանով, իսկ նվազեցումները` փակագծերում)
A123: Միջոցառման դասիչը` | B123: =+'h4'!B78 -> 12004 | C123: Տարի
A124: Միջոցառման անվանումը` | B124: Համաշխարհային բանկի աջակցությամբ իրականացվող Սոցիալական ներդրումների և տեղական զարգացման ծրագրի լրացուցիչ ֆինանսավորման վարկի շրջանակներում ՀՀ համայնքային և միջհամայնքային ենթակառուցվածքների որակի, օգտագործման և հասանելիության բարելավում:
A125: Նկարագրությունը` | B125: Ջրագծերի, առողջապահության, կրթության օբյեկտների, մշակույթային տների, ծերանոցների, մանկատների, հատուկ դպրոցների, մանկապարտզների և կոյուղու օբյեկտնրի հիմն. և շինարարություն., գույքի և սարքավորումների տրամադրում շահառու ենթածրագրերի համար:
A126: Միջոցառման տեսակը` | B126: Տրանսֆերտների տրամադրում
A127: Շահառուների ընտրության չափանիշները | B127: ՀՀ բնակչություն
A128: Արդյունքի չափորոշիչներ
A129: Կառուցվող, վերակառուցվող, հիմնանորոգվող դպրոցների/մարզադպրոցների թիվ | C129: 2
A130: Խմելու ջրի ջրամատակարարման ենթածրագրերի թիվը | C130: 1
A131: Կառուցվող, վերակառուցվող, համայնքային կենտրոններ | C131: -1
A132: Միջոցառման վրա կատարվող ծախսը (հազար դրամ) | C132: =+'h7'!D82 -> -92590
...

Sheet h10
B1: Հավելված N 10
B2: ՀՀ կառավարության 2024 թվականի
B3: -ի N -Ն որոշման
B5: ՀԱՅԱՍՏԱՆԻ ՀԱՆՐԱՊԵՏՈՒԹՅԱՆ ԿԱՌԱՎԱՐՈՒԹՅԱՆ 2023 ԹՎԱԿԱՆԻ ԴԵԿՏԵՄԲԵՐԻ 28-Ի N 2323-Ն ՈՐՈՇՄԱՆ N 9.1 ՀԱՎԵԼՎԱԾԻ N 9.1.7, N 9.1.25 ԵՎ 9.1.58 ԱՂՅՈՒՍԱԿՆԵՐՈՒՄ ԿԱՏԱՐՎՈՂ ՓՈՓՈԽՈՒԹՅՈՒՆՆԵՐԸ ԵՎ ԼՐԱՑՈՒՄՆԵՐԸ
D7: Աղյուսակ 9.1.7
B8: ՀՀ տարածքային կառավարման և ենթակառուցվածքների նախարարություն
B9: ՄԱՍ 1. ՊԵՏԱԿԱՆ ՄԱՐՄՆԻ ԳԾՈՎ ԱՐԴՅՈՒՆՔԱՅԻՆ (ԿԱՏԱՐՈՂԱԿԱՆ) ՑՈՒՑԱՆԻՇՆԵՐԸ
B12: Ծրագրի դասիչը | C12: Ծրագրի անվանումը
B13: 1019 | C13: =+'h4'!C73 -> Սոցիալական ներդրումների և տեղական զարգացման ծրագիր
B15: Ծրագրի միջոցառումները
B17: Ծրագրի դասիչը` | C17: 1019 | D17: Ցուցանիշների փոփոխությունը (ավելացումները նշված են դրական նշանով, իսկ նվազեցումները` փակագծերում)
B19: Միջոցառման դասիչը` | C19: =+'h4'!B78 -> 12004 | D19: Տարի
B20: Միջոցառման անվանումը` | C20: Համաշխարհային բանկի աջակցությամբ իրականացվող Սոցիալական ներդրումների և տեղական զարգացման ծրագրի լրացուցիչ ֆինանսավորման վարկի շրջանակներում ՀՀ համայնքային և միջհամայնքային ենթակառուցվածքների որակի, օգտագործման և հասանելիության բարելավում:
B21: Նկարագրությունը` | C21: Ջրագծերի, առողջապահության, կրթության օբյեկտների, մշակույթային տների, ծերանոցների, մանկատների, հատուկ դպրոցների, մանկապարտզների և կոյուղու օբյեկտնրի հիմն. և շինարարություն., գույքի և սարքավորումների տրամադրում շահառու ենթածրագրերի համար:
B22: Միջոցառման տեսակը` | C22: Տրանսֆերտների տրամադրում
B23: Շահառուների ընտրության չափանիշները | C23: ՀՀ բնակչություն
B24: Արդյունքի չափորոշիչներ
B25: Կառուցվող, վերակառուցվող, հիմնանորոգվող դպրոցների/մարզադպրոցների թիվ | D25: 2
B26: Խմելու ջրի ջրամատակարարման ենթածրագրերի թիվը | D26: 1
B27: Կառուցվող, վերակառուցվող, համայնքային կենտրոններ | D27: -1
B28: Միջոցառման վրա կատարվող ծախսը (հազար դրամ) | D28: =+'h7'!D82 -> -92590
B31: Ծրագրի դասիչը` | C31: 1019 | D31: Ցուցանիշների փոփոխությունը (նվազեցումները նշված են փակագծերում)
B33: Միջոցառման դասիչը` | C33: =+'h9'!B137 -> 12005 | D33: Տարի
B34: Միջոցառման անվանումը` | C34: ԱՄՆ ՄԶԳ աջակցությամբ իրականացվող Տեղականինքնակառավարման և ապակենտրոնացման բարեփոխումների դրամաշնորհային ծրագրի շրջանակներումՏեղական կառավարման համակարգերի հզորացում,ապակենտրոնացման գործընթացներին աջակցություն,պիլոտային ծրագրերի իրականացում
B35: Նկարագրությունը` | C35: ԱՄՆ ՄԶԳ աջակցությամբ իրականացվող Տեղականինքնակառավարման և ապակենտրոնացմանբարեփոխումների դրամաշնորհային ծրագրիշրջանակներում մեքենասարքավորումներիտրամադրում և համայնքային մակարդակիենթակառուցվածքների կառուցում և վերականգնում
B36: Միջոցառման տեսակը` | C36: Տրանսֆերտների տրամադրում
B37: Շահառուների ընտրության չափանիշները | C37: ՀՀ բնակչություն
B38: Արդյունքի չափորոշիչներ
B39: Միջոցառման վրա կատարվող ծախսը (հազար դրամ) | D39: =+'h9'!C143 -> -66000
B42: Ծրագրի դասիչը` | C42: 1019 | D42: Ցուցանիշների փոփոխությունը (ավելացումները նշված են դրական նշանով)
B44: Միջոցառման դասիչը` | C44: =+'h9'!B148 -> 12007 | D44: Տարի
B45: Միջոցառման անվանումը` | C45: =+'h9'!B149 -> Համայնքների պոլիկլինիկաների տեխնիկական վերազինում
B46: Նկարագրությունը` | C46: =+'h9'!B150 -> Համայնքներում պոլիկլինիկաների տեխնիկական հագեցվածության ապահովում
B47: Միջոցառման տեսակը` | C47: =+'h9'!B151 -> Տրանսֆերտների տրամադրում
B48: Ակտիվն օգտագործող կազմակերպության(ների) անվանում(ները)՛ | C48: Մասնագիտացված միավոր
B49: Արդյունքի չափորոշիչներ
B50: Միջոցառման վրա կատարվող ծախսը (հազար դրամ) | D50: =+'h9'!C154 -> 7370
B53: Ծրագրի դասիչը | C53: Ծրագրի անվանումը
B54: 1072 | C54: Ջրամատակարարաման և ջրահեռացման բարելավում
B56: Ծրագրի միջոցառումները
B58: Ծրագրի դասիչը` | C58: 1072 | D58: Ցուցանիշների փոփոխությունը (ավելացումները նշված են դրական նշանով)
B60: Միջոցառման դասիչը` | C60: =+'h9'!B189 -> 12004 | D60: Տարի
B61: Միջոցառման անվանումը` | C61: =+'h9'!B190 -> Մաքրման կայանների պահպանություն
B62: Նկարագրությունը` | C62: =+'h9'!B191 -> Մաքրման կայանների պահպանության նպատակով համապատասխան ծառայությունների ձեռքբերում
B63: Միջոցառման տեսակը` | C63: =+'h9'!B192 -> Տրանսֆերտների տրամադրում
B64: Ակտիվն օգտագործող կազմակերպության(ների) անվանում(ները)՛ | C64: =+'h9'!B193 -> Մասնագիտացված միավոր
B65: Արդյունքի չափորոշիչներ
B66: Միջոցառման վրա կատարվող ծախսը (հազար դրամ) | D66: =+'h9'!C195 -> 16986
B68: Ծրագրի դասիչը` | C68: 1072 | D68: Ցուցանիշների փոփոխությունը (ավելացումները նշված են դրական նշանով)
B70: Միջոցառման դասիչը` | C70: =+'h4'!B139 -> 31015 | D70: Տարի
B71: Միջոցառման անվանումը` | C71: =+'h4'!C140 -> Ջրամատակարարման և ջրահեռացման համակարգերի հիմնանորոգում որոշ բնակավայրերում
B72: Նկարագրությունը` | C72: =+'h4'!C142 -> Ջրամատակարարման և ջրահեռացման համակարգի հիմնանորոգման աշխատանքների ձեռքբերում
B73: Միջոցառման տեսակը` | C73: Տրանսֆերտների տրամադրում
B74: Ակտիվն օգտագործող կազմակերպության(ների) անվանում(ները)՛ | C74: Մասնագիտացված միավոր
B75: Արդյունքի չափորոշիչներ
B76: Կառուցվող ջրամատակարարման համակարգի երկարությունը, կմ | D76: 16
B77: Հիմնանորոգվող ջրամատակարարման համակարգի երկարությունը, կմ | D77: =5.4+0.7 -> 6.1
B78: Օրվա կարգավորիչ ջրամբարի (ՕԿՋ) կառուցում, հատ | D78: 4
B79: Պոմպակայանի կառուցում, հատ | D79: 1
B80: Միջոցառման վրա կատարվող ծախսը (հազար դրամ) | D80: =+'h6'!G20 -> 900680.3
B83: Ծրագրի դասիչը | C83: Ծրագրի անվանումը
B84: 1189 | C84: =+'h4'!C147 -> Դպրոցների սեյսմիկ անվտանգության մակարդակի բարձրացման ծրագիր
B86: Ծրագրի միջոցառումները
B87: Ծրագրի դասիչը` | C87: 1189 | D87: Ցուցանիշների փոփոխությունը (նվազեցումները նշված են փակագծերում)
B89: Միջոցառման դասիչը` | C89: =+'h9'!B258 -> 12001 | D89: Տարի
B90: Միջոցառման անվանումը` | C90: =+'h9'!B259 -> Ասիական զարգացման բանկի աջակցությամբ իրականացվող դպրոցների սեյսմիկ պաշտպանության ծրագրի շրջանակներում ՀՀ դպրոցների սեյսմիկ անվտանգության բարելավմանն ուղղված միջոցառումներ
B91: Նկարագրությունը` | C91: =+'h9'!B260 -> Դպրոցների շենքերի ամրացման շինարարական աշխատանքներ, շինարարական ստանդարտների արդիականացում, արտակարգ իրավիճակներին արձագանքման ծրագրի մշակում, սեյսմիկ մոնիտորինգի դիտակետերի սարքավորումների արդիականացում
B92: Միջոցառման տեսակը` | C92: =+'h9'!B261 -> Տրանսֆերտների տրամադրում
B93: Ակտիվն օգտագործող կազմակերպության(ների) անվանում(ները)՛ | C93: Մասնագիտացված միավոր
B94: Արդյունքի չափորոշիչներ
B95: Միջոցառման վրա կատարվող ծախսը (հազար դրամ) | D95: =+'h9'!C264 -> -347423.8
B98: Ծրագրի դասիչը` | C98: 1189 | D98: Ցուցանիշների փոփոխությունը (ավելացումները նշված են դրական նշանով)
B100: Միջոցառման դասիչը` | C100: =+'h4'!B159 -> 12003 | D100: Տարի
B101: Միջոցառման անվանումը` | C101: =+'h4'!C160 -> Ասիական զարգացման բանկի աջակցությամբ իրականացվող դպրոցների սեյսմիկ պաշտպանության ծրագրի լրացուցիչ ֆինանսավորման շրջանակներում ՀՀ դպրոցների սեյսմիկ անվտանգության բարելավմանն ուղղված միջոցառումներ
B102: Նկարագրությունը` | C102: =+'h4'!C162 -> Դպրոցների սեյսմիկ պաշտպանության լրացուցիչ ֆինանսավորման ծրագիր, դպրոցների շենքերի կառուցման, ամրացման շինարարական աշխատանքներ, շինարարական ստանդարտների արդիականացում, արտակարգ իրավիճակներին արձագանքման ծրագրի մշակում
B103: Միջոցառման տեսակը` | C103: =+'h4'!C164 -> Տրանսֆերտների տրամադրում
B104: Ակտիվն օգտագործող կազմակերպության(ների) անվանում(ները)՛ | C104: Մասնագիտացված միավոր
B105: Արդյունքի չափորոշիչներ
B106: Միջոցառման վրա կատարվող ծախսը (հազար դրամ) | D106: ='h9'!C274 -> 2650423.8
D108: Աղյուսակ 9.1.25
B109: ՀՀ տարածքային կառավարման և ենթակառուցվածքների նախարարության ջրային կոմիտե
B111: ՄԱՍ 1. ՊԵՏԱԿԱՆ ՄԱՐՄՆԻ ԳԾՈՎ ԱՐԴՅՈՒՆՔԱՅԻՆ (ԿԱՏԱՐՈՂԱԿԱՆ) ՑՈՒՑԱՆԻՇՆԵՐԸ
B113: Ծրագրի դասիչը | C113: Ծրագրի անվանումը
B114: 1004 | C114: Ոռոգման համակարգի առողջացում
B116: Ծրագրի միջոցառումները
B118: Ծրագրի դասիչը` | C118: 1004 | D118: Ցուցանիշների փոփոխությունը (նվազեցումները նշված են փակագծերում)
B120: Միջոցառման դասիչը` | C120: =+'h9'!B16 -> 11005 | D120: Տարի
B121: Միջոցառման անվանումը` | C121: Եվրասիական զարգացման բանկի աջակցությամբ իրականացվող ոռոգման համակարգերի զարգացման ծրագրի խորհրդատվություն և կառավարում
B122: Նկարագրությունը` | C122: Եվրասիական զարգացման բանկի աջակցությամբ իրականացվող ոռոգման համակարգերի զարգացման ծրագրի համակարգում և ղեկավարում
B123: Միջոցառման տեսակը` | C123: Ծառայությունների մատուցում
B124: Ծառայությունը մատուցող կազմակերպության անվանումը | C124: Մասնագիտացված միավոր
B125: Արդյունքի չափորոշիչներ
B126: Կառավարվող/վերահսկվող խորհրդատվական պայմանագրերի քանակը, հատ | D126: -2
B127: Միջոցառման վրա կատարվող ծախսը (հազար դրամ) | D127: =+'h9'!C23 -> -80000
B130: Ծրագրի դասիչը` | C130: 1004 | D130: Ցուցանիշների փոփոխությունը (ավելացումները նշված են դրական նշանով)
B132: Միջոցառման դասիչը` | C132: =+'h9'!B28 -> 11006 | D132: Տարի
B133: Միջոցառման անվանումը` | C133: Ֆրանսիայի Հանրապետության կառավարության աջակցությամբ իրականացվող Վեդու ջրամբարի և ոռոգման համակարգի կառուցման ծրագրի խորհրդատվություն և կառավարում
B134: Նկարագրությունը` | C134: Ֆրանսիայի Հանրապետության կառավարության աջակցությամբ իրականացվող Վեդու ջրամբարի և ոռոգման համակարգի համակարգում և ղեկավարում
B135: Միջոցառման տեսակը` | C135: Ծառայությունների մատուցում
B136: Ծառայությունը մատուցող կազմակերպության անվանումը | C136: Մասնագիտացված միավոր
...

Sheet h11
G1: Հավելված N 11
A2: ՀՀ կառավարության 2024 թվականի
A3: -ի N -Ն որոշման
A4: ՀԱՅԱՍՏԱՆԻ ՀԱՆՐԱՊԵՏՈՒԹՅԱՆ ԿԱՌԱՎԱՐՈՒԹՅԱՆ ՊԱՀՈՒՍՏԱՅԻՆ ՖՈՆԴԻՑ ԿԱՏԱՐՎՈՂ ՀԱՏԿԱՑՈՒՄԸ
G5: հազ․ դրամ
A6: Գործառական դասիչը | D6: Ծրագրային դասիչը | F6: Բյուջետային ծախսերի գործառական դասակարգման բաժինների, խմբերի և դասերի, բյուջետային ծրագրերի միջոցառումների, բյուջետային հատկացումների գլխավոր կարգադրիչների անվանումները | G6: Ցուցանիշների փոփոխությունը (ավելացումները նշված են դրական նշանով, իսկ նվազեցումները՝ փակագծերում)
G7: Տարի
A8: Բաժին | B8: Խումբ | C8: Դաս | D8: Ծրագիր | E8: Միջոցառում
F9: ԸՆԴԱՄԵՆԸ ԾԱԽՍԵՐ | G9: =+G11+G30 -> 0
F10: այդ թվում`
F11: ՀՀ կառավարություն | G11: =G12 -> -925036.3
A12: 11 | F12: ՀԻՄՆԱԿԱՆ ԲԱԺԻՆՆԵՐԻՆ ՉԴԱՍՎՈՂ ՊԱՀՈՒՍՏԱՅԻՆ ՖՈՆԴԵՐ | G12: =G14 -> -925036.3
F13: այդ թվում`
B14: 01 | F14: ՀՀ կառավարության և համայնքների պահուստային ֆոնդ | G14: =G16 -> -925036.3
F15: այդ թվում`
C16: 01 | F16: ՀՀ կառավարության պահուստային ֆոնդ | G16: =G18 -> -925036.3
F17: այդ թվում`
F18: ՀՀ կառավարություն | G18: =G20 -> -925036.3
F19: այդ թվում`
D20: 1139 | F20: ՀՀ կառավարության պահուստային ֆոնդ | G20: =G22 -> -925036.3
F21: այդ թվում`
E22: 11001 | F22: ՀՀ կառավարության պահուստային ֆոնդ | G22: =G24 -> -925036.3
F23: այդ թվում` ըստ կատարողների
F24: ՀՀ կառավարություն | G24: =G26 -> -925036.3
F25: այդ թվում` բյուջետային ծախսերի տնտեսագիտական դասակարգման հոդվածներ
F26: ԸՆԴԱՄԵՆԸ ԾԱԽՍԵՐ | G26: =G27 -> -925036.3
F27: ԸՆԹԱՑԻԿ ԾԱԽՍԵՐ | G27: =G28 -> -925036.3
F28: ԱՅԼ ԾԱԽՍԵՐ | G28: =G29 -> -925036.3
F29: Պահուստային միջոցներ | G29: =-'h6'!G12 -> -925036.3
F30: ՀՀ տարածքային կառավարման և ենթակառուցվածքների նախարարություն | G30: =G31+G50 -> 925036.3
A31: 04 | F31: ՏՆՏԵՍԱԿԱՆ ՀԱՐԱԲԵՐՈՒԹՅՈՒՆՆԵՐ | G31: =+G33 -> 7370
F32: այդ թվում`
B33: 09 | F33: Տնտեսական հարաբերություններ (այլ դասերին չպատկանող) | G33: =+G35 -> 7370
F34: այդ թվում`
C35: 01 | F35: Տնտեսական հարաբերություններ (այլ դասերին չպատկանող) | G35: =+G37 -> 7370
F36: այդ թվում`
F37: ՀՀ տարածքային կառավարման և ենթակառուցվածքների նախարարություն | G37: =G39 -> 7370
F38: այդ թվում`
D39: 1019 | F39: Սոցիալական ներդրումների և տեղական զարգացման ծրագիր | G39: =G41 -> 7370
F40: այդ թվում` | G40: =+'h7'!F11+'h8'!F11+'h6'!G12 -> 0
E41: 12007 | F41: Համայնքների պոլիկլինիկաների տեխնիկական վերազինում | G41: =G43 -> 7370
F42: այդ թվում` ըստ կատարողների
F43: ՀՀ տարածքային կառավարման և ենթակառուցվածքների նախարարություն | G43: =G45 -> 7370
F44: այդ թվում` բյուջետային ծախսերի տնտեսագիտական դասակարգման հոդվածներ
F45: ԸՆԴԱՄԵՆԸ ԾԱԽՍԵՐ | G45: =G46 -> 7370
F46: ԸՆԹԱՑԻԿ ԾԱԽՍԵՐ | G46: =G47 -> 7370
F47: ԴՐԱՄԱՇՆՈՐՀՆԵՐ | G47: =G48 -> 7370
F48: Կապիտալ դրամաշնորհներ պետական հատվածի այլ մակարդակներին | G48: =G49 -> 7370
F49: - Այլ կապիտալ դրամաշնորհներ | G49: ='h4'!D90 -> 7370
A50: 06 | F50: ԲՆԱԿԱՐԱՆԱՅԻՆ ՇԻՆԱՐԱՐՈՒԹՅՈՒՆ ԵՎ ԿՈՄՈՒՆԱԼ ԾԱՌԱՅՈՒԹՅՈՒՆՆԵՐ | G50: =G52 -> 917666.3
F51: այդ թվում`
B52: 03 | F52: Ջրամատակարարում | G52: =G54 -> 917666.3
F53: այդ թվում`
C54: 01 | F54: Ջրամատակարարում | G54: =G56 -> 917666.3
F55: այդ թվում`
F56: ՀՀ տարածքային կառավարման և ենթակառուցվածքների նախարարություն | G56: =G58 -> 917666.3
F57: այդ թվում`
D58: 1072 | F58: Ջրամատակարարաման և ջրահեռացման բարելավում | G58: =G60+G69 -> 917666.3
F59: այդ թվում`
E60: 12004 | F60: Մաքրման կայանների պահպանություն | G60: =G62 -> 16986
F61: այդ թվում` ըստ կատարողների
F62: ՀՀ տարածքային կառավարման և ենթակառուցվածքների նախարարություն | G62: =G64 -> 16986
F63: այդ թվում` բյուջետային ծախսերի տնտեսագիտական դասակարգման հոդվածներ
F64: ԸՆԴԱՄԵՆԸ ԾԱԽՍԵՐ | G64: =G65 -> 16986
F65: ԸՆԹԱՑԻԿ ԾԱԽՍԵՐ | G65: =G66 -> 16986
F66: ԴՐԱՄԱՇՆՈՐՀՆԵՐ | G66: =G67 -> 16986
F67: Կապիտալ դրամաշնորհներ պետական հատվածի այլ մակարդակներին | G67: =G68 -> 16986
F68: - Այլ կապիտալ դրամաշնորհներ | G68: ='h5'!G175 -> 16986
E69: 31015 | F69: Ջրամատակարարման և ջրահեռացման համակարգերի հիմնանորոգում որոշ բնակավայրերում | G69: =G71 -> 900680.3
F70: այդ թվում` ըստ կատարողների
F71: ՀՀ տարածքային կառավարման և ենթակառուցվածքների նախարարության ջրային կոմիտե | G71: =G73 -> 900680.3
F72: այդ թվում` բյուջետային ծախսերի տնտեսագիտական դասակարգման հոդվածներ
F73: ԸՆԴԱՄԵՆԸ ԾԱԽՍԵՐ | G73: =G74 -> 900680.3
F74: ԸՆԹԱՑԻԿ ԾԱԽՍԵՐ | G74: =G75 -> 900680.3
F75: ԴՐԱՄԱՇՆՈՐՀՆԵՐ | G75: =G76 -> 900680.3
F76: Կապիտալ դրամաշնորհներ պետական հատվածի այլ մակարդակներին | G76: =G77 -> 900680.3
F77: - Այլ կապիտալ դրամաշնորհներ | G77: ='h5'!G205 -> 900680.3
