Workbook
Name _tab10: #REF!
Name _tab10: #REF!
Name _tab10: #REF!
Name _tab11: #REF!
Name _tab11: #REF!
Name _tab11: #REF!
Name _tab12: #REF!
Name _tab12: #REF!
Name _tab12: #REF!
Name _tab13: #REF!
Name _tab13: #REF!
Name _tab13: #REF!
Name _tab14: #REF!
Name _tab14: #REF!
Name _tab14: #REF!
Name _tab15: #REF!
Name _tab15: #REF!
Name _tab15: #REF!
Name _tab16: #REF!
Name _tab16: #REF!
Name _tab16: #REF!
Name _tab17: #REF!
Name _tab17: #REF!
Name _tab17: #REF!
Name _tab18: #REF!
Name _tab18: #REF!
Name _tab18: #REF!
Name _tab19: #REF!
Name _tab19: #REF!
Name _tab19: #REF!
Name _tab20: #REF!
Name _tab20: #REF!
Name _tab20: #REF!
Name _tab21: #REF!
Name _tab21: #REF!
Name _tab21: #REF!
Name _tab22: #REF!
Name _tab22: #REF!
Name _tab22: #REF!
Name _tab23: #REF!
Name _tab23: #REF!
Name _tab23: #REF!
Name _tab24: #REF!
Name _tab24: #REF!
Name _tab24: #REF!
Name _tab5: #REF!
Name _tab5: #REF!
Name _tab5: #REF!
Name _tab6: #REF!
Name _tab6: #REF!
Name _tab6: #REF!
Name _tab7: #REF!
Name _tab7: #REF!
Name _tab7: #REF!
Name _tab8: #REF!
Name _tab8: #REF!
Name _tab8: #REF!
Name _tab9: #REF!
Name _tab9: #REF!
Name _tab9: #REF!

Sheet h1
B1: Հավելված N 1
B2: ՀՀ կառավարության 2024 թվականի
B3: ______________ ի ___Ն որոշման
A5: «ՀԱՅԱՍՏԱՆԻ ՀԱՆՐԱՊԵՏՈՒԹՅԱՆ 2024 ԹՎԱԿԱՆԻ ՊԵՏԱԿԱՆ ԲՅՈՒՋԵԻ ՄԱՍԻՆ» ՕՐԵՆՔԻ N 2 ՀՈԴՎԱԾԻ ԱՂՅՈՒՍԱԿՈՒՄ ԿԱՏԱՐՎՈՂ ՓՈՓՈԽՈՒԹՅՈՒՆՆԵՐԸ
B7: հազար դրամներով
B8: Ցուցանիշների փոփոխությունը (նվազեցումները նշված են փակագծերում)
B9: Տարի
A10: 1. Եկամուտների գծով | B10: =+'h2'!B10 -> -1363045.6
A11: 2. Ծախսերի գծով | B11: =+'h5'!G8 -> -4822678.8
A12: 3. Դեֆիցիտը (պակասուրդը) | B12: =-B10+B11 -> -3459633.2

Sheet h2
B1: Հավելված N 2
B2: ՀՀ կառավարության 2024 թվականի
B3: ______________ ի ___Ն որոշման
A5: «ՀԱՅԱՍՏԱՆԻ ՀԱՆՐԱՊԵՏՈՒԹՅԱՆ 2024 ԹՎԱԿԱՆԻ ՊԵՏԱԿԱՆ ԲՅՈՒՋԵԻ ՄԱՍԻՆ» ՕՐԵՆՔԻ N 6 ՀՈԴՎԱԾԻ ԱՂՅՈՒՍԱԿՈՒՄ ԵՎ ՀԱՅԱՍՏԱՆԻ ՀԱՆՐԱՊԵՏՈՒԹՅԱՆ ԿԱՌԱՎԱՐՈՒԹՅԱՆ 2023 ԹՎԱԿԱՆԻ ԴԵԿՏԵՄԲԵՐԻ 28-Ի N 2323-Ն ՈՐՈՇՄԱՆ N 2 ՀԱՎԵԼՎԱԾՈՒՄ ԿԱՏԱՐՎՈՂ ՓՈՓՈԽՈՒԹՅՈՒՆՆԵՐԸ
B7: հազար դրամներով
A8: Եկամտատեսակ | B8: Ցուցանիշների փոփոխությունը (նվազեցումները նշված են փակագծերում)
B9: Տարի
A10: ՊԵՏԱԿԱՆ ԲՅՈՒՋԵԻ ԵԿԱՄՈՒՏՆԵՐ | B10: =+B12 -> -1363045.6
A11: այդ թվում`
A12: Պաշտոնական դրամաշնորհներ | B12: =+'h8'!E11 -> -1363045.6

Sheet h3
D1: Հավելված N 3
D2: ՀՀ կառավարության 2024թվականի
D3: ______________ ի ___Ն որոշման
B5: ՀԱՅԱՍՏԱՆԻ ՀԱՆՐԱՊԵՏՈՒԹՅԱՆ ԿԱՌԱՎԱՐՈՒԹՅԱՆ 2023 ԹՎԱԿԱՆԻ ԴԵԿՏԵՄԲԵՐԻ 28-Ի N 2323-Ն ՈՐՈՇՄԱՆ N 1 ՀԱՎԵԼՎԱԾԻ N 1 ԱՂՅՈՒՍԱԿՈՒՄ ԿԱՏԱՐՎՈՂ ՓՈՓՈԽՈՒԹՅՈՒՆՆԵՐԸ
C7: հազ. դրամ
B8: Պետական բյուջեի դեֆիցիտի ֆինանսավորման աղբյուրներն ու դրանց տարրերի անվանումները | C8: Ցուցանիշների փոփոխությունը ( նվազեցումները նշված են փակագծերում)
C9: Տարի
B10: ԸՆԴԱՄԵՆԸ | C10: =C12 -> -3459633.2
B11: այդ թվում՝
B12: Բ. Արտաքին աղբյուրներ - ընդամենը | C12: =C14 -> -3459633.2
B13: այդ թվում
B14: 1. Փոխառու զուտ միջոցներ | C14: =C16 -> -3459633.2
B15: այդ թվում՝
B16: 1.1. Վարկերի և փոխատվությունների ստացում | C16: =+C18 -> -3459633.2
B17: որից`
B18: նպատակային վարկերի գծով | C18: ='h7'!E11 -> -3459633.2

Sheet h4
D1: Հավելված N 4
D2: ՀՀ կառավարության 2024 թվականի
D3: -ի N -Ն որոշման
A4: «ՀԱՅԱՍՏԱՆԻ ՀԱՆՐԱՊԵՏՈՒԹՅԱՆ 2024 ԹՎԱԿԱՆԻ ՊԵՏԱԿԱՆ ԲՅՈՒՋԵԻ ՄԱՍԻՆ» ՀԱՅԱՍՏԱՆԻ ՀԱՆՐԱՊԵՏՈՒԹՅԱՆ ՕՐԵՆՔԻ N 1 ՀԱՎԵԼՎԱԾԻ N 2 ԱՂՅՈՒՍԱԿՈՒՄ, ՀԱՅԱՍՏԱՆԻ ՀԱՆՐԱՊԵՏՈՒԹՅԱՆ ԿԱՌԱՎԱՐՈՒԹՅԱՆ 2023 ԹՎԱԿԱՆԻ ԴԵԿՏԵՄԲԵՐԻ 28-Ի N 2323-Ն ՈՐՈՇՄԱՆ N 5 ՀԱՎԵԼՎԱԾԻ N 1 ԱՂՅՈՒՍԱԿՈՒՄ ԿԱՏԱՐՎՈՂ ՓՈՓՈԽՈՒԹՅՈՒՆՆԵՐԸ ԵՎ ԼՐԱՑՈՒՄՆԵՐԸ
D6: (հազ. դրամ)
A7: Ծրագրային դասիչը | C7: Բյուջետային գլխավոր կարգադրիչների, ծրագրերի և միջոցառումների անվանումները | D7: Ցուցանիշների փոփոխությունը (ավելացումները նշված են դրական նշանով, իսկ նվազեցումները՝ փակագծերում)
A8: Ծրագիր | B8: Միջոցառում | D8: Տարի
C9: ԸՆԴԱՄԵՆԸ | D9: =+D10+D145+D165 -> -4822678.8
C10: ՀՀ տարածքային կառավարման և ենթակառուցվածքների նախարարություն | D10: =+D11+D72+D96 -> -7125678.8
A11: 1004 | C11: Ծրագրի անվանումը` | D11: =+D48+D54+D60+D66+D36+D42+D30+D18+D24 -> -6455908.9
C12: Ոռոգման համակարգի առողջացում
C13: Ծրագրի նպատակը`
C14: Ոռոգման ծառայությունների հասանելիության և մատչելիության ապահովում
C15: Վերջնական արդյունքի նկարագրությունը`
C16: Ոռոգման ջրի մատակարարման արդյունավետության և հասանելիության բարելավում՝ կորուստների կրճատում
A17: Ծրագրի միջոցառումներ
B18: 11005 | C18: Միջոցառման անվանումը` | D18: =+'h7'!D22 -> -80000
C19: =+'h7'!C18 -> Եվրասիական զարգացման բանկի աջակցությամբ իրականացվող ոռոգման համակարգերի զարգացման ծրագրի խորհրդատվություն և կառավարում
C20: Միջոցառման նկարագրությունը`
C21: Եվրասիական զարգացման բանկի աջակցությամբ իրականացվող ոռոգման համակարգերի զարգացման ծրագրի համակարգում և ղեկավարում
C22: Միջոցառման տեսակը
C23: Ծառայությունների մատուցում
B24: 11006 | C24: Միջոցառման անվանումը` | D24: =+'h7'!D28 -> 11921
C25: =+'h7'!C26 -> Ֆրանսիայի Հանրապետության կառավարության աջակցությամբ իրականացվող Վեդու ջրամբարի և որռոգման համակարգի կառուցման ծրագրի խորհրդատվություն և կառավարում
C26: Միջոցառման նկարագրությունը`
C27: Ֆրանսիայի Հանրապետության կառավարության աջակցությամբ իրականացվող Վեդու ջրամբարի և որռոգման համակարգի համակարգում և ղեկավարում
C28: Միջոցառման տեսակը
C29: Ծառայությունների մատուցում
B30: =+'h7'!B34 -> 11007 | C30: Միջոցառման անվանումը` | D30: =+'h7'!D34 -> -41000
C31: =+'h7'!C34 -> Գերմանիայի զարգացման վարկերի բանկի աջակցությամբ իրականացվող Ախուրյան գետի ջրային ռեսուրսների ինտեգրացված կառավարում ծրագրի խորհրդատվություն և կառավարում
C32: Միջոցառման նկարագրությունը`
C33: Գերմանիայի զարգացման վարկերի բանկի աջակցությամբ իրականացվող Ախուրյան գետի ջրային ռեսուրսների ինտեգրացված կառավարման դրամաշնորհային ծրագրի համակարգում և ղեկավարում
C34: Միջոցառման տեսակը
C35: Ծառայությունների մատուցում
B36: =+'h8'!B18 -> 11009 | C36: Միջոցառման անվանումը` | D36: =+'h8'!D18 -> -9099.8
C37: =+'h8'!C18 -> Գերմանիայի զարգացման վարկերի բանկի աջակցությամբ իրականացվող Ախուրյան գետի ջրային ռեսուրսների ինտեգրացված կառավարման դրամաշնորհային ծրագիր
C38: Միջոցառման նկարագրությունը`
C39: Գերմանիայի զարգացման վարկերի բանկի աջակցությամբ իրականացվող Ախուրյան գետի ջրային ռեսուրսների ինտեգրացված կառավարման դրամաշնորհային ծրագրի համակարգում և ղեկավարում
C40: Միջոցառման տեսակը
C41: Ծառայությունների մատուցում
...

Sheet h5
A1: Հավելված N5
A2: ՀՀ կառավարության 2024 թվականի
A3: -ի N -Ն որոշման
A4: ՀԱՅԱՍՏԱՆԻ ՀԱՆՐԱՊԵՏՈՒԹՅԱՆ ԿԱՌԱՎԱՐՈՒԹՅԱՆ 2023 ԹՎԱԿԱՆԻ ԴԵԿՏԵՄԲԵՐԻ 28-Ի N 2323-Ն ՈՐՈՇՄԱՆ N 3 ԵՎ N 4 ՀԱՎԵԼՎԱԾՆԵՐՈՒՄ ԿԱՏԱՐՎՈՂ ՓՈՓՈԽՈՒԹՅՈՒՆՆԵՐԸ ԵՎ ԼՐԱՑՈՒՄՆԵՐԸ
A6: Գործառական դասիչը | D6: Ծրագրային դասիչը | F6: Բյուջետային ծախսերի գործառական դասակարգման բաժինների, խմբերի և դասերի, բյուջետային ծրագրերի միջոցառումների, բյուջետային հատկացումների գլխավոր կարգադրիչների անվանումները | G6: Ցուցանիշների փոփոխությունը (ավելացումները նշված են դրական նշանով, իսկ նվազեցումները՝ փակագծերում)
A7: Բաժին | B7: Խումբ | C7: Դաս | D7: Ծրագիր | E7: Միջոցառում | G7: Տարի
F8: ԸՆԴԱՄԵՆԸ ԾԱԽՍԵՐ | G8: =+G10+G214+G243 -> -4822678.8
F9: այդ թվում`
F10: ՀՀ տարածքային կառավարման և ենթակառուցվածքների նախարարություն | G10: =+G11+G138 -> -7125678.8
A11: 04 | F11: ՏՆՏԵՍԱԿԱՆ ՀԱՐԱԲԵՐՈՒԹՅՈՒՆՆԵՐ | G11: =+G13+G101 -> -6607128.9
F12: այդ թվում`
B13: 02 | F13: Գյուղատնտեսություն, անտառային տնտեսություն, ձկնորսություն և որսորդություն | G13: =G15 -> -6455908.9
F14: այդ թվում`
C15: 04 | F15: Ոռոգում | G15: =+G17 -> -6455908.9
F16: այդ թվում`
F17: ՀՀ տարածքային կառավարման և ենթակառուցվածքների նախարարություն | G17: =+G19 -> -6455908.9
F18: այդ թվում`
D19: 1004 | F19: Ոռոգման համակարգի առողջացում | G19: =++G61+G72+G83+G92+G45+G53+G37+G21+G29 -> -6455908.9
F20: այդ թվում`
E21: =+'h7'!B18 -> 11005 | F21: =+'h7'!C18 -> Եվրասիական զարգացման բանկի աջակցությամբ իրականացվող ոռոգման համակարգերի զարգացման ծրագրի խորհրդատվություն և կառավարում | G21: =G23 -> -80000
F22: այդ թվում` ըստ կատարողների
F23: ՀՀ տարածքային կառավարման և ենթակառուցվածքների նախարարության ջրային կոմիտե | G23: =G25 -> -80000
F24: այդ թվում` բյուջետային ծախսերի տնտեսագիտական դասակարգման հոդվածներ
F25: ԸՆԴԱՄԵՆԸ ԾԱԽՍԵՐ | G25: =G26 -> -80000
F26: ԸՆԹԱՑԻԿ ԾԱԽՍԵՐ | G26: =G27 -> -80000
F27: =+'h7'!C24 -> ԱՅԼ ԾԱԽՍԵՐ | G27: =+G28 -> -80000
F28: =+'h7'!C25 -> Այլ ծախսեր | G28: =+'h7'!D25 -> -80000
E29: =+'h7'!B26 -> 11006 | F29: =+'h7'!C26 -> Ֆրանսիայի Հանրապետության կառավարության աջակցությամբ իրականացվող Վեդու ջրամբարի և որռոգման համակարգի կառուցման ծրագրի խորհրդատվություն և կառավարում | G29: =G31 -> 11921
F30: այդ թվում` ըստ կատարողների
F31: ՀՀ տարածքային կառավարման և ենթակառուցվածքների նախարարության ջրային կոմիտե | G31: =G33 -> 11921
F32: այդ թվում` բյուջետային ծախսերի տնտեսագիտական դասակարգման հոդվածներ
F33: ԸՆԴԱՄԵՆԸ ԾԱԽՍԵՐ | G33: =G34 -> 11921
F34: ԸՆԹԱՑԻԿ ԾԱԽՍԵՐ | G34: =G35 -> 11921
F35: =+'h7'!C32 -> ԱՅԼ ԾԱԽՍԵՐ | G35: =+G36 -> 11921
F36: =+'h7'!C33 -> Այլ ծախսեր | G36: =+'h7'!D33 -> 11921
E37: =+'h7'!B34 -> 11007 | F37: =+'h7'!C34 -> Գերմանիայի զարգացման վարկերի բանկի աջակցությամբ իրականացվող Ախուրյան գետի ջրային ռեսուրսների ինտեգրացված կառավարում ծրագրի խորհրդատվություն և կառավարում | G37: =G39 -> -41000
F38: այդ թվում` ըստ կատարողների
F39: ՀՀ տարածքային կառավարման և ենթակառուցվածքների նախարարության ջրային կոմիտե | G39: =G41 -> -41000
F40: այդ թվում` բյուջետային ծախսերի տնտեսագիտական դասակարգման հոդվածներ
F41: ԸՆԴԱՄԵՆԸ ԾԱԽՍԵՐ | G41: =G42 -> -41000
...

Sheet h6
G1: Հավելված N 6
G2: ՀՀ կառավարության 2024 թվականի
G3: ______________ ի ___Ն որոշման
A6: ՀԱՅԱՍՏԱՆԻ ՀԱՆՐԱՊԵՏՈՒԹՅԱՆ ԿԱՌԱՎԱՐՈՒԹՅԱՆ 2023 ԹՎԱԿԱՆԻ ԴԵԿՏԵՄԲԵՐԻ 28-Ի N 2323-Ն ՈՐՈՇՄԱՆ N 5 ՀԱՎԵԼՎԱԾԻ N 7 ԱՂՅՈՒՍԱԿՈՒՄ ԿԱՏԱՐՎՈՂ ԼՐԱՑՈՒՄՆԵՐԸ
G8: հազ. դրամ
A9: Ծրագրային դասիչ | C9: Բյուջետային հատկացումների գլխավոր կարգադրիչների, ծրագրերի, միջոցառումների, ծախսային ուղղությունների անվանումները | F9: Միջոցառումները կատարող պետական մարմինների և դրամաշնորհ ստացող տնտեսվարող սուբյեկտների անվանումները | G9: Ցուցանիշների փոփոխությունը (ավելացումները նշված են դրական նշանով)
A10: Ծրագիր | B10: Միջոցառում | G10: Տարի
A11: 1 | B11: 2 | C11: 3 | F11: 4 | G11: 5
A12: ՀՀ տարածքային կառավարման և ենթակառուցվածքների նախարարություն | G12: =+G16+G13 -> 925036.3
A13: 1019 | B13: Սոցիալական ներդրումների և տեղական զարգացման ծրագիր | G13: =+G14 -> 7370
B14: 12007 | C14: Համայնքների պոլիկլինիկաների տեխնիկական վերազինում | F14: ՀՀ տարածքային կառավարման և ենթակառուցվածքների նախարարություն | G14: =+G15 -> 7370
F15: Հայաստանի տարածքային զարգացման հիմնադրամ | G15: 7370
A16: 1072 | B16: Ջրամատակարարաման և ջրահեռացման բարելավում | G16: =G19+G17 -> 917666.3
B17: 12004 | C17: Մաքրման կայանների պահպանություն | F17: ՀՀ տարածքային կառավարման և ենթակառուցվածքների նախարարություն | G17: 16986
F18: Հայաստանի տարածքային զարգացման հիմնադրամ | G18: 16986
B19: 31015 | C19: Ջրամատակարարման և ջրահեռացման համակարգերի հիմնանորոգում որոշ բնակավայրերում | F19: ՀՀ տարածքային կառավարման և ենթակառուցվածքների նախարարություն | G19: =+G20 -> 900680.3
F20: Հայաստանի տարածքային զարգացման հիմնադրամ | G20: =457046.7+443633.6 -> 900680.3

Sheet h7
F1: Հավելված N 7
D2: ՀՀ կառավարության 2024 թվականի
D3: ______________ ի ___Ն որոշման
A5: «ՀԱՅԱUՏԱՆԻ ՀԱՆՐԱՊԵՏՈՒԹՅԱՆ 2024 ԹՎԱԿԱՆԻ ՊԵՏԱԿԱՆ ԲՅՈՒՋԵԻ ՄԱUԻՆ» OՐԵՆՔԻ N 1 ՀԱՎԵԼՎԱԾԻ N 4 ԱՂՅՈՒՍԱԿՈՒՄ ԵՎ ՀԱՅԱՍՏԱՆԻ ՀԱՆՐԱՊԵՏՈՒԹՅԱՆ ԿԱՌԱՎԱՐՈՒԹՅԱՆ 2023 ԹՎԱԿԱՆԻ ԴԵԿՏԵՄԲԵՐԻ 28-Ի N 2323-Ն ՈՐՈՇՄԱՆ N 5 ՀԱՎԵԼՎԱԾԻ N 3 ԱՂՅՈՒՍԱԿՈՒՄ ԿԱՏԱՐՎՈՂ ՓՈՓՈԽՈՒԹՅՈՒՆՆԵՐԸ
F6: հազ. դրամ
A7: Ծրագրային դասիչը | C7: Բյուջետային գլխավոր կարգադրիչների, ծրագրերի և միջոցառումների անվանումները | D7: Ցուցանիշների փոփոխությունը (ավելացումները նշված են դրական նշանով, իսկ նվազեցումները` փակագծերում)
D8: Տարի
D9: Ընդամենը | E9: այդ թվում`
A10: Ծրագիր | B10: Միջոց առում | E10: Վարկային միջոցներ | F10: Համաֆինան սավորում
C11: ԸՆԴԱՄԵՆԸ | D11: =+E11+F11 -> -4081057.2 | E11: =+E15+E128 -> -3459633.2 | F11: =+F15+F128 -> -621424
C12: այդ թվում`
C13: ԸՆԹԱՑԻԿ ԾԱԽՍԵՐ | D13: =+E13+F13 -> -109079 | E13: =+E39+E25+E33 -> -110800 | F13: =F23+F31+F39 -> 1721
C14: ՈՉ ՖԻՆԱՆՍԱԿԱՆ ԱԿՏԻՎՆԵՐԻ ԳԾՈՎ ԾԱԽՍԵՐ | D14: =+E14+F14 -> -3971978.2 | E14: =+E47+E58+E69+E78+E89+E102+E113+E122+E144+E135 -> -3348833.2 | F14: =+F47+F58+F69+F78+F89+F102+F113+F122+F144+F135 -> -623145
C15: ՀՀ ՏԱՐԱԾՔԱՅԻՆ ԿԱՌԱՎԱՐՄԱՆ ԵՎ ԵՆԹԱԿԱՌՈՒՑՎԱԾՔՆԵՐԻ ՆԱԽԱՐԱՐՈՒԹՅՈՒՆ | D15: =+E15+F15 -> -6384057.2 | E15: =+E16+E82+E95 -> -5379633.2 | F15: =+F16+F82+F95 -> -1004424
A16: 1004 | C16: Ոռոգման համակարգի առողջացում | D16: =+E16+F16 -> -6163033.2 | E16: =+E42+E53+E64+E73+E34+E18+E26 -> -5048258.2 | F16: =+F42+F53+F64+F73+F34+F18+F26 -> -1114775
C17: այդ թվում`
B18: 11005 | C18: Եվրասիական զարգացման բանկի աջակցությամբ իրականացվող ոռոգման համակարգերի զարգացման ծրագրի խորհրդատվություն և կառավարում | D18: =+D20 -> -80000 | E18: =+E20 -> -80000 | F18: =+F20 -> 0
C19: այդ թվում` ըստ կատարողների
C20: ՀՀ տարածքային կառավարման և ենթակառուցվածքների նախարարության ջրային կոմիտե | D20: =+D22 -> -80000 | E20: =+E22 -> -80000 | F20: =+F22 -> 0
C21: այդ թվում` բյուջետային ծախսերի տնտեսագիտական դասակարգման հոդվածներ
C22: ԸՆԴԱՄԵՆԸ ԾԱԽՍԵՐ | D22: =+E22+F22 -> -80000 | E22: =+E23 -> -80000 | F22: =+F23 -> 0
C23: ԸՆԹԱՑԻԿ ԾԱԽՍԵՐ | D23: =+E23+F23 -> -80000 | E23: =+E24 -> -80000 | F23: =+F24 -> 0
C24: ԱՅԼ ԾԱԽՍԵՐ | D24: =+E24+F24 -> -80000 | E24: =+E25 -> -80000 | F24: =+F25 -> 0
C25: Այլ ծախսեր | D25: =+E25+F25 -> -80000 | E25: -80000
B26: 11006 | C26: Ֆրանսիայի Հանրապետության կառավարության աջակցությամբ իրականացվող Վեդու ջրամբարի և որռոգման համակարգի կառուցման ծրագրի խորհրդատվություն և կառավարում | D26: =+D28 -> 11921 | E26: =+E28 -> 10200 | F26: =+F28 -> 1721
C27: այդ թվում` ըստ կատարողների
C28: ՀՀ տարածքային կառավարման և ենթակառուցվածքների նախարարության ջրային կոմիտե | D28: =+D30 -> 11921 | E28: =+E30 -> 10200 | F28: =+F30 -> 1721
C29: այդ թվում` բյուջետային ծախսերի տնտեսագիտական դասակարգման հոդվածներ
C30: ԸՆԴԱՄԵՆԸ ԾԱԽՍԵՐ | D30: =+E30+F30 -> 11921 | E30: =+E31 -> 10200 | F30: =+F31 -> 1721
C31: ԸՆԹԱՑԻԿ ԾԱԽՍԵՐ | D31: =+E31+F31 -> 11921 | E31: =+E32 -> 10200 | F31: =+F32 -> 1721
C32: ԱՅԼ ԾԱԽՍԵՐ | D32: =+E32+F32 -> 11921 | E32: =+E33 -> 10200 | F32: =+F33 -> 1721
C33: Այլ ծախսեր | D33: =+E33+F33 -> 11921 | E33: 10200 | F33: 1721
B34: 11007 | C34: Գերմանիայի զարգացման վարկերի բանկի աջակցությամբ իրականացվող Ախուրյան գետի ջրային ռեսուրսների ինտեգրացված կառավարում ծրագրի խորհրդատվություն և կառավարում | D34: =+D36 -> -41000 | E34: =+E36 -> -41000 | F34: =+F36 -> 0
C35: այդ թվում` ըստ կատարողների
C36: ՀՀ տարածքային կառավարման և ենթակառուցվածքների նախարարության ջրային կոմիտե | D36: =+D38 -> -41000 | E36: =+E38 -> -41000 | F36: =+F38 -> 0
C37: այդ թվում` բյուջետային ծախսերի տնտեսագիտական դասակարգման հոդվածներ
C38: ԸՆԴԱՄԵՆԸ ԾԱԽՍԵՐ | D38: =+E38+F38 -> -41000 | E38: =+E39 -> -41000 | F38: =+F39 -> 0
C39: ԸՆԹԱՑԻԿ ԾԱԽՍԵՐ | D39: =+E39+F39 -> -41000 | E39: =+E40 -> -41000 | F39: =+F40 -> 0
C40: ԱՅԼ ԾԱԽՍԵՐ | D40: =+E40+F40 -> -41000 | E40: =+E41 -> -41000 | F40: =+F41 -> 0
C41: Այլ ծախսեր | D41: =+E41+F41 -> -41000 | E41: -41000
...

Sheet h8
F1: Հավելված N 8
F2: ՀՀ կառավարության 2024 թվականի
F3: ______________ ի ___Ն որոշման
A5: «ՀԱՅԱUՏԱՆԻ ՀԱՆՐԱՊԵՏՈՒԹՅԱՆ 2024 ԹՎԱԿԱՆԻ ՊԵՏԱԿԱՆ ԲՅՈՒՋԵԻ ՄԱUԻՆ» OՐԵՆՔԻ N 1 ՀԱՎԵԼՎԱԾԻ N 5 ԱՂՅՈՒՍԱԿՈՒՄ ԵՎ ՀԱՅԱՍՏԱՆԻ ՀԱՆՐԱՊԵՏՈՒԹՅԱՆ ԿԱՌԱՎԱՐՈՒԹՅԱՆ 2023 ԹՎԱԿԱՆԻ ԴԵԿՏԵՄԲԵՐԻ 28-Ի N 2323-Ն ՈՐՈՇՄԱՆ N 5 ՀԱՎԵԼՎԱԾԻ N 4 ԱՂՅՈՒՍԱԿՈՒՄ ԿԱՏԱՐՎՈՂ ՓՈՓՈԽՈՒԹՅՈՒՆՆԵՐԸ
F6: հազ. դրամ
A7: Ծրագրային դասիչը | C7: Բյուջետային գլխավոր կարգադրիչների, ծրագրերի և միջոցառումների անվանումները | D7: Ցուցանիշների փոփոխությունը (ավելացումները նշված են դրական նշանով, իսկ նվազեցումները` փակագծերում)
D8: Տարի
D9: Ընդամենը | E9: այդ թվում`
A10: Ծրագիր | B10: Միջոցառում | E10: Դրամաշնորհային միջոցներ | F10: Համաֆինան սավորում
C11: ԸՆԴԱՄԵՆԸ | D11: =+E11+F11 -> -1666657.9 | E11: =+E15 -> -1363045.6 | F11: =+F15 -> -303612.3 | I11: =+F11+'h7'!F11+'h6'!G12 -> 0
C12: այդ թվում`
C13: ԸՆԹԱՑԻԿ ԾԱԽՍԵՐ | D13: =+E13+F13 -> -297704.4 | E13: =+E23+E31+E52 -> -265742.2 | F13: =+F23+F31+F52 -> -31962.2
C14: ՈՉ ՖԻՆԱՆՍԱԿԱՆ ԱԿՏԻՎՆԵՐԻ ԳԾՈՎ ԾԱԽՍԵՐ | D14: =+E14+F14 -> -1368953.5 | E14: =+E41+E60 -> -1097303.4 | F14: =+F41+F60 -> -271650.1
C15: ՀՀ ՏԱՐԱԾՔԱՅԻՆ ԿԱՌԱՎԱՐՄԱՆ ԵՎ ԵՆԹԱԿԱՌՈՒՑՎԱԾՔՆԵՐԻ ՆԱԽԱՐԱՐՈՒԹՅՈՒՆ | D15: =+E15+F15 -> -1666657.9 | E15: =+E16+E34+E45 -> -1363045.6 | F15: =+F16+F34+F45 -> -303612.3
A16: 1004 | C16: Ոռոգման համակարգի առողջացում | D16: =+E16+F16 -> -292875.7 | E16: =+E18+E26 -> -261718.3 | F16: =+F18+F26 -> -31157.4
C17: այդ թվում`
B18: 11009 | C18: Գերմանիայի զարգացման վարկերի բանկի աջակցությամբ իրականացվող Ախուրյան գետի ջրային ռեսուրսների ինտեգրացված կառավարման դրամաշնորհային ծրագիր | D18: =+D20 -> -9099.8 | E18: =+E20 -> -7030.3 | F18: =+F20 -> -2069.5
C19: այդ թվում` ըստ կատարողների
C20: ՀՀ տարածքային կառավարման և ենթակառուցվածքների նախարարության ջրային կոմիտե | D20: =+D22 -> -9099.8 | E20: =+E22 -> -7030.3 | F20: =+F22 -> -2069.5
C21: այդ թվում` բյուջետային ծախսերի տնտեսագիտական դասակարգման հոդվածներ
C22: ԸՆԴԱՄԵՆԸ ԾԱԽՍԵՐ | D22: =+E22+F22 -> -9099.8 | E22: =+E23 -> -7030.3 | F22: =+F23 -> -2069.5
C23: ԸՆԹԱՑԻԿ ԾԱԽՍԵՐ | D23: =+E23+F23 -> -9099.8 | E23: =+E24 -> -7030.3 | F23: =+F24 -> -2069.5
C24: ԱՅԼ ԾԱԽՍԵՐ | D24: =+E24+F24 -> -9099.8 | E24: =+E25 -> -7030.3 | F24: =+F25 -> -2069.5
C25: Այլ ծախսեր | D25: =+E25+F25 -> -9099.8 | E25: -7030.3 | F25: -2069.5
B26: 11011 | C26: Զարգացման ֆրանսիական գործակալության աջակցությամբ իրականացվող ոռոգման ոլորտի ֆինանսական կայունության և ոռոգման կառավարման կարողությունների բարելավման դրամաշնորհային ծրագրի խորհրդատվություն և կառավարում | D26: =+D28 -> -283775.9 | E26: =+E28 -> -254688 | F26: =+F28 -> -29087.9
C27: այդ թվում` ըստ կատարողների
C28: ՀՀ տարածքային կառավարման և ենթակառուցվածքների նախարարության ջրային կոմիտե | D28: =+D30 -> -283775.9 | E28: =+E30 -> -254688 | F28: =+F30 -> -29087.9
C29: այդ թվում` բյուջետային ծախսերի տնտեսագիտական դասակարգման հոդվածներ
C30: ԸՆԴԱՄԵՆԸ ԾԱԽՍԵՐ | D30: =+E30+F30 -> -283775.9 | E30: =+E31 -> -254688 | F30: =+F31 -> -29087.9
C31: ԸՆԹԱՑԻԿ ԾԱԽՍԵՐ | D31: =+E31+F31 -> -283775.9 | E31: =+E32 -> -254688 | F31: =+F32 -> -29087.9
C32: ԱՅԼ ԾԱԽՍԵՐ | D32: =+E32+F32 -> -283775.9 | E32: =+E33 -> -254688 | F32: =+F33 -> -29087.9
C33: Այլ ծախսեր | D33: =+E33+F33 -> -283775.9 | E33: -254688 | F33: =-19717.9-8000-1370 -> -29087.9
A34: 1019 | C34: Սոցիալական ներդրումների և տեղական զարգացման ծրագիր | D34: =+E34+F34 -> -66000 | E34: =+E36 -> -66000 | F34: =+F36 -> 0
C35: այդ թվում`
B36: 12005 | C36: ԱՄՆ ՄԶԳ աջակցությամբ իրականացվող Տեղականինքնակառավարման և ապակենտրոնացման բարեփոխումների դրամաշնորհային ծրագրի շրջանակներում Տեղական կառավարման համակարգերի հզորացում,ապակենտրոնացման գործընթացներին աջակցություն, պիլոտային ծրագրերի իրականացում | D36: =+D38 -> -66000 | E36: =+E38 -> -66000 | F36: =+F38 -> 0
C37: այդ թվում` ըստ կատարողների
C38: ՀՀ տարածքային կառավարման և ենթակառուցվածքների նախարարություն | D38: =+D40 -> -66000 | E38: =+E40 -> -66000 | F38: =+F40 -> 0
C39: այդ թվում` բյուջետային ծախսերի տնտեսագիտական դասակարգման հոդվածներ
C40: ԸՆԴԱՄԵՆԸ ԾԱԽՍԵՐ | D40: =+E40+F40 -> -66000 | E40: =+E41 -> -66000 | F40: =+F41 -> 0
C41: ՈՉ ՖԻՆԱՆՍԱԿԱՆ ԱԿՏԻՎՆԵՐԻ ԳԾՈՎ ԾԱԽՍԵՐ | D41: =+E41+F41 -> -66000 | E41: =+E42 -> -66000 | F41: =+F42 -> 0
...

Sheet h9
A1: Հավելված N 9
A2: ՀՀ կառավարության 2024 թվականի
A3: -ի N -Ն որոշման
A5: ՀԱՅԱՍՏԱՆԻ ՀԱՆՐԱՊԵՏՈՒԹՅԱՆ ԿԱՌԱՎԱՐՈՒԹՅԱՆ 2023 ԹՎԱԿԱՆԻ ԴԵԿՏԵՄԲԵՐԻ 28-Ի N 2323-Ն ՈՐՈՇՄԱՆ N 9 ՀԱՎԵԼՎԱԾԻ N 9.7, 9.13 ԵՎ N 9.48 ԱՂՅՈՒՍԱԿՆԵՐՈՒՄ ԿԱՏԱՐՎՈՂ ՓՈՓՈԽՈՒԹՅՈՒՆՆԵՐԸ ԵՎ ԼՐԱՑՈՒՄՆԵՐԸ
C6: Աղյուսակ 9.7
A7: ՀՀ տարածքային կառավարման և ենթակառուցվածքների նախարարություն
A8: ՄԱՍ 2. ՊԵՏԱԿԱՆ ՄԱՐՄՆԻ ԳԾՈՎ ԱՐԴՅՈՒՆՔԱՅԻՆ (ԿԱՏԱՐՈՂԱԿԱՆ) ՑՈՒՑԱՆԻՇՆԵՐԸ
A10: Ծրագրի դասիչը | B10: Ծրագրի անվանումը
A11: 1004 | B11: Ոռոգման համակարգի առողջացում
A13: Ծրագրի միջոցառումները
A14: Ծրագրի դասիչը` | B14: 1004 | C14: Ցուցանիշների փոփոխությունը (նվազեցումները նշված են փակագծերում)
A16: Միջոցառման դասիչը` | B16: =+'h4'!B18 -> 11005 | C16: Տարի
A17: Միջոցառման անվանումը` | B17: Եվրասիական զարգացման բանկի աջակցությամբ իրականացվող ոռոգման համակարգերի զարգացման ծրագրի խորհրդատվություն և կառավարում
A18: Նկարագրությունը` | B18: Եվրասիական զարգացման բանկի աջակցությամբ իրականացվող ոռոգման համակարգերի զարգացման ծրագրի համակարգում և ղեկավարում
A19: Միջոցառման տեսակը` | B19: Ծառայությունների մատուցում
A20: Ծառայությունը մատուցող կազմակերպության անվանումը | B20: Մասնագիտացված միավոր
A21: Արդյունքի չափորոշիչներ
A22: Կառավարվող/վերահսկվող խորհրդատվական պայմանագրերի քանակը, հատ | C22: -2
A23: Միջոցառման վրա կատարվող ծախսը (հազար դրամ) | C23: =+'h4'!D18 -> -80000
A26: Ծրագրի դասիչը` | B26: 1004 | C26: Ցուցանիշների փոփոխությունը (ավելացումները նշված են դրական նշանով)
A28: Միջոցառման դասիչը` | B28: =+'h4'!B24 -> 11006 | C28: Տարի
A29: Միջոցառման անվանումը` | B29: Ֆրանսիայի Հանրապետության կառավարության աջակցությամբ իրականացվող Վեդու ջրամբարի և ոռոգման համակարգի կառուցման ծրագրի խորհրդատվություն և կառավարում
A30: Նկարագրությունը` | B30: Ֆրանսիայի Հանրապետության կառավարության աջակցությամբ իրականացվող Վեդու ջրամբարի և ոռոգման համակարգի համակարգում և ղեկավարում
A31: Միջոցառման տեսակը` | B31: Ծառայությունների մատուցում
A32: Ծառայությունը մատուցող կազմակերպության անվանումը | B32: Մասնագիտացված միավոր
A33: Արդյունքի չափորոշիչներ
A34: Կառավարվող/վերահսկվող խորհրդատվական պայմանագրերի քանակը, հատ | C34: 1
A35: Միջոցառման վրա կատարվող ծախսը (հազար դրամ) | C35: =+'h4'!D24 -> 11921
A38: Ծրագրի դասիչը` | B38: 1004 | C38: Ցուցանիշների փոփոխությունը (նվազեցումները նշված են փակագծերում)
A40: Միջոցառման դասիչը` | B40: =+'h4'!B30 -> 11007 | C40: Տարի
A41: Միջոցառման անվանումը` | B41: Գերմանիայի զարգացման վարկերի բանկի աջակցությամբ իրականացվող Ախուրյան գետի ջրային ռեսուրսների ինտեգրացված կառավարում ծրագրի խորհրդատվություն և կառավարում
A42: Նկարագրությունը` | B42: Գերմանիայի զարգացման վարկերի բանկի աջակցությամբ իրականացվող Ախուրյան գետի ջրային ռեսուրսների ինտեգրացված կառավարում ծրագրի համակարգում և ղեկավարում
A43: Միջոցառման տեսակը` | B43: Ծառայությունների մատուցում
A44: Ծառայությունը մատուցող կազմակերպության անվանումը | B44: Մասնագիտացված միավոր
A45: Արդյունքի չափորոշիչներ
A46: Միջոցառման վրա կատարվող ծախսը (հազար դրամ) | C46: =+'h4'!D30 -> -41000
A49: Ծրագրի դասիչը` | B49: 1004 | C49: Ցուցանիշների փոփոխությունը (նվազեցումները նշված են փակագծերում)
A51: Միջոցառման դասիչը` | B51: =+'h4'!B36 -> 11009 | C51: Տարի
A52: Միջոցառման անվանումը` | B52: Գերմանիայի զարգացման վարկերի բանկի աջակցությամբ իրականացվող Ախուրյան գետի ջրային ռեսուրսների ինտեգրացված կառավարման դրամաշնորհային ծրագիր
A53: Նկարագրությունը` | B53: Գերմանիայի զարգացման վարկերի բանկի աջակցությամբ իրականացվող Ախուրյան գետի ջրային ռեսուրսների ինտեգրացված կառավարման դրամաշնորհային ծրագրի համակարգում և ղեկավարում
...

Sheet h10
B1: Հավելված N 10
B2: ՀՀ կառավարության 2024 թվականի
B3: -ի N -Ն որոշման
B5: ՀԱՅԱՍՏԱՆԻ ՀԱՆՐԱՊԵՏՈՒԹՅԱՆ ԿԱՌԱՎԱՐՈՒԹՅԱՆ 2023 ԹՎԱԿԱՆԻ ԴԵԿՏԵՄԲԵՐԻ 28-Ի N 2323-Ն ՈՐՈՇՄԱՆ N 9.1 ՀԱՎԵԼՎԱԾԻ N 9.1.7, N 9.1.25 ԵՎ 9.1.58 ԱՂՅՈՒՍԱԿՆԵՐՈՒՄ ԿԱՏԱՐՎՈՂ ՓՈՓՈԽՈՒԹՅՈՒՆՆԵՐԸ ԵՎ ԼՐԱՑՈՒՄՆԵՐԸ
D7: Աղյուսակ 9.1.7
B8: ՀՀ տարածքային կառավարման և ենթակառուցվածքների նախարարություն
B9: ՄԱՍ 1. ՊԵՏԱԿԱՆ ՄԱՐՄՆԻ ԳԾՈՎ ԱՐԴՅՈՒՆՔԱՅԻՆ (ԿԱՏԱՐՈՂԱԿԱՆ) ՑՈՒՑԱՆԻՇՆԵՐԸ
B12: Ծրագրի դասիչը | C12: Ծրագրի անվանումը
B13: 1019 | C13: =+'h4'!C73 -> Սոցիալական ներդրումների և տեղական զարգացման ծրագիր
B15: Ծրագրի միջոցառումները
B17: Ծրագրի դասիչը` | C17: 1019 | D17: Ցուցանիշների փոփոխությունը (ավելացումները նշված են դրական նշանով, իսկ նվազեցումները` փակագծերում)
B19: Միջոցառման դասիչը` | C19: =+'h4'!B78 -> 12004 | D19: Տարի
B20: Միջոցառման անվանումը` | C20: Համաշխարհային բանկի աջակցությամբ իրականացվող Սոցիալական ներդրումների և տեղական զարգացման ծրագրի լրացուցիչ ֆինանսավորման վարկի շրջանակներում ՀՀ համայնքային և միջհամայնքային ենթակառուցվածքների որակի, օգտագործման և հասանելիության բարելավում:
B21: Նկարագրությունը` | C21: Ջրագծերի, առողջապահության, կրթության օբյեկտների, մշակույթային տների, ծերանոցների, մանկատների, հատուկ դպրոցների, մանկապարտզների և կոյուղու օբյեկտնրի հիմն. և շինարարություն., գույքի և սարքավորումների տրամադրում շահառու ենթածրագրերի համար:
B22: Միջոցառման տեսակը` | C22: Տրանսֆերտների տրամադրում
B23: Շահառուների ընտրության չափանիշները | C23: ՀՀ բնակչություն
B24: Արդյունքի չափորոշիչներ
B25: Կառուցվող, վերակառուցվող, հիմնանորոգվող դպրոցների/մարզադպրոցների թիվ | D25: 2
B26: Խմելու ջրի ջրամատակարարման ենթածրագրերի թիվը | D26: 1
B27: Կառուցվող, վերակառուցվող, համայնքային կենտրոններ | D27: -1
B28: Միջոցառման վրա կատարվող ծախսը (հազար դրամ) | D28: =+'h7'!D82 -> -92590
B31: Ծրագրի դասիչը` | C31: 1019 | D31: Ցուցանիշների փոփոխությունը (նվազեցումները նշված են փակագծերում)
B33: Միջոցառման դասիչը` | C33: =+'h9'!B137 -> 12005 | D33: Տարի
B34: Միջոցառման անվանումը` | C34: ԱՄՆ ՄԶԳ աջակցությամբ իրականացվող Տեղականինքնակառավարման և ապակենտրոնացման բարեփոխումների դրամաշնորհային ծրագրի շրջանակներումՏեղական կառավարման համակարգերի հզորացում,ապակենտրոնացման գործընթացներին աջակցություն,պիլոտային ծրագրերի իրականացում
B35: Նկարագրությունը` | C35: ԱՄՆ ՄԶԳ աջակցությամբ իրականացվող Տեղականինքնակառավարման և ապակենտրոնացմանբարեփոխումների դրամաշնորհային ծրագրիշրջանակներում մեքենասարքավորումներիտրամադրում և համայնքային մակարդակիենթակառուցվածքների կառուցում և վերականգնում
B36: Միջոցառման տեսակը` | C36: Տրանսֆերտների տրամադրում
B37: Շահառուների ընտրության չափանիշները | C37: ՀՀ բնակչություն
B38: Արդյունքի չափորոշիչներ
B39: Միջոցառման վրա կատարվող ծախսը (հազար դրամ) | D39: =+'h9'!C143 -> -66000
B42: Ծրագրի դասիչը` | C42: 1019 | D42: Ցուցանիշների փոփոխությունը (ավելացումները նշված են դրական նշանով)
B44: Միջոցառման դասիչը` | C44: =+'h9'!B148 -> 12007 | D44: Տարի
B45: Միջոցառման անվանումը` | C45: =+'h9'!B149 -> Համայնքների պոլիկլինիկաների տեխնիկական վերազինում
B46: Նկարագրությունը` | C46: =+'h9'!B150 -> Համայնքներում պոլիկլինիկաների տեխնիկական հագեցվածության ապահովում
B47: Միջոցառման տեսակը` | C47: =+'h9'!B151 -> Տրանսֆերտների տրամադրում
B48: Ակտիվն օգտագործող կազմակերպության(ների) անվանում(ները)՛ | C48: Մասնագիտացված միավոր
B49: Արդյունքի չափորոշիչներ
B50: Միջոցառման վրա կատարվող ծախսը (հազար դրամ) | D50: =+'h9'!C154 -> 7370
B53: Ծրագրի դասիչը | C53: Ծրագրի անվանումը
B54: 1072 | C54: Ջրամատակարարաման և ջրահեռացման բարելավում
B56: Ծրագրի միջոցառումները
...

Sheet h11
G1: Հավելված N 11
A2: ՀՀ կառավարության 2024 թվականի
A3: -ի N -Ն որոշման
A4: ՀԱՅԱՍՏԱՆԻ ՀԱՆՐԱՊԵՏՈՒԹՅԱՆ ԿԱՌԱՎԱՐՈՒԹՅԱՆ ՊԱՀՈՒՍՏԱՅԻՆ ՖՈՆԴԻՑ ԿԱՏԱՐՎՈՂ ՀԱՏԿԱՑՈՒՄԸ
G5: հազ․ դրամ
A6: Գործառական դասիչը | D6: Ծրագրային դասիչը | F6: Բյուջետային ծախսերի գործառական դասակարգման բաժինների, խմբերի և դասերի, բյուջետային ծրագրերի միջոցառումների, բյուջետային հատկացումների գլխավոր կարգադրիչների անվանումները | G6: Ցուցանիշների փոփոխությունը (ավելացումները նշված են դրական նշանով, իսկ նվազեցումները՝ փակագծերում)
G7: Տարի
A8: Բաժին | B8: Խումբ | C8: Դաս | D8: Ծրագիր | E8: Միջոցառում
F9: ԸՆԴԱՄԵՆԸ ԾԱԽՍԵՐ | G9: =+G11+G30 -> 0
F10: այդ թվում`
F11: ՀՀ կառավարություն | G11: =G12 -> -925036.3
A12: 11 | F12: ՀԻՄՆԱԿԱՆ ԲԱԺԻՆՆԵՐԻՆ ՉԴԱՍՎՈՂ ՊԱՀՈՒՍՏԱՅԻՆ ՖՈՆԴԵՐ | G12: =G14 -> -925036.3
F13: այդ թվում`
B14: 01 | F14: ՀՀ կառավարության և համայնքների պահուստային ֆոնդ | G14: =G16 -> -925036.3
F15: այդ թվում`
C16: 01 | F16: ՀՀ կառավարության պահուստային ֆոնդ | G16: =G18 -> -925036.3
F17: այդ թվում`
F18: ՀՀ կառավարություն | G18: =G20 -> -925036.3
F19: այդ թվում`
D20: 1139 | F20: ՀՀ կառավարության պահուստային ֆոնդ | G20: =G22 -> -925036.3
F21: այդ թվում`
E22: 11001 | F22: ՀՀ կառավարության պահուստային ֆոնդ | G22: =G24 -> -925036.3
F23: այդ թվում` ըստ կատարողների
F24: ՀՀ կառավարություն | G24: =G26 -> -925036.3
F25: այդ թվում` բյուջետային ծախսերի տնտեսագիտական դասակարգման հոդվածներ
F26: ԸՆԴԱՄԵՆԸ ԾԱԽՍԵՐ | G26: =G27 -> -925036.3
F27: ԸՆԹԱՑԻԿ ԾԱԽՍԵՐ | G27: =G28 -> -925036.3
F28: ԱՅԼ ԾԱԽՍԵՐ | G28: =G29 -> -925036.3
F29: Պահուստային միջոցներ | G29: =-'h6'!G12 -> -925036.3
F30: ՀՀ տարածքային կառավարման և ենթակառուցվածքների նախարարություն | G30: =G31+G50 -> 925036.3
A31: 04 | F31: ՏՆՏԵՍԱԿԱՆ ՀԱՐԱԲԵՐՈՒԹՅՈՒՆՆԵՐ | G31: =+G33 -> 7370
F32: այդ թվում`
B33: 09 | F33: Տնտեսական հարաբերություններ (այլ դասերին չպատկանող) | G33: =+G35 -> 7370
F34: այդ թվում`
C35: 01 | F35: Տնտեսական հարաբերություններ (այլ դասերին չպատկանող) | G35: =+G37 -> 7370
F36: այդ թվում`
F37: ՀՀ տարածքային կառավարման և ենթակառուցվածքների նախարարություն | G37: =G39 -> 7370
F38: այդ թվում`
D39: 1019 | F39: Սոցիալական ներդրումների և տեղական զարգացման ծրագիր | G39: =G41 -> 7370
F40: այդ թվում` | G40: =+'h7'!F11+'h8'!F11+'h6'!G12 -> 0
...
