Workbook
Name _tab10: #REF!
Name _tab11: #REF!
Name _tab12: #REF!
Name _tab13: #REF!
Name _tab14: #REF!
Name _tab15: #REF!
Name _tab16: #REF!
Name _tab17: #REF!
Name _tab18: #REF!
Name _tab19: #REF!
Name _tab20: #REF!
Name _tab21: #REF!
Name _tab22: #REF!
Name _tab23: #REF!
Name _tab24: #REF!
Name _tab5: #REF!
Name _tab6: #REF!
Name _tab7: #REF!
Name _tab8: #REF!
Name _tab9: #REF!
Name aaa: #REF!
Name aaa: #REF!
Name aaa: #REF!
Name AgencyCode: #REF!
Name AgencyCode: #REF!
Name AgencyCode: #REF!
Name AgencyName: #REF!
Name AgencyName: #REF!
Name AgencyName: #REF!
Name alis: #REF!
Name alisa: #REF!
Name als: #REF!
Name åû: #REF!
Name davit: #REF!
Name fff: #REF!
Name Functional1: #REF!
Name Functional1: #REF!
Name Functional1: #REF!
Name ggg: #REF!
Name ggg: #REF!
Name ggg: #REF!
Name h: #REF!
Name mas: #REF!
Name mass: #REF!
Name PANature: #REF!
Name PANature: #REF!
Name PANature: #REF!
Name par_count: #REF!,#REF!,#REF!,#REF!,#REF!,#REF!,#REF!,#REF!,#REF!,#REF!,#REF!,#REF!,#REF!,#REF!,#REF!
Name par_qual: #REF!,#REF!,#REF!,#REF!,#REF!
Name par_time: #REF!,#REF!,#REF!,#REF!
Name par2.12s: #REF!
Name par2.4s: #REF!,#REF!,#REF!,#REF!,#REF!,#REF!,#REF!,#REF!,#REF!,#REF!,#REF!,#REF!,#REF!,#REF!,#REF!,#REF!
Name par2.5s: #REF!,#REF!
Name par2.6s: #REF!,#REF!,#REF!,#REF!
Name par2.7s: #REF!,#REF!
Name par2.9s: #REF!,#REF!,#REF!,#REF!,#REF!,#REF!,#REF!,#REF!,#REF!,#REF!,#REF!,#REF!,#REF!,#REF!,#REF!,#REF!
Name par4.10s: #REF!,#REF!
Name par4.11d: #REF!,#REF!,#REF!,#REF!,#REF!
Name par4.12d: #REF!
Name par4.13s: #REF!

Sheet հավելված1
B1: Հավելված № 1
B2: ՀՀ կառավարության 2024 թվականի
B3: ------------------------ -ի N ---------- որոշման
A6: «ՀԱՅԱՍՏԱՆԻ ՀԱՆՐԱՊԵՏՈՒԹՅԱՆ 2024 ԹՎԱԿԱՆԻ ՊԵՏԱԿԱՆ ԲՅՈՒՋԵԻ ՄԱՍԻՆ» ՀԱՅԱՍՏԱՆԻ ՀԱՆՐԱՊԵՏՈՒԹՅԱՆ ՕՐԵՆՔԻ 2-ՐԴ ՀՈԴՎԱԾԻ ԱՂՅՈՒՍԱԿՈՒՄ ԿԱՏԱՐՎՈՂ ՓՈՓՈԽՈՒԹՅՈՒՆՆԵՐԸ
B7: հազար դրամներով
B8: Ցուցանիշների փոփոխությունները (նվազեցումները նշված են փակագծերում)
A9: Եկամուտների գծով | B9: 0
A10: Ծախսերի գծով | B10: =+B11+B9 -> -100000
A11: Դեֆիցիտը (պակասուրդը) | B11: -100000

Sheet հավելված 2
B1: Հավելված N2
B2: ՀՀ կառավարության 2024 թվականի
B3: ______________ ի ___Ն որոշման
A4: «ՀԱՅԱUՏԱՆԻ ՀԱՆՐԱՊԵՏՈՒԹՅԱՆ 2024 ԹՎԱԿԱՆԻ ՊԵՏԱԿԱՆ ԲՅՈՒՋԵԻ ՄԱUԻՆ» OՐԵՆՔԻ N 3 ՀԱՎԵԼՎԱԾԻ N 1 ԱՂՅՈՒՍԱԿՈՒՄ ԵՎ ՀՀ ԿԱՌԱՎԱՐՈՒԹՅԱՆ 2023 ԹՎԱԿԱՆԻ ԴԵԿՏԵՄԲԵՐԻ 28-Ի N 2323-Ն ՈՐՈՇՄԱՆ N 1 ՀԱՎԵԼՎԱԾԻ N 1 ԱՂՅՈՒՍԱԿՈՒՄ ԿԱՏԱՐՎՈՂ ՓՈՓՈԽՈՒԹՅՈՒՆՆԵՐԸ
B5: հազար դրամներով
A6: Պետական բյուջեի դեֆիցիտի ֆինանսավորման աղբյուրներն ու դրանց տարրերի անվանումները | B6: Ցուցանիշների փոփոխությունները (նվազեցումները նշված են փակագծերում)
B7: տարի
A8: ԸՆԴԱՄԵՆԸ | B8: =+B10 -> -100000
A9: այդ թվում՝
A10: Բ. Արտաքին աղբյուրներ - ընդամենը | B10: =+B12 -> -100000
A11: այդ թվում
A12: 1. Փոխառու զուտ միջոցներ | B12: =+B14 -> -100000
A13: այդ թվում՝
A14: 1.1. Վարկերի և փոխատվությունների ստացում | B14: =+B16 -> -100000
A15: որից`
A16: - նպատակային վարկերի գծով | B16: -100000

Sheet հավելված3
D1: Հավելված № 3 ՀՀ կառավարության 2024 թվականի ––-------------------–N –––––– որոշման
A3: «ՀԱՅԱUՏԱՆԻ ՀԱՆՐԱՊԵՏՈՒԹՅԱՆ 2024 ԹՎԱԿԱՆԻ ՊԵՏԱԿԱՆ ԲՅՈՒՋԵԻ ՄԱUԻՆ» OՐԵՆՔԻ N 1 ՀԱՎԵԼՎԱԾԻ N 2 ԱՂՅՈՒՍԱԿՈՒՄ ԿԱՏԱՐՎՈՂ ՎԵՐԱԲԱՇԽՈՒՄԸ ԵՎ ՀԱՅԱՍՏԱՆԻ ՀԱՆՐԱՊԵՏՈՒԹՅԱՆ ԿԱՌԱՎԱՐՈՒԹՅԱՆ 2023 ԹՎԱԿԱՆԻ ԴԵԿՏԵՄԲԵՐԻ 28-Ի N 2323-Ն ՈՐՈՇՄԱՆ N 5 ՀԱՎԵԼՎԱԾԻ N 1 ԱՂՅՈՒՍԱԿՈՒՄ ԿԱՏԱՐՎՈՂ ՓՈՓՈԽՈՒԹՅՈՒՆՆԵՐԸ ԵՎ ԼՐԱՑՈՒՄԸ
D4: հազար դրամներով
A5: Ծրագրային դասիչը | C5: Բյուջետային հատկացումների գլխավոր կարգադրիչների, ծրագրերի և միջոցառումների անվանումները | D5: Ցուցանիշների փոփոխությունը (ավելացումները նշված են դրական նշանով, իսկ նվազեցումները` փակագծերում)
A6: Ծրագիր | B6: Միջոցառում | D6: Տարի
B7: ԸՆԴԱՄԵՆԸ | D7: =+D8 -> -100000
A8: ՀՀ էկոնոմիկայի նախարարություն | D8: =+D40+D9 -> -100000
A9: 1086 | C9: Ծրագրի անվանումը` | D9: =+D16+D22+D28+D34 -> 0
C10: Գյուղական ենթակառուցվածքների վերականգնում և զարգացում
C11: Ծրագրի նպատակը`
C12: Գյուղատնտեսության ոլորտի արդյունավետության աճ
C13: Վերջնական արդյունքի նկարագրությունը`
C14: Գյուղատնտեսական արտադրանքի ծավալների ավելացում
A15: Ծրագրի միջոցառումներ
B16: 11004 | C16: Միջոցառման անվանումը` | D16: 156990
C17: Զարգացման ֆրանսիական գործակալության աջակցությամբ իրականացվող ՀՀ Արարատի և Արմավիրի մարզերում» ոռոգվող գյուղատնտեսության զարգացման դրամաշնորհային ծրագրի համակարգում և ղեկավարում
C18: Միջոցառման նկարագրությունը`
C19: Զարգացման ֆրանսիական գործակալության աջակցությամբ իրականացվող ՀՀ Արարատի և Արմավիրի մարզերում ոռոգվող գյուղատնտեսության զարգացման դրամաշնորհային ծրագրի համակարգում և ղեկավարում
C20: Միջոցառման տեսակը
C21: Ծառայությունների մատուցում
B22: 12003 | C22: Միջոցառման անվանումը` | D22: -163305
C23: Զարգացման ֆրանսիական գործակալության աջակցությամբ ՀՀ Արարատի և Արմավիրի մարզերում ժամանակակից պահանջներին համապատասխան ոռոգման համակարգերի ներդրման և զարգացմանն աջակցություն
C24: Միջոցառման նկարագրությունը`
C25: Արարատի և Արմավիրի մարզերում ժամանակակից պահանջներին համապատասխան ոռոգման համակարգերի ներդրմանը աջակցություն
C26: Միջոցառման տեսակը
C27: Տրանսֆերտների տրամադրում
B28: 31001 | C28: Միջոցառման անվանումը` | D28: -1800
C29: Զարգացման ֆրանսիական գործակալության աջակցությամբ իրականացվող ՀՀ Արարատի և Արմավիրի մարզերում Ոռոգվող գյուղատնտեսության զարգացման դրամաշնորհային ծրագիր
C30: Միջոցառման նկարագրությունը`
C31: Ծրագրի իրականացման համար աշխատանքային պայմանների ապահովման նպատակով վարչական սարքավորումների ձեռք բերում
C32: Միջոցառման տեսակը
C33: Պետական մարմինների կողմից օգտագործվող ոչ ֆինանսական ակտիվների հետ գործառնություններ
B34: 11005 | C34: Միջոցառման անվանումը` | D34: =+'հավելված4 '!G43 -> 8115
C35: Ասիական զարգացման բանկի աջակցությամբ իրականացվող "Կլիմային հարմարվողական պարենային անվտանգության" դրամաշնորհային ծրագրի համակարգում և ղեկավարում
C36: Միջոցառման նկարագրությունը`
C37: Ներդրումներ կլիմայադիմակայուն գյուղատնտեսության և պարենային անվտանգության բարձրացման նպատակով, ինչն ուղղվելու է երկու մարզերին՝ Շիրակի և Տավուշի, որտեղ փոքր ֆերմերները բախվում են բարձր աղքատության, պարենային անապահովության և կլիմայական ռիսկերի:
C38: Միջոցառման տեսակը
C39: Ծառայությունների մատուցում
A40: 1104 | C40: Ծրագրի անվանումը` | D40: =+D47 -> -100000
C41: Գիտելիքահենք, նորարարական տնտեսությանը և փոքր ու միջին ձեռնարկատիրությանը աջակցություն
C42: Ծրագրի նպատակը`
C43: Արտադրողականության բարձրացման նպատակով տնտեսության թվայնացման, նորարարական էլեկտրոնային կառավարման համակարգերի ներդրման, գիտելիքահենք գործարարությանը և փոքր ու միջին ձեռնարկատիրությանը աջակցություն
C44: Վերջնական արդյունքի նկարագրությունը`
C45: Արտադրողականության աճ, նորարարական և թվայնացված տնտեսություն, ՓՄՁ սուբյեկտների թվաքանակի ավելացում
C46: Ծրագրի միջոցառումներ
B47: 11003 | C47: Միջոցառման անվանումը` | D47: -100000
C48: Համաշխարհային բանկի աջակցությամբ իրականացվող Տեխնոլոգիաների առևտրայնացման ենթակառուցվածքի զարգացում
C49: Միջոցառման նկարագրությունը`
C50: Տեխնոլոգիաների առևտրայնացման գործուն մեխանիզմների մշակումը, ներդրումն ու զարգացումը և պոտենցիալ առևտրային արժեք ներկայացնող գիտական արդյունքի հայտնաբերման և դրա առևտրային պոտենցիալի գնահատման մեխանիզմների մշակումը ու գնահատումը
C51: Միջոցառման տեսակը
C52: Ծառայությունների մատուցում
A53: ՀՀ կառավարություն | D53: =+D54 -> 0
A54: 1139 | C54: Ծրագրի անվանումը` | D54: =+D61+D67 -> 0
C55: ՀՀ կառավարության պահուստային ֆոնդ
C56: Ծրագրի նպատակը`
C57: Պետական բյուջեում չկանխատեսված, ինչպես նաև բյուջետային երաշխիքների ապահովման ծախսերի ֆինանսավորման ապահովում
C58: Վերջնական արդյունքի նկարագրությունը`
C59: Պահուստային ֆոնդի կառավարման արդյունավետություն և թափանցիկություն
C60: Ծրագրի միջոցառումներ
B61: 11001 | C61: Միջոցառման անվանումը` | D61: 2272
C62: ՀՀ կառավարության պահուստային ֆոնդ
C63: Միջոցառման նկարագրությունը`
C64: ՀՀ պետական բյուջեում նախատեսված ելքերի լրացուցիչ ֆինանսավորման, պետական բյուջեում չկանխատեսված ելքերի, ինչպես նաև բյուջետային երաշխիքների ապահովման ելքերի ֆինանսավորման ապահովում
C65: Միջոցառման տեսակը
C66: Ծառայությունների մատուցում
B67: 11001 | C67: Միջոցառման անվանումը` | D67: -2272
C68: ՀՀ կառավարության պահուստային ֆոնդ
C69: Միջոցառման նկարագրությունը`
C70: ՀՀ պետական բյուջեում նախատեսված ելքերի լրացուցիչ ֆինանսավորման, պետական բյուջեում չկանխատեսված ելքերի, ինչպես նաև բյուջետային երաշխիքների ապահովման ելքերի ֆինանսավորման ապահովում
C71: Միջոցառման տեսակը
C72: Ծառայությունների մատուցում

Sheet հավելված4 
F1: Հավելված № 4 ՀՀ կառավարության 2024 թվականի ––-----------–––––––– N –––––– որոշման
A3: ՀԱՅԱՍՏԱՆԻ ՀԱՆՐԱՊԵՏՈՒԹՅԱՆ ԿԱՌԱՎԱՐՈՒԹՅԱՆ 2023 ԹՎԱԿԱՆԻ ԴԵԿՏԵՄԲԵՐԻ 28-Ի N 2323-Ն ՈՐՈՇՄԱՆ N 3 ԵՎ N 4 ՀԱՎԵԼՎԱԾՆԵՐՈՒՄ ԿԱՏԱՐՎՈՂ ՓՈՓՈԽՈՒԹՅՈՒՆՆԵՐԸ ԵՎ ԼՐԱՑՈՒՄՆԵՐԸ
G4: հազար դրամներով
A5: Գործառական դասիչը | D5: Ծրագրային դասիչը | F5: Բյուջետային ծախսերի գործառական դասակարգման բաժինների, խմբերի և դասերի, բյուջետային ծրագրերի, միջոցառումների բյուջետային հատկացումնեյի գլխավոր կարկադրիչների անվանումները | G5: Ցուցանիշների փոփոխությունը (ավելացումները նշված են դրական նշանով, իսկ նվազեցումները` փակագծերում)
A6: Բաժին | B6: Խումբ | C6: Դաս | D6: Ծրագիր | E6: Միջոցառում | G6: Տարի
F7: ԸՆԴԱՄԵՆԸ | G7: =+G8 -> -100000
F8: ՀՀ էկոնոմիկայի նախարարություն | G8: =+G10 -> -100000
F9: այդ թվում՝
A10: 04 | F10: ՏՆՏԵՍԱԿԱՆ ՀԱՐԱԲԵՐՈՒԹՅՈՒՆՆԵՐ | G10: =+G12+G27 -> -100000
F11: այդ թվում`
B12: ՛01 | F12: Ընդհանուր բնույթի տնտեսական, առևտրային և աշխատանքի գծով հարաբերություններ | G12: =+G14 -> -100000
F13: այդ թվում`
C14: 01 | F14: Ընդհանուր բնույթի տնտեսական և առևտրային հարաբերություններ | G14: =+G16 -> -100000
F15: այդ թվում`
D16: 1104 | F16: Գիտելիքահենք, նորարարական տնտեսությանը և փոքր ու միջին ձեռնարկատիրությանը աջակցություն | G16: =+G18 -> -100000
F17: այդ թվում`
E18: 11003 | F18: Համաշխարհային բանկի աջակցությամբ իրականացվող Տեխնոլոգիաների առևտրայնացման ենթակառուցվածքի զարգացում | G18: =+G20 -> -100000
F19: այդ թվում` ըստ կատարողների
F20: ՀՀ էկոնոմիկայի նախարարություն | G20: =+G22 -> -100000
F21: այդ թվում` բյուջետային ծախսերի տնտեսագիտական դասակարգման հոդվածներ
F22: ԸՆԴԱՄԵՆԸ ԾԱԽՍԵՐ | G22: =+G23 -> -100000
F23: ԸՆԹԱՑԻԿ ԾԱԽՍԵՐ | G23: =+G24 -> -100000
F24: ԴՐԱՄԱՇՆՈՐՀՆԵՐ | G24: =+G25 -> -100000
F25: Ընթացիկ դրամաշնորհներ պետական հատվածի այլ մակարդակներին | G25: =+G26 -> -100000
F26: - Այլ ընթացիկ դրամաշնորհներ | G26: -100000
B27: 02 | F27: Գյուղատնտեսություն, անտառային տնտեսություն, ձկնորսություն և որսորդություն | G27: =+G29 -> 0
F28: այդ թվում`
C29: 01 | F29: Գյուղատնտեսություն | G29: =+G33 -> 0
F30: այդ թվում`
F31: ՀՀ էկոնոմիկայի նախարարություն | G31: =+G33 -> 0
F32: այդ թվում՝
D33: 1086 | F33: Գյուղական ենթակառուցվածքների վերականգնում և զարգացում | G33: =G35+G43+G54+G65 -> 0
F34: այդ թվում`
E35: 11004 | F35: Զարգացման ֆրանսիական գործակալության աջակցությամբ իրականացվող ՀՀ Արարատի և Արմավիրի մարզերում» ոռոգվող գյուղատնտեսության զարգացման դրամաշնորհային ծրագրի համակարգում և ղեկավարում | G35: =+G37 -> 156990
F36: այդ թվում` ըստ կատարողների
F37: ՀՀ էկոնոմիկայի նախարարություն | G37: =+G39 -> 156990
F38: այդ թվում` բյուջետային ծախսերի տնտեսագիտական դասակարգման հոդվածներ
F39: ԸՆԴԱՄԵՆԸ ԾԱԽՍԵՐ | G39: =+G40 -> 156990
F40: ԸՆԹԱՑԻԿ ԾԱԽՍԵՐ | G40: =+G41 -> 156990
F41: ԱՅԼ ԾԱԽՍԵՐ | G41: =+G42 -> 156990
F42: Այլ ծախսեր | G42: 156990
E43: 11005 | F43: Ասիական զարգացման բանկի աջակցությամբ իրականացվող "Կլիմային հարմարվողական պարենային անվտանգության" դրամաշնորհային ծրագրի համակարգում և ղեկավարում | G43: =+G45 -> 8115
F44: այդ թվում` ըստ կատարողների
F45: ՀՀ էկոնոմիկայի նախարարություն | G45: =+G47 -> 8115
F46: այդ թվում` բյուջետային ծախսերի տնտեսագիտական դասակարգման հոդվածներ
F47: ԸՆԴԱՄԵՆԸ ԾԱԽՍԵՐ | G47: =+G48 -> 8115
F48: ԸՆԹԱՑԻԿ ԾԱԽՍԵՐ | G48: =+G49+G52 -> 8115
F49: ԾԱՌԱՅՈՒԹՅՈՒՆՆԵՐԻ ԵՎ ԱՊՐԱՆՔՆԵՐԻ ՁԵՌՔԲԵՐՈՒՄ | G49: =+G50 -> 8055
F50: Պայմանագրային այլ ծառայությունների ձեռքբերում | G50: =+G51 -> 8055
F51: - Կառավարչական ծառայություններ | G51: 8055
F52: ԱՅԼ ԾԱԽՍԵՐ | G52: =+G53 -> 60
F53: Այլ ծախսեր | G53: 60
E54: 12003 | F54: Զարգացման ֆրանսիական գործակալության աջակցությամբ ՀՀ Արարատի և Արմավիրի մարզերում ժամանակակից պահանջներին համապատասխան ոռոգման համակարգերի ներդրման և զարգացմանն աջակցություն | G54: =+G56 -> -163305
F55: այդ թվում` ըստ կատարողների
F56: ՀՀ էկոնոմիկայի նախարարություն | G56: =+G58 -> -163305
F57: այդ թվում` բյուջետային ծախսերի տնտեսագիտական դասակարգման հոդվածներ
F58: ԸՆԴԱՄԵՆԸ ԾԱԽՍԵՐ | G58: =+G59 -> -163305
F59: ԸՆԹԱՑԻԿ ԾԱԽՍԵՐ | G59: =+G60 -> -163305
F60: ԴՐԱՄԱՇՆՈՐՀՆԵՐ | G60: =+G61+G63 -> -163305
F61: Ընթացիկ դրամաշնորհներ պետական հատվածի այլ մակարդակներին | G61: =+G62 -> -233105
F62: - Այլ ընթացիկ դրամաշնորհներ | G62: -233105
F63: Կապիտալ դրամաշնորհներ պետական հատվածի այլ մակարդակներին | G63: =+G64 -> 69800
F64: - Այլ կապիտալ դրամաշնորհներ | G64: 69800
E65: 31001 | F65: Զարգացման ֆրանսիական գործակալության աջակցությամբ իրականացվող ՀՀ Արարատի և Արմավիրի մարզերում Ոռոգվող գյուղատնտեսության զարգացման դրամաշնորհային ծրագիր | G65: =+G67 -> -1800
F66: այդ թվում` ըստ կատարողների
F67: ՀՀ էկոնոմիկայի նախարարություն | G67: =+G69 -> -1800
F68: այդ թվում` բյուջետային ծախսերի տնտեսագիտական դասակարգման հոդվածներ
F69: ԸՆԴԱՄԵՆԸ ԾԱԽՍԵՐ | G69: =+G70 -> -1800
F70: ՈՉ ՖԻՆԱՆՍԱԿԱՆ ԱԿՏԻՎՆԵՐԻ ԳԾՈՎ ԾԱԽՍԵՐ | G70: =+G71 -> -1800
F71: ՀԻՄՆԱԿԱՆ ՄԻՋՈՑՆԵՐ | G71: =+G72 -> -1800
F72: ՄԵՔԵՆԱՆԵՐ ԵՎ ՍԱՐՔԱՎՈՐՈՒՄՆԵՐ | G72: =+G73+G74 -> -1800
F73: - Վարչական սարքավորումներ | G73: -25800
F74: - Այլ մեքենաներ և սարքավորումներ | G74: 24000
F75: ՀՀ կառավարություն | G75: =+G77 -> 0
F76: այդ թվում`
A77: 11 | F77: Հիմնական բաժիններին չդասվող պահուստային ֆոնդեր | G77: =+G79 -> 0
F78: այդ թվում`
B79: 01 | F79: ՀՀ կառավարության և համայնքների պահուստային ֆոնդ | G79: =+G81 -> 0
F80: այդ թվում`
C81: 01 | F81: ՀՀ կառավարության պահուստային ֆոնդ | G81: =+G83 -> 0
F82: այդ թվում`
D83: 1139 | F83: ՀՀ կառավարության պահուստային ֆոնդ | G83: =+G85+G93 -> 0
F84: այդ թվում`
E85: 11001 | F85: ՀՀ կառավարության պահուստային ֆոնդ | G85: =+G87 -> 2272
F86: այդ թվում` ըստ կատարողների
F87: ՀՀ կառավարություն | G87: =+G89 -> 2272
F88: այդ թվում` բյուջետային ծախսերի տնտեսագիտական դասակարգման հոդվածներ
F89: ԸՆԴԱՄԵՆԸ ԾԱԽՍԵՐ | G89: =+G90 -> 2272
F90: ԸՆԹԱՑԻԿ ԾԱԽՍԵՐ | G90: =G91 -> 2272
F91: ԱՅԼ ԾԱԽՍԵՐ | G91: =+G92 -> 2272
F92: Պահուստային միջոցներ | G92: =+հավելված3!D61 -> 2272
E93: 11001 | F93: ՀՀ կառավարության պահուստային ֆոնդ | G93: =+G95 -> -2272
F94: այդ թվում` ըստ կատարողների
F95: ՀՀ կառավարություն | G95: =+G97 -> -2272
F96: այդ թվում` բյուջետային ծախսերի տնտեսագիտական դասակարգման հոդվածներ
F97: ԸՆԴԱՄԵՆԸ ԾԱԽՍԵՐ | G97: =+G98 -> -2272
F98: ԸՆԹԱՑԻԿ ԾԱԽՍԵՐ | G98: =G99 -> -2272
F99: ԱՅԼ ԾԱԽՍԵՐ | G99: =+G100 -> -2272
F100: Պահուստային միջոցներ | G100: =+հավելված3!D67 -> -2272

Sheet հավելված5
F1: Հավելված № 5
C2: ՀՀ կառավարության 2024 թվականի
C3: ___________ ___-ի N _______ -Ն որոշման
A5: «ՀԱՅԱՍՏԱՆԻ ՀԱՆՐԱՊԵՏՈՒԹՅԱՆ 2024 ԹՎԱԿԱՆԻ ՊԵՏԱԿԱՆ ԲՅՈՒՋԵԻ ՄԱՍԻՆ» ՕՐԵՆՔԻ N 1 ՀԱՎԵԼՎԱԾԻ N 4 ԱՂՅՈՒՍԱԿՈՒՄ ԵՎ ՀԱՅԱՍՏԱՆԻ ՀԱՆՐԱՊԵՏՈՒԹՅԱՆ ԿԱՌԱՎԱՐՈՒԹՅԱՆ 2023 ԹՎԱԿԱՆԻ ԴԵԿՏԵՄԲԵՐԻ 28-Ի N 2323-Ն ՈՐՈՇՄԱՆ N 5 ՀԱՎԵԼՎԱԾԻ N 3 ԱՂՅՈՒՍԱԿՈՒՄ ԿԱՏԱՐՎՈՂ ՓՈՓՈԽՈՒԹՅՈՒՆՆԵՐԸ
E6: հազար դրամներով
A7: Ծրագրային դասիչը | C7: Բյուջետային հատկացումների գլխավոր կարգադրիչների, ծրագրերի, միջոցառումների և միջոցառումները կատարող պետական մարմինների անվանումները | D7: Ցուցանիշների փոփոխությունները (նվազեցումները նշված են փակագծերում)
D8: Տարի
A9: Ծրագիր | B9: Միջոց_x000D_առում | D9: Ընդամենը | E9: այդ թվում`
E10: Վարկային միջոցներ | F10: Համաֆինանսավորում
C11: ԸՆԴԱՄԵՆԸ | D11: =+D12+D15 -> -100000 | E11: =+E12+E15 -> -100000 | F11: =+F12 -> 0
C12: այդ թվում` | D12: =+D16 -> 0 | F12: =+F22 -> 0
C13: Էկոնոմիկայի նախարարություն | D13: =+D15+D16 -> -100000 | E13: =+E15+E16 -> -100000 | F13: =+F15+F16 -> 0
C14: այդ թվում`
C15: ԸՆԹԱՑԻԿ ԾԱԽՍԵՐ | D15: =+D17 -> -100000 | E15: =+E17 -> -100000 | F15: 0
C16: ՈՉ ՖԻՆԱՆՍԱԿԱՆ ԱԿՏԻՎՆԵՐԻ ԳԾՈՎ ԾԱԽՍԵՐ | D16: 0 | E16: 0 | F16: =+F17 -> 0
A17: 1104 | C17: Գիտելիքահենք, նորարարական տնտեսությանը և փոքր ու միջին ձեռնարկատիրությանը աջակցություն | D17: =+D19 -> -100000 | E17: =+E19 -> -100000 | F17: =+F19 -> 0
C18: այդ թվում`
B19: 11003 | C19: Համաշխարհային բանկի աջակցությամբ իրականացվող Տեխնոլոգիաների առևտրայնացման ենթակառուցվածքի զարգացում | D19: =+D21 -> -100000 | E19: =+E21 -> -100000 | F19: =+F21 -> 0
C20: այդ թվում` ըստ կատարողների
C21: ՀՀ էկոնոմիկայի նախարարություն | D21: =+D22 -> -100000 | E21: =+E22 -> -100000 | F21: =+F22 -> 0
C22: այդ թվում` բյուջետային ծախսերի տնտեսագիտական դասակարգման հոդվածներ | D22: =+D23 -> -100000 | E22: =+E23 -> -100000 | F22: =+F23 -> 0
C23: ԸՆԴԱՄԵՆԸ ԾԱԽՍԵՐ | D23: =+D24 -> -100000 | E23: =+E24 -> -100000 | F23: =+F24 -> 0
C24: ԸՆԹԱՑԻԿ ԾԱԽՍԵՐ | D24: =+D25 -> -100000 | E24: =+E25 -> -100000 | F24: =+F25 -> 0
C25: ԴՐԱՄԱՇՆՈՐՀՆԵՐ | D25: =+D26 -> -100000 | E25: =+E26 -> -100000 | F25: =+F26 -> 0
C26: Ընթացիկ դրամաշնորհներ պետական հատվածի այլ մակարդակներին | D26: =+D27 -> -100000 | E26: =+E27 -> -100000 | F26: =+F27 -> 0
C27: - Այլ ընթացիկ դրամաշնորհներ | D27: =+E27 -> -100000 | E27: -100000 | F27: 0

Sheet Հավելված 6
F1: Հավելված 6
F2: ՀՀ կառավարության 2024 թվականի
F3: ______________ ի ___Ն որոշման
A5: «ՀԱՅԱՍՏԱՆԻ ՀԱՆՐԱՊԵՏՈՒԹՅԱՆ 2024 ԹՎԱԿԱՆԻ ՊԵՏԱԿԱՆ ԲՅՈՒՋԵԻ ՄԱՍԻՆ» ՕՐԵՆՔԻ N 1 ՀԱՎԵԼՎԱԾԻ N 5 ԱՂՅՈՒՍԱԿՈՒՄ ԿԱՏԱՐՎՈՂ ՎԵՐԱԲԱՇԽՈՒՄԸ, ԼՐԱՑՈՒՄԸ ԵՎ ՀԱՅԱՍՏԱՆԻ ՀԱՆՐԱՊԵՏՈՒԹՅԱՆ ԿԱՌԱՎԱՐՈՒԹՅԱՆ 2023 ԹՎԱԿԱՆԻ ԴԵԿՏԵՄԲԵՐԻ 28-Ի N 2323-Ն ՈՐՈՇՄԱՆ N5 ՀԱՎԵԼՎԱԾԻ N 4 ԱՂՅՈՒՍԱԿՈՒՄ ԿԱՏԱՐՎՈՂ ՓՈՓՈԽՈՒԹՅՈՒՆՆԵՐԸ ԵՎ ԼՐԱՑՈՒՄՆԵՐԸ
F7: հազար դրամներով
A8: Ծրագրային դասիչը | C8: Բյուջետային հատկացումների գլխավոր կարգադրիչների, ծրագրերի, միջոցառումների և միջոցառումները կատարող պետական մարմինների անվանումները | D8: Ցուցանիշների փոփոխությունը (ավելացումները նշված են դրական նշանով, իսկ նվազեցումները` փակագծերում)
D9: Տարի
D10: Ընդամենը | E10: այդ թվում`
A11: Ծրագիր | B11: Միջոցառում | E11: Դրամաշնորհային միջոցներ | F11: Համաֆինան սավորում
C12: ԸՆԴԱՄԵՆԸ | D12: =+D16 -> 0 | E12: =+E16 -> 0 | F12: =+F16 -> 0
C13: այդ թվում`
C14: ԸՆԹԱՑԻԿ ԾԱԽՍԵՐ | D14: =+E14+F14 -> 1800 | E14: =+E20+E28+E39 -> 1500 | F14: =+F20+F28+F39 -> 300
C15: ՈՉ ՖԻՆԱՆՍԱԿԱՆ ԱԿՏԻՎՆԵՐԻ ԳԾՈՎ ԾԱԽՍԵՐ | D15: -1800 | E15: =+E50 -> -1500 | F15: =+F50 -> -300
C16: ՀՀ ԷԿՈՆՈՄԻԿԱՅԻ ՆԱԽԱՐԱՐՈՒԹՅՈՒՆ | D16: =+D18 -> 0 | E16: =+E18 -> 0 | F16: =+F18 -> 0
C17: այդ թվում՝
A18: 1086 | C18: Գյուղական ենթակառուցվածքների վերականգնում և զարգացում | D18: =E18+F18 -> 0 | E18: =+E20+E50+E39+E28 -> 0 | F18: =+F20+F50+F39+F28 -> 0
C19: այդ թվում`
B20: 11004 | C20: Զարգացման ֆրանսիական գործակալության աջակցությամբ իրականացվող ՀՀ Արարատի և Արմավիրի մարզերում» ոռոգվող գյուղատնտեսության զարգացման դրամաշնորհային ծրագրի համակարգում և ղեկավարում | D20: =+D22 -> 156990 | E20: =+E22 -> 149110 | F20: =+F22 -> 7880
C21: այդ թվում` ըստ կատարողների
C22: ՀՀ էկոնոմիկայի նախարարություն | D22: =+D24 -> 156990 | E22: =+E24 -> 149110 | F22: =+F24 -> 7880
C23: այդ թվում` բյուջետային ծախսերի տնտեսագիտական դասակարգման հոդվածներ
C24: ԸՆԴԱՄԵՆԸ ԾԱԽՍԵՐ | D24: =+D25 -> 156990 | E24: =+E25 -> 149110 | F24: =+F25 -> 7880
C25: ԸՆԹԱՑԻԿ ԾԱԽՍԵՐ | D25: =D26 -> 156990 | E25: =E26 -> 149110 | F25: =F26 -> 7880
C26: ԱՅԼ ԾԱԽՍԵՐ | D26: =+D27 -> 156990 | E26: =+E27 -> 149110 | F26: =+F27 -> 7880
C27: Այլ ծախսեր | D27: =+E27+F27 -> 156990 | E27: 149110 | F27: 7880
B28: 11005 | C28: Ասիական զարգացման բանկի աջակցությամբ իրականացվող "Կլիմային հարմարվողական պարենային անվտանգության" դրամաշնորհային ծրագրի համակարգում և ղեկավարում | D28: =+D30 -> 8115 | E28: =+E30 -> 5843 | F28: =+F30 -> 2272
C29: այդ թվում` ըստ կատարողների
C30: ՀՀ էկոնոմիկայի նախարարություն | D30: =+D32 -> 8115 | E30: =+E32 -> 5843 | F30: =+F32 -> 2272
C31: այդ թվում` բյուջետային ծախսերի տնտեսագիտական դասակարգման հոդվածներ
C32: ԸՆԴԱՄԵՆԸ ԾԱԽՍԵՐ | D32: =+D33 -> 8115 | E32: =+E33 -> 5843 | F32: =+F33 -> 2272
C33: ԸՆԹԱՑԻԿ ԾԱԽՍԵՐ | D33: =+D34+D37 -> 8115 | E33: =+E34+E37 -> 5843 | F33: =+F34+F37 -> 2272
C34: ԾԱՌԱՅՈՒԹՅՈՒՆՆԵՐԻ ԵՎ ԱՊՐԱՆՔՆԵՐԻ ՁԵՌՔԲԵՐՈՒՄ | D34: =+D35 -> 8055 | E34: =+E35 -> 5793 | F34: =+F35 -> 2262
C35: Պայմանագրային այլ ծառայությունների ձեռքբերում | D35: =SUM(D36:D36) -> 8055 | E35: =SUM(E36:E36) -> 5793 | F35: =SUM(F36:F36) -> 2262
C36: - Կառավարչական ծառայություններ | D36: =+E36+F36 -> 8055 | E36: 5793 | F36: 2262
C37: ԱՅԼ ԾԱԽՍԵՐ | D37: =+D38 -> 60 | E37: =+E38 -> 50 | F37: =+F38 -> 10
C38: Այլ ծախսեր | D38: =+E38+F38 -> 60 | E38: 50 | F38: 10
B39: 12003 | C39: Զարգացման ֆրանսիական գործակալության աջակցությամբ ՀՀ Արարատի և Արմավիրի մարզերում ժամանակակից պահանջներին համապատասխան ոռոգման համակարգերի ներդրման և զարգացմանն աջակցություն | D39: =+D41 -> -163305 | E39: =+E41 -> -153453 | F39: =+F41 -> -9852
C40: այդ թվում` ըստ կատարողների
C41: ՀՀ էկոնոմիկայի նախարարություն | D41: =+D43 -> -163305 | E41: =+E43 -> -153453 | F41: =+F43 -> -9852
C42: այդ թվում` բյուջետային ծախսերի տնտեսագիտական դասակարգման հոդվածներ
C43: ԸՆԴԱՄԵՆԸ ԾԱԽՍԵՐ | D43: =+D44 -> -163305 | E43: =+E44 -> -153453 | F43: =+F44 -> -9852
C44: ԸՆԹԱՑԻԿ ԾԱԽՍԵՐ | D44: =+D45 -> -163305 | E44: =+E45 -> -153453 | F44: =+F45 -> -9852
C45: ԴՐԱՄԱՇՆՈՐՀՆԵՐ | D45: =+D46+D48 -> -163305 | E45: =+E46+E48 -> -153453 | F45: =+F46+F48 -> -9852
C46: Ընթացիկ դրամաշնորհներ պետական հատվածի այլ մակարդակներին | D46: =+D47 -> -233105 | E46: =+E47 -> -194953 | F46: =+F47 -> -38152
C47: - Այլ ընթացիկ դրամաշնորհներ | D47: =+E47+F47 -> -233105 | E47: -194953 | F47: -38152
C48: Կապիտալ դրամաշնորհներ պետական հատվածի այլ մակարդակներին | D48: =+D49 -> 69800 | E48: =+E49 -> 41500 | F48: =+F49 -> 28300
C49: - Այլ կապիտալ դրամաշնորհներ | D49: =+E49+F49 -> 69800 | E49: 41500 | F49: 28300
B50: 31001 | C50: Զարգացման ֆրանսիական գործակալության աջակցությամբ իրականացվող ՀՀ Արարատի և Արմավիրի մարզերում Ոռոգվող գյուղատնտեսության զարգացման դրամաշնորհային ծրագիր | D50: =E50+F50 -> -1800 | E50: =+E52 -> -1500 | F50: =+F52 -> -300
C51: այդ թվում` ըստ կատարողների
C52: ՀՀ էկոնոմիկայի նախարարություն | D52: =+E52+F52 -> -1800 | E52: =+E54 -> -1500 | F52: =+F54 -> -300
C53: այդ թվում` բյուջետային ծախսերի տնտեսագիտական դասակարգման հոդվածներ
C54: ԸՆԴԱՄԵՆԸ ԾԱԽՍԵՐ | D54: =+E54+F54 -> -1800 | E54: =+E55 -> -1500 | F54: =+F55 -> -300
C55: ՈՉ ՖԻՆԱՆՍԱԿԱՆ ԱԿՏԻՎՆԵՐԻ ԳԾՈՎ ԾԱԽՍԵՐ | D55: =+E55+F55 -> -1800 | E55: =+E56 -> -1500 | F55: =+F56 -> -300
C56: ՀԻՄՆԱԿԱՆ ՄԻՋՈՑՆԵՐ | D56: =+E56+F56 -> -1800 | E56: =+E57 -> -1500 | F56: =+F57 -> -300
C57: ՄԵՔԵՆԱՆԵՐ ԵՎ ՍԱՐՔԱՎՈՐՈՒՄՆԵՐ | D57: =+E57+F57 -> -1800 | E57: =+E59+E58 -> -1500 | F57: =+F58+F59 -> -300
C58: - Վարչական սարքավորումներ | D58: =+E58+F58 -> -25800 | E58: -21500 | F58: -4300
C59: - Այլ մեքենաներ և սարքավորումներ | D59: =+E59+F59 -> 24000 | E59: 20000 | F59: 4000

Sheet հավելված 7
D1: Հավելված № 7 ՀՀ կառավարության 2024 թվականի ––-----------–––––––– N –––––– որոշման
B5: ՀԱՅԱՍՏԱՆԻ ՀԱՆՐԱՊԵՏՈՒԹՅԱՆ ԿԱՌԱՎԱՐՈՒԹՅԱՆ 2023 ԹՎԱԿԱՆԻ ԴԵԿՏԵՄԲԵՐԻ 28-Ի N 2323-Ն ՈՐՈՇՄԱՆ N 9 ՀԱՎԵԼՎԱԾԻ 9.10 ԱՂՅՈՒՍԱԿՈՒՄ ԵՎ N 9.1 ՀԱՎԵԼՎԱԾԻ 9.1.10 ԱՂՅՈՒՍԱԿՈՒՄ ԿԱՏԱՐՎՈՂ ՓՈՓՈԽՈՒԹՅՈՒՆՆԵՐԸ ԵՎ ԼՐԱՑՈՒՄՆԵՐԸ
B7: ՀՀ Էկոնոմիկայի նախարարություն
B8: ՄԱՍ 1. 2. ՊԵՏԱԿԱՆ ՄԱՐՄՆԻ ԳԾՈՎ ԱՐԴՅՈՒՆՔԱՅԻՆ (ԿԱՏԱՐՈՂԱԿԱՆ) ՑՈՒՑԱՆԻՇՆԵՐԸ
B10: Ծրագրի դասիչը | C10: Ծրագրի անվանումը
B11: 1086 | C11: Գյուղական ենթակառուցվածքների վերականգնում և զարգացում
B13: Ծրագրի միջոցառումները
B15: Ծրագրի դասիչը` | C15: 1086 | D15: Ցուցանիշների փոփոխությունը (ավելացումները նշված են դրական նշանով, իսկ նվազեցումները` փակագծերում)
B16: Միջոցառման դասիչը` | C16: 11004 | D16: Տարի
B17: Միջոցառման անվանումը` | C17: Զարգացման ֆրանսիական գործակալության աջակցությամբ իրականացվող ՀՀ Արարատի և Արմավիրի մարզերում» ոռոգվող գյուղատնտեսության զարգացման դրամաշնորհային ծրագրի համակարգում և ղեկավարում
B18: Նկարագրությունը` | C18: Զարգացման ֆրանսիական գործակալության աջակցությամբ իրականացվող ՀՀ Արարատի և Արմավիրի մարզերում ոռոգվող գյուղատնտեսության զարգացման դրամաշնորհային ծրագրի համակարգում և ղեկավարում
B19: Միջոցառման տեսակը` | C19: Ծառայությունների մատուցում
B20: Միջոցառումն իրականացնողի անվանումը | C20: Մասնագիտացված միավոր
B21: Արդյունքի չափորոշիչներ
B22: Հատուկ ուսուցում ստացած շահառուներ, թիվ | D22: -200
B23: Մարզերում աջակցություն ցուցաբերող թիմերի քանակ, հատ | D23: 3
B24: Միջոցառման վրա կատարվող ծախսը (հազար դրամ) | D24: 156990
B26: Ծրագրի դասիչը` | C26: 1086 | D26: Ցուցանիշների փոփոխությունը (ավելացումները նշված են դրական նշանով)
B27: Միջոցառման դասիչը` | C27: 11005 | D27: Տարի
B28: Միջոցառման անվանումը` | C28: Ասիական զարգացման բանկի աջակցությամբ իրականացվող "Կլիմային հարմարվողական պարենային անվտանգության" դրամաշնորհային ծրագրի համակարգում և ղեկավարում
B29: Նկարագրությունը` | C29: Ներդրումներ կլիմայադիմակայուն գյուղատնտեսության և պարենային անվտանգության բարձրացման նպատակով, ինչն ուղղվելու է երկու մարզերին՝ Շիրակի և Տավուշի, որտեղ փոքր ֆերմերները բախվում են բարձր աղքատության, պարենային անապահովության և կլիմայական ռիսկերի:
B30: Միջոցառման տեսակը` | C30: Ծառայությունների մատուցում
B31: Միջոցառումն իրականացնողի անվանումը՝ | C31: Մասնագիտացված միավոր
B32: Արդյունքի չափորոշիչներ
B33: Միջոցառման շրջանակներում իրականացվող ծախսերի կատարման տոկոս (ծրագրի սկզբից ներառյալ հաշվետու տարին) | D33: 4
B34: Միջոցառման վրա կատարվող ծախսը (հազար դրամ) | D34: =+հավելված3!D34 -> 8115
B36: Ծրագրի դասիչը` | C36: 1086 | D36: Ցուցանիշների փոփոխությունը (ավելացումները նշված են դրական նշանով, իսկ նվազեցումները` փակագծերում)
B37: Միջոցառման դասիչը` | C37: 12003 | D37: Տարի
B38: Միջոցառման անվանումը` | C38: Զարգացման ֆրանսիական գործակալության աջակցությամբ ՀՀ Արարատի և Արմավիրի մարզերում ժամանակակից պահանջներին համապատասխան ոռոգման համակարգերի ներդրման և զարգացմանն աջակցություն
B39: Նկարագրությունը` | C39: Արարատի և Արմավիրի մարզերում ժամանակակից պահանջներին համապատասխան ոռոգման համակարգերի ներդրմանը աջակցություն
B40: Միջոցառման տեսակը` | C40: Տրանսֆերտների տրամադրում
B41: Միջոցառումն իրականացնողի անվանումը | C41: Մասնագիտացված միավոր
B42: Արդյունքի չափորոշիչներ
B43: Նոր տեխնոլոգիաներով ոռոգման ենթակա հողատարածքներ, հա | D43: -100
B44: Հողերի խոշորացման գործարքներ, հատ | D44: -2
B45: Կոոպերատիվների ստեղծում, հատ | D45: -1
B46: Ֆիլտրացիոն կայաններ ոռոգման ենթակա հողատարածքների համար, հատ | D46: 8
B47: Միջոցառման վրա կատարվող ծախսը (հազար դրամ) | D47: -163305
B49: Ծրագրի դասիչը` | C49: 1086 | D49: Ցուցանիշների փոփոխությունը (ավելացումները նշված են դրական նշանով, իսկ նվազեցումները` փակագծերում)
B50: Միջոցառման դասիչը` | C50: 31001 | D50: Տարի
B51: Միջոցառման անվանումը` | C51: Զարգացման ֆրանսիական գործակալության աջակցությամբ իրականացվող ՀՀ Արարատի և Արմավիրի մարզերում Ոռոգվող գյուղատնտեսության զարգացման դրամաշնորհային ծրագիր
B52: Նկարագրությունը` | C52: Ծրագրի իրականացման համար աշխատանքային պայմանների ապահովման նպատակով վարչական սարքավորումների ձեռք բերում
B53: Միջոցառման տեսակը` | C53: Պետական մարմինների կողմից օգտագործվող ոչ ֆինանսական ակտիվների հետ գործառնություններ
B54: Միջոցառումն իրականացնողի անվանումը` | C54: Մասնագիտացված միավոր
B55: Արդյունքի չափորոշիչներ
B56: Համակարգչային սարքավորումներ, հատ | D56: 1
B57: Ավտոմեքենաների ձեռքբերում, հատ | D57: 1
B58: Գրասենյակային գույքի միավորի քանակ, հատ | D58: -2
B59: Միջոցառման վրա կատարվող ծախսը (հազար դրամ) | D59: =+'հավելված4 '!G65 -> -1800
B61: Ծրագրի դասիչը | C61: Ծրագրի անվանումը
B62: 1104 | C62: Գիտելիքահենք, նորարարական տնտեսությանը և փոքր ու միջին ձեռնարկատիրությանը աջակցություն
B64: Ծրագրի միջոցառումները
B66: Ծրագրի դասիչը` | C66: 1104 | D66: Ցուցանիշների փոփոխությունները (նվազեցումները նշված են փակագծերում)
B67: Միջոցառման դասիչը` | C67: 11003 | D67: Տարի
B68: Միջոցառման անվանումը` | C68: Համաշխարհային բանկի աջակցությամբ իրականացվող Տեխնոլոգիաների առևտրայնացման ենթակառուցվածքի զարգացում
B69: Նկարագրությունը` | C69: Տեխնոլոգիաների առևտրայնացման գործուն մեխանիզմների մշակումը, ներդրումն ու զարգացումը և պոտենցիալ առևտրային արժեք ներկայացնող գիտական արդյունքի հայտնաբերման և դրա առևտրային պոտենցիալի գնահատման մեխանիզմների մշակումը ու գնահատումը
B70: Միջոցառման տեսակը` | C70: Ծառայությունների մատուցում
B71: Միջոցառումն իրականացնողի անվանումը՝ | C71: Նորամուծության և ձեռներեցության ազգային կենտրոն ՊՈԱԿ
B72: Արդյունքի չափորոշիչներ
B73: Գնահատված հետազոտություններ | D73: -5
B74: Տնտեսվարող սուբյեկտների կողմից ներկայացված և գիտանորարարական փորձաքննություն անցած բիզնես առաջարկներ | D74: -1
B75: Ինովացիոն տեխնոլոգիաներ առաջարկող և ներգրավված ՓՄՁ-ներ | D75: -1
B76: Առևտրայանացման ենթակա գիտական տեխնոլոգիաներ | D76: -1
B77: Մտավոր սեփականությամբ պաշտպանված և տեխնիկատնտեսական ուսումնասիրություններ (feasibility study) անցած պատենտներ | D77: -5
B78: Միջազգային շուկա առաջարկված գիտական արդյունքներ | D78: -1
B79: Տեխնոլոգիաների առևտրայնացման ոլորտում խորհրդատվություն ստացած շահառուներ | D79: -25
B80: Միջոցառման վրա կատարվող ծախսը (հազար դրամ) | D80: -100000
B82: ՀԱՅԱՍՏԱՆԻ ՀԱՆՐԱՊԵՏՈՒԹՅԱՆ ԿԱՌԱՎԱՐՈՒԹՅԱՆ 2023 ԹՎԱԿԱՆԻ ԴԵԿՏԵՄԲԵՐԻ 28-Ի N 2323-Ն ՈՐՈՇՄԱՆ N 9 ՀԱՎԵԼՎԱԾԻ N 9.48 և N 9.1 ՀԱՎԵԼՎԱԾԻ N 9.1.58 ԱՂՅՈՒՍԱԿՆԵՐՈՒՄ ԿԱՏԱՐՎՈՂ ՓՈՓՈԽՈՒԹՅՈՒՆՆԵՐԸ
B83: ՀՀ կառավարություն
B85: ՄԱՍ 1.2 ՊԵՏԱԿԱՆ ՄԱՐՄՆԻ ԳԾՈՎ ԱՐԴՅՈՒՆՔԱՅԻՆ (ԿԱՏԱՐՈՂԱԿԱՆ) ՑՈՒՑԱՆԻՇՆԵՐԸ
B88: Ծրագրի դասիչը՝ | C88: 1139 | D88: Ցուցանիշների փոփոխությունները (ավելացումները նշված են դրական նշանով)
B89: Միջոցառման դասիչը՝ | C89: 11001 | D89: Տարի
B90: Միջոցառման անվանումը՝ | C90: ՀՀ կառավարության պահուստային ֆոնդ
B91: Նկարագրությունը՝ | C91: ՀՀ պետական բյուջեում նախատեսված ելքերի լրացուցիչ ֆինանսավորման՝ պետական բյուջեում չկանխատեսված ելքերի, ինչպես նաև բյուջետային երաշխիքների ապահովման ելքերի ֆինանսավորման ապահովում
B92: Միջոցառման տեսակը՝ | C92: Ծառայությունների մատուցում
B93: Միջոցառումն իրականացնողի անվանումը | C93: ՀՀ կառավարություն
C94: Արդյունքի չափորոշիչներ
B95: Միջոցառման վրա կատարվող ծախսը (հազար դրամ) | D95: =+'հավելված4 '!G92 -> 2272
B97: Ծրագրի դասիչը՝ | C97: 1139 | D97: Ցուցանիշների փոփոխությունը (նվազեցումները նշված են փակագծերում)
B98: Միջոցառման դասիչը՝ | C98: 11001 | D98: Տարի
B99: Միջոցառման անվանումը՝ | C99: ՀՀ կառավարության պահուստային ֆոնդ
B100: Նկարագրությունը՝ | C100: ՀՀ պետական բյուջեում նախատեսված ելքերի լրացուցիչ ֆինանսավորման՝ պետական բյուջեում չկանխատեսված ելքերի, ինչպես նաև բյուջետային երաշխիքների ապահովման ելքերի ֆինանսավորման ապահովում
B101: Միջոցառման տեսակը՝ | C101: Ծառայությունների մատուցում
B102: Միջոցառումն իրականացնողի անվանումը | C102: ՀՀ կառավարություն
C103: Արդյունքի չափորոշիչներ
B104: Միջոցառման վրա կատարվող ծախսը (հազար դրամ) | D104: =+'հավելված4 '!G100 -> -2272

Sheet հավելված 8
F1: Հավելված № 8 ՀՀ կառավարության 2024 թվականի ––-----------–––––––– N –––––– որոշման
A3: ՀԱՅԱՍՏԱՆԻ ՀԱՆՐԱՊԵՏՈՒԹՅԱՆ 2024 ԹՎԱԿԱՆԻ ՊԵՏԱԿԱՆ ԲՅՈՒՋԵՈՎ ՆԱԽԱՏԵՍՎԱԾ՝ ՀԱՅԱՍՏԱՆԻ ՀԱՆՐԱՊԵՏՈՒԹՅԱՆ ԿԱՌԱՎԱՐՈՒԹՅԱՆ ՊԱՀՈՒՍՏԱՅԻՆ ՖՈՆԴԻՑ ՀԱՏԿԱՑՈՒՄՆԵՐ ԿԱՏԱՐԵԼՈՒ ՎԵՐԱԲԵՐՅԱԼ
G4: հազար դրամներով
A5: Գործառական դասիչը | D5: Ծրագրային դասիչը | F5: Բյուջետային ծախսերի գործառական դասակարգման բաժինների, խմբերի և դասերի, բյուջետային ծրագրերի, միջոցառումների բյուջետային հատկացումնեյի գլխավոր կարկադրիչների անվանումները | G5: Ցուցանիշների փոփոխությունը (ավելացումները նշված են դրական նշանով, իսկ նվազեցումները` փակագծերում)
A6: Բաժին | B6: Խումբ | C6: Դաս | D6: Ծրագիր | E6: Միջոցառում | G6: Տարի
F7: ԸՆԴԱՄԵՆԸ | G7: =+G8+G39 -> 0
F8: ՀՀ էկոնոմիկայի նախարարություն | G8: =+G10 -> 2272
F9: այդ թվում՝
A10: 04 | F10: ՏՆՏԵՍԱԿԱՆ ՀԱՐԱԲԵՐՈՒԹՅՈՒՆՆԵՐ | G10: =G12 -> 2272
F11: այդ թվում`
B12: 02 | F12: Գյուղատնտեսություն, անտառային տնտեսություն, ձկնորսություն և որսորդություն | G12: =+G14 -> 2272
F13: այդ թվում`
C14: 01 | F14: Գյուղատնտեսություն | G14: =+G18 -> 2272
F15: այդ թվում`
F16: ՀՀ էկոնոմիկայի նախարարություն | G16: =+G18 -> 2272
F17: այդ թվում՝
D18: 1086 | F18: Գյուղական ենթակառուցվածքների վերականգնում և զարգացում | G18: =+G20 -> 2272
F19: այդ թվում`
E20: 11005 | F20: Ասիական զարգացման բանկի աջակցությամբ իրականացվող "Կլիմային հարմարվողական պարենային անվտանգության" դրամաշնորհային ծրագրի համակարգում և ղեկավարում | G20: =+G22 -> 2272
F21: այդ թվում` ըստ կատարողների
F22: ՀՀ էկոնոմիկայի նախարարություն | G22: =+G24 -> 2272
F23: այդ թվում` բյուջետային ծախսերի տնտեսագիտական դասակարգման հոդվածներ
F24: ԸՆԴԱՄԵՆԸ ԾԱԽՍԵՐ | G24: =+G25 -> 2272
F25: ԸՆԹԱՑԻԿ ԾԱԽՍԵՐ | G25: =+G26+G29 -> 2272
F26: ԾԱՌԱՅՈՒԹՅՈՒՆՆԵՐԻ ԵՎ ԱՊՐԱՆՔՆԵՐԻ ՁԵՌՔԲԵՐՈՒՄ | G26: =+G27 -> 2262
F27: Պայմանագրային այլ ծառայությունների ձեռքբերում | G27: =+G28 -> 2262
F28: - Կառավարչական ծառայություններ | G28: 2262
F29: ԱՅԼ ԾԱԽՍԵՐ | G29: =+G30 -> 10
F30: Այլ ծախսեր | G30: 10
F31: ՀՀ կառավարություն | G31: =+G33 -> -2272
F32: այդ թվում`
A33: 11 | F33: Հիմնական բաժիններին չդասվող պահուստային ֆոնդեր | G33: =+G35 -> -2272
F34: այդ թվում`
B35: 01 | F35: ՀՀ կառավարության և համայնքների պահուստային ֆոնդ | G35: =+G37 -> -2272
F36: այդ թվում`
C37: 01 | F37: ՀՀ կառավարության պահուստային ֆոնդ | G37: =+G39 -> -2272
F38: այդ թվում`
D39: 1139 | F39: ՀՀ կառավարության պահուստային ֆոնդ | G39: =+G41 -> -2272
F40: այդ թվում`
E41: 11001 | F41: ՀՀ կառավարության պահուստային ֆոնդ | G41: =+G43 -> -2272
F42: այդ թվում` ըստ կատարողների
F43: ՀՀ կառավարություն | G43: =+G45 -> -2272
F44: այդ թվում` բյուջետային ծախսերի տնտեսագիտական դասակարգման հոդվածներ
F45: ԸՆԴԱՄԵՆԸ ԾԱԽՍԵՐ | G45: =+G46 -> -2272
F46: ԸՆԹԱՑԻԿ ԾԱԽՍԵՐ | G46: =G47 -> -2272
F47: ԱՅԼ ԾԱԽՍԵՐ | G47: =+G48 -> -2272
F48: Պահուստային միջոցներ | G48: =+հավելված3!D67 -> -2272
