Workbook
Name _tab10: #REF!
Name _tab10: #REF!
Name _tab10: #REF!
Name _tab10: #REF!
Name _tab10: #REF!
Name _tab11: #REF!
Name _tab11: #REF!
Name _tab11: #REF!
Name _tab11: #REF!
Name _tab11: #REF!
Name _tab12: #REF!
Name _tab12: #REF!
Name _tab12: #REF!
Name _tab12: #REF!
Name _tab12: #REF!
Name _tab13: #REF!
Name _tab13: #REF!
Name _tab13: #REF!
Name _tab13: #REF!
Name _tab14: #REF!
Name _tab14: #REF!
Name _tab14: #REF!
Name _tab14: #REF!
Name _tab15: #REF!
Name _tab15: #REF!
Name _tab15: #REF!
Name _tab15: #REF!
Name _tab16: #REF!
Name _tab16: #REF!
Name _tab16: #REF!
Name _tab16: #REF!
Name _tab17: #REF!
Name _tab17: #REF!
Name _tab17: #REF!
Name _tab17: #REF!
Name _tab18: #REF!
Name _tab18: #REF!
Name _tab18: #REF!
Name _tab18: #REF!
Name _tab19: #REF!
Name _tab19: #REF!
Name _tab19: #REF!
Name _tab19: #REF!
Name _tab20: #REF!
Name _tab20: #REF!
Name _tab20: #REF!
Name _tab20: #REF!
Name _tab21: #REF!
Name _tab21: #REF!
Name _tab21: #REF!
Name _tab21: #REF!
Name _tab22: #REF!
Name _tab22: #REF!
Name _tab22: #REF!
Name _tab22: #REF!
Name _tab23: #REF!
Name _tab23: #REF!
Name _tab23: #REF!
Name _tab23: #REF!
Name _tab24: #REF!

Sheet 1
D2: Հավելված N 1
C3: ՀՀ կառավարության 2024 թվականի
D4: N ------------ -Ն որոշման
A5: ՀԱՅԱՍՏԱՆԻ ՀԱՆՐԱՊԵՏՈՒԹՅԱՆ 2024 ԹՎԱԿԱՆԻ ՊԵՏԱԿԱՆ ԲՅՈՒՋԵԻ ՄԱՍԻՆ» ՕՐԵՆՔԻ N 1 ՀԱՎԵԼՎԱԾԻ N 2 ԱՂՅՈՒՍԱԿՈՒՄ ԿԱՏԱՐՎՈՂ ՎԵՐԱԲԱՇԽՈՒՄԸ ԵՎ ՀԱՅԱՍՏԱՆԻ ՀԱՆՐԱՊԵՏՈՒԹՅԱՆ ԿԱՌԱՎԱՐՈՒԹՅԱՆ 2023 ԹՎԱԿԱՆԻ ԴԵԿՏԵՄԲԵՐԻ 28-Ի N 2323-Ն ՈՐՈՇՄԱՆ N 5 ՀԱՎԵԼՎԱԾԻ N 1 ԱՂՅՈՒՍԱԿՈՒՄ ԿԱՏԱՐՎՈՂ ՓՈՓՈԽՈՒԹՅՈՒՆՆԵՐԸ ԵՎ ԼՐԱՑՈՒՄՆԵՐԸ
D7: հազար դրամ
A8: Ծրագրային դասիչը | C8: Բյուջետային հատկացումների գլխավոր կարգադրիչների, ծրագրերի և միջոցառումների անվանումները | D8: Ցուցանիշների փոփոխությունը (ավելացումները նշված են դրական նշանով, իսկ նվազեցումները` փակագծերում)
A9: Ծրագիր | B9: Միջոցառում | D9: Տարի
C10: ԸՆԴԱՄԵՆԸ | D10: =D11 -> 0
C11: ՀՀ տարածքային կառավարման և ենթակառուցվածքների նախարարություն | D11: =D25+D38+D12 -> 0
A12: 1004 | C12: Ծրագրի անվանումը` | D12: ='3'!G31 -> -118258.8
C13: Ոռոգման համակարգի առողջացում
C14: Ծրագրի նպատակը`
C15: Ոռոգման ծառայությունների հասանելիության և մատչելիության ապահովում
C16: Վերջնական արդյունքի նկարագրությունը`
C17: Ոռոգման ջրի մատակարարման արդյունավետության և հասանելիության բարելավում, կորուստների կրճատում
C18: Ծրագրի միջոցառումներ
B19: 11010 | C19: Միջոցառման անվանումը` | D19: ='3'!G31 -> -118258.8
C20: Գերմանիայի զարգացման վարկերի բանկի աջակցությամբ իրականացվող Ախուրյան գետի ջրային ռեսուրսների ինտեգրացված կառավարում փուլ 1 ծրագրով Ջրաձոր գյուղի վերաբնակեցման գործողությունների խորհրդատվություն և կառավարում
C21: Միջոցառման նկարագրությունը`
C22: Գերմանիայի զարգացման վարկերի բանկի աջակցությամբ իրականացվող Ախուրյան գետի ջրային ռեսուրսների ինտեգրացված կառավարում փուլ 1 ծրագրով Ջրաձոր գյուղի վերաբնակեցման գործողությունների համակարգում և ղեկավարում
C23: Միջոցառման տեսակը
C24: Ծառայությունների մատուցում
A25: 1049 | C25: Ծրագրի անվանումը` | D25: ='3'!G40 -> 36354.1
C26: Ճանապարհային ցանցի բարելավում
C27: Ծրագրի նպատակը`
C28: Ճանապարհային ցանցի բարելավում և անվտանգ երթևեկության ապահովում
C29: Վերջնական արդյունքի նկարագրությունը`
C30: Ճանապարհների ծածկի որակի և փոխադրումների արդյունավետության բարելավում, ճանապարհների վիճակով պայմանավորված պատահարների նվազում
C31: Ծրագրի միջոցառումներ
B32: 21001 | C32: Միջոցառման անվանումը | D32: ='3'!G48 -> 36354.1
C33: Պետական նշանակության ավտոճանապարհների հիմնանորոգում
C34: Միջոցառման նկարագրությունը
C35: Միջպետական, հանրապետական և մարզային նշանակության ավտոճանապարհների քայքայված ծածկի վերանորոգում, մաշված ծածկի փոխարինում
C36: Միջոցառման տեսակը
C37: Հանրության կողմից անմիջականորեն օգտագործվող ակտիվների հետ կապված միջոցառումներ
A38: 1212 | C38: Ծրագրի անվանումը` | D38: =+D45 -> 81904.7
C39: Տարածքային զարգացում
C40: Ծրագրի նպատակը`
C41: Տարածքային համաչափ զարգացման խթանում
C42: Վերջնական արդյունքի նկարագրությունը`
C43: ՀՀ համայնքների կառավարման արդյունավետության բարձրացում և տնտեսական գործունեության խթանում
C44: Ծրագրի միջոցառումներ
B45: 32001 | C45: Միջոցառման անվանումը` | D45: ='3'!G67 -> 81904.7
C46: ՀՀ մարզերում առաջնահերթ լուծում պահանջող անհետաձգելի ծրագրերի իրականացում
C47: Միջոցառման նկարագրությունը`
C48: ՀՀ մարզերում առաջնահերթ լուծում պահանջող ծրագրերի իրականացում, որի արդյունքում լուծում կտրվի մարզային ենթակայության կազմակեր-պությունների և համայնքային նշանակություն ունեցող հիմնախնդիրներին:
C49: Միջոցառման տեսակը
C50: Պետական մարմինների կողմից օգտագործվող ոչ ֆինանսական ակտիվների հետ գործառնություններ
B52: ՀԱՅԱՍՏԱՆԻ ՀԱՆՐԱՊԵՏՈՒԹՅԱՆ
B53: ՎԱՐՉԱՊԵՏԻ ԱՇԽԱՏԱԿԱԶՄԻ
C54: ՂԵԿԱՎԱՐ ՝ Ա. ՀԱՐՈՒԹՅՈՒՆՅԱՆ

Sheet 2
I1: Հավելված N 2
I2: ՀՀ կառավարության 2024 թվականի
I3: N ------------ -Ն որոշման
B4: «ՀԱՅԱՍՏԱՆԻ ՀԱՆՐԱՊԵՏՈՒԹՅԱՆ 2024 ԹՎԱԿԱՆԻ ՊԵՏԱԿԱՆ ԲՅՈՒՋԵԻ ՄԱՍԻՆ» ՕՐԵՆՔԻ N 1 ՀԱՎԵԼՎԱԾԻ N 3 ԱՂՅՈՒՍԱԿՈՒՄ ԿԱՏԱՐՎՈՂ ԼՐԱՑՈՒՄԸ
H5: հազար դրամ
B6: Ծրագրային դասիչ | D6: Բյուջետային գլխավոր կարգադրիչների ծրագրերի միջոցառումների և ուղղությունների անվանումները | E6: Ընդամենը | F6: Ցուցանիշների փոփոխությունը (ավելացումները նշված են դրական նշանով)
F7: այդ թվում
B8: Ծրագիր | C8: Միջոցառում | F8: Կառուցման աշխատանքներ | G8: Վերակառուցման, վերանորոգման և վերականգնման աշխատանքներ | H8: Նախագծահե- տազոտական, գեոդեզիա- քարտեզագրա- կան աշխա- տանքներ | I8: Ոչ ֆինանսական այլ ակտիվների ձեռքբերում
D9: ԸՆԴԱՄԵՆԸ | E9: =F9+G9+H9+I9 -> 118258.8 | F9: =F11 -> 0 | G9: =G11 -> 118258.8 | H9: =H11 -> 0 | I9: =I11 -> 0
D10: այդ թվում՝
D11: ՀՀ տարածքային կառավարման և ենթակառուցվածքների նախարարություն | E11: =F11+G11+H11+I11 -> 118258.8 | F11: =+F16 -> 0 | G11: =+G16+G13 -> 118258.8 | H11: =+H16+H13 -> 0 | I11: =+I16 -> 0
D12: այդ թվում`
B13: 1049 | C13: 21001 | D13: Պետական նշանակության ավտոճանապարհների հիմնանորոգում | E13: =F13+G13+H13+I13 -> 36354.1 | G13: =G15 -> 36354.1
D14: այդ թվում`
D15: Կաքավաձորից դեպի Օթևան տանող ավտոճանապարհի ՊԿ0+00-ՊԿ13+00 հատվածի հիմնանորոգման աշխատանքներ | E15: =SUM(F15:I15) -> 36354.1 | G15: ='3'!G48 -> 36354.1 | H15: 0 | I15: 0
B16: 1212 | C16: =+'4'!C17 -> 32001 | D16: =+'4'!D17 -> ՀՀ մարզերում առաջնահերթ լուծում պահանջող անհետաձգելի ծրագրերի իրականացում | E16: =F16+G16+H16+I16 -> 81904.7 | G16: =G18 -> 81904.7
D17: այդ թվում`
D18: Շամիրամ համայնքի գազաֆիկացման աշխատանքներ | E18: =SUM(F18:I18) -> 81904.7 | G18: ='3'!G67 -> 81904.7 | H18: 0 | I18: 0
D21: ՀԱՅԱՍՏԱՆԻ ՀԱՆՐԱՊԵՏՈՒԹՅԱՆ
D22: ՎԱՐՉԱՊԵՏԻ ԱՇԽԱՏԱԿԱԶՄԻ
D23: ՂԵԿԱՎԱՐ ՝ Ա. ՀԱՐՈՒԹՅՈՒՆՅԱՆ

Sheet 3
G1: Հավելված N 3
F2: ՀՀ կառավարության 2024 թվականի
G3: N ------------ -Ն որոշման
A5: ՀԱՅԱՍՏԱՆԻ ՀԱՆՐԱՊԵՏՈՒԹՅԱՆ ԿԱՌԱՎԱՐՈՒԹՅԱՆ 2023 ԹՎԱԿԱՆԻ ԴԵԿՏԵՄԲԵՐԻ 28-Ի N 2323-Ն ՈՐՈՇՄԱՆ NN 3 ԵՎ 4 ՀԱՎԵԼՎԱԾՆԵՐՈՒՄ ԿԱՏԱՐՎՈՂ ՓՈՓՈԽՈՒԹՅՈՒՆՆԵՐԸ ԵՎ ԼՐԱՑՈՒՄՆԵՐԸ
G6: հազար դրամ
A7: Գործառական դասիչը | D7: Ծրագրային դասիչը | F7: Բյուջետային ծախսերի գործառական դասակարգման բաժինների, խմբերի և դասերի, բյուջետային ծրագրերի միջոցառումների, բյուջետային հատկացումների գլխավոր կարգադրիչների անվանումները | G7: Ցուցանիշների փոփոխությունը (ավելացումները նշված են դրական նշանով, իսկ նվազեցումները` փակագծերում)
A8: Բաժին | B8: Խումբ | C8: Դաս | D8: Ծրագիր | E8: Միջոցառում | G8: Տարի
F9: ԸՆԴԱՄԵՆԸ ԾԱԽՍԵՐ | G9: =G11 -> 0
F10: այդ թվում`
F11: ՀՀ տարածքային կառավարման և ենթակառուցվածքների նախարարություն | G11: =G49+G13 -> 0
F12: այդ թվում`
A13: 04 | F13: ՏՆՏԵՍԱԿԱՆ ՀԱՐԱԲԵՐՈՒԹՅՈՒՆՆԵՐ | G13: =G15+G32 -> -81904.7
F14: այդ թվում`
B15: 02 | F15: Գյուղատնտեսություն, անտառային տնտեսություն, ձկնորսություն և որսորդություն | G15: =G17 -> -118258.8
F16: այդ թվում`
C17: 04 | F17: Ոռոգում | G17: =G19 -> -118258.8
F18: այդ թվում`
F19: ՀՀ տարածքային կառավարման և ենթակառուցվածքների նախարարություն | G19: =G21 -> -118258.8
F20: այդ թվում`
D21: 1004 | F21: Ոռոգման համակարգի առողջացում | G21: =G23 -> -118258.8
F22: այդ թվում`
E23: 11010 | F23: Գերմանիայի զարգացման վարկերի բանկի աջակցությամբ իրականացվող Ախուրյան գետի ջրային ռեսուրսների ինտեգրացված կառավարում փուլ 1 ծրագրով Ջրաձոր գյուղի վերաբնակեցման գործողությունների խորհրդատվություն և կառավարում | G23: =G25 -> -118258.8
F24: այդ թվում` ըստ կատարողների
F25: ՀՀ տարածքային կառավարման և ենթակառուցվածքների նախարարության ջրային կոմիտե | G25: =G27 -> -118258.8
F26: այդ թվում` բյուջետային ծախսերի տնտեսագիտական դասակարգման հոդվածներ
F27: ԸՆԴԱՄԵՆԸ ԾԱԽՍԵՐ | G27: =G29 -> -118258.8
F28: ԸՆԹԱՑԻԿ ԾԱԽՍԵՐ | G28: =G29 -> -118258.8
F29: ԴՐԱՄԱՇՆՈՐՀՆԵՐ | G29: =G30 -> -118258.8
F30: Ընթացիկ դրամաշնորհներ պետական հատվածի այլ մակարդակներին | G30: =G31 -> -118258.8
F31: - Այլ ընթացիկ դրամաշնորհներ | G31: =-118258.8 -> -118258.8
B32: 05 | F32: Տրանսպորտ | G32: =G34 -> 36354.1
F33: այդ թվում`
C34: 01 | F34: Ճանապարհային տրանսպորտ | G34: =G36 -> 36354.1
F35: այդ թվում`
F36: ՀՀ տարածքային կառավարման և ենթակառուցվածքների նախարարություն | G36: =G38 -> 36354.1
F37: այդ թվում`
D38: 1049 | F38: Ճանապարհային ցանցի բարելավում | G38: =G40 -> 36354.1
F39: այդ թվում`
E40: 21001 | F40: Պետական նշանակության ավտոճանապարհների հիմնանորոգում | G40: =G42 -> 36354.1
F41: այդ թվում` ըստ կատարողների
F42: ՀՀ Արագածոտնի մարզպետի աշխատակազմ | G42: =G44 -> 36354.1
F43: այդ թվում` բյուջետային ծախսերի տնտեսագիտական դասակարգման հոդվածներ
F44: ԸՆԴԱՄԵՆԸ՝ ԾԱԽՍԵՐ | G44: =G46 -> 36354.1
F45: ՈՉ ՖԻՆԱՆՍԱԿԱՆ ԱԿՏԻՎՆԵՐԻ ԳԾՈՎ ԾԱԽՍԵՐ | G45: =G46 -> 36354.1
F46: ՀԻՄՆԱԿԱՆ ՄԻՋՈՑՆԵՐ | G46: =G47 -> 36354.1
F47: ՇԵՆՔԵՐ ԵՎ ՇԻՆՈՒԹՅՈՒՆՆԵՐ | G47: =G48 -> 36354.1
F48: - Շենքերի և շինությունների կապիտալ վերանորոգում | G48: 36354.1
A49: 01 | F49: ԸՆԴՀԱՆՈՒՐ ԲՆՈՒՅԹԻ ՀԱՆՐԱՅԻՆ ԾԱՌԱՅՈՒԹՅՈՒՆՆԵՐ | G49: =G51 -> 81904.7
F50: այդ թվում`
B51: 08 | F51: Կառավարության տարբեր մակարդակների միջև իրականացվող ընդհանուր բնույթի տրանսֆերտներ | G51: =G53 -> 81904.7
F52: այդ թվում`
C53: 01 | F53: Կառավարության տարբեր մակարդակների միջև իրականացվող ընդհանուր բնույթի տրանսֆերտներ | G53: =G55 -> 81904.7
F54: այդ թվում`
F55: ՀՀ տարածքային կառավարման և ենթակառուցվածքների նախարարություն | G55: =+G57 -> 81904.7
F56: այդ թվում`
D57: 1212 | F57: Տարածքային զարգացում | G57: =+G59 -> 81904.7
F58: այդ թվում
E59: 32001 | F59: ՀՀ մարզերում առաջնահերթ լուծում պահանջող անհետաձգելի ծրագրերի իրականացում | G59: =G61 -> 81904.7
F60: այդ թվում` ըստ կատարողների
F61: ՀՀ Արագածոտնի մարզպետի աշխատակազմ | G61: =G63 -> 81904.7
F62: այդ թվում` բյուջետային ծախսերի տնտեսագիտական դասակարգման հոդվածներ
F63: ԸՆԴԱՄԵՆԸ՝ ԾԱԽՍԵՐ | G63: =G64 -> 81904.7
F64: ՈՉ ՖԻՆԱՆՍԱԿԱՆ ԱԿՏԻՎՆԵՐԻ ԳԾՈՎ ԾԱԽՍԵՐ | G64: =G65 -> 81904.7
F65: ՀԻՄՆԱԿԱՆ ՄԻՋՈՑՆԵՐ | G65: =G66 -> 81904.7
F66: ՇԵՆՔԵՐ ԵՎ ՇԻՆՈՒԹՅՈՒՆՆԵՐ | G66: =G67 -> 81904.7
F67: - Շենքերի և շինությունների կապիտալ վերանորոգում | G67: 81904.7
E69: ՎԱՐՉԱՊԵՏԻ ԱՇԽԱՏԱԿԱԶՄԻ
F70: ՂԵԿԱՎԱՐ ՝ Ա. ՀԱՐՈՒԹՅՈՒՆՅԱՆ

Sheet 4
E1: Հավելված N 4
E2: ՀՀ կառավարության 2024 թվականի
E3: № ------------ -Ն որոշման
B5: ՀԱՅԱՍՏԱՆԻ ՀԱՆՐԱՊԵՏՈՒԹՅԱՆ ԿԱՌԱՎԱՐՈՒԹՅԱՆ 2023 ԹՎԱԿԱՆԻ ԴԵԿՏԵՄԲԵՐԻ 28-Ի N 2323-Ն ՈՐՈՇՄԱՆ N 5 ՀԱՎԵԼՎԱԾԻ N 2 ԱՂՅՈՒՍԱԿՈՒՄ ԿԱՏԱՐՎՈՂ ԼՐԱՑՈՒՄԸ
E6: հազար դրամ
B7: Ծրագրային դասիչը | D7: Բյուջետային հատկացումների գլխավոր կարգադրիչների, ծրագրերի, միջոցառումների և միջոցառումները կատարող պետական մարմինների անվանումները | E7: Ցուցանիշների փոփոխությունը (ավելացումները նշված են դրական նշանով)
B8: Ծրագիր | C8: Միջոցառում | E8: Տարի
D9: ԸՆԴԱՄԵՆԸ | E9: =E10 -> 118258.8
D10: ՀՀ տարածքային կառավարման և ենթակառուցվածքների նախարարություն | E10: =E17+E12 -> 118258.8
D11: այդ թվում`
B12: 1049 | C12: 21001 | D12: Պետական նշանակության ավտոճանապարհների հիմնանորոգում | E12: =E14 -> 36354.1
D13: այդ թվում` ըստ կատարողների
D14: ՀՀ Արագածոտնի մարզպետի աշխատակազմ | E14: =E16 -> 36354.1
D15: այդ թվում`
D16: Կաքավաձորից դեպի Օթևան տանող ավտոճանապարհի ՊԿ0+00-ՊԿ13+00 հատվածի հիմնանորոգման աշխատանքներ | E16: ='3'!G48 -> 36354.1
B17: 1212 | C17: 32001 | D17: ՀՀ մարզերում առաջնահերթ լուծում պահանջող անհետաձգելի ծրագրերի իրականացում | E17: =+E20 -> 81904.7
D18: այդ թվում` ըստ կատարողների
D19: ՀՀ Արագածոտնի մարզպետի աշխատակազմ
D20: այդ թվում` | E20: =E21 -> 81904.7
D21: Շամիրամ համայնքի գազաֆիկացման աշխատանքներ | E21: ='3'!G67 -> 81904.7
C24: ՀԱՅԱՍՏԱՆԻ ՀԱՆՐԱՊԵՏՈՒԹՅԱՆ
C25: ՎԱՐՉԱՊԵՏԻ ԱՇԽԱՏԱԿԱԶՄԻ
C26: ՂԵԿԱՎԱՐ ՝ Ա. ՀԱՐՈՒԹՅՈՒՆՅԱՆ

Sheet 5․
G1: Հավելված N5
G2: ՀՀ կառավարության 2024 թվականի
G3: ______________ ի ___Ն որոշման
B5: «ՀԱՅԱUՏԱՆԻ ՀԱՆՐԱՊԵՏՈՒԹՅԱՆ 2024 ԹՎԱԿԱՆԻ ՊԵՏԱԿԱՆ ԲՅՈՒՋԵԻ ՄԱUԻՆ» OՐԵՆՔԻ N 1 ՀԱՎԵԼՎԱԾԻ N 4 ԱՂՅՈՒՍԱԿՈՒՄ ԵՎ ՀԱՅԱՍՏԱՆԻ ՀԱՆՐԱՊԵՏՈՒԹՅԱՆ ԿԱՌԱՎԱՐՈՒԹՅԱՆ 2023 ԹՎԱԿԱՆԻ ԴԵԿՏԵՄԲԵՐԻ 28-Ի N 2323-Ն ՈՐՈՇՄԱՆ N 5 ՀԱՎԵԼՎԱԾԻ N 3 ԱՂՅՈՒՍԱԿՈՒՄ ԿԱՏԱՐՎՈՂ ՓՈՓՈԽՈՒԹՅՈՒՆԸ
G6: հազար դրամ
B7: Ծրագրային դասիչը | D7: Բյուջետային գլխավոր կարգադրիչների, ծրագրերի և միջոցառումների անվանումները | E7: Ցուցանիշների փոփոխությունը (նվազեցումները նշված են փակագծերում)
E8: Տարի
E9: Ընդամենը | F9: այդ թվում`
B10: Ծրագիր | C10: Միջոցառում | F10: Վարկային միջոցներ | G10: Համաֆինան սավորում
D11: ԸՆԴԱՄԵՆԸ_x000D_ | E11: =E13 -> -118258.8 | F11: =F13 -> 0 | G11: =G13 -> -118258.8
D12: այդ թվում`
D13: ԸՆԹԱՑԻԿ ԾԱԽՍԵՐ | E13: =E14 -> -118258.8 | F13: =F14 -> 0 | G13: =G14 -> -118258.8
D14: ՀՀ ՏԱՐԱԾՔԱՅԻՆ ԿԱՌԱՎԱՐՄԱՆ ԵՎ ԵՆԹԱԿԱՌՈՒՑՎԱԾՔՆԵՐԻ ՆԱԽԱՐԱՐՈՒԹՅՈՒՆ_x000D_ | E14: =E16 -> -118258.8 | F14: =F16 -> 0 | G14: =G16 -> -118258.8
D15: այդ թվում`
B16: 1004 | D16: Ոռոգման համակարգի առողջացում | E16: =E18 -> -118258.8 | F16: =F18 -> 0 | G16: =G18 -> -118258.8
D17: այդ թվում`
C18: 11010 | D18: Գերմանիայի զարգացման վարկերի բանկի աջակցությամբ իրականացվող Ախուրյան գետի ջրային ռեսուրսների ինտեգրացված կառավարում փուլ 1 ծրագրով Ջրաձոր գյուղի վերաբնակեցման գործողությունների խորհրդատվություն և կառավարում | E18: =+F18+G18 -> -118258.8 | F18: =+F20 -> 0 | G18: =+G20 -> -118258.8
D19: այդ թվում` ըստ կատարողների
D20: ՀՀ տարածքային կառավարման և ենթակառուցվածքների նախարարության ջրային կոմիտե | E20: =F20+G20 -> -118258.8 | F20: =+F22 -> 0 | G20: =+G22 -> -118258.8
D21: այդ թվում` բյուջետային ծախսերի տնտեսագիտական դասակարգման հոդվածներ
D22: ԸՆԴԱՄԵՆԸ ԾԱԽՍԵՐ | E22: =+E23 -> -118258.8 | F22: =+F23 -> 0 | G22: =+G23 -> -118258.8
D23: ԸՆԹԱՑԻԿ ԾԱԽՍԵՐ | E23: =F23+G23 -> -118258.8 | F23: =+F24 -> 0 | G23: =+G24 -> -118258.8
D24: ԴՐԱՄԱՇՆՈՐՀՆԵՐ | E24: =+F24+G24 -> -118258.8 | F24: =+F25 -> 0 | G24: =+G25 -> -118258.8
D25: Ընթացիկ դրամաշնորհներ պետական հատվածի այլ մակարդակներին | E25: =+F25+G25 -> -118258.8 | F25: =+F26 -> 0 | G25: =+G26 -> -118258.8
D26: - Այլ ընթացիկ դրամաշնորհներ | E26: =+F26+G26 -> -118258.8 | F26: 0 | G26: ='3'!G31 -> -118258.8

Sheet 6
D1: Հավելված N 6
D2: ՀՀ կառավարության 2024 թվականի
D3: N ------------ -Ն որոշման
B5: ՀԱՅԱՍՏԱՆԻ ՀԱՆՐԱՊԵՏՈՒԹՅԱՆ ԿԱՌԱՎԱՐՈՒԹՅԱՆ 2023 ԹՎԱԿԱՆԻ ԴԵԿՏԵՄԲԵՐԻ 28-Ի N 2323-Ն ՈՐՈՇՄԱՆ N 9 ՀԱՎԵԼՎԱԾԻ N 9.7 ԱՂՅՈՒՍԱԿՈՒՄ ԿԱՏԱՐՎՈՂ ՓՈՓՈԽՈՒԹՅՈՒՆՆԵՐԸ ԵՎ ԼՐԱՑՈՒՄՆԵՐԸ
D6: Աղյուսակ 9.7
B8: ՀՀ ՏԱՐԱԾՔԱՅԻՆ ԿԱՌԱՎԱՐՄԱՆ ԵՎ ԵՆԹԱԿԱՌՈՒՑՎԱԾՔՆԵՐԻ ՆԱԽԱՐԱՐՈՒԹՅՈՒՆ
B9: ՄԱՍ 2. ՊԵՏԱԿԱՆ ՄԱՐՄՆԻ ԳԾՈՎ ԱՐԴՅՈՒՆՔԱՅԻՆ (ԿԱՏԱՐՈՂԱԿԱՆ) ՑՈՒՑԱՆԻՇՆԵՐԸ
B11: Ծրագրի դասիչը | C11: Ծրագրի անվանումը
B12: 1004 | C12: Ոռոգման համակարգի առողջացում
B14: Ծրագրի միջոցառումները
B15: Ծրագրի դասիչը` | C15: 1004 | D15: Ցուցանիշների փոփոխությունը ( նվազեցումները` նշված են փակագծերում)
B16: Միջոցառման դասիչը` | C16: 11010 | D16: Տարի
B17: Միջոցառման անվանումը` | C17: Գերմանիայի զարգացման վարկերի բանկի աջակցությամբ իրականացվող Ախուրյան գետի ջրային ռեսուրսների ինտեգրացված կառավարում փուլ 1 ծրագրով Ջրաձոր գյուղի վերաբնակեցման գործողությունների խորհրդատվություն և կառավարում
B18: Նկարագրությունը` | C18: Գերմանիայի զարգացման վարկերի բանկի աջակցությամբ իրականացվող Ախուրյան գետի ջրային ռեսուրսների ինտեգրացված կառավարում փուլ 1 ծրագրով Ջրաձոր գյուղի վերաբնակեցման գործողությունների համակարգում և ղեկավարում
B19: Միջոցառման տեսակը` | C19: Ծառայությունների մատուցում
B20: Միջոցառումն իրականացնողի անվանումը | C20: Մասնագիտացված միավոր
B21: Արդյունքի չափորոշիչներ
B22: Միջոցառման վրա կատարվող ծախսը (հազար դրամ) | D22: ='3'!G31 -> -118258.8
B24: Ծրագրի դասիչը | C24: Ծրագրի անվանումը
B25: 1049 | C25: Ճանապարհային ցանցի բարելավում
B27: Ծրագրի միջոցառումները
B28: Ծրագրի դասիչը` | C28: 1049 | D28: Ցուցանիշների փոփոխությունը (ավելացումները նշված են դրական նշանով)
B29: Միջոցառման դասիչը` | C29: 21001 | D29: Տարի
B30: Միջոցառման անվանումը` | C30: Պետական նշանակության ավտոճանապարհների հիմնանորոգում
B31: Նկարագրությունը` | C31: Միջպետական, հանրապետական և մարզային նշանակության ավտոճոնապարհների քայքայված ծածկի վերանորոգում, մաշված ծածկի փոխարինում
B32: Միջոցառման տեսակը` | C32: Հանրության կողմից անմիջականորեն օգտագործվող ակտիվների հետ կապված միջոցառումներ
B33: Միջոցառումն իրականացնողի անվանումը | C33: Մասնագիտացված միավոր
B34: Արդյունքի չափորոշիչներ
B35: Ավտոճանապարհի երկարություն, կմ | D35: 1.3
B36: Միջոցառման վրա կատարվող ծախսը (հազար դրամ) | D36: ='3'!G40 -> 36354.1
B38: Ծրագրի դասիչը | C38: Ծրագրի անվանումը
B39: 1212 | C39: Տարածքային զարգացում
B41: Ծրագրի միջոցառումները
B43: Ծրագրի դասիչը` | C43: 1212 | D43: Ցուցանիշների փոփոխությունը (ավելացումները նշված են դրական նշանով)
B44: Միջոցառման դասիչը` | C44: 32001 | D44: Տարի
B45: Միջոցառման անվանումը` | C45: ՀՀ մարզերում առաջնահերթ լուծում պահանջող անհետաձգելի ծրագրերի իրականացում
B46: Նկարագրությունը` | C46: ՀՀ մարզերում առաջնահերթ լուծում պահանջող ծրագրերի իրականացում, որի արդյունքում լուծում կտրվի մարզային ենթակայության կազմակերպությունների և համայնքային նշանակություն ունեցող հիմնախնդիրներին
B47: Միջոցառման տեսակը` | C47: Հանրության կողմից անմիջականորեն օգտագործվող ակտիվների հետ կապված միջոցառումներ
B48: Միջոցառումն իրականացնողի անվանումը | C48: Մասնագիտացված միավոր
B49: Արդյունքի չափորոշիչներ
B50: Գազատար խողովակի երկարություն, մ | D50: 15,852.5 մ
B51: Համայնքների թիվ, | C51: քանակ | D51: 1
B52: Միջոցառման վրա կատարվող ծախսը (հազար դրամ) | D52: ='3'!G59 -> 81904.7
B56: ՀԱՅԱՍՏԱՆԻ ՀԱՆՐԱՊԵՏՈՒԹՅԱՆ
B57: ՎԱՐՉԱՊԵՏԻ ԱՇԽԱՏԱԿԱԶՄԻ
B58: ՂԵԿԱՎԱՐ ՝ Ա. ՀԱՐՈՒԹՅՈՒՆՅԱՆ

Sheet 7
D1: Հավելված N 7
D2: ՀՀ կառավարության 2024 թվականի
D3: N ------------ -Ն որոշման
B5: ՀԱՅԱՍՏԱՆԻ ՀԱՆՐԱՊԵՏՈՒԹՅԱՆ ԿԱՌԱՎԱՐՈՒԹՅԱՆ 2023 ԹՎԱԿԱՆԻ ԴԵԿՏԵՄԲԵՐԻ 28-Ի N 2323-Ն ՈՐՈՇՄԱՆ N 9.1 ՀԱՎԵԼՎԱԾԻ NN 9.1.25 ԵՎ 9.1.48 ԱՂՅՈՒՍԱԿՆԵՐՈՒՄ ԿԱՏԱՐՎՈՂ ՓՈՓՈԽՈՒԹՅՈՒՆՆԵՐԸ ԵՎ ԼՐԱՑՈՒՄՆԵՐԸ
D7: Աղյուսակ 9.1.25
B8: ՀՀ տարածքային կառավարման և ենթակառուցվածքների նախարարության ջրային կոմիտե
B9: ՄԱՍ 1. ՊԵՏԱԿԱՆ ՄԱՐՄՆԻ ԳԾՈՎ ԱՐԴՅՈՒՆՔԱՅԻՆ (ԿԱՏԱՐՈՂԱԿԱՆ) ՑՈՒՑԱՆԻՇՆԵՐԸ
B11: Ծրագրի դասիչը | C11: Ծրագրի անվանումը
B12: 1004 | C12: Ոռոգման համակարգի առողջացում
B14: Ծրագրի միջոցառումները
B16: Ծրագրի դասիչը` | C16: 1004 | D16: Ցուցանիշների փոփոխությունը (նվազեցումները նշված են փակագծերում)
B17: Միջոցառման դասիչը` | C17: 11010 | D17: Տարի
B18: Միջոցառման անվանումը` | C18: Գերմանիայի զարգացման վարկերի բանկի աջակցությամբ իրականացվող Ախուրյան գետի ջրային ռեսուրսների ինտեգրացված կառավարում փուլ 1 ծրագրով Ջրաձոր գյուղի վերաբնակեցման գործողությունների խորհրդատվություն և կառավարում
B19: Նկարագրությունը` | C19: Գերմանիայի զարգացման վարկերի բանկի աջակցությամբ իրականացվող Ախուրյան գետի ջրային ռեսուրսների ինտեգրացված կառավարում փուլ 1 ծրագրով Ջրաձոր գյուղի վերաբնակեցման գործողությունների համակարգում և ղեկավարում
B20: Միջոցառման տեսակը` | C20: Ծառայությունների մատուցում
B21: Միջոցառումն իրականացնողի անվանումը | C21: Մասնագիտացված միավոր
B22: Արդյունքի չափորոշիչներ
B23: Միջոցառման վրա կատարվող ծախսը (հազար դրամ) | D23: ='3'!G31 -> -118258.8
D25: Աղյուսակ 9.1.48
B26: ՀՀ Արագածոտնի մարզպետի աշխատակազմ
B27: ՄԱՍ 1. ՊԵՏԱԿԱՆ ՄԱՐՄՆԻ ԳԾՈՎ ԱՐԴՅՈՒՆՔԱՅԻՆ (ԿԱՏԱՐՈՂԱԿԱՆ) ՑՈՒՑԱՆԻՇՆԵՐԸ
B28: Ծրագրի դասիչը | C28: Ծրագրի անվանումը
B29: 1212 | C29: Տարածքային զարգացում
B31: Ծրագրի միջոցառումները
B33: Ծրագրի դասիչը` | C33: 1212 | D33: Ցուցանիշների փոփոխությունը (ավելացումները նշված են դրական նշանով)
B34: Միջոցառման դասիչը` | C34: 32001 | D34: Տարի
B35: Միջոցառման անվանումը` | C35: ՀՀ մարզերում առաջնահերթ լուծում պահանջող անհետաձգելի ծրագրերի իրականացում
B36: Նկարագրությունը` | C36: ՀՀ մարզերում առաջնահերթ լուծում պահանջող ծրագրերի իրականացում, որի արդյունքում լուծում կտրվի մարզային ենթակայության կազմակերպությունների և համայնքային նշանակություն ունեցող հիմնախնդիրներին
B37: Միջոցառման տեսակը` | C37: Հանրության կողմից անմիջականորեն օգտագործվող ակտիվների հետ կապված միջոցառումներ
B38: Միջոցառումն իրականացնողի անվանումը | C38: Մասնագիտացված միավոր
B39: Արդյունքի չափորոշիչներ
B40: Գազատար խողովակի երկարություն, մ | D40: 15852.5
B41: Համայնքների թիվ, քանակ | D41: 1
B42: Միջոցառման վրա կատարվող ծախսը (հազար դրամ) | D42: ='3'!G67 -> 81904.7
B44: Ծրագրի դասիչը | C44: Ծրագրի անվանումը
B45: 1049 | C45: Ճանապարհային ցանցի բարելավում
B47: Ծրագրի միջոցառումները
B49: Ծրագրի դասիչը` | C49: 1049 | D49: Ցուցանիշների փոփոխությունը (ավելացումները նշված են դրական նշանով)
B50: Միջոցառման դասիչը` | C50: 21001 | D50: Տարի
B51: Միջոցառման անվանումը` | C51: Պետական նշանակության ավտոճանապարհների հիմնանորոգում
B52: Նկարագրությունը` | C52: Միջպետական, հանրապետական և մարզային նշանակության ավտոճանապարհների քայքայված ծածկի վերանորոգում, մաշված ծածկի փոխարինում
B53: Միջոցառման տեսակը` | C53: Հանրության կողմից անմիջականորեն օգտագործվող ակտիվների հետ կապված միջոցառումներ
B54: Միջոցառումն իրականացնողի անվանումը | C54: Մասնագիտացված միավոր
B55: Արդյունքի չափորոշիչներ
B56: ավտոճանապարհի երկարություն, կմ | D56: 1.3
B57: Միջոցառման վրա կատարվող ծախսը (հազար դրամ) | D57: ='3'!G48 -> 36354.1
B61: ՀԱՅԱՍՏԱՆԻ ՀԱՆՐԱՊԵՏՈՒԹՅԱՆ
B62: ՎԱՐՉԱՊԵՏԻ ԱՇԽԱՏԱԿԱԶՄԻ
B63: ՂԵԿԱՎԱՐ ՝ Ա. ՀԱՐՈՒԹՅՈՒՆՅԱՆ

Sheet 8
G1: Հավելված N 8
G2: ՀՀ կառավարության 2024 թվականի
G3: N ------------ -Ն որոշման
A6: ՀԱՅԱՍՏԱՆԻ ՀԱՆՐԱՊԵՏՈՒԹՅԱՆ ԿԱՌԱՎԱՐՈՒԹՅԱՆ 2023 ԹՎԱԿԱՆԻ ԴԵԿՏԵՄԲԵՐԻ 28-Ի N 2323-Ն ՈՐՈՇՄԱՆ N 10 ՀԱՎԵԼՎԱԾՈՒՄ ԿԱՏԱՐՎՈՂ ՓՈՓՈԽՈՒԹՅՈՒՆՆԵՐԸ ԵՎ ԼՐԱՑՈՒՄՆԵՐԸ
A9: Կոդը | B9: Անվանումը | C9: Գնման ձևը | D9: Չափի միավորը | E9: Միավորի գինը | F9: Քանակը | G9: Ցուցանիշների փոփոխությունը (ավելացումները նշված են դրական նշանով, իսկ նվազեցումները` փակագծերում)
G10: գումարը (հազար դրամ)
B11: ԸՆԴԱՄԵՆԸ | G11: =G12 -> 118258.8
B12: ՀՀ Արագածոտնի մարզպետի աշխատակազմ | G12: =G13+G19 -> 118258.8
A13: Բաժին N 01 | B13: Խումբ N 08 | C13: Դաս N 01 | D13: Կառավարության տարբեր մակարդակների միջեւ իրականացվող ընդհանուր բնույթի տրանսֆերտներ | G13: =G14 -> 81904.7
A14: 1212 32001 | B14: ՀՀ մարզերում առաջնահերթ լուծում պահանջող անհետաձգելի ծրագրերի իրականացում | G14: =+G15+G17 -> 81904.7
B15: ՄԱՍ II. ԱՇԽԱՏԱՆՔՆԵՐ | G15: =G16 -> 80700
A16: 45231116/501 | B16: Գազի մատակարարման մագիստրալային խողովակների կառուցման աշխատանքներ | C16: /ԲՄ/ | D16: դրամ | E16: 80700000 | F16: 1 | G16: =E16*F16/1000 -> 80700
B17: ՄԱՍ III. ԾԱՌԱՅՈՒԹՅՈՒՆՆԵՐ | G17: =+G18 -> 1204.7
A18: 71351540/503 | B18: տեխնիկական հսկողության ծառայություններ | C18: /ԲՄ/ | D18: դրամ | E18: =G18*1000 -> 1204700 | F18: 1 | G18: 1204.7
A19: Բաժին N 04 | B19: Խումբ N 05 | C19: Դաս N 01 | D19: Ճանապարհային տրանսպորտ | G19: =G20 -> 36354.1
A20: 1049 21001 | B20: Պետական նշանակության ավտոճանապարհների հիմնանորոգում | G20: =G21+G23 -> 36354.1
B21: ՄԱՍ II. ԱՇԽԱՏԱՆՔՆԵՐ | G21: =G22 -> 35979.1
A22: 45231177/501 | B22: Ճանապարհների վերանորոգման աշխատանքներ | C22: /ԲՄ/ | D22: դրամ | E22: =G22*1000 -> 35979100 | F22: 1 | G22: 35979.1
B23: ՄԱՍ III. ԾԱՌԱՅՈՒԹՅՈՒՆՆԵՐ | G23: =+G24 -> 375
A24: 71351540/502 | B24: տեխնիկական հսկողության ծառայություններ | C24: /ԳՀ/ | D24: դրամ | E24: =G24*1000 -> 375000 | F24: 1 | G24: 375
B34: ՀԱՅԱՍՏԱՆԻ ՀԱՆՐԱՊԵՏՈՒԹՅԱՆ
B35: ՎԱՐՉԱՊԵՏԻ ԱՇԽԱՏԱԿԱԶՄԻ
B36: ՂԵԿԱՎԱՐ ՝ Ա. ՀԱՐՈՒԹՅՈՒՆՅԱՆ
