Workbook
Name _tab10: #REF!
Name _tab11: #REF!
Name _tab12: #REF!
Name _tab13: #REF!
Name _tab14: #REF!
Name _tab15: #REF!
Name _tab16: #REF!
Name _tab17: #REF!
Name _tab18: #REF!
Name _tab19: #REF!
Name _tab20: #REF!
Name _tab21: #REF!
Name _tab22: #REF!
Name _tab23: #REF!
Name _tab24: #REF!
Name _tab5: #REF!
Name _tab6: #REF!
Name _tab7: #REF!
Name _tab8: #REF!
Name _tab9: #REF!
Name AgencyCode: #REF!
Name AgencyCode: #REF!
Name AgencyName: #REF!
Name AgencyName: #REF!
Name åû: #REF!
Name åû: #REF!
Name davit: #REF!
Name davit: #REF!
Name Functional1: #REF!
Name Functional1: #REF!
Name ggg: #REF!
Name ggg: #REF!
Name hav: #REF!
Name havelvac: #REF!
Name mas: #REF!
Name mas: #REF!
Name mass: #REF!
Name mass: #REF!
Name PANature: #REF!
Name PANature: #REF!
Name par_count: #REF!,#REF!,#REF!,#REF!,#REF!,#REF!,#REF!,#REF!,#REF!,#REF!,#REF!,#REF!,#REF!,#REF!,#REF!
Name par_qual: #REF!,#REF!,#REF!,#REF!,#REF!
Name par_time: #REF!,#REF!,#REF!,#REF!
Name par2.12s: #REF!
Name par2.4s: #REF!,#REF!,#REF!,#REF!,#REF!,#REF!,#REF!,#REF!,#REF!,#REF!,#REF!,#REF!,#REF!,#REF!,#REF!,#REF!
Name par2.5s: #REF!,#REF!
Name par2.6s: #REF!,#REF!,#REF!,#REF!
Name par2.7s: #REF!,#REF!
Name par2.9s: #REF!,#REF!,#REF!,#REF!,#REF!,#REF!,#REF!,#REF!,#REF!,#REF!,#REF!,#REF!,#REF!,#REF!,#REF!,#REF!
Name par4.10s: #REF!,#REF!
Name par4.11d: #REF!,#REF!,#REF!,#REF!,#REF!
Name par4.12d: #REF!
Name par4.13s: #REF!
Name par4.14: #REF!,#REF!,#REF!,#REF!,#REF!,#REF!
Name par4.15: #REF!,#REF!,#REF!
Name par4.16: #REF!,#REF!,#REF!
Name par4.17: #REF!,#REF!,#REF!,#REF!
Name par4.18d: #REF!,#REF!
Name par4.19s: #REF!
Name par4.20f: #REF!

Sheet 1. օրենք 2 հոդվ
B1: Հավելված N 1
B2: ՀՀ կառավարության 2024 թվականի
B3: ______________ ի ___Ն որոշման
B6: «ՀԱՅԱՍՏԱՆԻ ՀԱՆՐԱՊԵՏՈՒԹՅԱՆ 2024 ԹՎԱԿԱՆԻ ՊԵՏԱԿԱՆ ԲՅՈՒՋԵԻ ՄԱՍԻՆ» ՀԱՅԱՍՏԱՆԻ ՀԱՆՐԱՊԵՏՈՒԹՅԱՆ ՕՐԵՆՔԻ 2-ՐԴ ՀՈԴՎԱԾԻ ԱՂՅՈՒՍԱԿՈՒՄ ԿԱՏԱՐՎՈՂ ԼՐԱՑՈՒՄՆԵՐԸ
C8: (հազ. դրամ)
C9: Ցուցանիշների փոփոխությունը (ավելացումները նշված են դրական նշանով)
B10: 1. Եկամուտների գծով | C10: 248548.1
B11: 2. Ծախսերի գծով | C11: =C10 -> 248548.1
B12: 3. Դեֆիցիտը (պակասուրդը) | C12: =C11-C10 -> 0
B16: ՀԱՅԱՍՏԱՆԻ ՀԱՆՐԱՊԵՏՈՒԹՅԱՆ ՎԱՐՉԱՊԵՏԻ ԱՇԽԱՏԱԿԱԶՄԻ ՂԵԿԱՎԱՐ | C16: Ա. ՀԱՐՈՒԹՅՈՒՆՅԱՆ

Sheet -2
B1: Հավելված N 2
B2: ՀՀ կառավարության 2024 թվականի
B3: ______________ ի ___Ն որոշման
A5: «ՀԱՅԱUՏԱՆԻ ՀԱՆՐԱՊԵՏՈՒԹՅԱՆ 2024 ԹՎԱԿԱՆԻ ՊԵՏԱԿԱՆ ԲՅՈՒՋԵԻ ՄԱUԻՆ» ՕՐԵՆՔԻ 3-ՐԴ ՀՈԴՎԱԾԻ ԱՂՅՈՒՍԱԿՈՒՄ, N 3 ՀԱՎԵԼՎԱԾԻ N 1 ԱՂՅՈՒՍԱԿՈՒՄ ԵՎ ՀԱՅԱՍՏԱՆԻ ՀԱՆՐԱՊԵՏՈՒԹՅԱՆ ԿԱՌԱՎԱՐՈՒԹՅԱՆ 2023 ԹՎԱԿԱՆԻ ԴԵԿՏԵՄԲԵՐԻ 28-Ի N 2323-Ն ՈՐՈՇՄԱՆ N 1 ՀԱՎԵԼՎԱԾԻ N 1 ԱՂՅՈՒՍԱԿՈՒՄ ԿԱՏԱՐՎՈՂ ՓՈՓՈԽՈՒԹՅՈՒՆՆԵՐԸ ԵՎ ԼՐԱՑՈՒՄՆԵՐԸ
C7: (հազ. դրամ)
A8: Պետական բյուջեի դեֆիցիտի ֆինանսավորման աղբյուրներն ու դրանց տարրերի անվանումները | B8: Ցուցանիշների փոփոխությունը (ավելացումները նշված են դրական նշանով, նվազեցումները՝ փակագծերում)
B9: Ինն ամիս | C9: Տարի
A10: ԸՆԴԱՄԵՆԸ | B10: =B13+B18 -> #REF! | C10: =C13+C18 -> 0
A11: այդ թվում՝
A12: այդ թվում՝
A13: Ա.Ներքին աղբյուրներ-ընդամենը | B13: =B14 -> #REF! | C13: =C14 -> -381948.6
A14: 2. Ֆինանսական զուտ ակտիվներ | B14: =B15 -> #REF! | C14: =C15 -> -381948.6
A15: 2.4. Վարկերի և փոխատվությունների տրամադրում | B15: =B17 -> #REF! | C15: =C17 -> -381948.6
A16: որից`
A17: - արտաքին աղբյուրների աջակցությամբ իրականացվող նպատակային ծրագրերի շրջանակներում ենթավարկերի տրամադրում այդ ծրագրերում ներգրաված տնտեսվարող սուբյեկտներին | B17: =-'-4'!#REF! -> #REF! | C17: -381948.6
A18: Բ. Արտաքին աղբյուրներ - ընդամենը | B18: 220700.4 | C18: 381948.6
A19: 1. Փոխառու զուտ միջոցներ | B19: 220700.4 | C19: 381948.6
A20: 1.1. Վարկերի և փոխատվությունների ստացում | B20: 220700.4 | C20: 381948.6
A21: - նպատակային վարկերի գծով | B21: ='-4'!#REF! -> #REF! | C21: 381948.6
A23: ՀԱՅԱՍՏԱՆԻ ՀԱՆՐԱՊԵՏՈՒԹՅԱՆ ՎԱՐՉԱՊԵՏԻ ԱՇԽԱՏԱԿԱԶՄԻ ՂԵԿԱՎԱՐ | B23: Ա. ՀԱՐՈՒԹՅՈՒՆՅԱՆ

Sheet -3
A5: «ՀԱՅԱUՏԱՆԻ ՀԱՆՐԱՊԵՏՈՒԹՅԱՆ 2024 ԹՎԱԿԱՆԻ ՊԵՏԱԿԱՆ ԲՅՈՒՋԵԻ ՄԱUԻՆ» OՐԵՆՔԻ N 3 ՀԱՎԵԼՎԱԾԻ N 1.1 ԱՂՅՈՒՍԱԿՈՒՄ ԵՎ ՀԱՅԱՍՏԱՆԻ ՀԱՆՐԱՊԵՏՈՒԹՅԱՆ ԿԱՌԱՎԱՐՈՒԹՅԱՆ 2023 ԹՎԱԿԱՆԻ ԴԵԿՏԵՄԲԵՐԻ 28-Ի N 2323-Ն ՈՐՈՇՄԱՆ N 1 ՀԱՎԵԼՎԱԾԻ N 2 ԱՂՅՈՒՍԱԿՈՒՄ ԿԱՏԱՐՎՈՂ ՓՈՓՈԽՈՒԹՅՈՒՆՆԵՐԸ ԵՎ ԼՐԱՑՈՒՄՆԵՐԸ
D7: (հազ. դրամ)
A8: Ծրագրային դասիչ | C8: Բյուջետային գլխավոր կարգադրիչների, ծրագրերի և միջոցառումների անվանումները | D8: Ցուցանիշների փոփոխությունը (ավելացումները նշված են դրական նշանով, նվազեցումները՝ փակագծերում)
A9: Ծրագիր | B9: Միջոցառում | D9: Տարի
C10: ԸՆԴԱՄԵՆԸ այդ թվում | D10: =+D12 -> 916676.6
A11: ՀՀ տարածքային կառավարման և ենթակառուցվածքների նախարարություն
A12: 1232 | C12: Ծրագրի անվանումը՝ Էներգաարդյունավետության ծրագիր | D12: =D16+D20 -> 916676.6
C13: Ծրագրի նպատակը՝ Էներգախնայողության և վերականգնվող էներգետիկայի ներուժի առավելագույն իրացում
C14: Վերջնական արդյունքի նկարագրությունը՝ Էներգախնայողության մակարդակի բարձրացում և վերականգնվող էներգետիկայի մասնաբաժնի աճ
B16: 11001 | C16: Միջոցառման անվանումը՝ Եվրասիական զարգացման բանկի աջակցությամբ իրականացվող հանրային շենքերում էներգախնայողության բարելավման և կանաչ էներգիայի զարգացմանը նպաստող դրամաշնորհային ծրագրի կառավարում | D16: 458338.3
C17: Միջոցառման նկարագրությունը՝ Էներգախնայողությանն ուղղված միջոցառումների իրականացման համակարգում
C18: Միջոցառման տեսակը՝
C19: Ծառայությունների մատուցում
B20: 32001 | C20: Միջոցառման անվանումը՝ Եվրասիական զարգացման բանկի աջակցությամբ իրականացվողհանրային շենքերում էներգախնայողության բարեավման և կանաչ էներգիայի զարգացմանը նպաստող դրամաշնորհային ծրագրի շրջանակներում հիմնանորոգման աշխատանքներ | D20: 458338.3
C21: Միջոցառման նկարագրությունը՝ Էներգախնայողությանն ուղղված կապիտալ միջոցառումների իրականացում հանրային շենքերում
C22: Միջոցառման տեսակը՝
C23: Այլ պետական կազմակերպությունների կողմից օգտագործվող ոչ ֆինանսական ակտիվների հետ գործառնություններ
C55: ՀԱՅԱՍՏԱՆԻ ՀԱՆՐԱՊԵՏՈՒԹՅԱՆ ՎԱՐՉԱՊԵՏԻ ԱՇԽԱՏԱԿԱԶՄԻ ՂԵԿԱՎԱՐ | D55: Ա. ՀԱՐՈՒԹՅՈՒՆՅԱՆ

Sheet -4
E1: Հավելված N 4
E2: ՀՀ կառավարության 2024 թվականի
E3: ______________ ի ___Ն որոշման
A5: «ՀԱՅԱUՏԱՆԻ ՀԱՆՐԱՊԵՏՈՒԹՅԱՆ 2024 ԹՎԱԿԱՆԻ ՊԵՏԱԿԱՆ ԲՅՈՒՋԵԻ ՄԱUԻՆ» OՐԵՆՔԻ N 3 ՀԱՎԵԼՎԱԾԻ N 1.1.1 ԱՂՅՈՒՍԱԿՈՒՄ ԵՎ ՀԱՅԱՍՏԱՆԻ ՀԱՆՐԱՊԵՏՈՒԹՅԱՆ ԿԱՌԱՎԱՐՈՒԹՅԱՆ 2023 ԹՎԱԿԱՆԻ ԴԵԿՏԵՄԲԵՐԻ 28-Ի N 2323-Ն ՈՐՈՇՄԱՆ N 1 ՀԱՎԵԼՎԱԾԻ N 3 ԱՂՅՈՒՍԱԿՈՒՄ ԿԱՏԱՐՎՈՂ ՓՈՓՈԽՈՒԹՅՈՒՆՆԵՐԸ ԵՎ ԼՐԱՑՈՒՄՆԵՐԸ
F7: (հազ. դրամ)
A8: Ծրագրային դասիչ | C8: Բյուջետային գլխավոր կարգադրիչների, ծրագրերի և միջոցառումների անվանումները | D8: Ցուցանիշների փոփոխությունը (ավելացումները նշված են դրական նշանով, նվազեցումները՝ փակագծերում )
D9: Տարի
D10: Ընդամենը | E10: այդ թվում՝
A11: Ծրագիր | B11: Միջոցառում | E11: դրամաշնորհային միջոցներ | F11: համաֆինանսավորում
C12: ԸՆԴԱՄԵՆԸ | D12: =D14 -> 458338.3 | E12: =E14 -> 381948.6 | F12: =F14 -> 76389.7
C13: այդ թվում՝
C14: ՀՀ ՏԱՐԱԾՔԱՅԻՆ ԿԱՌԱՎԱՐՄԱՆ ԵՎ ԵՆԹԱԿԱՌՈՒՑՎԱԾՔՆԵՐԻ ՆԱԽԱՐԱՐՈՒԹՅՈՒՆ | D14: =D15+D32 -> 458338.3 | E14: =E15+E32 -> 381948.6 | F14: =F15+F32 -> 76389.7
A15: 1232 | C15: Էներգաարդյունավետության ծրագիր | D15: =+E15+F15 -> 458338.3 | E15: 381948.6 | F15: 76389.7
B16: 11001 | C16: Եվրասիական զարգացման բանկի աջակցությամբ իրականացվող հանրային շենքերում էներգախնայողության բարելավման և կանաչ էներգիայի զարգացմանը նպաստող դրամաշնորհային ծրագրի կառավարում | D16: =+E16+F16 -> 458338.3 | E16: 381948.6 | F16: 76389.7
C17: այդ թվում՝ ըստ կատարողների
C18: ՀՀ տարածքային կառավարման և ենթակառուցվածքների նախարարություն | D18: =+E18+F18 -> 458338.3 | E18: 381948.6 | F18: 76389.7
C19: այդ թվում՝ ըստ տնտեսագիտական դասակարգման հոդվածների՝
C20: ՀԻՄՆԱԿԱՆ ԳՈՒՄԱՐԻ ՄԱՐՄԱՆ ԵՎ ՖԻՆԱՆՍԱԿԱՆ ԱԿՏԻՎՆԵՐԻ ՁԵՌՔԲԵՐՄԱՆ ԳԾՈՎ ԾԱԽՍԵՐ, այդ թվում` | D20: =+E20+F20 -> 458338.3 | E20: 381948.6 | F20: 76389.7
C21: ՖԻՆԱՆՍԱԿԱՆ ԱԿՏԻՎՆԵՐԻ ՁԵՌՔԲԵՐՈՒՄ, այդ թվում | D21: =+E21+F21 -> 458338.3 | E21: 381948.6 | F21: 76389.7
C22: ՆԵՐՔԻՆ ՖԻՆԱՆՍԱԿԱՆ ԱԿՏԻՎՆԵՐԻ ՁԵՌՔԲԵՐՈՒՄ, այդ թվում` | D22: =+E22+F22 -> 458338.3 | E22: 381948.6 | F22: 76389.7
C23: Ներքին վարկեր և փոխատվություններ | D23: =+E23+F23 -> 458338.3 | E23: 381948.6 | F23: 76389.7
B24: 32001 | C24: Եվրասիական զարգացման բանկի աջակցությամբ իրականացվողհանրային շենքերում էներգախնայողության բարեավման և կանաչ էներգիայի զարգացմանը նպաստող դրամաշնորհային ծրագրի շրջանակներում հիմնանորոգման աշխատանքներ | D24: =D26 -> 0 | E24: =E26 -> 0 | F24: =F26 -> 0
C25: այդ թվում՝ ըստ կատարողների
C26: ՀՀ տարածքային կառավարման և ենթակառուցվածքների նախարարություն | D26: =D28 -> 0 | E26: =E28 -> 0 | F26: =F28 -> 0
C27: այդ թվում՝ ըստ տնտեսագիտական դասակարգման հոդվածների՝
C28: ՀԻՄՆԱԿԱՆ ԳՈՒՄԱՐԻ ՄԱՐՄԱՆ ԵՎ ՖԻՆԱՆՍԱԿԱՆ ԱԿՏԻՎՆԵՐԻ ՁԵՌՔԲԵՐՄԱՆ ԳԾՈՎ ԾԱԽՍԵՐ, այդ թվում` | D28: =D29 -> 0 | E28: =E29 -> 0 | F28: =F29 -> 0
C29: ՖԻՆԱՆՍԱԿԱՆ ԱԿՏԻՎՆԵՐԻ ՁԵՌՔԲԵՐՈՒՄ, այդ թվում | D29: =D30 -> 0 | E29: =E30 -> 0 | F29: =F30 -> 0
C30: ՆԵՐՔԻՆ ՖԻՆԱՆՍԱԿԱՆ ԱԿՏԻՎՆԵՐԻ ՁԵՌՔԲԵՐՈՒՄ, այդ թվում` | D30: =D31 -> 0 | E30: =E31 -> 0 | F30: =F31 -> 0
C31: Ներքին վարկեր և փոխատվություններ | D31: =E31+F31 -> 0 | E31: =E41 -> 0 | F31: 0
C43: ՀԱՅԱՍՏԱՆԻ ՀԱՆՐԱՊԵՏՈՒԹՅԱՆ ՎԱՐՉԱՊԵՏԻ ԱՇԽԱՏԱԿԱԶՄԻ ՂԵԿԱՎԱՐ | D43: Ա. ՀԱՐՈՒԹՅՈՒՆՅԱՆ

Sheet -5
C1: Հավելված N 5
C2: ՀՀ կառավարության 2024 թվականի
C3: ______________ ի ___Ն որոշման
A5: ՀԱՆՐԱՊԵՏՈՒԹՅԱՆ ԿԱՌԱՎԱՐՈՒԹՅԱՆ 2023 ԹՎԱԿԱՆԻ ԴԵԿՏԵՄԲԵՐԻ 28-Ի N 2323-Ն ՈՐՈՇՄԱՆ N 1 ՀԱՎԵԼՎԱԾԻ N 5 ԱՂՅՈՒՍԱԿՈՒՄ ԿԱՏԱՐՎՈՂ ՓՈՓՈԽՈՒԹՅՈՒՆԸ ԵՎ ԼՐԱՑՈՒՄՆԵՐԸ
A7: ՀՀ տարածքային կառավարման և ենթակառուցվածքների նախարարություն
A9: ՄԱՍ 2. ՊԵՏԱԿԱՆ ՄԱՐՄՆԻ ԳԾՈՎ ԱՐԴՅՈՒՆՔԱՅԻՆ (ԿԱՏԱՐՈՂԱԿԱՆ) ՑՈՒՑԱՆԻՇՆԵՐԸ
A11: Ծրագրի դասիչը | B11: Ծրագրի անվանումը
A12: ='-3'!A12:A14 -> 1232 | B12: Էներգաարդյունավետության ծրագիր
A14: Ծրագրի միջոցառումները
A15: Ծրագրի դասիչը՝ | B15: 1232 | C15: Ցուցանիշների փոփոխությունը (ավելացումները նշված են դրական նշանով)
A16: Միջոցառման դասիչը՝ | B16: ='-3'!B16:B19 -> 11001 | C16: Տարի
A17: Միջոցառման անվանումը՝ | B17: ='-4'!C16 -> Եվրասիական զարգացման բանկի աջակցությամբ իրականացվող հանրային շենքերում էներգախնայողության բարելավման և կանաչ էներգիայի զարգացմանը նպաստող դրամաշնորհային ծրագրի կառավարում
A18: Նկարագրությունը՝ | B18: Էներգախնայողությանն ուղղված միջոցառումների իրականացման համակարգում
A19: Միջոցառման տեսակը՝ | B19: Ծառայությունների մատուցում
A20: Միջոցառումն իրականացնողի անվանումը՝ | B20: Մասնագիտացված միավոր
B21: Արդյունքի չափորոշիչներ
A22: Քանակական | B22: Տեխնիկական հսկողություն,ամիս | C22: 5
A23: Միջոցառման վրա կատարվող ծախսը (հազար դրամ) | C23: 458338.3
A27: Միջոցառման դասիչը՝ | B27: 32001 | C27: Տարի
A28: Միջոցառման անվանումը՝ | B28: Եվրասիական զարգացման բանկի աջակցությամբ իրականացվողհանրային շենքերում էներգախնայողության բարեավման և կանաչ էներգիայի զարգացմանը նպաստող դրամաշնորհային ծրագրի շրջանակներում հիմնանորոգման աշխատանքներ
A29: Նկարագրությունը՝ | B29: Էներգախնայողությանն ուղղված կապիտալ միջոցառումների իրականացում հանրային շենքերում
A30: Միջոցառման տեսակը՝ | B30: Այլ պետական կազմակերպությունների կողմից օգտագործվող ոչ ֆինանսական ակտիվների հետ գործառնություններ
A31: Միջոցառումն իրականացնողի անվանումը՝ | B31: Մասնագիտացված միավոր
B32: Արդյունքի չափորոշիչներ
A33: Քանակական | B33: Ծրագրում ներգրավված շենքերի քանակ, հատ | C33: 1
A34: Միջոցառման վրա կատարվող ծախսը (հազար դրամ) | C34: 0
A37: Ծրագրի դասիչը | B37: Ծրագրի անվանումը
A38: 1167 | B38: Էլեկտրաէներգետիկ համակարգի զարգացման ծրագիր
A40: Ծրագրի միջոցառումները
A41: Ծրագրի դասիչը՝ | B41: 1167
A42: Միջոցառման դասիչը՝ | B42: 42003 | C42: Տարի
A43: Միջոցառման անվանումը՝ | B43: Վերակառուցման և զարգացման միջազգային բանկի աջակցությամբ իրականացվող էլեկտրամատակարարման հուսալիության ծրագրի լրացուցիչ ֆինանսավորման ծրագրի շրջանակներում ենթավարկի տրամադրում «Բարձրավոլտ էլեկտրացանցեր» ՓԲԸ-ին
A44: Նկարագրությունը՝ | B44: Էլեկտրամատակարարման հուսալիության ծրագրի լրացուցիչ ֆինանսավորման ծրագրի շրջանակներում նախատեսվում է փոխարինել 30 և ավելի տարիներ շահագործման մեջ գտնվող «Հաղթանակ» 220 կՎ, «Չարենցավան-3», «Վանաձոր-1» 110 կՎ ենթակայանների և 40 և ավելի տարիներ շահագործման մեջ գտնվող «Զովունի» 220 կՎ ենթակայանի ֆիզիկապես և բարոյապես մաշված սարքավորումները
A45: Միջոցառման տեսակը՝ | B45: Վարկերի տրամադրում
A46: Միջոցառումն իրականացնողի անվանումը՝ | B46: Մասնագիտացված միավոր
B47: Արդյունքի չափորոշիչներ
A48: Միջոցառման վրա կատարվող ծախսը (հազար դրամ) | C48: -76389.1
B54: ՀԱՅԱՍՏԱՆԻ ՀԱՆՐԱՊԵՏՈՒԹՅԱՆ ՎԱՐՉԱՊԵՏԻ ԱՇԽԱՏԱԿԱԶՄԻ ՂԵԿԱՎԱՐ | C54: Ա. ՀԱՐՈՒԹՅՈՒՆՅԱՆ

Sheet 2. օրենք 6 հոդվ, 2323 Հ2
C1: Հավելված N 2
C2: ՀՀ կառավարության 2024 թվականի
C3: ______________ ի ___Ն որոշման
B5: «ՀԱՅԱՍՏԱՆԻ ՀԱՆՐԱՊԵՏՈՒԹՅԱՆ 2024 ԹՎԱԿԱՆԻ ՊԵՏԱԿԱՆ ԲՅՈՒՋԵԻ ՄԱՍԻՆ» ՀԱՅԱՍՏԱՆԻ ՀԱՆՐԱՊԵՏՈՒԹՅԱՆ ՕՐԵՆՔԻ 6-ՐԴ ՀՈԴՎԱԾԻ ԱՂՅՈՒՍԱԿՈՒՄ ԵՎ ՀԱՅԱՍՏԱՆԻ ՀԱՆՐԱՊԵՏՈՒԹՅԱՆ ԿԱՌԱՎԱՐՈՒԹՅԱՆ 2023 ԹՎԱԿԱՆԻ ԴԵԿՏԵՄԲԵՐԻ 28-Ի N 2323-Ն ՈՐՈՇՄԱՆ N 2 ՀԱՎԵԼՎԱԾՈՒՄ ԿԱՏԱՐՎՈՂ ԼՐԱՑՈՒՄՆԵՐԸ
C7: (հազ. դրամ)
B8: Եկամտատեսակ | C8: Ցուցանիշների փոփոխությունը (ավելացումները նշված են դրական նշանով)
C9: Տարի
B10: ՊԵՏԱԿԱՆ ԲՅՈՒՋԵԻ ԵԿԱՄՈՒՏՆԵՐ | C10: =+C12 -> 248548.1
B11: այդ թվում՝
B12: Պաշտոնական դրամաշնորհներ | C12: 248548.1
B16: ՀԱՅԱՍՏԱՆԻ ՀԱՆՐԱՊԵՏՈՒԹՅԱՆ ՎԱՐՉԱՊԵՏԻ ԱՇԽԱՏԱԿԱԶՄԻ ՂԵԿԱՎԱՐ | C16: Ա. ՀԱՐՈՒԹՅՈՒՆՅԱՆ

Sheet 3. օրենք Հ1-1
D1: Հավելված N 3
D2: ՀՀ կառավարության 2024 թվականի
D3: ______________ ի ___Ն որոշման
B5: «ՀԱՅԱUՏԱՆԻ ՀԱՆՐԱՊԵՏՈՒԹՅԱՆ 2024 ԹՎԱԿԱՆԻ ՊԵՏԱԿԱՆ ԲՅՈՒՋԵԻ ՄԱUԻՆ» ՀԱՅԱUՏԱՆԻ ՀԱՆՐԱՊԵՏՈՒԹՅԱՆ OՐԵՆՔԻ N 1 ՀԱՎԵԼՎԱԾԻ N 1 ԱՂՅՈՒՍԱԿՈՒՄ ԿԱՏԱՐՎՈՂ ՓՈՓՈԽՈՒԹՅՈՒՆԸ ԵՎ ԼՐԱՑՈՒՄԸ
B7: ՀՀ 2024 թվականի պետական բյուջեի ծախսերն ըստ պետական մարմինների կողմից իրականացվող ծրագրերի
D8: (հազ. դրամ)
B9: Ծրագրային դասիչը | C9: Ծրագրի անվանումը | D9: Ցուցանիշների փոփոխությունը (ավելացումները նշված են դրական նշանով, նվազեցումները՝ փակագծերում)
B10: Ընդամենը | D10: =SUM(D11:D12) -> 248548.1
B11: 1232 | C11: Էներգաարդյունավետության ծրագիր | D11: 297884
B12: 1049 | C12: Ճանապարհային ցանցի բարելավում | D12: -49335.9
B15: ՀԱՅԱՍՏԱՆԻ ՀԱՆՐԱՊԵՏՈՒԹՅԱՆ
B16: ՎԱՐՉԱՊԵՏԻ ԱՇԽԱՏԱԿԱԶՄԻ ՂԵԿԱՎԱՐ | D16: Ա. ՀԱՐՈՒԹՅՈՒՆՅԱՆ

Sheet 4. 2323 Հ5-1
E1: Հավելված N 4
E2: ՀՀ կառավարության 2024 թվականի
E3: ______________ ի ___Ն որոշման
B5: «ՀԱՅԱUՏԱՆԻ ՀԱՆՐԱՊԵՏՈՒԹՅԱՆ 2024 ԹՎԱԿԱՆԻ ՊԵՏԱԿԱՆ ԲՅՈՒՋԵԻ ՄԱUԻՆ» ՀԱՅԱՍՏԱՆԻ ՀԱՆՐԱՊԵՏՈՒԹՅԱՆ OՐԵՆՔԻ N 1 ՀԱՎԵԼՎԱԾԻ N 2 ԱՂՅՈՒՍԱԿՈՒՄ ՎԵՐԱԲԱՇԽՈՒՄ ԵՎ ՀԱՅԱՍՏԱՆԻ ՀԱՆՐԱՊԵՏՈՒԹՅԱՆ ԿԱՌԱՎԱՐՈՒԹՅԱՆ 2023 ԹՎԱԿԱՆԻ ԴԵԿՏԵՄԲԵՐԻ 28-Ի N 2323-Ն ՈՐՈՇՄԱՆ N 5 ՀԱՎԵԼՎԱԾԻ N 1 ԱՂՅՈՒՍԱԿՈՒՄ ԿԱՏԱՐՎՈՂ ՓՈՓՈԽՈՒԹՅՈՒՆՆԵՐԸ ԵՎ ԼՐԱՑՈՒՄՆԵՐԸ
E7: (հազ. դրամ)
B8: Ծրագրային դասիչը | D8: Բյուջետային հատկացումների գլխավոր կարգադրիչների, ծրագրերի և միջոցառումների անվանումները | E8: Ցուցանիշների փոփոխությունը (ավելացումները նշված են դրական նշանով, նվազեցումները՝ փակագծերում)
B9: Ծրագիր | C9: Միջոցառում | E9: Տարի
D10: ԸՆԴԱՄԵՆԸ | E10: =E12 -> 248548.1
D11: այդ թվում՝
D12: ՀՀ տարածքային կառավարման և ենթակառուցվածքների նախարարություն | E12: =+E13+E33 -> 248548.1
B13: 1232 | D13: Ծրագրի անվանումը` | E13: =+E20+E26 -> 297884
D14: Էներգաարդյունավետության ծրագիր
D15: Ծրագրի նպատակը`
D16: Էներգախնայողության և վերականգնվող էներգետիկայի ներուժի առավելագույն իրացում
D17: Վերջնական արդյունքի նկարագրությունը`
D18: Էներգախնայողության մակարդակի բարձրացում և վերականգնվող էներգետիկայի մասնաբաժնի աճ
B19: Ծրագրի միջոցառումներ
C20: 11001 | D20: Միջոցառման անվանումը` | E20: 25762.4
D21: ='-5'!B17 -> Եվրասիական զարգացման բանկի աջակցությամբ իրականացվող հանրային շենքերում էներգախնայողության բարելավման և կանաչ էներգիայի զարգացմանը նպաստող դրամաշնորհային ծրագրի կառավարում
D22: Միջոցառման նկարագրությունը`
D23: ='-5'!B18 -> Էներգախնայողությանն ուղղված միջոցառումների իրականացման համակարգում
D24: Միջոցառման տեսակը
D25: ='-5'!B19 -> Ծառայությունների մատուցում
C26: 32001 | D26: Միջոցառման անվանումը` | E26: 272121.6
D27: Եվրասիական զարգացման բանկի աջակցությամբ իրականացվող հանրային շենքերում էներգախնայողության բարելավման և կանաչ էներգիայի զարգացմանը նպաստող դրամաշնորհային ծրագրի շրջանակներում հիմնանորոգման աշխատանքներ
D28: Միջոցառման նկարագրությունը`
D29: ='-5'!B29 -> Էներգախնայողությանն ուղղված կապիտալ միջոցառումների իրականացում հանրային շենքերում
D30: Միջոցառման տեսակը
D31: ='-5'!B30 -> Այլ պետական կազմակերպությունների կողմից օգտագործվող ոչ ֆինանսական ակտիվների հետ գործառնություններ
B33: 1049 | D33: Ծրագրի անվանումը` | E33: =E40 -> -49335.9
D34: ='5. օրենք Հ1-4, 2323 Հ5-3'!D16 -> Ճանապարհային ցանցի բարելավում
D35: Ծրագրի նպատակը`
D36: Ճանապարհային ցանցի բարելավում և անվտանգ երթևեկության ապահովում
D37: Վերջնական արդյունքի նկարագրությունը`
D38: Ճանապարհների ծածկի որակի և փոխադրումների արդյունավետության բարելավում, ճանապարհների վիճակով պայմանավորված պատահարների նվազում
B39: Ծրագրի միջոցառումներ
C40: 21012 | D40: Միջոցառման անվանումը` | E40: -49335.9
D41: Եվրասիական զարգացման բանկի աջակցությամբ իրականացվող Հյուսիս-հարավ միջանցքի զարգացման ծրագիր
D42: Միջոցառման նկարագրությունը`
D43: Ճանապարհաշինական աշխատանքներ
...

Sheet 5. օրենք  Հ1-4,   2323 Հ5-3
B1: Հավելված 5
B2: ՀՀ կառավարության 2024 թվականի
B3: -----------------ի N -----------Ն որոշման
B5: «ՀԱՅԱՍՏԱՆԻ ՀԱՆՐԱՊԵՏՈՒԹՅԱՆ 2024 ԹՎԱԿԱՆԻ ՊԵՏԱԿԱՆ ԲՅՈՒՋԵԻ ՄԱՍԻՆ» ՀԱՅԱՍՏԱՆԻ ՀԱՆՐԱՊԵՏՈՒԹՅԱՆ ՕՐԵՆՔԻ N 1 ՀԱՎԵԼՎԱԾԻ N 4 ԱՂՅՈՒՍԱԿՈՒՄ ԵՎ ՀԱՅԱՍՏԱՆԻ ՀԱՆՐԱՊԵՏՈՒԹՅԱՆ ԿԱՌԱՎԱՐՈՒԹՅԱՆ 2023 ԹՎԱԿԱՆԻ ԴԵԿՏԵՄԲԵՐԻ 28-Ի N 2323-Ն ՈՐՈՇՄԱՆ N 5 ՀԱՎԵԼՎԱԾԻ N 3 ԱՂՅՈՒՍԱԿՈՒՄ ԿԱՏԱՐՎՈՂ ՓՈՓՈԽՈՒԹՅՈՒՆԸ
G7: (հազ. դրամ)
B8: Ծրագրային դասիչը | D8: Բյուջետային հատկացումների գլխավոր կարգադրիչների, ծրագրերի, միջոցառումների և միջոցառումները կատարող պետական մարմինների անվանումները | E8: Ցուցանիշների փոփոխությունը (նվազեցումները նշված են փակագծերում)
E9: Տարի
B10: Ծրագիր | C10: Միջոցառում | E10: Ընդամենը | F10: այդ թվում՝
F11: Վարկային միջոցներ | G11: Համաֆինանսավորում
D12: ԸՆԴԱՄԵՆԸ | E12: =+F12+G12 -> -49335.906 | F12: =F14 -> 0 | G12: =G14 -> -49335.906
D13: այդ թվում`
D14: ՈՉ ՖԻՆԱՆՍԱԿԱՆ ԱԿՏԻՎՆԵՐԻ ԳԾՈՎ ԾԱԽՍԵՐ | E14: =+F14+G14 -> -49335.906 | F14: 0 | G14: =G15 -> -49335.906
D15: ՀՀ տարածքային կառավարման և ենթակառուցվածքների նախարարություն | E15: =E16 -> -49335.906 | F15: =F16 -> 0 | G15: =G16 -> -49335.906
B16: 1049 | D16: Ճանապարհային ցանցի բարելավում | E16: =+F16+G16 -> -49335.906 | F16: =F18 -> 0 | G16: =G18 -> -49335.906
D17: այդ թվում`
C18: 21012 | D18: Եվրասիական զարգացման բանկի աջակցությամբ իրականացվող Հյուսիս-հարավ միջանցքի զարգացման ծրագիր | E18: =+F18+G18 -> -49335.906 | F18: =F20 -> 0 | G18: =G20 -> -49335.906
D19: այդ թվում` ըստ կատարողների
D20: ՀՀ տարածքային կառավարման և ենթակառուցվածքների նախարարություն | E20: =+F20+G20 -> -49335.906 | F20: =F22 -> 0 | G20: =G22 -> -49335.906
D21: այդ թվում` բյուջետային ծախսերի տնտեսագիտական դասակարգման հոդվածներ
D22: ԸՆԴԱՄԵՆԸ ԾԱԽՍԵՐ | E22: =+F22+G22 -> -49335.906 | F22: 0 | G22: =G23 -> -49335.906
D23: ՈՉ ՖԻՆԱՆՍԱԿԱՆ ԱԿՏԻՎՆԵՐԻ ԳԾՈՎ ԾԱԽՍԵՐ | E23: =E24 -> -49335.906 | F23: 0 | G23: =G24 -> -49335.906
D24: ՀԻՄՆԱԿԱՆ ՄԻՋՈՑՆԵՐ | E24: =SUM(F24:G24) -> -49335.906 | F24: 0 | G24: =G25 -> -49335.906
D25: ԱՅԼ ՀԻՄՆԱԿԱՆ ՄԻՋՈՑՆԵՐ | E25: =SUM(F25:G25) -> -49335.906 | F25: 0 | G25: =G26 -> -49335.906
D26: - Նախագծահետազոտական ծախսեր | E26: =SUM(F26:G26) -> -49335.906 | F26: 0 | G26: -49335.906
D29: ՀԱՅԱՍՏԱՆԻ ՀԱՆՐԱՊԵՏՈՒԹՅԱՆ
D30: ՎԱՐՉԱՊԵՏԻ ԱՇԽԱՏԱԿԱԶՄԻ ՂԵԿԱՎԱՐ | E30: Ա. ՀԱՐՈՒԹՅՈՒՆՅԱՆ

Sheet 6. օրենք Հ1-5, 2323 Հ5-4
B1: Հավելված 6
B2: ՀՀ կառավարության 2024 թվականի
B3: -----------------ի N -----------Ն որոշման
B5: «ՀԱՅԱՍՏԱՆԻ ՀԱՆՐԱՊԵՏՈՒԹՅԱՆ 2024 ԹՎԱԿԱՆԻ ՊԵՏԱԿԱՆ ԲՅՈՒՋԵԻ ՄԱՍԻՆ» ՀԱՅԱՍՏԱՆԻ ՀԱՆՐԱՊԵՏՈՒԹՅԱՆ ՕՐԵՆՔԻ N 1 ՀԱՎԵԼՎԱԾԻ N 5 ԱՂՅՈՒՍԱԿՈՒՄ ԵՎ ՀԱՅԱՍՏԱՆԻ ՀԱՆՐԱՊԵՏՈՒԹՅԱՆ ԿԱՌԱՎԱՐՈՒԹՅԱՆ 2023 ԹՎԱԿԱՆԻ ԴԵԿՏԵՄԲԵՐԻ 28-Ի N 2323-Ն ՈՐՈՇՄԱՆ N 5 ՀԱՎԵԼՎԱԾԻ N 4 ԱՂՅՈՒՍԱԿՈՒՄ ԿԱՏԱՐՎՈՂ ՓՈՓՈԽՈՒԹՅՈՒՆՆԵՐԸ ԵՎ ԼՐԱՑՈՒՄՆԵՐԸ
G7: (հազ. դրամ)
B8: Ծրագրային դասիչը | D8: Բյուջետային հատկացումների գլխավոր կարգադրիչների, ծրագրերի, միջոցառումների և միջոցառումները կատարող պետական մարմինների անվանումները | E8: Ցուցանիշների փոփոխությունը (ավելացումները նշված են դրական նշանով, նվազեցումները` փակագծերում)
E9: Տարի
B10: Ծրագիր | C10: Միջոցառում | E10: Ընդամենը | F10: այդ թվում՝
F11: Դրամաշնորհային միջոցներ | G11: Համաֆինանսավորում
D12: ԸՆԴԱՄԵՆԸ | E12: =+F12+G12 -> 297884 | F12: =F14+F15 -> 248548.1 | G12: =G14+G15 -> 49335.9
D13: այդ թվում`
D14: ԸՆԹԱՑԻԿ ԾԱԽՍԵՐ | E14: =E19 -> 25762.4 | F14: =F19 -> 20491.9 | G14: =G19 -> 5270.5
D15: ՈՉ ՖԻՆԱՆՍԱԿԱՆ ԱԿՏԻՎՆԵՐԻ ԳԾՈՎ ԾԱԽՍԵՐ | E15: =E44 -> 272121.6 | F15: =F44 -> 228056.2 | G15: =G44 -> 44065.4
D16: ՀՀ տարածքային կառավարման և ենթակառուցվածքների նախարարություն | E16: =E12 -> 297884 | F16: =F12 -> 248548.1 | G16: =G12 -> 49335.9
B17: 1232 | D17: ='-4'!C15 -> Էներգաարդյունավետության ծրագիր | E17: =+F17+G17 -> 25762.4 | F17: =F19 -> 20491.9 | G17: =G19 -> 5270.5
D18: այդ թվում`
C19: 11001 | D19: ='-4'!C16 -> Եվրասիական զարգացման բանկի աջակցությամբ իրականացվող հանրային շենքերում էներգախնայողության բարելավման և կանաչ էներգիայի զարգացմանը նպաստող դրամաշնորհային ծրագրի կառավարում | E19: =+F19+G19 -> 25762.4 | F19: =F21 -> 20491.9 | G19: =G21 -> 5270.5
D20: այդ թվում` ըստ կատարողների
D21: ՀՀ տարածքային կառավարման և ենթակառուցվածքների նախարարություն | E21: =+F21+G21 -> 25762.4 | F21: =F23 -> 20491.9 | G21: =G23 -> 5270.5
D22: այդ թվում` բյուջետային ծախսերի տնտեսագիտական դասակարգման հոդվածներ
D23: ԸՆԴԱՄԵՆԸ ԾԱԽՍԵՐ | E23: =+F23+G23 -> 25762.4 | F23: =F24 -> 20491.9 | G23: =G24 -> 5270.5
D24: ԸՆԹԱՑԻԿ ԾԱԽՍԵՐ | E24: =E25+E28+E37 -> 25762.4 | F24: =F25+F28+F37 -> 20491.9 | G24: =G25+G28+G37 -> 5270.5
D25: ԱՇԽԱՏԱՆՔԻ ՎԱՐՁԱՏՐՈՒԹՅՈՒՆ | E25: =SUM(F25:G25) -> -638.5 | F25: =F26 -> -286.3 | G25: =G26 -> -352.2
D26: Դրամով վճարվող աշխատավարձեր և հավելավճարներ | E26: =SUM(F26:G26) -> -638.5 | F26: =F27 -> -286.3 | G26: =G27 -> -352.2
D27: - Աշխատողների աշխատավարձեր և հավելավճարներ | E27: =SUM(F27:G27) -> -638.5 | F27: -286.3 | G27: -352.2
D28: ԾԱՌԱՅՈՒԹՅՈՒՆՆԵՐԻ ԵՎ ԱՊՐԱՆՔՆԵՐԻ ՁԵՌՔԲԵՐՈՒՄ | E28: =SUM(F28:G28) -> 496.8 | F28: =F29+F32+F34 -> 426.1 | G28: =G29+G32+G34 -> 70.7
D29: Շարունակական ծախսեր | E29: =E30+E31 -> -92.1 | F29: =F30+F31 -> -78.3 | G29: =G30+G31 -> -13.8
D30: - Կապի ծառայություններ | E30: =SUM(F30:G30) -> -61.7 | F30: -51 | G30: -10.7
D31: - Գույքի և սարքավորումների վարձակալություն | E31: =SUM(F31:G31) -> -30.4 | F31: -27.3 | G31: -3.1
D32: Ծառայողական գործուղումների գծով ծախսեր | E32: =E33 -> 82.7 | F32: =F33 -> 82.7 | G32: =G33 -> 0
D33: - Ներքին գործուղումներ | E33: =SUM(F33:G33) -> 82.7 | F33: 82.7 | G33: 0
D34: Պայմանագրային այլ ծառայությունների ձեռքբերում | E34: =SUM(E35:E36) -> 506.2 | F34: =SUM(F35:F36) -> 421.7 | G34: =SUM(G35:G36) -> 84.5
D35: - Կառավարչական ծառայություններ | E35: =SUM(F35:G35) -> 563 | F35: 468.9 | G35: 94.1
D36: - Ներկայացուցչական ծախսեր | E36: =SUM(F36:G36) -> -56.8 | F36: -47.2 | G36: -9.6
D37: ԱՅԼ ԾԱԽՍԵՐ | E37: =SUM(F37:G37) -> 25904.1 | F37: =F38 -> 20352.1 | G37: =G38 -> 5552
D38: Այլ ծախսեր | E38: =SUM(F38:G38) -> 25904.1 | F38: 20352.1 | G38: 5552
C39: 32001 | D39: Եվրասիական զարգացման բանկի աջակցությամբ իրականացվող հանրային շենքերում էներգախնայողության բարելավման և կանաչ էներգիայի զարգացմանը նպաստող դրամաշնորհային ծրագրի շրջանակներում հիմնանորոգման աշխատանքներ | E39: =+F39+G39 -> 272121.6 | F39: =F41 -> 228056.2 | G39: =G41 -> 44065.4
D40: այդ թվում` ըստ կատարողների
D41: ՀՀ տարածքային կառավարման և ենթակառուցվածքների նախարարություն | E41: =+F41+G41 -> 272121.6 | F41: =F43 -> 228056.2 | G41: =G43 -> 44065.4
D42: այդ թվում` բյուջետային ծախսերի տնտեսագիտական դասակարգման հոդվածներ
...

Sheet 7.Հ3Հ4
H1: Հավելված N 7
G2: ՀՀ կառավարության 2024 թվականի
G3: -----------------ի N -----------Ն որոշման
B5: ՀԱՅԱՍՏԱՆԻ ՀԱՆՐԱՊԵՏՈՒԹՅԱՆ ԿԱՌԱՎԱՐՈՒԹՅԱՆ 2023 ԹՎԱԿԱՆԻ ԴԵԿՏԵՄԲԵՐԻ 28-Ի N 2323-Ն ՈՐՈՇՄԱՆ NN 3 ԵՎ 4 ՀԱՎԵԼՎԱԾՆԵՐՈՒՄ ԿԱՏԱՐՎՈՂ ՓՈՓՈԽՈՒԹՅՈՒՆՆԵՐԸ ԵՎ ԼՐԱՑՈՒՄՆԵՐԸ
H7: (հազ. դրամ)
B8: Գործառական դասիչը | E8: Ծրագրային դասիչը | G8: Բյուջետային ծախսերի գործառական դասակարգման բաժինների, խմբերի և դասերի, բյուջետային ծրագրերի միջոցառումների, բյուջետային հատկացումների գլխավոր կարգադրիչների անվանումները | H8: Ցուցանիշների փոփոխությունը (ավելացումները նշված են դրական նշանով, նվազեցումները` փակագծերում)
B9: Բաժինը | C9: Խումբը | D9: Դասը | E9: Ծրագիր | F9: Միջոցառում | H9: Տարի
G10: ԸՆԴԱՄԵՆԸ | H10: =+H12 -> 248548.1
G11: այդ թվում՝
G12: ՀՀ տարածքային կառավարման և ենթակառուցվածքների նախարարություն | H12: =H13 -> 248548.1
B13: 04 | G13: ՏՆՏԵՍԱԿԱՆ ՀԱՐԱԲԵՐՈՒԹՅՈՒՆՆԵՐ | H13: =H15+H52 -> 248548.1
G14: այդ թվում`
C15: 01 | G15: Ընդհանուր բնույթի տնտեսական, առևտրային և աշխատանքի գծով հարաբերություններ | H15: =H17 -> 297884
G16: այդ թվում`
D17: 01 | G17: Ընդհանուր բնույթի տնտեսական և առևտրային հարաբերություններ | H17: =H19 -> 297884
G18: այդ թվում`
G19: ՀՀ տարածքային կառավարման և ենթակառուցվածքների նախարարություն | H19: =H21 -> 297884
G20: այդ թվում`
E21: 1232 | G21: Էներգաարդյունավետության ծրագիր | H21: =H23+H43 -> 297884
G22: այդ թվում`
F23: 11001 | G23: ='-4'!C16 -> Եվրասիական զարգացման բանկի աջակցությամբ իրականացվող հանրային շենքերում էներգախնայողության բարելավման և կանաչ էներգիայի զարգացմանը նպաստող դրամաշնորհային ծրագրի կառավարում | H23: =H25 -> 25762.4
G24: այդ թվում` ըստ կատարողների
G25: ՀՀ տարածքային կառավարման և ենթակառուցվածքների նախարարություն | H25: =H27 -> 25762.4
G26: այդ թվում` բյուջետային ծախսերի տնտեսագիտական դասակարգման հոդվածներ
G27: ԸՆԴԱՄԵՆԸ ԾԱԽՍԵՐ | H27: =H28 -> 25762.4
G28: ԸՆԹԱՑԻԿ ԾԱԽՍԵՐ | H28: =H29+H32+H41 -> 25762.4
G29: ԱՇԽԱՏԱՆՔԻ ՎԱՐՁԱՏՐՈՒԹՅՈՒՆ | H29: =H30 -> -638.5
G30: Դրամով վճարվող աշխատավարձեր և հավելավճարներ | H30: =H31 -> -638.5
G31: - Աշխատողների աշխատավարձեր և հավելավճարներ | H31: -638.5
G32: ԾԱՌԱՅՈՒԹՅՈՒՆՆԵՐԻ ԵՎ ԱՊՐԱՆՔՆԵՐԻ ՁԵՌՔԲԵՐՈՒՄ | H32: =H33+H36+H38 -> 496.8
G33: Շարունակական ծախսեր | H33: =H34+H35 -> -92.1
G34: - Կապի ծառայություններ | H34: -61.7
G35: - Գույքի և սարքավորումների վարձակալություն | H35: -30.4
G36: Ծառայողական գործուղումների գծով ծախսեր | H36: =H37 -> 82.7
G37: - Ներքին գործուղումներ | H37: 82.7
G38: Պայմանագրային այլ ծառայությունների ձեռքբերում | H38: =H39+H40 -> 506.2
G39: - Կառավարչական ծառայություններ | H39: 563
G40: - Ներկայացուցչական ծախսեր | H40: -56.8
G41: ԱՅԼ ԾԱԽՍԵՐ | H41: =H42 -> 25904.1
G42: Այլ ծախսեր | H42: 25904.1
...

Sheet -10 petq chi 
D1: Հավելված 10
A5: «ՀԱՅԱՍՏԱՆԻ ՀԱՆՐԱՊԵՏՈՒԹՅԱՆ 2024 ԹՎԱԿԱՆԻ ՊԵՏԱԿԱՆ ԲՅՈՒՋԵԻ ՄԱՍԻՆ» ՀԱՅԱՍՏԱՆԻ ՀԱՆՐԱՊԵՏՈՒԹՅԱՆ ՕՐԵՆՔԻ N 1 ՀԱՎԵԼՎԱԾԻ N 7 ԱՂՅՈՒՍԱԿՈՒՄ ԵՎ ՀԱՅԱՍՏԱՆԻ ՀԱՆՐԱՊԵՏՈՒԹՅԱՆ ԿԱՌԱՎԱՐՈՒԹՅԱՆ 2023 ԹՎԱԿԱՆԻ ԴԵԿՏԵՄԲԵՐԻ 28-Ի N 2323-Ն ՈՐՈՇՄԱՆ N 5 ՀԱՎԵԼՎԱԾԻ N 6 ԱՂՅՈՒՍԱԿՈՒՄ ԿԱՏԱՐՎՈՂ ՓՈՓՈԽՈՒԹՅՈՒՆԸ
A7: Ծրագրային դասիչը | C7: Հատկացումների տրամադրման նպատակները և բյուջետային գլխավոր կարգադրիչների, ծրագրերի, միջոցառումների և կատարող պետական մարմնի անվանումները | D7: Ցուցանիշների փոփոխությունը (նվազեցումները նշված են փակագծերում)
A8: Ծրագիր | B8: Միջոցառում | D8: Տարի
C9: Ընդամենը | D9: -36624.1
A10: այդ թվում`
A11: - Կապիտալ սուբվենցիաներ համայնքներին | D11: -36624.1
A12: այդ թվում`
A13: ՀՀ տարածքային կառավարման և ենթակառուցվածքների նախարարություն | D13: -36624.1
A14: 1157 | C14: Քաղաքային զարգացում | D14: -36624.1
C15: այդ թվում`
B16: 12006 | C16: Եվրոպական ներդրումային բանկի աջակցությամբ իրականացվող Երևանի էներգաարդյունավետության ծրագրին պետական աջակցություն | D16: -36624.1
C17: այդ թվում` ըստ կատարողների
C18: ՀՀ տարածքային կառավարման և ենթակառուցվածքների նախարարություն | D18: -36624.1
C21: ՀԱՅԱՍՏԱՆԻ ՀԱՆՐԱՊԵՏՈՒԹՅԱՆ ՎԱՐՉԱՊԵՏԻ ԱՇԽԱՏԱԿԱԶՄԻ ՂԵԿԱՎԱՐ

Sheet -11petq chi
D1: Հավելված N 11
C2: ՀՀ կառավարության 2024 թվականի
C3: ______________ ի ___Ն որոշման
A5: ՀԱՅԱՍՏԱՆԻ ՀԱՆՐԱՊԵՏՈՒԹՅԱՆ ԿԱՌԱՎԱՐՈՒԹՅԱՆ 2023 ԹՎԱԿԱՆԻ ԴԵԿՏԵՄԲԵՐԻ 28-Ի N 2323-Ն ՈՐՈՇՄԱՆ N 8 ՀԱՎԵԼՎԱԾՈՒՄ ԿԱՏԱՐՎՈՂ ՓՈՓՈԽՈՒԹՅՈՒՆԸ ԵՎ ԼՐԱՑՈՒՄՆԵՐԸ
D8: (հազ. դրամ)
A9: Ծրագրային դասիչը | C9: Բյուջետային հատակացումների գլխավոր կարգադրիչներ, ծրագրերի, միջոցառումների անվանումները | D9: Ցուցանիշների փոփոխությունը (ավելացումները նշված են դրական նշանով, նվազեցումները` փակագծերում)
A10: Ծրագիր | B10: Միջոցառում
C11: ԸՆԴԱՄԵՆԸ | D11: =+D12 -> 297884
A12: 1232 | C12: ='4. 2323 Հ5-1'!D14 -> Էներգաարդյունավետության ծրագիր | D12: =SUM(D13:D15) -> 297884
B13: 11001 | C13: ='6. օրենք Հ1-5, 2323 Հ5-4'!D19 -> Եվրասիական զարգացման բանկի աջակցությամբ իրականացվող հանրային շենքերում էներգախնայողության բարելավման և կանաչ էներգիայի զարգացմանը նպաստող դրամաշնորհային ծրագրի կառավարում | D13: ='6. օրենք Հ1-5, 2323 Հ5-4'!E19 -> 25762.4
B15: 32001 | C15: ='6. օրենք Հ1-5, 2323 Հ5-4'!D39 -> Եվրասիական զարգացման բանկի աջակցությամբ իրականացվող հանրային շենքերում էներգախնայողության բարելավման և կանաչ էներգիայի զարգացմանը նպաստող դրամաշնորհային ծրագրի շրջանակներում հիմնանորոգման աշխատանքներ | D15: ='6. օրենք Հ1-5, 2323 Հ5-4'!E39 -> 272121.6
A19: ՀԱՅԱՍՏԱՆԻ ՀԱՆՐԱՊԵՏՈՒԹՅԱՆ
A20: ՎԱՐՉԱՊԵՏԻ ԱՇԽԱՏԱԿԱԶՄԻ ՂԵԿԱՎԱՐ | C20: Ա. ՀԱՐՈՒԹՅՈՒՆՅԱՆ

Sheet 8. 2323 Հ9-9․7
D1: Հավելված N 8
D2: ՀՀ կառավարության 2024 թվականի
D3: ______________ ի ___Ն որոշման
B5: ՀԱՅԱՍՏԱՆԻ ՀԱՆՐԱՊԵՏՈՒԹՅԱՆ ԿԱՌԱՎԱՐՈՒԹՅԱՆ 2023 ԹՎԱԿԱՆԻ ԴԵԿՏԵՄԲԵՐԻ 28-Ի N 2323-Ն ՈՐՈՇՄԱՆ N 9 ՀԱՎԵԼՎԱԾԻ N 9.7 ԱՂՅՈՒՍԱԿՈՒՄ ԿԱՏԱՐՎՈՂ ՓՈՓՈԽՈՒԹՅՈՒՆՆԵՐԸ ԵՎ ԼՐԱՑՈՒՄՆԵՐԸ
D7: Աղյուսակ N 9. 7
B8: ՀՀ տարածքային կառավարման և ենթակառուցվածքների նախարարություն
B9: ՄԱՍ 2. ՊԵՏԱԿԱՆ ՄԱՐՄՆԻ ԳԾՈՎ ԱՐԴՅՈՒՆՔԱՅԻՆ (ԿԱՏԱՐՈՂԱԿԱՆ) ՑՈՒՑԱՆԻՇՆԵՐԸ
B12: Ծրագրի դասիչը | C12: Ծրագրի անվանումը
B13: 1232 | C13: Էներգաարդյունավետության ծրագիր
B15: Ծրագրի միջոցառումները
B17: Ծրագրի դասիչը՝ | C17: 1232 | D17: Ցուցանիշների փոփոխությունը (ավելացումները նշված են դրական նշանով)
B18: Միջոցառման դասիչը՝ | C18: 11001 | D18: Տարի
B19: Միջոցառման անվանումը` | C19: ='6. օրենք Հ1-5, 2323 Հ5-4'!D19 -> Եվրասիական զարգացման բանկի աջակցությամբ իրականացվող հանրային շենքերում էներգախնայողության բարելավման և կանաչ էներգիայի զարգացմանը նպաստող դրամաշնորհային ծրագրի կառավարում
B20: Նկարագրությունը` | C20: Էներգախնայողությանն ուղղված միջոցառումների իրականացման համակարգում
B21: Միջոցառման տեսակը` | C21: Ծառայությունների մատուցում
B22: Միջոցառումն իրականացնողի անվանումը՛ | C22: Մասնագիտացված միավոր
B23: Արդյունքի չափորոշիչներ
B24: Տեխնիկական հսկողություն,ամիս | D24: 5
B25: Միջոցառման վրա կատարվող ծախսը (հազար դրամ) | D25: 25762.4
B28: Ծրագրի դասիչը՝ | C28: 1232 | D28: Ցուցանիշների փոփոխությունը (ավելացումները նշված են դրական նշանով)
B29: Միջոցառման դասիչը՝ | C29: 32001 | D29: Տարի
B30: Միջոցառման անվանումը` | C30: Եվրասիական զարգացման բանկի աջակցությամբ իրականացվող հանրային շենքերում էներգախնայողության բարելավման և կանաչ էներգիայի զարգացմանը նպաստող դրամաշնորհային ծրագրի շրջանակներում հիմնանորոգման աշխատանքներ
B31: Նկարագրությունը` | C31: Էներգախնայողությանն ուղղված կապիտալ միջոցառումների իրականացում հանրային շենքերում
B32: Միջոցառման տեսակը` | C32: Այլ պետական կազմակերպությունների կողմից օգտագործվող ոչ ֆինանսական ակտիվների հետ գործառնություններ
B33: Միջոցառումն իրականացնողի անվանումը` | C33: Մասնագիտացված միավոր
B34: Արդյունքի չափորոշիչներ
B35: Ծրագրում ներգրավված շենքերի քանակ, հատ | D35: 1
B36: Միջոցառման վրա կատարվող ծախսը (հազար դրամ) | D36: 272121.6
B39: Ծրագրի դասիչը | C39: Ծրագրի անվանումը
B40: 1049 | C40: Ճանապարհային ցանցի բարելավում
B42: Ծրագրի միջոցառումները
B44: Ծրագրի դասիչը՝ | C44: 1049 | D44: Ցուցանիշների փոփոխությունը (նվազեցումները նշված են փակագծերում)
B45: Միջոցառման դասիչը՝ | C45: 21012 | D45: Տարի
B46: Միջոցառման անվանումը` | C46: ='5. օրենք Հ1-4, 2323 Հ5-3'!D18 -> Եվրասիական զարգացման բանկի աջակցությամբ իրականացվող Հյուսիս-հարավ միջանցքի զարգացման ծրագիր
B47: Նկարագրությունը` | C47: Ճանապարհաշինական աշխատանքներ
B48: Միջոցառման տեսակը` | C48: Հանրության կողմից անմիջականորեն օգտագործվող ակտիվների հետ կապված միջոցառումներ
B49: Միջոցառումն իրականացնողի անվանումը` | C49: Մասնագիտացված միավոր
B50: Արդյունքի չափորոշիչներ
B52: Միջոցառման վրա կատարվող ծախսը (հազար դրամ) | D52: -49335.9
B54: ՀԱՅԱՍՏԱՆԻ ՀԱՆՐԱՊԵՏՈՒԹՅԱՆ
...

Sheet 9. 2323 Հ9․1-9․1․7
D1: Հավելված N 9
D2: ՀՀ կառավարության 2024 թվականի
D3: ______________ ի ___Ն որոշման
B5: ՀԱՅԱՍՏԱՆԻ ՀԱՆՐԱՊԵՏՈՒԹՅԱՆ ԿԱՌԱՎԱՐՈՒԹՅԱՆ 2023 ԹՎԱԿԱՆԻ ԴԵԿՏԵՄԲԵՐԻ 28-Ի N 2323-Ն ՈՐՈՇՄԱՆ N 9.1 ՀԱՎԵԼՎԱԾԻ N 9.1.7 ԱՂՅՈՒՍԱԿՈՒՄ ԿԱՏԱՐՎՈՂ ՓՈՓՈԽՈՒԹՅՈՒՆՆԵՐԸ ԵՎ ԼՐԱՑՈՒՄՆԵՐԸ
D7: Աղյուսակ N 9.1.7
B8: ՀՀ տարածքային կառավարման և ենթակառուցվածքների նախարարություն
B9: ՄԱՍ 1. ՊԵՏԱԿԱՆ ՄԱՐՄՆԻ ԳԾՈՎ ԱՐԴՅՈՒՆՔԱՅԻՆ (ԿԱՏԱՐՈՂԱԿԱՆ) ՑՈՒՑԱՆԻՇՆԵՐԸ
B12: Ծրագրի դասիչը | C12: Ծրագրի անվանումը
B13: ='8. 2323 Հ9-9․7'!B13 -> 1232 | C13: ='8. 2323 Հ9-9․7'!C13 -> Էներգաարդյունավետության ծրագիր
B15: Ծրագրի միջոցառումները
B17: Ծրագրի դասիչը՝ | C17: ='8. 2323 Հ9-9․7'!C17 -> 1232 | D17: Ցուցանիշների փոփոխությունը (ավելացումները նշված են դրական նշանով)
B18: Միջոցառման դասիչը՝ | C18: ='8. 2323 Հ9-9․7'!C18 -> 11001 | D18: Տարի
B19: Միջոցառման անվանումը` | C19: ='8. 2323 Հ9-9․7'!C19 -> Եվրասիական զարգացման բանկի աջակցությամբ իրականացվող հանրային շենքերում էներգախնայողության բարելավման և կանաչ էներգիայի զարգացմանը նպաստող դրամաշնորհային ծրագրի կառավարում
B20: Նկարագրությունը` | C20: ='8. 2323 Հ9-9․7'!C20 -> Էներգախնայողությանն ուղղված միջոցառումների իրականացման համակարգում
B21: Միջոցառման տեսակը` | C21: ='8. 2323 Հ9-9․7'!C21 -> Ծառայությունների մատուցում
B22: Արդյունքի չափորոշիչներ
B23: ='8. 2323 Հ9-9․7'!B24:C24 -> Տեխնիկական հսկողություն,ամիս | D23: 5
B24: Միջոցառման վրա կատարվող ծախսը (հազար դրամ) | D24: 25762.4
B27: Ծրագրի դասիչը՝ | C27: ='8. 2323 Հ9-9․7'!C28 -> 1232 | D27: Ցուցանիշների փոփոխությունը (ավելացումները նշված են դրական նշանով)
B28: Միջոցառման դասիչը՝ | C28: ='8. 2323 Հ9-9․7'!C29 -> 32001 | D28: Տարի
B29: Միջոցառման անվանումը` | C29: ='8. 2323 Հ9-9․7'!C30 -> Եվրասիական զարգացման բանկի աջակցությամբ իրականացվող հանրային շենքերում էներգախնայողության բարելավման և կանաչ էներգիայի զարգացմանը նպաստող դրամաշնորհային ծրագրի շրջանակներում հիմնանորոգման աշխատանքներ
B30: Նկարագրությունը` | C30: ='8. 2323 Հ9-9․7'!C31 -> Էներգախնայողությանն ուղղված կապիտալ միջոցառումների իրականացում հանրային շենքերում
B31: Միջոցառման տեսակը` | C31: ='8. 2323 Հ9-9․7'!C32 -> Այլ պետական կազմակերպությունների կողմից օգտագործվող ոչ ֆինանսական ակտիվների հետ գործառնություններ
B32: Միջոցառումն իրականացնողի անվանումը` | C32: ='8. 2323 Հ9-9․7'!C33 -> Մասնագիտացված միավոր
B33: Արդյունքի չափորոշիչներ
B34: ='8. 2323 Հ9-9․7'!B35:C35 -> Ծրագրում ներգրավված շենքերի քանակ, հատ | D34: 1
B35: Միջոցառման վրա կատարվող ծախսը (հազար դրամ) | D35: 272121.6
B39: Ծրագրի դասիչը | C39: Ծրագրի անվանումը
B40: 1049 | C40: Ճանապարհային ցանցի բարելավում
B42: Ծրագրի միջոցառումները
B44: Ծրագրի դասիչը՝ | C44: 1049 | D44: Ցուցանիշների փոփոխությունը (նվազեցումները նշված են փակագծերում)
B45: Միջոցառման դասիչը՝ | C45: 21012 | D45: Տարի
B46: Միջոցառման անվանումը` | C46: ='5. օրենք Հ1-4, 2323 Հ5-3'!D18 -> Եվրասիական զարգացման բանկի աջակցությամբ իրականացվող Հյուսիս-հարավ միջանցքի զարգացման ծրագիր
B47: Նկարագրությունը` | C47: Ճանապարհաշինական աշխատանքներ
B48: Միջոցառման տեսակը` | C48: Հանրության կողմից անմիջականորեն օգտագործվող ակտիվների հետ կապված միջոցառումներ
B49: Միջոցառումն իրականացնողի անվանումը` | C49: Մասնագիտացված միավոր
B50: Արդյունքի չափորոշիչներ
B52: Միջոցառման վրա կատարվող ծախսը (հազար դրամ) | D52: -49335.9
B55: ՀԱՅԱՍՏԱՆԻ ՀԱՆՐԱՊԵՏՈՒԹՅԱՆ
B56: ՎԱՐՉԱՊԵՏԻ ԱՇԽԱՏԱԿԱԶՄԻ
...

Sheet 10. 2323 Հ11
E1: Հավելված N 10
E2: ՀՀ կառավարության 2024 թվականի
E3: ______________ ի ___Ն որոշման
B5: ՀԱՅԱՍՏԱՆԻ ՀԱՆՐԱՊԵՏՈՒԹՅԱՆ ԿԱՌԱՎԱՐՈՒԹՅԱՆ 2023 ԹՎԱԿԱՆԻ ԴԵԿՏԵՄԲԵՐԻ 28-Ի N 2323-Ն ՈՐՈՇՄԱՆ N 11 ՀԱՎԵԼՎԱԾՈՒՄ ԿԱՏԱՐՎՈՂ ԼՐԱՑՈՒՄԸ
B7: ՄԻԱՎՈՐՎԱԾ ԱԶԳԵՐԻ ԿԱԶՄԱԿԵՐՊՈՒԹՅԱՆ ԶԱՐԳԱՑՄԱՆ ԾՐԱԳՐԻ «ՇԵՆՔԵՐԻ ԷՆԵՐԳԱԱՐԴՅՈՒՆԱՎԵՏ ԱՐԴԻԱԿԱՆԱՑՄԱՆ ՈՒՂՂՎԱԾ ՆԵՐԴՐՈՒՄՆԵՐԻ ՌԻՍԿԵՐԻ ՆՎԱԶԵՑՈՒՄ» ԾՐԱԳՐԻ ՆԵՐՔՈ ՀԱՄԱՖԻՆԱՆՍԱՎՈՐՄԱՆ ԵՆԹԱԿԱ ՄԻՋՈՑԱՌՈՒՄՆԵՐԻ ՑԱՆԿ
E9: (հազ. դրամ)
B10: Ծրագրային դասիչ | D10: Բյուջետային գլխավոր կարգադրիչների, ծրագրերի, միջոցառումների և ուղղությունների անվանումները | E10: Ցուցանիշների փոփոխությունը
B11: Ծրագիր | C11: Միջոց առում | E11: (ավելացումները նշված են դրական նշանով)
D12: ԸՆԴԱՄԵՆԸ | E12: =E13 -> 272121.6
D13: ՀՀ տարածքային կառավարման և ենթակառուցվածքների նախարարություն | E13: =E14 -> 272121.6
B14: 1232 | D14: Էներգաարդյունավետության ծրագիր | E14: =+E15 -> 272121.6
C15: 32001 | D15: Եվրասիական զարգացման բանկի աջակցությամբ իրականացվող հանրային շենքերում էներգախնայողության բարելավման և կանաչ էներգիայի զարգացմանը նպաստող դրամաշնորհային ծրագրի շրջանակներում հիմնանորոգման աշխատանքներ | E15: 272121.6
B19: ՀԱՅԱՍՏԱՆԻ ՀԱՆՐԱՊԵՏՈՒԹՅԱՆ
B20: ՎԱՐՉԱՊԵՏԻ ԱՇԽԱՏԱԿԱԶՄԻ ՂԵԿԱՎԱՐ | E20: Ա. ՀԱՐՈՒԹՅՈՒՆՅԱՆ

Sheet AMD 1232 բյուջե 2024
A3: 1232 ծրագիր
B5: Ծրագրային դասիչը | D5: Ծրագրի /Միջոցառման անվանումը | E5: Արտաքին աղբյուրներից ստացվող ֆինանսավորման տեսակը՝ ըստ ծրագրերի | F5: Տնտեսագիտական դասակարգման կատեգորիան32 | G5: Կատարողականն առ. 31․12․2023թ. դրությամբ | J5: 2024թ. բյուջե | M5: Մնացորդ 30.07.2024 | P5: բյուջեի փոփոխություն | V5: 2024թ. բյուջե փոփոխությունից հետո
P6: 2024թ բյուջեի ավելացում/նվազում 3րդ եռամսյակ | S6: 2024թ բյուջեի ավելացում/նվազում 4րդ եռամսյակ
B7: Ծրագիր | C7: Միջոցառում | G7: Ընդամենը | H7: Արտաքին միջոցներ | I7: ՀՀ կառ. համաֆինանսավորում | J7: Ընդամենը | K7: Արտաքին միջոցներ | L7: ՀՀ կառ. համաֆինանսավորում | M7: Ընդամենը | N7: Արտաքին միջոցներ | O7: ՀՀ կառ. համաֆինանսավորում | P7: Ընդամենը | Q7: Արտաքին միջոցներ | R7: ՀՀ կառ. համաֆինանսավորում | S7: Ընդամենը | T7: Արտաքին միջոցներ | U7: ՀՀ կառ. համաֆինանսավորում | V7: Ընդամենը | W7: Արտաքին միջոցներ | X7: ՀՀ կառ. համաֆինանսավորում
F8: Ընդամենը | G8: =SUM(H8:I8) -> 40293258 | H8: 32772941 | I8: 7520317.1 | J8: =SUM(K8:L8) -> 34494378 | K8: =SUM(K9:K15) -> 28028878 | L8: =SUM(L9:L15) -> 6465500 | M8: =SUM(N8:O8) -> 18746113 | N8: =SUM(N9:N15) -> 15442207 | O8: =SUM(O9:O15) -> 3303905.5 | P8: =SUM(Q8:R8) -> 5689399 | Q8: =SUM(Q9:Q15) -> 4676996.7 | R8: =SUM(R9:R15) -> 1012402.3 | S8: =SUM(T8:U8) -> 20073015 | T8: =SUM(T9:T15) -> 15814934 | U8: =SUM(U9:U15) -> 4258081.3 | V8: =SUM(W8:X8) -> 60256792 | W8: =SUM(W9:W20) -> 48520809 | X8: =SUM(X9:X20) -> 11735984 | Z8: ստուգում
B9: 1232 | C9: 11001 | D9: Եվրասիական զարգացման բանկի աջակցությամբ իրականացվող հանրային շենքերում էներգախնայողության բարելավման և կանաչ էներգիայի զարգացմանը նպաստող դրամաշնորհային ծրագրի կառավարում | E9: Դրամաշնորհային ծրագիր | F9: ='[1]AMD Հ7 Ձև1 round'!F9 -> Աշխատողների աշխատավարձեր և հավելավճարներ 4111 | G9: =H9+I9 -> 0 | J9: =K9+L9 -> 8613485.9 | K9: ='[1]USD 1232 բյուջե 2024 (2)'!K5*'[1]USD 1232 բյուջե 2024 (2)'!$D$25 -> 6361785.9 | L9: 2251700 | M9: =N9+O9 -> 638501.44 | N9: ='[1]USD 1232 բյուջե 2024 (2)'!N5*'[1]USD 1232 բյուջե 2024 (2)'!$D$25 -> 286292.44 | O9: 352209 | P9: =Q9+R9 -> -638501.44 | Q9: =-N9 -> -286292.44 | R9: =-O9 -> -352209 | S9: =T9+U9 -> 0 | T9: ='[1]USD 1232 բյուջե 2024 (2)'!T5*'[1]USD 1232 բյուջե 2024 (2)'!$D$25 -> 0 | U9: ='[1]USD 1232 բյուջե 2024 (2)'!U5*'[1]USD 1232 բյուջե 2024 (2)'!$D$25 -> 0 | V9: =SUM(W9:X9) -> 7974984.5 | W9: =K9+Q9+T9 -> 6075493.5 | X9: =L9+R9+U9 -> 1899491 | Y9: =V9/402.39 -> 19819.042 | Z9: ='[1]USD 1232 բյուջե 2024 (2)'!V5 -> 19819.042 | AA9: =Y9-Z9 -> 0
F10: ='[1]AMD Հ7 Ձև1 round'!F12 -> Կապի ծառայություններ 4214 | G10: =H10+I10 -> 0 | J10: =K10+L10 -> 225013.74 | K10: ='[1]USD 1232 բյուջե 2024 (2)'!K6*'[1]USD 1232 բյուջե 2024 (2)'!$D$25 -> 187513.74 | L10: 37500 | M10: =N10+O10 -> 61780.719 | N10: ='[1]USD 1232 բյուջե 2024 (2)'!N6*'[1]USD 1232 բյուջե 2024 (2)'!$D$25 -> 51051.219 | O10: 10729.5 | P10: =Q10+R10 -> -61780.719 | Q10: =-N10 -> -51051.219 | R10: =-O10 -> -10729.5 | S10: =T10+U10 -> 0 | T10: ='[1]USD 1232 բյուջե 2024 (2)'!T6*'[1]USD 1232 բյուջե 2024 (2)'!$D$25 -> 0 | U10: ='[1]USD 1232 բյուջե 2024 (2)'!U6*'[1]USD 1232 բյուջե 2024 (2)'!$D$25 -> 0 | V10: =SUM(W10:X10) -> 163233.02 | W10: =K10+Q10+T10 -> 136462.52 | X10: =L10+R10+U10 -> 26770.5 | Y10: =V10/402.39 -> 405.65874 | Z10: ='[1]USD 1232 բյուջե 2024 (2)'!V6 -> 405.65874 | AA10: =Y10-Z10 -> 0
F11: ='[1]AMD Հ7 Ձև1 round'!F13 -> Գույքի և սարքավորումների վարձակալություն 4216 | G11: =H11+I11 -> 0 | J11: =K11+L11 -> 1142105.3 | K11: ='[1]USD 1232 բյուջե 2024 (2)'!K7*'[1]USD 1232 բյուջե 2024 (2)'!$D$25 -> 1027905.3 | L11: 114200 | M11: =N11+O11 -> 30470.568 | N11: ='[1]USD 1232 բյուջե 2024 (2)'!N7*'[1]USD 1232 բյուջե 2024 (2)'!$D$25 -> 27370.568 | O11: 3100 | P11: =Q11+R11 -> -30470.568 | Q11: =-N11 -> -27370.568 | R11: =-O11 -> -3100 | S11: =T11+U11 -> 0 | T11: ='[1]USD 1232 բյուջե 2024 (2)'!T7*'[1]USD 1232 բյուջե 2024 (2)'!$D$25 -> 0 | U11: ='[1]USD 1232 բյուջե 2024 (2)'!U7*'[1]USD 1232 բյուջե 2024 (2)'!$D$25 -> 0 | V11: =SUM(W11:X11) -> 1111634.7 | W11: =K11+Q11+T11 -> 1000534.7 | X11: =L11+R11+U11 -> 111100 | Y11: =V11/402.39 -> 2762.5803 | Z11: ='[1]USD 1232 բյուջե 2024 (2)'!V7 -> 2762.5803 | AA11: =Y11-Z11 -> 0
F12: ='[1]AMD Հ7 Ձև1 round'!F16 -> Ներկայացուցչական ծախսեր 4237 | G12: =H12+I12 -> 0 | J12: =K12+L12 -> 114587.15 | K12: ='[1]USD 1232 բյուջե 2024 (2)'!K8*'[1]USD 1232 բյուջե 2024 (2)'!$D$25 -> 95487.147 | L12: 19100 | M12: =N12+O12 -> 56835.753 | N12: ='[1]USD 1232 բյուջե 2024 (2)'!N8*'[1]USD 1232 բյուջե 2024 (2)'!$D$25 -> 47268.753 | O12: 9567 | P12: =Q12+R12 -> -56835.753 | Q12: =-N12 -> -47268.753 | R12: =-O12 -> -9567 | S12: =T12+U12 -> 0 | T12: ='[1]USD 1232 բյուջե 2024 (2)'!T8*'[1]USD 1232 բյուջե 2024 (2)'!$D$25 -> 0 | U12: ='[1]USD 1232 բյուջե 2024 (2)'!U8*'[1]USD 1232 բյուջե 2024 (2)'!$D$25 -> 0 | V12: =SUM(W12:X12) -> 57751.394 | W12: =K12+Q12+T12 -> 48218.394 | X12: =L12+R12+U12 -> 9533 | Y12: =V12/402.39 -> 143.52095 | Z12: ='[1]USD 1232 բյուջե 2024 (2)'!V8 -> 143.52095 | AA12: =Y12-Z12 -> 0
F13: ='[1]AMD Հ7 Ձև1 round'!F20 -> Այլ ծախսեր 4861 | G13: =H13+I13 -> 0 | J13: =K13+L13 -> 19510609 | K13: ='[1]USD 1232 բյուջե 2024 (2)'!K9*'[1]USD 1232 բյուջե 2024 (2)'!$D$25 -> 16258809 | L13: 3251800 | M13: =N13+O13 -> 13151516 | N13: ='[1]USD 1232 բյուջե 2024 (2)'!N9*'[1]USD 1232 բյուջե 2024 (2)'!$D$25 -> 11014416 | O13: 2137100 | P13: =Q13+R13 -> 6476987.5 | Q13: ='[1]USD 1232 բյուջե 2024 (2)'!Q9*'[1]USD 1232 բյուջե 2024 (2)'!$D$25 -> 5088979.7 | R13: ='[1]USD 1232 բյուջե 2024 (2)'!R9*'[1]USD 1232 բյուջե 2024 (2)'!$D$25 -> 1388007.8 | S13: =T13+U13 -> 19427148 | T13: ='[1]USD 1232 բյուջե 2024 (2)'!T9*'[1]USD 1232 բյուջե 2024 (2)'!$D$25 -> 15263125 | U13: ='[1]USD 1232 բյուջե 2024 (2)'!U9*'[1]USD 1232 բյուջե 2024 (2)'!$D$25 -> 4164023.3 | V13: =SUM(W13:X13) -> 45414745 | W13: =K13+Q13+T13 -> 36610914 | X13: =L13+R13+U13 -> 8803831 | Y13: =V13/402.39 -> 112862.51 | Z13: ='[1]USD 1232 բյուջե 2024 (2)'!V9 -> 112862.51 | AA13: =Y13-Z13 -> 0
F14: ='[1]AMD Հ7 Ձև1 round'!F21 -> Ներքին գործուղումներ 4221 | G14: =H14+I14 -> 0 | J14: =K14+L14 -> 139991.48 | K14: ='[1]USD 1232 բյուջե 2024 (2)'!K10*'[1]USD 1232 բյուջե 2024 (2)'!$D$25 -> 139991.48 | L14: ='[1]AMD Հ7 Ձև1 round'!O21/395.74*1000 -> 0 | M14: =N14+O14 -> 58423.004 | N14: ='[1]USD 1232 բյուջե 2024 (2)'!N10*'[1]USD 1232 բյուջե 2024 (2)'!$D$25 -> 58423.004 | O14: ='[1]AMD Հ7 Ձև1 round'!U21/395.74*1000 -> 0 | P14: =Q14+R14 -> 0 | Q14: ='[1]USD 1232 բյուջե 2024 (2)'!Q10*'[1]USD 1232 բյուջե 2024 (2)'!$D$25 -> 0 | R14: ='[1]USD 1232 բյուջե 2024 (2)'!R10*'[1]USD 1232 բյուջե 2024 (2)'!$D$25 -> 0 | S14: =T14+U14 -> 82904.412 | T14: ='[1]USD 1232 բյուջե 2024 (2)'!T10*'[1]USD 1232 բյուջե 2024 (2)'!$D$25 -> 82904.412 | U14: ='[1]USD 1232 բյուջե 2024 (2)'!U10*'[1]USD 1232 բյուջե 2024 (2)'!$D$25 -> 0 | V14: =SUM(W14:X14) -> 222895.89 | W14: =K14+Q14+T14 -> 222895.89 | X14: =L14+R14+U14 -> 0 | Y14: =V14/402.39 -> 553.93 | Z14: ='[1]USD 1232 բյուջե 2024 (2)'!V10 -> 553.93 | AA14: =Y14-Z14 -> 0
F15: ='[1]AMD Հ7 Ձև1 round'!F22 -> Կառավարչական ծառայություններ 4235 | G15: =H15+I15 -> 0 | J15: =K15+L15 -> 4748584.9 | K15: ='[1]USD 1232 բյուջե 2024 (2)'!K11*'[1]USD 1232 բյուջե 2024 (2)'!$D$25 -> 3957384.9 | L15: 791200 | M15: =N15+O15 -> 4748584.9 | N15: ='[1]USD 1232 բյուջե 2024 (2)'!N11*'[1]USD 1232 բյուջե 2024 (2)'!$D$25 -> 3957384.9 | O15: 791200 | P15: =Q15+R15 -> 0 | Q15: ='[1]USD 1232 բյուջե 2024 (2)'!Q11*'[1]USD 1232 բյուջե 2024 (2)'!$D$25 -> 0 | R15: ='[1]USD 1232 բյուջե 2024 (2)'!R11*'[1]USD 1232 բյուջե 2024 (2)'!$D$25 -> 0 | S15: =T15+U15 -> 562963.07 | T15: ='[1]USD 1232 բյուջե 2024 (2)'!T11*'[1]USD 1232 բյուջե 2024 (2)'!$D$25 -> 468905.07 | U15: ='[1]USD 1232 բյուջե 2024 (2)'!U11*'[1]USD 1232 բյուջե 2024 (2)'!$D$25 -> 94058 | V15: =SUM(W15:X15) -> 5311548 | W15: =K15+Q15+T15 -> 4426290 | X15: =L15+R15+U15 -> 885258 | Y15: =V15/402.39 -> 13200 | Z15: ='[1]USD 1232 բյուջե 2024 (2)'!V11 -> 13200 | AA15: =Y15-Z15 -> 0
F16: Էներգետիկ ծառայություններ 4212
F17: Համակարգչային ծառայություններ 4232
F18: Ընդհանուր բնույթի այլ ծառայություններ 4239
F19: Գրասենյակային նյութեր և հագուստ 4261
F20: Տրանսպորտային նյութեր 4264
F21: ='[1]AMD Հ7 Ձև1 round'!F23 -> Ընդամենը | G21: =SUM(H21:I21) -> 79267535 | H21: 69396869 | I21: 9870666 | J21: =SUM(K21:L21) -> 3.7352847e+08 | K21: =SUM(K22:K22) -> 3.1127377e+08 | L21: =SUM(L22:L22) -> 62254700 | M21: =SUM(N21:O21) -> 1.559841e+08 | N21: =SUM(N22:N22) -> 1.2579129e+08 | O21: =SUM(O22:O22) -> 30192805 | P21: =SUM(Q21:R21) -> 1.8521437e+08 | Q21: =SUM(Q22:Q22) -> 1.5203742e+08 | R21: =SUM(R22:R22) -> 33176948 | S21: =SUM(T21:U21) -> 92607184 | T21: =SUM(T22:T22) -> 76018710 | U21: =SUM(U22:U22) -> 16588474 | V21: =SUM(W21:X21) -> 6.5135003e+08 | W21: =SUM(W22:W22) -> 5.393299e+08 | X21: =SUM(X22:X22) -> 1.1202012e+08
C22: 32001 | D22: Եվրասիական զարգացման բանկի աջակցությամբ իրականացվող հանրային շենքերում էներգախնայողության բարելավման և կանաչ էներգիայի զարգացմանը նպաստող դրամաշնորհային ծրագրի շրջանակներում հիմնանորոգման աշխատանքներ | E22: Դրամաշնորհային ծրագիր | F22: ='[1]AMD Հ7 Ձև1 round'!F24 -> Շենքերի և շինությունների կապիտալ վերանորոգում 5113 | J22: =SUM(K22:L22) -> 3.7352847e+08 | K22: ='[1]USD 1232 բյուջե 2024 (2)'!K18*'[1]USD 1232 բյուջե 2024 (2)'!$D$25 -> 3.1127377e+08 | L22: 62254700 | M22: =SUM(N22:O22) -> 1.559841e+08 | N22: ='[1]USD 1232 բյուջե 2024 (2)'!N18*'[1]USD 1232 բյուջե 2024 (2)'!$D$25 -> 1.2579129e+08 | O22: 30192805 | P22: =Q22+R22 -> 1.8521437e+08 | Q22: ='[1]USD 1232 բյուջե 2024 (2)'!Q18*'[1]USD 1232 բյուջե 2024 (2)'!$D$25 -> 1.5203742e+08 | R22: ='[1]USD 1232 բյուջե 2024 (2)'!R18*'[1]USD 1232 բյուջե 2024 (2)'!$D$25 -> 33176948 | S22: =T22+U22 -> 92607184 | T22: ='[1]USD 1232 բյուջե 2024 (2)'!T18*'[1]USD 1232 բյուջե 2024 (2)'!$D$25 -> 76018710 | U22: ='[1]USD 1232 բյուջե 2024 (2)'!U18*'[1]USD 1232 բյուջե 2024 (2)'!$D$25 -> 16588474 | V22: =W22+X22 -> 6.5135003e+08 | W22: =K22+Q22+T22 -> 5.393299e+08 | X22: =L22+R22+U22 -> 1.1202012e+08 | Y22: =V22/402.39 -> 1618703.3 | Z22: ='[1]USD 1232 բյուջե 2024 (2)'!V18 -> 1618703.3
F23: ='[1]USD 1232 բյուջե 2024 (2)'!F19 -> արչական սարքավորումներ 5122 Վ
B24: Ընդամենը՝ որից | G24: =G21+G8 -> 1.1956079e+08 | H24: =H21+H8 -> 1.0216981e+08 | I24: =I21+I8 -> 17390983 | J24: =SUM(J9:J15)+SUM(J22:J22) -> 4.0802285e+08 | K24: =SUM(K9:K15)+SUM(K22:K22) -> 3.3930265e+08 | L24: =SUM(L9:L15)+SUM(L22:L22) -> 68720200 | M24: =SUM(M9:M15)+SUM(M22:M22) -> 1.7473021e+08 | N24: =SUM(N9:N15)+SUM(N22:N22) -> 1.412335e+08 | O24: =SUM(O9:O15)+SUM(O22:O22) -> 33496710 | P24: =SUM(P9:P15)+SUM(P22:P22) -> 1.9090377e+08 | Q24: =SUM(Q9:Q15)+SUM(Q22:Q22) -> 1.5671442e+08 | ... X24: =SUM(X9:X15)+SUM(X22:X22) -> 1.2375611e+08
B25: Վարկային ծրագրեր | G25: =SUMIF($E9:$E12,"Վարկային ծրագիր",G9:G12) -> 0 | H25: =SUMIF($E9:$E12,"Վարկային ծրագիր",H9:H12) -> 0 | I25: =SUMIF($E9:$E12,"Վարկային ծրագիր",I9:I12) -> 0 | J25: 0 | K25: 0 | L25: 0 | M25: =SUMIF($E9:$E12,"Վարկային ծրագիր",M9:M12) -> 0 | N25: =SUMIF($E9:$E12,"Վարկային ծրագիր",N9:N12) -> 0 | O25: =SUMIF($E9:$E12,"Վարկային ծրագիր",O9:O12) -> 0 | P25: =SUMIF($E9:$E12,"Վարկային ծրագիր",P9:P12) -> 0 | Q25: =SUMIF($E9:$E12,"Վարկային ծրագիր",Q9:Q12) -> 0 | R25: =SUMIF($E9:$E12,"Վարկային ծրագիր",R9:R12) -> 0 | S25: =SUMIF($E9:$E12,"Վարկային ծրագիր",S9:S12) -> 0 | T25: =SUMIF($E9:$E12,"Վարկային ծրագիր",T9:T12) -> 0 | ... X25: =SUMIF($E9:$E12,"Վարկային ծրագիր",X9:X12) -> 0
B26: Դրամաշնորհային ծրագրեր | G26: =G24 -> 1.1956079e+08 | H26: =H24 -> 1.0216981e+08 | I26: =I24 -> 17390983 | J26: =J24 -> 4.0802285e+08 | K26: =K24 -> 3.3930265e+08 | L26: =L24 -> 68720200 | M26: =M24 -> 1.7473021e+08 | N26: =N24 -> 1.412335e+08 | ... X26: =X24 -> 1.2375611e+08
B27: Ենթավարկային ծրագրեր | G27: =SUMIF($E9:$E12,"Ենթավարկային ծրագիր",G9:G12) -> 0 | H27: =SUMIF($E9:$E12,"Ենթավարկային ծրագիր",H9:H12) -> 0 | I27: =SUMIF($E9:$E12,"Ենթավարկային ծրագիր",I9:I12) -> 0 | J27: =SUMIF($E9:$E12,"Ենթավարկային ծրագիր",J9:J12) -> 0 | K27: =SUMIF($E9:$E12,"Ենթավարկային ծրագիր",K9:K12) -> 0 | L27: =SUMIF($E9:$E12,"Ենթավարկային ծրագիր",L9:L12) -> 0 | M27: =SUMIF($E9:$E12,"Ենթավարկային ծրագիր",M9:M12) -> 0 | N27: =SUMIF($E9:$E12,"Ենթավարկային ծրագիր",N9:N12) -> 0 | ... X27: =SUMIF($E9:$E12,"Ենթավարկային ծրագիր",X9:X12) -> 0
V28: =V26+G26 -> 8.3116761e+08 | W28: =W26/402.39 -> 1460897.9 | X28: =X26/402.39 -> 307552.64 | Z28: =V26/V28 -> 0.85615321
C29: 1 ԱՄՆ դոլար = | D29: 402.39 | E29: ՀՀ դրամ | R29: =R24+U24 -> 55035906 | V29: =V28/402.39 -> 2065577.2 | W29: =W28/402.39 -> 3630.5522 | X29: =X28/402.39 -> 764.31482
S30: =P24+S24 -> 3.0358397e+08 | T30: =Q24+T24 -> 2.4854806e+08 | U30: =R24+U24 -> 55035906
