Workbook

Sheet 0
C1: Հավելված N 1
C2: ՀՀ կառավարության 2024 թվականի -ի N -Ն որոշման
A3: «ՀԱՅԱՍՏԱՆԻ ՀԱՆՐԱՊԵՏՈՒԹՅԱՆ 2024 ԹՎԱԿԱՆԻ ՊԵՏԱԿԱՆ ԲՅՈՒՋԵԻ ՄԱՍԻՆ» ՀԱՅԱՍՏԱՆԻ ՀԱՆՐԱՊԵՏՈՒԹՅԱՆ ՕՐԵՆՔԻ N 3 ՀԱՎԵԼՎԱԾԻ N 1 ԱՂՅՈՒՍԱԿՈՒՄ ԵՎ ՀԱՅԱՍՏԱՆԻ ՀԱՆՐԱՊԵՏՈՒԹՅԱՆ ԿԱՌԱՎԱՐՈՒԹՅԱՆ 2023 ԹՎԱԿԱՆԻ ԴԵԿՏԵՄԲԵՐԻ 28-Ի N 2323-Ն ՈՐՈՇՄԱՆ N 1 ՀԱՎԵԼՎԱԾԻ N 1 ԱՂՅՈՒՍԱԿՈՒՄ ԿԱՏԱՐՎՈՂ ՓՈՓՈԽՈՒԹՅՈՒՆԸ
C4: հազար դրամներով
A5: Բյուջետային գլխավոր կարգադրիչների, ծրագրերի և միջոցառումների անվանումները | B5: Ցուցանիշների փոփոխությունը (ավելացումները նշված են դրական նշանով)
B6: Ինն ամիս | C6: Տարի
A7: ԸՆԴԱՄԵՆԸ | B7: =B9 -> 0 | C7: =C9 -> 0
A8: այդ թվում՝
A9: Ա.Ներքին աղբյուրներ-ընդամենը | B9: =+B11+B17 -> 0 | C9: 0
A10: այդ թվում՝
A11: 1. Փոխառու զուտ միջոցներ | B11: =+B13 -> 1035000 | C11: =+C13 -> 1035000
A12: այդ թվում՝
A13: 1.1. Արժեթղթերի (բացառությամբ բաժնետոմսերի և կապիտալում այլ մասնակցության) թողարկումից և տեղաբաշխումից զուտ մուտքեր | B13: =+B14 -> 1035000 | C13: =+C14 -> 1035000
A14: ՀՀ ֆինանսների նախարարություն | B14: =+B16 -> 1035000 | C14: =+C16 -> 1035000
A15: որից`
A16: գանձապետական պարտատոմսեր | B16: 1035000 | C16: 1035000
A17: 2. Ֆինանսական զուտ ակտիվներ | B17: =+B19+B21 -> -1035000 | C17: =+C19+C21 -> 1035000
A18: այդ թվում՝
A19: 2.4. Վարկերի և փոխատվությունների տրամադրում | B19: =+-'2'!D22 -> -1035000 | C19: =+-'2'!E22 -> 1035000
A20: բյուջետային վարկերի տրամադրում տնտեսվարող սուբյեկտներին | C20: =C19 -> 1035000
A21: 2.6.Այլ | B21: =+B22+B23 -> 0 | C21: =+C22+C23 -> 0
A22: կայունացման դեպոզիտային հաշվի համալրում | B22: -1035000 | C22: -1035000
A23: կայունացման դեպոզիտային հաշվից օգտագործում | B23: 1035000 | C23: 1035000

Sheet 1
E1: Հավելված N 1
C2: ՀՀ կառավարության 2024 թվականի -ի N -Ն որոշման
A3: «ՀԱՅԱՍՏԱՆԻ ՀԱՆՐԱՊԵՏՈՒԹՅԱՆ 2024 ԹՎԱԿԱՆԻ ՊԵՏԱԿԱՆ ԲՅՈՒՋԵԻ ՄԱՍԻՆ» ՀԱՅԱՍՏԱՆԻ ՀԱՆՐԱՊԵՏՈՒԹՅԱՆ ՕՐԵՆՔԻ N 3 ՀԱՎԵԼՎԱԾԻ N 1.1 ԱՂՅՈՒՍԱԿՈՒՄ ԵՎ ՀԱՅԱՍՏԱՆԻ ՀԱՆՐԱՊԵՏՈՒԹՅԱՆ ԿԱՌԱՎԱՐՈՒԹՅԱՆ 2023 ԹՎԱԿԱՆԻ ԴԵԿՏԵՄԲԵՐԻ 28-Ի N 2323-Ն ՈՐՈՇՄԱՆ N 1 ՀԱՎԵԼՎԱԾԻ N 2 ԱՂՅՈՒՍԱԿՈՒՄ ԿԱՏԱՐՎՈՂ ՓՈՓՈԽՈՒԹՅՈՒՆՆԵՐԸ ԵՎ ԼՐԱՑՈՒՄՆԵՐԸ
E4: հազար դրամ
A5: Ծրագրային դասիչ | C5: Բյուջետային գլխավոր կարգադրիչների, ծրագրերի և միջոցառումների անվանումները | D5: Ցուցանիշների փոփոխությունը (ավելացումները նշված են դրական նշանով, իսկ նվազեցումները` փակագծերում)
A6: Ծրագիր | B6: Միջոցառում | D6: Ինն ամիս
A7: 1 | B7: 2 | C7: 3 | D7: 6 | E7: 4
C8: ԸՆԴԱՄԵՆԸ այդ թվում | D8: =D10 -> 1035000 | E8: 0
C9: ՀՀ տարածքային կառավարման և ենթակառուցվածքների նախարարություն | E9: 0
A10: 1167 | C10: Ծրագրի անվանումը՝ Էլեկտրաէներգետիկ համակարգի զարգացման ծրագիր | D10: =D14 -> 1035000 | E10: 0
C11: Ծրագրի նպատակը՝ Նպաստել էլեկտրաէներգետիկ համակարգի հուսալիության բարձրացմանը և էլեկտրաէներգիայի անխափան մատակարարման ապահովմանը
C12: Վերջնական արդյունքի նկարագրությունը՝ Հուսալի և անվտանգ էլեկտրամատակարարման ապահովում
A13: Ֆինանսական ակտիվների կառավարման միջոցառումներ
B14: 42009 | C14: Միջոցառման անվանումը՝ «Հայկական ատոմային էլեկտրակայան» ՓԲԸ-ին տրամադրվող բյուջետային վարկ | D14: =+'2'!D22 -> 1035000 | E14: =-1035000 -> -1035000
C15: Միջոցառման նկարագրությունը՝ «Հայկական ատոմային էլեկտրակայան» ՓԲԸ-ի 2-րդ էներգաբլոկի շահագործման ժամկետի երկարաձգման ծրագրի աշխատանքների իրականացման համար բյուջետային վարկի տրամադրում
C16: Միջոցառման տեսակը՝
C17: Վարկի տրամադրում
B18: 42014 | C18: Միջոցառման անվանումը՝ «Բարձրավոլտ էլեկտրացանցեր» ՓԲԸ-ին տրամադրվող բյուջետային վարկ | D18: =+'2'!D26 -> 0 | E18: 1035000
C19: Միջոցառման նկարագրությունը՝ «Իրան-Հայաստան 400 կՎ էլեկտրահաղորդման օդային գծի և համապատասխան ենթակայանի կառուցում» ծրագրի շրջանակներում 2 հատ 400/220/20 կՎ 200 ՄՎԱ հզորությամբ ավտոտրանսֆորմատորների իրանի՝ ներառյալ ակտիվ մասի և բեռի տակ լարման կարգավորիչների լրակազմի ձեռքբերման ֆինանսավորման նպատակով «Բարձրավոլտ էլեկտրացանցեր» ՓԲԸ-ին տրամադրվող բյուջետային վարկի տրամադրում
C20: Միջոցառման տեսակը՝
C21: Վարկի տրամադրում

Sheet 2
E2: Հավելված N 2
D3: ՀՀ կառավարության 2024 թվականի -ի N -Ն որոշման
A5: «ՀԱՅԱՍՏԱՆԻ ՀԱՆՐԱՊԵՏՈՒԹՅԱՆ 2024 ԹՎԱԿԱՆԻ ՊԵՏԱԿԱՆ ԲՅՈՒՋԵԻ ՄԱՍԻՆ» ՀԱՅԱՍՏԱՆԻ ՀԱՆՐԱՊԵՏՈՒԹՅԱՆ ՕՐԵՆՔԻ N 3 ՀԱՎԵԼՎԱԾՈՒՄ N 1.1.1.1 ԱՂՅՈՒՍԱԿԻ ԵՎ ՀԱՅԱՍՏԱՆԻ ՀԱՆՐԱՊԵՏՈՒԹՅԱՆ ԿԱՌԱՎԱՐՈՒԹՅԱՆ 2023 ԹՎԱԿԱՆԻ ԴԵԿՏԵՄԲԵՐԻ 28-Ի N 2323-Ն ՈՐՈՇՄԱՆ N 1 ՀԱՎԵԼՎԱԾՈՒՄ N 4 ԱՂՅՈՒՍԱԿՈՒՄ ԿԱՏԱՐՎՈՂ ՓՈՓՈԽՈՒԹՅՈՒՆՆԵՐԸ ԵՎ ԼՐԱՑՈՒՄՆԵՐԸ
E8: հազար դրամ
A9: Ծրագրային դասիչը | C9: Պետական բյուջեի դեֆիցիտի ֆինանսավորման աղբյուրներն ու դրանց տարրերի անվանումները | D9: Ցուցանիշների փոփոխությունը (ավելացումները նշված են դրական նշանով, իսկ նվազեցումները` փակագծերում)
A10: Ծրագիրը | B10: Միջոցառումը | D10: Ինն ամիս | E10: Տարի
C11: ԸՆԴԱՄԵՆԸ | D11: =+D13 -> 1035000 | E11: =+E13 -> 0
C12: այդ թվում՝
C13: ՀՀ տարածքային կառավարման և ենթակառուցվածքների նախարարություն | D13: =+D14 -> 1035000 | E13: =E15+E23 -> 0
A14: 1167 | C14: Էլեկտրաէներգետիկ համակարգի զարգացման ծրագիր | D14: =+D15 -> 1035000 | E14: =E15+E23 -> 0
B15: 42009 | C15: «Հայկական ատոմային էլեկտրակայան» ՓԲԸ-ին տրամադրվող բյուջետային վարկ | D15: =+D19 -> 1035000 | E15: =+E19 -> -1035000
C16: այդ թվում՝ ըստ կատարողների
C17: ՀՀ ֆինանսների նախարարություն | D17: =+D15 -> 1035000 | E17: =+E15 -> -1035000
C18: այդ թվում՝ ըստ տնտեսագիտական դասակարգման հոդվածների՝
C19: ՀԻՄՆԱԿԱՆ ԳՈՒՄԱՐԻ ՄԱՐՄԱՆ ԵՎ ՖԻՆԱՆՍԱԿԱՆ ԱԿՏԻՎՆԵՐԻ ՁԵՌՔԲԵՐՄԱՆ ԳԾՈՎ ԾԱԽՍԵՐ, այդ թվում` | D19: =+D20 -> 1035000 | E19: =+E20 -> -1035000
C20: ՖԻՆԱՆՍԱԿԱՆ ԱԿՏԻՎՆԵՐԻ ՁԵՌՔԲԵՐՈՒՄ, այդ թվում | D20: =+D21 -> 1035000 | E20: =+E21 -> -1035000
C21: ՆԵՐՔԻՆ ՖԻՆԱՆՍԱԿԱՆ ԱԿՏԻՎՆԵՐԻ ՁԵՌՔԲԵՐՈՒՄ, այդ թվում` | D21: =+D22 -> 1035000 | E21: =+E22 -> -1035000
C22: Ներքին վարկեր և փոխատվություններ | D22: 1035000 | E22: -1035000
B23: 42014 | C23: «Բարձրավոլտ էլեկտրացանցեր» ՓԲԸ-ին տրամադրվող բյուջետային վարկ | D23: =+D27 -> 1035000 | E23: =+E27 -> 1035000
C24: այդ թվում՝ ըստ կատարողների
C25: ՀՀ ֆինանսների նախարարություն | D25: =+D23 -> 1035000 | E25: =+E23 -> 1035000
C26: այդ թվում՝ ըստ տնտեսագիտական դասակարգման հոդվածների՝
C27: ՀԻՄՆԱԿԱՆ ԳՈՒՄԱՐԻ ՄԱՐՄԱՆ ԵՎ ՖԻՆԱՆՍԱԿԱՆ ԱԿՏԻՎՆԵՐԻ ՁԵՌՔԲԵՐՄԱՆ ԳԾՈՎ ԾԱԽՍԵՐ, այդ թվում` | D27: =+D28 -> 1035000 | E27: =+E28 -> 1035000
C28: ՖԻՆԱՆՍԱԿԱՆ ԱԿՏԻՎՆԵՐԻ ՁԵՌՔԲԵՐՈՒՄ, այդ թվում | D28: =+D29 -> 1035000 | E28: =+E29 -> 1035000
C29: ՆԵՐՔԻՆ ՖԻՆԱՆՍԱԿԱՆ ԱԿՏԻՎՆԵՐԻ ՁԵՌՔԲԵՐՈՒՄ, այդ թվում` | D29: =+D30 -> 1035000 | E29: =+E30 -> 1035000
C30: Ներքին վարկեր և փոխատվություններ | D30: 1035000 | E30: 1035000

Sheet 3
D1: Հավելված N 3
C2: ՀՀ կառավարության 2024 թվականի -ի N -Ն որոշման
A5: ՀԱՅԱՍՏԱՆԻ ՀԱՆՐԱՊԵՏՈՒԹՅԱՆ ԿԱՌԱՎԱՐՈՒԹՅԱՆ 2023 ԹՎԱԿԱՆԻ ԴԵԿՏԵՄԲԵՐԻ 28-Ի N 2323-Ն ՈՐՈՇՄԱՆ N 1 ՀԱՎԵԼՎԱԾԻ N 5 ԱՂՅՈՒՍԱԿՈՒՄ ԿԱՏԱՐՎՈՂ ՓՈՓՈԽՈՒԹՅՈՒՆՆԵՐԸ ԵՎ ԼՐԱՑՈՒՄՆԵՐԸ
A7: ՀՀ տարածքային կառավարման և ենթակառուցվածքների նախարարություն
A8: ՄԱՍ 2. ՊԵՏԱԿԱՆ ՄԱՐՄՆԻ ԳԾՈՎ ԱՐԴՅՈՒՆՔԱՅԻՆ (ԿԱՏԱՐՈՂԱԿԱՆ) ՑՈՒՑԱՆԻՇՆԵՐԸ
D9: հազար դրամ
A10: Ծրագրի դասիչը | B10: Ծրագրի անվանումը
A11: 1167 | B11: Էլեկտրաէներգետիկ համակարգի զարգացման ծրագիր
A12: Ծրագրի միջոցառումները
C13: Ցուցանիշների փոփոխությունը (նվազեցումները նշված են փակագծերում)
A14: Ծրագրի դասիչը՝ | B14: 1167
A15: Միջոցառման դասիչը՝ | B15: 42009 | C15: Ինն ամիս | D15: Տարի
A16: Միջոցառման անվանումը՝ | B16: «Հայկական ատոմային էլեկտրակայան» ՓԲԸ-ին տրամադրվող բյուջետային վարկ
A17: Նկարագրությունը՝ | B17: «Հայկական ատոմային էլեկտրակայան» ՓԲԸ-ի 2-րդ էներգաբլոկի շահագործման ժամկետի երկարաձգման ծրագրի աշխատանքների իրականացման համար բյուջետային վարկի տրամադրում
A18: Միջոցառման տեսակը՝ | B18: Վարկի տրամադրում
A19: Միջոցառումն իրականացնողի անվանումը՝ | B19: ՀՀ ֆինանսների նախարարություն
B20: Արդյունքի չափորոշիչներ
A21: Քանակական | B21: Տրամադրվող վարկերի քանակ, հատ | C21: 1 | D21: 1
A22: Ժամկետային | B22: «Հայկական ատոմային էլեկտրակայան» ՓԲԸ-ի 2-րդ էներգաբլոկի շահագործման ժամկետի երկարաձգման ժամանակահատվածը | D22: մինչև 2026թ.
A23: Միջոցառման վրա կատարվող ծախսը (հազար դրամ) | C23: =+'2'!D22 -> 1035000 | D23: -1035000
B24: «ԱԱԲ Պրոեկտ» ՍՊԸ | C24: 574491.8 | D24: 574491.8 | E24: 574491.74
B25: «Էս ընդ Էյ Մայնինգ» ՍՊԸ | C25: 253504.1 | D25: 253504.1 | E25: 253504.1
B26: «Դենտալ Իմպորտ» ՍՊԸ | C26: 233816 | D26: 233816 | E26: 233815.92
B27: «Սուարդի» ԲԸ Հ/Մ | C27: 219559.6 | D27: 219559.6 | E27: 219559.6
B28: «Միրադա» ՍՊԸ | C28: 192064.5 | D28: 192064.5 | E28: 192064.44
B29: «Կամուրջշին» ՓԲԸ | C29: 131325.2 | D29: 131325.2 | E29: 131325.16
B30: «Բետոնիկա» ՍՊԸ | C30: 115501.4 | D30: 115501.4 | E30: 115501.32
B31: «Շին Թրեյդ» ՍՊԸ | C31: 98612.4 | D31: 98612.4 | E31: 98612.371
B32: «Ապառաժ» ՍՊԸ | C32: 81160.1 | D32: 81160.1 | E32: 81160.038
B33: «ՄԼ Մայնինգ» ՍՊԸ | C33: 60132.5 | D33: 60132.5 | E33: 60132.468
B34: «Տնա-Շին Աշոտ» ՍՊԸ | C34: 50614 | D34: 50614 | E34: 50613.97
B35: «Աննա Ավետիսյան» ԱՁ | C35: 31168 | D35: 31168 | E35: 31167.91
... B51: «Պատվական Ասոյան» ԱՁ | C51: 969.5 | D51: 969.5 | E51: 969.5
C52: =SUM(C24:C51) -> 2228550 | D52: =SUM(D24:D51) -> 2228550
A55: Ծրագրի դասիչը | B55: Ծրագրի անվանումը
A56: 1167 | B56: Էլեկտրաէներգետիկ համակարգի զարգացման ծրագիր
A57: Ծրագրի միջոցառումները
C58: Ցուցանիշների փոփոխությունը (նվազեցումները նշված են փակագծերում)
A59: Ծրագրի դասիչը՝ | B59: 1167
A60: Միջոցառման դասիչը՝ | B60: 42009 | C60: Ինն ամիս | D60: Տարի
...

Sheet 4.2
C1: Հավելված N 5
C2: ՀՀ կառավարության 2024 թվականի -ի N -Ն որոշման
D3: Աղյուսակ N 2
A5: ՀԱՅԱՍՏԱՆԻ ՀԱՆՐԱՊԵՏՈՒԹՅԱՆ ԿԱՌԱՎԱՐՈՒԹՅԱՆ 2023 ԹՎԱԿԱՆԻ ԴԵԿՏԵՄԲԵՐԻ 28-Ի N 2323-Ն ՈՐՈՇՄԱՆ N 1 ՀԱՎԵԼՎԱԾԻ N 5 ԱՂՅՈՒՍԱԿՈՒՄ ԿԱՏԱՐՎՈՂ ՓՈՓՈԽՈՒԹՅՈՒՆԸ ԵՎ ԼՐԱՑՈՒՄԸ
A8: ՀՀ ֆինանսների նախարարություն
A9: ՄԱՍ 2. ՊԵՏԱԿԱՆ ՄԱՐՄՆԻ ԳԾՈՎ ԱՐԴՅՈՒՆՔԱՅԻՆ (ԿԱՏԱՐՈՂԱԿԱՆ) ՑՈՒՑԱՆԻՇՆԵՐԸ
D10: հազար դրամ
A11: Ծրագրի դասիչը | B11: Ծրագրի անվանումը
A12: 1167 | B12: Էլեկտրաէներգետիկ համակարգի զարգացման ծրագիր
A13: Ծրագրի միջոցառումները
C14: Ցուցանիշների փոփոխությունը (նվազեցումները նշված են փակագծերում)
A15: Ծրագրի դասիչը՝ | B15: 1167
A16: Միջոցառման դասիչը՝ | B16: 42009 | C16: Ինն ամիս | D16: Տարի
A17: Միջոցառման անվանումը՝ | B17: «Հայկական ատոմային էլեկտրակայան» ՓԲԸ-ին տրամադրվող բյուջետային վարկ
A18: Միջոցառման անվանումը՝ | B18: «Հայկական ատոմային էլեկտրակայան» ՓԲԸ-ի 2-րդ էներգաբլոկի շահագործման ժամկետի երկարաձգման ծրագրի աշխատանքների իրականացման համար բյուջետային վարկի տրամադրում
A19: Նկարագրությունը՝ | B19: Բյուջետային վարկի տրամադրում
A20: Միջոցառման տեսակը՝ | B20: Վարկի տրամադրում
A21: Միջոցառումն իրականացնողի անվանումը՝ | B21: ՀՀ ֆինանսների նախարարություն
B22: Արդյունքի չափորոշիչներ
A23: Քանակական | B23: Տրամադրվող վարկերի քանակ, հատ | C23: 1 | D23: 1
A24: Ժամկետային | B24: «Հայկական ատոմային էլեկտրակայան» ՓԲԸ-ի 2-րդ էներգաբլոկի շահագործման ժամկետի երկարաձգման ժամանակահատվածը | D24: մինչև 2026թ.
A25: Միջոցառման վրա կատարվող ծախսը (հազար դրամ) | C25: =+'2'!D22 -> 1035000 | D25: =+'2'!E22 -> -1035000
D29: հազար դրամ
A30: Ծրագրի դասիչը | B30: Ծրագրի անվանումը
A31: 1167 | B31: Էլեկտրաէներգետիկ համակարգի զարգացման ծրագիր
A32: Ծրագրի միջոցառումները
C33: Ցուցանիշների փոփոխությունը (ավելացումները նշված են դրական նշանով)
A34: Ծրագրի դասիչը՝ | B34: 1167
A35: Միջոցառման անվանումը՝ | B35: «Բարձրավոլտ էլեկտրացանցեր» ՓԲԸ-ին տրամադրվող բյուջետային վարկ
A36: Միջոցառման դասիչը՝ | B36: 42013 | C36: Ինն ամիս | D36: Տարի
A37: Միջոցառման անվանումը՝ | B37: «Իրան-Հայաստան 400 կՎ էլեկտրահաղորդման օդային գծի և համապատասխան ենթակայանի կառուցում» ծրագրի շրջանակներում 2 հատ 400/220/20 կՎ 200 ՄՎԱ հզորությամբ ավտոտրանսֆորմատորների իրանի՝ ներառյալ ակտիվ մասի և բեռի տակ լարման կարգավորիչների լրակազմի ձեռքբերման ֆինանսավորման նպատակով «Բարձրավոլտ էլեկտրացանցեր» ՓԲԸ-ին տրամադրվող բյուջետային վարկի տրամադրում
A38: Նկարագրությունը՝ | B38: Բյուջետային վարկի տրամադրում
A39: Միջոցառման տեսակը՝ | B39: Վարկի տրամադրում
A40: Միջոցառումն իրականացնողի անվանումը՝ | B40: ՀՀ ֆինանսների նախարարություն
B41: Արդյունքի չափորոշիչներ
A42: Քանակական | B42: Տրամադրվող վարկերի քանակ, հատ | C42: 1 | D42: 1
A43: Միջոցառման վրա կատարվող ծախսը (հազար դրամ) | C43: =+'2'!D39 -> 0 | D43: 1035000
