Workbook
Name AgencyCode: #REF!
Name AgencyCode: #REF!
Name AgencyCode: #REF!
Name AgencyCode: #REF!
Name AgencyCode: #REF!
Name AgencyCode: #REF!
Name AgencyCode: #REF!
Name AgencyName: #REF!
Name AgencyName: #REF!
Name AgencyName: #REF!
Name AgencyName: #REF!
Name AgencyName: #REF!
Name åû: #REF!
Name åû: #REF!
Name åû: #REF!
Name davit: #REF!
Name davit: #REF!
Name davit: #REF!
Name Functional1: #REF!
Name Functional1: #REF!
Name Functional1: #REF!
Name Functional1: #REF!
Name Functional1: #REF!
Name ggg: #REF!
Name ggg: #REF!
Name ggg: #REF!
Name mas: #REF!
Name mas: #REF!
Name mas: #REF!
Name mass: #REF!
Name mass: #REF!
Name mass: #REF!
Name PANature: #REF!
Name PANature: #REF!
Name PANature: #REF!
Name PANature: #REF!
Name PANature: #REF!
Name PAType: #REF!
Name PAType: #REF!
Name PAType: #REF!
Name PAType: #REF!
Name PAType: #REF!
Name Performance2: #REF!
Name Performance2: #REF!
Name Performance2: #REF!
Name Performance2: #REF!
Name Performance2: #REF!
Name PerformanceType: #REF!
Name PerformanceType: #REF!
Name PerformanceType: #REF!
Name PerformanceType: #REF!
Name PerformanceType: #REF!
Name x: #REF!
Name x: #REF!
Name x: #REF!
Name Հավելված: #REF!
Name Հավելված: #REF!
Name Հավելված: #REF!
Name Հավելված: #REF!
Name Հավելված: #REF!

Sheet Հ1 
F1: Հավելված N 1
F2: ՀՀ կառավարության 2024 թվականի
F3: ______________ ի ___Ն որոշման
B5: «ՀԱՅԱUՏԱՆԻ ՀԱՆՐԱՊԵՏՈՒԹՅԱՆ 2024 ԹՎԱԿԱՆԻ ՊԵՏԱԿԱՆ ԲՅՈՒՋԵԻ ՄԱUԻՆ» OՐԵՆՔԻ N 1 ՀԱՎԵԼՎԱԾԻ N 2 ԱՂՅՈՒՍԱԿՈՒՄ ԿԱՏԱՐՎՈՂ ՎԵՐԱԲԱՇԽՈՒՄԸ ԵՎ ՀԱՅԱՍՏԱՆԻ ՀԱՆՐԱՊԵՏՈՒԹՅԱՆ ԿԱՌԱՎԱՐՈՒԹՅԱՆ 2023 ԹՎԱԿԱՆԻ ԴԵԿՏԵՄԲԵՐԻ 28-Ի N 2323-Ն ՈՐՈՇՄԱՆ N 5 ՀԱՎԵԼՎԱԾԻ N 1 ԱՂՅՈՒՍԱԿՈՒՄ ԿԱՏԱՐՎՈՂ ՓՈՓՈԽՈՒԹՅՈՒՆՆԵՐԸ
E6: հազ. դրամ
B7: Ծրագրային դասիչը | D7: Բյուջետային հատկացումների գլխավոր կարգադրիչների, ծրագրերի և միջոցառումների անվանումները | E7: Ցուցանիշների փոփոխությունը (ավելացումները նշված են դրական նշանով, իսկ նվազեցումները` փակագծերում)
B8: Ծրագիր | C8: Միջոցառում | E8: Տարի
B9: 1192 | D9: ԸՆԴԱՄԵՆԸ | E9: =+E11 -> 0
D10: այդ թվում
C11: ՀՀ տարածքային կառավարման և ենթակառուցվածքների նախարարություն | E11: =E13+E25 -> 0
B12: 1004 | D12: Ծրագրի անվանումը`
D13: Ոռոգման համակարգի առողջացում | E13: =E19 -> -900803
D14: Ծրագրի նպատակը`
D15: Ոռոգման ծառայությունների հասանելիության և մատչելիության ապահովում
D16: Վերջնական արդյունքի նկարագրությունը`
D17: Ոռոգման ջրի մատակարարման արդյունավետության և հասանելիության բարելավում, կորուստների կրճատում
C18: 31013 | D18: Միջոցառման անվանումը`
D19: Փոքր և միջին ջրամբարների կառուցում | E19: =Հ3!G23 -> -900803
D20: Միջոցառման նկարագրությունը`
D21: Փոքր և միջին ջրամբարների կառուցման աշխատանքներ
D22: Միջոցառման տեսակը
D23: Պետական մարմինների կողմից օգտագործվող ոչ ֆինանսական ակտիվների հետ գործառնություններ
B24: 1049 | D24: Ծրագրի անվանումը`
D25: Ճանապարհային ցանցի բարելավում | E25: =+E32+E38 -> 900803
D26: Ծրագրի նպատակը`
D27: Ճանապարհային ցանցի բարելավում և անվտանգ երթևեկության ապահովում
D28: Վերջնական արդյունքի նկարագրությունը`
D29: Ճանապարհների ծածկի որակի և փոխադրումների արդյունավետության բարելավում, ճանապարհների վիճակով պայմանավորված պատահարների նվազում
C30: Ծրագրի միջոցառումներ
C31: 21001 | D31: Միջոցառման անվանումը`
D32: Պետական նշանակության ավտոճանապարհների հիմնանորոգում | E32: =Հ3!G42 -> 766432.7
D33: Միջոցառման նկարագրությունը`
D34: Միջպետական, հանրապետական և մարզային նշանակության ավտոճոնապարհների քայքայված ծածկի վերանորոգում, մաշված ծածկի փոխարինում
D35: Միջոցառման տեսակը
D36: Հանրության կողմից անմիջականորեն օգտագործվող ակտիվների հետ կապված միջոցառումներ
C37: 21002 | D37: Միջոցառման անվանումը`
D38: Տրանսպորտային օբյեկտների հիմնանորոգում | E38: =Հ3!G53 -> 134370.3
D39: Միջոցառման նկարագրությունը`
D40: Ավտոմոբիլային ճանապարհների վրա գտնվող կամուրջների հիմնանորոգում
D41: Միջոցառման տեսակը
...

Sheet Հ2
H1: Հավելված N 2
H2: ՀՀ կառավարության 2024 թվականի
H3: ______________ ի ___Ն որոշման
A5: «ՀԱՅԱՍՏԱՆԻ ՀԱՆՐԱՊԵՏՈՒԹՅԱՆ 2024 ԹՎԱԿԱՆԻ ՊԵՏԱԿԱՆ ԲՅՈՒՋԵԻ ՄԱՍԻՆ» ՕՐԵՆՔԻ N 1 ՀԱՎԵԼՎԱԾԻ N 3 ԱՂՅՈՒՍԱԿՈՒՄ ԿԱՏԱՐՎՈՂ ՓՈՓՈԽՈՒԹՅՈՒՆՆԵՐԸ ԵՎ ԼՐԱՑՈՒՄՆԵՐԸ
G6: հազ. դրամ
A7: Ծրագրային դասիչ | C7: Բյուջետային գլխավոր կարգադրիչների, ծրագրերի, միջոցառումների և ուղղությունների անվանումները | D7: Ցուցանիշների փոփոխությունը (ավելացումները նշված են դրական նշանով, իսկ նվազեցումները` փակագծերում)
D8: Ընդամենը, | E8: այդ թվում՝
A9: Ծրագիր | B9: Միջոցառում | E9: Կառուցման աշխատանքներ | F9: Վերակառուցման, վերանորոգման և վերականգնման աշխատանքներ | G9: Նախագծահե- տազոտական, գեոդեզիա- քարտեզագրա- կան աշխա- տանքներ | H9: Ոչ ֆինանսական այլ ակտիվների ձեռքբերում
C10: ԸՆԴԱՄԵՆԸ | D10: =+E10+F10+G10+H10 -> -3.4924597e-10 | E10: =+E12 -> -77529.3 | F10: =+F12 -> 892305.6 | G10: =+G12 -> -814776.3 | H10: =+H12 -> 0
C11: այդ թվում՝
C12: ՀՀ ՏԱՐԱԾՔԱՅԻՆ ԿԱՌԱՎԱՐՄԱՆ ԵՎ ԵՆԹԱԿԱՌՈՒՑՎԱԾՔՆԵՐԻ ՆԱԽԱՐԱՐՈՒԹՅՈՒՆ | D12: =+E12+F12+G12+H12 -> -3.4924597e-10 | E12: =E15+E59+E14 -> -77529.3 | F12: =F15+F59+F14 -> 892305.6 | G12: =G15+G59+G14 -> -814776.3 | H12: =H15+H59+H14 -> 0
C13: այդ թվում`
A14: 1004 | B14: 31013 | C14: Փոքր և միջին ջրամբարների կառուցում | D14: =+E14+F14+G14+H14 -> -900803 | E14: -77529.3 | G14: -823273.7
A15: 1049 | B15: 21001 | C15: Պետական նշանակության ավտոճանապարհների հիմնանորոգում | D15: =+E15+F15+G15+H15 -> 766432.7 | E15: =+E17+E45+E31 -> 0 | F15: =+F17+F45+F31 -> 762785.2 | G15: =+G17+G45+G31 -> 3647.5 | H15: =+H17+H45+H31 -> 0
C16: այդ թվում`
B17: 1 | C17: Միջպետական նշանակության ավտոճանապարհներ, այդ թվում | D17: =+E17+F17+G17+H17 -> -2330402 | E17: =SUM(E18:E30) -> 0 | F17: =SUM(F18:F30) -> -2332812 | G17: =SUM(G18:G30) -> 2410 | H17: =SUM(H18:H30) -> 0
C18: Մ-1, Երևան-Գյումրի-ՀՀ սահման միջպետական նշանակության ավտոճանապարհի կմ160+200-կմ171+700 հատվածի հիմնանորոգում | D18: =+E18+F18+G18+H18 -> -1245.9 | F18: -1245.9
C19: Մ-2, Երևան-Երասխ-Գորիս-ՄեղրիՀՀ սահման միջպետական նշանակության ավտոճանապարհի կմ142+000 - կմ150+700 հատվածի հիմնանորոգում | D19: =+E19+F19+G19+H19 -> 112059.3 | F19: 112059.3
C20: Մ-2, Երևան-Երասխ-Գորիս-Մեղրի-ՀՀ սահման միջպետական նշանակության ավտոճանապարհի կմ182+532 - կմ190+000 հատվածի հիմնանորոգում | D20: =+E20+F20+G20+H20 -> -13761.4 | F20: -13761.4
C21: Մ-2, Երևան-Երասխ-Գորիս-Մեղրի-ՀՀ սահման միջպետական նշանակության ավտոճանապարհի կմ297+800-կմ311+250 հատվածի հիմնանորոգման աշխատանքների (1-ին տեղամաս՝ կմ297+800-կմ301+820 հատված) | D21: =+E21+F21+G21+H21 -> -40876.6 | F21: -40876.6
C22: Մ-2, Երևան-Երասխ-Գորիս-Մեղրի-ՀՀ սահման միջպետական նշանակության ավտոճանապարհի կմ297+800-կմ311+250 հատվածի հիմնանորոգման աշխատանքների (2-րդ տեղամաս՝ կմ301+820 - կմ311+250 հատված) | D22: =+E22+F22+G22+H22 -> -65766.3 | F22: -65766.3
C23: Մ-3, ՀՀ սահման-Մարգարա-Վանաձոր-Տաշիր-ՀՀ սահման միջպետական նշանակության ավտոճանապարհի կմ35+535-կմ39+500 հատվածի հիմնանորոգում | D23: =+E23+F23+G23+H23 -> 164500 | F23: 164500
C24: Մ-4, Երևան-Սևան-Իջևան-ՀՀ սահման միջպետական նշանակության ավտոճանապարհի Դիլիջանից մինչև Հ-30 ավտոճանապարհի հետ հատման կետ հատվածում ջրհեղեղի հետևանքով ողողված և փլուզված թվով 10 տեղամասերի վերակառուցում | D24: =+E24+F24+G24+H24 -> 2410 | G24: =2010+400 -> 2410
C25: Մ-5, Երևան - Արմավիր - ՀՀ սահման միջպետական նշանակության ավտոճանապարհի կմ17+530-կմ18+200, կմ25+593 - կմ29+385 և կմ32+675 - կմ33+833 աջակողմյան և ձախակողմյան հատվածների հիմնանորոգում և Մ-5 Երևան-Արմավիր-ՀՀ սահման ա/ճ-ի կմ 35+457 - կմ 37+054 հատվածի ջրահեռացման համակարգի վերականգնում | D25: =+E25+F25+G25+H25 -> -1930 | F25: -1930
C26: Մ-10, Սևան-Մարտունի-Գետափ միջպետական նշանակության ավտոճանապարհի կմ79+060-կմ80+590 հատվածի վերակառուցում | D26: =+E26+F26+G26+H26 -> 71778.8 | F26: 71778.8
C27: Մ-11, Մարտունի - Վարդենիս - ՀՀ սահման միջպետական նշանակության ավտոճանապարհի կմ25+500-կմ29+200 հատվածի հիմնանորոգում | D27: =+E27+F27+G27+H27 -> -2513546.1 | F27: -2513546.1
C28: Մ-14, Մ-4-Շորժա-Վարդենիս միջպետական նշանակության ավտոճանապարհի կմ72+800 - կմ78+100 հատվածի հիմնանորոգում | D28: =+E28+F28+G28+H28 -> -24958.6 | F28: -24958.6
C29: Մ-15, /Մ-4/ (Վերին Պտղնի) - Մասիսի տրանսպորտային հանգույց (Երևանի շրջանց) միջպետական նշանակության ավտոճանապարհի կմ0+000-կմ8+200 հատվածի հիմնանորոգում | D29: =+E29+F29+G29+H29 -> -17712.7 | F29: -17712.7
C30: Մ-15, /Մ-4/ (Վերին Պտղնի) - Մասիսի տրանսպորտային հանգույց (Երևանի շրջանց) միջպետական նշանակության ավտոճանապարհի կմ19+900-կմ29+400 հատվածի հիմնանորոգում | D30: =+E30+F30+G30+H30 -> -1352.5 | F30: -1352.5
B31: 2 | C31: Հանրապետական նշանակության ավտոճանապարհներ, այդ թվում | D31: =+E31+F31+G31+H31 -> 1002182.7 | E31: =SUM(E32:E44) -> 0 | F31: =SUM(F32:F44) -> 1000945.2 | G31: =SUM(G32:G44) -> 1237.5 | H31: =SUM(H32:H44) -> 0
C32: Հ-3, Երևան (Ջրաշխարհ, Մ-4-ի հետ հատման տեղ)-Գառնի –Գեղարդի վանք հանրապետական նշանակության ավտոճանապարհի կմ33+500-կմ38+100 հատվածի հիմնանորոգում | D32: =+E32+F32+G32+H32 -> -4309.2 | F32: -4309.2
C33: Հ-4, Երևան - եղվարդ - Արագյուղ - Հարթավան - /Մ-3/ հանրապետական նշանակության ավտոճանապարհի կմ33+500 - կմ34+800 հատվածի (Երնջատափ գյուղը շրջանցող հատված) հիմնանորոգում | D33: =+E33+F33+G33+H33 -> 8024.9 | F33: 8024.9
C34: Հ-7, /Հ-5/ - Կարենիս - Չարենցավան /Հ-1/ (Ֆանտան)հանրապետական նշանակության ավտոճանապարհի կմ7+580 - կմ10+200 հատվածի հիմնանորոգում | D34: =+E34+F34+G34+H34 -> -10343 | F34: -10343
C35: Հ-15, /Մ-5/(Նորապատ) -Արգավանդ –/Մ-3/ (Վարդանաշեն) հանրապետական նշանակության ավտոճանապարհի կմ0+000 - կմ3+000 հատվածի հիմնանորոգում | D35: =+E35+F35+G35+H35 -> -1166.7 | F35: -1166.7
C36: Հ-21, /Հ-75/ - Հոռոմ-Արթիկ-Ալագյազ հանրապետական նշանակության ավտոճանապարհի կմ29+600 - կմ32+700 հատվածի հիմնանորոգում | D36: =+E36+F36+G36+H36 -> -20578.8 | F36: -20578.8
C37: Հ-28,/Հ-55/ - Ջրառատ – Մեղրաձոր - Հանքավան հանրապետական նշանակության ավտոճանապարհի կմ 17+000-կմ 19+000 հատվածի հիմնանորոգում | D37: =+E37+F37+G37+H37 -> -338.8 | F37: -338.8
C38: Հ-29,Սևան - Ծաղկունք – Զովաբեր հանրապետական նշանակության ավտոճանապարհի կմ 0+000-կմ 18+200 հատվածի հիմնորոգում (բացառությամբ կմ 11+000-կմ 12+000 հատվածի) | D38: =+E38+F38+G38+H38 -> 102925.7 | F38: 102925.7
C39: Հ-30, /Մ-4/ - Ճամբարակ- /Հ-7/ հանրապետական նշանակության ավտոճանապարհի կմ 13+000-կմ38+000 հատվածում քարաթափման աշխատանքների իրականացում | D39: =+E39+F39+G39+H39 -> 1237.5 | G39: 1237.5
C40: Հ-36, /Մ-4/ (Իջևան) - Նավուր - Բերդ - Այգեպար հանրապետական նշանակության ավտոճանապարհի կմ 5+600-կմ 42+100 հատվածի հիմնանորոգում | D40: =+E40+F40+G40+H40 -> -21916.2 | F40: -21916.2
C41: Հ38,/Հ-30/ (Թթուջուր) – /Հ-36/ (Նավուր) հանրապետական նշանակության ավտոճանապարհի կմ15+100 - կմ40+100 հատվածի հիմնանորոգում | D41: =+E41+F41+G41+H41 -> -19533.4 | F41: -19533.4
...

Sheet Հ3
G1: Հավելված N 3
G2: ՀՀ կառավարության 2024 թվականի
G3: ______________ ի ___Ն որոշման
A5: ՀԱՅԱՍՏԱՆԻ ՀԱՆՐԱՊԵՏՈՒԹՅԱՆ ԿԱՌԱՎԱՐՈՒԹՅԱՆ 2023 ԹՎԱԿԱՆԻ ԴԵԿՏԵՄԲԵՐԻ 28-Ի N 2323-Ն ՈՐՈՇՄԱՆ N 3 ԵՎ N 4 ՀԱՎԵԼՎԱԾՆԵՐՈՒՄ ԿԱՏԱՐՎՈՂ ՓՈՓՈԽՈՒԹՅՈՒՆՆԵՐԸ ԵՎ ԼՐԱՑՈՒՄՆԵՐԸ
G7: հազ. դրամ
A8: Գործառական դասիչը | D8: Ծրագրային դասիչը | F8: Բյուջետային հատկացումների գլխավոր կարգադրիչների, ծրագրերի, միջոցառումների և միջոցառումները կատարող պետական մարմինների անվանումները | G8: Ցուցանիշների փոփոխությունը (ավելացումները նշված են դրական նշանով, իսկ նվազեցումները` փակագծերում)
A9: Բաժին | B9: Խումբ | C9: Դաս | D9: Ծրագիր | E9: Միջոցառում | G9: Տարի
F10: ԸՆԴԱՄԵՆԸ | G10: =+G12 -> 0
F11: այդ թվում
F12: ՀՀ տարածքային կառավարման և ենթակառուցվածքների նախարարություն | G12: =+G13 -> 0
A13: 04 | F13: ՏՆՏԵՍԱԿԱՆ ՀԱՐԱԲԵՐՈՒԹՅՈՒՆՆԵՐ | G13: =G15+G34 -> 0
F14: այդ թվում`
B15: 02 | F15: Գյուղատնտեսություն, անտառային տնտեսություն, ձկնորսություն և որսորդություն | G15: =G17 -> -900803
F16: այդ թվում`
C17: 04 | F17: Ոռոգում | G17: =+G19 -> -900803
F18: այդ թվում`
F19: ՀՀ տարածքային կառավարման և ենթակառուցվածքների նախարարություն | G19: =+G21 -> -900803
F20: այդ թվում`
D21: 1004 | F21: Ոռոգման համակարգի առողջացում | G21: =+G23 -> -900803
F22: այդ թվում`
E23: 31013 | F23: Փոքր և միջին ջրամբարների կառուցում | G23: =G25 -> -900803
F24: այդ թվում` ըստ կատարողների
F25: ՀՀ տարածքային կառավարման և ենթակառուցվածքների նախարարության ջրային կոմիտե | G25: =G27 -> -900803
F26: այդ թվում` բյուջետային ծախսերի տնտեսագիտական դասակարգման հոդվածներ
F27: ԸՆԴԱՄԵՆԸ ԾԱԽՍԵՐ | G27: =+G28 -> -900803
F28: ՈՉ ՖԻՆԱՆՍԱԿԱՆ ԱԿՏԻՎՆԵՐԻ ԳԾՈՎ ԾԱԽՍԵՐ | G28: =G29 -> -900803
F29: ՀԻՄՆԱԿԱՆ ՄԻՋՈՑՆԵՐ | G29: =G30+G32 -> -900803
F30: ՇԵՆՔԵՐ ԵՎ ՇԻՆՈՒԹՅՈՒՆՆԵՐ | G30: =G31 -> -77529.3
F31: - Շենքերի և շինությունների շինարարություն | G31: =Հ2!E14 -> -77529.3
F32: ԱՅԼ ՀԻՄՆԱԿԱՆ ՄԻՋՈՑՆԵՐ | G32: =G33 -> -823273.7
F33: - Նախագծահետազոտական ծախսեր | G33: =Հ2!G14 -> -823273.7
B34: 05 | F34: Տրանսպորտ | G34: =G36 -> 900803
F35: այդ թվում`
C36: 01 | F36: Ճանապարհային տրանսպորտ | G36: =+G38 -> 900803
F37: այդ թվում`
F38: ՀՀ տարածքային կառավարման և ենթակառուցվածքների նախարարություն | G38: =+G40 -> 900803
F39: այդ թվում`
D40: 1049 | F40: Ճանապարհային ցանցի բարելավում | G40: =+G42+G53 -> 900803
F41: այդ թվում`
E42: =Հ2!B15 -> 21001 | F42: =Հ2!C15 -> Պետական նշանակության ավտոճանապարհների հիմնանորոգում | G42: =G44 -> 766432.7
...

Sheet Հ4
E1: Հավելված 4
E2: ՀՀ կառավարության 2024 թվականի
E3: ______________ ի ___Ն որոշման
A5: ՀԱՅԱՍՏԱՆԻ ՀԱՆՐԱՊԵՏՈՒԹՅԱՆ ԿԱՌԱՎԱՐՈՒԹՅԱՆ 2023 ԹՎԱԿԱՆԻ ԴԵԿՏԵՄԲԵՐԻ 28-Ի N 2323-Ն ՈՐՈՇՄԱՆ N 5 ՀԱՎԵԼՎԱԾԻ N 2 ԱՂՅՈՒՍԱԿՈՒՄ ԿԱՏԱՐՎՈՂ ՓՈՓՈԽՈՒԹՅՈՒՆՆԵՐԸ ԵՎ ԼՐԱՑՈՒՄՆԵՐԸ
E7: հազ․ դրամ
B8: Ծրագրային դասիչը | D8: Հատկացումների տրամադրման նպատակները և բյուջետային գլխավոր կարգադրիչների, ծրագրերի, միջոցառումների և կատարող պետական մարմնի անվանումները | E8: Ցուցանիշների փոփոխությունը (ավելացումները նշված են դրական նշանով, իսկ նվազեցումները` փակագծերում)
B9: Ծրագիր | C9: Միջոցառում | E9: Տարի
D10: ԸՆԴԱՄԵՆԸ | E10: =+E12 -> 0
D11: այդ թվում՝
D12: ՀՀ ՏԱՐԱԾՔԱՅԻՆ ԿԱՌԱՎԱՐՄԱՆ ԵՎ ԵՆԹԱԿԱՌՈՒՑՎԱԾՔՆԵՐԻ ՆԱԽԱՐԱՐՈՒԹՅՈՒՆ | E12: =+E17+E63+E14 -> 0
D13: այդ թվում`
B14: =Հ2!A14 -> 1004 | C14: =Հ2!B14 -> 31013 | D14: =Հ2!C14 -> Փոքր և միջին ջրամբարների կառուցում | E14: =E16 -> -900803
D15: այդ թվում` ըստ կատարողների
D16: ՀՀ տարածքային կառավարման և ենթակառուցվածքների նախարարության ջրային կոմիտե | E16: =Հ2!D14 -> -900803
B17: 1049 | C17: 21001 | D17: Պետական նշանակության ավտոճանապարհների հիմնանորոգում | E17: =E19 -> 766432.7
D18: այդ թվում` ըստ կատարողների
D19: ՀՀ տարածքային կառավարման և ենթակառուցվածքների նախարարություն | E19: =E21+E35+E49 -> 766432.7
D20: այդ թվում՝ ըստ ուղղությունների
C21: 1 | D21: =Հ2!C17 -> Միջպետական նշանակության ավտոճանապարհներ, այդ թվում | E21: =SUM(E22:E34) -> -2330402
D22: =Հ2!C18 -> Մ-1, Երևան-Գյումրի-ՀՀ սահման միջպետական նշանակության ավտոճանապարհի կմ160+200-կմ171+700 հատվածի հիմնանորոգում | E22: =Հ2!D18 -> -1245.9
D23: =Հ2!C19 -> Մ-2, Երևան-Երասխ-Գորիս-ՄեղրիՀՀ սահման միջպետական նշանակության ավտոճանապարհի կմ142+000 - կմ150+700 հատվածի հիմնանորոգում | E23: =Հ2!D19 -> 112059.3
D24: =Հ2!C20 -> Մ-2, Երևան-Երասխ-Գորիս-Մեղրի-ՀՀ սահման միջպետական նշանակության ավտոճանապարհի կմ182+532 - կմ190+000 հատվածի հիմնանորոգում | E24: =Հ2!D20 -> -13761.4
D25: =Հ2!C21 -> Մ-2, Երևան-Երասխ-Գորիս-Մեղրի-ՀՀ սահման միջպետական նշանակության ավտոճանապարհի կմ297+800-կմ311+250 հատվածի հիմնանորոգման աշխատանքների (1-ին տեղամաս՝ կմ297+800-կմ301+820 հատված) | E25: =Հ2!D21 -> -40876.6
D26: =Հ2!C22 -> Մ-2, Երևան-Երասխ-Գորիս-Մեղրի-ՀՀ սահման միջպետական նշանակության ավտոճանապարհի կմ297+800-կմ311+250 հատվածի հիմնանորոգման աշխատանքների (2-րդ տեղամաս՝ կմ301+820 - կմ311+250 հատված) | E26: =Հ2!D22 -> -65766.3
D27: =Հ2!C23 -> Մ-3, ՀՀ սահման-Մարգարա-Վանաձոր-Տաշիր-ՀՀ սահման միջպետական նշանակության ավտոճանապարհի կմ35+535-կմ39+500 հատվածի հիմնանորոգում | E27: =Հ2!D23 -> 164500
D28: =Հ2!C24 -> Մ-4, Երևան-Սևան-Իջևան-ՀՀ սահման միջպետական նշանակության ավտոճանապարհի Դիլիջանից մինչև Հ-30 ավտոճանապարհի հետ հատման կետ հատվածում ջրհեղեղի հետևանքով ողողված և փլուզված թվով 10 տեղամասերի վերակառուցում | E28: =Հ2!D24 -> 2410
D29: =Հ2!C25 -> Մ-5, Երևան - Արմավիր - ՀՀ սահման միջպետական նշանակության ավտոճանապարհի կմ17+530-կմ18+200, կմ25+593 - կմ29+385 և կմ32+675 - կմ33+833 աջակողմյան և ձախակողմյան հատվածների հիմնանորոգում և Մ-5 Երևան-Արմավիր-ՀՀ սահման ա/ճ-ի կմ 35+457 - կմ 37+054 հատվածի ջրահեռացման համակարգի վերականգնում | E29: =Հ2!D25 -> -1930
D30: =Հ2!C26 -> Մ-10, Սևան-Մարտունի-Գետափ միջպետական նշանակության ավտոճանապարհի կմ79+060-կմ80+590 հատվածի վերակառուցում | E30: =Հ2!D26 -> 71778.8
D31: =Հ2!C27 -> Մ-11, Մարտունի - Վարդենիս - ՀՀ սահման միջպետական նշանակության ավտոճանապարհի կմ25+500-կմ29+200 հատվածի հիմնանորոգում | E31: =Հ2!D27 -> -2513546.1
D32: =Հ2!C28 -> Մ-14, Մ-4-Շորժա-Վարդենիս միջպետական նշանակության ավտոճանապարհի կմ72+800 - կմ78+100 հատվածի հիմնանորոգում | E32: =Հ2!D28 -> -24958.6
D33: =Հ2!C29 -> Մ-15, /Մ-4/ (Վերին Պտղնի) - Մասիսի տրանսպորտային հանգույց (Երևանի շրջանց) միջպետական նշանակության ավտոճանապարհի կմ0+000-կմ8+200 հատվածի հիմնանորոգում | E33: =Հ2!D29 -> -17712.7
D34: =Հ2!C30 -> Մ-15, /Մ-4/ (Վերին Պտղնի) - Մասիսի տրանսպորտային հանգույց (Երևանի շրջանց) միջպետական նշանակության ավտոճանապարհի կմ19+900-կմ29+400 հատվածի հիմնանորոգում | E34: =Հ2!D30 -> -1352.5
C35: 2 | D35: =Հ2!C31 -> Հանրապետական նշանակության ավտոճանապարհներ, այդ թվում | E35: =SUM(E36:E48) -> 1002182.7
D36: =Հ2!C32 -> Հ-3, Երևան (Ջրաշխարհ, Մ-4-ի հետ հատման տեղ)-Գառնի –Գեղարդի վանք հանրապետական նշանակության ավտոճանապարհի կմ33+500-կմ38+100 հատվածի հիմնանորոգում | E36: =Հ2!D32 -> -4309.2
D37: =Հ2!C33 -> Հ-4, Երևան - եղվարդ - Արագյուղ - Հարթավան - /Մ-3/ հանրապետական նշանակության ավտոճանապարհի կմ33+500 - կմ34+800 հատվածի (Երնջատափ գյուղը շրջանցող հատված) հիմնանորոգում | E37: =Հ2!D33 -> 8024.9
D38: =Հ2!C34 -> Հ-7, /Հ-5/ - Կարենիս - Չարենցավան /Հ-1/ (Ֆանտան)հանրապետական նշանակության ավտոճանապարհի կմ7+580 - կմ10+200 հատվածի հիմնանորոգում | E38: =Հ2!D34 -> -10343
D39: =Հ2!C35 -> Հ-15, /Մ-5/(Նորապատ) -Արգավանդ –/Մ-3/ (Վարդանաշեն) հանրապետական նշանակության ավտոճանապարհի կմ0+000 - կմ3+000 հատվածի հիմնանորոգում | E39: =Հ2!D35 -> -1166.7
D40: =Հ2!C36 -> Հ-21, /Հ-75/ - Հոռոմ-Արթիկ-Ալագյազ հանրապետական նշանակության ավտոճանապարհի կմ29+600 - կմ32+700 հատվածի հիմնանորոգում | E40: =Հ2!D36 -> -20578.8
D41: =Հ2!C37 -> Հ-28,/Հ-55/ - Ջրառատ – Մեղրաձոր - Հանքավան հանրապետական նշանակության ավտոճանապարհի կմ 17+000-կմ 19+000 հատվածի հիմնանորոգում | E41: =Հ2!D37 -> -338.8
D42: =Հ2!C38 -> Հ-29,Սևան - Ծաղկունք – Զովաբեր հանրապետական նշանակության ավտոճանապարհի կմ 0+000-կմ 18+200 հատվածի հիմնորոգում (բացառությամբ կմ 11+000-կմ 12+000 հատվածի) | E42: =Հ2!D38 -> 102925.7
...

Sheet Հ5
D1: Հավելված N 5
D2: ՀՀ կառավարության 2024 թվականի
D3: ______________ ի ___Ն որոշման
B5: ՀԱՅԱՍՏԱՆԻ ՀԱՆՐԱՊԵՏՈՒԹՅԱՆ ԿԱՌԱՎԱՐՈՒԹՅԱՆ 2023 ԹՎԱԿԱՆԻ ԴԵԿՏԵՄԲԵՐԻ 28-Ի N 2323-Ն ՈՐՈՇՄԱՆ N 9 ՀԱՎԵԼՎԱԾԻ NN 9.7 ԱՂՅՈՒՍԱԿՈՒՄ ԿԱՏԱՐՎՈՂ ՓՈՓՈԽՈՒԹՅՈՒՆՆԵՐԸ ԵՎ ԼՐԱՑՈՒՄՆԵՐԸ
D7: Աղյուսակ 9.7
B8: ՀՀ տարածքային կառավարման և ենթակառուցվածքների նախարարություն
B9: ՄԱՍ 2. ՊԵՏԱԿԱՆ ՄԱՐՄՆԻ ԳԾՈՎ ԱՐԴՅՈՒՆՔԱՅԻՆ (ԿԱՏԱՐՈՂԱԿԱՆ) ՑՈՒՑԱՆԻՇՆԵՐԸ
B11: Ծրագրի դասիչը | C11: Ծրագրի անվանումը
B12: 1004 | C12: ='Հ1 '!D13 -> Ոռոգման համակարգի առողջացում
B15: Ծրագրի դասիչը` | C15: 1004 | D15: Ցուցանիշների փոփոխությունը (նվազեցումները նշված են փակագծերում)
B16: Միջոցառման դասիչը` | C16: 31013 | D16: Տարի
B17: Միջոցառման անվանումը` | C17: ='Հ1 '!D19 -> Փոքր և միջին ջրամբարների կառուցում
B18: Նկարագրությունը` | C18: ='Հ1 '!D21 -> Փոքր և միջին ջրամբարների կառուցման աշխատանքներ
B19: Միջոցառման տեսակը` | C19: ='Հ1 '!D23 -> Պետական մարմինների կողմից օգտագործվող ոչ ֆինանսական ակտիվների հետ գործառնություններ
B20: Ակտիվն օգտագործող կազմակերպության(ների) անվանում(ները)՛ | C20: ՀՀ ՏԿԵՆ ջրային կոմիտե
B21: Արդյունքի չափորոշիչներ
B22: Միջոցառման վրա կատարվող ծախսը (հազար դրամ) | D22: ='Հ1 '!E19 -> -900803
B24: Ծրագրի դասիչը | C24: Ծրագրի անվանումը
B25: 1049 | C25: Ճանապարհային ցանցի բարելավում
B27: Ծրագրի միջոցառումները
B28: Ծրագրի դասիչը` | C28: 1049 | D28: Ցուցանիշների փոփոխությունը (ավելացումները նշված են դրական նշանով, իսկ նվազեցումները` փակագծերում)
B29: Միջոցառման դասիչը` | C29: 21001 | D29: Տարի
B30: Միջոցառման անվանումը` | C30: Պետական նշանակության ավտոճանապարհների հիմնանորոգում
B31: Նկարագրությունը` | C31: Միջպետական, հանրապետական և մարզային նշանակության ավտոճոնապարհների քայքայված ծածկի վերանորոգում, մաշված ծածկի փոխարինում
B32: Միջոցառման տեսակը` | C32: Հանրության կողմից անմիջականորեն օգտագործվող ակտիվների հետ կապված միջոցառումներ
B33: Միջոցառումն իրականացնողի անվանումը | C33: Մասնագիտացված միավոր
B34: Արդյունքի չափորոշիչներ
B35: Միջպետական նշանակության ավտոճանապարհներ, կմ | D35: -2.1
B36: Հանրապետական նշանակության ավտոճանապարհներ,կմ | D36: 8
B37: Մարզային նշանակության ավտոճանապարհներ,կմ | D37: 6.4
B38: Միջոցառման վրա կատարվող ծախսը (հազար դրամ) | D38: =Հ3!G42 -> 766432.7
B40: Ծրագրի դասիչը` | C40: 1049 | D40: Ցուցանիշների փոփոխությունը (ավելացումները նշված են դրական նշանով)
B41: Միջոցառման դասիչը` | C41: 21002 | D41: Տարի
B42: Միջոցառման անվանումը` | C42: Տրանսպորտային օբյեկտների հիմնանորոգում
B43: Նկարագրությունը` | C43: Ավտոմոբիլային ճանապարհների վրա գտնվող կամուրջների հիմնանորոգում
B44: Միջոցառման տեսակը` | C44: Հանրության կողմից անմիջականորեն օգտագործվող ակտիվների հետ կապված միջոցառումներ
B45: Միջոցառումն իրականացնողի անվանումը | C45: Մասնագիտացված միավոր
B46: Արդյունքի չափորոշիչներ
B47: Հիմնանորոգվող տրանսպորտային օբյեկտների թիվը, այդ թվում՜ | D47: =D48 -> 3
B48: Կամուրջներ, այդ թվում աշխատանքներ և ծառայություններ՝ | D48: =D49 -> 3
...

Sheet Հ6
D1: Հավելված N 6
D2: ՀՀ կառավարության 2024 թվականի
D3: ______________ ի ___Ն որոշման
B5: ՀԱՅԱՍՏԱՆԻ ՀԱՆՐԱՊԵՏՈՒԹՅԱՆ ԿԱՌԱՎԱՐՈՒԹՅԱՆ 2023 ԹՎԱԿԱՆԻ ԴԵԿՏԵՄԲԵՐԻ 28-Ի N 2323-Ն ՈՐՈՇՄԱՆ N 9.1 ՀԱՎԵԼՎԱԾԻ NN 9.1.7 ԵՎ 9.1.25 ԱՂՅՈՒՍԱԿՆԵՐՈՒՄ ԿԱՏԱՐՎՈՂ ՓՈՓՈԽՈՒԹՅՈՒՆՆԵՐԸ ԵՎ ԼՐԱՑՈՒՄՆԵՐԸ
D7: Աղյուսակ 9.1.25
B8: ՀՀ տարածքային կառավարման և ենթակառուցվածքների նախարարության ջրային կոմիտե
B9: ՄԱՍ 1. ՊԵՏԱԿԱՆ ՄԱՐՄՆԻ ԳԾՈՎ ԱՐԴՅՈՒՆՔԱՅԻՆ (ԿԱՏԱՐՈՂԱԿԱՆ) ՑՈՒՑԱՆԻՇՆԵՐԸ
B11: Ծրագրի դասիչը | C11: Ծրագրի անվանումը
B12: 1004 | C12: ='Հ1 '!D13 -> Ոռոգման համակարգի առողջացում
B15: Ծրագրի դասիչը` | C15: 1004 | D15: Ցուցանիշների փոփոխությունը (նվազեցումները նշված են փակագծերում)
B16: Միջոցառման դասիչը` | C16: 31013 | D16: Տարի
B17: Միջոցառման անվանումը` | C17: ='Հ1 '!D19 -> Փոքր և միջին ջրամբարների կառուցում
B18: Նկարագրությունը` | C18: ='Հ1 '!D21 -> Փոքր և միջին ջրամբարների կառուցման աշխատանքներ
B19: Միջոցառման տեսակը` | C19: ='Հ1 '!D23 -> Պետական մարմինների կողմից օգտագործվող ոչ ֆինանսական ակտիվների հետ գործառնություններ
B20: Ակտիվն օգտագործող կազմակերպության(ների) անվանում(ները)՛ | C20: ՀՀ ՏԿԵՆ ջրային կոմիտե
B21: Արդյունքի չափորոշիչներ
B22: Միջոցառման վրա կատարվող ծախսը (հազար դրամ) | D22: ='Հ1 '!E19 -> -900803
D24: Աղյուսակ 9.1.7
B25: ՀՀ տարածքային կառավարման և ենթակառուցվածքների նախարարություն
B26: ՄԱՍ 1. ՊԵՏԱԿԱՆ ՄԱՐՄՆԻ ԳԾՈՎ ԱՐԴՅՈՒՆՔԱՅԻՆ (ԿԱՏԱՐՈՂԱԿԱՆ) ՑՈՒՑԱՆԻՇՆԵՐԸ
B28: Ծրագրի դասիչը | C28: Ծրագրի անվանումը
B29: 1049 | C29: Ճանապարհային ցանցի բարելավում
B31: Ծրագրի միջոցառումները
B32: Ծրագրի դասիչը` | C32: 1049 | D32: Ցուցանիշների փոփոխությունը (ավելացումները նշված են դրական նշանով, իսկ նվազեցումները` փակագծերում)
B33: Միջոցառման դասիչը` | C33: 21001 | D33: Տարի
B34: Միջոցառման անվանումը` | C34: Պետական նշանակության ավտոճանապարհների հիմնանորոգում
B35: Նկարագրությունը` | C35: Միջպետական, հանրապետական և մարզային նշանակության ավտոճոնապարհների քայքայված ծածկի վերանորոգում, մաշված ծածկի փոխարինում
B36: Միջոցառման տեսակը` | C36: Հանրության կողմից անմիջականորեն օգտագործվող ակտիվների հետ կապված միջոցառումներ
B37: Միջոցառումն իրականացնողի անվանումը | C37: Մասնագիտացված միավոր
B38: Արդյունքի չափորոշիչներ
B39: Միջպետական նշանակության ավտոճանապարհներ, կմ | D39: =Հ5!D35 -> -2.1
B40: Հանրապետական նշանակության ավտոճանապարհներ,կմ | D40: =Հ5!D36 -> 8
B41: Մարզային նշանակության ավտոճանապարհներ,կմ | D41: =Հ5!D37 -> 6.4
B42: Միջոցառման վրա կատարվող ծախսը (հազար դրամ) | D42: =Հ3!G44 -> 766432.7
B44: Ծրագրի դասիչը` | C44: 1049 | D44: Ցուցանիշների փոփոխությունը (ավելացումները նշված են դրական նշանով)
B45: Միջոցառման դասիչը` | C45: =Հ5!C41 -> 21002 | D45: Տարի
B46: Միջոցառման անվանումը` | C46: =Հ5!C42 -> Տրանսպորտային օբյեկտների հիմնանորոգում
B47: Նկարագրությունը` | C47: =Հ5!C43 -> Ավտոմոբիլային ճանապարհների վրա գտնվող կամուրջների հիմնանորոգում
B48: Միջոցառման տեսակը` | C48: =Հ5!C44 -> Հանրության կողմից անմիջականորեն օգտագործվող ակտիվների հետ կապված միջոցառումներ
B49: Միջոցառումն իրականացնողի անվանումը | C49: =Հ5!C45 -> Մասնագիտացված միավոր
...

Sheet Հ7
H1: Հավելված N 7
H2: ՀՀ կառավարության 2024 թվականի
H3: ______________ ի ___Ն որոշման
B5: ՀԱՅԱՍՏԱՆԻ ՀԱՆՐԱՊԵՏՈՒԹՅԱՆ ԿԱՌԱՎԱՐՈՒԹՅԱՆ 2023 ԹՎԱԿԱՆԻ ԴԵԿՏԵՄԲԵՐԻ 28-Ի N 2323-Ն ՈՐՈՇՄԱՆ N 10 ՀԱՎԵԼՎԱԾՈՒՄ ԿԱՏԱՐՎՈՂ ԼՐԱՑՈՒՄՆԵՐԸ
B6: Կոդը | C6: Անվանումը | D6: Գնման ձևը | E6: Չափման միավորը | F6: Միավորի գինը | G6: Ցուցանիշների փոփոխությունը (ավելացումները նշված են դրական նշանով)
G7: Քանակը | H7: Գումարը (հազար դրամով)
B8: ՀՀ տարածքային կառավարման և ենթակառուցվածքների նախարարություն | H8: =+H9 -> 780717.27
B9: Բաժին N 04 | C9: Խումբ N 05 | D9: Դաս N 01 | E9: Ճանապարհային տրանսպորտ | H9: =+H10+H72 -> 780717.27
B10: 1049 21001 | C10: Պետական նշանակության ավտոճանապարհների հիմնանորոգում | H10: =SUM(H11+H47) -> 646347.1
B11: ՄԱՍ II. ԱՇԽԱՏԱՆՔՆԵՐ | H11: =SUM(H12:H46) -> 603190.28
B12: 45231177/1 | C12: ճանապարհների վերանորոգման աշխատանքներ | D12: ԲՄ | E12: դրամ | H12: -1245.999
B13: 45231177/86 | C13: ճանապարհների վերանորոգման աշխատանքներ | D13: ԲՄ | E13: դրամ | H13: -13761.412
B14: 45231177/56 | C14: ճանապարհների վերանորոգման աշխատանքներ | D14: ՀԲՄ | E14: դրամ | H14: -40876.65
B15: 45231177/2 | C15: ճանապարհների վերանորոգման աշխատանքներ | D15: ՀԲՄ | E15: դրամ | H15: -65766.385
B16: 45231177 /615 | C16: ճանապարհների վերանորոգման աշխատանքներ | D16: ԲՄ | E16: դրամ | F16: 164500000 | G16: 1 | H16: =+G16*F16/1000 -> 164500
B17: 45231177 /44 | C17: ճանապարհների վերանորոգման աշխատանքներ | D17: ՀԲՄ | E17: դրամ | H17: -1930.035
B18: 45231177 /585 | C18: ճանապարհների վերանորոգման աշխատանքներ | D18: ԲՄ | E18: դրամ | F18: 70710803 | G18: 1 | H18: =+G18*F18/1000 -> 70710.803
B19: 45231177 /7 | C19: ճանապարհների վերանորոգման աշխատանքներ | D19: ԲՄ | E19: դրամ | H19: -2491000
B20: 45231177 /543 | C20: ճանապարհների վերանորոգման աշխատանքներ | D20: ԲՄ | E20: դրամ | H20: -24958.68
B21: 45231177 /10 | C21: ճանապարհների վերանորոգման աշխատանքներ | D21: ՀԲՄ | E21: դրամ | H21: -17712.721
B22: 45231177 /11 | C22: ճանապարհների վերանորոգման աշխատանքներ | D22: ՀԲՄ | E22: դրամ | H22: -1352.536
B23: 45231177 /76 | C23: ճանապարհների վերանորոգման աշխատանքներ | D23: ԲՄ | E23: դրամ | H23: -4309.215
B24: 45231177 /49 | C24: ճանապարհների վերանորոգման աշխատանքներ | D24: ԲՄ | E24: դրամ | H24: -10343.025
B25: 45231177 /13 | C25: ճանապարհների վերանորոգման աշխատանքներ | D25: ԲՄ | E25: դրամ | H25: -1166.7
B26: 45231177 /655 | C26: ճանապարհների վերանորոգման աշխատանքներ | D26: ՀԲՄ | E26: դրամ | H26: -20578.875
B27: 45231177 /583 | C27: ճանապարհների վերանորոգման աշխատանքներ | D27: ԲՄ | E27: դրամ | F27: 101606000 | G27: 1 | H27: =+G27*F27/1000 -> 101606
B28: 45231177 /61 | C28: ճանապարհների վերանորոգման աշխատանքներ | D28: ԲՄ | E28: դրամ | H28: -338.858
B29: 45231177 /537 | C29: ճանապարհների վերանորոգման աշխատանքներ | D29: ՀԲՄ | E29: դրամ | H29: -21916.284
B30: 45231177 /18 | C30: ճանապարհների վերանորոգման աշխատանքներ | D30: ՀԲՄ | E30: դրամ | H30: -19533.41
B31: 45231177 /69 | C31: ճանապարհների վերանորոգման աշխատանքներ | D31: ՀԲՄ | E31: դրամ | F31: 1000000000 | G31: 1 | H31: =+G31*F31/1000 -> 1000000
B32: 45231177 /48 | C32: ճանապարհների վերանորոգման աշխատանքներ | D32: ՀԲՄ | E32: դրամ | H32: -44761.464
B33: 45231177 /79 | C33: ճանապարհների վերանորոգման աշխատանքներ | D33: ՀԲՄ | E33: դրամ | H33: -14729.714
B34: 45231177 /653 | C34: ճանապարհների վերանորոգման աշխատանքներ | D34: ՀԲՄ | E34: դրամ | F34: 39041265 | G34: 1 | H34: =+G34*F34/1000 -> 39041.265
B35: 45231177 /581 | C35: ճանապարհների վերանորոգման աշխատանքներ | D35: ԲՄ | E35: դրամ | F35: 59841347 | G35: 1 | H35: =+G35*F35/1000 -> 59841.347
B36: 45231177 /23 | C36: ճանապարհների վերանորոգման աշխատանքներ | D36: ՀԲՄ | E36: դրամ | H36: -3792.037
B37: 45231177 /55 | C37: ճանապարհների վերանորոգման աշխատանքներ | D37: ՀԲՄ | E37: դրամ | H37: -12520.644
B38: 45231177 /53 | C38: ճանապարհների վերանորոգման աշխատանքներ | D38: ՀԲՄ | E38: դրամ | H38: -14978.742
B39: 45231177 /639 | C39: ճանապարհների վերանորոգման աշխատանքներ | D39: ՀԲՄ | E39: դրամ | H39: -5009.885
B40: 45231177 /640 | C40: ճանապարհների վերանորոգման աշխատանքներ | D40: ՀԲՄ | E40: դրամ | H40: -1566.903
B41: 45231177 /75 | C41: ճանապարհների վերանորոգման աշխատանքներ | D41: ՀԲՄ | E41: դրամ | F41: 200000000 | G41: 1 | H41: =+G41*F41/1000 -> 200000
...
