Workbook
Name AgencyCode: #REF!
Name AgencyCode: #REF!
Name AgencyCode: #REF!
Name AgencyCode: #REF!
Name AgencyCode: #REF!
Name AgencyCode: #REF!
Name AgencyCode: #REF!
Name AgencyName: #REF!
Name AgencyName: #REF!
Name AgencyName: #REF!
Name AgencyName: #REF!
Name AgencyName: #REF!
Name åû: #REF!
Name åû: #REF!
Name åû: #REF!
Name davit: #REF!
Name davit: #REF!
Name davit: #REF!
Name Functional1: #REF!
Name Functional1: #REF!
Name Functional1: #REF!
Name Functional1: #REF!
Name Functional1: #REF!
Name ggg: #REF!
Name ggg: #REF!
Name ggg: #REF!
Name mas: #REF!
Name mas: #REF!
Name mas: #REF!
Name mass: #REF!
Name mass: #REF!
Name mass: #REF!
Name PANature: #REF!
Name PANature: #REF!
Name PANature: #REF!
Name PANature: #REF!
Name PANature: #REF!
Name PAType: #REF!
Name PAType: #REF!
Name PAType: #REF!
Name PAType: #REF!
Name PAType: #REF!
Name Performance2: #REF!
Name Performance2: #REF!
Name Performance2: #REF!
Name Performance2: #REF!
Name Performance2: #REF!
Name PerformanceType: #REF!
Name PerformanceType: #REF!
Name PerformanceType: #REF!
Name PerformanceType: #REF!
Name PerformanceType: #REF!
Name x: #REF!
Name x: #REF!
Name x: #REF!
Name Հավելված: #REF!
Name Հավելված: #REF!
Name Հավելված: #REF!
Name Հավելված: #REF!
Name Հավելված: #REF!

Sheet Հ1 
F1: Հավելված N 1
F2: ՀՀ կառավարության 2024 թվականի
F3: ______________ ի ___Ն որոշման
B5: «ՀԱՅԱUՏԱՆԻ ՀԱՆՐԱՊԵՏՈՒԹՅԱՆ 2024 ԹՎԱԿԱՆԻ ՊԵՏԱԿԱՆ ԲՅՈՒՋԵԻ ՄԱUԻՆ» OՐԵՆՔԻ N 1 ՀԱՎԵԼՎԱԾԻ N 2 ԱՂՅՈՒՍԱԿՈՒՄ ԿԱՏԱՐՎՈՂ ՎԵՐԱԲԱՇԽՈՒՄԸ ԵՎ ՀԱՅԱՍՏԱՆԻ ՀԱՆՐԱՊԵՏՈՒԹՅԱՆ ԿԱՌԱՎԱՐՈՒԹՅԱՆ 2023 ԹՎԱԿԱՆԻ ԴԵԿՏԵՄԲԵՐԻ 28-Ի N 2323-Ն ՈՐՈՇՄԱՆ N 5 ՀԱՎԵԼՎԱԾԻ N 1 ԱՂՅՈՒՍԱԿՈՒՄ ԿԱՏԱՐՎՈՂ ՓՈՓՈԽՈՒԹՅՈՒՆՆԵՐԸ
E6: հազ. դրամ
B7: Ծրագրային դասիչը | D7: Բյուջետային հատկացումների գլխավոր կարգադրիչների, ծրագրերի և միջոցառումների անվանումները | E7: Ցուցանիշների փոփոխությունը (ավելացումները նշված են դրական նշանով, իսկ նվազեցումները` փակագծերում)
B8: Ծրագիր | C8: Միջոցառում | E8: Տարի
B9: 1192 | D9: ԸՆԴԱՄԵՆԸ | E9: =+E11 -> 0
D10: այդ թվում
C11: ՀՀ տարածքային կառավարման և ենթակառուցվածքների նախարարություն | E11: =E13+E25 -> 0
B12: 1004 | D12: Ծրագրի անվանումը`
D13: Ոռոգման համակարգի առողջացում | E13: =E19 -> -900803
D14: Ծրագրի նպատակը`
D15: Ոռոգման ծառայությունների հասանելիության և մատչելիության ապահովում
D16: Վերջնական արդյունքի նկարագրությունը`
D17: Ոռոգման ջրի մատակարարման արդյունավետության և հասանելիության բարելավում, կորուստների կրճատում
C18: 31013 | D18: Միջոցառման անվանումը`
D19: Փոքր և միջին ջրամբարների կառուցում | E19: =Հ3!G23 -> -900803
D20: Միջոցառման նկարագրությունը`
D21: Փոքր և միջին ջրամբարների կառուցման աշխատանքներ
D22: Միջոցառման տեսակը
D23: Պետական մարմինների կողմից օգտագործվող ոչ ֆինանսական ակտիվների հետ գործառնություններ
B24: 1049 | D24: Ծրագրի անվանումը`
D25: Ճանապարհային ցանցի բարելավում | E25: =+E32+E38 -> 900803
D26: Ծրագրի նպատակը`
D27: Ճանապարհային ցանցի բարելավում և անվտանգ երթևեկության ապահովում
D28: Վերջնական արդյունքի նկարագրությունը`
D29: Ճանապարհների ծածկի որակի և փոխադրումների արդյունավետության բարելավում, ճանապարհների վիճակով պայմանավորված պատահարների նվազում
C30: Ծրագրի միջոցառումներ
C31: 21001 | D31: Միջոցառման անվանումը`
D32: Պետական նշանակության ավտոճանապարհների հիմնանորոգում | E32: =Հ3!G42 -> 766432.7
D33: Միջոցառման նկարագրությունը`
D34: Միջպետական, հանրապետական և մարզային նշանակության ավտոճոնապարհների քայքայված ծածկի վերանորոգում, մաշված ծածկի փոխարինում
D35: Միջոցառման տեսակը
D36: Հանրության կողմից անմիջականորեն օգտագործվող ակտիվների հետ կապված միջոցառումներ
C37: 21002 | D37: Միջոցառման անվանումը`
D38: Տրանսպորտային օբյեկտների հիմնանորոգում | E38: =Հ3!G53 -> 134370.3
D39: Միջոցառման նկարագրությունը`
D40: Ավտոմոբիլային ճանապարհների վրա գտնվող կամուրջների հիմնանորոգում
D41: Միջոցառման տեսակը
D42: Հանրության կողմից անմիջականորեն օգտագործվող ակտիվների հետ կապված միջոցառումներ

Sheet Հ2
H1: Հավելված N 2
H2: ՀՀ կառավարության 2024 թվականի
H3: ______________ ի ___Ն որոշման
A5: «ՀԱՅԱՍՏԱՆԻ ՀԱՆՐԱՊԵՏՈՒԹՅԱՆ 2024 ԹՎԱԿԱՆԻ ՊԵՏԱԿԱՆ ԲՅՈՒՋԵԻ ՄԱՍԻՆ» ՕՐԵՆՔԻ N 1 ՀԱՎԵԼՎԱԾԻ N 3 ԱՂՅՈՒՍԱԿՈՒՄ ԿԱՏԱՐՎՈՂ ՓՈՓՈԽՈՒԹՅՈՒՆՆԵՐԸ ԵՎ ԼՐԱՑՈՒՄՆԵՐԸ
G6: հազ. դրամ
A7: Ծրագրային դասիչ | C7: Բյուջետային գլխավոր կարգադրիչների, ծրագրերի, միջոցառումների և ուղղությունների անվանումները | D7: Ցուցանիշների փոփոխությունը (ավելացումները նշված են դրական նշանով, իսկ նվազեցումները` փակագծերում)
D8: Ընդամենը, | E8: այդ թվում՝
A9: Ծրագիր | B9: Միջոցառում | E9: Կառուցման աշխատանքներ | F9: Վերակառուցման, վերանորոգման և վերականգնման աշխատանքներ | G9: Նախագծահե- տազոտական, գեոդեզիա- քարտեզագրա- կան աշխա- տանքներ | H9: Ոչ ֆինանսական այլ ակտիվների ձեռքբերում
C10: ԸՆԴԱՄԵՆԸ | D10: =+E10+F10+G10+H10 -> -3.4924597e-10 | E10: =+E12 -> -77529.3 | F10: =+F12 -> 892305.6 | G10: =+G12 -> -814776.3 | H10: =+H12 -> 0
C11: այդ թվում՝
C12: ՀՀ ՏԱՐԱԾՔԱՅԻՆ ԿԱՌԱՎԱՐՄԱՆ ԵՎ ԵՆԹԱԿԱՌՈՒՑՎԱԾՔՆԵՐԻ ՆԱԽԱՐԱՐՈՒԹՅՈՒՆ | D12: =+E12+F12+G12+H12 -> -3.4924597e-10 | E12: =E15+E59+E14 -> -77529.3 | F12: =F15+F59+F14 -> 892305.6 | G12: =G15+G59+G14 -> -814776.3 | H12: =H15+H59+H14 -> 0
C13: այդ թվում`
A14: 1004 | B14: 31013 | C14: Փոքր և միջին ջրամբարների կառուցում | D14: =+E14+F14+G14+H14 -> -900803 | E14: -77529.3 | G14: -823273.7
A15: 1049 | B15: 21001 | C15: Պետական նշանակության ավտոճանապարհների հիմնանորոգում | D15: =+E15+F15+G15+H15 -> 766432.7 | E15: =+E17+E45+E31 -> 0 | F15: =+F17+F45+F31 -> 762785.2 | G15: =+G17+G45+G31 -> 3647.5 | H15: =+H17+H45+H31 -> 0
C16: այդ թվում`
B17: 1 | C17: Միջպետական նշանակության ավտոճանապարհներ, այդ թվում | D17: =+E17+F17+G17+H17 -> -2330402 | E17: =SUM(E18:E30) -> 0 | F17: =SUM(F18:F30) -> -2332812 | G17: =SUM(G18:G30) -> 2410 | H17: =SUM(H18:H30) -> 0
C18: Մ-1, Երևան-Գյումրի-ՀՀ սահման միջպետական նշանակության ավտոճանապարհի կմ160+200-կմ171+700 հատվածի հիմնանորոգում | D18: =+E18+F18+G18+H18 -> -1245.9 | F18: -1245.9
C19: Մ-2, Երևան-Երասխ-Գորիս-ՄեղրիՀՀ սահման միջպետական նշանակության ավտոճանապարհի կմ142+000 - կմ150+700 հատվածի հիմնանորոգում | D19: =+E19+F19+G19+H19 -> 112059.3 | F19: 112059.3
C20: Մ-2, Երևան-Երասխ-Գորիս-Մեղրի-ՀՀ սահման միջպետական նշանակության ավտոճանապարհի կմ182+532 - կմ190+000 հատվածի հիմնանորոգում | D20: =+E20+F20+G20+H20 -> -13761.4 | F20: -13761.4
C21: Մ-2, Երևան-Երասխ-Գորիս-Մեղրի-ՀՀ սահման միջպետական նշանակության ավտոճանապարհի կմ297+800-կմ311+250 հատվածի հիմնանորոգման աշխատանքների (1-ին տեղամաս՝ կմ297+800-կմ301+820 հատված) | D21: =+E21+F21+G21+H21 -> -40876.6 | F21: -40876.6
C22: Մ-2, Երևան-Երասխ-Գորիս-Մեղրի-ՀՀ սահման միջպետական նշանակության ավտոճանապարհի կմ297+800-կմ311+250 հատվածի հիմնանորոգման աշխատանքների (2-րդ տեղամաս՝ կմ301+820 - կմ311+250 հատված) | D22: =+E22+F22+G22+H22 -> -65766.3 | F22: -65766.3
C23: Մ-3, ՀՀ սահման-Մարգարա-Վանաձոր-Տաշիր-ՀՀ սահման միջպետական նշանակության ավտոճանապարհի կմ35+535-կմ39+500 հատվածի հիմնանորոգում | D23: =+E23+F23+G23+H23 -> 164500 | F23: 164500
C24: Մ-4, Երևան-Սևան-Իջևան-ՀՀ սահման միջպետական նշանակության ավտոճանապարհի Դիլիջանից մինչև Հ-30 ավտոճանապարհի հետ հատման կետ հատվածում ջրհեղեղի հետևանքով ողողված և փլուզված թվով 10 տեղամասերի վերակառուցում | D24: =+E24+F24+G24+H24 -> 2410 | G24: =2010+400 -> 2410
C25: Մ-5, Երևան - Արմավիր - ՀՀ սահման միջպետական նշանակության ավտոճանապարհի կմ17+530-կմ18+200, կմ25+593 - կմ29+385 և կմ32+675 - կմ33+833 աջակողմյան և ձախակողմյան հատվածների հիմնանորոգում և Մ-5 Երևան-Արմավիր-ՀՀ սահման ա/ճ-ի կմ 35+457 - կմ 37+054 հատվածի ջրահեռացման համակարգի վերականգնում | D25: =+E25+F25+G25+H25 -> -1930 | F25: -1930
C26: Մ-10, Սևան-Մարտունի-Գետափ միջպետական նշանակության ավտոճանապարհի կմ79+060-կմ80+590 հատվածի վերակառուցում | D26: =+E26+F26+G26+H26 -> 71778.8 | F26: 71778.8
C27: Մ-11, Մարտունի - Վարդենիս - ՀՀ սահման միջպետական նշանակության ավտոճանապարհի կմ25+500-կմ29+200 հատվածի հիմնանորոգում | D27: =+E27+F27+G27+H27 -> -2513546.1 | F27: -2513546.1
C28: Մ-14, Մ-4-Շորժա-Վարդենիս միջպետական նշանակության ավտոճանապարհի կմ72+800 - կմ78+100 հատվածի հիմնանորոգում | D28: =+E28+F28+G28+H28 -> -24958.6 | F28: -24958.6
C29: Մ-15, /Մ-4/ (Վերին Պտղնի) - Մասիսի տրանսպորտային հանգույց (Երևանի շրջանց) միջպետական նշանակության ավտոճանապարհի կմ0+000-կմ8+200 հատվածի հիմնանորոգում | D29: =+E29+F29+G29+H29 -> -17712.7 | F29: -17712.7
C30: Մ-15, /Մ-4/ (Վերին Պտղնի) - Մասիսի տրանսպորտային հանգույց (Երևանի շրջանց) միջպետական նշանակության ավտոճանապարհի կմ19+900-կմ29+400 հատվածի հիմնանորոգում | D30: =+E30+F30+G30+H30 -> -1352.5 | F30: -1352.5
B31: 2 | C31: Հանրապետական նշանակության ավտոճանապարհներ, այդ թվում | D31: =+E31+F31+G31+H31 -> 1002182.7 | E31: =SUM(E32:E44) -> 0 | F31: =SUM(F32:F44) -> 1000945.2 | G31: =SUM(G32:G44) -> 1237.5 | H31: =SUM(H32:H44) -> 0
C32: Հ-3, Երևան (Ջրաշխարհ, Մ-4-ի հետ հատման տեղ)-Գառնի –Գեղարդի վանք հանրապետական նշանակության ավտոճանապարհի կմ33+500-կմ38+100 հատվածի հիմնանորոգում | D32: =+E32+F32+G32+H32 -> -4309.2 | F32: -4309.2
C33: Հ-4, Երևան - եղվարդ - Արագյուղ - Հարթավան - /Մ-3/ հանրապետական նշանակության ավտոճանապարհի կմ33+500 - կմ34+800 հատվածի (Երնջատափ գյուղը շրջանցող հատված) հիմնանորոգում | D33: =+E33+F33+G33+H33 -> 8024.9 | F33: 8024.9
C34: Հ-7, /Հ-5/ - Կարենիս - Չարենցավան /Հ-1/ (Ֆանտան)հանրապետական նշանակության ավտոճանապարհի կմ7+580 - կմ10+200 հատվածի հիմնանորոգում | D34: =+E34+F34+G34+H34 -> -10343 | F34: -10343
C35: Հ-15, /Մ-5/(Նորապատ) -Արգավանդ –/Մ-3/ (Վարդանաշեն) հանրապետական նշանակության ավտոճանապարհի կմ0+000 - կմ3+000 հատվածի հիմնանորոգում | D35: =+E35+F35+G35+H35 -> -1166.7 | F35: -1166.7
C36: Հ-21, /Հ-75/ - Հոռոմ-Արթիկ-Ալագյազ հանրապետական նշանակության ավտոճանապարհի կմ29+600 - կմ32+700 հատվածի հիմնանորոգում | D36: =+E36+F36+G36+H36 -> -20578.8 | F36: -20578.8
C37: Հ-28,/Հ-55/ - Ջրառատ – Մեղրաձոր - Հանքավան հանրապետական նշանակության ավտոճանապարհի կմ 17+000-կմ 19+000 հատվածի հիմնանորոգում | D37: =+E37+F37+G37+H37 -> -338.8 | F37: -338.8
C38: Հ-29,Սևան - Ծաղկունք – Զովաբեր հանրապետական նշանակության ավտոճանապարհի կմ 0+000-կմ 18+200 հատվածի հիմնորոգում (բացառությամբ կմ 11+000-կմ 12+000 հատվածի) | D38: =+E38+F38+G38+H38 -> 102925.7 | F38: 102925.7
C39: Հ-30, /Մ-4/ - Ճամբարակ- /Հ-7/ հանրապետական նշանակության ավտոճանապարհի կմ 13+000-կմ38+000 հատվածում քարաթափման աշխատանքների իրականացում | D39: =+E39+F39+G39+H39 -> 1237.5 | G39: 1237.5
C40: Հ-36, /Մ-4/ (Իջևան) - Նավուր - Բերդ - Այգեպար հանրապետական նշանակության ավտոճանապարհի կմ 5+600-կմ 42+100 հատվածի հիմնանորոգում | D40: =+E40+F40+G40+H40 -> -21916.2 | F40: -21916.2
C41: Հ38,/Հ-30/ (Թթուջուր) – /Հ-36/ (Նավուր) հանրապետական նշանակության ավտոճանապարհի կմ15+100 - կմ40+100 հատվածի հիմնանորոգում | D41: =+E41+F41+G41+H41 -> -19533.4 | F41: -19533.4
C42: Հ-70, Մ-6 – Աթան հանրապետական նշանակության ավտոճանապարհի կմ0+000 - կմ27+500 հատվածի հիմնանորոգում | D42: =+E42+F42+G42+H42 -> 1027671.8 | F42: 1027671.8
C43: Հ-75, Մ-9-Իսահակյան-Գյումրի-Մ-7 հանրապետական նշանակության ավտոճանապարհի կմ23+250 - կմ37+500 և կմ45+300 - կմ60+200 հատվածների հիմնանորոգում | D43: =+E43+F43+G43+H43 -> -44761.4 | F43: -44761.4
C44: Հ85, /Հ-1/ - Հրազդան - /Հ-55/ հանրապետական նշանակության ավտոճանապարհի կմ1+600 - կմ3+300 հատվածների հիմնանորոգում | D44: =+E44+F44+G44+H44 -> -14729.7 | F44: -14729.7
B45: 3 | C45: Մարզային նշանակության ավտոճանապարհներ, այդ թվում | D45: =+E45+F45+G45+H45 -> 2094652 | E45: =SUM(E46:E58) -> 0 | F45: =SUM(F46:F58) -> 2094652 | G45: =SUM(G46:G58) -> 0 | H45: =SUM(H46:H58) -> 0
C46: Տ-1-44,/Մ-3/ (Ապարան) - Լուսագյուղ ավտոճանապարհի կմ0+000-կմ3+000 հատվածի հիմնանորոգում | D46: =+E46+F46+G46+H46 -> 39041.3 | F46: 39041.3
C47: Զարինջա - Ձիթհանքով ավտոճանապարհի 4.3 կմ երկարությամբ հատվածի հիմնանորոգում | D47: =+E47+F47+G47+H47 -> 60815.9 | F47: 60815.9
C48: Տ-1-68, Ներքին Բազմաբերդ (Տ-1-65) – Կաքավաձոր (Տ-1-60) ավտոճանապարհի կմ0+000 – կմ4+100 հատվածի հիմնանորոգում | D48: =+E48+F48+G48+H48 -> -3792 | F48: -3792
C49: Տ-3-11 /Հ-15/ (Արմավիր գ.) – Նալբանդյան – Գետաշեն – Նոր Կեսարիա – /Մ-5/ ավտոճանապարհի կմ6+000-կմ10+000 հատվածի հիմնանորոգում | D49: =+E49+F49+G49+H49 -> -12520.6 | F49: -12520.6
C50: Տ-3-16 Արևիկ (Տ-3-50) – /Հ-15/ (գ.Արմավիր) ավտոճանապարհի կմ0+000-կմ3+600 հատվածի հիմնանորոգում | D50: =+E50+F50+G50+H50 -> -14978.7 | F50: -14978.7
C51: Տ-3-44, /Մ-5/ – Ծիածան – Աղավնատուն – Լեռնամերձ ավտոճանապարհի կմ0+000-կմ7+300 հատվածի հիմնանորոգում | D51: =+E51+F51+G51+H51 -> -5009.8 | F51: -5009.8
C52: Տ-3-61, /Մ-5/ (Նորապատ) - /Հ-17/ ավտոճանապարհի կմ0+000-կմ1+700 հատվածի հիմնանորոգում | D52: =+E52+F52+G52+H52 -> -1566.9 | F52: -1566.9
C53: Տ-4-13,/Հ-39/ (Գավառ) – Գանձակ – Սարուխան – Գեղարքունիք ավտոճանապարհի կմ0+000-կմ12+900 հատվածի հիմնանորոգում | D53: =+E53+F53+G53+H53 -> 201748.2 | F53: 201748.2
C54: Տ-4-78, /Տ-4-40/ - Նորակերտ - /Մ-14/ (Փոքր Մասրիկ) ավտոճանապարհի կմ5+200-կմ7+200 հատվածի հիմնանորոգում | D54: =+E54+F54+G54+H54 -> -3731.7 | F54: -3731.7
C55: Տ-8-13, /Մ-12/ - Վերիշեն - Խոզնավար ավտոճանապարհի կմ0+000 - կմ18+300 հատվածի հիմնանորոգում | D55: =+E55+F55+G55+H55 -> 13321.6 | F55: 13321.6
C56: Որոտան-Խոտ ավտոճանապարհի վերակառուցում | D56: =+E56+F56+G56+H56 -> 1664843.5 | F56: 1664843.5
C57: /Մ-12/ - Խնձորեսկ - Ներքին Խնձորեսկ ավտոճանապարհի կմ0+000 - կմ10+100 հատվածի հիմնանորոգում | D57: =+E57+F57+G57+H57 -> 55001.9 | F57: 55001.9
C58: /Տ-1-21/(Եղիպատրուշ բնակավայր) ճանապարհից դեպի «Մայլեռ» լեռնային հանգստավայր տանող 3 կմ երկարությամբ և 8 մետր լայնությամբ երթևեկելի մասով ասֆալտապատ ավտոճանապարհի կառուցում | D58: =+E58+F58+G58+H58 -> 101479.3 | F58: 101479.3
A59: 1049 | B59: 21002 | C59: Տրանսպորտային օբյեկտների հիմնանորոգում | D59: =+E59+F59+G59+H59 -> 134370.3 | E59: =SUM(E61:E62) -> 0 | F59: =SUM(F61:F65) -> 129520.4 | G59: =SUM(G61:G65) -> 4849.9 | H59: =SUM(H61:H65) -> 0
C60: այդ թվում`
C61: Մ-7, /Մ-3/ - Սպիտակ – Գյումրի - ՀՀ սահման միջպետական նշանակության ավտոճանապարհի կմ4+500-ում գտնվող Նալբանդի թունելի հիմնանորոգում | D61: =+E61+F61+G61+H61 -> 999.9 | G61: 999.9
C62: Սանահին կայարանում քանդված կամրջի փոխարեն L=42մ պողպատե ֆերմաներով թռիչքային կառուցվածքով ժամանակավոր կամրջի կառուցման համար անհրաժեշտ նախապատրաստական աշխատանքների իրականացում | D62: =+E62+F62+G62+H62 -> 48567.6 | F62: 48567.6
C63: Մ-6 – Ախթալա ա/ճանապարհի վրա Դեբետ գետի հետ հատման հատվածում քանդված կամրջի փոխարեն ժամանակավոր կամրջի կառուցում | D63: =+E63+F63+G63+H63 -> 60546.8 | F63: 60546.8
C64: Մ-6 ավտոճանապարհը Ախթալա բնակավայրի հետ կապող պողպատե ֆերմաներով L=39մ թռիչքային կառուցվածքով 2-րդ կամրջի կառուցում | D64: =+E64+F64+G64+H64 -> 3850 | G64: 3850
C65: Մ-10, Սևան-Մարտունի-Գետափ միջպետական նշանակության ավտոճանապարհի կմ21+500-ում գտնվող փլուզված հողային պաստառի շեպի վերականգնում | D65: =+E65+F65+G65+H65 -> 20406 | F65: 20406

Sheet Հ3
G1: Հավելված N 3
G2: ՀՀ կառավարության 2024 թվականի
G3: ______________ ի ___Ն որոշման
A5: ՀԱՅԱՍՏԱՆԻ ՀԱՆՐԱՊԵՏՈՒԹՅԱՆ ԿԱՌԱՎԱՐՈՒԹՅԱՆ 2023 ԹՎԱԿԱՆԻ ԴԵԿՏԵՄԲԵՐԻ 28-Ի N 2323-Ն ՈՐՈՇՄԱՆ N 3 ԵՎ N 4 ՀԱՎԵԼՎԱԾՆԵՐՈՒՄ ԿԱՏԱՐՎՈՂ ՓՈՓՈԽՈՒԹՅՈՒՆՆԵՐԸ ԵՎ ԼՐԱՑՈՒՄՆԵՐԸ
G7: հազ. դրամ
A8: Գործառական դասիչը | D8: Ծրագրային դասիչը | F8: Բյուջետային հատկացումների գլխավոր կարգադրիչների, ծրագրերի, միջոցառումների և միջոցառումները կատարող պետական մարմինների անվանումները | G8: Ցուցանիշների փոփոխությունը (ավելացումները նշված են դրական նշանով, իսկ նվազեցումները` փակագծերում)
A9: Բաժին | B9: Խումբ | C9: Դաս | D9: Ծրագիր | E9: Միջոցառում | G9: Տարի
F10: ԸՆԴԱՄԵՆԸ | G10: =+G12 -> 0
F11: այդ թվում
F12: ՀՀ տարածքային կառավարման և ենթակառուցվածքների նախարարություն | G12: =+G13 -> 0
A13: 04 | F13: ՏՆՏԵՍԱԿԱՆ ՀԱՐԱԲԵՐՈՒԹՅՈՒՆՆԵՐ | G13: =G15+G34 -> 0
F14: այդ թվում`
B15: 02 | F15: Գյուղատնտեսություն, անտառային տնտեսություն, ձկնորսություն և որսորդություն | G15: =G17 -> -900803
F16: այդ թվում`
C17: 04 | F17: Ոռոգում | G17: =+G19 -> -900803
F18: այդ թվում`
F19: ՀՀ տարածքային կառավարման և ենթակառուցվածքների նախարարություն | G19: =+G21 -> -900803
F20: այդ թվում`
D21: 1004 | F21: Ոռոգման համակարգի առողջացում | G21: =+G23 -> -900803
F22: այդ թվում`
E23: 31013 | F23: Փոքր և միջին ջրամբարների կառուցում | G23: =G25 -> -900803
F24: այդ թվում` ըստ կատարողների
F25: ՀՀ տարածքային կառավարման և ենթակառուցվածքների նախարարության ջրային կոմիտե | G25: =G27 -> -900803
F26: այդ թվում` բյուջետային ծախսերի տնտեսագիտական դասակարգման հոդվածներ
F27: ԸՆԴԱՄԵՆԸ ԾԱԽՍԵՐ | G27: =+G28 -> -900803
F28: ՈՉ ՖԻՆԱՆՍԱԿԱՆ ԱԿՏԻՎՆԵՐԻ ԳԾՈՎ ԾԱԽՍԵՐ | G28: =G29 -> -900803
F29: ՀԻՄՆԱԿԱՆ ՄԻՋՈՑՆԵՐ | G29: =G30+G32 -> -900803
F30: ՇԵՆՔԵՐ ԵՎ ՇԻՆՈՒԹՅՈՒՆՆԵՐ | G30: =G31 -> -77529.3
F31: - Շենքերի և շինությունների շինարարություն | G31: =Հ2!E14 -> -77529.3
F32: ԱՅԼ ՀԻՄՆԱԿԱՆ ՄԻՋՈՑՆԵՐ | G32: =G33 -> -823273.7
F33: - Նախագծահետազոտական ծախսեր | G33: =Հ2!G14 -> -823273.7
B34: 05 | F34: Տրանսպորտ | G34: =G36 -> 900803
F35: այդ թվում`
C36: 01 | F36: Ճանապարհային տրանսպորտ | G36: =+G38 -> 900803
F37: այդ թվում`
F38: ՀՀ տարածքային կառավարման և ենթակառուցվածքների նախարարություն | G38: =+G40 -> 900803
F39: այդ թվում`
D40: 1049 | F40: Ճանապարհային ցանցի բարելավում | G40: =+G42+G53 -> 900803
F41: այդ թվում`
E42: =Հ2!B15 -> 21001 | F42: =Հ2!C15 -> Պետական նշանակության ավտոճանապարհների հիմնանորոգում | G42: =G44 -> 766432.7
F43: այդ թվում` ըստ կատարողների
F44: ՀՀ տարածքային կառավարման և ենթակառուցվածքների նախարարություն | G44: =G46 -> 766432.7
F45: այդ թվում`բյուջետային ծախսերի տնտեսագիտական դասակարգման հոդվածներ
F46: ԸՆԴԱՄԵՆԸ ԾԱԽՍԵՐ | G46: =+G47 -> 766432.7
F47: ՈՉ ՖԻՆԱՆՍԱԿԱՆ ԱԿՏԻՎՆԵՐԻ ԳԾՈՎ ԾԱԽՍԵՐ | G47: =G48 -> 766432.7
F48: ՀԻՄՆԱԿԱՆ ՄԻՋՈՑՆԵՐ | G48: =G49+G51 -> 766432.7
F49: ՇԵՆՔԵՐ ԵՎ ՇԻՆՈՒԹՅՈՒՆՆԵՐ | G49: =G50 -> 762785.2
F50: - Շենքերի և շինությունների կապիտալ վերանորոգում | G50: =Հ2!F15 -> 762785.2
F51: ԱՅԼ ՀԻՄՆԱԿԱՆ ՄԻՋՈՑՆԵՐ | G51: =G52 -> 3647.5
F52: - Նախագծահետազոտական ծախսեր | G52: =Հ2!G15 -> 3647.5
E53: =Հ2!B59 -> 21002 | F53: =Հ2!C59 -> Տրանսպորտային օբյեկտների հիմնանորոգում | G53: =G55 -> 134370.3
F54: այդ թվում` ըստ կատարողների
F55: ՀՀ տարածքային կառավարման և ենթակառուցվածքների նախարարություն | G55: =G57 -> 134370.3
F56: այդ թվում`բյուջետային ծախսերի տնտեսագիտական դասակարգման հոդվածներ
F57: ԸՆԴԱՄԵՆԸ ԾԱԽՍԵՐ | G57: =+G58 -> 134370.3
F58: ՈՉ ՖԻՆԱՆՍԱԿԱՆ ԱԿՏԻՎՆԵՐԻ ԳԾՈՎ ԾԱԽՍԵՐ | G58: =G59 -> 134370.3
F59: ՀԻՄՆԱԿԱՆ ՄԻՋՈՑՆԵՐ | G59: =G60+G62 -> 134370.3
F60: ՇԵՆՔԵՐ ԵՎ ՇԻՆՈՒԹՅՈՒՆՆԵՐ | G60: =G61 -> 129520.4
F61: - Շենքերի և շինությունների կապիտալ վերանորոգում | G61: =Հ2!F59 -> 129520.4
F62: ԱՅԼ ՀԻՄՆԱԿԱՆ ՄԻՋՈՑՆԵՐ | G62: =G63 -> 4849.9
F63: - Նախագծահետազոտական ծախսեր | G63: =Հ2!G59 -> 4849.9

Sheet Հ4
E1: Հավելված 4
E2: ՀՀ կառավարության 2024 թվականի
E3: ______________ ի ___Ն որոշման
A5: ՀԱՅԱՍՏԱՆԻ ՀԱՆՐԱՊԵՏՈՒԹՅԱՆ ԿԱՌԱՎԱՐՈՒԹՅԱՆ 2023 ԹՎԱԿԱՆԻ ԴԵԿՏԵՄԲԵՐԻ 28-Ի N 2323-Ն ՈՐՈՇՄԱՆ N 5 ՀԱՎԵԼՎԱԾԻ N 2 ԱՂՅՈՒՍԱԿՈՒՄ ԿԱՏԱՐՎՈՂ ՓՈՓՈԽՈՒԹՅՈՒՆՆԵՐԸ ԵՎ ԼՐԱՑՈՒՄՆԵՐԸ
E7: հազ․ դրամ
B8: Ծրագրային դասիչը | D8: Հատկացումների տրամադրման նպատակները և բյուջետային գլխավոր կարգադրիչների, ծրագրերի, միջոցառումների և կատարող պետական մարմնի անվանումները | E8: Ցուցանիշների փոփոխությունը (ավելացումները նշված են դրական նշանով, իսկ նվազեցումները` փակագծերում)
B9: Ծրագիր | C9: Միջոցառում | E9: Տարի
D10: ԸՆԴԱՄԵՆԸ | E10: =+E12 -> 0
D11: այդ թվում՝
D12: ՀՀ ՏԱՐԱԾՔԱՅԻՆ ԿԱՌԱՎԱՐՄԱՆ ԵՎ ԵՆԹԱԿԱՌՈՒՑՎԱԾՔՆԵՐԻ ՆԱԽԱՐԱՐՈՒԹՅՈՒՆ | E12: =+E17+E63+E14 -> 0
D13: այդ թվում`
B14: =Հ2!A14 -> 1004 | C14: =Հ2!B14 -> 31013 | D14: =Հ2!C14 -> Փոքր և միջին ջրամբարների կառուցում | E14: =E16 -> -900803
D15: այդ թվում` ըստ կատարողների
D16: ՀՀ տարածքային կառավարման և ենթակառուցվածքների նախարարության ջրային կոմիտե | E16: =Հ2!D14 -> -900803
B17: 1049 | C17: 21001 | D17: Պետական նշանակության ավտոճանապարհների հիմնանորոգում | E17: =E19 -> 766432.7
D18: այդ թվում` ըստ կատարողների
D19: ՀՀ տարածքային կառավարման և ենթակառուցվածքների նախարարություն | E19: =E21+E35+E49 -> 766432.7
D20: այդ թվում՝ ըստ ուղղությունների
C21: 1 | D21: =Հ2!C17 -> Միջպետական նշանակության ավտոճանապարհներ, այդ թվում | E21: =SUM(E22:E34) -> -2330402
D22: =Հ2!C18 -> Մ-1, Երևան-Գյումրի-ՀՀ սահման միջպետական նշանակության ավտոճանապարհի կմ160+200-կմ171+700 հատվածի հիմնանորոգում | E22: =Հ2!D18 -> -1245.9
D23: =Հ2!C19 -> Մ-2, Երևան-Երասխ-Գորիս-ՄեղրիՀՀ սահման միջպետական նշանակության ավտոճանապարհի կմ142+000 - կմ150+700 հատվածի հիմնանորոգում | E23: =Հ2!D19 -> 112059.3
D24: =Հ2!C20 -> Մ-2, Երևան-Երասխ-Գորիս-Մեղրի-ՀՀ սահման միջպետական նշանակության ավտոճանապարհի կմ182+532 - կմ190+000 հատվածի հիմնանորոգում | E24: =Հ2!D20 -> -13761.4
D25: =Հ2!C21 -> Մ-2, Երևան-Երասխ-Գորիս-Մեղրի-ՀՀ սահման միջպետական նշանակության ավտոճանապարհի կմ297+800-կմ311+250 հատվածի հիմնանորոգման աշխատանքների (1-ին տեղամաս՝ կմ297+800-կմ301+820 հատված) | E25: =Հ2!D21 -> -40876.6
D26: =Հ2!C22 -> Մ-2, Երևան-Երասխ-Գորիս-Մեղրի-ՀՀ սահման միջպետական նշանակության ավտոճանապարհի կմ297+800-կմ311+250 հատվածի հիմնանորոգման աշխատանքների (2-րդ տեղամաս՝ կմ301+820 - կմ311+250 հատված) | E26: =Հ2!D22 -> -65766.3
D27: =Հ2!C23 -> Մ-3, ՀՀ սահման-Մարգարա-Վանաձոր-Տաշիր-ՀՀ սահման միջպետական նշանակության ավտոճանապարհի կմ35+535-կմ39+500 հատվածի հիմնանորոգում | E27: =Հ2!D23 -> 164500
D28: =Հ2!C24 -> Մ-4, Երևան-Սևան-Իջևան-ՀՀ սահման միջպետական նշանակության ավտոճանապարհի Դիլիջանից մինչև Հ-30 ավտոճանապարհի հետ հատման կետ հատվածում ջրհեղեղի հետևանքով ողողված և փլուզված թվով 10 տեղամասերի վերակառուցում | E28: =Հ2!D24 -> 2410
D29: =Հ2!C25 -> Մ-5, Երևան - Արմավիր - ՀՀ սահման միջպետական նշանակության ավտոճանապարհի կմ17+530-կմ18+200, կմ25+593 - կմ29+385 և կմ32+675 - կմ33+833 աջակողմյան և ձախակողմյան հատվածների հիմնանորոգում և Մ-5 Երևան-Արմավիր-ՀՀ սահման ա/ճ-ի կմ 35+457 - կմ 37+054 հատվածի ջրահեռացման համակարգի վերականգնում | E29: =Հ2!D25 -> -1930
D30: =Հ2!C26 -> Մ-10, Սևան-Մարտունի-Գետափ միջպետական նշանակության ավտոճանապարհի կմ79+060-կմ80+590 հատվածի վերակառուցում | E30: =Հ2!D26 -> 71778.8
D31: =Հ2!C27 -> Մ-11, Մարտունի - Վարդենիս - ՀՀ սահման միջպետական նշանակության ավտոճանապարհի կմ25+500-կմ29+200 հատվածի հիմնանորոգում | E31: =Հ2!D27 -> -2513546.1
D32: =Հ2!C28 -> Մ-14, Մ-4-Շորժա-Վարդենիս միջպետական նշանակության ավտոճանապարհի կմ72+800 - կմ78+100 հատվածի հիմնանորոգում | E32: =Հ2!D28 -> -24958.6
D33: =Հ2!C29 -> Մ-15, /Մ-4/ (Վերին Պտղնի) - Մասիսի տրանսպորտային հանգույց (Երևանի շրջանց) միջպետական նշանակության ավտոճանապարհի կմ0+000-կմ8+200 հատվածի հիմնանորոգում | E33: =Հ2!D29 -> -17712.7
D34: =Հ2!C30 -> Մ-15, /Մ-4/ (Վերին Պտղնի) - Մասիսի տրանսպորտային հանգույց (Երևանի շրջանց) միջպետական նշանակության ավտոճանապարհի կմ19+900-կմ29+400 հատվածի հիմնանորոգում | E34: =Հ2!D30 -> -1352.5
C35: 2 | D35: =Հ2!C31 -> Հանրապետական նշանակության ավտոճանապարհներ, այդ թվում | E35: =SUM(E36:E48) -> 1002182.7
D36: =Հ2!C32 -> Հ-3, Երևան (Ջրաշխարհ, Մ-4-ի հետ հատման տեղ)-Գառնի –Գեղարդի վանք հանրապետական նշանակության ավտոճանապարհի կմ33+500-կմ38+100 հատվածի հիմնանորոգում | E36: =Հ2!D32 -> -4309.2
D37: =Հ2!C33 -> Հ-4, Երևան - եղվարդ - Արագյուղ - Հարթավան - /Մ-3/ հանրապետական նշանակության ավտոճանապարհի կմ33+500 - կմ34+800 հատվածի (Երնջատափ գյուղը շրջանցող հատված) հիմնանորոգում | E37: =Հ2!D33 -> 8024.9
D38: =Հ2!C34 -> Հ-7, /Հ-5/ - Կարենիս - Չարենցավան /Հ-1/ (Ֆանտան)հանրապետական նշանակության ավտոճանապարհի կմ7+580 - կմ10+200 հատվածի հիմնանորոգում | E38: =Հ2!D34 -> -10343
D39: =Հ2!C35 -> Հ-15, /Մ-5/(Նորապատ) -Արգավանդ –/Մ-3/ (Վարդանաշեն) հանրապետական նշանակության ավտոճանապարհի կմ0+000 - կմ3+000 հատվածի հիմնանորոգում | E39: =Հ2!D35 -> -1166.7
D40: =Հ2!C36 -> Հ-21, /Հ-75/ - Հոռոմ-Արթիկ-Ալագյազ հանրապետական նշանակության ավտոճանապարհի կմ29+600 - կմ32+700 հատվածի հիմնանորոգում | E40: =Հ2!D36 -> -20578.8
D41: =Հ2!C37 -> Հ-28,/Հ-55/ - Ջրառատ – Մեղրաձոր - Հանքավան հանրապետական նշանակության ավտոճանապարհի կմ 17+000-կմ 19+000 հատվածի հիմնանորոգում | E41: =Հ2!D37 -> -338.8
D42: =Հ2!C38 -> Հ-29,Սևան - Ծաղկունք – Զովաբեր հանրապետական նշանակության ավտոճանապարհի կմ 0+000-կմ 18+200 հատվածի հիմնորոգում (բացառությամբ կմ 11+000-կմ 12+000 հատվածի) | E42: =Հ2!D38 -> 102925.7
D43: =Հ2!C39 -> Հ-30, /Մ-4/ - Ճամբարակ- /Հ-7/ հանրապետական նշանակության ավտոճանապարհի կմ 13+000-կմ38+000 հատվածում քարաթափման աշխատանքների իրականացում | E43: =Հ2!D39 -> 1237.5
D44: =Հ2!C40 -> Հ-36, /Մ-4/ (Իջևան) - Նավուր - Բերդ - Այգեպար հանրապետական նշանակության ավտոճանապարհի կմ 5+600-կմ 42+100 հատվածի հիմնանորոգում | E44: =Հ2!D40 -> -21916.2
D45: =Հ2!C41 -> Հ38,/Հ-30/ (Թթուջուր) – /Հ-36/ (Նավուր) հանրապետական նշանակության ավտոճանապարհի կմ15+100 - կմ40+100 հատվածի հիմնանորոգում | E45: =Հ2!D41 -> -19533.4
D46: =Հ2!C42 -> Հ-70, Մ-6 – Աթան հանրապետական նշանակության ավտոճանապարհի կմ0+000 - կմ27+500 հատվածի հիմնանորոգում | E46: =Հ2!D42 -> 1027671.8
D47: =Հ2!C43 -> Հ-75, Մ-9-Իսահակյան-Գյումրի-Մ-7 հանրապետական նշանակության ավտոճանապարհի կմ23+250 - կմ37+500 և կմ45+300 - կմ60+200 հատվածների հիմնանորոգում | E47: =Հ2!D43 -> -44761.4
D48: =Հ2!C44 -> Հ85, /Հ-1/ - Հրազդան - /Հ-55/ հանրապետական նշանակության ավտոճանապարհի կմ1+600 - կմ3+300 հատվածների հիմնանորոգում | E48: =Հ2!D44 -> -14729.7
C49: 3 | D49: Մարզային նշանակության ավտոճանապարհներ, այդ թվում | E49: =SUM(E50:E62) -> 2094652
D50: =Հ2!C46 -> Տ-1-44,/Մ-3/ (Ապարան) - Լուսագյուղ ավտոճանապարհի կմ0+000-կմ3+000 հատվածի հիմնանորոգում | E50: =Հ2!D46 -> 39041.3
D51: =Հ2!C47 -> Զարինջա - Ձիթհանքով ավտոճանապարհի 4.3 կմ երկարությամբ հատվածի հիմնանորոգում | E51: =Հ2!D47 -> 60815.9
D52: =Հ2!C48 -> Տ-1-68, Ներքին Բազմաբերդ (Տ-1-65) – Կաքավաձոր (Տ-1-60) ավտոճանապարհի կմ0+000 – կմ4+100 հատվածի հիմնանորոգում | E52: =Հ2!D48 -> -3792
D53: =Հ2!C49 -> Տ-3-11 /Հ-15/ (Արմավիր գ.) – Նալբանդյան – Գետաշեն – Նոր Կեսարիա – /Մ-5/ ավտոճանապարհի կմ6+000-կմ10+000 հատվածի հիմնանորոգում | E53: =Հ2!D49 -> -12520.6
D54: =Հ2!C50 -> Տ-3-16 Արևիկ (Տ-3-50) – /Հ-15/ (գ.Արմավիր) ավտոճանապարհի կմ0+000-կմ3+600 հատվածի հիմնանորոգում | E54: =Հ2!D50 -> -14978.7
D55: =Հ2!C51 -> Տ-3-44, /Մ-5/ – Ծիածան – Աղավնատուն – Լեռնամերձ ավտոճանապարհի կմ0+000-կմ7+300 հատվածի հիմնանորոգում | E55: =Հ2!D51 -> -5009.8
D56: =Հ2!C52 -> Տ-3-61, /Մ-5/ (Նորապատ) - /Հ-17/ ավտոճանապարհի կմ0+000-կմ1+700 հատվածի հիմնանորոգում | E56: =Հ2!D52 -> -1566.9
D57: =Հ2!C53 -> Տ-4-13,/Հ-39/ (Գավառ) – Գանձակ – Սարուխան – Գեղարքունիք ավտոճանապարհի կմ0+000-կմ12+900 հատվածի հիմնանորոգում | E57: =Հ2!D53 -> 201748.2
D58: =Հ2!C54 -> Տ-4-78, /Տ-4-40/ - Նորակերտ - /Մ-14/ (Փոքր Մասրիկ) ավտոճանապարհի կմ5+200-կմ7+200 հատվածի հիմնանորոգում | E58: =Հ2!D54 -> -3731.7
D59: =Հ2!C55 -> Տ-8-13, /Մ-12/ - Վերիշեն - Խոզնավար ավտոճանապարհի կմ0+000 - կմ18+300 հատվածի հիմնանորոգում | E59: =Հ2!D55 -> 13321.6
D60: =Հ2!C56 -> Որոտան-Խոտ ավտոճանապարհի վերակառուցում | E60: =Հ2!D56 -> 1664843.5
D61: =Հ2!C57 -> /Մ-12/ - Խնձորեսկ - Ներքին Խնձորեսկ ավտոճանապարհի կմ0+000 - կմ10+100 հատվածի հիմնանորոգում | E61: =Հ2!D57 -> 55001.9
D62: =Հ2!C58 -> /Տ-1-21/(Եղիպատրուշ բնակավայր) ճանապարհից դեպի «Մայլեռ» լեռնային հանգստավայր տանող 3 կմ երկարությամբ և 8 մետր լայնությամբ երթևեկելի մասով ասֆալտապատ ավտոճանապարհի կառուցում | E62: =Հ2!D58 -> 101479.3
B63: 1049 | C63: 21002 | D63: Տրանսպորտային օբյեկտների հիմնանորոգում | E63: =E65 -> 134370.3
D64: այդ թվում` ըստ կատարողների
D65: ՀՀ տարածքային կառավարման և ենթակառուցվածքների նախարարություն | E65: =SUM(E66:E71) -> 134370.3
D66: այդ թվում՝ ըստ ուղղությունների
D67: =Հ2!C61 -> Մ-7, /Մ-3/ - Սպիտակ – Գյումրի - ՀՀ սահման միջպետական նշանակության ավտոճանապարհի կմ4+500-ում գտնվող Նալբանդի թունելի հիմնանորոգում | E67: =Հ2!D61 -> 999.9
D68: =Հ2!C62 -> Սանահին կայարանում քանդված կամրջի փոխարեն L=42մ պողպատե ֆերմաներով թռիչքային կառուցվածքով ժամանակավոր կամրջի կառուցման համար անհրաժեշտ նախապատրաստական աշխատանքների իրականացում | E68: =Հ2!D62 -> 48567.6
D69: =Հ2!C63 -> Մ-6 – Ախթալա ա/ճանապարհի վրա Դեբետ գետի հետ հատման հատվածում քանդված կամրջի փոխարեն ժամանակավոր կամրջի կառուցում | E69: =Հ2!D63 -> 60546.8
D70: =Հ2!C64 -> Մ-6 ավտոճանապարհը Ախթալա բնակավայրի հետ կապող պողպատե ֆերմաներով L=39մ թռիչքային կառուցվածքով 2-րդ կամրջի կառուցում | E70: =Հ2!D64 -> 3850
D71: =Հ2!C65 -> Մ-10, Սևան-Մարտունի-Գետափ միջպետական նշանակության ավտոճանապարհի կմ21+500-ում գտնվող փլուզված հողային պաստառի շեպի վերականգնում | E71: =Հ2!D65 -> 20406

Sheet Հ5
D1: Հավելված N 5
D2: ՀՀ կառավարության 2024 թվականի
D3: ______________ ի ___Ն որոշման
B5: ՀԱՅԱՍՏԱՆԻ ՀԱՆՐԱՊԵՏՈՒԹՅԱՆ ԿԱՌԱՎԱՐՈՒԹՅԱՆ 2023 ԹՎԱԿԱՆԻ ԴԵԿՏԵՄԲԵՐԻ 28-Ի N 2323-Ն ՈՐՈՇՄԱՆ N 9 ՀԱՎԵԼՎԱԾԻ NN 9.7 ԱՂՅՈՒՍԱԿՈՒՄ ԿԱՏԱՐՎՈՂ ՓՈՓՈԽՈՒԹՅՈՒՆՆԵՐԸ ԵՎ ԼՐԱՑՈՒՄՆԵՐԸ
D7: Աղյուսակ 9.7
B8: ՀՀ տարածքային կառավարման և ենթակառուցվածքների նախարարություն
B9: ՄԱՍ 2. ՊԵՏԱԿԱՆ ՄԱՐՄՆԻ ԳԾՈՎ ԱՐԴՅՈՒՆՔԱՅԻՆ (ԿԱՏԱՐՈՂԱԿԱՆ) ՑՈՒՑԱՆԻՇՆԵՐԸ
B11: Ծրագրի դասիչը | C11: Ծրագրի անվանումը
B12: 1004 | C12: ='Հ1 '!D13 -> Ոռոգման համակարգի առողջացում
B15: Ծրագրի դասիչը` | C15: 1004 | D15: Ցուցանիշների փոփոխությունը (նվազեցումները նշված են փակագծերում)
B16: Միջոցառման դասիչը` | C16: 31013 | D16: Տարի
B17: Միջոցառման անվանումը` | C17: ='Հ1 '!D19 -> Փոքր և միջին ջրամբարների կառուցում
B18: Նկարագրությունը` | C18: ='Հ1 '!D21 -> Փոքր և միջին ջրամբարների կառուցման աշխատանքներ
B19: Միջոցառման տեսակը` | C19: ='Հ1 '!D23 -> Պետական մարմինների կողմից օգտագործվող ոչ ֆինանսական ակտիվների հետ գործառնություններ
B20: Ակտիվն օգտագործող կազմակերպության(ների) անվանում(ները)՛ | C20: ՀՀ ՏԿԵՆ ջրային կոմիտե
B21: Արդյունքի չափորոշիչներ
B22: Միջոցառման վրա կատարվող ծախսը (հազար դրամ) | D22: ='Հ1 '!E19 -> -900803
B24: Ծրագրի դասիչը | C24: Ծրագրի անվանումը
B25: 1049 | C25: Ճանապարհային ցանցի բարելավում
B27: Ծրագրի միջոցառումները
B28: Ծրագրի դասիչը` | C28: 1049 | D28: Ցուցանիշների փոփոխությունը (ավելացումները նշված են դրական նշանով, իսկ նվազեցումները` փակագծերում)
B29: Միջոցառման դասիչը` | C29: 21001 | D29: Տարի
B30: Միջոցառման անվանումը` | C30: Պետական նշանակության ավտոճանապարհների հիմնանորոգում
B31: Նկարագրությունը` | C31: Միջպետական, հանրապետական և մարզային նշանակության ավտոճոնապարհների քայքայված ծածկի վերանորոգում, մաշված ծածկի փոխարինում
B32: Միջոցառման տեսակը` | C32: Հանրության կողմից անմիջականորեն օգտագործվող ակտիվների հետ կապված միջոցառումներ
B33: Միջոցառումն իրականացնողի անվանումը | C33: Մասնագիտացված միավոր
B34: Արդյունքի չափորոշիչներ
B35: Միջպետական նշանակության ավտոճանապարհներ, կմ | D35: -2.1
B36: Հանրապետական նշանակության ավտոճանապարհներ,կմ | D36: 8
B37: Մարզային նշանակության ավտոճանապարհներ,կմ | D37: 6.4
B38: Միջոցառման վրա կատարվող ծախսը (հազար դրամ) | D38: =Հ3!G42 -> 766432.7
B40: Ծրագրի դասիչը` | C40: 1049 | D40: Ցուցանիշների փոփոխությունը (ավելացումները նշված են դրական նշանով)
B41: Միջոցառման դասիչը` | C41: 21002 | D41: Տարի
B42: Միջոցառման անվանումը` | C42: Տրանսպորտային օբյեկտների հիմնանորոգում
B43: Նկարագրությունը` | C43: Ավտոմոբիլային ճանապարհների վրա գտնվող կամուրջների հիմնանորոգում
B44: Միջոցառման տեսակը` | C44: Հանրության կողմից անմիջականորեն օգտագործվող ակտիվների հետ կապված միջոցառումներ
B45: Միջոցառումն իրականացնողի անվանումը | C45: Մասնագիտացված միավոր
B46: Արդյունքի չափորոշիչներ
B47: Հիմնանորոգվող տրանսպորտային օբյեկտների թիվը, այդ թվում՜ | D47: =D48 -> 3
B48: Կամուրջներ, այդ թվում աշխատանքներ և ծառայություններ՝ | D48: =D49 -> 3
B49: Շինարարություն, հատ | D49: 3
B50: Միջոցառման վրա կատարվող ծախսը (հազար դրամ) | D50: =Հ3!G53 -> 134370.3

Sheet Հ6
D1: Հավելված N 6
D2: ՀՀ կառավարության 2024 թվականի
D3: ______________ ի ___Ն որոշման
B5: ՀԱՅԱՍՏԱՆԻ ՀԱՆՐԱՊԵՏՈՒԹՅԱՆ ԿԱՌԱՎԱՐՈՒԹՅԱՆ 2023 ԹՎԱԿԱՆԻ ԴԵԿՏԵՄԲԵՐԻ 28-Ի N 2323-Ն ՈՐՈՇՄԱՆ N 9.1 ՀԱՎԵԼՎԱԾԻ NN 9.1.7 ԵՎ 9.1.25 ԱՂՅՈՒՍԱԿՆԵՐՈՒՄ ԿԱՏԱՐՎՈՂ ՓՈՓՈԽՈՒԹՅՈՒՆՆԵՐԸ ԵՎ ԼՐԱՑՈՒՄՆԵՐԸ
D7: Աղյուսակ 9.1.25
B8: ՀՀ տարածքային կառավարման և ենթակառուցվածքների նախարարության ջրային կոմիտե
B9: ՄԱՍ 1. ՊԵՏԱԿԱՆ ՄԱՐՄՆԻ ԳԾՈՎ ԱՐԴՅՈՒՆՔԱՅԻՆ (ԿԱՏԱՐՈՂԱԿԱՆ) ՑՈՒՑԱՆԻՇՆԵՐԸ
B11: Ծրագրի դասիչը | C11: Ծրագրի անվանումը
B12: 1004 | C12: ='Հ1 '!D13 -> Ոռոգման համակարգի առողջացում
B15: Ծրագրի դասիչը` | C15: 1004 | D15: Ցուցանիշների փոփոխությունը (նվազեցումները նշված են փակագծերում)
B16: Միջոցառման դասիչը` | C16: 31013 | D16: Տարի
B17: Միջոցառման անվանումը` | C17: ='Հ1 '!D19 -> Փոքր և միջին ջրամբարների կառուցում
B18: Նկարագրությունը` | C18: ='Հ1 '!D21 -> Փոքր և միջին ջրամբարների կառուցման աշխատանքներ
B19: Միջոցառման տեսակը` | C19: ='Հ1 '!D23 -> Պետական մարմինների կողմից օգտագործվող ոչ ֆինանսական ակտիվների հետ գործառնություններ
B20: Ակտիվն օգտագործող կազմակերպության(ների) անվանում(ները)՛ | C20: ՀՀ ՏԿԵՆ ջրային կոմիտե
B21: Արդյունքի չափորոշիչներ
B22: Միջոցառման վրա կատարվող ծախսը (հազար դրամ) | D22: ='Հ1 '!E19 -> -900803
D24: Աղյուսակ 9.1.7
B25: ՀՀ տարածքային կառավարման և ենթակառուցվածքների նախարարություն
B26: ՄԱՍ 1. ՊԵՏԱԿԱՆ ՄԱՐՄՆԻ ԳԾՈՎ ԱՐԴՅՈՒՆՔԱՅԻՆ (ԿԱՏԱՐՈՂԱԿԱՆ) ՑՈՒՑԱՆԻՇՆԵՐԸ
B28: Ծրագրի դասիչը | C28: Ծրագրի անվանումը
B29: 1049 | C29: Ճանապարհային ցանցի բարելավում
B31: Ծրագրի միջոցառումները
B32: Ծրագրի դասիչը` | C32: 1049 | D32: Ցուցանիշների փոփոխությունը (ավելացումները նշված են դրական նշանով, իսկ նվազեցումները` փակագծերում)
B33: Միջոցառման դասիչը` | C33: 21001 | D33: Տարի
B34: Միջոցառման անվանումը` | C34: Պետական նշանակության ավտոճանապարհների հիմնանորոգում
B35: Նկարագրությունը` | C35: Միջպետական, հանրապետական և մարզային նշանակության ավտոճոնապարհների քայքայված ծածկի վերանորոգում, մաշված ծածկի փոխարինում
B36: Միջոցառման տեսակը` | C36: Հանրության կողմից անմիջականորեն օգտագործվող ակտիվների հետ կապված միջոցառումներ
B37: Միջոցառումն իրականացնողի անվանումը | C37: Մասնագիտացված միավոր
B38: Արդյունքի չափորոշիչներ
B39: Միջպետական նշանակության ավտոճանապարհներ, կմ | D39: =Հ5!D35 -> -2.1
B40: Հանրապետական նշանակության ավտոճանապարհներ,կմ | D40: =Հ5!D36 -> 8
B41: Մարզային նշանակության ավտոճանապարհներ,կմ | D41: =Հ5!D37 -> 6.4
B42: Միջոցառման վրա կատարվող ծախսը (հազար դրամ) | D42: =Հ3!G44 -> 766432.7
B44: Ծրագրի դասիչը` | C44: 1049 | D44: Ցուցանիշների փոփոխությունը (ավելացումները նշված են դրական նշանով)
B45: Միջոցառման դասիչը` | C45: =Հ5!C41 -> 21002 | D45: Տարի
B46: Միջոցառման անվանումը` | C46: =Հ5!C42 -> Տրանսպորտային օբյեկտների հիմնանորոգում
B47: Նկարագրությունը` | C47: =Հ5!C43 -> Ավտոմոբիլային ճանապարհների վրա գտնվող կամուրջների հիմնանորոգում
B48: Միջոցառման տեսակը` | C48: =Հ5!C44 -> Հանրության կողմից անմիջականորեն օգտագործվող ակտիվների հետ կապված միջոցառումներ
B49: Միջոցառումն իրականացնողի անվանումը | C49: =Հ5!C45 -> Մասնագիտացված միավոր
B50: Արդյունքի չափորոշիչներ
B51: Հիմնանորոգվող տրանսպորտային օբյեկտների թիվը, այդ թվում՜ | D51: =D52 -> 3
B52: Կամուրջներ, այդ թվում աշխատանքներ և ծառայություններ՝ | D52: =D53 -> 3
B53: Շինարարություն, հատ | D53: =Հ5!D49 -> 3
B54: Միջոցառման վրա կատարվող ծախսը (հազար դրամ) | D54: =Հ3!G55 -> 134370.3

Sheet Հ7
H1: Հավելված N 7
H2: ՀՀ կառավարության 2024 թվականի
H3: ______________ ի ___Ն որոշման
B5: ՀԱՅԱՍՏԱՆԻ ՀԱՆՐԱՊԵՏՈՒԹՅԱՆ ԿԱՌԱՎԱՐՈՒԹՅԱՆ 2023 ԹՎԱԿԱՆԻ ԴԵԿՏԵՄԲԵՐԻ 28-Ի N 2323-Ն ՈՐՈՇՄԱՆ N 10 ՀԱՎԵԼՎԱԾՈՒՄ ԿԱՏԱՐՎՈՂ ԼՐԱՑՈՒՄՆԵՐԸ
B6: Կոդը | C6: Անվանումը | D6: Գնման ձևը | E6: Չափման միավորը | F6: Միավորի գինը | G6: Ցուցանիշների փոփոխությունը (ավելացումները նշված են դրական նշանով)
G7: Քանակը | H7: Գումարը (հազար դրամով)
B8: ՀՀ տարածքային կառավարման և ենթակառուցվածքների նախարարություն | H8: =+H9 -> 780717.27
B9: Բաժին N 04 | C9: Խումբ N 05 | D9: Դաս N 01 | E9: Ճանապարհային տրանսպորտ | H9: =+H10+H72 -> 780717.27
B10: 1049 21001 | C10: Պետական նշանակության ավտոճանապարհների հիմնանորոգում | H10: =SUM(H11+H47) -> 646347.1
B11: ՄԱՍ II. ԱՇԽԱՏԱՆՔՆԵՐ | H11: =SUM(H12:H46) -> 603190.28
B12: 45231177/1 | C12: ճանապարհների վերանորոգման աշխատանքներ | D12: ԲՄ | E12: դրամ | H12: -1245.999
B13: 45231177/86 | C13: ճանապարհների վերանորոգման աշխատանքներ | D13: ԲՄ | E13: դրամ | H13: -13761.412
B14: 45231177/56 | C14: ճանապարհների վերանորոգման աշխատանքներ | D14: ՀԲՄ | E14: դրամ | H14: -40876.65
B15: 45231177/2 | C15: ճանապարհների վերանորոգման աշխատանքներ | D15: ՀԲՄ | E15: դրամ | H15: -65766.385
B16: 45231177 /615 | C16: ճանապարհների վերանորոգման աշխատանքներ | D16: ԲՄ | E16: դրամ | F16: 164500000 | G16: 1 | H16: =+G16*F16/1000 -> 164500
B17: 45231177 /44 | C17: ճանապարհների վերանորոգման աշխատանքներ | D17: ՀԲՄ | E17: դրամ | H17: -1930.035
B18: 45231177 /585 | C18: ճանապարհների վերանորոգման աշխատանքներ | D18: ԲՄ | E18: դրամ | F18: 70710803 | G18: 1 | H18: =+G18*F18/1000 -> 70710.803
B19: 45231177 /7 | C19: ճանապարհների վերանորոգման աշխատանքներ | D19: ԲՄ | E19: դրամ | H19: -2491000
B20: 45231177 /543 | C20: ճանապարհների վերանորոգման աշխատանքներ | D20: ԲՄ | E20: դրամ | H20: -24958.68
B21: 45231177 /10 | C21: ճանապարհների վերանորոգման աշխատանքներ | D21: ՀԲՄ | E21: դրամ | H21: -17712.721
B22: 45231177 /11 | C22: ճանապարհների վերանորոգման աշխատանքներ | D22: ՀԲՄ | E22: դրամ | H22: -1352.536
B23: 45231177 /76 | C23: ճանապարհների վերանորոգման աշխատանքներ | D23: ԲՄ | E23: դրամ | H23: -4309.215
B24: 45231177 /49 | C24: ճանապարհների վերանորոգման աշխատանքներ | D24: ԲՄ | E24: դրամ | H24: -10343.025
B25: 45231177 /13 | C25: ճանապարհների վերանորոգման աշխատանքներ | D25: ԲՄ | E25: դրամ | H25: -1166.7
B26: 45231177 /655 | C26: ճանապարհների վերանորոգման աշխատանքներ | D26: ՀԲՄ | E26: դրամ | H26: -20578.875
B27: 45231177 /583 | C27: ճանապարհների վերանորոգման աշխատանքներ | D27: ԲՄ | E27: դրամ | F27: 101606000 | G27: 1 | H27: =+G27*F27/1000 -> 101606
B28: 45231177 /61 | C28: ճանապարհների վերանորոգման աշխատանքներ | D28: ԲՄ | E28: դրամ | H28: -338.858
B29: 45231177 /537 | C29: ճանապարհների վերանորոգման աշխատանքներ | D29: ՀԲՄ | E29: դրամ | H29: -21916.284
B30: 45231177 /18 | C30: ճանապարհների վերանորոգման աշխատանքներ | D30: ՀԲՄ | E30: դրամ | H30: -19533.41
B31: 45231177 /69 | C31: ճանապարհների վերանորոգման աշխատանքներ | D31: ՀԲՄ | E31: դրամ | F31: 1000000000 | G31: 1 | H31: =+G31*F31/1000 -> 1000000
B32: 45231177 /48 | C32: ճանապարհների վերանորոգման աշխատանքներ | D32: ՀԲՄ | E32: դրամ | H32: -44761.464
B33: 45231177 /79 | C33: ճանապարհների վերանորոգման աշխատանքներ | D33: ՀԲՄ | E33: դրամ | H33: -14729.714
B34: 45231177 /653 | C34: ճանապարհների վերանորոգման աշխատանքներ | D34: ՀԲՄ | E34: դրամ | F34: 39041265 | G34: 1 | H34: =+G34*F34/1000 -> 39041.265
B35: 45231177 /581 | C35: ճանապարհների վերանորոգման աշխատանքներ | D35: ԲՄ | E35: դրամ | F35: 59841347 | G35: 1 | H35: =+G35*F35/1000 -> 59841.347
B36: 45231177 /23 | C36: ճանապարհների վերանորոգման աշխատանքներ | D36: ՀԲՄ | E36: դրամ | H36: -3792.037
B37: 45231177 /55 | C37: ճանապարհների վերանորոգման աշխատանքներ | D37: ՀԲՄ | E37: դրամ | H37: -12520.644
B38: 45231177 /53 | C38: ճանապարհների վերանորոգման աշխատանքներ | D38: ՀԲՄ | E38: դրամ | H38: -14978.742
B39: 45231177 /639 | C39: ճանապարհների վերանորոգման աշխատանքներ | D39: ՀԲՄ | E39: դրամ | H39: -5009.885
B40: 45231177 /640 | C40: ճանապարհների վերանորոգման աշխատանքներ | D40: ՀԲՄ | E40: դրամ | H40: -1566.903
B41: 45231177 /75 | C41: ճանապարհների վերանորոգման աշխատանքներ | D41: ՀԲՄ | E41: դրամ | F41: 200000000 | G41: 1 | H41: =+G41*F41/1000 -> 200000
B42: 45231177 /28 | C42: ճանապարհների վերանորոգման աշխատանքներ | D42: ԲՄ | E42: դրամ | H42: -3731.703
B43: 45231177 /585 | C43: ճանապարհների վերանորոգման աշխատանքներ | D43: ԲՄ | E43: դրամ | F43: 13133920 | G43: 1 | H43: =+G43*F43/1000 -> 13133.92
B44: 45231177 / | C44: ճանապարհների վերանորոգման աշխատանքներ | D44: ՄԱ | E44: դրամ | F44: 1637739159 | G44: 1 | H44: =+G44*F44/1000 -> 1637739.2
B45: 45231177 /590 | C45: ճանապարհների վերանորոգման աշխատանքներ | D45: ՀԲՄ | E45: դրամ | F45: 54499659 | G45: 1 | H45: =+G45*F45/1000 -> 54499.659
B46: 45231162 /502 | C46: ճանապարհների կառուցման աշխատանքներ | D46: ԲՄ | E46: դրամ | F46: 100000000 | G46: 1 | H46: =+G46*F46/1000 -> 100000
B47: ՄԱՍ III. ԾԱՌԱՅՈՒԹՅՈՒՆՆԵՐ | H47: =SUM(H48:H71) -> 43156.821
B48: 71241200/523 | C48: նախագծերի պատրաստում, ծախսերի գնահատում | D48: ՀԲՄ | E48: դրամ | F48: 2010000 | G48: 1 | H48: =+G48*F48/1000 -> 2010
B49: 71241200/526 | C49: նախագծերի պատրաստում, ծախսերի գնահատում | D49: ՀԲՄ | E49: դրամ | F49: 1125000 | G49: 1 | H49: =+G49*F49/1000 -> 1125
B50: 50531140/567 | C50: փորձաքննության ծառայություններ | D50: ԳՀ | E50: դրամ | F50: 400000 | G50: 1 | H50: =+G50*F50/1000 -> 400
B51: 50531140/570 | C51: փորձաքննության ծառայություններ | D51: ԳՀ | E51: դրամ | F51: 112500 | G51: 1 | H51: =+G51*F51/1000 -> 112.5
B52: 71351540 /59 | C52: տեխնիկական հսկողության ծառայություններ | D52: ՀԲՄ | E52: դրամ | H52: -7700
B53: 71351540 /585 | C53: տեխնիկական հսկողության ծառայություններ | D53: ԲՄ | E53: դրամ | F53: 545608 | G53: 1 | H53: =+G53*F53/1000 -> 545.608
B54: 71351540 /586 | C54: տեխնիկական հսկողության ծառայություններ | D54: ԲՄ | E54: դրամ | F54: 464872 | G54: 1 | H54: =+G54*F54/1000 -> 464.872
B55: 71351540 /69 | C55: տեխնիկական հսկողության ծառայություններ | D55: ՀԲՄ | E55: դրամ | F55: 25329470 | G55: 1 | H55: =+G55*F55/1000 -> 25329.47
B56: 71351540 /582 | C56: տեխնիկական հսկողության ծառայություններ | D56: ԲՄ | E56: դրամ | F56: 503170 | G56: 1 | H56: =+G56*F56/1000 -> 503.17
B57: 71351540 /79 | C57: տեխնիկական հսկողության ծառայություններ | D57: ՀԲՄ | E57: դրամ | F57: 772438 | G57: 1 | H57: =+G57*F57/1000 -> 772.438
B58: 71351540 /587 | C58: տեխնիկական հսկողության ծառայություններ | D58: ԲՄ | E58: դրամ | F58: 90105 | G58: 1 | H58: =+G58*F58/1000 -> 90.105
B59: 71351540 /86 | C59: տեխնիկական հսկողության ծառայություններ | D59: ՀՄԱ | E59: դրամ | F59: 16057848 | G59: 1 | H59: =+G59*F59/1000 -> 16057.848
B60: 71351540 /601 | C60: տեխնիկական հսկողության ծառայություններ | D60: ՀԲՄ | E60: դրամ | F60: 181007 | G60: 1 | H60: =+G60*F60/1000 -> 181.007
B61: 71351540 /588 | C61: տեխնիկական հսկողության ծառայություններ | D61: ԲՄ | E61: դրամ | F61: 691073 | G61: 1 | H61: =+G61*F61/1000 -> 691.073
B62: 98111140/ | C62: հեղինակային հսկողության ծառայություններ | D62: ՄԱ | E62: դրամ | F62: 522347 | G62: 1 | H62: =+G62*F62/1000 -> 522.347
B63: 98111140 /7 | C63: հեղինակային հսկողության ծառայություններ | D63: ՄԱ | E63: դրամ | H63: -14846.175
B64: 98111140/ | C64: հեղինակային հսկողության ծառայություններ | D64: ՄԱ | E64: դրամ | F64: 854740 | G64: 1 | H64: =+G64*F64/1000 -> 854.74
B65: 98111140 /54 | C65: հեղինակային հսկողության ծառայություններ | D65: ՄԱ | E65: դրամ | F65: 2342323 | G65: 1 | H65: =+G65*F65/1000 -> 2342.323
B66: 98111140/ | C66: հեղինակային հսկողության ծառայություններ | D66: ՄԱ | E66: դրամ | F66: 471354 | G66: 1 | H66: =+G66*F66/1000 -> 471.354
B67: 98111140/ | C67: հեղինակային հսկողության ծառայություններ | D67: ՄԱ | E67: դրամ | F67: 975761 | G67: 1 | H67: =+G67*F67/1000 -> 975.761
B68: 98111140/ | C68: հեղինակային հսկողության ծառայություններ | D68: ՄԱ | E68: դրամ | F68: 97547 | G68: 1 | H68: =+G68*F68/1000 -> 97.547
B69: 98111140 / | C69: հեղինակային հսկողության ծառայություններ | D69: ՄԱ | E69: դրամ | F69: 11046472 | G69: 1 | H69: =+G69*F69/1000 -> 11046.472
B70: 98111140/ | C70: հեղինակային հսկողության ծառայություններ | D70: ՄԱ | E70: դրամ | F70: 321144 | G70: 1 | H70: =+G70*F70/1000 -> 321.144
B71: 98111140/ | C71: հեղինակային հսկողության ծառայություններ | D71: ՄԱ | E71: դրամ | F71: 788217 | G71: 1 | H71: =+G71*F71/1000 -> 788.217
B72: 1049 21002 | C72: Տրանսպորտային օբյեկտների հիմնանորոգում | H72: =H73+H77 -> 134370.17
B73: ՄԱՍ II ԱՇԽԱՏԱՆՔՆԵՐ | H73: =SUM(H74:H76) -> 126433.1
B74: 45221100/ | C74: կամուրջների կառուցման շինարարական աշխատանքներ | D74: ՀՄԱ | E74: դրամ | F74: 47370900 | G74: 1 | H74: =+G74*F74/1000 -> 47370.9
B75: 45221100/ | C75: կամուրջների կառուցման շինարարական աշխատանքներ | D75: ՀՄԱ | E75: դրամ | F75: 59167140 | G75: 1 | H75: =+G75*F75/1000 -> 59167.14
B76: 45221117/ | C76: կամուրջների վերանորոգման շինարարական աշխատանքներ | D76: ՀՄԱ | E76: դրամ | F76: 19895056 | G76: 1 | H76: =+G76*F76/1000 -> 19895.056
B77: ՄԱՍ III ԾԱՌԱՅՈՒԹՅՈՒՆՆԵՐ | H77: =SUM(H78:H88) -> 7937.076
B78: 71241200/ | C78: նախագծերի պատրաստում, ծախսերի գնահատում | D78: ՀՄԱ | E78: դրամ | F78: 3500000 | G78: 1 | H78: =+G78*F78/1000 -> 3500
B79: 50531140 /506 | C79: փորձաքննության ծառայություններ | D79: ԳՀ | E79: դրամ | F79: 999900 | G79: 1 | H79: =+G79*F79/1000 -> 999.9
B80: 50531140 / | C80: փորձաքննության ծառայություններ | D80: ՀՄԱ | E80: դրամ | F80: 350000 | G80: 1 | H80: =+G80*F80/1000 -> 350
B81: 71351540/ | C81: տեխնիկական հսկողության ծառայություններ | D81: ՀՄԱ | E81: դրամ | F81: 920472 | G81: 1 | H81: =+G81*F81/1000 -> 920.472
B82: 71351540/ | C82: տեխնիկական հսկողության ծառայություններ | D82: ՀՄԱ | E82: դրամ | F82: 1034718 | G82: 1 | H82: =+G82*F82/1000 -> 1034.718
B83: 71351540/ | C83: տեխնիկական հսկողության ծառայություններ | D83: ՀՄԱ | E83: դրամ | F83: 393029 | G83: 1 | H83: =+G83*F83/1000 -> 393.029
B84: 71351540/561 | C84: տեխնիկական հսկողության ծառայություններ | D84: ԲՄ | E84: դրամ | H84: -490.118
B85: 71351540/ | C85: տեխնիկական հսկողության ծառայություններ | D85: ՀՄԱ | E85: դրամ | F85: 490118 | G85: 1 | H85: 490.118
B86: 98111140/ | C86: հեղինակային հսկողության ծառայություններ | D86: ՄԱ | E86: դրամ | F86: 276142 | G86: 1 | H86: =+G86*F86/1000 -> 276.142
B87: 98111140/ | C87: հեղինակային հսկողության ծառայություններ | D87: ՄԱ | E87: դրամ | F87: 344906 | G87: 1 | H87: =+G87*F87/1000 -> 344.906
B88: 98111140/ | C88: հեղինակային հսկողության ծառայություններ | D88: ՄԱ | E88: դրամ | F88: 117909 | G88: 1 | H88: =+G88*F88/1000 -> 117.909
B89: =[1]Հ6!B8 -> ՀՀ տարածքային կառավարման և ենթակառուցվածքների նախարարության ջրային կոմիտե | H89: =+H90 -> -900803
B90: Բաժին N 04 | C90: Խումբ N 02 | D90: Դաս N 04 | E90: =[1]Հ3!F17 -> Ոռոգում | H90: =H91 -> -900803
B91: 1004 31013 | C91: =[1]Հ3!F23 -> Փոքր և միջին ջրամբարների կառուցում | H91: =H92+H94 -> -900803
B92: ՄԱՍ II. ԱՇԽԱՏԱՆՔՆԵՐ | H92: =H93 -> -77529.3
B93: 45611300/1 | C93: այլ շենքերի, շինությունների հիմնանորոգում | D93: ԲՄ | E93: դրամ | H93: =[1]Հ3!G31 -> -77529.3
B94: ՄԱՍ III ԾԱՌԱՅՈՒԹՅՈՒՆՆԵՐ | H94: =SUM(H95:H96) -> -823273.7
B95: 71241200/6 | C95: նախագծերի պատրաստում, ծախսերի գնահատում | D95: ԲՄ | E95: դրամ | H95: -589019.5
B96: 85311210/1 | C96: խորհրդատվության ծառայություններ | D96: ԲՄ | E96: դրամ | H96: -234254.2
