Workbook
Name _tab10: #REF!
Name _tab10: #REF!
Name _tab10: #REF!
Name _tab10: #REF!
Name _tab10: #REF!
Name _tab10: #REF!
Name _tab11: #REF!
Name _tab11: #REF!
Name _tab11: #REF!
Name _tab11: #REF!
Name _tab11: #REF!
Name _tab11: #REF!
Name _tab12: #REF!
Name _tab12: #REF!
Name _tab12: #REF!
Name _tab12: #REF!
Name _tab12: #REF!
Name _tab12: #REF!
Name _tab13: #REF!
Name _tab13: #REF!
Name _tab13: #REF!
Name _tab13: #REF!
Name _tab13: #REF!
Name _tab13: #REF!
Name _tab14: #REF!
Name _tab14: #REF!
Name _tab14: #REF!
Name _tab14: #REF!
Name _tab14: #REF!
Name _tab14: #REF!
Name _tab15: #REF!
Name _tab15: #REF!
Name _tab15: #REF!
Name _tab15: #REF!
Name _tab15: #REF!
Name _tab15: #REF!
Name _tab16: #REF!
Name _tab16: #REF!
Name _tab16: #REF!
Name _tab16: #REF!
Name _tab16: #REF!
Name _tab16: #REF!
Name _tab17: #REF!
Name _tab17: #REF!
Name _tab17: #REF!
Name _tab17: #REF!
Name _tab17: #REF!
Name _tab17: #REF!
Name _tab18: #REF!
Name _tab18: #REF!
Name _tab18: #REF!
Name _tab18: #REF!
Name _tab18: #REF!
Name _tab18: #REF!
Name _tab19: #REF!
Name _tab19: #REF!
Name _tab19: #REF!
Name _tab19: #REF!
Name _tab19: #REF!
Name _tab19: #REF!

Sheet ՕՀ-1 Ա-2 և Հ-5 Ա-1
B1: Հավելված N 1
B2: ՀՀ կառավարության 2024 թվականի
B3: ______________ ի N___ -Ն որոշման
B5: «ՀԱՅԱՍՏԱՆԻ ՀԱՆՐԱՊԵՏՈՒԹՅԱՆ 2024 ԹՎԱԿԱՆԻ ՊԵՏԱԿԱՆ ԲՅՈՒՋԵԻ ՄԱՍԻՆ» ՀԱՅԱՍՏԱՆԻ ՀԱՆՐԱՊԵՏՈՒԹՅԱՆ ՕՐԵՆՔԻ N 1 ՀԱՎԵԼՎԱԾԻ N 2 ԱՂՅՈՒՍԱԿՈՒՄ ԿԱՏԱՐՎՈՂ ՎԵՐԱԲԱՇԽՈՒՄԸ ԵՎ ՀԱՅԱՍՏԱՆԻ ՀԱՆՐԱՊԵՏՈՒԹՅԱՆ ԿԱՌԱՎԱՐՈՒԹՅԱՆ 2023 ԹՎԱԿԱՆԻ ԴԵԿՏԵՄԲԵՐԻ 28-Ի N 2323-Ն ՈՐՈՇՄԱՆ N 5 ՀԱՎԵԼՎԱԾԻ N 1 ԱՂՅՈՒՍԱԿՈՒՄ ԿԱՏԱՐՎՈՂ ՓՈՓՈԽՈՒԹՅՈՒՆՆԵՐԸ
E6: հազար դրամ
B7: Ծրագրային դասիչը | D7: Բյուջետային հատկացումների գլխավոր կարգադրիչների, ծրագրերի և միջոցառումների անվանումները | E7: Ցուցանիշների փոփոխությունը (ավելացումները նշված են դրական նշանով, իսկ նվազեցումները՝ փակագծերում)
B8: ծրագիր | C8: միջո-ցառում | E8: տարի
D9: Ընդամենը | E9: =E10+E30 -> 0.024
D10: ՀՀ պաշտպանության նախարարություն | E10: =E11 -> 0.024
B11: 1169 | D11: Ծրագրի անվանումը՝ | E11: =E24+E18 -> 0.024
D12: ՀՀ պաշտպանության ապահովում
D13: Ծրագրի նպատակը՝
D14: ՀՀ ԶՈւ ռազմավարական ծավալումն ապահովող մարտական պատրաստականության պահպանում՝ արտաքին թշնամուց ՀՀ պետական սահմանների պաշտպանության ապահովում
D15: Վերջնական արդյունքի նկարագրությունը՝
D16: ՀՀ ԶՈւ ռազմավարական ծավալումն ապահովող մարտական պատրաստականության պահպանում
B17: Ծրագրի միջոցառումներ
C18: 11001 | D18: Միջոցառման անվանումը՝ | E18: =+'Հ-3 և 4'!H21 -> -1821227.9
D19: Ռազմական կարիքների բավարարում
D20: Միջոցառման նկարագրությունը՝
D21: Ընթացիկ գործունեության ապահովման գործողություններ
D22: Միջոցառման տեսակը
D23: Ծառայությունների մատուցում
C24: 31001 | D24: Միջոցառման անվանումը՝ | E24: ='Հ-3 և 4'!H32 -> 1821227.9
D25: ՀՀ պաշտպանության նախարարության շենքային պայմանների բարելավում
D26: Միջոցառման նկարագրությունը՝
D27: Պաշտպանության կարիքների համար բնակելի, գրասենյակային և այլ նշանակության շենքերի և շինությունների կառուցում
D28: Միջոցառման տեսակը
D29: Պետական մարմինների կողմից օգտագործվող ոչ ֆինանսական ակտիվների հետ գործառնություններ
D30: ՀՀ կառավարություն | E30: =+E31 -> 0
B31: 1139 | D31: Ծրագրի անվանումը` | E31: =E38+E45 -> 0
D32: ՀՀ կառավարության պահուստային ֆոնդ
D33: Ծրագրի նպատակը`
D34: Պետական բյուջեում չկանխատեսված, ինչպես նաեւ բյուջետային երաշխիքների ապահովման ծախսերի ֆինանսավորման ապահովում
D35: Վերջնական արդյունքի նկարագրությունը`
D36: Պահուստային ֆոնդի կառավարման արդյունավետության և թափանցիկության ապահովում
B37: Ծրագրի միջոցառումներ
C38: 11001 | D38: Միջոցառման անվանումը` | E38: ='Հ-3 և 4'!H63 -> 1112561
D39: ՀՀ կառավարության պահուստային ֆոնդ
D40: Միջոցառման նկարագրությունը`
D41: ՀՀ պետական բյուջեում նախատեսված ելքերի լրացուցիչ ֆինանսավորման, պետական բյուջեում չկանխատեսված ելքերի, ինչպես նաև բյուջետային երաշխիքների ապահովման ելքերի ֆինանսավորման ապահովում
D42: Միջոցառման տեսակը
D43: Ծառայությունների մատուցում
B44: Ծրագրի միջոցառումներ
C45: 11001 | D45: Միջոցառման անվանումը` | E45: =-E38 -> -1112561
D46: ՀՀ կառավարության պահուստային ֆոնդ
D47: Միջոցառման նկարագրությունը`
D48: ՀՀ պետական բյուջեում նախատեսված ելքերի լրացուցիչ ֆինանսավորման, պետական բյուջեում չկանխատեսված ելքերի, ինչպես նաև բյուջետային երաշխիքների ապահովման ելքերի ֆինանսավորման ապահովում
D49: Միջոցառման տեսակը
D50: Ծառայությունների մատուցում

Sheet ՕՀ-1 Ա-3
H1: Հավելված N 2
H2: ՀՀ կառավարության 2024 թվականի
H3: ___________ ___-ի N _______ -Ն որոշման
A5: «ՀԱՅԱՍՏԱՆԻ ՀԱՆՐԱՊԵՏՈՒԹՅԱՆ 2024 ԹՎԱԿԱՆԻ ՊԵՏԱԿԱՆ ԲՅՈՒՋԵԻ ՄԱՍԻՆ» ՀԱՅԱՍՏԱՆԻ ՀԱՆՐԱՊԵՏՈՒԹՅԱՆ ՕՐԵՆՔԻ N 1 ՀԱՎԵԼՎԱԾԻ N 3 ԱՂՅՈՒՍԱԿՈՒՄ ԿԱՏԱՐՎՈՂ ՓՈՓՈԽՈՒԹՅՈՒՆԸ
H6: հազար դրամով
A7: Ծրագրային դասիչ | C7: Բյուջետային գլխավոր կարգադրիչների, ծրագրերի, միջոցառումների և ուղղությունների անվանումները | D7: Ցուցանիշների փոփոխությունը (ավելացումները նշված են դրական նշանով, իսկ նվազեցումները՝ փակագծերում)
A8: Ծրագիր | B8: Միջոցառում | D8: Ընդամենը | E8: այդ թվում՝
E9: Կառուցման աշխատանքներ | F9: Վերակառուցման, վերանորոգման և վերականգնման աշխատանքներ | G9: Նախագծահե- տազոտական, գեոդեզիա- քարտեզագրա- կան աշխա- տանքներ | H9: Ոչ ֆինանսական այլ ակտիվների ձեռքբերում
C10: ԸՆԴԱՄԵՆԸ | D10: =D12 -> 1821227.9 | E10: =E12 -> 1821227.9
C11: այդ թվում՝
C12: ՀՀ պաշտպանության նախարարություն | D12: =+D14 -> 1821227.9 | E12: =+E14 -> 1821227.9
C13: այդ թվում`
A14: 1169 | B14: 31001 | C14: ՀՀ պաշտպանության նախարարության շենքային պայմանների բարելավում | D14: =SUM(E14:H14) -> 1821227.9 | E14: ='ՕՀ-1 Ա-2 և Հ-5 Ա-1'!E24 -> 1821227.9

Sheet Հ-3 և 4
B1: Հավելված N 3
B2: ՀՀ կառավարության 2024 թվականի
B3: ______________ ի N ___ -Ն որոշման
B5: ՀԱՅԱՍՏԱՆԻ ՀԱՆՐԱՊԵՏՈՒԹՅԱՆ ԿԱՌԱՎԱՐՈՒԹՅԱՆ 2023 ԹՎԱԿԱՆԻ ԴԵԿՏԵՄԲԵՐԻ 28-Ի N 2323-Ն
B6: ՈՐՈՇՄԱՆ N 3 և N 4 ՀԱՎԵԼՎԱԾՆԵՐՈՒՄ ԿԱՏԱՐՎՈՂ ՓՈՓՈԽՈՒԹՅՈՒՆՆԵՐԸ
H7: հազար դրամ
B8: Գործառական դասիչը | E8: Ծրագրային դասիչը | G8: Բյուջետային ծախսերի գործառական դասակարգման բաժինների, խմբերի և դասերի, բյուջետային ծրագրերի միջոցառումների, բյուջետային հատկացումների գլխավոր կարգադրիչների անվանումները | H8: Ցուցանիշների փոփոխությունը (ավելացումները նշված են դրական նշանով, իսկ նվազեցումները՝ փակագծերում)
B9: բաժին | C9: խումբ | D9: դաս | E9: ծրագիր | F9: միջոցառում | H9: տարի
G10: ԸՆԴԱՄԵՆԸ ԾԱԽՍԵՐ այդ թվում՝ | H10: =H11+H45 -> 0.024
B11: 02 | G11: ՊԱՇՏՊԱՆՈՒԹՅՈՒՆ | H11: =H13 -> 0.024
G12: այդ թվում`
C13: 01 | G13: Ռազմական պաշտպանություն | H13: =H15 -> 0.024
G14: այդ թվում`
D15: 01 | G15: Ռազմական պաշտպանություն | H15: =H17 -> 0.024
G16: այդ թվում`
G17: ՀՀ պաշտպանության նախարարություն | H17: =H19 -> 0.024
G18: այդ թվում`
E19: 1169 | G19: ՀՀ պաշտպանության ապահովում | H19: =H32+H21 -> 0.024
G20: այդ թվում`
F21: 11001 | G21: Ռազմական կարիքների բավարարում | H21: =H23 -> -1821227.9
G22: այդ թվում` ըստ կատարողների
G23: ՀՀ պաշտպանության նախարարություն | H23: =H25 -> -1821227.9
G24: այդ թվում` բյուջետային ծախսերի տնտեսագիտական դասակարգման հոդվածներ
G25: ԸՆԴԱՄԵՆԸ ԾԱԽՍԵՐ | H25: =H26 -> -1821227.9
G26: ԸՆԹԱՑԻԿ ԾԱԽՍԵՐ | H26: =+H27 -> -1821227.9
G27: ԱՅԼ ԾԱԽՍԵՐ | H27: =H28 -> -1821227.9
G28: ԱՅԼ ԾԱԽՍԵՐ | H28: =SUM(H29:H31) -> -1821227.9
G29: - Այլ ծախսեր | H29: =-1821227.85 -> -1821227.9
G30: - Այլ ծախսեր | H30: ='ՕՀ-1 Ա-2 և Հ-5 Ա-1'!E38 -> 1112561
G31: - Այլ ծախսեր | H31: ='ՕՀ-1 Ա-2 և Հ-5 Ա-1'!E45 -> -1112561
F32: 31001 | G32: ՀՀ պաշտպանության նախարարության շենքային պայմանների բարելավում | H32: =H34 -> 1821227.9
G33: այդ թվում` ըստ կատարողների
G34: ՀՀ պաշտպանության նախարարություն | H34: =H36 -> 1821227.9
G35: այդ թվում` բյուջետային ծախսերի տնտեսագիտական դասակարգման հոդվածներ
G36: ԸՆԴԱՄԵՆԸ ԾԱԽՍԵՐ | H36: =H37 -> 1821227.9
G37: ՈՉ ՖԻՆԱՆՍԱԿԱՆ ԱԿՏԻՎՆԵՐԻ ԳԾՈՎ ԾԱԽՍԵՐ | H37: =H38 -> 1821227.9
G38: ՀԻՄՆԱԿԱՆ ՄԻՋՈՑՆԵՐ | H38: =H39+H43 -> 1821227.9
G39: ՄԵՔԵՆԱՆԵՐ ԵՎ ՍԱՐՔԱՎՈՐՈՒՄՆԵՐ | H39: =H40+H41+H42 -> 1820902.9
G40: - Տրանսպորտային սարքավորումներ | H40: =696534.8+0.06 -> 696534.86
G41: - Վարչական սարքավորումներ | H41: =898125.395 -> 898125.4
G42: - Այլ մեքենաներ և սարքավորումներ | H42: 226242.62
G43: ԱՅԼ ՀԻՄՆԱԿԱՆ ՄԻՋՈՑՆԵՐ | H43: =H44 -> 325
G44: - Ոչ նյութական հիմնական միջոցներ | H44: 325
B45: 11 | G45: ՀԻՄՆԱԿԱՆ ԲԱԺԻՆՆԵՐԻՆ ՉԴԱՍՎՈՂ ՊԱՀՈՒՍՏԱՅԻՆ ՖՈՆԴԵՐ | H45: =H47 -> 0
G46: այդ թվում`
C47: 01 | G47: ՀՀ կառավարության և համայնքների պահուստային ֆոնդ | H47: =H49 -> 0
G48: այդ թվում`
D49: 01 | G49: ՀՀ կառավարության պահուստային ֆոնդ | H49: =H51 -> 0
G50: այդ թվում`
G51: ՀՀ կառավարություն | H51: =H53 -> 0
G52: այդ թվում`
E53: 1139 | G53: ՀՀ կառավարության պահուստային ֆոնդ | H53: =H55+H64 -> 0
G54: այդ թվում`
F55: 11001 | G55: ՀՀ կառավարության պահուստային ֆոնդ | H55: =H57 -> 1112561
G56: այդ թվում` ըստ կատարողների
G57: ՀՀ կառավարություն | H57: =H59 -> 1112561
G58: այդ թվում` բյուջետային ծախսերի տնտեսագիտական դասակարգման հոդվածներ
G59: ԸՆԴԱՄԵՆԸ ԾԱԽՍԵՐ | H59: =H60 -> 1112561
G60: ԸՆԹԱՑԻԿ ԾԱԽՍԵՐ | H60: =H61 -> 1112561
G61: ԱՅԼ ԾԱԽՍԵՐ | H61: =H62 -> 1112561
G62: ԱՅԼ ԾԱԽՍԵՐ | H62: =H63 -> 1112561
G63: - Պահուստային միջոցներ | H63: =-H72 -> 1112561
F64: 11001 | G64: ՀՀ կառավարության պահուստային ֆոնդ | H64: =H66 -> -1112561
G65: այդ թվում` ըստ կատարողների
G66: ՀՀ կառավարություն | H66: =H68 -> -1112561
G67: այդ թվում` բյուջետային ծախսերի տնտեսագիտական դասակարգման հոդվածներ
G68: ԸՆԴԱՄԵՆԸ ԾԱԽՍԵՐ | H68: =H69 -> -1112561
G69: ԸՆԹԱՑԻԿ ԾԱԽՍԵՐ | H69: =H70 -> -1112561
G70: ԱՅԼ ԾԱԽՍԵՐ | H70: =H71 -> -1112561
G71: ԱՅԼ ԾԱԽՍԵՐ | H71: =H72 -> -1112561
G72: - Պահուստային միջոցներ | H72: -1112561

Sheet x
B1: Հավելված N 4
B2: ՀՀ կառավարության 2024 թվականի
B3: ______________ ի N ___ -Ն որոշման
B5: ՀԱՅԱՍՏԱՆԻ ՀԱՆՐԱՊԵՏՈՒԹՅԱՆ ԿԱՌԱՎԱՐՈՒԹՅԱՆ ՊԱՀՈՒՍՏԱՅԻՆ ՖՈՆԴԻՑ ՀԱՏԿԱՑՈՒՄՆԵՐ
H6: հազար դրամ
B7: Գործառական դասիչը | E7: Ծրագրային դասիչը | G7: Բյուջետային ծախսերի գործառական դասակարգման բաժինների, խմբերի և դասերի, բյուջետային ծրագրերի միջոցառումների, բյուջետային հատկացումների գլխավոր կարգադրիչների անվանումները | H7: Ցուցանիշների փոփոխությունը (ավելացումները նշված են դրական նշանով, իսկ նվազեցումները՝ փակագծերում)
B8: բաժին | C8: խումբ | D8: դաս | E8: ծրագիր | F8: միջոցառում | H8: տարի
G9: ԸՆԴԱՄԵՆԸ ԾԱԽՍԵՐ այդ թվում՝ | H9: =H10+H29 -> 0
B10: 02 | G10: ՊԱՇՏՊԱՆՈՒԹՅՈՒՆ | H10: =H12 -> 1112561
G11: այդ թվում`
C12: 01 | G12: Ռազմական պաշտպանություն | H12: =H14 -> 1112561
G13: այդ թվում`
D14: 01 | G14: Ռազմական պաշտպանություն | H14: =H16 -> 1112561
G15: այդ թվում`
G16: ՀՀ պաշտպանության նախարարություն | H16: =H18 -> 1112561
G17: այդ թվում`
E18: 1169 | G18: ՀՀ պաշտպանության ապահովում | H18: =H20 -> 1112561
G19: այդ թվում`
F20: 11001 | G20: Ռազմական կարիքների բավարարում | H20: =H22 -> 1112561
G21: այդ թվում` ըստ կատարողների
G22: ՀՀ պաշտպանության նախարարություն | H22: =H24 -> 1112561
G23: այդ թվում` բյուջետային ծախսերի տնտեսագիտական դասակարգման հոդվածներ
G24: ԸՆԴԱՄԵՆԸ ԾԱԽՍԵՐ | H24: =H25 -> 1112561
G25: ԸՆԹԱՑԻԿ ԾԱԽՍԵՐ | H25: =H26 -> 1112561
G26: ԱՅԼ ԾԱԽՍԵՐ | H26: =+H27 -> 1112561
G27: ԱՅԼ ԾԱԽՍԵՐ | H27: =SUM(H28:H28) -> 1112561
G28: - Այլ ծախսեր | H28: =-H47 -> 1112561
B29: 11 | G29: ՀԻՄՆԱԿԱՆ ԲԱԺԻՆՆԵՐԻՆ ՉԴԱՍՎՈՂ ՊԱՀՈՒՍՏԱՅԻՆ ՖՈՆԴԵՐ | H29: =H31 -> -1112561
G30: այդ թվում`
C31: 01 | G31: ՀՀ կառավարության և համայնքների պահուստային ֆոնդ | H31: =H33 -> -1112561
G32: այդ թվում`
D33: 01 | G33: ՀՀ կառավարության պահուստային ֆոնդ | H33: =H35 -> -1112561
G34: այդ թվում`
G35: ՀՀ կառավարություն | H35: =H37 -> -1112561
G36: այդ թվում`
E37: 1139 | G37: ՀՀ կառավարության պահուստային ֆոնդ | H37: =H39 -> -1112561
G38: այդ թվում`
F39: 11001 | G39: ՀՀ կառավարության պահուստային ֆոնդ | H39: =H41 -> -1112561
G40: այդ թվում` ըստ կատարողների
G41: ՀՀ կառավարություն | H41: =H43 -> -1112561
G42: այդ թվում` բյուջետային ծախսերի տնտեսագիտական դասակարգման հոդվածներ
G43: ԸՆԴԱՄԵՆԸ ԾԱԽՍԵՐ | H43: -1112561
G44: ԸՆԹԱՑԻԿ ԾԱԽՍԵՐ | H44: -1112561
G45: ԱՅԼ ԾԱԽՍԵՐ | H45: -1112561
G46: ԱՅԼ ԾԱԽՍԵՐ | H46: -1112561
G47: - Պահուստային միջոցներ | H47: -1112561

Sheet Հ-5 Ա-2
B1: Հավելված N 5
B2: ='Հ-3 և 4'!B2 -> ՀՀ կառավարության 2024 թվականի
B3: ='Հ-3 և 4'!B3 -> ______________ ի N ___ -Ն որոշման
B5: ='Հ-3 և 4'!B5:H5 -> ՀԱՅԱՍՏԱՆԻ ՀԱՆՐԱՊԵՏՈՒԹՅԱՆ ԿԱՌԱՎԱՐՈՒԹՅԱՆ 2023 ԹՎԱԿԱՆԻ ԴԵԿՏԵՄԲԵՐԻ 28-Ի N 2323-Ն
B6: ՈՐՈՇՄԱՆ N 5 ՀԱՎԵԼՎԱԾԻ N 2 ԱՂՅՈՒՍԱԿՈՒՄ ԿԱՏԱՐՎՈՂ ՓՈՓՈԽՈՒԹՅՈՒՆՆԵՐԸ
E7: հազար դրամ
B8: Ծրագրային դասիչ | D8: Բյուջետային գլխավոր կարգադրիչների, ծրագրերի, միջոցառումների և ուղղությունների անվանումները | E8: Ցուցանիշների փոփոխությունը (ավելացումները նշված են դրական նշանով)
B9: ծրագիր | C9: միջո-ցառում | E9: տարի
D10: ԸՆԴԱՄԵՆԸ | E10: =E12 -> 1821227.9
D11: այդ թվում՝
D12: ՀՀ պաշտպանության նախարարություն | E12: =E14 -> 1821227.9
D13: այդ թվում`
B14: 1169 | C14: 31001 | D14: ՀՀ պաշտպանության նախարարության շենքային պայմանների բարելավում | E14: =E16 -> 1821227.9
D15: այդ թվում` ըստ կատարողների
D16: ՀՀ պաշտպանության նախարարություն | E16: ='Հ-3 և 4'!H32 -> 1821227.9

Sheet Հ-9 Ա-9.14
B1: Հավելված N 6
B2: ='Հ-3 և 4'!B2 -> ՀՀ կառավարության 2024 թվականի
B3: ='Հ-3 և 4'!B3 -> ______________ ի N ___ -Ն որոշման
B5: =+'Հ-3 և 4'!B5:H5 -> ՀԱՅԱՍՏԱՆԻ ՀԱՆՐԱՊԵՏՈՒԹՅԱՆ ԿԱՌԱՎԱՐՈՒԹՅԱՆ 2023 ԹՎԱԿԱՆԻ ԴԵԿՏԵՄԲԵՐԻ 28-Ի N 2323-Ն
B6: ՈՐՈՇՄԱՆ N 9 ՀԱՎԵԼՎԱԾԻ N 9.14 ԵՎ N 9.48 ԱՂՅՈՒՍԱԿՆԵՐՈՒՄ ԿԱՏԱՐՎՈՂ ՓՈՓՈԽՈՒԹՅՈՒՆՆԵՐԸ
B8: ՀՀ պաշտպանության նախարարություն
B10: ՄԱՍ 2. ՊԵՏԱԿԱՆ ՄԱՐՄՆԻ ԳԾՈՎ ԱՐԴՅՈՒՆՔԱՅԻՆ (ԿԱՏԱՐՈՂԱԿԱՆ) ՑՈՒՑԱՆԻՇՆԵՐԸ
B12: Ծրագրի դասիչը | C12: Ծրագրի անվանումը
B13: 1169 | C13: ՀՀ պաշտպանության ապահովում
B15: Ծրագրի միջոցառումները
B17: Ծրագրի դասիչը` | C17: 1169 | D17: Ցուցանիշների փոփոխությունը (նվազեցումները նշված են փակագծերում)
B18: Միջոցառման դասիչը` | C18: 11001 | D18: տարի
B19: Միջոցառման անվանումը` | C19: Ռազմական կարիքների բավարարում
B20: Նկարագրությունը` | C20: Ընթացիկ գործունեության ապահովման գործողություններ
B21: Միջոցառման տեսակը` | C21: Ծառայությունների մատուցում
B22: Ծառայությունը մատուցող կազմակերպության(ների) անվանում(ներ)ը՛ | C22: ՀՀ պաշտպանության նախարարություն
B23: Արդյունքի չափորոշիչներ
B24: Չի սահմանվում
B25: Միջոցառման վրա կատարվող ծախսը (հազար դրամ) | D25: =+'Հ-3 և 4'!H21 -> -1821227.9
B27: Ծրագրի դասիչը` | C27: 1169 | D27: Ցուցանիշների փոփոխությունը (ավելացումները նշված են դրական նշանով)
B28: Միջոցառման դասիչը` | C28: 31001 | D28: տարի
B29: Միջոցառման անվանումը` | C29: ՀՀ պաշտպանության նախարարության շենքային պայմանների բարելավում
B30: Նկարագրությունը` | C30: Պաշտպանության կարիքների համար բնակելի, գրասենյակային և այլ նշանակության շենքերի և շինությունների կառուցում
B31: Միջոցառման տեսակը` | C31: Պետական մարմինների կողմից օգտագործվող ոչ ֆինանսական ակտիվների հետ գործառնություններ
B32: Ակտիվն օգտագործող կազմակերպության(ների) անվանում(ներ)ը՝ | C32: ՀՀ պաշտպանության նախարարություն
B33: Արդյունքի չափորոշիչներ
B34: Չի սահմանվում
B35: Միջոցառման վրա կատարվող ծախսը (հազար դրամ) | D35: ='Հ-3 և 4'!H32 -> 1821227.9
B37: ՀՀ կառավարություն
B38: ՄԱՍ 2. ՊԵՏԱԿԱՆ ՄԱՐՄՆԻ ԳԾՈՎ ԱՐԴՅՈՒՆՔԱՅԻՆ (ԿԱՏԱՐՈՂԱԿԱՆ) ՑՈՒՑԱՆԻՇՆԵՐԸ
B40: Ծրագրի դասիչը | C40: Ծրագրի անվանումը
B41: 1139 | C41: ՀՀ կառավարության պահուստային ֆոնդ
B43: Ծրագրի դասիչը` | C43: 1139 | D43: Ցուցանիշների փոփոխությունը (ավելացումները նշված են դրական նշանով)
B44: Միջոցառման դասիչը` | C44: 11001 | D44: տարի
B45: Միջոցառման անվանումը` | C45: ՀՀ կառավարության պահուստային ֆոնդ
B46: Նկարագրությունը` | C46: ՀՀ պետական բյուջեում նախատեսված ելքերի լրացուցիչ ֆինանսավորման, պետական բյուջեում չկանխատեսված ելքերի, ինչպես նաև բյուջետային երաշխիքների ապահովման ելքերի ֆինանսավորման ապահովում
B47: Միջոցառման տեսակը` | C47: Ծառայությունների մատուցում
B48: Միջոցառումն իրականացնողի անվանումը | C48: ՀՀ կառավարություն
B49: Արդյունքի չափորոշիչներ
B50: Միջոցառման վրա կատարվող ծախսը (հազար դրամ) | D50: ='Հ-3 և 4'!H63 -> 1112561
B52: Ծրագրի դասիչը` | C52: 1139 | D52: Ցուցանիշների փոփոխությունը (նվազեցումները նշված են փակագծերում)
B53: Միջոցառման դասիչը` | C53: 11001 | D53: տարի
B54: Միջոցառման անվանումը` | C54: ՀՀ կառավարության պահուստային ֆոնդ
B55: Նկարագրությունը` | C55: ՀՀ պետական բյուջեում նախատեսված ելքերի լրացուցիչ ֆինանսավորման, պետական բյուջեում չկանխատեսված ելքերի, ինչպես նաև բյուջետային երաշխիքների ապահովման ելքերի ֆինանսավորման ապահովում
B56: Միջոցառման տեսակը` | C56: Ծառայությունների մատուցում
B57: Միջոցառումն իրականացնողի անվանումը | C57: ՀՀ կառավարություն
B58: Արդյունքի չափորոշիչներ
B59: Միջոցառման վրա կատարվող ծախսը (հազար դրամ) | D59: =-D50 -> -1112561

Sheet Հ-9.1 Ա-9.1.14
B1: Հավելված N 7
B2: ='Հ-3 և 4'!B2:H2 -> ՀՀ կառավարության 2024 թվականի
B3: ='Հ-3 և 4'!B3:H3 -> ______________ ի N ___ -Ն որոշման
B5: ='Հ-3 և 4'!B5:H5 -> ՀԱՅԱՍՏԱՆԻ ՀԱՆՐԱՊԵՏՈՒԹՅԱՆ ԿԱՌԱՎԱՐՈՒԹՅԱՆ 2023 ԹՎԱԿԱՆԻ ԴԵԿՏԵՄԲԵՐԻ 28-Ի N 2323-Ն
B6: ՈՐՈՇՄԱՆ N 9.1 ՀԱՎԵԼՎԱԾԻ N 9.1.14 ԵՎ N 9.1.58 ԱՂՅՈՒՍԱԿՆԵՐՈՒՄ ԿԱՏԱՐՎՈՂ ՓՈՓՈԽՈՒԹՅՈՒՆՆԵՐԸ
B8: ՀՀ պաշտպանության նախարարություն
B10: ՄԱՍ 1. ՊԵՏԱԿԱՆ ՄԱՐՄՆԻ ԳԾՈՎ ԱՐԴՅՈՒՆՔԱՅԻՆ (ԿԱՏԱՐՈՂԱԿԱՆ) ՑՈՒՑԱՆԻՇՆԵՐԸ
B12: Ծրագրի դասիչը | C12: Ծրագրի անվանումը
B13: 1169 | C13: ՀՀ պաշտպանության ապահովում
B15: Ծրագրի միջոցառումները
B17: Ծրագրի դասիչը` | C17: 1169 | D17: Ցուցանիշների փոփոխությունը (նվազեցումները նշված են փակագծերում)
B18: Միջոցառման դասիչը` | C18: 11001 | D18: տարի
B19: Միջոցառման անվանումը` | C19: Ռազմական կարիքների բավարարում
B20: Նկարագրությունը` | C20: Ընթացիկ գործունեության ապահովման գործողություններ
B21: Միջոցառման տեսակը` | C21: Ծառայությունների մատուցում
B22: Ծառայությունը մատուցող կազմակերպության(ների) անվանում(ներ)ը՛ | C22: ՀՀ պաշտպանության նախարարություն
B23: Արդյունքի չափորոշիչներ
B24: Չի սահմանվում
B25: Միջոցառման վրա կատարվող ծախսը (հազար դրամ) | D25: =+'Հ-3 և 4'!H21 -> -1821227.9
B27: Ծրագրի դասիչը` | C27: 1169 | D27: Ցուցանիշների փոփոխությունը (ավելացումները նշված են դրական նշանով)
B28: Միջոցառման դասիչը` | C28: 31001 | D28: տարի
B29: Միջոցառման անվանումը` | C29: ՀՀ պաշտպանության նախարարության շենքային պայմանների բարելավում
B30: Նկարագրությունը` | C30: Պաշտպանության կարիքների համար բնակելի, գրասենյակային և այլ նշանակության շենքերի և շինությունների կառուցում
B31: Միջոցառման տեսակը` | C31: Պետական մարմինների կողմից օգտագործվող ոչ ֆինանսական ակտիվների հետ գործառնություններ
B32: Ակտիվն օգտագործող կազմակերպության(ների) անվանում(ներ)ը՝ | C32: ՀՀ պաշտպանության նախարարություն
B33: Արդյունքի չափորոշիչներ
B34: Չի սահմանվում
B35: Միջոցառման վրա կատարվող ծախսը (հազար դրամ) | D35: ='Հ-3 և 4'!H32 -> 1821227.9
B37: ՀՀ կառավարություն
B38: ՄԱՍ 1. ՊԵՏԱԿԱՆ ՄԱՐՄՆԻ ԳԾՈՎ ԱՐԴՅՈՒՆՔԱՅԻՆ (ԿԱՏԱՐՈՂԱԿԱՆ) ՑՈՒՑԱՆԻՇՆԵՐԸ
B40: Ծրագրի դասիչը | C40: Ծրագրի անվանումը
B41: 1139 | C41: ՀՀ կառավարության պահուստային ֆոնդ
B43: Ծրագրի դասիչը` | C43: 1139 | D43: Ցուցանիշների փոփոխությունը (ավելացումները նշված են դրական նշանով)
B44: Միջոցառման դասիչը` | C44: 11001 | D44: տարի
B45: Միջոցառման անվանումը` | C45: ՀՀ կառավարության պահուստային ֆոնդ
B46: Նկարագրությունը` | C46: ՀՀ պետական բյուջեում նախատեսված ելքերի լրացուցիչ ֆինանսավորման, պետական բյուջեում չկանխատեսված ելքերի, ինչպես նաև բյուջետային երաշխիքների ապահովման ելքերի ֆինանսավորման ապահովում
B47: Միջոցառման տեսակը` | C47: Ծառայությունների մատուցում
B48: Միջոցառումն իրականացնողի անվանումը | C48: ՀՀ կառավարություն
B49: Արդյունքի չափորոշիչներ
B50: Միջոցառման վրա կատարվող ծախսը (հազար դրամ) | D50: ='Հ-3 և 4'!H62 -> 1112561
B52: Ծրագրի դասիչը` | C52: 1139 | D52: Ցուցանիշների փոփոխությունը (նվազեցումները նշված են փակագծերում)
B53: Միջոցառման դասիչը` | C53: 11001 | D53: տարի
B54: Միջոցառման անվանումը` | C54: ՀՀ կառավարության պահուստային ֆոնդ
B55: Նկարագրությունը` | C55: ՀՀ պետական բյուջեում նախատեսված ելքերի լրացուցիչ ֆինանսավորման, պետական բյուջեում չկանխատեսված ելքերի, ինչպես նաև բյուջետային երաշխիքների ապահովման ելքերի ֆինանսավորման ապահովում
B56: Միջոցառման տեսակը` | C56: Ծառայությունների մատուցում
B57: Միջոցառումն իրականացնողի անվանումը | C57: ՀՀ կառավարություն
B58: Արդյունքի չափորոշիչներ
B59: Միջոցառման վրա կատարվող ծախսը (հազար դրամ) | D59: =-D50 -> -1112561

Sheet Հ-10
H1: Հավելված N 8
H2: ՀՀ կառավարության 2024 թվականի
H3: ______________ ի N ___ -Ն որոշման
B5: ՀԱՅԱՍՏԱՆԻ ՀԱՆՐԱՊԵՏՈՒԹՅԱՆ ԿԱՌԱՎԱՐՈՒԹՅԱՆ 2023 ԹՎԱԿԱՆԻ ԴԵԿՏԵՄԲԵՐԻ 28-Ի N 2323-Ն ՈՐՈՇՄԱՆ N 10 ՀԱՎԵԼՎԱԾՈՒՄ ԿԱՏԱՐՎՈՂ ԼՐԱՑՈՒՄՆԵՐՆ ՈՒ ՓՈՓՈԽՈՒԹՅՈՒՆՆԵՐԸ
B7: Կոդը | C7: Անվանումը | F7: Գնման ձևը | G7: Չափման միավորը | H7: Միավորի գինը (դրամով) | I7: Ցուցանիշների փոփոխությունը (ավելացումները նշված են դրական նշանով, իսկ նվազեցումները՝ փակագծերում)
I8: քանակը | J8: գումարը (հազար դրամով)
C9: ՀՀ պաշտպանության նախարարություն | J9: =J10 -> 1124693
B10: Բաժին N 02 | C10: Խումբ N 01 | D10: Դաս N 01 | E10: Ռազմական պաշտպանություն | J10: =J11 -> 1124693
B11: 1169 31001 | C11: ՀՀ պաշտպանության նախարարության շենքային պայմանների բարելավում | J11: =J12 -> 1124693
C12: Ապրանքներ | J12: =SUM(J13:J125) -> 1124693
B13: 30195200/501 | C13: էլեկտրոնային գրատախտակներ կամ պարագաներ | F13: ԳՀ | G13: հատ | H13: 1410000 | I13: 10 | J13: =+H13*I13/1000 -> 14100
B14: 30211200/502 | C14: դյուրակիր համակարգիչներ | F14: ԳՀ | G14: հատ | H14: 306000 | I14: 15 | J14: =+H14*I14/1000 -> 4590
B15: 30211200/504 | C15: դյուրակիր համակարգիչներ | F15: ԳՀ | G15: հատ | H15: 378000 | I15: 60 | J15: =+H15*I15/1000 -> 22680
B16: 30211220/501 | C16: սեղանի համակարգիչներ | F16: ԳՀ | G16: հատ | H16: 306000 | I16: 25 | J16: =+H16*I16/1000 -> 7650
B17: 30211220/502 | C17: սեղանի համակարգիչներ | F17: ԳՀ | G17: հատ | H17: 259800 | I17: 15 | J17: =+H17*I17/1000 -> 3897
B18: 30211220/503 | C18: սեղանի համակարգիչներ | F18: ԳՀ | G18: հատ | H18: 1860000 | I18: 2 | J18: =+H18*I18/1000 -> 3720
B19: 30211220/505 | C19: սեղանի համակարգիչներ | F19: ԳՀ | G19: հատ | H19: 399900 | I19: 20 | J19: =+H19*I19/1000 -> 7998
B20: 30211220/506 | C20: սեղանի համակարգիչներ | F20: ԳՀ | G20: հատ | H20: 256500 | I20: 35 | J20: =+H20*I20/1000 -> 8977.5
B21: 30232231/501 | C21: համակարգչի կոշտ սկավառակ | F21: ԳՀ | G21: հատ | H21: 28000 | I21: 40 | J21: =+H21*I21/1000 -> 1120
B22: 30232110/501 | C22: լազերային տպիչներ | F22: ԳՀ | G22: հատ | H22: 49500 | I22: 25 | J22: =+H22*I22/1000 -> 1237.5
B23: 30232110/502 | C23: լազերային տպիչներ | F23: ԳՀ | G23: հատ | H23: 138600 | I23: 5 | J23: =+H23*I23/1000 -> 693
B24: 30232110/503 | C24: լազերային տպիչներ | F24: ԳՀ | G24: հատ | H24: 122700 | I24: 200 | J24: =+H24*I24/1000 -> 24540
... B125: 48731200/501 | C125: տվյալների անվտանգության համակարգչային ծրագրային փաթեթներ | F125: ԳՀ | G125: հատ | H125: 325000 | I125: 1 | J125: =+H125*I125/1000 -> 325

Sheet Sheet1
A1: 4239 | B1: 20939.6
A2: 4252 | B2: 4001.2
A3: 4261 | B3: 24221.5
A4: 4264 | B4: 658398.2
A5: 4267 | B5: 51113.2
A6: 4269 | B6: 58135.2
A7: 5121 | B7: 34800
A8: 5122 | B8: 30780.6
A9: 5129 | B9: 165718.2
A10: 5132 | B10: 33.2
