Workbook
Name _tab10: #REF!
Name _tab10: #REF!
Name _tab10: #REF!
Name _tab10: #REF!
Name _tab11: #REF!
Name _tab11: #REF!
Name _tab11: #REF!
Name _tab11: #REF!
Name _tab12: #REF!
Name _tab12: #REF!
Name _tab12: #REF!
Name _tab12: #REF!
Name _tab13: #REF!
Name _tab13: #REF!
Name _tab13: #REF!
Name _tab13: #REF!
Name _tab14: #REF!
Name _tab14: #REF!
Name _tab14: #REF!
Name _tab14: #REF!
Name _tab15: #REF!
Name _tab15: #REF!
Name _tab15: #REF!
Name _tab15: #REF!
Name _tab16: #REF!
Name _tab16: #REF!
Name _tab16: #REF!
Name _tab16: #REF!
Name _tab17: #REF!
Name _tab17: #REF!
Name _tab17: #REF!
Name _tab17: #REF!
Name _tab18: #REF!
Name _tab18: #REF!
Name _tab18: #REF!
Name _tab18: #REF!
Name _tab19: #REF!
Name _tab19: #REF!
Name _tab19: #REF!
Name _tab19: #REF!
Name _tab20: #REF!
Name _tab20: #REF!
Name _tab20: #REF!
Name _tab20: #REF!
Name _tab21: #REF!
Name _tab21: #REF!
Name _tab21: #REF!
Name _tab21: #REF!
Name _tab22: #REF!
Name _tab22: #REF!
Name _tab22: #REF!
Name _tab22: #REF!
Name _tab23: #REF!
Name _tab23: #REF!
Name _tab23: #REF!
Name _tab23: #REF!
Name _tab24: #REF!
Name _tab24: #REF!
Name _tab24: #REF!
Name _tab24: #REF!

Sheet 1
D1: Հավելված N 1
C2: ՀՀ կառավարության 2024 թվականի
D3: N ------------ -Ն որոշման
A4: ՀԱՅԱՍՏԱՆԻ ՀԱՆՐԱՊԵՏՈՒԹՅԱՆ 2024 ԹՎԱԿԱՆԻ ՊԵՏԱԿԱՆ ԲՅՈՒՋԵԻ ՄԱՍԻՆ» ՕՐԵՆՔԻ N 1 ՀԱՎԵԼՎԱԾԻ N 2 ԱՂՅՈՒՍԱԿՈՒՄ ԿԱՏԱՐՎՈՂ ՎԵՐԱԲԱՇԽՈՒՄԸ ԵՎ ՀԱՅԱՍՏԱՆԻ ՀԱՆՐԱՊԵՏՈՒԹՅԱՆ ԿԱՌԱՎԱՐՈՒԹՅԱՆ 2023 ԹՎԱԿԱՆԻ ԴԵԿՏԵՄԲԵՐԻ 28-Ի N 2323-Ն ՈՐՈՇՄԱՆ N 5 ՀԱՎԵԼՎԱԾԻ N 1 ԱՂՅՈՒՍԱԿՈՒՄ ԿԱՏԱՐՎՈՂ ՓՈՓՈԽՈՒԹՅՈՒՆՆԵՐԸ ԵՎ ԼՐԱՑՈՒՄՆԵՐԸ
D6: հազար դրամ
A7: Ծրագրային դասիչը | C7: Բյուջետային հատկացումների գլխավոր կարգադրիչների, ծրագրերի և միջոցառումների անվանումները | D7: Ցուցանիշների փոփոխությունը (ավելացումները նշված են դրական նշանով, իսկ նվազեցումները` փակագծերում)
A8: Ծրագիր | B8: Միջոցառում | D8: Տարի
C9: ԸՆԴԱՄԵՆԸ | D9: =D10+D24 -> 0
C10: ՀՀ տարածքային կառավարման և ենթակառուցվածքների նախարարություն | D10: =D11 -> 23375.8
A11: 1049 | C11: Ծրագրի անվանումը` | D11: =D18 -> 23375.8
C12: Ճանապարհային ցանցի բարելավում
C13: Ծրագրի նպատակը`
C14: Ճանապարհային ցանցի բարելավում և անվտանգ երթևեկության ապահովում
C15: Վերջնական արդյունքի նկարագրությունը`
C16: Ճանապարհների ծածկի որակի և փոխադրումների արդյունավետության բարելավում, ճանապարհների վիճակով պայմանավորված պատահարների նվազում
C17: Ծրագրի միջոցառումներ
B18: 11003 | C18: Միջոցառման անվանումը` | D18: ='2.'!G23 -> 23375.8
C19: Հայաստանի Հանրապետությունում հսկիչ սարքերի (թվային տախոգրաֆի) համակարգի կարգավորում
C20: Միջոցառման նկարագրությունը`
C21: Հայաստանի Հանրապետությունում հսկիչ սարքերի (թվային տախոգրաֆի) համակարգի անընդհատ և անխափան աշխատանքի ապահովման նպատակով տախոնետ կապի ապահովում
C22: Միջոցառման տեսակը
C23: Ծառայությունների մատուցում
C24: ՀՀ բարձր տեխնոլոգիական արդյունաբերության նախարարություն | D24: =D25 -> -23375.8
A25: 1235 | C25: Ծրագրի անվանումը` | D25: =D32 -> -23375.8
C26: Թվային փոխակերպման գործընթացի իրականացում
C27: Ծրագրի նպատակը`
C28: Պետական մարմինների կողմից իրականացվող թվային փոխակերպման միջոցառումների ֆինանսավորում
C29: Վերջնական արդյունքի նկարագրությունը`
C30: Թվային ծառայությունների և համակարգերի ներդրում
C31: Ծրագրի միջոցառումներ
B32: 31001 | C32: Միջոցառման անվանումը` | D32: =-D11 -> -23375.8
C33: Միասնական թվային միջավայրի ձևավորում
C34: Միջոցառման նկարագրությունը`
C35: Թվային փոխակերպման գործընթացի շրջանակներում թվայնացման համակարգերի ներդրում և կայքերի արդիականացում
C36: Միջոցառման տեսակը
C37: Պետական մարմինների կողմից օգտագործվող ոչ ֆինանսական ակտիվների հետ գործառնություններ
B39: ՀԱՅԱՍՏԱՆԻ ՀԱՆՐԱՊԵՏՈՒԹՅԱՆ
B40: ՎԱՐՉԱՊԵՏԻ ԱՇԽԱՏԱԿԱԶՄԻ
C41: ՂԵԿԱՎԱՐ ՝ Ա. ՀԱՐՈՒԹՅՈՒՆՅԱՆ

Sheet 2.
G1: Հավելված N 2
F2: ՀՀ կառավարության 2024 թվականի
G3: N ------------ -Ն որոշման
A5: ՀԱՅԱՍՏԱՆԻ ՀԱՆՐԱՊԵՏՈՒԹՅԱՆ ԿԱՌԱՎԱՐՈՒԹՅԱՆ 2023 ԹՎԱԿԱՆԻ ԴԵԿՏԵՄԲԵՐԻ 28-Ի N 2323-Ն ՈՐՈՇՄԱՆ NN 3 ԵՎ 4 ՀԱՎԵԼՎԱԾՆԵՐՈՒՄ ԿԱՏԱՐՎՈՂ ՓՈՓՈԽՈՒԹՅՈՒՆՆԵՐԸ ԵՎ ԼՐԱՑՈՒՄՆԵՐԸ
G6: հազար դրամ
A7: Գործառական դասիչը | D7: Ծրագրային դասիչը | F7: Բյուջետային ծախսերի գործառական դասակարգման բաժինների, խմբերի և դասերի, բյուջետային ծրագրերի միջոցառումների, բյուջետային հատկացումների գլխավոր կարգադրիչների անվանումները | G7: Ցուցանիշների փոփոխությունը (ավելացումները նշված են դրական նշանով, իսկ նվազեցումները` փակագծերում)
A8: Բաժին | B8: Խումբ | C8: Դաս | D8: Ծրագիր | E8: Միջոցառում | G8: Տարի
F9: ԸՆԴԱՄԵՆԸ ԾԱԽՍԵՐ | G9: =G11+G30 -> 0
F10: այդ թվում`
F11: ՀՀ տարածքային կառավարման և ենթակառուցվածքների նախարարություն | G11: =G13 -> 23375.8
F12: այդ թվում`
A13: 04 | F13: ՏՆՏԵՍԱԿԱՆ ՀԱՐԱԲԵՐՈՒԹՅՈՒՆՆԵՐ | G13: =G15 -> 23375.8
F14: այդ թվում`
B15: 05 | F15: Տրանսպորտ | G15: =G17 -> 23375.8
F16: այդ թվում`
C17: 01 | F17: Ճանապարհային տրանսպորտ | G17: =G19 -> 23375.8
F18: այդ թվում`
D19: 1049 | F19: Ճանապարհային ցանցի բարելավում | G19: =G21 -> 23375.8
F20: այդ թվում`
E21: 11003 | F21: Հայաստանի Հանրապետությունում հսկիչ սարքերի (թվային տախոգրաֆի) համակարգի կարգավորում | G21: =G23 -> 23375.8
F22: այդ թվում` ըստ կատարողների
F23: ՀՀ տարածքային կառավարման և ենթակառուցվածքների նախարարություն | G23: =G25 -> 23375.8
F24: այդ թվում` բյուջետային ծախսերի տնտեսագիտական դասակարգման հոդվածներ
F25: ԸՆԴԱՄԵՆԸ ԾԱԽՍԵՐ | G25: =G27 -> 23375.8
F26: ԸՆԹԱՑԻԿ ԾԱԽՍԵՐ | G26: =G27 -> 23375.8
F27: ԾԱՌԱՅՈՒԹՅՈՒՆՆԵՐԻ ԵՎ ԱՊՐԱՆՔՆԵՐԻ ՁԵՌՔԲԵՐՈՒՄ | G27: =G28 -> 23375.8
F28: Ընթացիկ նորոգում և պահպանում (ծառայություններ և նյութեր) | G28: =G29 -> 23375.8
F29: - Մեքենաների և սարքավորումների ընթացիկ նորոգում և պահպանում | G29: 23375.8
F30: ՀՀ բարձր տեխնոլոգիական արդյունաբերության նախարարություն | G30: =G31 -> -23375.8
A31: 01 | F31: ԸՆԴՀԱՆՈՒՐ ԲՆՈՒՅԹԻ ՀԱՆՐԱՅԻՆ ԾԱՌԱՅՈՒԹՅՈՒՆՆԵՐ | G31: =G33 -> -23375.8
F32: այդ թվում`
B33: 03 | F33: Ընդհանուր բնույթի ծառայություններ | G33: =G35 -> -23375.8
F34: այդ թվում`
C35: 02 | F35: Ծրագրման և վիճակագրական ընդհանուր ծառայություններ | G35: =G37 -> -23375.8
F36: այդ թվում`
D37: 1235 | F37: Թվային փոխակերպման գործընթացի իրականացում | G37: =G39 -> -23375.8
F38: այդ թվում`
E39: 31001 | F39: Միասնական թվային միջավայրի ձևավորում | G39: =G41 -> -23375.8
F40: այդ թվում` ըստ կատարողների
F41: ՀՀ կառավարություն | G41: =G43 -> -23375.8
F42: այդ թվում` բյուջետային ծախսերի տնտեսագիտական դասակարգման հոդվածներ
F43: ԸՆԴԱՄԵՆԸ ԾԱԽՍԵՐ | G43: =G44 -> -23375.8
F44: ՈՉ ՖԻՆԱՆՍԱԿԱՆ ԱԿՏԻՎՆԵՐԻ ԳԾՈՎ ԾԱԽՍԵՐ | G44: =G45 -> -23375.8
F45: ՀԻՄՆԱԿԱՆ ՄԻՋՈՑՆԵՐ | G45: =G46 -> -23375.8
F46: ԱՅԼ ՀԻՄՆԱԿԱՆ ՄԻՋՈՑՆԵՐ | G46: =G47 -> -23375.8
F47: - Ոչ նյութական հիմնական միջոցներ | G47: =-G29 -> -23375.8
E51: ՀՀ ՎԱՐՉԱՊԵՏԻ ԱՇԽԱՏԱԿԱԶՄԻ
F52: ՂԵԿԱՎԱՐ ՝ Ա. ՀԱՐՈՒԹՅՈՒՆՅԱՆ

Sheet 3
A1: Հավելված N 3
A2: ՀՀ կառավարության 2024 թվականի
A3: -ի N -Ն որոշման
A5: «ՀԱՅԱՍՏԱՆԻ ՀԱՆՐԱՊԵՏՈՒԹՅԱՆ 2024 ԹՎԱԿԱՆԻ ՊԵՏԱԿԱՆ ԲՅՈՒՋԵԻ ՄԱՍԻՆ» ՀԱՅԱՍՏԱՆԻ ՀԱՆՐԱՊԵՏՈՒԹՅԱՆ ՕՐԵՆՔԻ N 1 ՀԱՎԵԼՎԱԾԻ N 3 ԱՂՅՈՒՍԱԿՈՒՄ ԿԱՏԱՐՎՈՂ ՓՈՓՈԽՈՒԹՅՈՒՆԸ
G6: (հազ. դրամ)
A7: Ծրագրային դասիչ | C7: Բյուջետային գլխավոր կարգադրիչների, ծրագրերի, միջոցառումների և ուղղությունների անվանումները | D7: Ցուցանիշների փոփոխությունը ( նվազեցումները` նշված են փակագծերում)
D8: Ընդամենը, | E8: այդ թվում՝
A9: Ծրագիր | B9: Միջոցառում | E9: Կառուցման աշխատանքներ | F9: Վերակառուցման, վերանորոգման և վերականգնման աշխատանքներ | G9: Նախագծահե- տազոտական, գեոդեզիա- քարտեզագրա- կան աշխա- տանքներ | H9: Ոչ ֆինանսական այլ ակտիվների ձեռքբերում
C10: ԸՆԴԱՄԵՆԸ | D10: =SUM(E10:H10) -> -23375.8 | E10: =E12 -> 0 | F10: =F12 -> 0 | G10: =G12 -> 0 | H10: =H12 -> -23375.8
C11: այդ թվում՝
C12: ՀՀ բարձր տեխնոլոգիական արդյունաբերության նախարարություն | D12: =SUM(E12:H12) -> -23375.8 | E12: =E14 -> 0 | F12: =F14 -> 0 | G12: =+G14 -> 0 | H12: =H14 -> -23375.8
C13: այդ թվում`
A14: 1235 | B14: 31001 | C14: Միասնական թվային միջավայրի ձևավորում | D14: =E14+F14+G14+H14 -> -23375.8 | E14: 0 | F14: 0 | G14: 0 | H14: ='2.'!G37 -> -23375.8
D18: ՀԱՅԱՍՏԱՆԻ ՀԱՆՐԱՊԵՏՈՒԹՅԱՆ
D19: ՎԱՐՉԱՊԵՏԻ ԱՇԽԱՏԱԿԱԶՄԻ ՂԵԿԱՎԱՐ
G20: Ա. ՀԱՐՈՒԹՅՈՒՆՅԱՆ

Sheet 4.
B1: Հավելված N 4
B2: ՀՀ կառավարության 2024 թվականի
B3: -ի N -Ն որոշման
B5: ՀԱՅԱՍՏԱՆԻ ՀԱՆՐԱՊԵՏՈՒԹՅԱՆ ԿԱՌԱՎԱՐՈՒԹՅԱՆ 2023 ԹՎԱԿԱՆԻ ԴԵԿՏԵՄԲԵՐԻ 28-Ի N 2323-Ն ՈՐՈՇՄԱՆ N 5 ՀԱՎԵԼՎԱԾԻ N 2 ԱՂՅՈՒՍԱԿՈՒՄ ԿԱՏԱՐՎՈՂ ՓՈՓՈԽՈՒԹՅՈՒՆԸ
E6: (հազ. դրամ)
B7: Ծրագրային դասիչ | D7: Բյուջետային գլխավոր կարգադրիչների, ծրագրերի, միջոցառումների, միջոցառումները կատարող պետական մարմինների և ուղղությունների անվանումները | E7: Ցուցանիշների փոփոխությունը ( նվազեցումները` նշված են փակագծերում)
B8: Ծրագիր | C8: Միջոցառում | E8: Տարի
D9: ԸՆԴԱՄԵՆԸ | E9: =E11 -> -23375.8
D10: այդ թվում՝
D11: ՀՀ բարձր տեխնոլոգիական արդյունաբերության նախարարություն | E11: =E13 -> -23375.8
D12: այդ թվում`
B13: 1235 | C13: 31001 | D13: Միասնական թվային միջավայրի ձևավորում | E13: =E15 -> -23375.8
D14: այդ թվում` ըստ կատարողների
D15: ՀՀ կառավարություն | E15: ='3'!H14 -> -23375.8
C20: ՀԱՅԱՍՏԱՆԻ ՀԱՆՐԱՊԵՏՈՒԹՅԱՆ
C21: ՎԱՐՉԱՊԵՏԻ ԱՇԽԱՏԱԿԱԶՄԻ ՂԵԿԱՎԱՐ
C22: Ա. ՀԱՐՈՒԹՅՈՒՆՅԱՆ

Sheet 5.
D1: Հավելված N 5
D2: ՀՀ կառավարության 2024 թվականի
D3: N ------------ -Ն որոշման
A5: ՀԱՅԱՍՏԱՆԻ ՀԱՆՐԱՊԵՏՈՒԹՅԱՆ ԿԱՌԱՎԱՐՈՒԹՅԱՆ 2023 ԹՎԱԿԱՆԻ ԴԵԿՏԵՄԲԵՐԻ 28-Ի N 2323-Ն ՈՐՈՇՄԱՆ N 9 ՀԱՎԵԼՎԱԾԻ N 9.7 ԵՎ 9․16 ԱՂՅՈՒՍԱԿՆԵՐՈՒՄ ԿԱՏԱՐՎՈՂ ՓՈՓՈԽՈՒԹՅՈՒՆՆԵՐԸ ԵՎ ԼՐԱՑՈՒՄՆԵՐԸ
D6: Աղյուսակ 9.7
A8: ՀՀ ՏԱՐԱԾՔԱՅԻՆ ԿԱՌԱՎԱՐՄԱՆ ԵՎ ԵՆԹԱԿԱՌՈՒՑՎԱԾՔՆԵՐԻ ՆԱԽԱՐԱՐՈՒԹՅՈՒՆ
A9: ՄԱՍ 2. ՊԵՏԱԿԱՆ ՄԱՐՄՆԻ ԳԾՈՎ ԱՐԴՅՈՒՆՔԱՅԻՆ (ԿԱՏԱՐՈՂԱԿԱՆ) ՑՈՒՑԱՆԻՇՆԵՐԸ
A11: Ծրագրի դասիչը | B11: Ծրագրի անվանումը
A12: 1049 | B12: Ճանապարհային ցանցի բարելավում
A14: Ծրագրի միջոցառումները
A15: Ծրագրի դասիչը` | B15: 1049 | C15: Ցուցանիշների փոփոխությունը (ավելացումները նշված են դրական նշանով)
A16: Միջոցառման դասիչը` | B16: 11003 | C16: Տարի
A17: Միջոցառման անվանումը` | B17: Հայաստանի Հանրապետությունում հսկիչ սարքերի (թվային տախոգրաֆի) համակարգի կարգավորում
A18: Նկարագրությունը` | B18: Հայաստանի Հանրապետությունում հսկիչ սարքերի (թվային տախոգրաֆի) համակարգի անընդհատ և անխափան աշխատանքի ապահովման նպատակով տախոնետ կապի ապահովում
A19: Միջոցառման տեսակը` | B19: Ծառայությունների մատուցում
A20: Միջոցառումն իրականացնողի անվանումը | B20: Մրցութային ընտրակարգով հաղթող ճանաչված ընկերություն
A21: Արդյունքի չափորոշիչներ
A22: Միջոցառման վրա կատարվող ծախսը (հազար դրամ) | C22: ='1'!D18 -> 23375.8
D24: Աղյուսակ 9.16
A25: ՀՀ բարձր տեխնոլոգիական արդյունաբերության նախարարություն
A26: ՄԱՍ 2. ՊԵՏԱԿԱՆ ՄԱՐՄՆԻ ԳԾՈՎ ԱՐԴՅՈՒՆՔԱՅԻՆ (ԿԱՏԱՐՈՂԱԿԱՆ) ՑՈՒՑԱՆԻՇՆԵՐԸ
A28: Ծրագրի դասիչը | B28: Ծրագրի անվանումը
A29: 1235 | B29: Թվային փոխակերպման գործընթացի իրականացում
A31: Ծրագրի միջոցառումները
A32: Ծրագրի դասիչը` | B32: 1235 | C32: Ցուցանիշների փոփոխությունը ( նվազեցումները` նշված են փակագծերում)
A33: Միջոցառման դասիչը` | B33: 31001 | C33: Տարի
A34: Միջոցառման անվանումը` | B34: Միասնական թվային միջավայրի ձևավորում
A35: Նկարագրությունը` | B35: Թվային փոխակերպման գործընթացի շրջանակներում թվայնացման համակարգերի ներդրում և կայքերի արդիականացում
A36: Միջոցառման տեսակը` | B36: Պետական մարմինների կողմից օգտագործվող ոչ ֆինանսական ակտիվների հետ գործառնություններ
A37: Միջոցառումն իրականացնողի անվանումը՛ | B37: Հանրային իշխանության մարմիններ
A38: Արդյունքի չափորոշիչներ
A39: Միջոցառման վրա կատարվող ծախսը (հազար դրամ) | C39: ='1'!D32 -> -23375.8
A43: ՀԱՅԱՍՏԱՆԻ ՀԱՆՐԱՊԵՏՈՒԹՅԱՆ
A44: ՎԱՐՉԱՊԵՏԻ ԱՇԽԱՏԱԿԱԶՄԻ
A45: ՂԵԿԱՎԱՐ ՝ Ա. ՀԱՐՈՒԹՅՈՒՆՅԱՆ
A148: ՀԱՅԱՍՏԱՆԻ ՀԱՆՐԱՊԵՏՈՒԹՅԱՆ
A149: ՎԱՐՉԱՊԵՏԻ ԱՇԽԱՏԱԿԱԶՄԻ
A150: ՂԵԿԱՎԱՐ ՝ Ա. ՀԱՐՈՒԹՅՈՒՆՅԱՆ

Sheet 6.
D1: Հավելված N 6
D2: ՀՀ կառավարության 2024 թվականի
D3: N ------------ -Ն որոշման
A5: ՀԱՅԱՍՏԱՆԻ ՀԱՆՐԱՊԵՏՈՒԹՅԱՆ ԿԱՌԱՎԱՐՈՒԹՅԱՆ 2023 ԹՎԱԿԱՆԻ ԴԵԿՏԵՄԲԵՐԻ 28-Ի N 2323-Ն ՈՐՈՇՄԱՆ N 9.1 ՀԱՎԵԼՎԱԾԻ NN 9.1.7 ԵՎ 9.1.58 ԱՂՅՈՒՍԱԿՆԵՐՈՒՄ ԿԱՏԱՐՎՈՂ ՓՈՓՈԽՈՒԹՅՈՒՆՆԵՐԸ ԵՎ ԼՐԱՑՈՒՄՆԵՐԸ
D6: Աղյուսակ 9.1.7
A7: ՀՀ տարածքային կառավարման և ենթակառուցվածքների նախարարություն
A8: ՄԱՍ 1. ՊԵՏԱԿԱՆ ՄԱՐՄՆԻ ԳԾՈՎ ԱՐԴՅՈՒՆՔԱՅԻՆ (ԿԱՏԱՐՈՂԱԿԱՆ) ՑՈՒՑԱՆԻՇՆԵՐԸ
A10: Ծրագրի դասիչը | B10: Ծրագրի անվանումը
A11: 1049 | B11: Ճանապարհային ցանցի բարելավում
A13: Ծրագրի միջոցառումները
A14: Ծրագրի դասիչը` | B14: 1049 | C14: Ցուցանիշների փոփոխությունը (ավելացումները նշված են դրական նշանով)
A15: Միջոցառման դասիչը` | B15: 11003 | C15: Տարի
A16: Միջոցառման անվանումը` | B16: Հայաստանի Հանրապետությունում հսկիչ սարքերի (թվային տախոգրաֆի) համակարգի կարգավորում
A17: Նկարագրությունը` | B17: Հայաստանի Հանրապետությունում հսկիչ սարքերի (թվային տախոգրաֆի) համակարգի անընդհատ և անխափան աշխատանքի ապահովման նպատակով տախոնետ կապի ապահովում
A18: Միջոցառման տեսակը` | B18: Ծառայությունների մատուցում
A19: Միջոցառումն իրականացնողի անվանումը | B19: Մրցութային ընտրակարգով հաղթող ճանաչված ընկերություն
A20: Արդյունքի չափորոշիչներ
A21: Միջոցառման վրա կատարվող ծախսը (հազար դրամ) | C21: ='1'!D18 -> 23375.8
C23: Աղյուսակ 9.1.58
A24: ՀՀ ԿԱՌԱՎԱՐՈՒԹՅՈՒՆ
A25: ՄԱՍ 1. ՊԵՏԱԿԱՆ ՄԱՐՄՆԻ ԳԾՈՎ ԱՐԴՅՈՒՆՔԱՅԻՆ (ԿԱՏԱՐՈՂԱԿԱՆ) ՑՈՒՑԱՆԻՇՆԵՐԸ
A27: Ծրագրի դասիչը | B27: Ծրագրի անվանումը
A28: 1235 | B28: Թվային փոխակերպման գործընթացի իրականացում
A30: Ծրագրի միջոցառումները
A31: Ծրագրի դասիչը` | B31: 1235 | C31: Ցուցանիշների փոփոխությունը ( նվազեցումները` նշված են փակագծերում)
A32: Միջոցառման դասիչը` | B32: 31001 | C32: Տարի
A33: Միջոցառման անվանումը` | B33: Միասնական թվային միջավայրի ձևավորում
A34: Նկարագրությունը` | B34: Թվային փոխակերպման գործընթացի շրջանակներում թվայնացման համակարգերի ներդրում և կայքերի արդիականացում
A35: Միջոցառման տեսակը` | B35: Պետական մարմինների կողմից օգտագործվող ոչ ֆինանսական ակտիվների հետ գործառնություններ
A36: Միջոցառումն իրականացնողի անվանումը՛ | B36: Հանրային իշխանության մարմիններ
A37: Արդյունքի չափորոշիչներ
A38: Միջոցառման վրա կատարվող ծախսը (հազար դրամ) | C38: ='1'!D32 -> -23375.8
A41: ՀԱՅԱՍՏԱՆԻ ՀԱՆՐԱՊԵՏՈՒԹՅԱՆ
A42: ՎԱՐՉԱՊԵՏԻ ԱՇԽԱՏԱԿԱԶՄԻ
A43: ՂԵԿԱՎԱՐ ՝ Ա. ՀԱՐՈՒԹՅՈՒՆՅԱՆ

Sheet 7.
H1: Հավելված N 7
H2: ՀՀ կառավարության 2024 թվականի
H3: ______________ ի ___Ն որոշման
B5: ՀԱՅԱՍՏԱՆԻ ՀԱՆՐԱՊԵՏՈՒԹՅԱՆ ԿԱՌԱՎԱՐՈՒԹՅԱՆ 2023 ԹՎԱԿԱՆԻ ԴԵԿՏԵՄԲԵՐԻ 28-Ի N 2323-Ն ՈՐՈՇՄԱՆ N 10 ՀԱՎԵԼՎԱԾՈՒՄ ԿԱՏԱՐՎՈՂ ԼՐԱՑՈՒՄՆԵՐԸ
B7: Կոդը | C7: Անվանումը | D7: Գնման ձևը | E7: Չափման միավորը | F7: Միավորի գինը | G7: Ցուցանիշների փոփոխությունը (ավելացումները նշված են դրական նշանով)
G8: Քանակը | H8: Գումարը (հազար դրամով)
B9: ՀՀ տարածքային կառավարման և ենթակառուցվածքների նախարարություն | H9: =+H10 -> 23375.8
B10: Բաժին N 04 | C10: Խումբ N 05 | D10: Դաս N 01 | E10: Ճանապարհային տրանսպորտ | H10: =+H11 -> 23375.8
B11: 1049/11003 | C11: Հայաստանի Հանրապետությունում հսկիչ սարքերի (թվային տախոգրաֆի) համակարգի կարգավորում | H11: =H13 -> 23375.8
C12: ՄԱՍ III. ԾԱՌԱՅՈՒԹՅՈՒՆՆԵՐ | H12: =H13 -> 23375.8
B13: 50411170/501 | C13: ստուգող սարքերի վերանորոգման և պահպանման ծառայություններ | D13: ԲՄ | E13: դրամ | F13: =H13*1000 -> 23375800 | G13: 1 | H13: ='2.'!G21 -> 23375.8
C16: ՀԱՅԱՍՏԱՆԻ ՀԱՆՐԱՊԵՏՈՒԹՅԱՆ ՎԱՐՉԱՊԵՏԻ ԱՇԽԱՏԱԿԱԶՄԻ
E17: ՂԵԿԱՎԱՐ՝ | G17: Ա.ՀԱՐՈՒԹՅՈՒՆՅԱՆ
