Workbook
Name _tab10: #REF!
Name _tab11: #REF!
Name _tab12: #REF!
Name _tab13: #REF!
Name _tab14: #REF!
Name _tab15: #REF!
Name _tab16: #REF!
Name _tab17: #REF!
Name _tab18: #REF!
Name _tab19: #REF!
Name _tab20: #REF!
Name _tab21: #REF!
Name _tab22: #REF!
Name _tab23: #REF!
Name _tab24: #REF!
Name _tab5: #REF!
Name _tab6: #REF!
Name _tab7: #REF!
Name _tab8: #REF!
Name _tab9: #REF!
Name par_count: #REF!,#REF!,#REF!,#REF!,#REF!,#REF!,#REF!,#REF!,#REF!,#REF!,#REF!,#REF!,#REF!,#REF!,#REF!
Name par_qual: #REF!,#REF!,#REF!,#REF!,#REF!
Name par_time: #REF!,#REF!,#REF!,#REF!
Name par2.12s: #REF!
Name par2.4s: #REF!,#REF!,#REF!,#REF!,#REF!,#REF!,#REF!,#REF!,#REF!,#REF!,#REF!,#REF!,#REF!,#REF!,#REF!,#REF!
Name par2.5s: #REF!,#REF!
Name par2.6s: #REF!,#REF!,#REF!,#REF!
Name par2.7s: #REF!,#REF!
Name par2.9s: #REF!,#REF!,#REF!,#REF!,#REF!,#REF!,#REF!,#REF!,#REF!,#REF!,#REF!,#REF!,#REF!,#REF!,#REF!,#REF!
Name par4.10s: #REF!,#REF!
Name par4.11d: #REF!,#REF!,#REF!,#REF!,#REF!
Name par4.12d: #REF!
Name par4.13s: #REF!
Name par4.14: #REF!,#REF!,#REF!,#REF!,#REF!,#REF!
Name par4.15: #REF!,#REF!,#REF!
Name par4.16: #REF!,#REF!,#REF!
Name par4.17: #REF!,#REF!,#REF!,#REF!
Name par4.18d: #REF!,#REF!
Name par4.19s: #REF!
Name par4.20f: #REF!
Name par4.21f: #REF!
Name par4.22: #REF!
Name par4.4: #REF!
Name par4.5: #REF!
Name par4.6s: #REF!
Name par4.7s: #REF!
Name par4.8: #REF!,#REF!,#REF!,#REF!,#REF!
Name par4.9: #REF!,#REF!,#REF!,#REF!,#REF!,#REF!
Name par5.1: #REF!,#REF!
Name par5.3: #REF!,#REF!,#REF!,#REF!,#REF!,#REF!
Name par5.4: #REF!,#REF!,#REF!,#REF!,#REF!
Name par5.5: #REF!
Name par5.6: #REF!,#REF!
Name program: #REF!,#REF!,#REF!,#REF!,#REF!,#REF!,#REF!,#REF!,#REF!,#REF!,#REF!,#REF!,#REF!,#REF!,#REF!,#REF!,#REF!,#REF!,#REF!,#REF!
Name SUM: '1'!#REF!

Sheet 1
D1: Հավելված № 1
D2: ՀՀ կառավարության 2024 թվականի
D3: -------------- ի № ---- -Ն որոշման
A5: «ՀԱՅԱՍՏԱՆԻ ՀԱՆՐԱՊԵՏՈՒԹՅԱՆ 2024 ԹՎԱԿԱՆԻ ՊԵՏԱԿԱՆ ԲՅՈՒՋԵԻ ՄԱՍԻՆ» ՕՐԵՆՔԻ N 1 ՀԱՎԵԼՎԱԾԻ N 7 ԱՂՅՈՒՍԱԿՈՒՄ ԵՎ ՀԱՅԱՍՏԱՆԻ ՀԱՆՐԱՊԵՏՈՒԹՅԱՆ ԿԱՌԱՎԱՐՈՒԹՅԱՆ 2023 ԹՎԱԿԱՆԻ ԴԵԿՏԵՄԲԵՐԻ 28-Ի N 2323-Ն ՈՐՈՇՄԱՆ N 5 ՀԱՎԵԼՎԱԾԻ N 6 ԱՂՅՈՒՍԱԿՈՒՄ ԿԱՏԱՐՎՈՂ ՓՈՓՈԽՈՒԹՅՈՒՆԸ ԵՎ ԼՐԱՑՈՒՄՆԵՐԸ
D6: հազար դրամ
A7: Ծրագրային դասիչը | C7: Հատկացումների տրամադրման նպատակները և բյուջետային գլխավոր կարգադրիչների, ծրագրերի, միջոցառումների և կատարող պետական մարմնի անվանումները | D7: Ցուցանիշների փոփոխությունը (ավելացումները նշված են դրական նշանով, իսկ նվազեցումները` փակագծերում)
A8: Ծրագիր | B8: Միջոցառում | D8: Տարի
C9: ԸՆԴԱՄԵՆԸ | D9: =+D11 -> 0
C10: այդ թվում
C11: Կապիտալ սուբվենցիաներ համայնքներին | D11: =+D13 -> 0
C12: այդ թվում`
C13: ՀՀ տարածքային կառավարման և ենթակառուցվածքների նախարարություն | D13: =+D15 -> 0
C14: այդ թվում`
A15: 1212 | C15: Տարածքային զարգացում | D15: =+D17 -> 0
C16: այդ թվում`
B17: 12007 | C17: ՀՀ մարզերին սուբվենցիաների տրամադրում՝ ենթակառուցվածքների զարգացման նպատակով | D17: 0
C18: այդ թվում` ըստ կատարողների
C19: ՀՀ կառավարություն | D19: =-(D20+D27+D38+D51+D56+D68+D74+D80) -> -3845273.8
C20: ՀՀ Արարատի մարզպետի աշխատակազմ | D20: =SUM(D22:D26) -> 336641.1
C21: այդ թվում` ըստ ուղղությունների
C22: Մասիս համայնքի ք․ Մասիսի բազմաբնակարան շենքերի տանիքների հիմնանորոգում» / Մասիս քաղաքի 3-րդ թաղ․թիվ 1, թիվ 4, թիվ 13 և Նոր թաղամաս թիվ 29 բբշ տանիքների հիմնանորոգում» և Մասիս քաղաքի Նոր թաղամաս թիվ 1 բբշ տանիքների հիմնանորոգում» | D22: 55913.5
C23: Արարատ համայնքի Արարատ քաղաքի Աբովյան 9, Կոմիտաս 2, Խանջյան47, Շահումյան 63, ՈԿՖ բանավան 4 , Արարատյան զանգվածի 1 շենքերի տանիքների վերանորոգում | D23: 32602.4
C24: Արարատ համայնքի Արարատ քաղաքի ԷՉԿ թաղամասի և Արմաշ բնակավայրի ջրամատակարարում | D24: 58341
C25: Արարատ համայնքի Ավշար, Նոյակերտ, Սուրենավան, Արարատ, Արմաշ, Պ․ Սևակ, Ուրցալանջ, Վարդաշատ բնակավայրերի փողոցային լուսավորության համակարգի կառուցում և վերակառուցում լեդ լուսատուներով | D25: 49122.5
C26: Արարատ համայնքի Արարատ քաղաքի, Զանգակատուն, Վարդաշատ, Պարույր Սևակ, Երասխ, Արարատ, Ավշար և Նոյակերտ բնակավայրերի ճանապարհների վերանորոգում ասֆալտապատմամբ / «Արարատ համայնքի Արարատ քաղաքի փողոցների ասֆալտապատման աշխատանքներ» ենթածրագրի 1-ին փուլ, «Արարատ համայնքի Ավշար բնակավայրի փողոցների ասֆալտապատման աշխատանքներ» և «Արարատ համայնքի Պ․ Սևակ բնակավայրի փողոցների ասֆալտապատման աշխատանքներ» / | D26: 140661.7
C27: ՀՀ Արմավիրի մարզպետի աշխատակազմ | D27: =SUM(D29:D37) -> 395676.1
C28: այդ թվում` ըստ ուղղությունների
C29: Արաքս համայնքի Գայ գյուղի համայնքապետարանի շենքի և Ապագա գյուղի մարզադպրոցի շենքի /Գայի համայնքապետարանի շենք/ | D29: 15121.1
C30: Արմավիր քաղաքի կենտրոնական հրապարակի շատրվանի վերակառուցում, Հանրապետության փողոցի մայթերի բարեկարգում և կանաչապատ տարածքների ոռոգման համակարգի կառուցում, Սարդարապատ գյուղի մշակույթի տան հարակից պուրակի բարեկարգում, Մայիսյան գյուղի մշակույթի տան հարակից պուրակի բարեկարգում, Խանջյան գյուղի մշակույթի տան հարակից պուրակի բարեկարգում /Մայիսյան գյուղի մշակույթի տան հարակից պուրակի բարեկարգում/ | D30: 14382.7
C31: Արմավիր համայնքի Արմավիր քաղաքի Սահմանապահների փողոցի Հանրապետություն -Աբովյան և Երևանյան-Շահումյան հատվածների հիմնանորոգում,Թումանյան փողոցի Երևանյան-Շահումյան հատվածի հիմնանորոգում, Հ Ավետիսյան փողոցի Երևանյան- Շահումյան հատվածի հիմնանորոգում, Շահումյան փողոցի Արարատյան-Ջիվանի և Չարենց-Բաղրամյան հատվածների հիմնանորոգում, Նորավան գյուղի կենտրոնական փողոցի կառուցում, Այգեվան գյուղի կենտրոնական փողոցի հիմնանորոգում, կառուցում, Մյասնիկյան գյուղի Բաղրամյան փողոցի կառուցում, Լուկաշին գյուղի Թամանյան փողոցի հիմնանորոգում, Արմավիր քաղաքի Շահումյան փողոցի Արարատյան-Ջիվանի և Չարենց-Բաղրամյան հատվածների հիմնանորոգում/ | D31: 202964.7
C32: Մեծամոր համայնքի Ալաշկերտ, Ամասիա, Արգավանդ, Արևիկ, Բամբակաշատ, Գետաշեն, Հայկավան, Նալբանդյան, Նոր Արմավիր, Նոր Արտագերս, Նոր Կեսարիա, Շենավան, Ջանֆիդա, Ջրաշեն, Վարդանաշեն, Փշատավան, Տարոնիկ և Մրգաշատ բնակավայրերի խմելու ջրամատակարարման ցանցերի կառուցում / Ջրաշեն/ | D32: 26117.4
C33: Խոյ համայնքի Այգեշատ, Ամբերդ, Ծիածան, Ծաղկունք, Արագած, Դողս, Հովտամեջ բնակավայրերի ներտնտեսային ոռոգման ջրագծերի վերակառուցում /Դողս/ | D33: 11274.2
C34: Խոյ համայնքի Լեռնամերձ բնակավայրի, Դաշտ բնակավայրի Բարեկամություն և Համերաշխություն փողոցների, Ծաղկալանջ բնակավայրի 13-րդ, 17-րդ, 18-րդ, 19-րդ փողոցների գազաֆիկացում /Լեռնամերձ/ | D34: 22517.1
C35: Արաքս և Մեծամոր բնակավայրերը սնուցող գազատար խողովակի կառուցման, Արաքս բնակավայրի Դեմիրճյան և Դրոյի փողոցների, Մեծամոր բնակավայրի Սարյան և Աբովյան փողոցների գազաֆիկացում | D35: 73833.2
C36: Բաղրամյան համայնքի Արգինա բնակավայրի Տիգրան Մեծ փողոցի և Աբովյան փողոցի ասֆալտապատում, Արտամետ բնակավայրի Գարեգին Նժդեհ փողոցի և Գարեգին Նժդեհ փողոցը Արաբոյի փողոցին կապող հատվածի և Արաբոյի փողոցի ասֆալտապատում, Բագարան բնակավայրի Գևորգ Մարզպետունի փողոցի ասֆալտապատում, Բաղրամյան բնակավայրի Սարի Թաղ փողոցի սկզբնամասի և Սարի Թաղ փողոցի վերջնամասի ասֆալտապատում, Դալարիկ բնակավայրի Մյասնիկյան փողոցի և դպրոցի բակի և Օրջոնիկիձե փողոցի ասֆալտապատում, Երվանդաշատ բնակավայրի Բերդակի փողոցի և Խաչին Տակ փողոցի ասֆալտապատում, Լեռնագոգ բնակավայրի 1-ին փողոցի և 12-րդ փողոցի ասֆալտապատում, Հուշակերտ բնակավայրի 2-րդ փողոցի և 5-րդ փողոցի ասֆալտապատում, Շենիկ բնակավայրի Մ.Մելքոնյան փողոցի վերևի հատվածի և Մ.Մելքոնյան փողոցի ներքևի հատվածի ասֆալտապատում, Վանանդ բնակավայրի Պ. Սևակ փողոցի, Պ. Սևակ փողոցի մի հատվածի և Հ. Քոչար փողոցի և Զ․ Սահակյան փողոցի ասֆալտապատում, Տալվորիկ բնակավայրի Գևորգ Չավուշի փողոցի ասֆալտապատում, Քարակերտ բնակավայրի Երկաթուղայինների փողոցի, Բաբաջանյան փողոցի, գերեզմանատան ճանապարհի և Սարյան փողոցի ասֆալտապատում /Հուշակերտ բնակավայրի 2-րդ փողոցի և 5-րդ փողոցի ասֆալտապատում/ | D36: 22705.4
C37: Բաղրամյան համայնքի Տալվորիկ բնակավայրի ջրամատակարարման համակարգի բարելավման աշխատանքներ | D37: 6760.3
C38: ՀՀ Գեղարքունիքի մարզպետի աշխատակազմ | D38: =SUM(D40:D50) -> 1174874.3
C39: այդ թվում` ըստ ուղղությունների
C40: Մարտունի համայնքի Մարտունի համայնքային կենտրոնի Գարեգին Նժդեհ, Կոմիտաս, Գետափնյա 2, Կարապետյան փողոցների, Արծվանիստ, Ծովինար, Վարդենիկ, Զոլաքար, Գեղհովիտ, Գեղհովիտ բնակավայրի Լեռնակերտ տարածքի,Ն. Գետաշեն, Վ. Գետաշեն, Լիճք, Ծակքար, Ձորագյուղ, Վարդաձոր, Երանոս բնակավայրերում տարբեր փողոցների երթևեկելի հատվածների ասֆալտապատում, ինչպես նաև Ծակքար բնակավայրի 6-րդ և 10-րդ փողոցները միացնող կամրիջի կառուցում /Ձորագյուղ/ | D40: 18655.8
C41: Սևան համայնքի 1-Սևան քաղաքի Խորհուրդների, Սունդուկյան, Մարզպետունի,2 Նալբանդյան, Մյասնիկյան, Նաիրյան փողոցների, 3.Գագարին գյուղի Բաղրամյան և Կոմիտաս փողոցների հիմնանորոգման աշխատանքներ /Նալբանդյան, Մյասնիկյան, Նաիրյան փողոցներ/ | D41: 223082.7
...

Sheet 2
G1: Հավելված № 2
G2: ՀՀ կառավարության 2024 թվականի
G3: -------------- ի № ---- -Ն որոշման
A5: ՀԱՅԱՍՏԱՆԻ ՀԱՆՐԱՊԵՏՈՒԹՅԱՆ ԿԱՌԱՎԱՐՈՒԹՅԱՆ 2023 ԹՎԱԿԱՆԻ ԴԵԿՏԵՄԲԵՐԻ 28-Ի № 2323-Ն ՈՐՈՇՄԱՆ №№ 3 և 4 ՀԱՎԵԼՎԱԾՆԵՐՈՒՄ ԿԱՏԱՐՎՈՂ ՓՈՓՈԽՈՒԹՅՈՒՆՆԵՐԸ ԵՎ ԼՐԱՑՈՒՄՆԵՐԸ
G6: հազար դրամ
A7: Գործառական դասիչը | D7: Ծրագրային դասիչը | F7: Բյուջետային հատկացումների գլխավոր կարգադրիչների, ծրագրերի, միջոցառումների և միջոցառումները կատարող պետական մարմինների անվանումները | G7: Ցուցանիշների փոփոխությունը (ավելացումները նշված են դրական նշանով, իսկ նվազեցումները` փակագծերում)
A8: բաժին | B8: խումբ | C8: դաս | D8: Ծրագիր | E8: Միջոցառում | G8: Տարի
A9: ԸՆԴԱՄԵՆԸ ԾԱԽՍԵՐ | G9: =+G10 -> 0
A10: 01 | F10: ԸՆԴՀԱՆՈՒՐ ԲՆՈՒՅԹԻ ՀԱՆՐԱՅԻՆ ԾԱՌԱՅՈՒԹՅՈՒՆՆԵՐ | G10: =+G12 -> 0
F11: այդ թվում՝
B12: 08 | F12: Կառավարության տարբեր մակարդակների միջև իրականացվող ընդհանուր բնույթի տրանսֆերտներ | G12: =+G14 -> 0
F13: այդ թվում՝
C14: 01 | F14: Կառավարության տարբեր մակարդակների միջև իրականացվող ընդհանուր բնույթի տրանսֆերտներ | G14: =+G16 -> 0
F15: այդ թվում՝
F16: ՀՀ տարածքային կառավարման և ենթակառուցվածքների նախարարություն | G16: =+G18 -> 0
F17: այդ թվում՝
D18: 1212 | F18: Տարածքային զարգացում | G18: =+G20 -> 0
F19: այդ թվում`
E20: 12007 | F20: ՀՀ մարզերին սուբվենցիաների տրամադրում՛ ենթակառուցվածքների զարգացման նպատակով_x000D_ | G20: 0
F21: այդ թվում` ըստ կատարողների
F22: ՀՀ կառավարություն | G22: ='1'!D19 -> -3845273.8
F23: այդ թվում` բյուջետային ծախսերի տնտեսագիտական դասակարգման հոդվածներ
F24: ԸՆԴԱՄԵՆԸ ԾԱԽՍԵՐ | G24: =G25 -> -3845273.8
F25: ԸՆԹԱՑԻԿ ԾԱԽՍԵՐ | G25: =G26 -> -3845273.8
F26: ԴՐԱՄԱՇՆՈՐՀՆԵՐ | G26: =G27 -> -3845273.8
F27: Կապիտալ դրամաշնորհներ պետական հատվածի այլ մակարդակներին | G27: =G28 -> -3845273.8
F28: - Կապիտալ սուբվենցիաներ համայնքներին | G28: ='1'!D19 -> -3845273.8
F29: ՀՀ Արարատի մարզպետի աշխատակազմ | G29: ='1'!D20 -> 336641.1
F30: այդ թվում` բյուջետային ծախսերի տնտեսագիտական դասակարգման հոդվածներ
F31: ԸՆԴԱՄԵՆԸ ԾԱԽՍԵՐ | G31: =G29 -> 336641.1
F32: ԸՆԹԱՑԻԿ ԾԱԽՍԵՐ | G32: =G31 -> 336641.1
F33: ԴՐԱՄԱՇՆՈՐՀՆԵՐ | G33: =G32 -> 336641.1
F34: Կապիտալ դրամաշնորհներ պետական հատվածի այլ մակարդակներին | G34: =G33 -> 336641.1
F35: - Կապիտալ սուբվենցիաներ համայնքներին | G35: =G34 -> 336641.1
F36: ՀՀ Արմավիրի մարզպետի աշխատակազմ | G36: ='1'!D27 -> 395676.1
F37: այդ թվում` բյուջետային ծախսերի տնտեսագիտական դասակարգման հոդվածներ
F38: ԸՆԴԱՄԵՆԸ ԾԱԽՍԵՐ | G38: =G36 -> 395676.1
F39: ԸՆԹԱՑԻԿ ԾԱԽՍԵՐ | G39: =G38 -> 395676.1
F40: ԴՐԱՄԱՇՆՈՐՀՆԵՐ | G40: =G39 -> 395676.1
F41: Կապիտալ դրամաշնորհներ պետական հատվածի այլ մակարդակներին | G41: =G40 -> 395676.1
...

Sheet 3
C1: Հավելված № 3
C2: ՀՀ կառավարության 2024 թվականի
C3: -------------- ի № ---- -Ն որոշման
A4: ՀԱՅԱՍՏԱՆԻ ՀԱՆՐԱՊԵՏՈՒԹՅԱՆ ԿԱՌԱՎԱՐՈՒԹՅԱՆ 2023 ԹՎԱԿԱՆԻ ԴԵԿՏԵՄԲԵՐԻ 28-Ի № 2323-Ն ՈՐՈՇՄԱՆ № 9 ՀԱՎԵԼՎԱԾԻ № 9.7 ԱՂՅՈՒՍԱԿՈՒՄ ԿԱՏԱՐՎՈՂ ԼՐԱՑՈՒՄԸ
A6: ՀՀ տարածքային կառավարման և ենթակառուցվածքների նախարարություն
A7: ՄԱՍ 2. ՊԵՏԱԿԱՆ ՄԱՐՄՆԻ ԳԾՈՎ ԱՐԴՅՈՒՆՔԱՅԻՆ (ԿԱՏԱՐՈՂԱԿԱՆ) ՑՈՒՑԱՆԻՇՆԵՐԸ
A9: Ծրագրի դասիչը | B9: Ծրագրի անվանումը
A10: 1212 | B10: Տարածքային զարգացում
A11: Ծրագրի միջոցառումները
A12: Ծրագրի դասիչը` | B12: 1212 | C12: Ցուցանիշների փոփոխությունը (ավելացումները նշված են դրական նշանով)
A13: Միջոցառման դասիչը` | B13: 12007 | C13: Տարի
A14: Միջոցառման անվանումը` | B14: ՀՀ մարզերին սուբվենցիաների տրամադրում` ենթակառուցվածքների զարգացման նպատակով_x000D_
A15: Նկարագրությունը` | B15: ՀՀ մարզերին սուբվենցիաների տրամադրում` ենթակառուցվածքների զարգացման նպատակով
A16: Միջոցառման տեսակը` | B16: Տրանսֆերտների տրամադրում
A17: Շահառուների ընտրության չափանիշները | B17: ՀՀ կառավարության 16. 11.2006 թվականի «ՀՀ պետական բյուջեից համայնքներին սուբվենցիաների տրամադրման կարգը հաստատելու մասին» 1708-Ն որոշում
A18: Արդյունքի չափորոշիչներ
A19: Համայնքների թիվ, հատ | C19: 1
A20: Ծրագրերի քանակ, հատ | C20: ='4'!C25+'4'!C45+'4'!C65+'4'!C84+'4'!C103+'4'!C122+'4'!C142+'4'!C162 -> 50
A21: Միջոցառման վրա կատարվող ծախսը (հազար դրամ) | C21: 0

Sheet 4
C1: Հավելված № 4
C2: ՀՀ կառավարության 2024 թվականի
C3: -------------- ի № ---- -Ն որոշման
A6: ՀԱՅԱՍՏԱՆԻ ՀԱՆՐԱՊԵՏՈՒԹՅԱՆ ԿԱՌԱՎԱՐՈՒԹՅԱՆ 2023 ԹՎԱԿԱՆԻ ԴԵԿՏԵՄԲԵՐԻ 28-Ի № 2323-Ն ՈՐՈՇՄԱՆ № 9.1 ՀԱՎԵԼՎԱԾԻ № 9.1.49, 9.1.50, 9.1.51, 9.1.52, 9.1.53, 9.1.54, 9.1.55, 9.1.57 ԵՎ 9.1.58 ԱՂՅՈՒՍԱԿՆԵՐՈՒՄ ԿԱՏԱՐՎՈՂ ՓՈՓՈԽՈՒԹՅՈՒՆԸ ԵՎ ԼՐԱՑՈՒՄՆԵՐԸ
C9: Աղյուսակ 9.1.49
A10: ՀՀ Արարատի մարզպետի աշխատակազմ
A12: ՄԱՍ 1. ՊԵՏԱԿԱՆ ՄԱՐՄՆԻ ԳԾՈՎ ԱՐԴՅՈՒՆՔԱՅԻՆ (ԿԱՏԱՐՈՂԱԿԱՆ) ՑՈՒՑԱՆԻՇՆԵՐԸ
A14: Ծրագրի դասիչը | B14: Ծրագրի անվանումը
A15: 1212 | B15: Տարածքային զարգացում
A17: Ծրագրի միջոցառումները
A18: Ծրագրի դասիչը` | B18: 1212 | C18: Ցուցանիշների փոփոխությունը (ավելացումները նշված են դրական նշանով)
A19: Միջոցառման դասիչը` | B19: 12007 | C19: Տարի
A20: Միջոցառման անվանումը` | B20: ՀՀ մարզերին սուբվենցիաների տրամադրում` ենթակառուցվածքների զարգացման նպատակով_x000D_
A21: Նկարագրությունը` | B21: ՀՀ մարզերին սուբվենցիաների տրամադրում` ենթակառուցվածքների զարգացման նպատակով
A22: Միջոցառման տեսակը` | B22: Տրանսֆերտների տրամադրում
A23: Շահառուների ընտրության չափանիշները | B23: ՀՀ կառավարության 16. 11.2006 թվականի «ՀՀ պետական բյուջեից համայնքներին սուբվենցիաների տրամադրման կարգը հաստատելու մասին» 1708-Ն որոշում
A24: Արդյունքի չափորոշիչներ
A25: Ծրագրերի քանակ, հատ | C25: 5
A26: Միջոցառման վրա կատարվող ծախսը (հազար դրամ) | C26: ='2'!G29 -> 336641.1
C28: Աղյուսակ 9.1.50
A29: ՀՀ Արմավիրի մարզպետի աշխատակազմ
A31: ՄԱՍ 1. ՊԵՏԱԿԱՆ ՄԱՐՄՆԻ ԳԾՈՎ ԱՐԴՅՈՒՆՔԱՅԻՆ (ԿԱՏԱՐՈՂԱԿԱՆ) ՑՈՒՑԱՆԻՇՆԵՐԸ
A33: Ծրագրի դասիչը | B33: Ծրագրի անվանումը
A34: 1212 | B34: Տարածքային զարգացում
A36: Ծրագրի միջոցառումները
A38: Ծրագրի դասիչը` | B38: 1212 | C38: Ցուցանիշների փոփոխությունը (ավելացումները նշված են դրական նշանով)
A39: Միջոցառման դասիչը` | B39: 12007 | C39: Տարի
A40: Միջոցառման անվանումը` | B40: ՀՀ մարզերին սուբվենցիաների տրամադրում` ենթակառուցվածքների զարգացման նպատակով_x000D_
A41: Նկարագրությունը` | B41: ՀՀ մարզերին սուբվենցիաների տրամադրում` ենթակառուցվածքների զարգացման նպատակով
A42: Միջոցառման տեսակը` | B42: Տրանսֆերտների տրամադրում
A43: Շահառուների ընտրության չափանիշները | B43: ՀՀ կառավարության 16. 11.2006 թվականի «ՀՀ պետական բյուջեից համայնքներին սուբվենցիաների տրամադրման կարգը հաստատելու մասին» 1708-Ն որոշում
A44: Արդյունքի չափորոշիչներ
A45: Ծրագրերի քանակ, հատ | C45: 9
A46: Միջոցառման վրա կատարվող ծախսը (հազար դրամ) | C46: ='1'!D27 -> 395676.1
C48: Աղյուսակ 9.1.51
A49: ՀՀ Գեղարքունիքի մարզպետի աշխատակազմ
A51: ՄԱՍ 1. ՊԵՏԱԿԱՆ ՄԱՐՄՆԻ ԳԾՈՎ ԱՐԴՅՈՒՆՔԱՅԻՆ (ԿԱՏԱՐՈՂԱԿԱՆ) ՑՈՒՑԱՆԻՇՆԵՐԸ
A53: Ծրագրի դասիչը | B53: Ծրագրի անվանումը
A54: 1212 | B54: Տարածքային զարգացում
A56: Ծրագրի միջոցառումները
...
