Workbook
Name _tab10: #REF!
Name _tab11: #REF!
Name _tab12: #REF!
Name _tab13: #REF!
Name _tab14: #REF!
Name _tab15: #REF!
Name _tab16: #REF!
Name _tab17: #REF!
Name _tab18: #REF!
Name _tab19: #REF!
Name _tab20: #REF!
Name _tab21: #REF!
Name _tab22: #REF!
Name _tab23: #REF!
Name _tab24: #REF!
Name _tab5: #REF!
Name _tab6: #REF!
Name _tab7: #REF!
Name _tab8: #REF!
Name _tab9: #REF!
Name par_count: #REF!,#REF!,#REF!,#REF!,#REF!,#REF!,#REF!,#REF!,#REF!,#REF!,#REF!,#REF!,#REF!,#REF!,#REF!
Name par_qual: #REF!,#REF!,#REF!,#REF!,#REF!
Name par_time: #REF!,#REF!,#REF!,#REF!
Name par2.12s: #REF!
Name par2.4s: #REF!,#REF!,#REF!,#REF!,#REF!,#REF!,#REF!,#REF!,#REF!,#REF!,#REF!,#REF!,#REF!,#REF!,#REF!,#REF!
Name par2.5s: #REF!,#REF!
Name par2.6s: #REF!,#REF!,#REF!,#REF!
Name par2.7s: #REF!,#REF!
Name par2.9s: #REF!,#REF!,#REF!,#REF!,#REF!,#REF!,#REF!,#REF!,#REF!,#REF!,#REF!,#REF!,#REF!,#REF!,#REF!,#REF!
Name par4.10s: #REF!,#REF!
Name par4.11d: #REF!,#REF!,#REF!,#REF!,#REF!
Name par4.12d: #REF!
Name par4.13s: #REF!
Name par4.14: #REF!,#REF!,#REF!,#REF!,#REF!,#REF!
Name par4.15: #REF!,#REF!,#REF!
Name par4.16: #REF!,#REF!,#REF!
Name par4.17: #REF!,#REF!,#REF!,#REF!
Name par4.18d: #REF!,#REF!
Name par4.19s: #REF!
Name par4.20f: #REF!
Name par4.21f: #REF!
Name par4.22: #REF!
Name par4.4: #REF!
Name par4.5: #REF!
Name par4.6s: #REF!
Name par4.7s: #REF!
Name par4.8: #REF!,#REF!,#REF!,#REF!,#REF!
Name par4.9: #REF!,#REF!,#REF!,#REF!,#REF!,#REF!
Name par5.1: #REF!,#REF!
Name par5.3: #REF!,#REF!,#REF!,#REF!,#REF!,#REF!
Name par5.4: #REF!,#REF!,#REF!,#REF!,#REF!
Name par5.5: #REF!
Name par5.6: #REF!,#REF!
Name program: #REF!,#REF!,#REF!,#REF!,#REF!,#REF!,#REF!,#REF!,#REF!,#REF!,#REF!,#REF!,#REF!,#REF!,#REF!,#REF!,#REF!,#REF!,#REF!,#REF!
Name SUM: '1'!#REF!

Sheet 1
D1: Հավելված № 1
D2: ՀՀ կառավարության 2024 թվականի
D3: -------------- ի № ---- -Ն որոշման
A5: «ՀԱՅԱՍՏԱՆԻ ՀԱՆՐԱՊԵՏՈՒԹՅԱՆ 2024 ԹՎԱԿԱՆԻ ՊԵՏԱԿԱՆ ԲՅՈՒՋԵԻ ՄԱՍԻՆ» ՕՐԵՆՔԻ N 1 ՀԱՎԵԼՎԱԾԻ N 7 ԱՂՅՈՒՍԱԿՈՒՄ ԵՎ ՀԱՅԱՍՏԱՆԻ ՀԱՆՐԱՊԵՏՈՒԹՅԱՆ ԿԱՌԱՎԱՐՈՒԹՅԱՆ 2023 ԹՎԱԿԱՆԻ ԴԵԿՏԵՄԲԵՐԻ 28-Ի N 2323-Ն ՈՐՈՇՄԱՆ N 5 ՀԱՎԵԼՎԱԾԻ N 6 ԱՂՅՈՒՍԱԿՈՒՄ ԿԱՏԱՐՎՈՂ ՓՈՓՈԽՈՒԹՅՈՒՆԸ ԵՎ ԼՐԱՑՈՒՄՆԵՐԸ
D6: հազար դրամ
A7: Ծրագրային դասիչը | C7: Հատկացումների տրամադրման նպատակները և բյուջետային գլխավոր կարգադրիչների, ծրագրերի, միջոցառումների և կատարող պետական մարմնի անվանումները | D7: Ցուցանիշների փոփոխությունը (ավելացումները նշված են դրական նշանով, իսկ նվազեցումները` փակագծերում)
A8: Ծրագիր | B8: Միջոցառում | D8: Տարի
C9: ԸՆԴԱՄԵՆԸ | D9: =+D11 -> 0
C10: այդ թվում
C11: Կապիտալ սուբվենցիաներ համայնքներին | D11: =+D13 -> 0
C12: այդ թվում`
C13: ՀՀ տարածքային կառավարման և ենթակառուցվածքների նախարարություն | D13: =+D15 -> 0
C14: այդ թվում`
A15: 1212 | C15: Տարածքային զարգացում | D15: =+D17 -> 0
C16: այդ թվում`
B17: 12007 | C17: ՀՀ մարզերին սուբվենցիաների տրամադրում՝ ենթակառուցվածքների զարգացման նպատակով | D17: 0
C18: այդ թվում` ըստ կատարողների
C19: ՀՀ կառավարություն | D19: =-(D20+D27+D38+D51+D56+D68+D74+D80) -> -3845273.8
C20: ՀՀ Արարատի մարզպետի աշխատակազմ | D20: =SUM(D22:D26) -> 336641.1
C21: այդ թվում` ըստ ուղղությունների
C22: Մասիս համայնքի ք․ Մասիսի բազմաբնակարան շենքերի տանիքների հիմնանորոգում» / Մասիս քաղաքի 3-րդ թաղ․թիվ 1, թիվ 4, թիվ 13 և Նոր թաղամաս թիվ 29 բբշ տանիքների հիմնանորոգում» և Մասիս քաղաքի Նոր թաղամաս թիվ 1 բբշ տանիքների հիմնանորոգում» | D22: 55913.5
C23: Արարատ համայնքի Արարատ քաղաքի Աբովյան 9, Կոմիտաս 2, Խանջյան47, Շահումյան 63, ՈԿՖ բանավան 4 , Արարատյան զանգվածի 1 շենքերի տանիքների վերանորոգում | D23: 32602.4
C24: Արարատ համայնքի Արարատ քաղաքի ԷՉԿ թաղամասի և Արմաշ բնակավայրի ջրամատակարարում | D24: 58341
C25: Արարատ համայնքի Ավշար, Նոյակերտ, Սուրենավան, Արարատ, Արմաշ, Պ․ Սևակ, Ուրցալանջ, Վարդաշատ բնակավայրերի փողոցային լուսավորության համակարգի կառուցում և վերակառուցում լեդ լուսատուներով | D25: 49122.5
C26: Արարատ համայնքի Արարատ քաղաքի, Զանգակատուն, Վարդաշատ, Պարույր Սևակ, Երասխ, Արարատ, Ավշար և Նոյակերտ բնակավայրերի ճանապարհների վերանորոգում ասֆալտապատմամբ / «Արարատ համայնքի Արարատ քաղաքի փողոցների ասֆալտապատման աշխատանքներ» ենթածրագրի 1-ին փուլ, «Արարատ համայնքի Ավշար բնակավայրի փողոցների ասֆալտապատման աշխատանքներ» և «Արարատ համայնքի Պ․ Սևակ բնակավայրի փողոցների ասֆալտապատման աշխատանքներ» / | D26: 140661.7
C27: ՀՀ Արմավիրի մարզպետի աշխատակազմ | D27: =SUM(D29:D37) -> 395676.1
C28: այդ թվում` ըստ ուղղությունների
C29: Արաքս համայնքի Գայ գյուղի համայնքապետարանի շենքի և Ապագա գյուղի մարզադպրոցի շենքի /Գայի համայնքապետարանի շենք/ | D29: 15121.1
C30: Արմավիր քաղաքի կենտրոնական հրապարակի շատրվանի վերակառուցում, Հանրապետության փողոցի մայթերի բարեկարգում և կանաչապատ տարածքների ոռոգման համակարգի կառուցում, Սարդարապատ գյուղի մշակույթի տան հարակից պուրակի բարեկարգում, Մայիսյան գյուղի մշակույթի տան հարակից պուրակի բարեկարգում, Խանջյան գյուղի մշակույթի տան հարակից պուրակի բարեկարգում /Մայիսյան գյուղի մշակույթի տան հարակից պուրակի բարեկարգում/ | D30: 14382.7
C31: Արմավիր համայնքի Արմավիր քաղաքի Սահմանապահների փողոցի Հանրապետություն -Աբովյան և Երևանյան-Շահումյան հատվածների հիմնանորոգում,Թումանյան փողոցի Երևանյան-Շահումյան հատվածի հիմնանորոգում, Հ Ավետիսյան փողոցի Երևանյան- Շահումյան հատվածի հիմնանորոգում, Շահումյան փողոցի Արարատյան-Ջիվանի և Չարենց-Բաղրամյան հատվածների հիմնանորոգում, Նորավան գյուղի կենտրոնական փողոցի կառուցում, Այգեվան գյուղի կենտրոնական փողոցի հիմնանորոգում, կառուցում, Մյասնիկյան գյուղի Բաղրամյան փողոցի կառուցում, Լուկաշին գյուղի Թամանյան փողոցի հիմնանորոգում, Արմավիր քաղաքի Շահումյան փողոցի Արարատյան-Ջիվանի և Չարենց-Բաղրամյան հատվածների հիմնանորոգում/ | D31: 202964.7
C32: Մեծամոր համայնքի Ալաշկերտ, Ամասիա, Արգավանդ, Արևիկ, Բամբակաշատ, Գետաշեն, Հայկավան, Նալբանդյան, Նոր Արմավիր, Նոր Արտագերս, Նոր Կեսարիա, Շենավան, Ջանֆիդա, Ջրաշեն, Վարդանաշեն, Փշատավան, Տարոնիկ և Մրգաշատ բնակավայրերի խմելու ջրամատակարարման ցանցերի կառուցում / Ջրաշեն/ | D32: 26117.4
C33: Խոյ համայնքի Այգեշատ, Ամբերդ, Ծիածան, Ծաղկունք, Արագած, Դողս, Հովտամեջ բնակավայրերի ներտնտեսային ոռոգման ջրագծերի վերակառուցում /Դողս/ | D33: 11274.2
C34: Խոյ համայնքի Լեռնամերձ բնակավայրի, Դաշտ բնակավայրի Բարեկամություն և Համերաշխություն փողոցների, Ծաղկալանջ բնակավայրի 13-րդ, 17-րդ, 18-րդ, 19-րդ փողոցների գազաֆիկացում /Լեռնամերձ/ | D34: 22517.1
C35: Արաքս և Մեծամոր բնակավայրերը սնուցող գազատար խողովակի կառուցման, Արաքս բնակավայրի Դեմիրճյան և Դրոյի փողոցների, Մեծամոր բնակավայրի Սարյան և Աբովյան փողոցների գազաֆիկացում | D35: 73833.2
C36: Բաղրամյան համայնքի Արգինա բնակավայրի Տիգրան Մեծ փողոցի և Աբովյան փողոցի ասֆալտապատում, Արտամետ բնակավայրի Գարեգին Նժդեհ փողոցի և Գարեգին Նժդեհ փողոցը Արաբոյի փողոցին կապող հատվածի և Արաբոյի փողոցի ասֆալտապատում, Բագարան բնակավայրի Գևորգ Մարզպետունի փողոցի ասֆալտապատում, Բաղրամյան բնակավայրի Սարի Թաղ փողոցի սկզբնամասի և Սարի Թաղ փողոցի վերջնամասի ասֆալտապատում, Դալարիկ բնակավայրի Մյասնիկյան փողոցի և դպրոցի բակի և Օրջոնիկիձե փողոցի ասֆալտապատում, Երվանդաշատ բնակավայրի Բերդակի փողոցի և Խաչին Տակ փողոցի ասֆալտապատում, Լեռնագոգ բնակավայրի 1-ին փողոցի և 12-րդ փողոցի ասֆալտապատում, Հուշակերտ բնակավայրի 2-րդ փողոցի և 5-րդ փողոցի ասֆալտապատում, Շենիկ բնակավայրի Մ.Մելքոնյան փողոցի վերևի հատվածի և Մ.Մելքոնյան փողոցի ներքևի հատվածի ասֆալտապատում, Վանանդ բնակավայրի Պ. Սևակ փողոցի, Պ. Սևակ փողոցի մի հատվածի և Հ. Քոչար փողոցի և Զ․ Սահակյան փողոցի ասֆալտապատում, Տալվորիկ բնակավայրի Գևորգ Չավուշի փողոցի ասֆալտապատում, Քարակերտ բնակավայրի Երկաթուղայինների փողոցի, Բաբաջանյան փողոցի, գերեզմանատան ճանապարհի և Սարյան փողոցի ասֆալտապատում /Հուշակերտ բնակավայրի 2-րդ փողոցի և 5-րդ փողոցի ասֆալտապատում/ | D36: 22705.4
C37: Բաղրամյան համայնքի Տալվորիկ բնակավայրի ջրամատակարարման համակարգի բարելավման աշխատանքներ | D37: 6760.3
C38: ՀՀ Գեղարքունիքի մարզպետի աշխատակազմ | D38: =SUM(D40:D50) -> 1174874.3
C39: այդ թվում` ըստ ուղղությունների
C40: Մարտունի համայնքի Մարտունի համայնքային կենտրոնի Գարեգին Նժդեհ, Կոմիտաս, Գետափնյա 2, Կարապետյան փողոցների, Արծվանիստ, Ծովինար, Վարդենիկ, Զոլաքար, Գեղհովիտ, Գեղհովիտ բնակավայրի Լեռնակերտ տարածքի,Ն. Գետաշեն, Վ. Գետաշեն, Լիճք, Ծակքար, Ձորագյուղ, Վարդաձոր, Երանոս բնակավայրերում տարբեր փողոցների երթևեկելի հատվածների ասֆալտապատում, ինչպես նաև Ծակքար բնակավայրի 6-րդ և 10-րդ փողոցները միացնող կամրիջի կառուցում /Ձորագյուղ/ | D40: 18655.8
C41: Սևան համայնքի 1-Սևան քաղաքի Խորհուրդների, Սունդուկյան, Մարզպետունի,2 Նալբանդյան, Մյասնիկյան, Նաիրյան փողոցների, 3.Գագարին գյուղի Բաղրամյան և Կոմիտաս փողոցների հիմնանորոգման աշխատանքներ /Նալբանդյան, Մյասնիկյան, Նաիրյան փողոցներ/ | D41: 223082.7
C42: Մարտունի համայնքի «Մարտունի համայնքի Արծվանիստ, Ծովինար, Զոլաքար/լրացուցիչ, Աստղաձոր, Լիճք, Ծակքար, Ձորագյուղ, Վարդաձոր, Վարդենիկ և Երանոս բնակավայրերում խմելու նոր ջրագծերի կառուցում և Վարդաձոր, Վարդենիկ և Ծովինար բնակավայրերում խմելու ջրի կապտաժիների կառուցում» /Զոլաքար/ | D42: 47073.7
C43: Մարտունի համայնքի «Մարտունի քաղաքի Թումանյան, Սայաթ Նովա, Շահումյան և Հեռուստաաշտարակի փողոցների մայթերի կառուցում սալարկմամբ, ինչպես նաև Ներքին Գետաշեն բնակավայրի Ն. Դեմեր թաղամասի 1-ին փողոցից մինչև Դուրան թաղամասի 10-րդ փողոցի միջակայքում ընկած մայթերի կառուցում սալարկմամբ» /Շահումյան/ | D43: 64239.9
C44: Ճամբարակ համայնքի Մարտունի բնակավայրի կենտրոնական փողոցի հատվածի և Ճամբարակ քաղաքի Լեո փողոցի սալարկման աշխատանքներ /Մարտունի բնակավայր/ | D44: 13421.8
C45: Վարդենիս խոշորացված համայնքի Ավազան, Արփունք, Արեգունի, Գեղամասար, Սոթք, Կուտական, Նորակերտ, Տրետուք, Փամբակ, Փոքր Մասրիկ, Կարճաղբյուր և Լուսակունք բնակավայրերի խմելու ջրի ջրագծերի, կապտաժներիև ՕԿՋ-ների կառուցում /Գեղամասար-լրացուցիչ/ | D45: 1712.9
C46: Վարդենիս համայնքի Վարդենիս քաղաքի Գայի փողոցի ասֆալտապատում, միակողմանի մայթի կառուցում, Վ. Համբարձումյան փողոցի ասֆալտապատում, 6 բազմաբնակարան շենքի բակերի ասֆալտապատում, Արփունք բնակավայր տանող ճանապարհի ասֆալտապատում, Ակունք բնակավայրի 13-րդ փողոցի ասֆալտապատում, Տորֆավան բնակավայրի կենտրոնական փողոցի ասֆալտապատում, Ծովակ բնակավայրի 1 փողոցի, 11 փակուղի հասեցի ճանապարհի ասֆալտապատում, Կարճաղբյուր բնակավայրի 11-րդ և 13-րդ փողոցների ասֆալտապատում /Գայի փող․/ | D46: 339716.9
C47: Մարտունի համայնքի «Արծվանիստ, Ծովինար, Վարդենիկ, Զոլաքար, Աստղաձոր, Վաղաշեն, Գեղհովիտ, Լեռնակերտ, Ն․ Գետաշեն, Վ․ Գետաշեն, Մադինա, Լիճք, Ծովասար, Ձորագյուղ, Վարդաձոր և Երանոս բնակավայրերում ոռոգման ջրատարների և Վարդենիկ, Աստղաձոր բնակավայրերում խորքային հորերի կառուցում» /Վերին Գետաշեն, Մադինա, Լիճք և Ձորագյուղ / | D47: 265234.5
C48: Մարտունի համայնքի «Ձորագյուղ բնակավայրի մանկապարտեզի շենքի հիմնանորոգում, Լիճք և Երանոս բնակավայրերի մանկապարտեզների խաղահրապարակների բարեկարգում, Վարդենիկ բնակավայրի մանկապարտեզի շենքի երեսպատում և խաղահրապարակի բարեկարգում, ինչպես նաև Վարդենիկ և Երանոս բնակավայրերի մանկապարտեզների համար անհրաժեշտ գույքի ձեռքբերում /Ձորագյուղ բնակավայրի մանկապարտեզի շենքի հիմնանորոգման, Լիճք և Երանոս բնակավայրերի մանկապարտեզների խաղահրապարակների բարեկարգման, Վարդենիկ բնակավայրի մանկապարտեզի շենքի երեսպատման և խաղահրապարակի բարեկարգման աշխատանքներ/ | D48: 121063.1
C49: Վարդենիս քաղաքի 10 բազմաբնակարան շենքերի (Արզոյան փողոց, շենք 2, Արզոյան փողոց, շենք 9, Երիտասարդության փողոց, շենք 15, Լեռնագործների փողոց, շենք 1/1, Չարենցի փողոց, շենք 46, Ռոմանի փողոց, շենք 2, Սեսմանուկյան փողոց, շենք 9, Սեսմանուկյան փողոց, շենք 13, Սեսմանուկյան փողոց, շենք 15, Ստեփանյան փողոց, շենք 9) տանիքների հիմնանորոգում /Ա․ Սեսմանուկյան 9, Ա․ Սեսմանուկյան 13, Ա․ Սեսմանուկյան 15, Երիտասարդության 15, Չարենցի 46 և Ռոմանի 2 / | D49: 48935.4
C50: Գավառ համայնքի «Սարուխանի թիվ 1 մանկապարտեզ», «Գավառի թիվ 7 մանկապարտեզ» և «Գավառի մշակույթի տուն» ՀՈԱԿ-ների համար գույքի ձեռքբերում | D50: 31737.6
C51: ՀՀ Լոռու մարզպետի աշխատակազմ | D51: =SUM(D53:D55) -> 167939.9
C52: այդ թվում` ըստ ուղղությունների
C53: Վանաձոր համայնքի Գուգարք բն․ մանկապարտեզի կառուցում 2 փուլով /1-ին փուլ/ | D53: 51995
C54: Վանաձոր համայնքի Վանաձոր բն․ թիվ4 տնակային մանկապարտեզի շենքի կառուցում /1-ին փուլ/ | D54: 45096.6
C55: Շնող համայնքի փողոցների հիմնանորոգում | D55: 70848.3
C56: ՀՀ Կոտայքի մարզպետի աշխատակազմ | D56: =SUM(D58:D67) -> 699300.2
C57: այդ թվում` ըստ ուղղությունների
C58: Նոր Հաճն համայնքի Թեղենիք բնակավայրի համայնքային կենտրոնի շենքի հիմնանորոգում | D58: 92439.9
C59: Հրազդան քաղաքի Կենտրոն և Մաքրավան,Միկրոշրջան և Հարավային թաղամասերի միջթաղամասային ճանապարհների հիմնանորոգման և Զ. Անդրանիկի պողոտայի բետոնե բաժանարարների կառուցման և տեղադրման աշխատանքներ | D59: 2367.6
C60: Ծաղկաձոր համայնքի Աղավնաձոր բնակավայրի խմելու ջրի ներքին ցանցի հիմնանորոգում | D60: 24869.3
C61: Ծաղկաձոր համայնքի Փյունիկ բնակավայրի խմելու ջրի ջրամատակարարման համակարգի կառուցում | D61: 36809.1
C62: Նաիրի համայնքի Եղվարդ բնակավայրի Երևանյան փողոցի 5,6,4,9,7 և 8 շենքեր, Քասախ բնակավայրի Ս.Ջալալյան փողոցի 4, Սաֆարյան փողոցի 2 և Ա Ստեփանյան 5 շենքերի, Պռոշյան բնակավայրի Անդրանաիկի 3,4,և Երևաբժնյան 6 շենքերի թեք տանիքների և շքամուտքերի վերանորոգում /Եղվարդ բնակավայրի Երևանյան փողոցի 5,6,4,9,7 և 8 շենքեր/ | D62: 83445.2
C63: Աբովյան համայնքի Աբովյան քաղաքի Էդ. Ավագյան փողոցի ասֆալտապատում, ջրահեռացման համակարգի կառուցում և մայթերի հիմնանորոգում, Առինջ բնակավայրի Պ Սևակի թաղամաս 4-րդ փողոցի, Խ Աբովյան թաղամաս 15-րդ փողոցի, Խ Աբովյան թաղամաս 11-րդ փողոցի , Բ թաղամասի 2-րդ փողոցի ,Ա թաղամասի 1-ին փողոցի Խ Աբովյան թաղամաս 10-րդ փողոցի 1-ին փակուղի, Արամուս բնակավայրի Ջերմատան փողոցի Ջրմուղի փողոցի 1-ին նրբ 2-րդ փողոցի և 2-րդ փ 1-ին նրբ, Ջերմատան փող 1-ին նրբ, Բալահովիտ բնակավայրի 1-ին փողոց 1-ն նրբ 9-րդ փողոց, Ծաղկունք 3-րդ փողոց/մասնակի/, Գեղաշեն բնակավայրի 5-րդ փողոցի 2-րդ նրբ ,3-րդ փողոց 2-րդ նրբ 1-ին փողոց 5-րդ նրբ, 1-ին փողոց 6-րդ նրբ, 1-ին թաղամաս 4-րդ փողոց, 1-ին թաղամաս 3-րդ փողոց, 3-րդ փողոց, Կաթնաղբյուր բնակավայրի 4-րդ փողոց, Կամարիս բնակավայրի 4-րդ փողոց, Մայակովսկի բնակավայրի 15րդ փողոց, Պտղնի բնակավայրի 1-ին փողոց և Վերին Պտղնի բնակավայրի Նորավան թաղամասի 1-րդ փողոց ասֆատապատման աշխատանքներ /Բալահովիտ բնակավայրի 1-ին փողոց 1-ն նրբ 9-րդ փողոց, Ծաղկունք 3-րդ փողոց/մասնակի/, Գեղաշեն բնակավայրի 5-րդ փողոցի 2-րդ նրբ ,3-րդ փողոց 2-րդ նրբ 1-ին փողոց 5-րդ նրբ, 1-ին փողոց 6-րդ նրբ, 1-ին թաղամաս 4-րդ փողոց, 1-ին թաղամաս 3-րդ փողոց, 3-րդ փողոց, Կաթնաղբյուր բնակավայրի 4-րդ փողոց, Կամարիս բնակավայրի 4-րդ փողոց, Մայակովսկի բնակավայրի 15րդ փողոց, և Վերին Պտղնի բնակավայրի Նորավան թաղամասի 1-ին փողոց, Առինջ բնակավայրի Պ Սևակի թաղամաս 4-րդ փողոցի, Խ Աբովյան թաղամաս 15-րդ փողոցի, Խ Աբովյան թաղամաս 11-րդ փողոցի , Բ թաղամասի 2-րդ փողոցի ,Ա թաղամասի 1-ին փողոցի Խ Աբովյան թաղամաս 10-րդ փողոցի 1-ին փակուղի/ | D63: 306341.6
C64: Ակունք համայնքի Նոր Գյուղ բնակավայրի մանկապարտեզի բակի բարեկարգում, տարածքի ցանկապատում, խաղահրապարակի կառուցում, մանկապարտեզի գույքի ձեռքբերում | D64: 1155
C65: Նաիրի համայնքի Եղվարդ քաղաքի, Զովունի, Քասախ, Պռոշյան, Արագյուղ, Բուժական, Զորավան և Սարալանջ բնակավայրերի ասֆալտապատման աշխատանքներ /Պռոշյան/ | D65: 71199.4
C66: Գառնի համայնքի ճանապարհների ասֆալտապատում | D66: 32785.6
C67: Գառնի համայնքի՝ Գառնի, Գողթ, Գեղարդ բնակավայրերի խմելու ջրագծերի կառուցում | D67: 47887.5
C68: ՀՀ Շիրակի մարզպետի աշխատակազմ | D68: =SUM(D70:D73) -> 169602.5
C69: այդ թվում` ըստ ուղղությունների
C70: Անի համայնքի սահմանամերձ Աղին և Սարակապ բն․ խմելու ջրի համար խորքային հորի հորատում և պոմպի տեղադրում | D70: 53236.2
C71: Ախուրյան համայնքի Ախուրիկ բնակավայրի նախկին դպրոցի շենքի վերակառուցումը մանկապարտեզի | D71: 71414.6
C72: Ամասիա համայնքի Հողմիկ բնակավայրի մշակույթի տան վերանորոգում | D72: 39295.6
C73: Արթիկ համայնքի Մեծ Մանթաշ, Փոքր Մանթաշ, Գեղանիստ, Հայրենյաց, Հայկասար, Պեմզաշեն և Լեռնակերտ բնակավայրերի գազատարի ներքին ցանցի կառուցում/Հայկասար, Պեմզաշեն/ | D73: 5656.1
C74: ՀՀ Սյունիքի մարզպետի աշխատակազմ | D74: =SUM(D76:D79) -> 690023.9
C75: այդ թվում` ըստ ուղղությունների
C76: Քաջարան համայնքի Մ2 – Գեղի – Աջաբաջ, Լեռնաձոր – Փուխրուտ /Կաթնառատ , Քաջարան- գ.Քաջարանց ներհամայնքային ճանապարհների հիմնանորոգում/բարեկարգում /Լեռնաձոր – Փուխրուտ /Կաթնառատ/ | D76: 510586
C77: · Կապան համայնքի «Կապան քաղաքի թունելից մինչև Բաղաբերդ թաղամասի միջնամասը փողոցային լուսավորության համակարգի կառուցում», | D77: 95493.2
C78: Կապան համայնքի Ուժանիս բնակավայրի խմելու ջրի մատակարարման ապահովում | D78: 39569.5
C79: Կապան համայնքի «Կապան քաղաքի Շինարարների փողոցի թիվ 8/43 հասցեում և Բաղաբերդ թաղամասի թիվ 6/83 հասցեում գտնվող ակումբ-գրադարանների նորոգում /Կապան քաղաքի Շինարարների փողոցի թիվ 8/43 հասցեում գտնվող ակումբ-գրադարանի նորոգում/ | D79: 44375.2
C80: ՀՀ Տավուշի մարզպետի աշխատակազմ | D80: =SUM(D82:D85) -> 211215.8
C81: այդ թվում` ըստ ուղղությունների
C82: Իջևան համայնքի Իջևան, Վազաշեն, Խաշթառակ և Սևքար բնակավայրի ճանապարհի հիմնանորոգում և սալիկապատում տուֆ քարով / Սևքար բնակավայրի գյուղամիջյան ճանապարհի շարունակության և Տերյան փողոցի տուֆ քարով սալարկում/ | D82: 110798.3
C83: Իջևան համայնքի Իջևան բնակավայրի ջրահեռացման համակարգի և կոյուղագծերի կառուցում, Խաշթառակ բնակավայրի ջրամատակարարման համակարգի արդիականացում/Իջևան համայնքի Տերյան փողոցից դեպի 3-րդ փողոց տանող ճանապարհի կոյուղագծի կառուցում/ | D83: 13174.9
C84: Բերդ համայնքի Նորաշեն բնակավայրի ոռոգման համակարգի արդիականացում | D84: 53232.9
C85: Իջևան համայնքի Իջևան,Ծաղկավան, Բերքաբեր և Կիրանց բնակավայրերի ճանապարհների հիմնանորոգում և սալարկում տուֆ քարով /Բերքաբեր/ | D85: 34009.7

Sheet 2
G1: Հավելված № 2
G2: ՀՀ կառավարության 2024 թվականի
G3: -------------- ի № ---- -Ն որոշման
A5: ՀԱՅԱՍՏԱՆԻ ՀԱՆՐԱՊԵՏՈՒԹՅԱՆ ԿԱՌԱՎԱՐՈՒԹՅԱՆ 2023 ԹՎԱԿԱՆԻ ԴԵԿՏԵՄԲԵՐԻ 28-Ի № 2323-Ն ՈՐՈՇՄԱՆ №№ 3 և 4 ՀԱՎԵԼՎԱԾՆԵՐՈՒՄ ԿԱՏԱՐՎՈՂ ՓՈՓՈԽՈՒԹՅՈՒՆՆԵՐԸ ԵՎ ԼՐԱՑՈՒՄՆԵՐԸ
G6: հազար դրամ
A7: Գործառական դասիչը | D7: Ծրագրային դասիչը | F7: Բյուջետային հատկացումների գլխավոր կարգադրիչների, ծրագրերի, միջոցառումների և միջոցառումները կատարող պետական մարմինների անվանումները | G7: Ցուցանիշների փոփոխությունը (ավելացումները նշված են դրական նշանով, իսկ նվազեցումները` փակագծերում)
A8: բաժին | B8: խումբ | C8: դաս | D8: Ծրագիր | E8: Միջոցառում | G8: Տարի
A9: ԸՆԴԱՄԵՆԸ ԾԱԽՍԵՐ | G9: =+G10 -> 0
A10: 01 | F10: ԸՆԴՀԱՆՈՒՐ ԲՆՈՒՅԹԻ ՀԱՆՐԱՅԻՆ ԾԱՌԱՅՈՒԹՅՈՒՆՆԵՐ | G10: =+G12 -> 0
F11: այդ թվում՝
B12: 08 | F12: Կառավարության տարբեր մակարդակների միջև իրականացվող ընդհանուր բնույթի տրանսֆերտներ | G12: =+G14 -> 0
F13: այդ թվում՝
C14: 01 | F14: Կառավարության տարբեր մակարդակների միջև իրականացվող ընդհանուր բնույթի տրանսֆերտներ | G14: =+G16 -> 0
F15: այդ թվում՝
F16: ՀՀ տարածքային կառավարման և ենթակառուցվածքների նախարարություն | G16: =+G18 -> 0
F17: այդ թվում՝
D18: 1212 | F18: Տարածքային զարգացում | G18: =+G20 -> 0
F19: այդ թվում`
E20: 12007 | F20: ՀՀ մարզերին սուբվենցիաների տրամադրում՛ ենթակառուցվածքների զարգացման նպատակով_x000D_ | G20: 0
F21: այդ թվում` ըստ կատարողների
F22: ՀՀ կառավարություն | G22: ='1'!D19 -> -3845273.8
F23: այդ թվում` բյուջետային ծախսերի տնտեսագիտական դասակարգման հոդվածներ
F24: ԸՆԴԱՄԵՆԸ ԾԱԽՍԵՐ | G24: =G25 -> -3845273.8
F25: ԸՆԹԱՑԻԿ ԾԱԽՍԵՐ | G25: =G26 -> -3845273.8
F26: ԴՐԱՄԱՇՆՈՐՀՆԵՐ | G26: =G27 -> -3845273.8
F27: Կապիտալ դրամաշնորհներ պետական հատվածի այլ մակարդակներին | G27: =G28 -> -3845273.8
F28: - Կապիտալ սուբվենցիաներ համայնքներին | G28: ='1'!D19 -> -3845273.8
F29: ՀՀ Արարատի մարզպետի աշխատակազմ | G29: ='1'!D20 -> 336641.1
F30: այդ թվում` բյուջետային ծախսերի տնտեսագիտական դասակարգման հոդվածներ
F31: ԸՆԴԱՄԵՆԸ ԾԱԽՍԵՐ | G31: =G29 -> 336641.1
F32: ԸՆԹԱՑԻԿ ԾԱԽՍԵՐ | G32: =G31 -> 336641.1
F33: ԴՐԱՄԱՇՆՈՐՀՆԵՐ | G33: =G32 -> 336641.1
F34: Կապիտալ դրամաշնորհներ պետական հատվածի այլ մակարդակներին | G34: =G33 -> 336641.1
F35: - Կապիտալ սուբվենցիաներ համայնքներին | G35: =G34 -> 336641.1
F36: ՀՀ Արմավիրի մարզպետի աշխատակազմ | G36: ='1'!D27 -> 395676.1
F37: այդ թվում` բյուջետային ծախսերի տնտեսագիտական դասակարգման հոդվածներ
F38: ԸՆԴԱՄԵՆԸ ԾԱԽՍԵՐ | G38: =G36 -> 395676.1
F39: ԸՆԹԱՑԻԿ ԾԱԽՍԵՐ | G39: =G38 -> 395676.1
F40: ԴՐԱՄԱՇՆՈՐՀՆԵՐ | G40: =G39 -> 395676.1
F41: Կապիտալ դրամաշնորհներ պետական հատվածի այլ մակարդակներին | G41: =G40 -> 395676.1
F42: - Կապիտալ սուբվենցիաներ համայնքներին | G42: =G41 -> 395676.1
F43: ՀՀ Գեղարքունիքի մարզպետի աշխատակազմ | G43: ='1'!D38 -> 1174874.3
F44: այդ թվում` բյուջետային ծախսերի տնտեսագիտական դասակարգման հոդվածներ
F45: ԸՆԴԱՄԵՆԸ ԾԱԽՍԵՐ | G45: =G43 -> 1174874.3
F46: ԸՆԹԱՑԻԿ ԾԱԽՍԵՐ | G46: =G45 -> 1174874.3
F47: ԴՐԱՄԱՇՆՈՐՀՆԵՐ | G47: =G46 -> 1174874.3
F48: Կապիտալ դրամաշնորհներ պետական հատվածի այլ մակարդակներին | G48: =G47 -> 1174874.3
F49: - Կապիտալ սուբվենցիաներ համայնքներին | G49: =G48 -> 1174874.3
F50: ՀՀ Լոռու մարզպետի աշխատակազմ | G50: ='1'!D51 -> 167939.9
F51: այդ թվում` բյուջետային ծախսերի տնտեսագիտական դասակարգման հոդվածներ
F52: ԸՆԴԱՄԵՆԸ ԾԱԽՍԵՐ | G52: =G50 -> 167939.9
F53: ԸՆԹԱՑԻԿ ԾԱԽՍԵՐ | G53: =G52 -> 167939.9
F54: ԴՐԱՄԱՇՆՈՐՀՆԵՐ | G54: =G53 -> 167939.9
F55: Կապիտալ դրամաշնորհներ պետական հատվածի այլ մակարդակներին | G55: =G54 -> 167939.9
F56: - Կապիտալ սուբվենցիաներ համայնքներին | G56: =G55 -> 167939.9
F57: ՀՀ Կոտայքի մարզպետի աշխատակազմ | G57: ='1'!D56 -> 699300.2
F58: այդ թվում` բյուջետային ծախսերի տնտեսագիտական դասակարգման հոդվածներ
F59: ԸՆԴԱՄԵՆԸ ԾԱԽՍԵՐ | G59: =G57 -> 699300.2
F60: ԸՆԹԱՑԻԿ ԾԱԽՍԵՐ | G60: =G59 -> 699300.2
F61: ԴՐԱՄԱՇՆՈՐՀՆԵՐ | G61: =G60 -> 699300.2
F62: Կապիտալ դրամաշնորհներ պետական հատվածի այլ մակարդակներին | G62: =G61 -> 699300.2
F63: - Կապիտալ սուբվենցիաներ համայնքներին | G63: =G62 -> 699300.2
F64: ՀՀ Շիրակի մարզպետի աշխատակազմ | G64: ='1'!D68 -> 169602.5
F65: այդ թվում` բյուջետային ծախսերի տնտեսագիտական դասակարգման հոդվածներ
F66: ԸՆԴԱՄԵՆԸ ԾԱԽՍԵՐ | G66: =G64 -> 169602.5
F67: ԸՆԹԱՑԻԿ ԾԱԽՍԵՐ | G67: =G66 -> 169602.5
F68: ԴՐԱՄԱՇՆՈՐՀՆԵՐ | G68: =G67 -> 169602.5
F69: Կապիտալ դրամաշնորհներ պետական հատվածի այլ մակարդակներին | G69: =G68 -> 169602.5
F70: - Կապիտալ սուբվենցիաներ համայնքներին | G70: =G69 -> 169602.5
F71: ՀՀ Սյունիքի մարզպետի աշխատակազմ | G71: ='1'!D74 -> 690023.9
F72: այդ թվում` բյուջետային ծախսերի տնտեսագիտական դասակարգման հոդվածներ
F73: ԸՆԴԱՄԵՆԸ ԾԱԽՍԵՐ | G73: =G71 -> 690023.9
F74: ԸՆԹԱՑԻԿ ԾԱԽՍԵՐ | G74: =G73 -> 690023.9
F75: ԴՐԱՄԱՇՆՈՐՀՆԵՐ | G75: =G74 -> 690023.9
F76: Կապիտալ դրամաշնորհներ պետական հատվածի այլ մակարդակներին | G76: =G75 -> 690023.9
F77: - Կապիտալ սուբվենցիաներ համայնքներին | G77: =G76 -> 690023.9
F78: ՀՀ Տավուշի մարզպետի աշխատակազմ | G78: ='1'!D80 -> 211215.8
F79: այդ թվում` բյուջետային ծախսերի տնտեսագիտական դասակարգման հոդվածներ
F80: ԸՆԴԱՄԵՆԸ ԾԱԽՍԵՐ | G80: =G78 -> 211215.8
F81: ԸՆԹԱՑԻԿ ԾԱԽՍԵՐ | G81: =G80 -> 211215.8
F82: ԴՐԱՄԱՇՆՈՐՀՆԵՐ | G82: =G81 -> 211215.8
F83: Կապիտալ դրամաշնորհներ պետական հատվածի այլ մակարդակներին | G83: =G82 -> 211215.8
F84: - Կապիտալ սուբվենցիաներ համայնքներին | G84: =G83 -> 211215.8

Sheet 3
C1: Հավելված № 3
C2: ՀՀ կառավարության 2024 թվականի
C3: -------------- ի № ---- -Ն որոշման
A4: ՀԱՅԱՍՏԱՆԻ ՀԱՆՐԱՊԵՏՈՒԹՅԱՆ ԿԱՌԱՎԱՐՈՒԹՅԱՆ 2023 ԹՎԱԿԱՆԻ ԴԵԿՏԵՄԲԵՐԻ 28-Ի № 2323-Ն ՈՐՈՇՄԱՆ № 9 ՀԱՎԵԼՎԱԾԻ № 9.7 ԱՂՅՈՒՍԱԿՈՒՄ ԿԱՏԱՐՎՈՂ ԼՐԱՑՈՒՄԸ
A6: ՀՀ տարածքային կառավարման և ենթակառուցվածքների նախարարություն
A7: ՄԱՍ 2. ՊԵՏԱԿԱՆ ՄԱՐՄՆԻ ԳԾՈՎ ԱՐԴՅՈՒՆՔԱՅԻՆ (ԿԱՏԱՐՈՂԱԿԱՆ) ՑՈՒՑԱՆԻՇՆԵՐԸ
A9: Ծրագրի դասիչը | B9: Ծրագրի անվանումը
A10: 1212 | B10: Տարածքային զարգացում
A11: Ծրագրի միջոցառումները
A12: Ծրագրի դասիչը` | B12: 1212 | C12: Ցուցանիշների փոփոխությունը (ավելացումները նշված են դրական նշանով)
A13: Միջոցառման դասիչը` | B13: 12007 | C13: Տարի
A14: Միջոցառման անվանումը` | B14: ՀՀ մարզերին սուբվենցիաների տրամադրում` ենթակառուցվածքների զարգացման նպատակով_x000D_
A15: Նկարագրությունը` | B15: ՀՀ մարզերին սուբվենցիաների տրամադրում` ենթակառուցվածքների զարգացման նպատակով
A16: Միջոցառման տեսակը` | B16: Տրանսֆերտների տրամադրում
A17: Շահառուների ընտրության չափանիշները | B17: ՀՀ կառավարության 16. 11.2006 թվականի «ՀՀ պետական բյուջեից համայնքներին սուբվենցիաների տրամադրման կարգը հաստատելու մասին» 1708-Ն որոշում
A18: Արդյունքի չափորոշիչներ
A19: Համայնքների թիվ, հատ | C19: 1
A20: Ծրագրերի քանակ, հատ | C20: ='4'!C25+'4'!C45+'4'!C65+'4'!C84+'4'!C103+'4'!C122+'4'!C142+'4'!C162 -> 50
A21: Միջոցառման վրա կատարվող ծախսը (հազար դրամ) | C21: 0

Sheet 4
C1: Հավելված № 4
C2: ՀՀ կառավարության 2024 թվականի
C3: -------------- ի № ---- -Ն որոշման
A6: ՀԱՅԱՍՏԱՆԻ ՀԱՆՐԱՊԵՏՈՒԹՅԱՆ ԿԱՌԱՎԱՐՈՒԹՅԱՆ 2023 ԹՎԱԿԱՆԻ ԴԵԿՏԵՄԲԵՐԻ 28-Ի № 2323-Ն ՈՐՈՇՄԱՆ № 9.1 ՀԱՎԵԼՎԱԾԻ № 9.1.49, 9.1.50, 9.1.51, 9.1.52, 9.1.53, 9.1.54, 9.1.55, 9.1.57 ԵՎ 9.1.58 ԱՂՅՈՒՍԱԿՆԵՐՈՒՄ ԿԱՏԱՐՎՈՂ ՓՈՓՈԽՈՒԹՅՈՒՆԸ ԵՎ ԼՐԱՑՈՒՄՆԵՐԸ
C9: Աղյուսակ 9.1.49
A10: ՀՀ Արարատի մարզպետի աշխատակազմ
A12: ՄԱՍ 1. ՊԵՏԱԿԱՆ ՄԱՐՄՆԻ ԳԾՈՎ ԱՐԴՅՈՒՆՔԱՅԻՆ (ԿԱՏԱՐՈՂԱԿԱՆ) ՑՈՒՑԱՆԻՇՆԵՐԸ
A14: Ծրագրի դասիչը | B14: Ծրագրի անվանումը
A15: 1212 | B15: Տարածքային զարգացում
A17: Ծրագրի միջոցառումները
A18: Ծրագրի դասիչը` | B18: 1212 | C18: Ցուցանիշների փոփոխությունը (ավելացումները նշված են դրական նշանով)
A19: Միջոցառման դասիչը` | B19: 12007 | C19: Տարի
A20: Միջոցառման անվանումը` | B20: ՀՀ մարզերին սուբվենցիաների տրամադրում` ենթակառուցվածքների զարգացման նպատակով_x000D_
A21: Նկարագրությունը` | B21: ՀՀ մարզերին սուբվենցիաների տրամադրում` ենթակառուցվածքների զարգացման նպատակով
A22: Միջոցառման տեսակը` | B22: Տրանսֆերտների տրամադրում
A23: Շահառուների ընտրության չափանիշները | B23: ՀՀ կառավարության 16. 11.2006 թվականի «ՀՀ պետական բյուջեից համայնքներին սուբվենցիաների տրամադրման կարգը հաստատելու մասին» 1708-Ն որոշում
A24: Արդյունքի չափորոշիչներ
A25: Ծրագրերի քանակ, հատ | C25: 5
A26: Միջոցառման վրա կատարվող ծախսը (հազար դրամ) | C26: ='2'!G29 -> 336641.1
C28: Աղյուսակ 9.1.50
A29: ՀՀ Արմավիրի մարզպետի աշխատակազմ
A31: ՄԱՍ 1. ՊԵՏԱԿԱՆ ՄԱՐՄՆԻ ԳԾՈՎ ԱՐԴՅՈՒՆՔԱՅԻՆ (ԿԱՏԱՐՈՂԱԿԱՆ) ՑՈՒՑԱՆԻՇՆԵՐԸ
A33: Ծրագրի դասիչը | B33: Ծրագրի անվանումը
A34: 1212 | B34: Տարածքային զարգացում
A36: Ծրագրի միջոցառումները
A38: Ծրագրի դասիչը` | B38: 1212 | C38: Ցուցանիշների փոփոխությունը (ավելացումները նշված են դրական նշանով)
A39: Միջոցառման դասիչը` | B39: 12007 | C39: Տարի
A40: Միջոցառման անվանումը` | B40: ՀՀ մարզերին սուբվենցիաների տրամադրում` ենթակառուցվածքների զարգացման նպատակով_x000D_
A41: Նկարագրությունը` | B41: ՀՀ մարզերին սուբվենցիաների տրամադրում` ենթակառուցվածքների զարգացման նպատակով
A42: Միջոցառման տեսակը` | B42: Տրանսֆերտների տրամադրում
A43: Շահառուների ընտրության չափանիշները | B43: ՀՀ կառավարության 16. 11.2006 թվականի «ՀՀ պետական բյուջեից համայնքներին սուբվենցիաների տրամադրման կարգը հաստատելու մասին» 1708-Ն որոշում
A44: Արդյունքի չափորոշիչներ
A45: Ծրագրերի քանակ, հատ | C45: 9
A46: Միջոցառման վրա կատարվող ծախսը (հազար դրամ) | C46: ='1'!D27 -> 395676.1
C48: Աղյուսակ 9.1.51
A49: ՀՀ Գեղարքունիքի մարզպետի աշխատակազմ
A51: ՄԱՍ 1. ՊԵՏԱԿԱՆ ՄԱՐՄՆԻ ԳԾՈՎ ԱՐԴՅՈՒՆՔԱՅԻՆ (ԿԱՏԱՐՈՂԱԿԱՆ) ՑՈՒՑԱՆԻՇՆԵՐԸ
A53: Ծրագրի դասիչը | B53: Ծրագրի անվանումը
A54: 1212 | B54: Տարածքային զարգացում
A56: Ծրագրի միջոցառումները
A58: Ծրագրի դասիչը` | B58: 1212 | C58: Ցուցանիշների փոփոխությունը (ավելացումները նշված են դրական նշանով)
A59: Միջոցառման դասիչը` | B59: 12007 | C59: Տարի
A60: Միջոցառման անվանումը` | B60: ՀՀ մարզերին սուբվենցիաների տրամադրում` ենթակառուցվածքների զարգացման նպատակով_x000D_
A61: Նկարագրությունը` | B61: ՀՀ մարզերին սուբվենցիաների տրամադրում` ենթակառուցվածքների զարգացման նպատակով
A62: Միջոցառման տեսակը` | B62: Տրանսֆերտների տրամադրում
A63: Շահառուների ընտրության չափանիշները | B63: ՀՀ կառավարության 16. 11.2006 թվականի «ՀՀ պետական բյուջեից համայնքներին սուբվենցիաների տրամադրման կարգը հաստատելու մասին» 1708-Ն որոշում
A64: Արդյունքի չափորոշիչներ
A65: Ծրագրերի քանակ, հատ | C65: 11
A66: Միջոցառման վրա կատարվող ծախսը (հազար դրամ) | C66: ='1'!D38 -> 1174874.3
C68: Աղյուսակ 9.1.52
A69: ՀՀ Լոռու մարզպետի աշխատակազմ
A71: ՄԱՍ 1. ՊԵՏԱԿԱՆ ՄԱՐՄՆԻ ԳԾՈՎ ԱՐԴՅՈՒՆՔԱՅԻՆ (ԿԱՏԱՐՈՂԱԿԱՆ) ՑՈՒՑԱՆԻՇՆԵՐԸ
A73: Ծրագրի դասիչը | B73: Ծրագրի անվանումը
A74: 1212 | B74: Տարածքային զարգացում
A76: Ծրագրի միջոցառումները
A77: Ծրագրի դասիչը` | B77: 1212 | C77: Ցուցանիշների փոփոխությունը (ավելացումները նշված են դրական նշանով)
A78: Միջոցառման դասիչը` | B78: 12007 | C78: Տարի
A79: Միջոցառման անվանումը` | B79: ՀՀ մարզերին սուբվենցիաների տրամադրում` ենթակառուցվածքների զարգացման նպատակով_x000D_
A80: Նկարագրությունը` | B80: ՀՀ մարզերին սուբվենցիաների տրամադրում` ենթակառուցվածքների զարգացման նպատակով
A81: Միջոցառման տեսակը` | B81: Տրանսֆերտների տրամադրում
A82: Շահառուների ընտրության չափանիշները | B82: ՀՀ կառավարության 16. 11.2006 թվականի «ՀՀ պետական բյուջեից համայնքներին սուբվենցիաների տրամադրման կարգը հաստատելու մասին» 1708-Ն որոշում
A83: Արդյունքի չափորոշիչներ
A84: Ծրագրերի քանակ, հատ | C84: 3
A85: Միջոցառման վրա կատարվող ծախսը (հազար դրամ) | C85: ='1'!D51 -> 167939.9
C87: Աղյուսակ 9.1.53
A88: ՀՀ Կոտայքի մարզպետի աշխատակազմ
A90: ՄԱՍ 1. ՊԵՏԱԿԱՆ ՄԱՐՄՆԻ ԳԾՈՎ ԱՐԴՅՈՒՆՔԱՅԻՆ (ԿԱՏԱՐՈՂԱԿԱՆ) ՑՈՒՑԱՆԻՇՆԵՐԸ
A92: Ծրագրի դասիչը | B92: Ծրագրի անվանումը
A93: 1212 | B93: Տարածքային զարգացում
A95: Ծրագրի միջոցառումները
A96: Ծրագրի դասիչը` | B96: 1212 | C96: Ցուցանիշների փոփոխությունը (ավելացումները նշված են դրական նշանով)
A97: Միջոցառման դասիչը` | B97: 12007 | C97: Տարի
A98: Միջոցառման անվանումը` | B98: ՀՀ մարզերին սուբվենցիաների տրամադրում` ենթակառուցվածքների զարգացման նպատակով_x000D_
A99: Նկարագրությունը` | B99: ՀՀ մարզերին սուբվենցիաների տրամադրում` ենթակառուցվածքների զարգացման նպատակով
A100: Միջոցառման տեսակը` | B100: Տրանսֆերտների տրամադրում
A101: Շահառուների ընտրության չափանիշները | B101: ՀՀ կառավարության 16. 11.2006 թվականի «ՀՀ պետական բյուջեից համայնքներին սուբվենցիաների տրամադրման կարգը հաստատելու մասին» 1708-Ն որոշում
A102: Արդյունքի չափորոշիչներ
A103: Ծրագրերի քանակ, հատ | C103: 10
A104: Միջոցառման վրա կատարվող ծախսը (հազար դրամ) | C104: ='1'!D56 -> 699300.2
C106: Աղյուսակ 9.1.54
A107: ՀՀ Շիրակի մարզպետի աշխատակազմ
A109: ՄԱՍ 1. ՊԵՏԱԿԱՆ ՄԱՐՄՆԻ ԳԾՈՎ ԱՐԴՅՈՒՆՔԱՅԻՆ (ԿԱՏԱՐՈՂԱԿԱՆ) ՑՈՒՑԱՆԻՇՆԵՐԸ
A111: Ծրագրի դասիչը | B111: Ծրագրի անվանումը
A112: 1212 | B112: Տարածքային զարգացում
A114: Ծրագրի միջոցառումները
A115: Ծրագրի դասիչը` | B115: 1212 | C115: Ցուցանիշների փոփոխությունը (ավելացումները նշված են դրական նշանով)
A116: Միջոցառման դասիչը` | B116: 12007 | C116: Տարի
A117: Միջոցառման անվանումը` | B117: ՀՀ մարզերին սուբվենցիաների տրամադրում` ենթակառուցվածքների զարգացման նպատակով_x000D_
A118: Նկարագրությունը` | B118: ՀՀ մարզերին սուբվենցիաների տրամադրում` ենթակառուցվածքների զարգացման նպատակով
A119: Միջոցառման տեսակը` | B119: Տրանսֆերտների տրամադրում
A120: Շահառուների ընտրության չափանիշները | B120: ՀՀ կառավարության 16. 11.2006 թվականի «ՀՀ պետական բյուջեից համայնքներին սուբվենցիաների տրամադրման կարգը հաստատելու մասին» 1708-Ն որոշում
A121: Արդյունքի չափորոշիչներ
A122: Ծրագրերի քանակ, հատ | C122: 4
A123: Միջոցառման վրա կատարվող ծախսը (հազար դրամ) | C123: ='1'!D68 -> 169602.5
C125: Աղյուսակ 9.1.55
A126: ՀՀ Սյունիքի մարզպետի աշխատակազմ
A128: ՄԱՍ 1. ՊԵՏԱԿԱՆ ՄԱՐՄՆԻ ԳԾՈՎ ԱՐԴՅՈՒՆՔԱՅԻՆ (ԿԱՏԱՐՈՂԱԿԱՆ) ՑՈՒՑԱՆԻՇՆԵՐԸ
A130: Ծրագրի դասիչը | B130: Ծրագրի անվանումը
A131: 1212 | B131: Տարածքային զարգացում
A133: Ծրագրի միջոցառումները
...
