Workbook
Name a: #REF!
Name a: #REF!
Name a: #REF!
Name a: #REF!
Name a: #REF!
Name a: #REF!
Name a: #REF!
Name a: #REF!
Name AgencyCode: #REF!
Name AgencyCode: #REF!
Name AgencyCode: #REF!
Name AgencyCode: #REF!
Name AgencyCode: #REF!
Name AgencyCode: #REF!
Name AgencyCode: #REF!
Name AgencyCode: #REF!
Name AgencyName: #REF!
Name AgencyName: #REF!
Name AgencyName: #REF!
Name AgencyName: #REF!
Name AgencyName: #REF!
Name AgencyName: #REF!
Name AgencyName: #REF!
Name AgencyName: #REF!
Name davit: #REF!
Name davit: #REF!
Name davit: #REF!
Name davit: #REF!
Name davit: #REF!
Name davit: #REF!
Name davit: #REF!
Name davit: #REF!
Name Functional1: #REF!
Name Functional1: #REF!
Name Functional1: #REF!
Name Functional1: #REF!
Name Functional1: #REF!
Name Functional1: #REF!
Name Functional1: #REF!
Name Functional1: #REF!
Name ggg: #REF!
Name ggg: #REF!
Name ggg: #REF!
Name ggg: #REF!
Name ggg: #REF!
Name ggg: #REF!
Name ggg: #REF!
Name ggg: #REF!
Name HAVELVAC10: #REF!
Name HAVELVAC10: #REF!
Name HAVELVAC10: #REF!
Name HAVELVAC10: #REF!
Name HAVELVAC10: #REF!
Name PANature: #REF!
Name PANature: #REF!
Name PANature: #REF!
Name PANature: #REF!
Name PANature: #REF!
Name PANature: #REF!
Name PANature: #REF!

Sheet havelvac 1 
C1: Հավելված N 1
C2: ՀՀ կառավարության 2024 թվականի
C3: ______________ ի ___Ն որոշման
A5: «ՀԱՅԱՍՏԱՆԻ ՀԱՆՐԱՊԵՏՈՒԹՅԱՆ 2024 ԹՎԱԿԱՆԻ ՊԵՏԱԿԱՆ ԲՅՈՒՋԵԻ ՄԱՍԻՆ» ՀԱՅԱՍՏԱՆԻ ՀԱՆՐԱՊԵՏՈՒԹՅԱՆ ՕՐԵՆՔԻ 2-ՐԴ ՀՈԴՎԱԾԻ ԱՂՅՈՒՍԱԿԻ ՑՈՒՑԱՆԻՇՆԵՐՈՒՄ ԿԱՏԱՐՎՈՂ ՓՈՓՈԽՈՒԹՅՈՒՆՆԵՐԸ
D6: /հազար դրամներով/
D7: Ցուցանիշների փոփոխությունը (ավելացումները նշված են դրական նշանով)
A8: Եկամուտների գծով | D8: =D9 -> 5183122.8
A9: Ծախսերի գծով | D9: ='havelvac 3'!D9 -> 5183122.8
A10: Դեֆիցիտը (պակասուրդը) | D10: =+D9-D8 -> 0

Sheet havelvac 2
C1: Հավելված N 2
C2: ՀՀ կառավարության 2024 թվականի
C3: ______________ ի ___Ն որոշման
A6: «ՀԱՅԱՍՏԱՆԻ ՀԱՆՐԱՊԵՏՈՒԹՅԱՆ 2024 ԹՎԱԿԱՆԻ ՊԵՏԱԿԱՆ ԲՅՈՒՋԵԻ ՄԱՍԻՆ» ՀԱՅԱՍՏԱՆԻ ՀԱՆՐԱՊԵՏՈՒԹՅԱՆ ՕՐԵՆՔԻ 6-ՐԴ ՀՈԴՎԱԾԻ ԱՂՅՈՒՍԱԿՈՒՄ ԵՎ ՀԱՅԱՍՏԱՆԻ ՀԱՆՐԱՊԵՏՈՒԹՅԱՆ ԿԱՌԱՎԱՐՈՒԹՅԱՆ 2023 ԹՎԱԿԱՆԻ ԴԵԿՏԵՄԲԵՐԻ 28-Ի N 2323-Ն ՈՐՈՇՄԱՆ N 2 ՀԱՎԵԼՎԱԾԻ ԱՂՅՈՒՍԱԿՈՒՄ ԿԱՏԱՐՎՈՂ ՓՈՓՈԽՈՒԹՅՈՒՆՆԵՐԸ
D8: /հազար դրամներով/
A9: Պետական բյուջեի դեֆիցիտի ֆինանսավորման աղբյուրներն ու դրանց տարրերի անվանումները | D9: Ցուցանիշների փոփոխությունը (ավելացումները նշված են դրական նշանով)
D10: Տարի
A11: ՊԵՏԱԿԱՆ ԲՅՈՒՋԵԻ ԵԿԱՄՈՒՏՆԵՐ | D11: =+D12 -> 5183122.8
A12: Ընդամենը | D12: =+D14 -> 5183122.8
A13: այդ թվում՝
A14: Այլ եկամուտներ | D14: ='havelvac 3'!D9 -> 5183122.8

Sheet havelvac 3
C1: Հավելված N3
C2: ՀՀ կառավարության 2024 թվականի
C3: ______________ ի ___Ն որոշման
A4: «ՀԱՅԱՍՏԱՆԻ ՀԱՆՐԱՊԵՏՈՒԹՅԱՆ 2024 ԹՎԱԿԱՆԻ ՊԵՏԱԿԱՆ ԲՅՈՒՋԵԻ ՄԱՍԻՆ» ՕՐԵՆՔԻ N 1 ՀԱՎԵԼՎԱԾԻ N 2 ԱՂՅՈՒՍԱԿՈՒՄ ԿԱՏԱՐՎՈՂ ՎԵՐԱԲԱՇԽՈՒՄԸ ԵՎ ՀԱՅԱՍՏԱՆԻ ՀԱՆՐԱՊԵՏՈՒԹՅԱՆ ԿԱՌԱՎԱՐՈՒԹՅԱՆ 2023 ԹՎԱԿԱՆԻ ԴԵԿՏԵՄԲԵՐԻ 28-Ի N 2323-Ն ՈՐՈՇՄԱՆ N 5 ՀԱՎԵԼՎԱԾԻ N 1 ԱՂՅՈՒՍԱԿՈՒՄ ԿԱՏԱՐՎՈՂ ՓՈՓՈԽՈՒԹՅՈՒՆՆԵՐԸ
D5: /հազար դրամներով/
A6: Ծրագրային դասիչը | C6: Բյուջետային հատկացումների գլխավոր կարգադրիչների, ծրագրերի և միջոցառումների անվանումները | D6: Ցուցանիշների փոփոխությունը (ավելացումները նշված են դրական նշանով, իսկ նվազեցումները՝ փակագծերում)
A7: ծրագիր | B7: միջոցառում | D7: Տարի
C8: ԸՆԴԱՄԵՆԸ | D8: =D9+D120 -> 5183122.8
A9: ՀՀ Կրթության, գիտության, մշակույթի և սպորտի նախարարություն | D9: =D30+D73+D164+D183+D202+D227+D11 -> 5183122.8 | E9: =F73=F77 -> TRUE
A10: 1045 | C10: Ծրագրի անվանումը`
C11: Նախնական (արհեստագործական) և միջին մասնագիտական կրթություն | D11: =D18+D24 -> -304380.5
C12: Ծրագրի նպատակը`
C13: Աշխատաշուկայի արդի պահանջներին համապատասխան նախնական մասնագիտական (արհեստագործական) և միջին մասնագիտական կրթության որակավորում ունեցող մասնագետների պատրաստում, կրթության մատչելիության ապահովում:
C14: Վերջնական արդյունքի նկարագրությունը`
C15: Նախնական (արհեստագործական) և միջին մասնագիտական կրթության գրավչության բարձրացում, մատչելի և մրցունակ նախնական (արհեստագործական) և միջին մասնագիտական կրթության ապահովում
C16: Ծրագրի միջոցառումներ
B17: 12003 | C17: Միջոցառման անվանումը`
C18: Նախնական մասնագիտական (արհեստագործական) կրթության գծով ուսանողական նպաստների տրամադրում | D18: ='havelvac 10'!C22 -> -256380.5
C19: Միջոցառման նկարագրությունը`
C20: Նախնական մասնագիտական (արհեստագործական) կրթության գծով ուսանողական նպաստների տրամադրում
C21: Միջոցառման տեսակը
C22: Տրանսֆերտների տրամադրում
B23: 12004 | C23: Միջոցառման անվանումը`
C24: Միջին մասնագիտական կրթության գծով ուսանողական նպաստների տրամադրում | D24: ='havelvac 10'!C32 -> -48000
C25: Միջոցառման նկարագրությունը`
C26: Միջին մասնագիտական կրթության գծով ուսանողական նպաստների տրամադրում
C27: Միջոցառման տեսակը
C28: Տրանսֆերտների տրամադրում
A29: 1111 | C29: Ծրագրի անվանումը`
C30: Բարձրագույն և հետբուհական մասնագիտական կրթության ծրագիր | D30: =D37+D43+D49+D55+D61+D67 -> -1022761
C31: Ծրագրի նպատակը`
C32: Ապահովել մատչելի, որակյալ և մրցունակ բարձրագույն և հետբուհական մասնագիտական կրթություն:
C33: Վերջնական արդյունքի նկարագրությունը`
C34: Գիտելիքների տնտեսության և գիտության զարգացման արդի պահանջներին համապատասխան բարձրագույն և հետբուհական մասնագիտական որակավորում ունեցող մասնագետների պատրաստում
B35: Ծրագրի միջոցառումներ
B36: 12001 | C36: Միջոցառման անվանումը`
C37: Բարձրագույն մասնագիտական կրթություն ստացող ուսանողների կրթաթոշակ | D37: ='havelvac 4'!G884 -> -200000
C38: Միջոցառման նկարագրությունը`
C39: Բարձրագույն մասնագիտական կրթություն ստացող ուսանողների կրթաթոշակ
C40: Միջոցառման տեսակը
...

Sheet havelvac 4
F1: Հավելված N 4
F2: ՀՀ կառավարության 2024 թվականի
F3: ______________ ի ___Ն որոշման
A4: ՀԱՅԱՍՏԱՆԻ ՀԱՆՐԱՊԵՏՈՒԹՅԱՆ ԿԱՌԱՎԱՐՈՒԹՅԱՆ 2023 ԹՎԱԿԱՆԻ ԴԵԿՏԵՄԲԵՐԻ 28-Ի N 2323-Ն ՈՐՈՇՄԱՆ N 3 ԵՎ N 4 ՀԱՎԵԼՎԱԾՆԵՐՈՒՄ ԿԱՏԱՐՎՈՂ ՓՈՓՈԽՈՒԹՅՈՒՆՆԵՐԸ
G5: /հազար դրամներով/
A6: Գործառական դասիչը | D6: Ծրագրային դասիչը | F6: Բյուջետային ծախսերի գործառական դասակարգման բաժինների, խմբերի և դասերի, բյուջետային ծրագրերի միջոցառումների, բյուջետային հատկացումների գլխավոր կարգադրիչների անվանումները | G6: Ցուցանիշների փոփոխություն (ավելացումները նշված են դրական նշանով, իսկ նվազեցումները՝ փակագծերում)
A7: Բաժին | B7: Խումբ | C7: Դաս | D7: Ծրագիր | E7: Միջոցառում | G7: Տարի
F8: ԸՆԴԱՄԵՆԸ | G8: =G56+G10 -> 5183122.8
F9: այդ թվում`
A10: 01 | F10: ԸՆԴՀԱՆՈՒՐ ԲՆՈՒՅԹԻ ՀԱՆՐԱՅԻՆ ԾԱՌԱՅՈՒԹՅՈՒՆՆԵՐ | G10: =G12+G41 -> -470000
F11: այդ թվում`
B12: 04 | F12: Ընդհանուր բնույթի հետազոտական աշխատանք | G12: =G14 -> -425000
F13: այդ թվում`
C14: 01 | F14: Ընդհանուր բնույթի հետազոտական աշխատանք | G14: =G16+G27 -> -425000
F15: այդ թվում`
D16: 1162 | F16: Գիտական և գիտատեխնիկական հետազոտությունների ծրագիր | G16: =G18 -> -400000
F17: այդ թվում`
E18: 12001 | F18: Գիտաշխատողներին գիտական աստիճանների համար տրվող հավելավճարներ | G18: =G20 -> -400000
F19: այդ թվում` ըստ կատարողների
F20: ՀՀ կրթության, գիտության, մշակույթի և սպորտի նախարարության բարձրագույն կրթության և գիտության կոմիտե | G20: =G22 -> -400000
F21: այդ թվում` բյուջետային ծախսերի տնտեսագիտական դասակարգման հոդվածներ
F22: ԸՆԴԱՄԵՆԸ ԾԱԽՍԵՐ | G22: =G23 -> -400000
F23: ԸՆԹԱՑԻԿ ԾԱԽՍԵՐ | G23: =G24 -> -400000
F24: ԴՐԱՄԱՇՆՈՐՀՆԵՐ | G24: =G25 -> -400000
F25: Ընթացիկ դրամաշնորհներ պետական հատվածի այլ մակարդակներին | G25: =G26 -> -400000
F26: - Այլ ընթացիկ դրամաշնորհներ | G26: ='havelvac 10'!C354 -> -400000
D27: 1192 | F27: Կրթության որակի ապահովում | G27: =G29 -> -25000
F28: այդ թվում`
E29: 11005 | F29: Գիտական աստիճանաշնորհման և գիտամանկավարժական կոչումների շնորհում | G29: =G31 -> -25000
F30: այդ թվում` ըստ կատարողների
F31: ՀՀ կրթության, գիտության, մշակույթի և սպորտի նախարարության բարձրագույն կրթության և գիտության կոմիտե | G31: =G33 -> -25000
F32: այդ թվում` բյուջետային ծախսերի տնտեսագիտական դասակարգման հոդվածներ
F33: ԸՆԴԱՄԵՆԸ ԾԱԽՍԵՐ | G33: =G34 -> -25000
F34: ԸՆԹԱՑԻԿ ԾԱԽՍԵՐ | G34: =G35+G38 -> -25000
F35: ԴՐԱՄԱՇՆՈՐՀՆԵՐ | G35: =G36 -> -7000
F36: Ընթացիկ դրամաշնորհներ պետական հատվածի այլ մակարդակներին | G36: =G37 -> -7000
F37: - Այլ ընթացիկ դրամաշնորհներ | G37: -7000
F38: ՍՈՑԻԱԼԱԿԱՆ ՆՊԱՍՏՆԵՐ ԵՎ ԿԵՆՍԱԹՈՇԱԿՆԵՐ | G38: =G39 -> -18000
F39: Սոցիալական օգնության դրամական արտահայտությամբ նպաստներ (բյուջեից) | G39: =G40 -> -18000
F40: - Այլ նպաստներ բյուջեից | G40: -18000
...

Sheet havelvac 5
E1: Հավելված N5
C2: ՀՀ կառավարության 2024 թվականի
C3: ______________ ի ___Ն որոշման
A5: ՀԱՅԱՍՏԱՆԻ ՀԱՆՐԱՊԵՏՈՒԹՅԱՆ ԿԱՌԱՎԱՐՈՒԹՅԱՆ 2024 ԹՎԱԿԱՆԻ ԴԵԿՏԵՄԲԵՐԻ 28-Ի ԹԻՎ 2323-Ն ՈՐՈՇՄԱՆ N 5 ՀԱՎԵԼՎԱԾԻ N 7 ԱՂՅՈՒՍԱԿՈՒՄ ԿԱՏԱՐՎՈՂ ՓՈՓՈԽՈՒԹՅՈՒՆԸ
E7: /հազար դրամներով/
A8: Ծրագրային դասիչը | C8: Բյուջետային հատկացումների գլխավոր կարգադրիչների, ծրագրերի, միջոցառումների, ծախսային ուղղությունների անվանումները | D8: Միջոցառումները կատարող պետական մարմինների և դրամաշնորհ ստացող տնտեսվարող սուբյեկտների անվանումները | E8: Ցուցանիշների փոփոխությունները (նվզեցումները նշված են փակագծերում)
A9: Ծրագիր | B9: Միջոցառում | E9: Տարի
A10: ՀՀ կրթության, գիտության, մշակույթի և սպորտի նախարարություն | E10: =E11+E40+E62 -> 852473.9
A11: 1146 | B11: Հանրակրթության ծրագիր | E11: =E12 -> 108275.4
B12: 12002 | C12: Հանրակրթական դպրոցների մանկավարժներին և դպրոցահասակ երեխաներին տրանսպորտային ծախսերի փոխհատուցում | E12: =E13+E19+E21+E23+E25+E27+E29+E31+E33+E35+E37 -> 108275.4
D13: ՀՀ կրթության, գիտության, մշակույթի և սպորտի նախարարություն | E13: =E14+E15+E16+E17+E18 -> 8820.4
D14: Հանրակրթական դպրոցներ | E14: 8168.8
D15: «Ծաղկունք բաց դպրոց» հիմնադրամ | E15: 0.9
D16: «Վանաձորի Հ․ Թումանյանի անվան պետական համալսարան» հիմնադրամ | E16: 531.9
D17: «Շիրակի պետական համալսարան» Հիմնադրամ | E17: -12.6
D18: Հայաստանի պոլիտեխնիկական համալսարան» հիմնադրամ | E18: 131.4
D19: ՀՀ Արագածոտնի մարզպետի աշխատակազմ | E19: =E20 -> 8874.5
D20: Հանրակրթական դպրոցներ | E20: ='havelvac 4'!G1048 -> 8874.5
D21: ՀՀ Արարատի մարզպետի աշխատակազմ | E21: =E22 -> 37544.5
D22: Հանրակրթական դպրոցներ | E22: ='havelvac 4'!G1055 -> 37544.5
D23: ՀՀ Արմավիրի մարզպետի աշխատակազմ | E23: =E24 -> 3249.8
D24: Հանրակրթական դպրոցներ | E24: ='havelvac 4'!G1062 -> 3249.8
D25: ՀՀ Գեղարքունիքի մարզպետի աշխատակազմ | E25: =E26 -> 6319.4
D26: Հանրակրթական դպրոցներ | E26: ='havelvac 4'!G1069 -> 6319.4
D27: ՀՀ Լոռու մարզպետի աշխատակազմ | E27: =E28 -> 110.7
D28: Հանրակրթական դպրոցներ | E28: ='havelvac 4'!G1076 -> 110.7
D29: ՀՀ Կոտայքի մարզպետի աշխատակազմ | E29: =E30 -> 25180
D30: Հանրակրթական դպրոցներ | E30: ='havelvac 4'!G1083 -> 25180
D31: ՀՀ Շիրակի մարզպետի աշխատակազմ | E31: =E32 -> 7443.8
D32: Հանրակրթական դպրոցներ | E32: ='havelvac 4'!G1090 -> 7443.8
D33: ՀՀ Սյունիքի մարզպետի աշխատակազմ | E33: =E34 -> 12048.4
D34: Հանրակրթական դպրոցներ | E34: ='havelvac 4'!G1097 -> 12048.4
D35: ՀՀ Վայոց ձորի մարզպետի աշխատակազմ | E35: =E36 -> -988.3
D36: Հանրակրթական դպրոցներ | E36: ='havelvac 4'!G1104 -> -988.3
D37: ՀՀ Տավուշի մարզպետի աշխատակազմ | E37: =E38 -> -327.8
D38: Հանրակրթական դպրոցներ | E38: ='havelvac 4'!G1111 -> -327.8
A40: 1238 | B40: Նախադպրոցական կրթություն | E40: =E41 -> 784198.5
B41: 12001 | C41: Սոցիալական որոշ խմբերի 1.5-5 տարեկան երեխաների նախադպրոցական կրթության ապահովում | E41: =E42+E44+E46+E48+E50+E52+E54+E56+E58+E60 -> 784198.5
D42: ՀՀ Արագածոտնի մարզպետի աշխատակազմ | E42: =E43 -> -46542.2
D43: Նախադպրոցական հաստատություններ | E43: ='havelvac 4'!G167 -> -46542.2
...

Sheet havelvac 6
F2: Հավելված N 6
F3: ՀՀ կառավարության 2024 թվականի
F4: ______________ ի ___Ն որոշման
A6: ՀԱՅԱՍՏԱՆԻ ՀԱՆՐԱՊԵՏՈՒԹՅԱՆ ԿԱՌԱՎԱՐՈՒԹՅԱՆ 2024 ԹՎԱԿԱՆԻ ԴԵԿՏԵՄԲԵՐԻ 28-Ի ԹԻՎ 2323-Ն ՈՐՈՇՄԱՆ N 5 ՀԱՎԵԼՎԱԾԻ N 7.1 ԱՂՅՈՒՍԱԿՈՒՄ ԿԱՏԱՐՎՈՂ ՓՈՓՈԽՈՒԹՅՈՒՆԸ
F7: /հազար դրամներով/
A8: Ծրագրային դասիչը | C8: Բյուջետային հատկացումների գլխավոր կարգադրիչների, ծրագրերի, միջոցառումների, ծախսային ուղղությունների անվանումները | D8: Միջոցառումները կատարող պետական մարմինների և դրամաշնորհ ստացող տնտեսվարող սուբյեկտների անվանումները | E8: Գերատեսչական պատկանելություն | F8: Ցուցանիշների փոփոխությունները (նվզեցումները նշված են փակագծերում)
A9: Ծրագիր | B9: Միջոցառում | F9: Տարի
A10: ՀՀ կրթության, գիտության, մշակույթի և սպորտի նախարարություն | F10: =F11 -> -445000
A11: 1162 | B11: Գիտական և գիտատեխնիկական հետազոտությունների ծրագիր | F11: =F12+F14 -> -445000
B12: 11005 | C12: Գիտական և գիտատեխնիկական գործունեության պայմանագրային (թեմատիկ) հետազոտություններ | D12: ԸՆԴԱՄԵՆԸ- ՀՀ կրթության, գիտության, մշակույթի և սպորտի նախարարության գիտության կոմիտե | F12: -45000
B13: 12001 | C13: Պետական ծրագրերում ընդգրկված գիտական աստիճան ունեցող գիտաշխատողներին հավելավճարների տրամադրում
D14: ԸՆԴԱՄԵՆԸ- ՀՀ կրթության, գիտության, մշակույթի և սպորտի նախարարության բարձրագույն կրթության և գիտության կոմիտե | F14: -400000

Sheet havelvac 7
F1: Հավելված N 7
F2: ՀՀ կառավարության 2024 թվականի
F3: ______________ ի ___Ն որոշման
A5: ՀԱՅԱՍՏԱՆԻ ՀԱՆՐԱՊԵՏՈՒԹՅԱՆ ԿԱՌԱՎԱՐՈՒԹՅԱՆ 2024 ԹՎԱԿԱՆԻ ԴԵԿՏԵՄԲԵՐԻ 28-Ի ԹԻՎ 2323-Ն ՈՐՈՇՄԱՆ N 5 ՀԱՎԵԼՎԱԾԻ N 7.2 ԱՂՅՈՒՍԱԿՈՒՄ ԿԱՏԱՐՎՈՂ ՓՈՓՈԽՈՒԹՅՈՒՆԸ
F6: /հազար դրամներով/
A7: Ծրագրային դասիչը | C7: Բյուջետային հատկացումների գլխավոր կարգադրիչների, ծրագրերի, միջոցառումների անվանումները | E7: Միջոցառումներն կատարող պետական մարմինների անվանումները | F7: Ցուցանիշների փոփոխությունները (նվզեցումները նշված են փակագծերում)
A8: Ծրագիր | B8: Միջոցառում | F8: Տարի
C9: ԸՆԴԱՄԵՆԸ | F9: =F10 -> -440000
A10: ՀՀ կրթության, գիտության, մշակույթի և սպորտի նախարարություն | F10: =F11+F14 -> -440000
A11: 1192 | C11: Կրթության որակի ապահովում | F11: =F12 -> -40000
B12: 11005 | C12: ՀՀ-ում գիտական որակավորման, գիտական աստիճանի և գիտական կոչման վկայագրերի հանձնման, միջազգային կապերի զարգացման, ատենախոսությունների թվայնացման և գիտնականների շտեմարանների ստեղծման ու շահագործման գործընթացների իրականացում | E12: ՀՀ կրթության, գիտության, մշակույթի և սպորտի նախարարության բարձրագույն կրթության և գիտության կոմիտե | F12: ='havelvac 10'!C375 -> -40000
C13: ՀՀ կրթության, գիտության, մշակույթի և սպորտի նախարարություն | F13: =F12 -> -40000
A14: 1162 | C14: Գիտական և գիտատեխնիկական հետազոտությունների ծրագիր | F14: =F15 -> -400000
B15: 12001 | C15: Պետական ծրագրերում ընդգրկված գիտական աստիճան ունեցող գիտաշխատողներին հավելավճարներ տրամադրում | E15: ՀՀ կրթության, գիտության, մշակույթի և սպորտի նախարարության բարձրագույն կրթության և գիտության կոմիտե | F15: ='havelvac 11'!D452 -> -400000

Sheet havelvac 8
C1: Հավելված N 8
C2: ՀՀ կառավարության 2024 թվականի
C3: ______________ ի ___Ն որոշման
A6: ՀԱՅԱՍՏԱՆԻ ՀԱՆՐԱՊԵՏՈՒԹՅԱՆ ԿԱՌԱՎԱՐՈՒԹՅԱՆ 2023 ԹՎԱԿԱՆԻ ԴԵԿՏԵՄԲԵՐԻ 28-Ի N 2323-Ն ՈՐՈՇՄԱՆ N 6 ՀԱՎԵԼՎԱԾՈՒՄ ԿԱՏԱՐՎՈՂ ԼՐԱՑՈՒՄԸ
E8: /հազար դրամներով/
A9: NN ը/կ | B9: Եկամտատեսակը | D9: Գանձման համար պատասխանատու պետական կառավարման մարմինը (մարմինները) | E9: Ցուցանիշների փոփոխությունը (ավելացումները նշված են դրական նշանով)
E10: Տարի
A11: Այլ եկամուտներ, ընդամենը՝ | E11: =+E13 -> 5183122.8
B12: այդ թվում՝
A13: 6 | B13: Օրենքով և այլ իրավական ակտերով սահմանված պետական բյուջե մուտքագրվող այլ եկամուտներ | E13: =+E14 -> 5183122.8
A14: 6.9 | B14: Նախորդ տարիների՝ ՀՀ պետական բյուջեից ծախսերի ֆինանսավորման նպատակով հատկացված գումարների (բացառությամբ փոխառու միջոցների) վերադարձից մուտքեր | D14: ՀՀ պետական կառավարման մարմիններ | E14: ='havelvac 1 '!D9 -> 5183122.8

Sheet havelvac 9
C1: Հավելված N 9
C2: ՀՀ կառավարության 2024 թվականի
C3: ______________ ի ___Ն որոշման
A5: ՀԱՅԱՍՏԱՆԻ ՀԱՆՐԱՊԵՏՈՒԹՅԱՆ ԿԱՌԱՎԱՐՈՒԹՅԱՆ 2023 ԹՎԱԿԱՆԻ ԴԵԿՏԵՄԲԵՐԻ 28-Ի N 2323-Ն ՈՐՈՇՄԱՆ N 8 ՀԱՎԵԼՎԱԾՈՒՄ ԿԱՏԱՐՎՈՂ ՓՈՓՈԽՈՒԹՅՈՒՆԸ
D6: /հազար դրամներով/
A7: Ծրագրային դասիչը | C7: Բյուջետային հատկացումների գլխավոր կարգադրիչներ, ծրագրերի, միջոցառումների և միջոցառումներն իրականացնող պետական մարմինների անվանումները | D7: Ցուցանիշների փոփոխություն (ավելացումները նշված են դրական նշանով)
A8: Ծրագիր | B8: Միջոցա ռում
C9: ԸՆԴԱՄԵՆԸ ԾԱԽՍԵՐ | D9: =D11+D17+D19 -> 1371395.1
C10: այդ թվում՝
A11: 1146 | C11: Հանրակրթության ծրագիր | D11: =D12+D13+D14+D15+D16 -> 1195805.8
B12: 11001 | C12: Տարրական ընդհանուր հանրակրթություն | D12: ='havelvac 11'!D32 -> 575155.2
B13: 11002 | C13: Հիմնական ընդհանուր հանրակրթություն | D13: ='havelvac 11'!D46 -> 705872.3
B14: 11003 | C14: Միջնակարգ ընդհանուր հանրակրթություն | D14: ='havelvac 11'!D60 -> 25911.9
B15: 12004 | C15: Ատեստավորման միջոցով տարակարգի որակավորում ստացած ուսուցիչներին համապատասխան հավելավճարի տրամադրման ապահովում | D15: ='havelvac 11'!D72 -> -7244.4
B16: 12015 | C16: ՀՀ պետական հանրակրթական բոլոր ուսումնական հաստատություններում ԲՏՃՄ ոլորտի (բացառությամբ մաթեմատիկայի) դասավանդող ուսուցիչների համար վարձատրության բարձրացված հստակ չափաքանակի սահմանում | D16: ='havelvac 11'!D83 -> -103889.2
A17: 1148 | C17: Արտադպրոցական դաստիարակության ծրագիր | D17: =D18 -> -2051.9
B18: 12002 | C18: Կամավոր ատեստավորման նոր համակարգի ներդրում՝ ուղղված արտադպրոցական ուսումնականհաստատությունների մանկավարժական աշխատողներիորակի բարձրացմանը | D18: ='havelvac 11'!D100 -> -2051.9
A19: 1238 | C19: Նախադպրոցական կրթություն | D19: =D20+D21 -> 177641.2
B20: 12001 | C20: Սոցիալական որոշ խմբերի 1.5-5 տարեկան երեխաների նախադպրոցական կրթության ապահովում | D20: ='havelvac 11'!D117 -> 184610.8
B21: 12002 | C21: Մասնագիտական զարգացման և վարձատրության փոխկապակցված համակարգի ներդրում՛ նախադպրոցական հաստատությունների մանկավարժներին տարակարգի շնորհման գործընթացի միջոցով | D21: ='havelvac 11'!D128 -> -6969.6

Sheet havelvac 10
B1: Հավելված N 10
B2: ՀՀ կառավարության 2024 թվականի
B3: ______________ ի ___Ն որոշման
A5: ՀԱՅԱՍՏԱՆԻ ՀԱՆՐԱՊԵՏՈՒԹՅԱՆ ԿԱՌԱՎԱՐՈՒԹՅԱՆ 2023 ԹՎԱԿԱՆԻ ԴԵԿՏԵՄԲԵՐԻ 28-Ի N 2323-Ն ՈՐՈՇՄԱՆ N 9 ՀԱՎԵԼՎԱԾԻ NN 9.13 ԱՂՅՈՒՍԱԿՆԵՐՈՒՄ ԿԱՏԱՐՎՈՂ ՓՈՓՈԽՈՒԹՅՈՒՆՆԵՐԸ
A6: ՀՀ կրթության, գիտության, մշակույթի և սպորտի նախարարություն
A7: ՄԱՍ 2. ՊԵՏԱԿԱՆ ՄԱՐՄՆԻ ԳԾՈՎ ԱՐԴՅՈՒՆՔԱՅԻՆ (ԿԱՏԱՐՈՂԱԿԱՆ) ՑՈՒՑԱՆԻՇՆԵՐԸ
A9: Ծրագրի դասիչը | B9: Ծրագրի անվանումը
A10: 1045 | B10: Նախնական (արհեստագործական) և միջին մասնագիտական կրթություն
A12: Ծրագրի միջոցառումները
A14: Ծրագրի դասիչը` | B14: 1045 | C14: Ցուցանիշների փոփոխություն (նվազեցումները նշված են փակագծերում)
A15: Միջոցառման դասիչը` | B15: 12003 | C15: Տարի
A16: Միջոցառման անվանումը` | B16: Նախնական մասնագիտական (արհեստագործական) կրթության գծով ուսանողական նպաստների տրամադրում
A17: Նկարագրությունը` | B17: Նախնական մասնագիտական (արհեստագործական) կրթության գծով ուսանողական նպաստների տրամադրում
A18: Միջոցառման տեսակը` | B18: Տրանսֆերտների տրամադրում
A19: Շահառուների ընտրության չափորոշիչները` | B19: Նախնական մասնագիտական (արհեստագործական) կրթություն ստացող ուսանողներ
A20: Արդյունքի չափորոշիչներ
A21: Ուսանողական նպաստ ստացող ուսանողների թիվը, մարդ | C21: -771
A22: Միջոցառման վրա կատարվող ծախսը (հազար դրամ) | C22: -256380.5
A24: Ծրագրի դասիչը` | B24: 1045 | C24: Ցուցանիշների փոփոխություն (նվազեցումները նշված են փակագծերում)
A25: Միջոցառման դասիչը` | B25: 12004 | C25: Տարի
A26: Միջոցառման անվանումը` | B26: Միջին մասնագիտական կրթության գծով ուսանողական նպաստների տրամադրում
A27: Նկարագրությունը` | B27: Միջին մասնագիտական կրթության գծով ուսանողական նպաստների տրամադրում
A28: Միջոցառման տեսակը` | B28: Տրանսֆերտների տրամադրում
A29: Շահառուների ընտրության չափորոշիչները` | B29: Միջին մասնագիտական կրթություն ստացող ուսանողներ
A30: Արդյունքի չափորոշիչներ
A31: Ուսանողական նպաստ ստացող ուսանողների թիվը, մարդ | C31: -129
A32: Միջոցառման վրա կատարվող ծախսը (հազար դրամ) | C32: -48000 | E32: =C32+C22 -> -304380.5
A34: Ծրագրի դասիչը | B34: Ծրագրի անվանումը
A35: 1111 | B35: Բարձրագույն և հետբուհական մասնագիտական կրթության ծրագիր
A37: Ծրագրի միջոցառումները
A39: Ծրագրի դասիչը` | B39: 1111 | C39: Ցուցանիշների փոփոխությունը (նվազեցումները նշված են փակագծերում)
A40: Միջոցառման դասիչը` | B40: 12001 | C40: Տարի
A41: Միջոցառման անվանումը` | B41: Բարձրագույն մասնագիտական կրթություն ստացող ուսանողների կրթաթոշակ
A42: Նկարագրությունը` | B42: Բարձրագույն մասնագիտական կրթություն ստացող ուսանողների կրթաթոշակ
A43: Միջոցառման տեսակը` | B43: Տրանսֆերտների տրամադրում
A44: Շահառուների ընտրության չափորոշիչները՛ | B44: Բարձրագույն մասնագիտական կրթություն ստացող ուսանողներ
A45: Արդյունքի չափորոշիչներ
A46: Կրթաթոշակ ստացող ուսանողների միջին տարեկան թիվ, մարդ | C46: ='havelvac 11'!D168 -> -2564
A47: Միջոցառման վրա կատարվող ծախսը (հազար դրամ) | C47: ='havelvac 11'!D169 -> -200000
A49: Ծրագրի դասիչը` | B49: 1111 | C49: Ցուցանիշների փոփոխությունը (նվազեցումները նշված են փակագծերում)
...

Sheet havelvac 11
A2: Հավելված N 11
C3: ՀՀ կառավարության 2024 թվականի
A4: ______________ ի ___Ն որոշման
B6: ՀԱՅԱՍՏԱՆԻ ՀԱՆՐԱՊԵՏՈՒԹՅԱՆ ԿԱՌԱՎԱՐՈՒԹՅԱՆ 2023 ԹՎԱԿԱՆԻ ԴԵԿՏԵՄԲԵՐԻ 28-Ի N 2323-Ն ՈՐՈՇՄԱՆ N 9.1 NN 9.1.7, 9.1.13, 9.1.48, 9.1.49, 9.1.50, 9.1.51, 9.1.52, 9.1.53, 9.1.54, 9.1.55, 9.1.56 ԵՎ 9.1.57 ԱՂՅՈՒՍԱԿՆԵՐՈՒՄ ԿԱՏԱՐՎՈՂ ՓՈՓՈԽՈՒԹՅՈՒՆՆԵՐԸ
B9: ՄԱՍ 1. ՊԵՏԱԿԱՆ ՄԱՐՄՆԻ ԳԾՈՎ ԱՐԴՅՈՒՆՔԱՅԻՆ (ԿԱՏԱՐՈՂԱԿԱՆ) ՑՈՒՑԱՆԻՇՆԵՐԸ
D11: Աղյուսակ 9.1.7
B12: ՀՀ տարածքային կառավարման և ենթակառուցվածքների նախարարություն
B14: Ծրագրի դասիչը | C14: Ծրագրի անվանումը
B15: 1146 | C15: Հանրակրթության ծրագիր
B17: Ծրագրի միջոցառումները
B19: Ծրագրի դասիչը` | C19: 1146 | D19: Ցուցանիշների փոփոխությունը (ավելացումները նշված են դրական նշանով)
B20: Միջոցառման դասիչը` | C20: 11001 | D20: Տարի
B21: Միջոցառման անվանումը` | C21: Տարրական ընդհանուր հանրակրթություն
B22: Նկարագրությունը` | C22: Պարտադիր կրթության առաջին մակարդակում սովորողների ընդգրկվածության, գրագիտության և համակողմանի զարգացման բարձր մակարդակի ապահովում
B23: Միջոցառման տեսակը` | C23: Ծառայությունների մատուցում
B24: Ծառայությունը մատուցող կազմակերպության(ների) անվանում(ներ)ը՛ | C24: Երևանի քաղաքապետարանի ենթակայության հանրակրթական դպրոցներ
B25: Արդյունքի չափորոշիչներ
B26: Տարրական ընդհանուր կրթության դասարանների թիվը | D26: 25
B27: Տարրական ընդհանուր կրթության դասարանների սովորողների միջին տարեկան թիվը /մարդ /, որից՛ | D27: 413
B28: տղա | D28: 248
B29: աղջիկ | D29: 165
B30: Սնունդ ստացող երեխաների թիվը /մարդ /
B31: Գիտելիքների ստուգման արդյունքում սովորողների միջին գնահատականը
B32: Միջոցառման վրա կատարվող ծախսը (հազար դրամ) | D32: 575155.2
B34: Ծրագրի դասիչը` | C34: 1146 | D34: Ցուցանիշների փոփոխությունը (ավելացումները նշված են դրական նշանով)
B35: Միջոցառման դասիչը` | C35: 11002 | D35: Տարի
B36: Միջոցառման անվանումը` | C36: Հիմնական ընդհանուր հանրակրթություն
B37: Նկարագրությունը` | C37: Պարտադիր կրթության երկրորդ մակարդակում սովորողների ընդգրկվածության, գրագիտության և համակողմանի զարգացման բարձր մակարդակի ապահովում
B38: Միջոցառման տեսակը` | C38: Ծառայությունների մատուցում
B39: Ծառայությունը մատուցող կազմակերպության(ների) անվանում(ներ)ը՛ | C39: Երևանի քաղաքապետարանի ենթակայության հանրակրթական ուսումնական հաստատություններ
B40: Արդյունքի չափորոշիչներ
B41: Հիմնական ընդհանուր կրթության դասարանների թիվը | D41: 54
B42: Հիմնական ընդհանուր կրթության դասարանների սովորողների միջին տարեկան թիվը /մարդ /, որից | D42: 4637
B43: տղա | D43: 2782
B44: աղջիկ | D44: 1855
B45: Գիտելիքների ստուգման արդյունքում սովորողների միջին գնահատականը
B46: Միջոցառման վրա կատարվող ծախսը (հազար դրամ) | D46: 705872.3
B48: Ծրագրի դասիչը` | C48: 1146 | D48: Ցուցանիշների փոփոխությունը (ավելացումները նշված են դրական նշանով)
B49: Միջոցառման դասիչը` | C49: 11003 | D49: Տարի
B50: Միջոցառման անվանումը` | C50: Միջնակարգ ընդհանուր հանրակրթություն
...

Sheet havelac12
B1: Հավելված N 12
B2: ՀՀ կառավարության 2024 թվականի
B3: ______________ ի ___Ն որոշման
A6: «Հանրակրթության ծրագիր» ծրագրի շրջանակում դպրոցներին հատկացված սուբսիդիայի չօգտագործված գումարներից վերջիններիս գանձապետական հաշիվների մնացորդների հաշվին Հայաստանի Հանրապետության պետական բյուջե հետ վճարվող գումարները ըստ կատարողների
C8: հազար դրամներով
B9: Ենթակայությունը | C9: Գոմարի չափը
A10: 1 | B10: ՀՀ Արագածոտնի մարզպետի աշխատակազմ | C10: 317929.05
A11: 2 | B11: ՀՀ Արարատի մարզպետի աշխատակազմ | C11: 542839.8
A12: 3 | B12: ՀՀ Արմավիրի մարզպետի աշխատակազմ | C12: 799000
A13: 4 | B13: ՀՀ Գեղարքունիքի մարզպետի աշխատակազմ | C13: 216596.3
A14: 5 | B14: ՀՀ Լոռու մարզպետի աշխատակազմ | C14: 506715
A15: 6 | B15: ՀՀ Կոտայքի մարզպետի աշխատակազմ | C15: 146769
A16: 7 | B16: ՀՀ Սյունիքի մարզպետի աշխատակազմ | C16: 321000
A17: 8 | B17: ՀՀ Վայոց ձորի մարզպետի աշխատակազմ | C17: 95400
A18: 9 | B18: ՀՀ Տավուշի մարզպետի աշխատակազմ | C18: 79113.2
A19: 10 | B19: ՀՀ տարածքային կառավարման և ենթակառուցվածքների նախարարություն | C19: 1306939.4
A20: 11 | B20: ՀՀ կրթության, գիտության, մշակույթի և սպորտի նախարարություն | C20: 850821.1
B21: ԸՆԴԱՄԵՆԸ | C21: =+SUM(C10:C20) -> 5183122.8
