Workbook
Name a: #REF!
Name a: #REF!
Name a: #REF!
Name a: #REF!
Name a: #REF!
Name a: #REF!
Name a: #REF!
Name a: #REF!
Name AgencyCode: #REF!
Name AgencyCode: #REF!
Name AgencyCode: #REF!
Name AgencyCode: #REF!
Name AgencyCode: #REF!
Name AgencyCode: #REF!
Name AgencyCode: #REF!
Name AgencyCode: #REF!
Name AgencyName: #REF!
Name AgencyName: #REF!
Name AgencyName: #REF!
Name AgencyName: #REF!
Name AgencyName: #REF!
Name AgencyName: #REF!
Name AgencyName: #REF!
Name AgencyName: #REF!
Name davit: #REF!
Name davit: #REF!
Name davit: #REF!
Name davit: #REF!
Name davit: #REF!
Name davit: #REF!
Name davit: #REF!
Name davit: #REF!
Name Functional1: #REF!
Name Functional1: #REF!
Name Functional1: #REF!
Name Functional1: #REF!
Name Functional1: #REF!
Name Functional1: #REF!
Name Functional1: #REF!
Name Functional1: #REF!
Name ggg: #REF!
Name ggg: #REF!
Name ggg: #REF!
Name ggg: #REF!
Name ggg: #REF!
Name ggg: #REF!
Name ggg: #REF!
Name ggg: #REF!
Name HAVELVAC10: #REF!
Name HAVELVAC10: #REF!
Name HAVELVAC10: #REF!
Name HAVELVAC10: #REF!
Name HAVELVAC10: #REF!
Name PANature: #REF!
Name PANature: #REF!
Name PANature: #REF!
Name PANature: #REF!
Name PANature: #REF!
Name PANature: #REF!
Name PANature: #REF!

Sheet havelvac 1 
C1: Հավելված N 1
C2: ՀՀ կառավարության 2024 թվականի
C3: ______________ ի ___Ն որոշման
A5: «ՀԱՅԱՍՏԱՆԻ ՀԱՆՐԱՊԵՏՈՒԹՅԱՆ 2024 ԹՎԱԿԱՆԻ ՊԵՏԱԿԱՆ ԲՅՈՒՋԵԻ ՄԱՍԻՆ» ՀԱՅԱՍՏԱՆԻ ՀԱՆՐԱՊԵՏՈՒԹՅԱՆ ՕՐԵՆՔԻ 2-ՐԴ ՀՈԴՎԱԾԻ ԱՂՅՈՒՍԱԿԻ ՑՈՒՑԱՆԻՇՆԵՐՈՒՄ ԿԱՏԱՐՎՈՂ ՓՈՓՈԽՈՒԹՅՈՒՆՆԵՐԸ
D6: /հազար դրամներով/
D7: Ցուցանիշների փոփոխությունը (ավելացումները նշված են դրական նշանով)
A8: Եկամուտների գծով | D8: =D9 -> 5183122.8
A9: Ծախսերի գծով | D9: ='havelvac 3'!D9 -> 5183122.8
A10: Դեֆիցիտը (պակասուրդը) | D10: =+D9-D8 -> 0

Sheet havelvac 2
C1: Հավելված N 2
C2: ՀՀ կառավարության 2024 թվականի
C3: ______________ ի ___Ն որոշման
A6: «ՀԱՅԱՍՏԱՆԻ ՀԱՆՐԱՊԵՏՈՒԹՅԱՆ 2024 ԹՎԱԿԱՆԻ ՊԵՏԱԿԱՆ ԲՅՈՒՋԵԻ ՄԱՍԻՆ» ՀԱՅԱՍՏԱՆԻ ՀԱՆՐԱՊԵՏՈՒԹՅԱՆ ՕՐԵՆՔԻ 6-ՐԴ ՀՈԴՎԱԾԻ ԱՂՅՈՒՍԱԿՈՒՄ ԵՎ ՀԱՅԱՍՏԱՆԻ ՀԱՆՐԱՊԵՏՈՒԹՅԱՆ ԿԱՌԱՎԱՐՈՒԹՅԱՆ 2023 ԹՎԱԿԱՆԻ ԴԵԿՏԵՄԲԵՐԻ 28-Ի N 2323-Ն ՈՐՈՇՄԱՆ N 2 ՀԱՎԵԼՎԱԾԻ ԱՂՅՈՒՍԱԿՈՒՄ ԿԱՏԱՐՎՈՂ ՓՈՓՈԽՈՒԹՅՈՒՆՆԵՐԸ
D8: /հազար դրամներով/
A9: Պետական բյուջեի դեֆիցիտի ֆինանսավորման աղբյուրներն ու դրանց տարրերի անվանումները | D9: Ցուցանիշների փոփոխությունը (ավելացումները նշված են դրական նշանով)
D10: Տարի
A11: ՊԵՏԱԿԱՆ ԲՅՈՒՋԵԻ ԵԿԱՄՈՒՏՆԵՐ | D11: =+D12 -> 5183122.8
A12: Ընդամենը | D12: =+D14 -> 5183122.8
A13: այդ թվում՝
A14: Այլ եկամուտներ | D14: ='havelvac 3'!D9 -> 5183122.8

Sheet havelvac 3
C1: Հավելված N3
C2: ՀՀ կառավարության 2024 թվականի
C3: ______________ ի ___Ն որոշման
A4: «ՀԱՅԱՍՏԱՆԻ ՀԱՆՐԱՊԵՏՈՒԹՅԱՆ 2024 ԹՎԱԿԱՆԻ ՊԵՏԱԿԱՆ ԲՅՈՒՋԵԻ ՄԱՍԻՆ» ՕՐԵՆՔԻ N 1 ՀԱՎԵԼՎԱԾԻ N 2 ԱՂՅՈՒՍԱԿՈՒՄ ԿԱՏԱՐՎՈՂ ՎԵՐԱԲԱՇԽՈՒՄԸ ԵՎ ՀԱՅԱՍՏԱՆԻ ՀԱՆՐԱՊԵՏՈՒԹՅԱՆ ԿԱՌԱՎԱՐՈՒԹՅԱՆ 2023 ԹՎԱԿԱՆԻ ԴԵԿՏԵՄԲԵՐԻ 28-Ի N 2323-Ն ՈՐՈՇՄԱՆ N 5 ՀԱՎԵԼՎԱԾԻ N 1 ԱՂՅՈՒՍԱԿՈՒՄ ԿԱՏԱՐՎՈՂ ՓՈՓՈԽՈՒԹՅՈՒՆՆԵՐԸ
D5: /հազար դրամներով/
A6: Ծրագրային դասիչը | C6: Բյուջետային հատկացումների գլխավոր կարգադրիչների, ծրագրերի և միջոցառումների անվանումները | D6: Ցուցանիշների փոփոխությունը (ավելացումները նշված են դրական նշանով, իսկ նվազեցումները՝ փակագծերում)
A7: ծրագիր | B7: միջոցառում | D7: Տարի
C8: ԸՆԴԱՄԵՆԸ | D8: =D9+D120 -> 5183122.8
A9: ՀՀ Կրթության, գիտության, մշակույթի և սպորտի նախարարություն | D9: =D30+D73+D164+D183+D202+D227+D11 -> 5183122.8 | E9: =F73=F77 -> TRUE
A10: 1045 | C10: Ծրագրի անվանումը`
C11: Նախնական (արհեստագործական) և միջին մասնագիտական կրթություն | D11: =D18+D24 -> -304380.5
C12: Ծրագրի նպատակը`
C13: Աշխատաշուկայի արդի պահանջներին համապատասխան նախնական մասնագիտական (արհեստագործական) և միջին մասնագիտական կրթության որակավորում ունեցող մասնագետների պատրաստում, կրթության մատչելիության ապահովում:
C14: Վերջնական արդյունքի նկարագրությունը`
C15: Նախնական (արհեստագործական) և միջին մասնագիտական կրթության գրավչության բարձրացում, մատչելի և մրցունակ նախնական (արհեստագործական) և միջին մասնագիտական կրթության ապահովում
C16: Ծրագրի միջոցառումներ
B17: 12003 | C17: Միջոցառման անվանումը`
C18: Նախնական մասնագիտական (արհեստագործական) կրթության գծով ուսանողական նպաստների տրամադրում | D18: ='havelvac 10'!C22 -> -256380.5
C19: Միջոցառման նկարագրությունը`
C20: Նախնական մասնագիտական (արհեստագործական) կրթության գծով ուսանողական նպաստների տրամադրում
C21: Միջոցառման տեսակը
C22: Տրանսֆերտների տրամադրում
B23: 12004 | C23: Միջոցառման անվանումը`
C24: Միջին մասնագիտական կրթության գծով ուսանողական նպաստների տրամադրում | D24: ='havelvac 10'!C32 -> -48000
C25: Միջոցառման նկարագրությունը`
C26: Միջին մասնագիտական կրթության գծով ուսանողական նպաստների տրամադրում
C27: Միջոցառման տեսակը
C28: Տրանսֆերտների տրամադրում
A29: 1111 | C29: Ծրագրի անվանումը`
C30: Բարձրագույն և հետբուհական մասնագիտական կրթության ծրագիր | D30: =D37+D43+D49+D55+D61+D67 -> -1022761
C31: Ծրագրի նպատակը`
C32: Ապահովել մատչելի, որակյալ և մրցունակ բարձրագույն և հետբուհական մասնագիտական կրթություն:
C33: Վերջնական արդյունքի նկարագրությունը`
C34: Գիտելիքների տնտեսության և գիտության զարգացման արդի պահանջներին համապատասխան բարձրագույն և հետբուհական մասնագիտական որակավորում ունեցող մասնագետների պատրաստում
B35: Ծրագրի միջոցառումներ
B36: 12001 | C36: Միջոցառման անվանումը`
C37: Բարձրագույն մասնագիտական կրթություն ստացող ուսանողների կրթաթոշակ | D37: ='havelvac 4'!G884 -> -200000
C38: Միջոցառման նկարագրությունը`
C39: Բարձրագույն մասնագիտական կրթություն ստացող ուսանողների կրթաթոշակ
C40: Միջոցառման տեսակը
C41: Տրանսֆերտների տրամադրում
B42: 12002 | C42: Միջոցառման անվանումը`
C43: Հետբուհական մասնագիտական կրթություն ստացող ուսանողների կրթաթոշակ բուհական հաստատություններում | D43: ='havelvac 4'!G906 -> -150000
C44: Միջոցառման նկարագրությունը`
C45: Հետբուհական մասնագիտական կրթության գծով կրթաթոշակի տրամադրում
C46: Միջոցառման տեսակը
C47: Տրանսֆերտների տրամադրում
B48: 12003 | C48: Միջոցառման անվանումը`
C49: Ասպիրանտական կրթաթոշակներ գիտական հաստատություններում սովորողներին | D49: ='havelvac 4'!G915 -> -35342
C50: Միջոցառման նկարագրությունը`
C51: Կրթաթոշակներ գիտական հաստատություններում ասպիրանտական կրթության մեջ գտնվող անձանց
C52: Միջոցառման տեսակը
C53: Տրանսֆերտների տրամադրում
B54: 12004 | C54: Միջոցառման անվանումը`
C55: Բարձրագույն մասնագիտական կրթության գծով ուսանողական նպաստների տրամադրում | D55: ='havelvac 4'!G893 -> -600419
C56: Միջոցառման նկարագրությունը`
C57: Բարձրագույն մասնագիտական կրթություն ստացող ուսանողների նպաստներ
C58: Միջոցառման տեսակը
C59: Տրանսֆերտների տրամադրում
B60: 12005 | C60: Միջոցառման անվանումը`
C61: Հետբուհական մասնագիտական կրթության գծով նպաստների տրամադրում բուհական հաստատություններում | D61: ='havelvac 11'!D210 -> -20000
C62: Միջոցառման նկարագրությունը`
C63: Հետբուհական մասնագիտական կրթության գծով նպաստների տրամադրում
C64: Միջոցառման տեսակը
C65: Տրանսֆերտների տրամադրում
B66: 12006 | C66: Միջոցառման անվանումը`
C67: Հետբուհական մասնագիտական կրթության գծով նպաստների տրամադրում գիտակրթական հաստատություններում | D67: ='havelvac 11'!D220 -> -17000
C68: Միջոցառման նկարագրությունը`
C69: Գիտական կադրերի պատրաստման համար նպաստների տրամադրում
C70: Միջոցառման տեսակը
C71: Տրանսֆերտների տրամադրում
A72: 1146 | C72: Ծրագրի անվանումը`
C73: Հանրակրթության ծրագիր | D73: =D80+D86+D92+D98+D104+D110+D116+D122+D128+D134+D140+D146+D152+D158 -> 6064972.2
C74: Ծրագրի նպատակը`
C75: Ապահովել անվճար և որակյալ հանրակրթություն
C76: Վերջնական արդյունքի նկարագրությունը`
C77: Մտավոր, հոգևոր, ֆիզիկական և սոցիալական ունակությունների համակողմանի ու ներդաշնակ զարգացմամբ, հայրենասիրության, պետականության և մարդասիրության ոգով դաստիրակված, պատշաճ վարքով և վարվելակերպով անձի ձևավորում
B78: Ծրագրի միջոցառումներ
B79: 11001 | C79: Միջոցառման անվանումը`
C80: Տարրական ընդհանուր հանրակրթություն | D80: ='havelvac 10'!C118 -> 2179004.2 | F80: 1.0693334e+08 | G80: =F80+D80+D86+D92 -> 1.138598e+08
C81: Միջոցառման նկարագրությունը`
C82: Պարտադիր կրթության առաջին մակարդակում սովորողների ընդգրկվածության, գրագիտության և համակողմանի զարգացման բարձր մակարդակի ապահովում
C83: Միջոցառման տեսակը
C84: Ծառայությունների մատուցում
B85: 11002 | C85: Միջոցառման անվանումը`
C86: Հիմնական ընդհանուր հանրակրթություն | D86: ='havelvac 10'!C132 -> 4197268.3
C87: Միջոցառման նկարագրությունը`
C88: Պարտադիր կրթության երկրորդ մակարդակում սովորողների ընդգրկվածության, գրագիտության և համակողմանի զարգացման բարձր մակարդակի ապահովում
C89: Միջոցառման տեսակը
C90: Ծառայությունների մատուցում
B91: 11003 | C91: Միջոցառման անվանումը`
C92: Միջնակարգ ընդհանուր հանրակրթություն | D92: ='havelvac 10'!C146 -> 550194.58
C93: Միջոցառման նկարագրությունը`
C94: Պարտադիր կրթության երրորդ մակարդակում սովորողների ընդգրկվածության, գրագիտության և համակողմանի զարգացման բարձր մակարդակի ապահովում
C95: Միջոցառման տեսակը
C96: Ծառայությունների մատուցում
B97: 11004 | C97: Միջոցառման անվանումը`
C98: Տարրական հատուկ հանրակրթություն | D98: ='havelvac 10'!C160 -> -1293.6
C99: Միջոցառման նկարագրությունը`
C100: Պարտադիր կրթության առաջին մակարդակում սովորողների ընդգրկվածության և գրագիտության ապահովում
...

Sheet havelvac 4
F1: Հավելված N 4
F2: ՀՀ կառավարության 2024 թվականի
F3: ______________ ի ___Ն որոշման
A4: ՀԱՅԱՍՏԱՆԻ ՀԱՆՐԱՊԵՏՈՒԹՅԱՆ ԿԱՌԱՎԱՐՈՒԹՅԱՆ 2023 ԹՎԱԿԱՆԻ ԴԵԿՏԵՄԲԵՐԻ 28-Ի N 2323-Ն ՈՐՈՇՄԱՆ N 3 ԵՎ N 4 ՀԱՎԵԼՎԱԾՆԵՐՈՒՄ ԿԱՏԱՐՎՈՂ ՓՈՓՈԽՈՒԹՅՈՒՆՆԵՐԸ
G5: /հազար դրամներով/
A6: Գործառական դասիչը | D6: Ծրագրային դասիչը | F6: Բյուջետային ծախսերի գործառական դասակարգման բաժինների, խմբերի և դասերի, բյուջետային ծրագրերի միջոցառումների, բյուջետային հատկացումների գլխավոր կարգադրիչների անվանումները | G6: Ցուցանիշների փոփոխություն (ավելացումները նշված են դրական նշանով, իսկ նվազեցումները՝ փակագծերում)
A7: Բաժին | B7: Խումբ | C7: Դաս | D7: Ծրագիր | E7: Միջոցառում | G7: Տարի
F8: ԸՆԴԱՄԵՆԸ | G8: =G56+G10 -> 5183122.8
F9: այդ թվում`
A10: 01 | F10: ԸՆԴՀԱՆՈՒՐ ԲՆՈՒՅԹԻ ՀԱՆՐԱՅԻՆ ԾԱՌԱՅՈՒԹՅՈՒՆՆԵՐ | G10: =G12+G41 -> -470000
F11: այդ թվում`
B12: 04 | F12: Ընդհանուր բնույթի հետազոտական աշխատանք | G12: =G14 -> -425000
F13: այդ թվում`
C14: 01 | F14: Ընդհանուր բնույթի հետազոտական աշխատանք | G14: =G16+G27 -> -425000
F15: այդ թվում`
D16: 1162 | F16: Գիտական և գիտատեխնիկական հետազոտությունների ծրագիր | G16: =G18 -> -400000
F17: այդ թվում`
E18: 12001 | F18: Գիտաշխատողներին գիտական աստիճանների համար տրվող հավելավճարներ | G18: =G20 -> -400000
F19: այդ թվում` ըստ կատարողների
F20: ՀՀ կրթության, գիտության, մշակույթի և սպորտի նախարարության բարձրագույն կրթության և գիտության կոմիտե | G20: =G22 -> -400000
F21: այդ թվում` բյուջետային ծախսերի տնտեսագիտական դասակարգման հոդվածներ
F22: ԸՆԴԱՄԵՆԸ ԾԱԽՍԵՐ | G22: =G23 -> -400000
F23: ԸՆԹԱՑԻԿ ԾԱԽՍԵՐ | G23: =G24 -> -400000
F24: ԴՐԱՄԱՇՆՈՐՀՆԵՐ | G24: =G25 -> -400000
F25: Ընթացիկ դրամաշնորհներ պետական հատվածի այլ մակարդակներին | G25: =G26 -> -400000
F26: - Այլ ընթացիկ դրամաշնորհներ | G26: ='havelvac 10'!C354 -> -400000
D27: 1192 | F27: Կրթության որակի ապահովում | G27: =G29 -> -25000
F28: այդ թվում`
E29: 11005 | F29: Գիտական աստիճանաշնորհման և գիտամանկավարժական կոչումների շնորհում | G29: =G31 -> -25000
F30: այդ թվում` ըստ կատարողների
F31: ՀՀ կրթության, գիտության, մշակույթի և սպորտի նախարարության բարձրագույն կրթության և գիտության կոմիտե | G31: =G33 -> -25000
F32: այդ թվում` բյուջետային ծախսերի տնտեսագիտական դասակարգման հոդվածներ
F33: ԸՆԴԱՄԵՆԸ ԾԱԽՍԵՐ | G33: =G34 -> -25000
F34: ԸՆԹԱՑԻԿ ԾԱԽՍԵՐ | G34: =G35+G38 -> -25000
F35: ԴՐԱՄԱՇՆՈՐՀՆԵՐ | G35: =G36 -> -7000
F36: Ընթացիկ դրամաշնորհներ պետական հատվածի այլ մակարդակներին | G36: =G37 -> -7000
F37: - Այլ ընթացիկ դրամաշնորհներ | G37: -7000
F38: ՍՈՑԻԱԼԱԿԱՆ ՆՊԱՍՏՆԵՐ ԵՎ ԿԵՆՍԱԹՈՇԱԿՆԵՐ | G38: =G39 -> -18000
F39: Սոցիալական օգնության դրամական արտահայտությամբ նպաստներ (բյուջեից) | G39: =G40 -> -18000
F40: - Այլ նպաստներ բյուջեից | G40: -18000
B41: 05 | F41: Ընդհանուր բնույթի հանրային ծառայությունների գծով հետազոտական և նախագծային աշխատանքներ | G41: =G43 -> -45000
F42: այդ թվում`
C43: 01 | F43: Ընդհանուր բնույթի հանրային ծառայությունների գծով հետազոտական և նախագծային աշխատանքներ | G43: =G45 -> -45000
F44: այդ թվում`
D45: 1162 | F45: Գիտական և գիտատեխնիկական հետազոտությունների ծրագիր | G45: =G47 -> -45000
F46: այդ թվում`
E47: 11005 | F47: Գիտական և գիտատեխնիկական պայմանագրային (թեմատիկ) հետազոտություններ | G47: =G49 -> -45000
F48: այդ թվում` ըստ կատարողների
F49: ՀՀ կրթության, գիտության, մշակույթի և սպորտի նախարարության բարձրագույն կրթության և գիտության կոմիտե | G49: =G50 -> -45000
F50: այդ թվում` բյուջետային ծախսերի տնտեսագիտական դասակարգման հոդվածներ | G50: =G51 -> -45000
F51: ԸՆԴԱՄԵՆԸ ԾԱԽՍԵՐ | G51: =G52 -> -45000
F52: ԸՆԹԱՑԻԿ ԾԱԽՍԵՐ | G52: =G53 -> -45000
F53: ԴՐԱՄԱՇՆՈՐՀՆԵՐ | G53: =G54 -> -45000
F54: Ընթացիկ դրամաշնորհներ պետական հատվածի այլ մակարդակներին | G54: =G55 -> -45000
F55: - Այլ ընթացիկ դրամաշնորհներ | G55: ='havelvac 10'!C344 -> -45000
A56: 09 | F56: ԿՐԹՈՒԹՅՈՒՆ | G56: =G62+G284+G385+G744+G882+G904+G945+G1030+G1198+G850 -> 5653122.8
F57: այդ թվում`
B58: 01 | F58: Նախադպրոցական և տարրական ընդհանուր կրթություն | G58: =G60+G282 -> 3112349.6
F59: այդ թվում`
C60: 01 | F60: Նախադպրոցական կրթություն | G60: =G62 -> 934639
F61: այդ թվում`
D62: 1238 | F62: Նախադպրոցական կրթության հասանելիության և որակի ապահովում | G62: =G64+G152+G231+G143 -> 934639
F63: այդ թվում`
E64: 11001 | F64: Նախադպրոցական կրթություն | G64: =+G66+G73+G80+G87+G94+G101+G108+G115+G122+G129+G136 -> -2421.9
F65: այդ թվում` ըստ կատարողների
F66: ՀՀ կրթության , գիտության, մշակույթի և սպորտի նախարարություն | G66: =G68 -> -19000
F67: այդ թվում` բյուջետային ծախսերի տնտեսագիտական դասակարգման հոդվածներ
F68: ԸՆԴԱՄԵՆԸ ԾԱԽՍԵՐ | G68: =G69 -> -19000
F69: ԸՆԹԱՑԻԿ ԾԱԽՍԵՐ | G69: =G70 -> -19000
F70: ՍՈՒԲՍԻԴԻԱՆԵՐ | G70: =G71 -> -19000
F71: Սուբսիդիաներ պետական կազմակերպություններին | G71: =G72 -> -19000
F72: - Սուբսիդիաներ ոչ ֆինանսական պետական կազմակերպություններին | G72: ='havelvac 11'!D503 -> -19000
F73: ՀՀ Արագածոտնի մարզպետի աշխատակազմ | G73: =G75 -> -6898.8
F74: այդ թվում` բյուջետային ծախսերի տնտեսագիտական դասակարգման հոդվածներ
F75: ԸՆԴԱՄԵՆԸ ԾԱԽՍԵՐ | G75: =G76 -> -6898.8
F76: ԸՆԹԱՑԻԿ ԾԱԽՍԵՐ | G76: =G77 -> -6898.8
F77: ՍՈՒԲՍԻԴԻԱՆԵՐ | G77: =G78 -> -6898.8
F78: Սուբսիդիաներ պետական կազմակերպություններին | G78: =G79 -> -6898.8
F79: - Սուբսիդիաներ ոչ ֆինանսական պետական կազմակերպություններին | G79: ='havelvac 11'!D662 -> -6898.8
F80: ՀՀ Արարատի մարզպետի աշխատակազմ | G80: =G82 -> -15956.2
F81: այդ թվում` բյուջետային ծախսերի տնտեսագիտական դասակարգման հոդվածներ
F82: ԸՆԴԱՄԵՆԸ ԾԱԽՍԵՐ | G82: =G83 -> -15956.2
F83: ԸՆԹԱՑԻԿ ԾԱԽՍԵՐ | G83: =G84 -> -15956.2
F84: ՍՈՒԲՍԻԴԻԱՆԵՐ | G84: =G85 -> -15956.2
F85: Սուբսիդիաներ պետական կազմակերպություններին | G85: =G86 -> -15956.2
F86: - Սուբսիդիաներ ոչ ֆինանսական պետական կազմակերպություններին | G86: ='havelvac 11'!D821 -> -15956.2
F87: ՀՀ Արմավիրի մարզպետի աշխատակազմ | G87: =G89 -> 24201.7
F88: այդ թվում` բյուջետային ծախսերի տնտեսագիտական դասակարգման հոդվածներ
F89: ԸՆԴԱՄԵՆԸ ԾԱԽՍԵՐ | G89: =G90 -> 24201.7
F90: ԸՆԹԱՑԻԿ ԾԱԽՍԵՐ | G90: =G91 -> 24201.7
F91: ՍՈՒԲՍԻԴԻԱՆԵՐ | G91: =G92 -> 24201.7
F92: Սուբսիդիաներ պետական կազմակերպություններին | G92: =G93 -> 24201.7
F93: - Սուբսիդիաներ ոչ ֆինանսական պետական կազմակերպություններին | G93: ='havelvac 11'!D992 -> 24201.7
F94: ՀՀ Գեղարքունիքի մարզպետի աշխատակազմ | G94: =G97 -> 12833
F95: այդ թվում` բյուջետային ծախսերի տնտեսագիտական դասակարգման հոդվածներ
F96: ԸՆԴԱՄԵՆԸ ԾԱԽՍԵՐ | G96: =G97 -> 12833
F97: ԸՆԹԱՑԻԿ ԾԱԽՍԵՐ | G97: =G98 -> 12833
F98: ՍՈՒԲՍԻԴԻԱՆԵՐ | G98: =G99 -> 12833
F99: Սուբսիդիաներ պետական կազմակերպություններին | G99: =G100 -> 12833
F100: - Սուբսիդիաներ ոչ ֆինանսական պետական կազմակերպություններին | G100: ='havelvac 11'!D1152 -> 12833
...

Sheet havelvac 5
E1: Հավելված N5
C2: ՀՀ կառավարության 2024 թվականի
C3: ______________ ի ___Ն որոշման
A5: ՀԱՅԱՍՏԱՆԻ ՀԱՆՐԱՊԵՏՈՒԹՅԱՆ ԿԱՌԱՎԱՐՈՒԹՅԱՆ 2024 ԹՎԱԿԱՆԻ ԴԵԿՏԵՄԲԵՐԻ 28-Ի ԹԻՎ 2323-Ն ՈՐՈՇՄԱՆ N 5 ՀԱՎԵԼՎԱԾԻ N 7 ԱՂՅՈՒՍԱԿՈՒՄ ԿԱՏԱՐՎՈՂ ՓՈՓՈԽՈՒԹՅՈՒՆԸ
E7: /հազար դրամներով/
A8: Ծրագրային դասիչը | C8: Բյուջետային հատկացումների գլխավոր կարգադրիչների, ծրագրերի, միջոցառումների, ծախսային ուղղությունների անվանումները | D8: Միջոցառումները կատարող պետական մարմինների և դրամաշնորհ ստացող տնտեսվարող սուբյեկտների անվանումները | E8: Ցուցանիշների փոփոխությունները (նվզեցումները նշված են փակագծերում)
A9: Ծրագիր | B9: Միջոցառում | E9: Տարի
A10: ՀՀ կրթության, գիտության, մշակույթի և սպորտի նախարարություն | E10: =E11+E40+E62 -> 852473.9
A11: 1146 | B11: Հանրակրթության ծրագիր | E11: =E12 -> 108275.4
B12: 12002 | C12: Հանրակրթական դպրոցների մանկավարժներին և դպրոցահասակ երեխաներին տրանսպորտային ծախսերի փոխհատուցում | E12: =E13+E19+E21+E23+E25+E27+E29+E31+E33+E35+E37 -> 108275.4
D13: ՀՀ կրթության, գիտության, մշակույթի և սպորտի նախարարություն | E13: =E14+E15+E16+E17+E18 -> 8820.4
D14: Հանրակրթական դպրոցներ | E14: 8168.8
D15: «Ծաղկունք բաց դպրոց» հիմնադրամ | E15: 0.9
D16: «Վանաձորի Հ․ Թումանյանի անվան պետական համալսարան» հիմնադրամ | E16: 531.9
D17: «Շիրակի պետական համալսարան» Հիմնադրամ | E17: -12.6
D18: Հայաստանի պոլիտեխնիկական համալսարան» հիմնադրամ | E18: 131.4
D19: ՀՀ Արագածոտնի մարզպետի աշխատակազմ | E19: =E20 -> 8874.5
D20: Հանրակրթական դպրոցներ | E20: ='havelvac 4'!G1048 -> 8874.5
D21: ՀՀ Արարատի մարզպետի աշխատակազմ | E21: =E22 -> 37544.5
D22: Հանրակրթական դպրոցներ | E22: ='havelvac 4'!G1055 -> 37544.5
D23: ՀՀ Արմավիրի մարզպետի աշխատակազմ | E23: =E24 -> 3249.8
D24: Հանրակրթական դպրոցներ | E24: ='havelvac 4'!G1062 -> 3249.8
D25: ՀՀ Գեղարքունիքի մարզպետի աշխատակազմ | E25: =E26 -> 6319.4
D26: Հանրակրթական դպրոցներ | E26: ='havelvac 4'!G1069 -> 6319.4
D27: ՀՀ Լոռու մարզպետի աշխատակազմ | E27: =E28 -> 110.7
D28: Հանրակրթական դպրոցներ | E28: ='havelvac 4'!G1076 -> 110.7
D29: ՀՀ Կոտայքի մարզպետի աշխատակազմ | E29: =E30 -> 25180
D30: Հանրակրթական դպրոցներ | E30: ='havelvac 4'!G1083 -> 25180
D31: ՀՀ Շիրակի մարզպետի աշխատակազմ | E31: =E32 -> 7443.8
D32: Հանրակրթական դպրոցներ | E32: ='havelvac 4'!G1090 -> 7443.8
D33: ՀՀ Սյունիքի մարզպետի աշխատակազմ | E33: =E34 -> 12048.4
D34: Հանրակրթական դպրոցներ | E34: ='havelvac 4'!G1097 -> 12048.4
D35: ՀՀ Վայոց ձորի մարզպետի աշխատակազմ | E35: =E36 -> -988.3
D36: Հանրակրթական դպրոցներ | E36: ='havelvac 4'!G1104 -> -988.3
D37: ՀՀ Տավուշի մարզպետի աշխատակազմ | E37: =E38 -> -327.8
D38: Հանրակրթական դպրոցներ | E38: ='havelvac 4'!G1111 -> -327.8
A40: 1238 | B40: Նախադպրոցական կրթություն | E40: =E41 -> 784198.5
B41: 12001 | C41: Սոցիալական որոշ խմբերի 1.5-5 տարեկան երեխաների նախադպրոցական կրթության ապահովում | E41: =E42+E44+E46+E48+E50+E52+E54+E56+E58+E60 -> 784198.5
D42: ՀՀ Արագածոտնի մարզպետի աշխատակազմ | E42: =E43 -> -46542.2
D43: Նախադպրոցական հաստատություններ | E43: ='havelvac 4'!G167 -> -46542.2
D44: ՀՀ Արարատի մարզպետի աշխատակազմ | E44: =E45 -> 175748.7
D45: Նախադպրոցական հաստատություններ | E45: ='havelvac 4'!G174 -> 175748.7
D46: ՀՀ Արմավիրի մարզպետի աշխատակազմ | E46: =E47 -> 134446.6
D47: Նախադպրոցական հաստատություններ | E47: ='havelvac 4'!G181 -> 134446.6
D48: ՀՀ Գեղարքունիքի մարզպետի աշխատակազմ | E48: =E49 -> -8977
D49: Նախադպրոցական հաստատություններ | E49: ='havelvac 4'!G188 -> -8977
D50: ՀՀ Լոռու մարզպետի աշխատակազմ | E50: =E51 -> 190903.4
D51: Նախադպրոցական հաստատություններ | E51: ='havelvac 4'!G195 -> 190903.4
D52: ՀՀ Կոտայքի մարզպետի աշխատակազմ | E52: =E53 -> 56035.1
D53: Նախադպրոցական հաստատություններ | E53: ='havelvac 4'!G202 -> 56035.1
D54: ՀՀ Շիրակի մարզպետի աշխատակազմ | E54: =E55 -> 39350.5
D55: Նախադպրոցական հաստատություններ | E55: ='havelvac 4'!G209 -> 39350.5
D56: ՀՀ Սյունիքի մարզպետի աշխատակազմ | E56: =E57 -> 199948.6
D57: Նախադպրոցական հաստատություններ | E57: ='havelvac 4'!G216 -> 199948.6
D58: ՀՀ Վայոց ձորի մարզպետի աշխատակազմ | E58: =E59 -> 103330.3
D59: Նախադպրոցական հաստատություններ | E59: ='havelvac 4'!G223 -> 103330.3
D60: ՀՀ Տավուշի մարզպետի աշխատակազմ | E60: =E61 -> -60045.5
D61: Նախադպրոցական հաստատություններ | E61: ='havelvac 4'!G230 -> -60045.5
A62: 1192 | B62: Կրթության որակի ապահովում | E62: =E63 -> -40000
B63: 11003 | C63: Եվրոպական բարձրագույն կրթական տարածքի անդամակցությամբ պայմանավորված բարձրագույն մասնագիտական կրթության համակարգի բարեփոխումներ | E63: =E64 -> -40000
D64: ՀՀ կրթության, գիտության, մշակույթի և սպորտի նախարարության բարձրագույն կրթության և գիտության կոմիտե | E64: =E65 -> -40000
D65: «Կրթության զարգացման նորարարական ազգային կենտրոն» հիմնադրամ | E65: -40000

Sheet havelvac 6
F2: Հավելված N 6
F3: ՀՀ կառավարության 2024 թվականի
F4: ______________ ի ___Ն որոշման
A6: ՀԱՅԱՍՏԱՆԻ ՀԱՆՐԱՊԵՏՈՒԹՅԱՆ ԿԱՌԱՎԱՐՈՒԹՅԱՆ 2024 ԹՎԱԿԱՆԻ ԴԵԿՏԵՄԲԵՐԻ 28-Ի ԹԻՎ 2323-Ն ՈՐՈՇՄԱՆ N 5 ՀԱՎԵԼՎԱԾԻ N 7.1 ԱՂՅՈՒՍԱԿՈՒՄ ԿԱՏԱՐՎՈՂ ՓՈՓՈԽՈՒԹՅՈՒՆԸ
F7: /հազար դրամներով/
A8: Ծրագրային դասիչը | C8: Բյուջետային հատկացումների գլխավոր կարգադրիչների, ծրագրերի, միջոցառումների, ծախսային ուղղությունների անվանումները | D8: Միջոցառումները կատարող պետական մարմինների և դրամաշնորհ ստացող տնտեսվարող սուբյեկտների անվանումները | E8: Գերատեսչական պատկանելություն | F8: Ցուցանիշների փոփոխությունները (նվզեցումները նշված են փակագծերում)
A9: Ծրագիր | B9: Միջոցառում | F9: Տարի
A10: ՀՀ կրթության, գիտության, մշակույթի և սպորտի նախարարություն | F10: =F11 -> -445000
A11: 1162 | B11: Գիտական և գիտատեխնիկական հետազոտությունների ծրագիր | F11: =F12+F14 -> -445000
B12: 11005 | C12: Գիտական և գիտատեխնիկական գործունեության պայմանագրային (թեմատիկ) հետազոտություններ | D12: ԸՆԴԱՄԵՆԸ- ՀՀ կրթության, գիտության, մշակույթի և սպորտի նախարարության գիտության կոմիտե | F12: -45000
B13: 12001 | C13: Պետական ծրագրերում ընդգրկված գիտական աստիճան ունեցող գիտաշխատողներին հավելավճարների տրամադրում
D14: ԸՆԴԱՄԵՆԸ- ՀՀ կրթության, գիտության, մշակույթի և սպորտի նախարարության բարձրագույն կրթության և գիտության կոմիտե | F14: -400000

Sheet havelvac 7
F1: Հավելված N 7
F2: ՀՀ կառավարության 2024 թվականի
F3: ______________ ի ___Ն որոշման
A5: ՀԱՅԱՍՏԱՆԻ ՀԱՆՐԱՊԵՏՈՒԹՅԱՆ ԿԱՌԱՎԱՐՈՒԹՅԱՆ 2024 ԹՎԱԿԱՆԻ ԴԵԿՏԵՄԲԵՐԻ 28-Ի ԹԻՎ 2323-Ն ՈՐՈՇՄԱՆ N 5 ՀԱՎԵԼՎԱԾԻ N 7.2 ԱՂՅՈՒՍԱԿՈՒՄ ԿԱՏԱՐՎՈՂ ՓՈՓՈԽՈՒԹՅՈՒՆԸ
F6: /հազար դրամներով/
A7: Ծրագրային դասիչը | C7: Բյուջետային հատկացումների գլխավոր կարգադրիչների, ծրագրերի, միջոցառումների անվանումները | E7: Միջոցառումներն կատարող պետական մարմինների անվանումները | F7: Ցուցանիշների փոփոխությունները (նվզեցումները նշված են փակագծերում)
A8: Ծրագիր | B8: Միջոցառում | F8: Տարի
C9: ԸՆԴԱՄԵՆԸ | F9: =F10 -> -440000
A10: ՀՀ կրթության, գիտության, մշակույթի և սպորտի նախարարություն | F10: =F11+F14 -> -440000
A11: 1192 | C11: Կրթության որակի ապահովում | F11: =F12 -> -40000
B12: 11005 | C12: ՀՀ-ում գիտական որակավորման, գիտական աստիճանի և գիտական կոչման վկայագրերի հանձնման, միջազգային կապերի զարգացման, ատենախոսությունների թվայնացման և գիտնականների շտեմարանների ստեղծման ու շահագործման գործընթացների իրականացում | E12: ՀՀ կրթության, գիտության, մշակույթի և սպորտի նախարարության բարձրագույն կրթության և գիտության կոմիտե | F12: ='havelvac 10'!C375 -> -40000
C13: ՀՀ կրթության, գիտության, մշակույթի և սպորտի նախարարություն | F13: =F12 -> -40000
A14: 1162 | C14: Գիտական և գիտատեխնիկական հետազոտությունների ծրագիր | F14: =F15 -> -400000
B15: 12001 | C15: Պետական ծրագրերում ընդգրկված գիտական աստիճան ունեցող գիտաշխատողներին հավելավճարներ տրամադրում | E15: ՀՀ կրթության, գիտության, մշակույթի և սպորտի նախարարության բարձրագույն կրթության և գիտության կոմիտե | F15: ='havelvac 11'!D452 -> -400000

Sheet havelvac 8
C1: Հավելված N 8
C2: ՀՀ կառավարության 2024 թվականի
C3: ______________ ի ___Ն որոշման
A6: ՀԱՅԱՍՏԱՆԻ ՀԱՆՐԱՊԵՏՈՒԹՅԱՆ ԿԱՌԱՎԱՐՈՒԹՅԱՆ 2023 ԹՎԱԿԱՆԻ ԴԵԿՏԵՄԲԵՐԻ 28-Ի N 2323-Ն ՈՐՈՇՄԱՆ N 6 ՀԱՎԵԼՎԱԾՈՒՄ ԿԱՏԱՐՎՈՂ ԼՐԱՑՈՒՄԸ
E8: /հազար դրամներով/
A9: NN ը/կ | B9: Եկամտատեսակը | D9: Գանձման համար պատասխանատու պետական կառավարման մարմինը (մարմինները) | E9: Ցուցանիշների փոփոխությունը (ավելացումները նշված են դրական նշանով)
E10: Տարի
A11: Այլ եկամուտներ, ընդամենը՝ | E11: =+E13 -> 5183122.8
B12: այդ թվում՝
A13: 6 | B13: Օրենքով և այլ իրավական ակտերով սահմանված պետական բյուջե մուտքագրվող այլ եկամուտներ | E13: =+E14 -> 5183122.8
A14: 6.9 | B14: Նախորդ տարիների՝ ՀՀ պետական բյուջեից ծախսերի ֆինանսավորման նպատակով հատկացված գումարների (բացառությամբ փոխառու միջոցների) վերադարձից մուտքեր | D14: ՀՀ պետական կառավարման մարմիններ | E14: ='havelvac 1 '!D9 -> 5183122.8

Sheet havelvac 9
C1: Հավելված N 9
C2: ՀՀ կառավարության 2024 թվականի
C3: ______________ ի ___Ն որոշման
A5: ՀԱՅԱՍՏԱՆԻ ՀԱՆՐԱՊԵՏՈՒԹՅԱՆ ԿԱՌԱՎԱՐՈՒԹՅԱՆ 2023 ԹՎԱԿԱՆԻ ԴԵԿՏԵՄԲԵՐԻ 28-Ի N 2323-Ն ՈՐՈՇՄԱՆ N 8 ՀԱՎԵԼՎԱԾՈՒՄ ԿԱՏԱՐՎՈՂ ՓՈՓՈԽՈՒԹՅՈՒՆԸ
D6: /հազար դրամներով/
A7: Ծրագրային դասիչը | C7: Բյուջետային հատկացումների գլխավոր կարգադրիչներ, ծրագրերի, միջոցառումների և միջոցառումներն իրականացնող պետական մարմինների անվանումները | D7: Ցուցանիշների փոփոխություն (ավելացումները նշված են դրական նշանով)
A8: Ծրագիր | B8: Միջոցա ռում
C9: ԸՆԴԱՄԵՆԸ ԾԱԽՍԵՐ | D9: =D11+D17+D19 -> 1371395.1
C10: այդ թվում՝
A11: 1146 | C11: Հանրակրթության ծրագիր | D11: =D12+D13+D14+D15+D16 -> 1195805.8
B12: 11001 | C12: Տարրական ընդհանուր հանրակրթություն | D12: ='havelvac 11'!D32 -> 575155.2
B13: 11002 | C13: Հիմնական ընդհանուր հանրակրթություն | D13: ='havelvac 11'!D46 -> 705872.3
B14: 11003 | C14: Միջնակարգ ընդհանուր հանրակրթություն | D14: ='havelvac 11'!D60 -> 25911.9
B15: 12004 | C15: Ատեստավորման միջոցով տարակարգի որակավորում ստացած ուսուցիչներին համապատասխան հավելավճարի տրամադրման ապահովում | D15: ='havelvac 11'!D72 -> -7244.4
B16: 12015 | C16: ՀՀ պետական հանրակրթական բոլոր ուսումնական հաստատություններում ԲՏՃՄ ոլորտի (բացառությամբ մաթեմատիկայի) դասավանդող ուսուցիչների համար վարձատրության բարձրացված հստակ չափաքանակի սահմանում | D16: ='havelvac 11'!D83 -> -103889.2
A17: 1148 | C17: Արտադպրոցական դաստիարակության ծրագիր | D17: =D18 -> -2051.9
B18: 12002 | C18: Կամավոր ատեստավորման նոր համակարգի ներդրում՝ ուղղված արտադպրոցական ուսումնականհաստատությունների մանկավարժական աշխատողներիորակի բարձրացմանը | D18: ='havelvac 11'!D100 -> -2051.9
A19: 1238 | C19: Նախադպրոցական կրթություն | D19: =D20+D21 -> 177641.2
B20: 12001 | C20: Սոցիալական որոշ խմբերի 1.5-5 տարեկան երեխաների նախադպրոցական կրթության ապահովում | D20: ='havelvac 11'!D117 -> 184610.8
B21: 12002 | C21: Մասնագիտական զարգացման և վարձատրության փոխկապակցված համակարգի ներդրում՛ նախադպրոցական հաստատությունների մանկավարժներին տարակարգի շնորհման գործընթացի միջոցով | D21: ='havelvac 11'!D128 -> -6969.6

Sheet havelvac 10
B1: Հավելված N 10
B2: ՀՀ կառավարության 2024 թվականի
B3: ______________ ի ___Ն որոշման
A5: ՀԱՅԱՍՏԱՆԻ ՀԱՆՐԱՊԵՏՈՒԹՅԱՆ ԿԱՌԱՎԱՐՈՒԹՅԱՆ 2023 ԹՎԱԿԱՆԻ ԴԵԿՏԵՄԲԵՐԻ 28-Ի N 2323-Ն ՈՐՈՇՄԱՆ N 9 ՀԱՎԵԼՎԱԾԻ NN 9.13 ԱՂՅՈՒՍԱԿՆԵՐՈՒՄ ԿԱՏԱՐՎՈՂ ՓՈՓՈԽՈՒԹՅՈՒՆՆԵՐԸ
A6: ՀՀ կրթության, գիտության, մշակույթի և սպորտի նախարարություն
A7: ՄԱՍ 2. ՊԵՏԱԿԱՆ ՄԱՐՄՆԻ ԳԾՈՎ ԱՐԴՅՈՒՆՔԱՅԻՆ (ԿԱՏԱՐՈՂԱԿԱՆ) ՑՈՒՑԱՆԻՇՆԵՐԸ
A9: Ծրագրի դասիչը | B9: Ծրագրի անվանումը
A10: 1045 | B10: Նախնական (արհեստագործական) և միջին մասնագիտական կրթություն
A12: Ծրագրի միջոցառումները
A14: Ծրագրի դասիչը` | B14: 1045 | C14: Ցուցանիշների փոփոխություն (նվազեցումները նշված են փակագծերում)
A15: Միջոցառման դասիչը` | B15: 12003 | C15: Տարի
A16: Միջոցառման անվանումը` | B16: Նախնական մասնագիտական (արհեստագործական) կրթության գծով ուսանողական նպաստների տրամադրում
A17: Նկարագրությունը` | B17: Նախնական մասնագիտական (արհեստագործական) կրթության գծով ուսանողական նպաստների տրամադրում
A18: Միջոցառման տեսակը` | B18: Տրանսֆերտների տրամադրում
A19: Շահառուների ընտրության չափորոշիչները` | B19: Նախնական մասնագիտական (արհեստագործական) կրթություն ստացող ուսանողներ
A20: Արդյունքի չափորոշիչներ
A21: Ուսանողական նպաստ ստացող ուսանողների թիվը, մարդ | C21: -771
A22: Միջոցառման վրա կատարվող ծախսը (հազար դրամ) | C22: -256380.5
A24: Ծրագրի դասիչը` | B24: 1045 | C24: Ցուցանիշների փոփոխություն (նվազեցումները նշված են փակագծերում)
A25: Միջոցառման դասիչը` | B25: 12004 | C25: Տարի
A26: Միջոցառման անվանումը` | B26: Միջին մասնագիտական կրթության գծով ուսանողական նպաստների տրամադրում
A27: Նկարագրությունը` | B27: Միջին մասնագիտական կրթության գծով ուսանողական նպաստների տրամադրում
A28: Միջոցառման տեսակը` | B28: Տրանսֆերտների տրամադրում
A29: Շահառուների ընտրության չափորոշիչները` | B29: Միջին մասնագիտական կրթություն ստացող ուսանողներ
A30: Արդյունքի չափորոշիչներ
A31: Ուսանողական նպաստ ստացող ուսանողների թիվը, մարդ | C31: -129
A32: Միջոցառման վրա կատարվող ծախսը (հազար դրամ) | C32: -48000 | E32: =C32+C22 -> -304380.5
A34: Ծրագրի դասիչը | B34: Ծրագրի անվանումը
A35: 1111 | B35: Բարձրագույն և հետբուհական մասնագիտական կրթության ծրագիր
A37: Ծրագրի միջոցառումները
A39: Ծրագրի դասիչը` | B39: 1111 | C39: Ցուցանիշների փոփոխությունը (նվազեցումները նշված են փակագծերում)
A40: Միջոցառման դասիչը` | B40: 12001 | C40: Տարի
A41: Միջոցառման անվանումը` | B41: Բարձրագույն մասնագիտական կրթություն ստացող ուսանողների կրթաթոշակ
A42: Նկարագրությունը` | B42: Բարձրագույն մասնագիտական կրթություն ստացող ուսանողների կրթաթոշակ
A43: Միջոցառման տեսակը` | B43: Տրանսֆերտների տրամադրում
A44: Շահառուների ընտրության չափորոշիչները՛ | B44: Բարձրագույն մասնագիտական կրթություն ստացող ուսանողներ
A45: Արդյունքի չափորոշիչներ
A46: Կրթաթոշակ ստացող ուսանողների միջին տարեկան թիվ, մարդ | C46: ='havelvac 11'!D168 -> -2564
A47: Միջոցառման վրա կատարվող ծախսը (հազար դրամ) | C47: ='havelvac 11'!D169 -> -200000
A49: Ծրագրի դասիչը` | B49: 1111 | C49: Ցուցանիշների փոփոխությունը (նվազեցումները նշված են փակագծերում)
A50: Միջոցառման դասիչը` | B50: 12002 | C50: Տարի
A51: Միջոցառման անվանումը` | B51: Հետբուհական մասնագիտական կրթություն ստացող ուսանողների կրթաթոշակ բուհական հաստատություններում
A52: Նկարագրությունը` | B52: Հետբուհական մասնագիտական կրթության գծով կրթաթոշակի տրամադրում
A53: Միջոցառման տեսակը` | B53: Տրանսֆերտների տրամադրում
A54: Շահառուների ընտրության չափորոշիչները՛ | B54: Հետբուհական մասնագիտական կրթություն ստացող ուսանողներ
A55: Արդյունքի չափորոշիչներ
A56: Կրթաթոշակ ստացող ուսանողների միջին տարեկան թիվ, մարդ | C56: ='havelvac 11'!D178 -> -197
A57: Միջոցառման վրա կատարվող ծախսը (հազար դրամ) | C57: ='havelvac 11'!D179 -> -150000
A59: Ծրագրի դասիչը` | B59: 1111 | C59: Ցուցանիշների փոփոխությունը (նվազեցումները նշված են փակագծերում)
A60: Միջոցառման դասիչը` | B60: 12003 | C60: Տարի
A61: Միջոցառման անվանումը` | B61: Ասպիրանտական կրթաթոշակներ գիտական հաստատություններում սովորողներին
A62: Նկարագրությունը` | B62: Կրթաթոշակներ գիտական հաստատություններում ասպիրանտական կրթության մեջ գտնվող անձանց
A63: Միջոցառման տեսակը` | B63: Տրանսֆերտների տրամադրում
A64: Շահառուների ընտրության չափորոշիչները՛ | B64: ՀՀ կառավարության 29.11.2007թ. թիվ 1403-Ն որոշում
A65: Արդյունքի չափորոշիչներ
A66: Կրթաթոշակ ստացող ուսանողների թիվ, մարդ | C66: ='havelvac 11'!D188 -> -49
A67: Միջոցառման վրա կատարվող ծախսը (հազար դրամ) | C67: ='havelvac 11'!D189 -> -35342
A69: Ծրագրի դասիչը` | B69: 1111 | C69: Ցուցանիշների փոփոխությունը (նվազեցումները նշված են փակագծերում)
A70: Միջոցառման դասիչը` | B70: 12004 | C70: Տարի
A71: Միջոցառման անվանումը` | B71: Բարձրագույն մասնագիտական կրթության գծով ուսանողական նպաստների տրամադրում
A72: Նկարագրությունը` | B72: Բարձրագույն մասնագիտական կրթություն ստացող ուսանողների նպաստներ
A73: Միջոցառման տեսակը` | B73: Տրանսֆերտների տրամադրում
A74: Շահառուների ընտրության չափորոշիչները՛ | B74: Բարձրագույն մասնագիտական կրթություն ստացող ուսանողներ
A75: Արդյունքի չափորոշիչներ
A76: Նպաստներ ստացող ուսանողների թիվ, մարդ
A77: Ուսման վարձավճարի լրիվ փոխհատուցմամբ սովորող ուսանողների թիվ, մարդ | C77: ='havelvac 11'!D199 -> -563
A78: Միջոցառման վրա կատարվող ծախսը (հազար դրամ) | C78: ='havelvac 11'!D200 -> -600419
A80: Ծրագրի դասիչը` | B80: 1111 | C80: Ցուցանիշների փոփոխությունը (նվազեցումները նշված են փակագծերում)
A81: Միջոցառման դասիչը` | B81: 12005 | C81: Տարի
A82: Միջոցառման անվանումը` | B82: Հետբուհական մասնագիտական կրթության գծով նպաստների տրամադրում բուհական հաստատություններում
A83: Նկարագրությունը` | B83: Հետբուհական մասնագիտական կրթության գծով նպաստների տրամադրում
A84: Միջոցառման տեսակը` | B84: Տրանսֆերտների տրամադրում
A85: Շահառուների ընտրության չափորոշիչները՛ | B85: Հետբուհական մասնագիտական կրթություն ստացող ուսանողներ
A86: Արդյունքի չափորոշիչներ
A87: Գիտելիքների տնտեսության և գիտության զարգացման արդի պահանջներին համապատասխան բարձրագույն և հետբուհական մասնագիտական որակավորում ունեցող մասնագետների պատրաստում (մագիստրոս)
A88: Միջոցառման վրա կատարվող ծախսը (հազար դրամ) | C88: -20000
A90: Ծրագրի դասիչը` | B90: 1111 | C90: Ցուցանիշների փոփոխությունը (նվազեցումները նշված են փակագծերում)
A91: Միջոցառման դասիչը` | B91: 12006 | C91: Տարի
A92: Միջոցառման անվանումը` | B92: Հետբուհական մասնագիտական կրթության գծով նպաստների տրամադրում գիտակրթական հաստատություններում
A93: Նկարագրությունը` | B93: Գիտական կադրերի պատրաստման համար նպաստների տրամադրում
A94: Միջոցառման տեսակը` | B94: Տրանսֆերտների տրամադրում
A95: Շահառուների ընտրության չափորոշիչները՛ | B95: ՀՀ կառավարության 29.11.2007թ. թիվ 1403-Ն որոշում
A96: Արդյունքի չափորոշիչներ
A97: Ուսանողների միջին հաշվարկային թիվ, մարդ
A98: Միջոցառման վրա կատարվող ծախսը (հազար դրամ) | C98: -17000
A100: Ծրագրի դասիչը | B100: Ծրագրի անվանումը
A101: 1146 | B101: Հանրակրթության ծրագիր
A103: Ծրագրի միջոցառումները
A105: Ծրագրի դասիչը` | B105: 1146 | C105: Ցուցանիշների փոփոխությունը (ավելացումները նշված են դրական նշանով)
A106: Միջոցառման դասիչը` | B106: 11001 | C106: Տարի
A107: Միջոցառման անվանումը` | B107: Տարրական ընդհանուր հանրակրթություն
A108: Նկարագրությունը` | B108: Պարտադիր կրթության առաջին մակարդակում սովորողների ընդգրկվածության, գրագիտության և համակողմանի զարգացման բարձր մակարդակի ապահովում
A109: Միջոցառման տեսակը` | B109: Ծառայությունների մատուցում
A110: Ծառայությունը մատուցող կազմակերպության(ների) անվանում(ներ)ը՛ | B110: ՀՀ կրթության, գիտության,մշակույթի և սպորտի նախարարության, ՀՀ մարզպետարանների, Երևանի քաղաքապետարանի ենթակայության ուսումնական հաստատություններ
A111: Արդյունքի չափորոշիչներ
A112: Տարրական ընդհանուր կրթության դասարանների թիվը | C112: ='havelvac 11'!D26+'havelvac 11'!D234+'havelvac 11'!D549+'havelvac 11'!D691+'havelvac 11'!D862+'havelvac 11'!D1022+'havelvac 11'!D1181+'havelvac 11'!D1352+'havelvac 11'!D1515+'havelvac 11'!D1718+'havelvac 11'!D1900+'havelvac 11'!D2053 -> 229
A113: Տարրական ընդհանուր կրթության դասարանների սովորողների թիվը /մարդ /, որից՛ | C113: ='havelvac 11'!D27+'havelvac 11'!D235+'havelvac 11'!D550+'havelvac 11'!D692+'havelvac 11'!D863+'havelvac 11'!D1023+'havelvac 11'!D1182+'havelvac 11'!D1353+'havelvac 11'!D1516+'havelvac 11'!D1719+'havelvac 11'!D1901+'havelvac 11'!D2054 -> 1370
A114: տղա | C114: ='havelvac 11'!D28+'havelvac 11'!D236+'havelvac 11'!D551+'havelvac 11'!D693+'havelvac 11'!D864+'havelvac 11'!D1024+'havelvac 11'!D1183+'havelvac 11'!D1354+'havelvac 11'!D1517+'havelvac 11'!D1720+'havelvac 11'!D1902+'havelvac 11'!D2055 -> 943
A115: աղջիկ | C115: ='havelvac 11'!D29+'havelvac 11'!D237+'havelvac 11'!D552+'havelvac 11'!D694+'havelvac 11'!D865+'havelvac 11'!D1025+'havelvac 11'!D1184+'havelvac 11'!D1355+'havelvac 11'!D1518+'havelvac 11'!D1721+'havelvac 11'!D1903+'havelvac 11'!D2056 -> 625
A116: Սնունդ ստացող երեխաների թիվը /մարդ / | C116: ='havelvac 11'!D30+'havelvac 11'!D238+'havelvac 11'!D553+'havelvac 11'!D695+'havelvac 11'!D866+'havelvac 11'!D1026+'havelvac 11'!D1185+'havelvac 11'!D1356+'havelvac 11'!D1519+'havelvac 11'!D1722+'havelvac 11'!D1904+'havelvac 11'!D2057 -> 1568
...

Sheet havelvac 11
A2: Հավելված N 11
C3: ՀՀ կառավարության 2024 թվականի
A4: ______________ ի ___Ն որոշման
B6: ՀԱՅԱՍՏԱՆԻ ՀԱՆՐԱՊԵՏՈՒԹՅԱՆ ԿԱՌԱՎԱՐՈՒԹՅԱՆ 2023 ԹՎԱԿԱՆԻ ԴԵԿՏԵՄԲԵՐԻ 28-Ի N 2323-Ն ՈՐՈՇՄԱՆ N 9.1 NN 9.1.7, 9.1.13, 9.1.48, 9.1.49, 9.1.50, 9.1.51, 9.1.52, 9.1.53, 9.1.54, 9.1.55, 9.1.56 ԵՎ 9.1.57 ԱՂՅՈՒՍԱԿՆԵՐՈՒՄ ԿԱՏԱՐՎՈՂ ՓՈՓՈԽՈՒԹՅՈՒՆՆԵՐԸ
B9: ՄԱՍ 1. ՊԵՏԱԿԱՆ ՄԱՐՄՆԻ ԳԾՈՎ ԱՐԴՅՈՒՆՔԱՅԻՆ (ԿԱՏԱՐՈՂԱԿԱՆ) ՑՈՒՑԱՆԻՇՆԵՐԸ
D11: Աղյուսակ 9.1.7
B12: ՀՀ տարածքային կառավարման և ենթակառուցվածքների նախարարություն
B14: Ծրագրի դասիչը | C14: Ծրագրի անվանումը
B15: 1146 | C15: Հանրակրթության ծրագիր
B17: Ծրագրի միջոցառումները
B19: Ծրագրի դասիչը` | C19: 1146 | D19: Ցուցանիշների փոփոխությունը (ավելացումները նշված են դրական նշանով)
B20: Միջոցառման դասիչը` | C20: 11001 | D20: Տարի
B21: Միջոցառման անվանումը` | C21: Տարրական ընդհանուր հանրակրթություն
B22: Նկարագրությունը` | C22: Պարտադիր կրթության առաջին մակարդակում սովորողների ընդգրկվածության, գրագիտության և համակողմանի զարգացման բարձր մակարդակի ապահովում
B23: Միջոցառման տեսակը` | C23: Ծառայությունների մատուցում
B24: Ծառայությունը մատուցող կազմակերպության(ների) անվանում(ներ)ը՛ | C24: Երևանի քաղաքապետարանի ենթակայության հանրակրթական դպրոցներ
B25: Արդյունքի չափորոշիչներ
B26: Տարրական ընդհանուր կրթության դասարանների թիվը | D26: 25
B27: Տարրական ընդհանուր կրթության դասարանների սովորողների միջին տարեկան թիվը /մարդ /, որից՛ | D27: 413
B28: տղա | D28: 248
B29: աղջիկ | D29: 165
B30: Սնունդ ստացող երեխաների թիվը /մարդ /
B31: Գիտելիքների ստուգման արդյունքում սովորողների միջին գնահատականը
B32: Միջոցառման վրա կատարվող ծախսը (հազար դրամ) | D32: 575155.2
B34: Ծրագրի դասիչը` | C34: 1146 | D34: Ցուցանիշների փոփոխությունը (ավելացումները նշված են դրական նշանով)
B35: Միջոցառման դասիչը` | C35: 11002 | D35: Տարի
B36: Միջոցառման անվանումը` | C36: Հիմնական ընդհանուր հանրակրթություն
B37: Նկարագրությունը` | C37: Պարտադիր կրթության երկրորդ մակարդակում սովորողների ընդգրկվածության, գրագիտության և համակողմանի զարգացման բարձր մակարդակի ապահովում
B38: Միջոցառման տեսակը` | C38: Ծառայությունների մատուցում
B39: Ծառայությունը մատուցող կազմակերպության(ների) անվանում(ներ)ը՛ | C39: Երևանի քաղաքապետարանի ենթակայության հանրակրթական ուսումնական հաստատություններ
B40: Արդյունքի չափորոշիչներ
B41: Հիմնական ընդհանուր կրթության դասարանների թիվը | D41: 54
B42: Հիմնական ընդհանուր կրթության դասարանների սովորողների միջին տարեկան թիվը /մարդ /, որից | D42: 4637
B43: տղա | D43: 2782
B44: աղջիկ | D44: 1855
B45: Գիտելիքների ստուգման արդյունքում սովորողների միջին գնահատականը
B46: Միջոցառման վրա կատարվող ծախսը (հազար դրամ) | D46: 705872.3
B48: Ծրագրի դասիչը` | C48: 1146 | D48: Ցուցանիշների փոփոխությունը (ավելացումները նշված են դրական նշանով)
B49: Միջոցառման դասիչը` | C49: 11003 | D49: Տարի
B50: Միջոցառման անվանումը` | C50: Միջնակարգ ընդհանուր հանրակրթություն
B51: Նկարագրությունը` | C51: Պարտադիր կրթության երրորդ մակարդակում սովորողների ընդգրկվածության, գրագիտության և համակողմանի զարգացման բարձր մակարդակի ապահովում
B52: Միջոցառման տեսակը` | C52: Ծառայությունների մատուցում
B53: Ծառայությունը մատուցող կազմակերպության(ների) անվանում(ներ)ը՛ | C53: Երևանի քաղաքապետարանի ենթակայության հանրակրթական ուսումնական հաստատություններ
B54: Արդյունքի չափորոշիչներ
B55: Միջնակարգ ընդհանուր կրթության դասարանների թիվը | D55: 2
B56: Միջնակարգ ընդհանուր կրթության դասարանների սովորողների միջին տարեկան թիվը /մարդ /, որից | D56: 179
B57: տղա | D57: 108
B58: աղջիկ | D58: 71
B59: Գիտելիքների ստուգման արդյունքում սովորողների միջին գնահատականը
B60: Միջոցառման վրա կատարվող ծախսը (հազար դրամ) | D60: 25911.9
B62: Ծրագրի դասիչը` | C62: 1146 | D62: Ցուցանիշների փոփոխությունը (նվազեցումները նշված են փակագծերում)
B63: Միջոցառման դասիչը` | C63: 12004 | D63: Տարի
B64: Միջոցառման անվանումը` | C64: Ատեստավորման միջոցով տարակարգի որակավորում ստացած ուսուցիչներին համապատասխան հավելավճարի տրամադրման ապահովում
B65: Նկարագրությունը` | C65: Տարակարգ ստացած ուսուցիչներին համաապատասխան հավելավճարի տրամադրման ապահովում
B66: Միջոցառման տեսակը` | C66: Տրանսֆերտների տրամադրում
B67: Շահառուների ընտրության չափորոշիչները՛ | C67: Ատեստավորման արդյունքում որակավորում ստացած ուսուցիչներ
B68: Արդյունքի չափորոշիչներ
B69: Որակավորման տարակարգ ստացած ուսուցիչների թիվը /մարդ/, որից՛ | D69: -123
B70: տղամարդ | D70: -11
B71: կին | D71: -112
B72: Միջոցառման վրա կատարվող ծախսը (հազար դրամ) | D72: -7244.4
B74: Ծրագրի դասիչը` | C74: 1146 | D74: Ցուցանիշների փոփոխությունը (ավելացումները նշված են դրական նշանով, իսկ նվազեցումները՝ փակագծերում)
B75: Միջոցառման դասիչը` | C75: 12015 | D75: Տարի
B76: Միջոցառման անվանումը` | C76: ՀՀ պետական հանրակրթական բոլոր ուսումնական հաստատություններում ԲՏՃՄ ոլորտի (բացառությամբ մաթեմատիկայի) դասավանդող ուսուցիչների համար վարձատրության բարձրացված հստակ չափաքանակի սահմանում
B77: Նկարագրությունը` | C77: ՀՀ պետական հանրակրթական բոլոր ուսումնական հաստատություններում ԲՏՃՄ ոլորտի (բացառությամբ մաթեմատիկայի) դասավանդող ուսուցիչներին հավելավճարի տրամադրում
B78: Միջոցառման տեսակը` | C78: Տրանսֆերտների տրամադրում
B79: Շահառուների ընտրության չափորոշիչները՛ | C79: ԲՏՃՄ ոլորտի (բացառությամբ մաթեմատիկական առարկաների) դասավանդող ուսուցիչներ (ՀՀ ԿԳՄՍ նախարարի 16.08.2023թ. N108-Ն հրաման)
B80: Արդյունքի չափորոշիչներ
B81: ՀՀ բոլոր ուսումնական հաստատություններում ԲՏՃՄ առարկաներ դասավանդող ուսուցիչների թիվը | D81: 424
B82: Հավելավճարի տոկոսը | D82: 0
B83: Միջոցառման վրա կատարվող ծախսը (հազար դրամ) | D83: -103889.2
B85: Ծրագրի դասիչը | C85: Ծրագրի անվանումը
B86: 1148 | C86: Արտադպրոցական դաստիարակության ծրագիր
B88: Ծրագրի միջոցառումները
B90: Ծրագրի դասիչը` | C90: 1148 | D90: Ցուցանիշների փոփոխությունը (ավելացումները նշված են դրական նշանով, իսկ նվազեցումները՝ փակագծերում)
B91: Միջոցառման դասիչը` | C91: 12002 | D91: Տարի
B92: Միջոցառման անվանումը` | C92: Կամավոր ատեստավորման նոր համակարգի ներդրում՛ուղղված արտադպրոցական ուսումնականհաստատությունների մանկավարժական աշխատողներիորակի բարձրացմանը
B93: Նկարագրությունը` | C93: Արտադպրոցական հաստատություններում դասավանդողմանկավարժական աշխատողների կամավոր ատեստավորման համակարգի մշակում և ներդրում
B94: Միջոցառման տեսակը` | C94: Տրանսֆերտների տրամադրում
B95: Շահառուների ընտրության չափորոշիչները° | C95: Շահառուների ընտրության չափորոշիչները սահմանվածեն ԿԳՄՍ նախարարի հրամանով
B96: Արդյունքի չափորոշիչներ
B97: Կամավոր ատեստավորման արդյունքում ընթացիկ տարում ատեստավորված մանկավարժներիթիվը, մարդ
B98: Կամավոր ատեստավորման արդյունքում հավելավճար ստացած արտադպրոցական ուսումնականհաստատությունների մանկավարժական աշխատողների ընդհանուր թվաքանակը | D98: 3
B99: Կամավոր ատեստավորման արդյունքում ընթացիկ տարում հավելավճար ստացած մանկավարժների թիվը, մարդ | D99: 2
B100: Միջոցառման վրա կատարվող ծախսը (հազար դրամ) | D100: -2051.9
B102: Ծրագրի դասիչը | C102: Ծրագրի անվանումը
B103: 1238 | C103: Նախադպրոցական կրթություն
B105: Ծրագրի միջոցառումները
B107: Ծրագրի դասիչը` | C107: 1238 | D107: Ցուցանիշների փոփոխությունը (ավելացումները նշված են դրական նշանով, իսկ նվազեցումները՝ փակագծերում)
B108: Միջոցառման դասիչը` | C108: 12001 | D108: Տարի
B109: Միջոցառման անվանումը` | C109: Սոցիալական որոշ խմբերի 1.5-5 տարեկան երեխաների նախադպրոցական կրթության ապահովում
B110: Նկարագրությունը` | C110: Նախադպրոցական ծառայություններում երեխաների ընդգրկվածության մեծացման և մատչելիության ապահովման նպատակով՛ պետական բյուջեից ֆինանսական միջոցների հատկացում սոցիալական որոշ խմբերի երեխաներ համար
B111: Միջոցառման տեսակը` | C111: Տրանսֆերտների տրամադրում
B112: Շահառուների ընտրության չափորոշիչները՛ | C112: ՀՀ կառավարության 15.07.2021թ. թիվ 1169-Ն որոշում
B113: Արդյունքի չափորոշիչներ
B114: Պետական բյուջեից փոխհատուցում ստացող կրթության և զարգացման առանձնահատուկ պայմանների կարիք ունեցող երեխաների թիվ, մարդ | D114: 586
B115: Անապահովության սահմանային միավորից 28-ից բարձր անապահովության միավոր ունեցող ընտանիքի անդամ հանդիսացող երեխաների համար նախադպրոցական կրթության կազմակերպում | D115: -1194
B116: Զինծառայող ծնողի (ծնողների) երեխաների թիվ, մարդ | D116: 491
B117: Միջոցառման վրա կատարվող ծախսը (հազար դրամ) | D117: 184610.8
B119: Ծրագրի դասիչը` | C119: 1238 | D119: Ցուցանիշների փոփոխությունը (ավելացումները նշված են դրական նշանով, իսկ նվազեցումները՝ փակագծերում)
...

Sheet havelac12
B1: Հավելված N 12
B2: ՀՀ կառավարության 2024 թվականի
B3: ______________ ի ___Ն որոշման
A6: «Հանրակրթության ծրագիր» ծրագրի շրջանակում դպրոցներին հատկացված սուբսիդիայի չօգտագործված գումարներից վերջիններիս գանձապետական հաշիվների մնացորդների հաշվին Հայաստանի Հանրապետության պետական բյուջե հետ վճարվող գումարները ըստ կատարողների
C8: հազար դրամներով
B9: Ենթակայությունը | C9: Գոմարի չափը
A10: 1 | B10: ՀՀ Արագածոտնի մարզպետի աշխատակազմ | C10: 317929.05
A11: 2 | B11: ՀՀ Արարատի մարզպետի աշխատակազմ | C11: 542839.8
A12: 3 | B12: ՀՀ Արմավիրի մարզպետի աշխատակազմ | C12: 799000
A13: 4 | B13: ՀՀ Գեղարքունիքի մարզպետի աշխատակազմ | C13: 216596.3
A14: 5 | B14: ՀՀ Լոռու մարզպետի աշխատակազմ | C14: 506715
A15: 6 | B15: ՀՀ Կոտայքի մարզպետի աշխատակազմ | C15: 146769
A16: 7 | B16: ՀՀ Սյունիքի մարզպետի աշխատակազմ | C16: 321000
A17: 8 | B17: ՀՀ Վայոց ձորի մարզպետի աշխատակազմ | C17: 95400
A18: 9 | B18: ՀՀ Տավուշի մարզպետի աշխատակազմ | C18: 79113.2
A19: 10 | B19: ՀՀ տարածքային կառավարման և ենթակառուցվածքների նախարարություն | C19: 1306939.4
A20: 11 | B20: ՀՀ կրթության, գիտության, մշակույթի և սպորտի նախարարություն | C20: 850821.1
B21: ԸՆԴԱՄԵՆԸ | C21: =+SUM(C10:C20) -> 5183122.8
