Workbook
Name _tab10: #REF!
Name _tab11: #REF!
Name _tab12: #REF!
Name _tab13: #REF!
Name _tab14: #REF!
Name _tab15: #REF!
Name _tab16: #REF!
Name _tab17: #REF!
Name _tab18: #REF!
Name _tab19: #REF!
Name _tab20: #REF!
Name _tab21: #REF!
Name _tab22: #REF!
Name _tab23: #REF!
Name _tab24: #REF!
Name _tab5: #REF!
Name _tab6: #REF!
Name _tab7: #REF!
Name _tab8: #REF!
Name _tab9: #REF!
Name AgencyCode: #REF!
Name AgencyName: #REF!
Name åû: #REF!
Name davit: #REF!
Name Functional1: #REF!
Name ggg: #REF!
Name mas: #REF!
Name mass: #REF!
Name PANature: #REF!
Name par_count: #REF!,#REF!,#REF!,#REF!,#REF!,#REF!,#REF!,#REF!,#REF!,#REF!,#REF!,#REF!,#REF!,#REF!,#REF!
Name par_qual: #REF!,#REF!,#REF!,#REF!,#REF!
Name par_time: #REF!,#REF!,#REF!,#REF!
Name par2.12s: #REF!
Name par2.4s: #REF!,#REF!,#REF!,#REF!,#REF!,#REF!,#REF!,#REF!,#REF!,#REF!,#REF!,#REF!,#REF!,#REF!,#REF!,#REF!
Name par2.5s: #REF!,#REF!
Name par2.6s: #REF!,#REF!,#REF!,#REF!
Name par2.7s: #REF!,#REF!
Name par2.9s: #REF!,#REF!,#REF!,#REF!,#REF!,#REF!,#REF!,#REF!,#REF!,#REF!,#REF!,#REF!,#REF!,#REF!,#REF!,#REF!
Name par4.10s: #REF!,#REF!
Name par4.11d: #REF!,#REF!,#REF!,#REF!,#REF!
Name par4.12d: #REF!
Name par4.13s: #REF!
Name par4.14: #REF!,#REF!,#REF!,#REF!,#REF!,#REF!
Name par4.15: #REF!,#REF!,#REF!
Name par4.16: #REF!,#REF!,#REF!
Name par4.17: #REF!,#REF!,#REF!,#REF!
Name par4.18d: #REF!,#REF!
Name par4.19s: #REF!
Name par4.20f: #REF!
Name par4.21f: #REF!
Name par4.22: #REF!
Name par4.4: #REF!
Name par4.5: #REF!
Name par4.6s: #REF!
Name par4.7s: #REF!
Name par4.8: #REF!,#REF!,#REF!,#REF!,#REF!
Name par4.9: #REF!,#REF!,#REF!,#REF!,#REF!,#REF!
Name par5.1: #REF!,#REF!
Name par5.3: #REF!,#REF!,#REF!,#REF!,#REF!,#REF!
Name par5.4: #REF!,#REF!,#REF!,#REF!,#REF!

Sheet 1
A1: Հավելված N 1 ՀՀ կառավարության 2024 թվականի ------------ N ---------- որոշման
A3: «ՀԱՅԱՍՏԱՆԻ ՀԱՆՐԱՊԵՏՈՒԹՅԱՆ 2024 ԹՎԱԿԱՆԻ ՊԵՏԱԿԱՆ ԲՅՈՒՋԵԻ ՄԱՍԻՆ» ՀԱՅԱՍՏԱՆԻ ՀԱՆՐԱՊԵՏՈՒԹՅԱՆ ՕՐԵՆՔԻ N 1 ՀԱՎԵԼՎԱԾԻ N 2 ԱՂՅՈՒՍԱԿՈՒՄ ԿԱՏԱՐՎՈՂ ՎԵՐԱԲԱՇԽՈՒՄԸ ԵՎ ՀԱՅԱՍՏԱՆԻ ՀԱՆՐԱՊԵՏՈՒԹՅԱՆ ԿԱՌԱՎԱՐՈՒԹՅԱՆ 2023 ԹՎԱԿԱՆԻ ԴԵԿՏԵՄԲԵՐԻ 28-Ի N 2323-Ն ՈՐՈՇՄԱՆN 5 ՀԱՎԵԼՎԱԾԻ N 1 ԱՂՅՈՒՍԱԿՈՒՄ ԿԱՏԱՐՎՈՂ ՓՈՓՈԽՈՒԹՅՈՒՆՆԵՐԸ
A5: Ծրագրային դասիչը | C5: Բյուջետային գլխավոր կարգադրիչների, ծրագրերի և միջոցառումների անվանումները | D5: Ցուցանիշների փոփոխությունը (ավելացումները նշված են դրական նշանով, իսկ նվազեցումները փակագծերում)
A6: Ծրագիր | B6: Միջոցառում | D6: Տարի
C7: ԸՆԴԱՄԵՆԸ ԾԱԽՍԵՐ | D7: =D8+D34 -> 0
C8: ՀՀ վարչապետի աշխատակազմ | D8: =D9 -> 0
A9: 1136 | C9: Ծրագրի անվանումը` | D9: =D16+D22+D28 -> 0
C10: ՀՀ Վարչապետի լիազորությունների իրականացման ապահովում
C11: Ծրագրի նպատակը`
C12: Աջակցել կառավարության, վարչապետի և փոխվարչապետերի գործունեությանը
C13: Վերջնական արդյունքի նկարագրությունը`
C14: ՀՀ կառավարության և վարչապետի որոշումների ու հանձնարարականների կատարման վերահսկողության ապահովում
A15: Ծրագրի միջոցառումներ
B16: 11001 | C16: Միջոցառման անվանումը` | D16: ='3'!G19 -> -4170
C17: Ծառայությունների, ծրագրերի համակարգում
C18: Միջոցառման նկարագրությունը`
C19: Աջակցություն ՀՀ կառավարությանը` քաղաքականության և ծրագրերի մշակման և իրականացման գործընթացում, վերահսկողության կատարման գործընթացում
C20: Միջոցառման տեսակը
C21: Ծառայությունների մատուցում
B22: 31002 | C22: Միջոցառման անվանումը` | D22: ='3'!G28 -> 1650
C23: ՀՀ վարչապետի աշխատակազմի տեխնիկական հագեցվածության բարելավում
C24: Միջոցառման նկարագրությունը`
C25: ՀՀ վարչապետի աշխատակազմի աշխատանքային պայմանների բարելավման նպատակով վարչական սարքավորումների ձեռքբերում
C26: Միջոցառման տեսակը
C27: Պետական մարմինների կողմից օգտագործվող ոչ ֆինանսական ակտիվների հետ գործառնություններ
B28: 31005 | C28: Միջոցառման անվանումը` | D28: ='3'!G37 -> 2520
C29: Պետական սեփականություն հանդիսացող կառույցում ընդհանուր նշանակության մեքենաների, սարքավորումների բարելավում
C30: Միջոցառման նկարագրությունը`
C31: Պետական սեփականություն հանդիսացող կառույցում ընդհանուր նշանակության մեքենաների և սարքավորումների ձեռքբերում, փոխարինում
C32: Միջոցառման տեսակը
C33: Պետական մարմինների կողմից օգտագործվող ոչ ֆինանսական ակտիվների հետ գործառնություններ
C34: ՀՀ կառավարություն | D34: =D35 -> 0
A35: 1139 | C35: Ծրագրի անվանումը` | D35: =D42+D48 -> 0
C36: ՀՀ կառավարության պահուստային ֆոնդ
C37: Ծրագրի նպատակը`
C38: Պետական բյուջեում չկանխատեսված, ինչպես նաեւ բյուջետային երաշխիքների ապահովման ծախսերի ֆինանսավորման ապահովում_x000D_
C39: Վերջնական արդյունքի նկարագրությունը`
C40: Պահուստային ֆոնդի կառավարման արդյունավետության և թափանցիկության ապահովում_x000D_
A41: Ծրագրի միջոցառումներ
B42: 11001 | C42: Միջոցառման անվանումը` | D42: ='3'!G57 -> 4170
...

Sheet 2
A1: Հավելված 2
A2: ՀՀ կառավարության 2024 թվականի
A3: ------------ N ---------- որոշման
A5: «ՀԱՅԱՍՏԱՆԻ ՀԱՆՐԱՊԵՏՈՒԹՅԱՆ 2024 ԹՎԱԿԱՆԻ ՊԵՏԱԿԱՆ ԲՅՈՒՋԵԻ ՄԱՍԻՆ» ՀԱՅԱՍՏԱՆԻ ՀԱՆՐԱՊԵՏՈՒԹՅԱՆ ՕՐԵՆՔԻ N 1 ՀԱՎԵԼՎԱԾԻ N 3 ԱՂՅՈՒՍԱԿՈՒՄ ԿԱՏԱՐՎՈՂ ՓՈՓՈԽՈՒԹՅՈՒՆՆԵՐԸ
G6: հազար դրամներով
A7: Ծրագրային դասիչ | C7: Բյուջետային գլխավոր կարգադրիչների, ծրագրերի, միջոցառումների և ուղղությունների անվանումները | D7: Ընդամենը | E7: Ցուցանիշների փոփոխությունը (ավելացումները նշված են դրական նշանով)
E8: այդ թվում՝
A9: Ծրագիր | B9: Միջոցառում | E9: Կառուցման աշխատանքներ | F9: Վերակառուցման, վերանորոգման և վերականգնման աշխատանքներ | G9: Նախագծահե տազոտական, գեոդեզիա- քարտեզագրա կան աշխա տանքներ | H9: Ոչ ֆինանսական այլ ակտիվների ձեռքբերում
C10: ԸՆԴԱՄԵՆԸ | D10: =D12+D17+D21+D30+D34+D38+D42+D47+D51+D58+D64+D69+D76+D80+D89+D147+D187+D193+D197+D212+D216+D232+D236+D240+D244+D248+D259+D273+D281+D308+D312+D316+D321+D331+D335+D339+D343+D347+D351+D355+D359+D363+D367+D371 -> 4170 | E10: =E12+E17+E21+E30+E34+E38+E42+E47+E51+E58+E64+E69+E76+E80+E89+E147+E187+E193+E197+E212+E216+E232+E236+E240+E244+E248+E259+E273+E281+E308+E312+E316+E321+E331+E335+E339+E343+E347+E351+E355+E359+E363+E367+E371 -> 0 | F10: =F12+F17+F21+F30+F34+F38+F42+F47+F51+F58+F64+F69+F76+F80+F89+F147+F187+F193+F197+F212+F216+F232+F236+F240+F244+F248+F259+F273+F281+F308+F312+F316+F321+F331+F335+F339+F343+F347+F351+F355+F359+F363+F367+F371 -> 0 | G10: =G12+G17+G21+G30+G34+G38+G42+G47+G51+G58+G64+G69+G76+G80+G89+G147+G187+G193+G197+G212+G216+G232+G236+G240+G244+G248+G259+G273+G281+G308+G312+G316+G321+G331+G335+G339+G343+G347+G351+G355+G359+G363+G367+G371 -> 0 | H10: =H12+H17+H21+H30+H34+H38+H42+H47+H51+H58+H64+H69+H76+H80+H89+H147+H187+H193+H197+H212+H216+H232+H236+H240+H244+H248+H259+H273+H281+H308+H312+H316+H321+H331+H335+H339+H343+H347+H351+H355+H359+H363+H367+H371 -> 4170
C11: այդ թվում՝
C12: ՀՀ ՎԱՐՉԱՊԵՏԻ ԱՇԽԱՏԱԿԱԶՄ | D12: =D14+D15 -> 4170 | E12: =E14+E15 -> 0 | F12: =F14+F15 -> 0 | G12: =G14+G15 -> 0 | H12: =H14+H15 -> 4170
C13: այդ թվում`
A14: ='1'!A9 -> 1136 | B14: ='1'!B22 -> 31002 | C14: ='1'!C23 -> ՀՀ վարչապետի աշխատակազմի տեխնիկական հագեցվածության բարելավում | D14: =H14 -> 1650 | E14: 0 | F14: 0 | G14: 0 | H14: ='1'!D22 -> 1650
A15: ='1'!A9 -> 1136 | B15: ='1'!B28 -> 31005 | C15: ='1'!C29 -> Պետական սեփականություն հանդիսացող կառույցում ընդհանուր նշանակության մեքենաների, սարքավորումների բարելավում | D15: =H15 -> 2520 | E15: 0 | F15: 0 | G15: 0 | H15: ='1'!D28 -> 2520

Sheet 3
A1: Հավելված N 3 ՀՀ կառավարության 2024 թվականի ------------ N ---------- որոշման
A3: ՀԱՅԱՍՏԱՆԻ ՀԱՆՐԱՊԵՏՈՒԹՅԱՆ ԿԱՌԱՎԱՐՈՒԹՅԱՆ 2023 ԹՎԱԿԱՆԻ ԴԵԿՏԵՄԲԵՐԻ 28-Ի N 2323-Ն ՈՐՈՇՄԱՆ N 3 ԵՎ N 4 ՀԱՎԵԼՎԱԾՆԵՐՈՒՄ ԿԱՏԱՐՎՈՂ ՓՈՓՈԽՈՒԹՅՈՒՆՆԵՐԸ
A5: Գործառական դասիչը | D5: Ծրագրային դասիչը | F5: Բյուջետային ծախսերի գործառական դասակարգման բաժինների, խմբերի և դասերի, բյուջետային ծրագրերի միջոցառումների, բյուջետային հատկացումների գլխավոր կարգադրիչների անվանումները | G5: Ցուցանիշների փոփոխությունը (ավելացումները նշված են դրական նշանով, իսկ նվազեցումները փակագծերում)
A6: Բաժին | B6: Խումբ | C6: Դաս | D6: Ծրագիր | E6: Միջոցառում | G6: Տարի
F7: ԸՆԴԱՄԵՆԸ ԾԱԽՍԵՐ | G7: =(G8+G46) -> 0
F8: ՀՀ վարչապետի աշխատակազմ | G8: =G9 -> 0
A9: 01 | F9: ԸՆԴՀԱՆՈՒՐ ԲՆՈՒՅԹԻ ՀԱՆՐԱՅԻՆ ԾԱՌԱՅՈՒԹՅՈՒՆՆԵՐ | G9: =G11 -> 0
F10: այդ թվում`
B11: 01 | F11: Օրենսդիր և գործադիր մարմիններ, պետական կառավարում, ֆինանսական և հարկաբյուջետային հարաբերություններ, արտաքին հարաբերություններ | G11: =G13 -> 0
F12: այդ թվում`
C13: 01 | F13: Օրենսդիր և գործադիր մարմիններ, պետական կառավարում | G13: =G15 -> 0
F14: այդ թվում`
F15: ՀՀ վարչապետի աշխատակազմ | G15: =G17 -> 0
F16: այդ թվում`
D17: ='1'!A9 -> 1136 | F17: ='1'!C10 -> ՀՀ Վարչապետի լիազորությունների իրականացման ապահովում | G17: =G19+G28+G37 -> 0
F18: այդ թվում`
E19: ='1'!B16 -> 11001 | F19: ='1'!C17 -> Ծառայությունների, ծրագրերի համակարգում | G19: =G21 -> -4170
F20: այդ թվում` ըստ կատարողների
F21: ՀՀ վարչապետի աշխատակազմ | G21: =G23 -> -4170
F22: այդ թվում` բյուջետային ծախսերի տնտեսագիտական դասակարգման հոդվածներ
F23: ԸՆԴԱՄԵՆԸ ԾԱԽՍԵՐ | G23: =G24 -> -4170
F24: ԸՆԹԱՑԻԿ ԾԱԽՍԵՐ | G24: =G25 -> -4170
F25: ԾԱՌԱՅՈՒԹՅՈՒՆՆԵՐԻ ԵՎ ԱՊՐԱՆՔՆԵՐԻ ՁԵՌՔԲԵՐՈՒՄ | G25: =G26 -> -4170
F26: Շարունակական ծախսեր | G26: =G27 -> -4170
F27: - Կապի ծառայություններ | G27: -4170
E28: ='1'!B22 -> 31002 | F28: ='1'!C23 -> ՀՀ վարչապետի աշխատակազմի տեխնիկական հագեցվածության բարելավում | G28: =G30 -> 1650
F29: այդ թվում` ըստ կատարողների
F30: ՀՀ վարչապետի աշխատակազմ | G30: =G32 -> 1650
F31: այդ թվում` բյուջետային ծախսերի տնտեսագիտական դասակարգման հոդվածներ
F32: ԸՆԴԱՄԵՆԸ ԾԱԽՍԵՐ | G32: =G33 -> 1650
F33: ՈՉ ՖԻՆԱՆՍԱԿԱՆ ԱԿՏԻՎՆԵՐԻ ԳԾՈՎ ԾԱԽՍԵՐ | G33: =G34 -> 1650
F34: ՀԻՄՆԱԿԱՆ ՄԻՋՈՑՆԵՐ | G34: =G35 -> 1650
F35: ՄԵՔԵՆԱՆԵՐ ԵՎ ՍԱՐՔԱՎՈՐՈՒՄՆԵՐ | G35: =G36 -> 1650
F36: - Վարչական սարքավորումներ | G36: 1650
E37: ='1'!B28 -> 31005 | F37: Պետական սեփականություն հանդիսացող կառույցում ընդհանուր նշանակության մեքենաների, սարքավորումների բարելավում | G37: =G39 -> 2520
F38: այդ թվում` ըստ կատարողների
F39: ՀՀ վարչապետի աշխատակազմ | G39: =G41 -> 2520
F40: այդ թվում` բյուջետային ծախսերի տնտեսագիտական դասակարգման հոդվածներ
F41: ԸՆԴԱՄԵՆԸ ԾԱԽՍԵՐ | G41: =G42 -> 2520
F42: ՈՉ ՖԻՆԱՆՍԱԿԱՆ ԱԿՏԻՎՆԵՐԻ ԳԾՈՎ ԾԱԽՍԵՐ | G42: =G43 -> 2520
...

Sheet 4
A1: Հավելված 4
A2: ՀՀ կառավարության 2024 թվականի
A3: ------------ N ---------- որոշման
A5: ՀԱՅԱՍՏԱՆԻ ՀԱՆՐԱՊԵՏՈՒԹՅԱՆ ԿԱՌԱՎԱՐՈՒԹՅԱՆ 2023 ԹՎԱԿԱՆԻ ԴԵԿՏԵՄԲԵՐԻ 28-Ի N 2323-Ն ՈՐՈՇՄԱՆ N 5 ՀԱՎԵԼՎԱԾԻ N 2 ԱՂՅՈՒՍԱԿՈՒՄ ԿԱՏԱՐՎՈՂ ՓՈՓՈԽՈՒԹՅՈՒՆՆԵՐԸ
A8: Ծրագրային դասիչ | C8: Բյուջետային գլխավոր կարգադրիչների, ծրագրերի, միջոցառումների, միջոցառումները կատարող պետական մարմինների և ուղղությունների անվանումները | D8: Ցուցանիշների փոփոխությունը (ավելացումները նշված են դրական նշանով)
A9: Ծրագիր | B9: Միջոցառում | D9: ='[1]3'!H8 -> Տարի
C10: ԸՆԴԱՄԵՆԸ | D10: =D12 -> 4170
C11: այդ թվում՝
C12: ՀՀ ՎԱՐՉԱՊԵՏԻ ԱՇԽԱՏԱԿԱԶՄ | D12: =D14+D17 -> 4170
C13: այդ թվում`
A14: ='1'!A9 -> 1136 | B14: ='1'!B22 -> 31002 | C14: ='1'!C23 -> ՀՀ վարչապետի աշխատակազմի տեխնիկական հագեցվածության բարելավում | D14: =D16 -> 1650
C15: այդ թվում` ըստ կատարողների
C16: ՀՀ վարչապետի աշխատակազմ | D16: ='1'!D22 -> 1650
A17: ='1'!A9 -> 1136 | B17: ='1'!B28 -> 31005 | C17: ='1'!C29 -> Պետական սեփականություն հանդիսացող կառույցում ընդհանուր նշանակության մեքենաների, սարքավորումների բարելավում | D17: =D19 -> 2520
C18: այդ թվում` ըստ կատարողների
C19: ՀՀ վարչապետի աշխատակազմ | D19: ='1'!D28 -> 2520

Sheet 5
A1: Հավելված N 5 ՀՀ կառավարության 2024 թվականի ------------ N ---------- որոշման
A3: ՀԱՅԱՍՏԱՆԻ ՀԱՆՐԱՊԵՏՈՒԹՅԱՆ ԿԱՌԱՎԱՐՈՒԹՅԱՆ 2023 ԹՎԱԿԱՆԻ ԴԵԿՏԵՄԲԵՐԻ 28-Ի N 2323-Ն ՈՐՈՇՄԱՆ N 9 ՀԱՎԵԼՎԱԾԻ N 9.3 ԵՎ N 9.1 ՀԱՎԵԼՎԱԾԻ N 9.1.3 ԱՂՅՈՒՍԱԿՆԵՐՈՒՄ ԿԱՏԱՐՎՈՂ ՓՈՓՈԽՈՒԹՅՈՒՆՆԵՐԸ
A4: ՀՀ վարչապետի աշխատակազմ
A5: ՄԱՍ 1. ՊԵՏԱԿԱՆ ՄԱՐՄՆԻ ԳԾՈՎ ԱՐԴՅՈՒՆՔԱՅԻՆ (ԿԱՏԱՐՈՂԱԿԱՆ) ՑՈՒՑԱՆԻՇՆԵՐԸ
A6: ՄԱՍ 2. ՊԵՏԱԿԱՆ ՄԱՐՄՆԻ ԳԾՈՎ ԱՐԴՅՈՒՆՔԱՅԻՆ (ԿԱՏԱՐՈՂԱԿԱՆ) ՑՈՒՑԱՆԻՇՆԵՐԸ
A8: Ծրագրի դասիչը | B8: Ծրագրի անվանումը
A9: ='1'!A9 -> 1136 | B9: ='1'!C10 -> ՀՀ Վարչապետի լիազորությունների իրականացման ապահովում
A11: Ծրագրի միջոցառումները
A13: Ծրագրի դասիչը` | B13: ='1'!A9 -> 1136 | C13: Ցուցանիշների փոփոխությունները (նվազեցումները նշված են փակագծերում)
A14: Միջոցառման դասիչը` | B14: ='1'!B16 -> 11001 | C14: Տարի
A15: Միջոցառման անվանումը` | B15: ='1'!C17 -> Ծառայությունների, ծրագրերի համակարգում
A16: Նկարագրությունը` | B16: ='1'!C19 -> Աջակցություն ՀՀ կառավարությանը` քաղաքականության և ծրագրերի մշակման և իրականացման գործընթացում, վերահսկողության կատարման գործընթացում
A17: Միջոցառման տեսակը` | B17: ='1'!C21 -> Ծառայությունների մատուցում
A18: Միջոցառումն իրականացնողի անվանումը | B18: ՀՀ վարչապետի աշխատակազմ
A19: Արդյունքի չափորոշիչներ
A20: Միջոցառման վրա կատարվող ծախսը (հազար դրամ) | C20: ='3'!G19 -> -4170
A21: Ծրագրի դասիչը` | B21: ='1'!A9 -> 1136 | C21: Ցուցանիշների փոփոխությունները (ավելացումները նշված են դրական նշանով)
A22: Միջոցառման դասիչը` | B22: ='1'!B22 -> 31002 | C22: Տարի
A23: Միջոցառման անվանումը` | B23: ='1'!C23 -> ՀՀ վարչապետի աշխատակազմի տեխնիկական հագեցվածության բարելավում
A24: Նկարագրությունը` | B24: ='1'!C25 -> ՀՀ վարչապետի աշխատակազմի աշխատանքային պայմանների բարելավման նպատակով վարչական սարքավորումների ձեռքբերում
A25: Միջոցառման տեսակը` | B25: ='1'!C27 -> Պետական մարմինների կողմից օգտագործվող ոչ ֆինանսական ակտիվների հետ գործառնություններ
A26: Ակտիվն օգտագործող կազմակերպության անվանումը | B26: ՀՀ վարչապետի աշխատակազմ
A27: Արդյունքի չափորոշիչներ
A28: Միջոցառման վրա կատարվող ծախսը (հազար դրամ) | C28: ='1'!D22 -> 1650
A29: Ծրագրի դասիչը` | B29: ='1'!A9 -> 1136 | C29: Ցուցանիշների փոփոխությունները (ավելացումները նշված են դրական նշանով)
A30: Միջոցառման դասիչը` | B30: ='1'!B28 -> 31005 | C30: Տարի
A31: Միջոցառման անվանումը` | B31: ='1'!C29 -> Պետական սեփականություն հանդիսացող կառույցում ընդհանուր նշանակության մեքենաների, սարքավորումների բարելավում
A32: Նկարագրությունը` | B32: ='1'!C31 -> Պետական սեփականություն հանդիսացող կառույցում ընդհանուր նշանակության մեքենաների և սարքավորումների ձեռքբերում, փոխարինում
A33: Միջոցառման տեսակը` | B33: ='1'!C33 -> Պետական մարմինների կողմից օգտագործվող ոչ ֆինանսական ակտիվների հետ գործառնություններ
A34: Ակտիվն օգտագործող կազմակերպության անվանումը | B34: ՀՀ վարչապետի աշխատակազմ
A35: Արդյունքի չափորոշիչներ
A36: Ձեռքբերվող սարքավորումների քանակ, հատ/լրակազմ | C36: 2
A37: Միջոցառման վրա կատարվող ծախսը (հազար դրամ) | C37: ='1'!D28 -> 2520
A39: ՀԱՅԱՍՏԱՆԻ ՀԱՆՐԱՊԵՏՈՒԹՅԱՆ ԿԱՌԱՎԱՐՈՒԹՅԱՆ 2023 ԹՎԱԿԱՆԻ ԴԵԿՏԵՄԲԵՐԻ 28-Ի N 2323-Ն ՈՐՈՇՄԱՆ N 9 ՀԱՎԵԼՎԱԾԻ N 9.47 ԵՎ N 9.1 ՀԱՎԵԼՎԱԾԻ N 9.1.58 ԱՂՅՈՒՍԱԿՆԵՐՈՒՄ ԿԱՏԱՐՎՈՂ ՓՈՓՈԽՈՒԹՅՈՒՆՆԵՐԸ
A40: ՀՀ կառավարություն
A41: ՄԱՍ 1. ՊԵՏԱԿԱՆ ՄԱՐՄՆԻ ԳԾՈՎ ԱՐԴՅՈՒՆՔԱՅԻՆ (ԿԱՏԱՐՈՂԱԿԱՆ) ՑՈՒՑԱՆԻՇՆԵՐԸ
A42: ՄԱՍ 2. ՊԵՏԱԿԱՆ ՄԱՐՄՆԻ ԳԾՈՎ ԱՐԴՅՈՒՆՔԱՅԻՆ (ԿԱՏԱՐՈՂԱԿԱՆ) ՑՈՒՑԱՆԻՇՆԵՐԸ
A44: Ծրագրի դասիչը | B44: Ծրագրի անվանումը
A45: 1139 | B45: ՀՀ կառավարության պահուստային ֆոնդ
A47: Ծրագրի միջոցառումները
...

Sheet 6
A2: Հավելված N 6
A3: ՀՀ կառավարության 20 թվականի
A4: ------------ N ---------- որոշման
A6: ՀԱՅԱՍՏԱՆԻ ՀԱՆՐԱՊԵՏՈՒԹՅԱՆ ԿԱՌԱՎԱՐՈՒԹՅԱՆ 2023 ԹՎԱԿԱՆԻ ԴԵԿՏԵՄԲԵՐԻ 28-Ի N 2323-Ն ՈՐՈՇՄԱՆ N 10 ՀԱՎԵԼՎԱԾՈՒՄ ԿԱՏԱՐՎՈՂ ՓՈՓՈԽՈՒԹՅՈՒՆՆԵՐԸ ԵՎ ԼՐԱՑՈՒՄՆԵՐԸ
A8: Գնման առարկայի | G8: Ցուցանիշների փոփոխությունը (ավելացումները նշված են դրական նշանով, իսկ նվազեցումները՝ փակագծերում)
A9: կոդը | B9: անվանումը | C9: գնման ձևը | D9: չափի միավորը | F9: միավորի գինը | G9: քանակը | H9: Գումարը (հազար դրամներով)
A11: ՀՀ վարչապետի աշխատակազմ | H11: 0
A12: Բաժին N 01 | B12: Խումբ N 01 | C12: Դաս N 01 | D12: Օրենսդիր և գործադիր մարմիններ, պետական կառավարում | H12: 0
A13: 1136 11001 | B13: Ծառայությունների, ծրագրերի համակարգում | H13: -4170
A14: ՄԱՍ III. ԾԱՌԱՅՈՒԹՅՈՒՆՆԵՐ | H14: -4170
A15: 64211100-1 | B15: հանրային հեռախոսային ծառայություններ | C15: ՄԱ | D15: դրամ | H15: -4170
A16: 1136 31002 | B16: ՀՀ Վարչապետի աշխատակազմի տեխնիկական հագեցվածության բարելավում | H16: 1650
A17: ՄԱՍ I. ԱՊՐԱՆՔՆԵՐ | H17: 1650
A18: 32421300-513 | B18: Ցանցային բաժանարար | C18: ԷԱՃ | D18: հատ | F18: 1650000 | G18: 1 | H18: 1650
A19: 1136 31005 | B19: Պետական սեփականություն հանդիսացող կառույցում ընդհանուր նշանակության մեքենաների, սարքավորումների բարելավում | H19: 2520
A20: ՄԱՍ I. ԱՊՐԱՆՔՆԵՐ | H20: 2520
A21: 39715200-509 | B21: Ջեռուցման սարքեր | C21: ԷԱՃ | D21: հատ | F21: 765000 | G21: 2 | H21: 1530
A22: 42921290-501 | B22: Բարձր ճնշման տակ աշխատող մաքրման սարքեր | C22: ԷԱՃ | D22: հատ | F22: 990000 | G22: 1 | H22: 990
