Workbook
Name AgencyCode: #REF!
Name AgencyCode: #REF!
Name AgencyCode: #REF!
Name AgencyCode: #REF!
Name AgencyName: #REF!
Name AgencyName: #REF!
Name AgencyName: #REF!
Name AgencyName: #REF!
Name davit: #REF!
Name davit: #REF!
Name davit: #REF!
Name Functional1: #REF!
Name Functional1: #REF!
Name Functional1: #REF!
Name Functional1: #REF!
Name ggg: #REF!
Name ggg: #REF!
Name ggg: #REF!
Name h: #REF!
Name h: #REF!
Name PANature: #REF!
Name PANature: #REF!
Name PANature: #REF!
Name PANature: #REF!
Name PAType: #REF!
Name PAType: #REF!
Name PAType: #REF!
Name PAType: #REF!
Name Performance2: #REF!
Name Performance2: #REF!
Name Performance2: #REF!
Name Performance2: #REF!
Name PerformanceType: #REF!
Name PerformanceType: #REF!
Name PerformanceType: #REF!
Name PerformanceType: #REF!
Name Հավելված: #REF!
Name Հավելված: #REF!
Name Հավելված: #REF!
Name Մաս: #REF!
Name Մաս: #REF!
Name Մաս: #REF!
Name շախմատիստ: #REF!
Name շախմատիստ: #REF!
Name շախմատիստ: #REF!
Name շախմատիստ: #REF!

Sheet Havelvac 1
D1: Հավելված N 1
D2: ՀՀ կառավարության 2024 թվականի
D3: ______________ ի ___Ն որոշման
A5: «ՀԱՅԱUՏԱՆԻ ՀԱՆՐԱՊԵՏՈՒԹՅԱՆ 2024 ԹՎԱԿԱՆԻ ՊԵՏԱԿԱՆ ԲՅՈՒՋԵԻ ՄԱUԻՆ» ՀԱՅԱUՏԱՆԻ ՀԱՆՐԱՊԵՏՈՒԹՅԱՆ OՐԵՆՔԻ N 1 ՀԱՎԵԼՎԱԾԻ N 2 ԱՂՅՈՒՍԱԿՈՒՄ ԿԱՏԱՐՎՈՂ ՎԵՐԱԲԱՇԽՈՒՄԸ ԵՎ ՀԱՅԱՍՏԱՆԻ ՀԱՆՐԱՊԵՏՈՒԹՅԱՆ ԿԱՌԱՎԱՐՈՒԹՅԱՆ 2024ԹՎԱԿԱՆԻ ԴԵԿՏԵՄԲԵՐԻ 28-Ի N 2323-Ն ՈՐՈՇՄԱՆ N 5 ՀԱՎԵԼՎԱԾԻ N 1 ԱՂՅՈՒՍԱԿՈՒՄ ԿԱՏԱՐՎՈՂ ՓՈՓՈԽՈՒԹՅՈՒՆՆԵՐԸ
D6: հազ. դրամներով
A7: Ծրագրային դասիչը | C7: Բյուջետային հատկացումների գլխավոր կարգադրիչների, ծրագրերի և միջոցառումների անվանումները | D7: Ցուցանիշների փոփոխությունը (ավելացումները նշված են դրական նշանով, իսկ նվազեցումները՝ փակագծերում)
A8: Ծրագիր | B8: Միջոցառում | D8: Տարի
C9: ԸՆԴԱՄԵՆԸ | D9: =D11 -> 0
C10: այդ թվում
C11: ՀՀ ԿՐԹՈՒԹՅԱՆ, ԳԻՏՈՒԹՅԱՆ, ՄՇԱԿՈՒՅԹԻ ԵՎ ՍՊՈՐՏԻ ՆԱԽԱՐԱՐՈՒԹՅՈՒՆ | D11: =D12+D43+D68+D80+D92 -> 0
A12: 1041 | C12: Ծրագրի անվանումը` | D12: =D19+D25+D31+D37 -> 383670
C13: Մեծ նվաճումների սպորտ
C14: Ծրագրի նպատակը`
C15: Նպաստել Հայաստանում մեծ սպորտի շարունակական զարգացմանը և միջազգային հարթակներում ՀՀ դիրքի բարելավմանը
C16: Վերջնական արդյունքի նկարագրությունը`
C17: ՀՀ առաջնությունների ընդլայնում, միջազգային սպորտային միջոցառումներին մասնակցության և նվաճումների ապահովում
C18: Ծրագրի միջոցառումներ
B19: 12001 | C19: Միջոցառման անվանումը` | D19: 411270
C20: Միջազգային մարզական միջոցառումների հաղթողներին և մրցանակակիրներին դրամական մրցանակների հանձնում
C21: Միջոցառման նկարագրությունը`
C22: Միջազգային մարզական միջոցառումների հաղթողներին և մրցանակակիրներին դրամական մրցանակների հանձնում
C23: Միջոցառման տեսակը
C24: Տրանսֆերտների տրամադրում
B25: 11001 | C25: Միջոցառման անվանումը` | D25: -8000
C26: ՀՀ առաջնություններին և միջազգային միջոցառումներին մասնակցության ապահովման համար մարզիկների նախապատրաստում և առաջնությունների անցկացում
C27: Միջոցառման նկարագրությունը`
C28: Մարզաձևերի ազգային ֆեդերացիաների կողմից մարզիկների պատրաստում և տարբեր մարզաձևերի ՀՀ առաջնությունների և միջազգային մրցաշարերի անցկացում, ուսումնամարզական հավաքների կազմակերպում և միջազգային միջոցառումներին մասնակցություն
C29: Միջոցառման տեսակը
C30: Ծառայությունների մատուցում
B31: 11010 | C31: Միջոցառման անվանումը` | D31: -10000
C32: Ամառային օլիմպիական խաղերին Հայաստանի մարզական պատվիրակության մասնակցության ապահովում
C33: Միջոցառման նկարագրությունը`
C34: Ամառային օլիմպիական խաղերին Հայաստանի մարզական պատվիրակության մասնակցության ապահովում
C35: Միջոցառման տեսակը
C36: Ծառայությունների մատուցում
B37: 12002 | C37: Միջոցառման անվանումը` | D37: -9600
C38: ՀՀ հավաքական թիմերի գլխավոր և ավագ մարզիչների վարձատրություն և աշխարհի չեմպիոններին, օլիմպիական խաղերի և շախմատի համաշխարհային օլիմպիադայի մրցանակակիրներին պատվովճարի հատկացում
C39: Միջոցառման նկարագրությունը`
C40: ՀՀ հավաքական թիմերի գլխավոր և ավագ մարզիչների վարձատրություն և աշխարհի չեմպիոններին, օլիմպիական խաղերի և շախմատի համաշխարհային օլիմպիադայի մրցանակակիրներին պատվովճարի հատկացում
C41: Միջոցառման տեսակը
...

Sheet Havelvas 2 
G1: Հավելված N 2
G2: ՀՀ կառավարության 2024 թվականի
G3: ______________ ի ___Ն որոշման
A5: ՀԱՅԱՍՏԱՆԻ ՀԱՆՐԱՊԵՏՈՒԹՅԱՆ ԿԱՌԱՎԱՐՈՒԹՅԱՆ 2023 ԹՎԱԿԱՆԻ ԴԵԿՏԵՄԲԵՐԻ 28-Ի N2323-Ն ՈՐՈՇՄԱՆ N 3 ԵՎ N 4 ՀԱՎԵԼՎԱԾՆԵՐՈՒՄ ԿԱՏԱՐՎՈՂ ՓՈՓՈԽՈՒԹՅՈՒՆՆԵՐԸ
G8: հազ. դրամ
A9: Գործառական դասիչը | D9: Ծրագրային դասիչը | F9: Բյուջետային հատկացումների գլխավոր կարգադրիչների, ծրագրերի, միջոցառումների և միջոցառումները կատարող պետական մարմինների անվանումները | G9: Ցուցանիշների փոփոխությունը (ավելացումները նշված են դրական նշանով, իսկ նվազեցումները՝ փակագծերում)
A10: Բաժին | B10: Խումբ | C10: Դաս | D10: Ծրագիր | E10: Միջոցառում | G10: Տարի
A11: 08 | B11: 01 | C11: 01 | F11: ԸՆԴԱՄԵՆԸ | G11: =G13 -> 0
F12: այդ թվում
F13: ՀՀ ԿՐԹՈՒԹՅԱՆ, ԳԻՏՈՒԹՅԱՆ, ՄՇԱԿՈՒՅԹԻ ԵՎ ՍՊՈՐՏԻ ՆԱԽԱՐԱՐՈՒԹՅՈՒՆ | G13: =G14+G106 -> 0
F14: ՀԱՆԳԻՍՏ, ՄՇԱԿՈՒՅԹ ԵՎ ԿՐՈՆ | G14: =G16+G89 -> 357951
F15: այդ թվում`
F16: Հանգստի և սպորտի ծառայություններ | G16: =G18 -> 363257
F17: այդ թվում`
F18: Հանգստի և սպորտի ծառայություններ | G18: =G20 -> 363257
F19: այդ թվում`
F20: ՀՀ կրթության, գիտության, մշակույթի և սպորտի նախարարություն | G20: =G22+G60 -> 363257
F21: այդ թվում`
D22: 1041 | E22: Մեծ նվաճումների սպորտ | G22: =G24+G33+G42+G51 -> 383670
E24: 12001 | F24: Միջազգային մարզական միջոցառումների հաղթողներին և մրցանակակիրներին դրամական մրցանակների հանձնում | G24: =G26 -> 411270
F25: այդ թվում` ըստ կատարողների
F26: ՀՀ կրթության, գիտության, մշակույթի և սպորտի նախարարություն | G26: =G28 -> 411270
F27: այդ թվում՝ բյուջետային ծախսերի տնտեսագիտական դասակարգման հոդվածներ
F28: ԸՆԴԱՄԵՆԸ ԾԱԽՍԵՐ | G28: =G29 -> 411270
F29: ԸՆԹԱՑԻԿ ԾԱԽՍԵՐ | G29: =G30 -> 411270
F30: ՍՈՑԻԱԼԱԿԱՆ ՆՊԱՍՏՆԵՐ ԵՎ ԿԵՆՍԱԹՈՇԱԿՆԵՐ | G30: =G31 -> 411270
F31: Սոցիալական օգնության դրամական արտահայտությամբ նպաստներ (բյուջեից) | G31: =G32 -> 411270
F32: - Կրթական, մշակութային և սպորտային նպաստներ բյուջեից | G32: ='Havelvac 1'!D19 -> 411270
E33: 11001 | F33: ՀՀ առաջնություններին և միջազգային միջոցառումներին մասնակցության ապահովման համար մարզիկների նախապատրաստում և առաջնությունների անցկացում | G33: =G35 -> -8000
F34: այդ թվում` ըստ կատարողների
F35: ՀՀ կրթության, գիտության, մշակույթի և սպորտի նախարարություն | G35: =G37 -> -8000
F36: այդ թվում՝ բյուջետային ծախսերի տնտեսագիտական դասակարգման հոդվածներ
F37: ԸՆԴԱՄԵՆԸ ԾԱԽՍԵՐ | G37: =G38 -> -8000
F38: ԸՆԹԱՑԻԿ ԾԱԽՍԵՐ | G38: =G39 -> -8000
F39: ԴՐԱՄԱՇՆՈՐՀՆԵՐ | G39: =G40 -> -8000
F40: Ընթացիկ դրամաշնորհներ պետական հատվածի այլ մակարդակներին | G40: =G41 -> -8000
F41: - Այլ ընթացիկ դրամաշնորհներ | G41: ='Havelvac 1'!D25 -> -8000
E42: 11010 | F42: Ամառային օլիմպիական խաղերին Հայաստանի մարզական պատվիրակության մասնակցության ապահովում | G42: =G44 -> -10000
F43: այդ թվում` ըստ կատարողների
F44: ՀՀ կրթության, գիտության, մշակույթի և սպորտի նախարարություն | G44: =G46 -> -10000
...

Sheet Havelvac 3
H1: Հավելված N 3
B2: ՀՀ կառավարության 2024 թվականի
G3: ______________ ի ___Ն որոշման
B4: ՀԱՅԱՍՏԱՆԻ ՀԱՆՐԱՊԵՏՈՒԹՅԱՆ ԿԱՌԱՎԱՐՈՒԹՅԱՆ 2023 ԹՎԱԿԱՆԻ ԴԵԿՏԵՄԲԵՐԻ 28-Ի N 2323-Ն ՈՐՈՇՄԱՆ N 5 ՀԱՎԵԼՎԱԾԻ N 7 ԱՂՅՈՒՍԱԿՈՒՄ ԿԱՏԱՐՎՈՂ ՓՈՓՈԽՈՒԹՅՈՒՆՆԵՐԸ
H5: հազար դրամներով
B6: Ծրագրային դասիչ | D6: Բյուջետային հատկացումների գլխավոր կարգադրիչների, ծրագրերի, միջոցառումների, ծախսային ուղղությունների անվանումները | G6: Միջոցառումները կատարող պետական մարմինների և դրամաշնորհ ստացող տնտեսվարող սուբյեկտների անվանումները | H6: Ցուցանիշների փոփոխությունը (նվազեցումները նշված են փակագծերում)
B7: Ծրագիր | C7: Միջոցառում | H7: Տարի
B8: 1 | C8: 2 | D8: 3 | G8: 4 | H8: 5
B9: ԸՆԴԱՄԵՆԸ | H9: =#REF!+H11+#REF!+#REF!+#REF!+#REF!+#REF!+784+#REF!+#REF!+#REF!+#REF!+#REF!+#REF! -> #REF!
B11: ՀՀ կրթության, գիտության, մշակույթի և սպորտի նախարարություն | H11: =H12+H17+H24+H27 -> -49209.6
B12: 1041 | C12: Մեծ նվաճումների սպորտ | H12: =H14+H16 -> -18000
C13: 11001 | D13: ՀՀ առաջնություններին և միջազգային միջոցառումներին մասնակցության ապահովման համար մարզիկների նախապատրաստում և առաջնությունների անցկացում | G13: ՀՀ կրթության, գիտության, մշակույթի և սպորտի նախարարություն | H13: =H14 -> -8000
G14: «Հայաստանի ծանրամարտի ֆեդերացիա» ՀԿ | H14: -8000
C15: 11010 | D15: Ամառային օլիմպիական խաղերին Հայաստանի մարզական պատվիրակության մասնակցության ապահովում | G15: ՀՀ կրթության, գիտության, մշակույթի և սպորտի նախարարություն | H15: =H16 -> -10000
G16: «Հայաստանի ազգային օլիմպիական կոմիտե» ՀԿ | H16: -10000
B17: 1163 | C17: Մասսայական սպորտ | H17: =H18+H20+H22 -> -20413
C18: 11018 | D18: «Հայաստանի Հանրապետության Վարչապետի գավաթ» սիրողական խճուղային հեծանվավազքի մրցաշարի անցկացում | G18: ՀՀ կրթության, գիտության, մշակույթի և սպորտի նախարարություն | H18: =H19 -> -8000
G19: Մրցույթով ընտրված կազմակերպություն | H19: -8000
C20: 11024 | D20: Հայաստանի Հանրապետության վարչապետի հովանու ներքո ուժային կառույցների միջև անցկացվող բանակային խաղեր | G20: ՀՀ կրթության, գիտության, մշակույթի և սպորտի նախարարություն | H20: =H21 -> -11885
G21: Մրցույթով ընտրված կազմակերպություն | H21: -11885
C22: 11025 | D22: Հայաստանի Հանրապետության մարզերում դպրոցահասակ երեխաների առողջ ապրելակերպի խրախուսում | G22: ՀՀ կրթության, գիտության, մշակույթի և սպորտի նախարարություն | H22: =H23 -> -528
G23: Մրցույթով ընտրված կազմակերպություն | H23: -528
B24: 1115 | C24: Երիտասարդության ծրագիր | H24: =H25 -> -5306
C25: 32001 | D25: Երիտասարդական կենտրոնների ստեղծում | G25: ՀՀ կրթության, գիտության, մշակույթի և սպորտի նախարարություն | H25: =SUM(H26:H26) -> -5306
G26: Մրցույթով ընտրված կազմակերպություններ | H26: -5306
B27: 1148 | C27: Արտադպրոցական դաստիարակության ծրագիր | H27: =H28 -> -5490.6
C28: 11007 | D28: Մարզիչ-մանկավարժների վերապատրաստման կազմակերպում | G28: ՀՀ կրթության, գիտության, մշակույթի և սպորտի նախարարություն | H28: =H29 -> -5490.6
G29: «Երևանի օլիմպիական հերթափոխի պետական մարզական քոլեջ» ՊՈԱԿ | H29: -5490.6

Sheet Havelvac 4
A1: Հավելված N 4
A2: ՀՀ կառավարության 2024թվականի
A3: ______________ ի ___Ն որոշման
B5: ՀԱՅԱՍՏԱՆԻ ՀԱՆՐԱՊԵՏՈՒԹՅԱՆ ԿԱՌԱՎԱՐՈՒԹՅԱՆ 2023 ԹՎԱԿԱՆԻ ԴԵԿՏԵՄԲԵՐԻ 28-Ի N 2323-Ն ՈՐՈՇՄԱՆ N 9 ՀԱՎԵԼՎԱԾԻ N 9.13 ԱՂՅՈՒՍԱԿՈՒՄ ԿԱՏԱՐՎՈՂ ՓՈՓՈԽՈՒԹՅՈՒՆՆԵՐԸ
A7: Աղյուսակ 9․13
C8: ՀՀ կրթության, գիտության, մշակույթի և սպորտի նախարարություն
B9: ՄԱՍ 2. ՊԵՏԱԿԱՆ ՄԱՐՄՆԻ ԳԾՈՎ ԱՐԴՅՈՒՆՔԱՅԻՆ (ԿԱՏԱՐՈՂԱԿԱՆ) ՑՈՒՑԱՆԻՇՆԵՐԸ
B13: Ծրագրի դասիչը | C13: Ծրագրի անվանումը
B14: 1041 | C14: Մեծ նվաճումների սպորտ
B17: Ծրագրի միջոցառումները
B18: Ծրագրի դասիչը՝ | C18: 1041 | D18: Ցուցանիշների փոփոխությունը (ավելացումները նշված են դրական նշանով)
B19: Միջոցառման դասիչը՝ | C19: 12001 | D19: Տարի
B20: Միջոցառման անվանումը՝ | C20: Միջազգային մարզական միջոցառումների հաղթողներին և մրցանակակիրներին դրամական մրցանակների հանձնում
B21: Նկարագրությունը՝ | C21: Միջազգային մարզական միջոցառումների հաղթողներին և մրցանակակիրներին դրամական մրցանակների հանձնում
B22: Միջոցառման տեսակը՝ | C22: Տրանսֆերտների տրամադրում
B23: Շահառուների ընտրության չափանիշները | C23: Հայաստանի Հանրապետության կառավարության 2015 թվականի նոյեմբերի 5-ի N1282-Ն որոշմամբ սահմանված մարզիկներ, անձնական մարզիչներ, երկրորդ մարզիչներ, բժիշկներ
B24: Արդյունքի չափորոշիչներ
B25: Միջոցառման վրա կատարվող ծախսը (հազար դրամ) | D25: ='Havelvac 1'!D19 -> 411270
B27: Ծրագրի միջոցառումները
B28: Ծրագրի դասիչը՝ | C28: 1041 | D28: Ցուցանիշների փոփոխությունը (նվազեցումները նշված են փակագծերում)
B29: Միջոցառման դասիչը՝ | C29: 11001 | D29: Տարի
B30: Միջոցառման անվանումը՝ | C30: ՀՀ առաջնություններին և միջազգային միջոցառումներին մասնակցության ապահովման համար մարզիկների նախապատրաստում և առաջնությունների անցկացում
B31: Նկարագրությունը՝ | C31: Մարզաձևերի ազգային ֆեդերացիաների կողմից մարզիկների պատրաստում և տարբեր մարզաձևերի ՀՀ առաջնությունների և միջազգային մրցաշարերի անցկացում, ուսումնամարզական հավաքների կազմակերպում և միջազգային միջոցառումներին մասնակցություն
B32: Միջոցառման տեսակը՝ | C32: Ծառայությունների մատուցում
B33: Ծառայությունը մատուցող կազմակերպությունների անվանումը | C33: Մասնագիտացված կազմակերպություններ
B34: Արդյունքի չափորոշիչներ
B35: Միջոցառման վրա կատարվող ծախսը (հազար դրամ) | D35: ='Havelvac 1'!D25 -> -8000
B38: Ծրագրի միջոցառումները
B39: Ծրագրի դասիչը՝ | C39: 1041 | D39: Ցուցանիշների փոփոխությունը (նվազեցումները նշված են փակագծերում)
B40: Միջոցառման դասիչը՝ | C40: 11010 | D40: Տարի
B41: Միջոցառման անվանումը՝ | C41: Ամառային օլիմպիական խաղերին Հայաստանի մարզական պատվիրակության մասնակցության ապահովում
B42: Նկարագրությունը՝ | C42: Ամառային օլիմպիական խաղերին Հայաստանի մարզական պատվիրակության մասնակցության ապահովում
B43: Միջոցառման տեսակը՝ | C43: Ծառայությունների մատուցում
B44: Ծառայությունը մատուցող կազմակերպությունների անվանումը | C44: Մասնագիտացված կազմակերպություններ
B45: Արդյունքի չափորոշիչներ
B46: Մասնակիցների թիվ, մարդ, այդ թվում՛ | D46: -10
B47: իգական սեռի | D47: -4
B48: արական սեռի | D48: -6
B49: Միջոցառման վրա կատարվող ծախսը (հազար դրամ) | D49: ='Havelvac 1'!D31 -> -10000
B52: Ծրագրի միջոցառումները
...

Sheet Havelvac 5
A1: Հավելված N 5
A2: ՀՀ կառավարության 2024թվականի
A3: ______________ ի ___Ն որոշման
B5: ՀԱՅԱՍՏԱՆԻ ՀԱՆՐԱՊԵՏՈՒԹՅԱՆ ԿԱՌԱՎԱՐՈՒԹՅԱՆ 2023 ԹՎԱԿԱՆԻ ԴԵԿՏԵՄԲԵՐԻ 28-Ի N 2323-Ն ՈՐՈՇՄԱՆ N 9.1 ՀԱՎԵԼՎԱԾԻ N 9.1.13 ԱՂՅՈՒՍԱԿՈՒՄ ԿԱՏԱՐՎՈՂ ՓՈՓՈԽՈՒԹՅՈՒՆՆԵՐԸ
A7: Աղյուսակ 9․1.13
C8: ՀՀ կրթության, գիտության, մշակույթի և սպորտի նախարարություն
B9: ՄԱՍ 2. ՊԵՏԱԿԱՆ ՄԱՐՄՆԻ ԳԾՈՎ ԱՐԴՅՈՒՆՔԱՅԻՆ (ԿԱՏԱՐՈՂԱԿԱՆ) ՑՈՒՑԱՆԻՇՆԵՐԸ
B13: Ծրագրի դասիչը | C13: Ծրագրի անվանումը
B14: 1041 | C14: Մեծ նվաճումների սպորտ
B17: Ծրագրի միջոցառումները
B18: Ծրագրի դասիչը՝ | C18: 1041 | D18: Ցուցանիշների փոփոխությունը (ավելացումները նշված են դրական նշանով)
B19: Միջոցառման դասիչը՝ | C19: 12001 | D19: Տարի
B20: Միջոցառման անվանումը՝ | C20: Միջազգային մարզական միջոցառումների հաղթողներին և մրցանակակիրներին դրամական մրցանակների հանձնում
B21: Նկարագրությունը՝ | C21: Միջազգային մարզական միջոցառումների հաղթողներին և մրցանակակիրներին դրամական մրցանակների հանձնում
B22: Միջոցառման տեսակը՝ | C22: Տրանսֆերտների տրամադրում
B23: Շահառուների ընտրության չափանիշները | C23: Հայաստանի Հանրապետության կառավարության 2015 թվականի նոյեմբերի 5-ի N1282-Ն որոշմամբ սահմանված մարզիկներ, անձնական մարզիչներ, երկրորդ մարզիչներ, բժիշկներ
B24: Արդյունքի չափորոշիչներ
B25: Միջոցառման վրա կատարվող ծախսը (հազար դրամ) | D25: ='Havelvac 1'!D19 -> 411270
B27: Ծրագրի միջոցառումները
B28: Ծրագրի դասիչը՝ | C28: 1041 | D28: Ցուցանիշների փոփոխությունը (նվազեցումները նշված են փակագծերում)
B29: Միջոցառման դասիչը՝ | C29: 11001 | D29: Տարի
B30: Միջոցառման անվանումը՝ | C30: ՀՀ առաջնություններին և միջազգային միջոցառումներին մասնակցության ապահովման համար մարզիկների նախապատրաստում և առաջնությունների անցկացում
B31: Նկարագրությունը՝ | C31: Մարզաձևերի ազգային ֆեդերացիաների կողմից մարզիկների պատրաստում և տարբեր մարզաձևերի ՀՀ առաջնությունների և միջազգային մրցաշարերի անցկացում, ուսումնամարզական հավաքների կազմակերպում և միջազգային միջոցառումներին մասնակցություն
B32: Միջոցառման տեսակը՝ | C32: Ծառայությունների մատուցում
B33: Ծառայությունը մատուցող կազմակերպությունների անվանումը | C33: Մասնագիտացված կազմակերպություններ
B34: Արդյունքի չափորոշիչներ
B35: Միջոցառման վրա կատարվող ծախսը (հազար դրամ) | D35: ='Havelvac 1'!D25 -> -8000
B38: Ծրագրի միջոցառումները
B39: Ծրագրի դասիչը՝ | C39: 1041 | D39: Ցուցանիշների փոփոխությունը (նվազեցումները նշված են փակագծերում)
B40: Միջոցառման դասիչը՝ | C40: 11010 | D40: Տարի
B41: Միջոցառման անվանումը՝ | C41: Ամառային օլիմպիական խաղերին Հայաստանի մարզական պատվիրակության մասնակցության ապահովում
B42: Նկարագրությունը՝ | C42: Ամառային օլիմպիական խաղերին Հայաստանի մարզական պատվիրակության մասնակցության ապահովում
B43: Միջոցառման տեսակը՝ | C43: Ծառայությունների մատուցում
B44: Ծառայությունը մատուցող կազմակերպությունների անվանումը | C44: Մասնագիտացված կազմակերպություններ
B45: Արդյունքի չափորոշիչներ
B46: Մասնակիցների թիվ, մարդ, այդ թվում՛ | D46: -10
B47: իգական սեռի | D47: -4
B48: արական սեռի | D48: -6
B49: Միջոցառման վրա կատարվող ծախսը (հազար դրամ) | D49: ='Havelvac 1'!D31 -> -10000
B52: Ծրագրի միջոցառումները
...
