Workbook
Name AgencyCode: #REF!
Name AgencyCode: #REF!
Name AgencyCode: #REF!
Name AgencyCode: #REF!
Name AgencyName: #REF!
Name AgencyName: #REF!
Name AgencyName: #REF!
Name AgencyName: #REF!
Name davit: #REF!
Name davit: #REF!
Name davit: #REF!
Name Functional1: #REF!
Name Functional1: #REF!
Name Functional1: #REF!
Name Functional1: #REF!
Name ggg: #REF!
Name ggg: #REF!
Name ggg: #REF!
Name h: #REF!
Name h: #REF!
Name PANature: #REF!
Name PANature: #REF!
Name PANature: #REF!
Name PANature: #REF!
Name PAType: #REF!
Name PAType: #REF!
Name PAType: #REF!
Name PAType: #REF!
Name Performance2: #REF!
Name Performance2: #REF!
Name Performance2: #REF!
Name Performance2: #REF!
Name PerformanceType: #REF!
Name PerformanceType: #REF!
Name PerformanceType: #REF!
Name PerformanceType: #REF!
Name Հավելված: #REF!
Name Հավելված: #REF!
Name Հավելված: #REF!
Name Մաս: #REF!
Name Մաս: #REF!
Name Մաս: #REF!
Name շախմատիստ: #REF!
Name շախմատիստ: #REF!
Name շախմատիստ: #REF!
Name շախմատիստ: #REF!

Sheet Havelvac 1
D1: Հավելված N 1
D2: ՀՀ կառավարության 2024 թվականի
D3: ______________ ի ___Ն որոշման
A5: «ՀԱՅԱUՏԱՆԻ ՀԱՆՐԱՊԵՏՈՒԹՅԱՆ 2024 ԹՎԱԿԱՆԻ ՊԵՏԱԿԱՆ ԲՅՈՒՋԵԻ ՄԱUԻՆ» ՀԱՅԱUՏԱՆԻ ՀԱՆՐԱՊԵՏՈՒԹՅԱՆ OՐԵՆՔԻ N 1 ՀԱՎԵԼՎԱԾԻ N 2 ԱՂՅՈՒՍԱԿՈՒՄ ԿԱՏԱՐՎՈՂ ՎԵՐԱԲԱՇԽՈՒՄԸ ԵՎ ՀԱՅԱՍՏԱՆԻ ՀԱՆՐԱՊԵՏՈՒԹՅԱՆ ԿԱՌԱՎԱՐՈՒԹՅԱՆ 2024ԹՎԱԿԱՆԻ ԴԵԿՏԵՄԲԵՐԻ 28-Ի N 2323-Ն ՈՐՈՇՄԱՆ N 5 ՀԱՎԵԼՎԱԾԻ N 1 ԱՂՅՈՒՍԱԿՈՒՄ ԿԱՏԱՐՎՈՂ ՓՈՓՈԽՈՒԹՅՈՒՆՆԵՐԸ
D6: հազ. դրամներով
A7: Ծրագրային դասիչը | C7: Բյուջետային հատկացումների գլխավոր կարգադրիչների, ծրագրերի և միջոցառումների անվանումները | D7: Ցուցանիշների փոփոխությունը (ավելացումները նշված են դրական նշանով, իսկ նվազեցումները՝ փակագծերում)
A8: Ծրագիր | B8: Միջոցառում | D8: Տարի
C9: ԸՆԴԱՄԵՆԸ | D9: =D11 -> 0
C10: այդ թվում
C11: ՀՀ ԿՐԹՈՒԹՅԱՆ, ԳԻՏՈՒԹՅԱՆ, ՄՇԱԿՈՒՅԹԻ ԵՎ ՍՊՈՐՏԻ ՆԱԽԱՐԱՐՈՒԹՅՈՒՆ | D11: =D12+D43+D68+D80+D92 -> 0
A12: 1041 | C12: Ծրագրի անվանումը` | D12: =D19+D25+D31+D37 -> 383670
C13: Մեծ նվաճումների սպորտ
C14: Ծրագրի նպատակը`
C15: Նպաստել Հայաստանում մեծ սպորտի շարունակական զարգացմանը և միջազգային հարթակներում ՀՀ դիրքի բարելավմանը
C16: Վերջնական արդյունքի նկարագրությունը`
C17: ՀՀ առաջնությունների ընդլայնում, միջազգային սպորտային միջոցառումներին մասնակցության և նվաճումների ապահովում
C18: Ծրագրի միջոցառումներ
B19: 12001 | C19: Միջոցառման անվանումը` | D19: 411270
C20: Միջազգային մարզական միջոցառումների հաղթողներին և մրցանակակիրներին դրամական մրցանակների հանձնում
C21: Միջոցառման նկարագրությունը`
C22: Միջազգային մարզական միջոցառումների հաղթողներին և մրցանակակիրներին դրամական մրցանակների հանձնում
C23: Միջոցառման տեսակը
C24: Տրանսֆերտների տրամադրում
B25: 11001 | C25: Միջոցառման անվանումը` | D25: -8000
C26: ՀՀ առաջնություններին և միջազգային միջոցառումներին մասնակցության ապահովման համար մարզիկների նախապատրաստում և առաջնությունների անցկացում
C27: Միջոցառման նկարագրությունը`
C28: Մարզաձևերի ազգային ֆեդերացիաների կողմից մարզիկների պատրաստում և տարբեր մարզաձևերի ՀՀ առաջնությունների և միջազգային մրցաշարերի անցկացում, ուսումնամարզական հավաքների կազմակերպում և միջազգային միջոցառումներին մասնակցություն
C29: Միջոցառման տեսակը
C30: Ծառայությունների մատուցում
B31: 11010 | C31: Միջոցառման անվանումը` | D31: -10000
C32: Ամառային օլիմպիական խաղերին Հայաստանի մարզական պատվիրակության մասնակցության ապահովում
C33: Միջոցառման նկարագրությունը`
C34: Ամառային օլիմպիական խաղերին Հայաստանի մարզական պատվիրակության մասնակցության ապահովում
C35: Միջոցառման տեսակը
C36: Ծառայությունների մատուցում
B37: 12002 | C37: Միջոցառման անվանումը` | D37: -9600
C38: ՀՀ հավաքական թիմերի գլխավոր և ավագ մարզիչների վարձատրություն և աշխարհի չեմպիոններին, օլիմպիական խաղերի և շախմատի համաշխարհային օլիմպիադայի մրցանակակիրներին պատվովճարի հատկացում
C39: Միջոցառման նկարագրությունը`
C40: ՀՀ հավաքական թիմերի գլխավոր և ավագ մարզիչների վարձատրություն և աշխարհի չեմպիոններին, օլիմպիական խաղերի և շախմատի համաշխարհային օլիմպիադայի մրցանակակիրներին պատվովճարի հատկացում
C41: Միջոցառման տեսակը
C42: Տրանսֆերտների տրամադրում
A43: 1163 | C43: Ծրագրի անվանումը` | D43: =D50+D56+D62 -> -20413
C44: Մասսայական սպորտ
C45: Ծրագրի նպատակը`
C46: Բնակչության շրջանում առողջ ապրելակերպի արմատավորում, անհատի բազմակողմանի ու ներդաշնակ զարգացման գործում ֆիզիկական կուլտուրայի և սպորտի դերի բարձրացում
C47: Վերջնական արդյունքի նկարագրությունը`
C48: Սպորտի նկատմամբ հետաքրքրվածության և մասնակցության ընդլայնում
C49: Ծրագրի միջոցառումներ
B50: 11018 | C50: Միջոցառման անվանումը` | D50: -8000
C51: «Հայաստանի Հանրապետության Վարչապետի գավաթ» սիրողական խճուղային հեծանվավազքի մրցաշարի անցկացում
C52: Միջոցառման նկարագրությունը`
C53: «Հայաստանի Հանրապետության Վարչապետի գավաթ» սիրողական խճուղային հեծանվավազքի մրցաշարի կազմակերպում և անցկացում
C54: Միջոցառման տեսակը
C55: Ծառայությունների մատուցում
B56: 11024 | C56: Միջոցառման անվանումը` | D56: -11885
C57: Հայաստանի Հանրապետության վարչապետի հովանու ներքո ուժային կառույցների միջև անցկացվող բանակային խաղեր
C58: Միջոցառման նկարագրությունը`
C59: Ռազմակիրառական մարզաձևերի մասսայականացում, ֆիզիկական պատրաստականության դերի ու նշանակության բարձրացում, ինչպես նաև կառույցների միջև մարզական առողջ մթնոլորտի ստեղծում
C60: Միջոցառման տեսակը
C61: Ծառայությունների մատուցում
B62: 11025 | C62: Միջոցառման անվանումը` | D62: -528
C63: Հայաստանի Հանրապետության մարզերում դպրոցահասակ երեխաների առողջ ապրելակերպի խրախուսում
C64: Միջոցառման նկարագրությունը`
C65: Պետություն-մասնավոր գործընկերության շրջանակներում մասնավոր լողավազաններում դպրոցահասակ երեխաների լողի ուսուցման կազմակերպում ՀՀ մարզերում
C66: Միջոցառման տեսակը
C67: Ծառայությունների մատուցում
A68: 1115 | C68: Ծրագրի անվանումը` | D68: =D74 -> -5306
C69: Երիտասարդության ծրագիր
C70: Ծրագրի նպատակը`
C71: Նպաստել սոցիալ-տնտեսական, քաղաքական և մշակութային կյանքին երիտասարդների լիարժեք ներգրավմանը և նրանց ստեղծագործական ներուժի ամբողջական դրսևորմանը
C72: Վերջնական արդյունքի նկարագրությունը`
C73: Հասարակական կյանքում երիտասարդների արդյունավետ ներգրավվածության և դրսևորման ընդլայնում
B74: 32001 | C74: Միջոցառման անվանումը` | D74: -5306
C75: Երիտասարդական կենտրոնների ստեղծում
C76: Միջոցառման նկարագրությունը`
C77: Հասարակական կյանքին երիտասարդների ակտիվ մասնակցության, երիտասարդության շրջանում առողջ ապրելակերպի, հոգևոր-մշակութային, հայրենասիրական դաստիարակության խթանում, երիտասարդների զբաղվածության հնարավորությունների մեծացում
C78: Միջոցառման տեսակը
C79: Այլ պետական կազմակերպությունների կողմից օգտագործվող ոչ ֆինանսական ակտիվների հետ գործառնություններ
A80: 1148 | C80: Ծրագրի անվանումը` | D80: =+D86 -> -5490.6
C81: Արտադպրոցական դաստիարակության ծրագիր
C82: Ծրագրի նպատակը`
C83: Նպաստել հանրակրթական ուսուցման համակարգում ընդգրկված երեխաների ֆիզիկական, հոգևոր և գեղագիտական զարգացմանը, բնապահպանական և կիրառական գիտելիքների ձեռքբերմանը
C84: Վերջնական արդյունքի նկարագրությունը`
C85: Ստեղծել պայմաններ սովորողների ազատ ժամանացի կազմակերպան միջոցով նրանց հետաքրքրությունների բացահայտման, ձևավորման և զարգացման համար
B86: 11007 | C86: Միջոցառման անվանումը` | D86: -5490.6
C87: Մարզիչ-մանկավարժների վերապատրաստման կազմակերպում
C88: Միջոցառման նկարագրությունը`
C89: Մանկապատանեկան մարզադպրոցներում աշխատող մարզիչ-մանկավարժների վերապատրաստման կազմակերպում
C90: Միջոցառման տեսակը
C91: Ծառայությունների մատուցում
A92: 1111 | C92: Ծրագրի անվանումը` | D92: =D99 -> -352460.4
C93: Բարձրագույն և հետբուհական մասնագիտական կրթության ծրագիր
C94: Ծրագրի նպատակը`
C95: Ապահովել մատչելի, որակյալ և մրցունակ բարձրագույն և հետբուհական մասնագիտական կրթություն:
C96: Վերջնական արդյունքի նկարագրությունը`
C97: Գիտելիքների տնտեսության և գիտության զարգացման արդի պահանջներին համապատասխան բարձրագույն և հետբուհական մասնագիտական որակավորում ունեցող մասնագետների պատրաստում
C98: Ծրագրի միջոցառումներ
B99: 12004 | C99: Միջոցառման անվանումը` | D99: -352460.4
C100: Բարձրագույն մասնագիտական կրթության գծով ուսանողական նպաստների տրամադրում
C101: Միջոցառման նկարագրությունը`
...

Sheet Havelvas 2 
G1: Հավելված N 2
G2: ՀՀ կառավարության 2024 թվականի
G3: ______________ ի ___Ն որոշման
A5: ՀԱՅԱՍՏԱՆԻ ՀԱՆՐԱՊԵՏՈՒԹՅԱՆ ԿԱՌԱՎԱՐՈՒԹՅԱՆ 2023 ԹՎԱԿԱՆԻ ԴԵԿՏԵՄԲԵՐԻ 28-Ի N2323-Ն ՈՐՈՇՄԱՆ N 3 ԵՎ N 4 ՀԱՎԵԼՎԱԾՆԵՐՈՒՄ ԿԱՏԱՐՎՈՂ ՓՈՓՈԽՈՒԹՅՈՒՆՆԵՐԸ
G8: հազ. դրամ
A9: Գործառական դասիչը | D9: Ծրագրային դասիչը | F9: Բյուջետային հատկացումների գլխավոր կարգադրիչների, ծրագրերի, միջոցառումների և միջոցառումները կատարող պետական մարմինների անվանումները | G9: Ցուցանիշների փոփոխությունը (ավելացումները նշված են դրական նշանով, իսկ նվազեցումները՝ փակագծերում)
A10: Բաժին | B10: Խումբ | C10: Դաս | D10: Ծրագիր | E10: Միջոցառում | G10: Տարի
A11: 08 | B11: 01 | C11: 01 | F11: ԸՆԴԱՄԵՆԸ | G11: =G13 -> 0
F12: այդ թվում
F13: ՀՀ ԿՐԹՈՒԹՅԱՆ, ԳԻՏՈՒԹՅԱՆ, ՄՇԱԿՈՒՅԹԻ ԵՎ ՍՊՈՐՏԻ ՆԱԽԱՐԱՐՈՒԹՅՈՒՆ | G13: =G14+G106 -> 0
F14: ՀԱՆԳԻՍՏ, ՄՇԱԿՈՒՅԹ ԵՎ ԿՐՈՆ | G14: =G16+G89 -> 357951
F15: այդ թվում`
F16: Հանգստի և սպորտի ծառայություններ | G16: =G18 -> 363257
F17: այդ թվում`
F18: Հանգստի և սպորտի ծառայություններ | G18: =G20 -> 363257
F19: այդ թվում`
F20: ՀՀ կրթության, գիտության, մշակույթի և սպորտի նախարարություն | G20: =G22+G60 -> 363257
F21: այդ թվում`
D22: 1041 | E22: Մեծ նվաճումների սպորտ | G22: =G24+G33+G42+G51 -> 383670
E24: 12001 | F24: Միջազգային մարզական միջոցառումների հաղթողներին և մրցանակակիրներին դրամական մրցանակների հանձնում | G24: =G26 -> 411270
F25: այդ թվում` ըստ կատարողների
F26: ՀՀ կրթության, գիտության, մշակույթի և սպորտի նախարարություն | G26: =G28 -> 411270
F27: այդ թվում՝ բյուջետային ծախսերի տնտեսագիտական դասակարգման հոդվածներ
F28: ԸՆԴԱՄԵՆԸ ԾԱԽՍԵՐ | G28: =G29 -> 411270
F29: ԸՆԹԱՑԻԿ ԾԱԽՍԵՐ | G29: =G30 -> 411270
F30: ՍՈՑԻԱԼԱԿԱՆ ՆՊԱՍՏՆԵՐ ԵՎ ԿԵՆՍԱԹՈՇԱԿՆԵՐ | G30: =G31 -> 411270
F31: Սոցիալական օգնության դրամական արտահայտությամբ նպաստներ (բյուջեից) | G31: =G32 -> 411270
F32: - Կրթական, մշակութային և սպորտային նպաստներ բյուջեից | G32: ='Havelvac 1'!D19 -> 411270
E33: 11001 | F33: ՀՀ առաջնություններին և միջազգային միջոցառումներին մասնակցության ապահովման համար մարզիկների նախապատրաստում և առաջնությունների անցկացում | G33: =G35 -> -8000
F34: այդ թվում` ըստ կատարողների
F35: ՀՀ կրթության, գիտության, մշակույթի և սպորտի նախարարություն | G35: =G37 -> -8000
F36: այդ թվում՝ բյուջետային ծախսերի տնտեսագիտական դասակարգման հոդվածներ
F37: ԸՆԴԱՄԵՆԸ ԾԱԽՍԵՐ | G37: =G38 -> -8000
F38: ԸՆԹԱՑԻԿ ԾԱԽՍԵՐ | G38: =G39 -> -8000
F39: ԴՐԱՄԱՇՆՈՐՀՆԵՐ | G39: =G40 -> -8000
F40: Ընթացիկ դրամաշնորհներ պետական հատվածի այլ մակարդակներին | G40: =G41 -> -8000
F41: - Այլ ընթացիկ դրամաշնորհներ | G41: ='Havelvac 1'!D25 -> -8000
E42: 11010 | F42: Ամառային օլիմպիական խաղերին Հայաստանի մարզական պատվիրակության մասնակցության ապահովում | G42: =G44 -> -10000
F43: այդ թվում` ըստ կատարողների
F44: ՀՀ կրթության, գիտության, մշակույթի և սպորտի նախարարություն | G44: =G46 -> -10000
F45: այդ թվում՝ բյուջետային ծախսերի տնտեսագիտական դասակարգման հոդվածներ
F46: ԸՆԴԱՄԵՆԸ ԾԱԽՍԵՐ | G46: =G47 -> -10000
F47: ԸՆԹԱՑԻԿ ԾԱԽՍԵՐ | G47: =G48 -> -10000
F48: ԴՐԱՄԱՇՆՈՐՀՆԵՐ | G48: =G49 -> -10000
F49: Ընթացիկ դրամաշնորհներ պետական հատվածի այլ մակարդակներին | G49: =G50 -> -10000
F50: - Այլ ընթացիկ դրամաշնորհներ | G50: ='Havelvac 1'!D31 -> -10000
E51: 12002 | F51: ՀՀ հավաքական թիմերի գլխավոր և ավագ մարզիչների վարձատրություն և աշխարհի չեմպիոններին, օլիմպիական խաղերի և շախմատի համաշխարհային օլիմպիադայի մրցանակակիրներին պատվովճարի հատկացում | G51: =G53 -> -9600
F52: այդ թվում` ըստ կատարողների
F53: ՀՀ կրթության, գիտության, մշակույթի և սպորտի նախարարություն | G53: =G55 -> -9600
F54: այդ թվում՝ բյուջետային ծախսերի տնտեսագիտական դասակարգման հոդվածներ
F55: ԸՆԴԱՄԵՆԸ ԾԱԽՍԵՐ | G55: =G56 -> -9600
F56: ԸՆԹԱՑԻԿ ԾԱԽՍԵՐ | G56: =G57 -> -9600
F57: ՍՈՑԻԱԼԱԿԱՆ ՆՊԱՍՏՆԵՐ ԵՎ ԿԵՆՍԱԹՈՇԱԿՆԵՐ | G57: =G58 -> -9600
F58: Սոցիալական օգնության դրամական արտահայտությամբ նպաստներ (բյուջեից) | G58: =G59 -> -9600
F59: - Կրթական, մշակութային և սպորտային նպաստներ բյուջեից | G59: ='Havelvac 1'!D37 -> -9600
D60: 1163 | E60: Մասսայական սպորտ | G60: =G62+G71+G80 -> -20413
F61: այդ թվում`
E62: 11018 | F62: «Հայաստանի Հանրապետության Վարչապետի գավաթ» սիրողական խճուղային հեծանվավազքի մրցաշարի անցկացում | G62: =G64 -> -8000
F63: այդ թվում` ըստ կատարողների
F64: ՀՀ կրթության , գիտության, մշակույթի և սպորտի նախարարություն | G64: =G66 -> -8000
F65: այդ թվում` բյուջետային ծախսերի տնտեսագիտական դասակարգման հոդվածներ
F66: ԸՆԴԱՄԵՆԸ ԾԱԽՍԵՐ | G66: =G67 -> -8000
F67: ԸՆԹԱՑԻԿ ԾԱԽՍԵՐ | G67: =G68 -> -8000
F68: ԴՐԱՄԱՇՆՈՐՀՆԵՐ | G68: =G69 -> -8000
F69: Ընթացիկ դրամաշնորհներ պետական հատվածի այլ մակարդակներին | G69: =G70 -> -8000
F70: - Այլ ընթացիկ դրամաշնորհներ | G70: ='Havelvac 1'!D50 -> -8000
E71: 11024 | F71: Հայաստանի Հանրապետության վարչապետի հովանու ներքո ուժային կառույցների միջև անցկացվող բանակային խաղեր | G71: =G73 -> -11885
F72: այդ թվում` ըստ կատարողների
F73: ՀՀ կրթության , գիտության, մշակույթի և սպորտի նախարարություն | G73: =G75 -> -11885
F74: այդ թվում` բյուջետային ծախսերի տնտեսագիտական դասակարգման հոդվածներ
F75: ԸՆԴԱՄԵՆԸ ԾԱԽՍԵՐ | G75: =G76 -> -11885
F76: ԸՆԹԱՑԻԿ ԾԱԽՍԵՐ | G76: =G77 -> -11885
F77: ԴՐԱՄԱՇՆՈՐՀՆԵՐ | G77: =G78 -> -11885
F78: Ընթացիկ դրամաշնորհներ պետական հատվածի այլ մակարդակներին | G78: =G79 -> -11885
F79: - Այլ ընթացիկ դրամաշնորհներ | G79: ='Havelvac 1'!D56 -> -11885
E80: 11025 | F80: Հայաստանի Հանրապետության մարզերում դպրոցահասակ երեխաների առողջ ապրելակերպի խրախուսում | G80: =G82 -> -528
F81: այդ թվում` ըստ կատարողների
F82: ՀՀ կրթության, գիտության, մշակույթի և սպորտի նախարարություն | G82: =G84 -> -528
F83: այդ թվում՝ բյուջետային ծախսերի տնտեսագիտական դասակարգման հոդվածներ
F84: ԸՆԴԱՄԵՆԸ ԾԱԽՍԵՐ | G84: =G85 -> -528
F85: ԸՆԹԱՑԻԿ ԾԱԽՍԵՐ | G85: =G86 -> -528
F86: ԴՐԱՄԱՇՆՈՐՀՆԵՐ | G86: =G87 -> -528
F87: Ընթացիկ դրամաշնորհներ պետական հատվածի այլ մակարդակներին | G87: =G88 -> -528
F88: - Այլ ընթացիկ դրամաշնորհներ | G88: ='Havelvac 1'!D62 -> -528
B89: 04 | C89: 01 | F89: Կրոնական և հասարակական այլ ծառայություններ | G89: =G91 -> -5306
F90: այդ թվում`
F91: Երիտասարդական ծրագրեր | G91: =G93 -> -5306
F92: այդ թվում`
F93: ՀՀ կրթության, գիտության, մշակույթի և սպորտի նախարարություն | G93: =G95 -> -5306
F94: այդ թվում`
D95: 1115 | E95: Երիտասարդության ծրագիր | G95: =G97 -> -5306
F96: այդ թվում`
E97: 32001 | F97: Երիտասարդական կենտրոնների ստեղծում | G97: =G99 -> -5306
F98: այդ թվում` ըստ կատարողների
F99: ՀՀ կրթության , գիտության, մշակույթի և սպորտի նախարարություն | G99: =G101 -> -5306
F100: այդ թվում` բյուջետային ծախսերի տնտեսագիտական դասակարգման հոդվածներ
F101: ԸՆԴԱՄԵՆԸ ԾԱԽՍԵՐ | G101: =G102 -> -5306
F102: ԸՆԹԱՑԻԿ ԾԱԽՍԵՐ | G102: =G103 -> -5306
F103: ԴՐԱՄԱՇՆՈՐՀՆԵՐ | G103: =G104 -> -5306
F104: Կապիտալ դրամաշնորհներ պետական հատվածի այլ մակարդակներին | G104: =G105 -> -5306
...

Sheet Havelvac 3
H1: Հավելված N 3
B2: ՀՀ կառավարության 2024 թվականի
G3: ______________ ի ___Ն որոշման
B4: ՀԱՅԱՍՏԱՆԻ ՀԱՆՐԱՊԵՏՈՒԹՅԱՆ ԿԱՌԱՎԱՐՈՒԹՅԱՆ 2023 ԹՎԱԿԱՆԻ ԴԵԿՏԵՄԲԵՐԻ 28-Ի N 2323-Ն ՈՐՈՇՄԱՆ N 5 ՀԱՎԵԼՎԱԾԻ N 7 ԱՂՅՈՒՍԱԿՈՒՄ ԿԱՏԱՐՎՈՂ ՓՈՓՈԽՈՒԹՅՈՒՆՆԵՐԸ
H5: հազար դրամներով
B6: Ծրագրային դասիչ | D6: Բյուջետային հատկացումների գլխավոր կարգադրիչների, ծրագրերի, միջոցառումների, ծախսային ուղղությունների անվանումները | G6: Միջոցառումները կատարող պետական մարմինների և դրամաշնորհ ստացող տնտեսվարող սուբյեկտների անվանումները | H6: Ցուցանիշների փոփոխությունը (նվազեցումները նշված են փակագծերում)
B7: Ծրագիր | C7: Միջոցառում | H7: Տարի
B8: 1 | C8: 2 | D8: 3 | G8: 4 | H8: 5
B9: ԸՆԴԱՄԵՆԸ | H9: =#REF!+H11+#REF!+#REF!+#REF!+#REF!+#REF!+784+#REF!+#REF!+#REF!+#REF!+#REF!+#REF! -> #REF!
B11: ՀՀ կրթության, գիտության, մշակույթի և սպորտի նախարարություն | H11: =H12+H17+H24+H27 -> -49209.6
B12: 1041 | C12: Մեծ նվաճումների սպորտ | H12: =H14+H16 -> -18000
C13: 11001 | D13: ՀՀ առաջնություններին և միջազգային միջոցառումներին մասնակցության ապահովման համար մարզիկների նախապատրաստում և առաջնությունների անցկացում | G13: ՀՀ կրթության, գիտության, մշակույթի և սպորտի նախարարություն | H13: =H14 -> -8000
G14: «Հայաստանի ծանրամարտի ֆեդերացիա» ՀԿ | H14: -8000
C15: 11010 | D15: Ամառային օլիմպիական խաղերին Հայաստանի մարզական պատվիրակության մասնակցության ապահովում | G15: ՀՀ կրթության, գիտության, մշակույթի և սպորտի նախարարություն | H15: =H16 -> -10000
G16: «Հայաստանի ազգային օլիմպիական կոմիտե» ՀԿ | H16: -10000
B17: 1163 | C17: Մասսայական սպորտ | H17: =H18+H20+H22 -> -20413
C18: 11018 | D18: «Հայաստանի Հանրապետության Վարչապետի գավաթ» սիրողական խճուղային հեծանվավազքի մրցաշարի անցկացում | G18: ՀՀ կրթության, գիտության, մշակույթի և սպորտի նախարարություն | H18: =H19 -> -8000
G19: Մրցույթով ընտրված կազմակերպություն | H19: -8000
C20: 11024 | D20: Հայաստանի Հանրապետության վարչապետի հովանու ներքո ուժային կառույցների միջև անցկացվող բանակային խաղեր | G20: ՀՀ կրթության, գիտության, մշակույթի և սպորտի նախարարություն | H20: =H21 -> -11885
G21: Մրցույթով ընտրված կազմակերպություն | H21: -11885
C22: 11025 | D22: Հայաստանի Հանրապետության մարզերում դպրոցահասակ երեխաների առողջ ապրելակերպի խրախուսում | G22: ՀՀ կրթության, գիտության, մշակույթի և սպորտի նախարարություն | H22: =H23 -> -528
G23: Մրցույթով ընտրված կազմակերպություն | H23: -528
B24: 1115 | C24: Երիտասարդության ծրագիր | H24: =H25 -> -5306
C25: 32001 | D25: Երիտասարդական կենտրոնների ստեղծում | G25: ՀՀ կրթության, գիտության, մշակույթի և սպորտի նախարարություն | H25: =SUM(H26:H26) -> -5306
G26: Մրցույթով ընտրված կազմակերպություններ | H26: -5306
B27: 1148 | C27: Արտադպրոցական դաստիարակության ծրագիր | H27: =H28 -> -5490.6
C28: 11007 | D28: Մարզիչ-մանկավարժների վերապատրաստման կազմակերպում | G28: ՀՀ կրթության, գիտության, մշակույթի և սպորտի նախարարություն | H28: =H29 -> -5490.6
G29: «Երևանի օլիմպիական հերթափոխի պետական մարզական քոլեջ» ՊՈԱԿ | H29: -5490.6

Sheet Havelvac 4
A1: Հավելված N 4
A2: ՀՀ կառավարության 2024թվականի
A3: ______________ ի ___Ն որոշման
B5: ՀԱՅԱՍՏԱՆԻ ՀԱՆՐԱՊԵՏՈՒԹՅԱՆ ԿԱՌԱՎԱՐՈՒԹՅԱՆ 2023 ԹՎԱԿԱՆԻ ԴԵԿՏԵՄԲԵՐԻ 28-Ի N 2323-Ն ՈՐՈՇՄԱՆ N 9 ՀԱՎԵԼՎԱԾԻ N 9.13 ԱՂՅՈՒՍԱԿՈՒՄ ԿԱՏԱՐՎՈՂ ՓՈՓՈԽՈՒԹՅՈՒՆՆԵՐԸ
A7: Աղյուսակ 9․13
C8: ՀՀ կրթության, գիտության, մշակույթի և սպորտի նախարարություն
B9: ՄԱՍ 2. ՊԵՏԱԿԱՆ ՄԱՐՄՆԻ ԳԾՈՎ ԱՐԴՅՈՒՆՔԱՅԻՆ (ԿԱՏԱՐՈՂԱԿԱՆ) ՑՈՒՑԱՆԻՇՆԵՐԸ
B13: Ծրագրի դասիչը | C13: Ծրագրի անվանումը
B14: 1041 | C14: Մեծ նվաճումների սպորտ
B17: Ծրագրի միջոցառումները
B18: Ծրագրի դասիչը՝ | C18: 1041 | D18: Ցուցանիշների փոփոխությունը (ավելացումները նշված են դրական նշանով)
B19: Միջոցառման դասիչը՝ | C19: 12001 | D19: Տարի
B20: Միջոցառման անվանումը՝ | C20: Միջազգային մարզական միջոցառումների հաղթողներին և մրցանակակիրներին դրամական մրցանակների հանձնում
B21: Նկարագրությունը՝ | C21: Միջազգային մարզական միջոցառումների հաղթողներին և մրցանակակիրներին դրամական մրցանակների հանձնում
B22: Միջոցառման տեսակը՝ | C22: Տրանսֆերտների տրամադրում
B23: Շահառուների ընտրության չափանիշները | C23: Հայաստանի Հանրապետության կառավարության 2015 թվականի նոյեմբերի 5-ի N1282-Ն որոշմամբ սահմանված մարզիկներ, անձնական մարզիչներ, երկրորդ մարզիչներ, բժիշկներ
B24: Արդյունքի չափորոշիչներ
B25: Միջոցառման վրա կատարվող ծախսը (հազար դրամ) | D25: ='Havelvac 1'!D19 -> 411270
B27: Ծրագրի միջոցառումները
B28: Ծրագրի դասիչը՝ | C28: 1041 | D28: Ցուցանիշների փոփոխությունը (նվազեցումները նշված են փակագծերում)
B29: Միջոցառման դասիչը՝ | C29: 11001 | D29: Տարի
B30: Միջոցառման անվանումը՝ | C30: ՀՀ առաջնություններին և միջազգային միջոցառումներին մասնակցության ապահովման համար մարզիկների նախապատրաստում և առաջնությունների անցկացում
B31: Նկարագրությունը՝ | C31: Մարզաձևերի ազգային ֆեդերացիաների կողմից մարզիկների պատրաստում և տարբեր մարզաձևերի ՀՀ առաջնությունների և միջազգային մրցաշարերի անցկացում, ուսումնամարզական հավաքների կազմակերպում և միջազգային միջոցառումներին մասնակցություն
B32: Միջոցառման տեսակը՝ | C32: Ծառայությունների մատուցում
B33: Ծառայությունը մատուցող կազմակերպությունների անվանումը | C33: Մասնագիտացված կազմակերպություններ
B34: Արդյունքի չափորոշիչներ
B35: Միջոցառման վրա կատարվող ծախսը (հազար դրամ) | D35: ='Havelvac 1'!D25 -> -8000
B38: Ծրագրի միջոցառումները
B39: Ծրագրի դասիչը՝ | C39: 1041 | D39: Ցուցանիշների փոփոխությունը (նվազեցումները նշված են փակագծերում)
B40: Միջոցառման դասիչը՝ | C40: 11010 | D40: Տարի
B41: Միջոցառման անվանումը՝ | C41: Ամառային օլիմպիական խաղերին Հայաստանի մարզական պատվիրակության մասնակցության ապահովում
B42: Նկարագրությունը՝ | C42: Ամառային օլիմպիական խաղերին Հայաստանի մարզական պատվիրակության մասնակցության ապահովում
B43: Միջոցառման տեսակը՝ | C43: Ծառայությունների մատուցում
B44: Ծառայությունը մատուցող կազմակերպությունների անվանումը | C44: Մասնագիտացված կազմակերպություններ
B45: Արդյունքի չափորոշիչներ
B46: Մասնակիցների թիվ, մարդ, այդ թվում՛ | D46: -10
B47: իգական սեռի | D47: -4
B48: արական սեռի | D48: -6
B49: Միջոցառման վրա կատարվող ծախսը (հազար դրամ) | D49: ='Havelvac 1'!D31 -> -10000
B52: Ծրագրի միջոցառումները
B53: Ծրագրի դասիչը՝ | C53: 1041 | D53: Ցուցանիշների փոփոխությունը (նվազեցումները նշված են փակագծերում)
B54: Միջոցառման դասիչը՝ | C54: 12002 | D54: Տարի
B55: Միջոցառման անվանումը՝ | C55: ՀՀ հավաքական թիմերի գլխավոր և ավագ մարզիչների վարձատրություն և աշխարհի չեմպիոններին, օլիմպիական խաղերի և շախմատի համաշխարհային օլիմպիադայի մրցանակակիրներին պատվովճարի հատկացում
B56: Նկարագրությունը՝ | C56: ՀՀ հավաքական թիմերի գլխավոր և ավագ մարզիչների վարձատրություն և աշխարհի չեմպիոններին, օլիմպիական խաղերի և շախմատի համաշխարհային օլիմպիադայի մրցանակակիրներին պատվովճարի հատկացում
B57: Միջոցառման տեսակը՝ | C57: Տրանսֆերտների տրամադրում
B58: Շահառուների ընտրության չափանիշները | C58: Հ կառավարության 2015 թ. օգոստոսի 13-ի N925-Ն որոշմամբ սահմանված ՀՀ հավաքական թիմերի գլխավոր և ավագ մարզիչներ, օլիմպիական խաղերի ծրագրում ընդգրկված մարզաձևերի, շախմատի և սամբոյի աշխարհի առաջնություններում չեմպիոն դարձած մարզիկներ
B59: Արդյունքի չափորոշիչներ
B60: Միջոցառման վրա կատարվող ծախսը (հազար դրամ) | D60: ='Havelvac 1'!D37 -> -9600
B62: Ծրագրի դասիչը | C62: Ծրագրի անվանումը
B63: 1163 | C63: Մասսայական սպորտ
B65: Ծրագրի միջոցառումները
B66: Ծրագրի դասիչը՝ | C66: 1163 | D66: Ցուցանիշների փոփոխությունը (նվազեցումները նշված են փակագծերում)
B67: Միջոցառման դասիչը՝ | C67: 11018 | D67: Տարի
B68: Միջոցառման անվանումը՝ | C68: «Հայաստանի Հանրապետության Վարչապետի գավաթ» սիրողական խճուղային հեծանվավազքի մրցաշարի անցկացում
B69: Նկարագրությունը՝ | C69: «Հայաստանի Հանրապետության Վարչապետի գավաթ» սիրողական խճուղային հեծանվավազքի մրցաշարի կազմակերպում և անցկացում
B70: Միջոցառման տեսակը՝ | C70: Ծառայությունների մատուցում
B71: Ծառայությունը մատուցող կազմակերպությունների անվանումը | C71: Մասնագիտացված կազմակերպություն
B72: Արդյունքի չափորոշիչներ
B73: Միջոցառման վրա կատարվող ծախսը (հազար դրամ) | D73: ='Havelvac 1'!D50 -> -8000
B75: Ծրագրի միջոցառումները
B76: Ծրագրի դասիչը՝ | C76: 1163 | D76: Ցուցանիշների փոփոխությունը (նվազեցումները նշված են փակագծերում)
B77: Միջոցառման դասիչը՝ | C77: 11024 | D77: Տարի
B78: Միջոցառման անվանումը՝ | C78: Հայաստանի Հանրապետության վարչապետի հովանու ներքո ուժային կառույցների միջև անցկացվող բանակային խաղեր
B79: Նկարագրությունը՝ | C79: Ռազմակիրառական մարզաձևերի մասսայականացում, ֆիզիկական պատրաստականության դերի ու նշանակության բարձրացում, ինչպես նաև կառույցների միջև մարզական առողջ մթնոլորտի ստեղծում
B80: Միջոցառման տեսակը՝ | C80: Ծառայությունների մատուցում
B81: Ծառայությունը մատուցող կազմակերպությունների անվանումը | C81: Մասնագիտացված կազմակերպություն
B82: Արդյունքի չափորոշիչներ
B83: Միջոցառման վրա կատարվող ծախսը (հազար դրամ) | D83: ='Havelvac 1'!D56 -> -11885
B86: Ծրագրի միջոցառումները
B87: Ծրագրի դասիչը՝ | C87: 1163 | D87: Ցուցանիշների փոփոխությունը (նվազեցումները նշված են փակագծերում)
B88: Միջոցառման դասիչը՝ | C88: 11025 | D88: Տարի
B89: Միջոցառման անվանումը՝ | C89: Հայաստանի Հանրապետության մարզերում դպրոցահասակ երեխաների առողջ ապրելակերպի խրախուսում
B90: Նկարագրությունը՝ | C90: Պետություն-մասնավոր գործընկերության շրջանակներում մասնավոր լողավազաններում դպրոցահասակ երեխաների լողի ուսուցման կազմակերպում ՀՀ մարզերում
B91: Միջոցառման տեսակը՝ | C91: Ծառայությունների մատուցում
B92: Ծառայությունը մատուցող կազմակերպությունների անվանումը | C92: Մասնագիտացված կազմակերպություն
B93: Արդյունքի չափորոշիչներ
B94: Միջոցառման վրա կատարվող ծախսը (հազար դրամ) | D94: ='Havelvac 1'!D62 -> -528
B98: Ծրագրի դասիչը | C98: Ծրագրի անվանումը
B99: 1115 | C99: Երիտասարդության ծրագիր
B102: Ծրագրի միջոցառումները
B103: Ծրագրի դասիչը՝ | C103: 1115 | D103: Ցուցանիշների փոփոխությունը (նվազեցումները նշված են փակագծերում)
B104: Միջոցառման դասիչը՝ | C104: 32001 | D104: Տարի
B105: Միջոցառման անվանումը՝ | C105: Երիտասարդական կենտրոնների ստեղծում
B106: Նկարագրությունը՝ | C106: Հասարակական կյանքին երիտասարդների ակտիվ մասնակցության, երիտասարդության շրջանում առողջ ապրելակերպի, հոգևոր-մշակութային, հայրենասիրական դաստիարակության խթանում, երիտասարդների զբաղվածության հնարավորությունների մեծացում
B107: Միջոցառման տեսակը՝ | C107: Այլ պետական կազմակերպությունների կողմից օգտագործվող ոչ ֆինանսական ակտիվների հետ գործառնություններ
B108: Ակտիվն օգտագործող կազմակերպությունների անվանումները | C108: Երիտասարդական կենտրոններ
B109: Արդյունքի չափորոշիչներ
B110: Միջոցառման վրա կատարվող ծախսը (հազար դրամ) | D110: ='Havelvac 1'!D74 -> -5306
B113: Ծրագրի դասիչը | C113: Ծրագրի անվանումը
B114: 1148 | C114: Արտադպրոցական դաստիարակության ծրագիր
B117: Ծրագրի միջոցառումները
B118: Ծրագրի դասիչը՝ | C118: 1148 | D118: Ցուցանիշների փոփոխությունը (նվազեցումները նշված են փակագծերում)
B119: Միջոցառման դասիչը՝ | C119: 11007 | D119: Տարի
B120: Միջոցառման անվանումը՝ | C120: Մարզիչ-մանկավարժների վերապատրաստման կազմակերպում
B121: Նկարագրությունը՝ | C121: Մանկապատանեկան մարզադպրոցներում աշխատող մարզիչ-մանկավարժների վերապատրաստման կազմակերպում
B122: Միջոցառման տեսակը՝ | C122: Ծառայությունների մատուցում
B123: Ծառայությունը մատուցող կազմակերպության(ների) անվանում(ներ)ը՛ | C123: Մասնագիտացված կազմակերպություններ
B124: Արդյունքի չափորոշիչներ
B125: Վերապատրաստվող մարզիչ-մանկավարժների թիվ, մարդ | D125: -119
B126: Միջոցառման վրա կատարվող ծախսը (հազար դրամ) | D126: ='Havelvac 1'!D86 -> -5490.6
...

Sheet Havelvac 5
A1: Հավելված N 5
A2: ՀՀ կառավարության 2024թվականի
A3: ______________ ի ___Ն որոշման
B5: ՀԱՅԱՍՏԱՆԻ ՀԱՆՐԱՊԵՏՈՒԹՅԱՆ ԿԱՌԱՎԱՐՈՒԹՅԱՆ 2023 ԹՎԱԿԱՆԻ ԴԵԿՏԵՄԲԵՐԻ 28-Ի N 2323-Ն ՈՐՈՇՄԱՆ N 9.1 ՀԱՎԵԼՎԱԾԻ N 9.1.13 ԱՂՅՈՒՍԱԿՈՒՄ ԿԱՏԱՐՎՈՂ ՓՈՓՈԽՈՒԹՅՈՒՆՆԵՐԸ
A7: Աղյուսակ 9․1.13
C8: ՀՀ կրթության, գիտության, մշակույթի և սպորտի նախարարություն
B9: ՄԱՍ 2. ՊԵՏԱԿԱՆ ՄԱՐՄՆԻ ԳԾՈՎ ԱՐԴՅՈՒՆՔԱՅԻՆ (ԿԱՏԱՐՈՂԱԿԱՆ) ՑՈՒՑԱՆԻՇՆԵՐԸ
B13: Ծրագրի դասիչը | C13: Ծրագրի անվանումը
B14: 1041 | C14: Մեծ նվաճումների սպորտ
B17: Ծրագրի միջոցառումները
B18: Ծրագրի դասիչը՝ | C18: 1041 | D18: Ցուցանիշների փոփոխությունը (ավելացումները նշված են դրական նշանով)
B19: Միջոցառման դասիչը՝ | C19: 12001 | D19: Տարի
B20: Միջոցառման անվանումը՝ | C20: Միջազգային մարզական միջոցառումների հաղթողներին և մրցանակակիրներին դրամական մրցանակների հանձնում
B21: Նկարագրությունը՝ | C21: Միջազգային մարզական միջոցառումների հաղթողներին և մրցանակակիրներին դրամական մրցանակների հանձնում
B22: Միջոցառման տեսակը՝ | C22: Տրանսֆերտների տրամադրում
B23: Շահառուների ընտրության չափանիշները | C23: Հայաստանի Հանրապետության կառավարության 2015 թվականի նոյեմբերի 5-ի N1282-Ն որոշմամբ սահմանված մարզիկներ, անձնական մարզիչներ, երկրորդ մարզիչներ, բժիշկներ
B24: Արդյունքի չափորոշիչներ
B25: Միջոցառման վրա կատարվող ծախսը (հազար դրամ) | D25: ='Havelvac 1'!D19 -> 411270
B27: Ծրագրի միջոցառումները
B28: Ծրագրի դասիչը՝ | C28: 1041 | D28: Ցուցանիշների փոփոխությունը (նվազեցումները նշված են փակագծերում)
B29: Միջոցառման դասիչը՝ | C29: 11001 | D29: Տարի
B30: Միջոցառման անվանումը՝ | C30: ՀՀ առաջնություններին և միջազգային միջոցառումներին մասնակցության ապահովման համար մարզիկների նախապատրաստում և առաջնությունների անցկացում
B31: Նկարագրությունը՝ | C31: Մարզաձևերի ազգային ֆեդերացիաների կողմից մարզիկների պատրաստում և տարբեր մարզաձևերի ՀՀ առաջնությունների և միջազգային մրցաշարերի անցկացում, ուսումնամարզական հավաքների կազմակերպում և միջազգային միջոցառումներին մասնակցություն
B32: Միջոցառման տեսակը՝ | C32: Ծառայությունների մատուցում
B33: Ծառայությունը մատուցող կազմակերպությունների անվանումը | C33: Մասնագիտացված կազմակերպություններ
B34: Արդյունքի չափորոշիչներ
B35: Միջոցառման վրա կատարվող ծախսը (հազար դրամ) | D35: ='Havelvac 1'!D25 -> -8000
B38: Ծրագրի միջոցառումները
B39: Ծրագրի դասիչը՝ | C39: 1041 | D39: Ցուցանիշների փոփոխությունը (նվազեցումները նշված են փակագծերում)
B40: Միջոցառման դասիչը՝ | C40: 11010 | D40: Տարի
B41: Միջոցառման անվանումը՝ | C41: Ամառային օլիմպիական խաղերին Հայաստանի մարզական պատվիրակության մասնակցության ապահովում
B42: Նկարագրությունը՝ | C42: Ամառային օլիմպիական խաղերին Հայաստանի մարզական պատվիրակության մասնակցության ապահովում
B43: Միջոցառման տեսակը՝ | C43: Ծառայությունների մատուցում
B44: Ծառայությունը մատուցող կազմակերպությունների անվանումը | C44: Մասնագիտացված կազմակերպություններ
B45: Արդյունքի չափորոշիչներ
B46: Մասնակիցների թիվ, մարդ, այդ թվում՛ | D46: -10
B47: իգական սեռի | D47: -4
B48: արական սեռի | D48: -6
B49: Միջոցառման վրա կատարվող ծախսը (հազար դրամ) | D49: ='Havelvac 1'!D31 -> -10000
B52: Ծրագրի միջոցառումները
B53: Ծրագրի դասիչը՝ | C53: 1041 | D53: Ցուցանիշների փոփոխությունը (նվազեցումները նշված են փակագծերում)
B54: Միջոցառման դասիչը՝ | C54: 12002 | D54: Տարի
B55: Միջոցառման անվանումը՝ | C55: ՀՀ հավաքական թիմերի գլխավոր և ավագ մարզիչների վարձատրություն և աշխարհի չեմպիոններին, օլիմպիական խաղերի և շախմատի համաշխարհային օլիմպիադայի մրցանակակիրներին պատվովճարի հատկացում
B56: Նկարագրությունը՝ | C56: ՀՀ հավաքական թիմերի գլխավոր և ավագ մարզիչների վարձատրություն և աշխարհի չեմպիոններին, օլիմպիական խաղերի և շախմատի համաշխարհային օլիմպիադայի մրցանակակիրներին պատվովճարի հատկացում
B57: Միջոցառման տեսակը՝ | C57: Տրանսֆերտների տրամադրում
B58: Շահառուների ընտրության չափանիշները | C58: Հ կառավարության 2015 թ. օգոստոսի 13-ի N925-Ն որոշմամբ սահմանված ՀՀ հավաքական թիմերի գլխավոր և ավագ մարզիչներ, օլիմպիական խաղերի ծրագրում ընդգրկված մարզաձևերի, շախմատի և սամբոյի աշխարհի առաջնություններում չեմպիոն դարձած մարզիկներ
B59: Արդյունքի չափորոշիչներ
B60: Միջոցառման վրա կատարվող ծախսը (հազար դրամ) | D60: ='Havelvac 1'!D37 -> -9600
B62: Ծրագրի դասիչը | C62: Ծրագրի անվանումը
B63: 1163 | C63: Մասսայական սպորտ
B65: Ծրագրի միջոցառումները
B66: Ծրագրի դասիչը՝ | C66: 1163 | D66: Ցուցանիշների փոփոխությունը (նվազեցումները նշված են փակագծերում)
B67: Միջոցառման դասիչը՝ | C67: 11018 | D67: Տարի
B68: Միջոցառման անվանումը՝ | C68: «Հայաստանի Հանրապետության Վարչապետի գավաթ» սիրողական խճուղային հեծանվավազքի մրցաշարի անցկացում
B69: Նկարագրությունը՝ | C69: «Հայաստանի Հանրապետության Վարչապետի գավաթ» սիրողական խճուղային հեծանվավազքի մրցաշարի կազմակերպում և անցկացում
B70: Միջոցառման տեսակը՝ | C70: Ծառայությունների մատուցում
B71: Ծառայությունը մատուցող կազմակերպությունների անվանումը | C71: Մասնագիտացված կազմակերպություն
B72: Արդյունքի չափորոշիչներ
B73: Միջոցառման վրա կատարվող ծախսը (հազար դրամ) | D73: ='Havelvac 1'!D50 -> -8000
B75: Ծրագրի միջոցառումները
B76: Ծրագրի դասիչը՝ | C76: 1163 | D76: Ցուցանիշների փոփոխությունը (նվազեցումները նշված են փակագծերում)
B77: Միջոցառման դասիչը՝ | C77: 11024 | D77: Տարի
B78: Միջոցառման անվանումը՝ | C78: Հայաստանի Հանրապետության վարչապետի հովանու ներքո ուժային կառույցների միջև անցկացվող բանակային խաղեր
B79: Նկարագրությունը՝ | C79: Ռազմակիրառական մարզաձևերի մասսայականացում, ֆիզիկական պատրաստականության դերի ու նշանակության բարձրացում, ինչպես նաև կառույցների միջև մարզական առողջ մթնոլորտի ստեղծում
B80: Միջոցառման տեսակը՝ | C80: Ծառայությունների մատուցում
B81: Ծառայությունը մատուցող կազմակերպությունների անվանումը | C81: Մասնագիտացված կազմակերպություն
B82: Արդյունքի չափորոշիչներ
B83: Միջոցառման վրա կատարվող ծախսը (հազար դրամ) | D83: ='Havelvac 1'!D56 -> -11885
B86: Ծրագրի միջոցառումները
B87: Ծրագրի դասիչը՝ | C87: 1163 | D87: Ցուցանիշների փոփոխությունը (նվազեցումները նշված են փակագծերում)
B88: Միջոցառման դասիչը՝ | C88: 11025 | D88: Տարի
B89: Միջոցառման անվանումը՝ | C89: Հայաստանի Հանրապետության մարզերում դպրոցահասակ երեխաների առողջ ապրելակերպի խրախուսում
B90: Նկարագրությունը՝ | C90: Պետություն-մասնավոր գործընկերության շրջանակներում մասնավոր լողավազաններում դպրոցահասակ երեխաների լողի ուսուցման կազմակերպում ՀՀ մարզերում
B91: Միջոցառման տեսակը՝ | C91: Ծառայությունների մատուցում
B92: Ծառայությունը մատուցող կազմակերպությունների անվանումը | C92: Մասնագիտացված կազմակերպություն
B93: Արդյունքի չափորոշիչներ
B94: Միջոցառման վրա կատարվող ծախսը (հազար դրամ) | D94: ='Havelvac 1'!D62 -> -528
B98: Ծրագրի դասիչը | C98: Ծրագրի անվանումը
B99: 1115 | C99: Երիտասարդության ծրագիր
B102: Ծրագրի միջոցառումները
B103: Ծրագրի դասիչը՝ | C103: 1115 | D103: Ցուցանիշների փոփոխությունը (նվազեցումները նշված են փակագծերում)
B104: Միջոցառման դասիչը՝ | C104: 32001 | D104: Տարի
B105: Միջոցառման անվանումը՝ | C105: Երիտասարդական կենտրոնների ստեղծում
B106: Նկարագրությունը՝ | C106: Հասարակական կյանքին երիտասարդների ակտիվ մասնակցության, երիտասարդության շրջանում առողջ ապրելակերպի, հոգևոր-մշակութային, հայրենասիրական դաստիարակության խթանում, երիտասարդների զբաղվածության հնարավորությունների մեծացում
B107: Միջոցառման տեսակը՝ | C107: Այլ պետական կազմակերպությունների կողմից օգտագործվող ոչ ֆինանսական ակտիվների հետ գործառնություններ
B108: Ակտիվն օգտագործող կազմակերպությունների անվանումները | C108: Երիտասարդական կենտրոններ
B109: Արդյունքի չափորոշիչներ
B110: Միջոցառման վրա կատարվող ծախսը (հազար դրամ) | D110: ='Havelvac 1'!D74 -> -5306
B115: Ծրագրի դասիչը | C115: Ծրագրի անվանումը
B116: 1148 | C116: Արտադպրոցական դաստիարակության ծրագիր
B120: Ծրագրի միջոցառումները
B121: Ծրագրի դասիչը՝ | C121: 1148 | D121: Ցուցանիշների փոփոխությունը (նվազեցումները նշված են փակագծերում)
B122: Միջոցառման դասիչը՝ | C122: 11007 | D122: Տարի
B123: Միջոցառման անվանումը՝ | C123: Մարզիչ-մանկավարժների վերապատրաստման կազմակերպում
B124: Նկարագրությունը՝ | C124: Մանկապատանեկան մարզադպրոցներում աշխատող մարզիչ-մանկավարժների վերապատրաստման կազմակերպում
B125: Միջոցառման տեսակը՝ | C125: Ծառայությունների մատուցում
B126: Ծառայությունը մատուցող կազմակերպության(ների) անվանում(ներ)ը՛ | C126: Մասնագիտացված կազմակերպություններ
B127: Արդյունքի չափորոշիչներ
B128: Վերապատրաստվող մարզիչ-մանկավարժների թիվ, մարդ | D128: -119
B129: Միջոցառման վրա կատարվող ծախսը (հազար դրամ) | D129: ='Havelvac 1'!D86 -> -5490.6
...
