Workbook
Name _tab10: #REF!
Name _tab10: #REF!
Name _tab11: #REF!
Name _tab11: #REF!
Name _tab12: #REF!
Name _tab12: #REF!
Name _tab13: #REF!
Name _tab13: #REF!
Name _tab14: #REF!
Name _tab14: #REF!
Name _tab15: #REF!
Name _tab15: #REF!
Name _tab16: #REF!
Name _tab16: #REF!
Name _tab17: #REF!
Name _tab17: #REF!
Name _tab18: #REF!
Name _tab18: #REF!
Name _tab19: #REF!
Name _tab19: #REF!
Name _tab20: #REF!
Name _tab20: #REF!
Name _tab21: #REF!
Name _tab21: #REF!
Name _tab22: #REF!
Name _tab22: #REF!
Name _tab23: #REF!
Name _tab23: #REF!
Name _tab24: #REF!
Name _tab24: #REF!
Name _tab5: #REF!
Name _tab5: #REF!
Name _tab6: #REF!
Name _tab6: #REF!
Name _tab7: #REF!
Name _tab7: #REF!
Name _tab8: #REF!
Name _tab8: #REF!
Name _tab9: #REF!
Name _tab9: #REF!
Name AgencyCode: #REF!
Name AgencyCode: #REF!
Name AgencyName: #REF!
Name AgencyName: #REF!
Name åû: #REF!
Name åû: #REF!
Name davit: #REF!
Name davit: #REF!
Name Functional1: #REF!
Name Functional1: #REF!
Name ggg: #REF!
Name ggg: #REF!
Name hav: #REF!
Name hav: #REF!
Name havelvac: #REF!
Name havelvac: #REF!
Name mas: #REF!
Name mas: #REF!
Name mass: #REF!
Name mass: #REF!

Sheet 1
D1: Հավելված N 1
C2: ՀՀ կառավարության 2024 թվականի
C3: -----------------ի N -----------Ն որոշման
A6: «ՀԱՅԱՍՏԱՆԻ ՀԱՆՐԱՊԵՏՈՒԹՅԱՆ 2024 ԹՎԱԿԱՆԻ ՊԵՏԱԿԱՆ ԲՅՈՒՋԵԻ ՄԱՍԻՆ» ՀԱՅԱՍՏԱՆԻ ՀԱՆՐԱՊԵՏՈՒԹՅԱՆ ՕՐԵՆՔԻ N 1 ՀԱՎԵԼՎԱԾԻ N 2 ԱՂՅՈՒՍԱԿՈՒՄ ԿԱՏԱՐՎՈՂ ՎԵՐԱԲԱՇԽՈՒՄԸ ԵՎ ՀԱՅԱՍՏԱՆԻ ՀԱՆՐԱՊԵՏՈՒԹՅԱՆ ԿԱՌԱՎԱՐՈՒԹՅԱՆ 2023 ԹՎԱԿԱՆԻ ԴԵԿՏԵՄԲԵՐԻ 28-Ի N 2323-Ն ՈՐՈՇՄԱՆ N 5 ՀԱՎԵԼՎԱԾԻ N 1 ԱՂՅՈՒՍԱԿՈՒՄ ԿԱՏԱՐՎՈՂ ՓՈՓՈԽՈՒԹՅՈՒՆՆԵՐԸ
D7: հազար դրամ
A8: Ծրագրային դասիչը | C8: Բյուջետային հատկացումների գլխավոր կարգադրիչների, ծրագրերի և միջոցառումների անվանումները | D8: Ցուցանիշների փոփոխությունները ավելացումները նշված են դրական նշանով, իսկ նվազեցումները՝ փակագծերում
A9: Ծրագիր | B9: Միջոցառում | D9: Տարի
C10: ԸՆԴԱՄԵՆԸ | D10: =SUM(D11,D25) -> 0
C11: ՀՀ աշխատանքի և սոցիալական հարցերի նախարարություն | D11: =D12 -> 38175000
A12: 1102 | C12: Ծրագրի անվանումը` | D12: =D19 -> 38175000
C13: Կենսաթոշակային ապահովություն
C14: Ծրագրի նպատակը`
C15: Կենսաթոշակի իրավունքի իրացում
C16: Վերջնական արդյունքի նկարագրությունը`
C17: Կենսաթոշակների նշանակման և վճարման գործընթացի ապահովում
A18: Ծրագրի միջոցառումներ
B19: 12005 | C19: Միջոցառման անվանումը` | D19: 38175000
C20: Կուտակային հատկացումներ մասնակցի կենսաթոշակային հաշվին
C21: Միջոցառման նկարագրությունը`
C22: «Կուտակային կենսաթոշակների մասին» ՀՀ օրենքով սահմանված կարգով մասնակցի կենսաթոշակային հաշվին կուտակային հատկացումների կատարում
C23: Միջոցառման տեսակը
C24: Տրանսֆերտների տրամադրում
C25: ՀՀ կառավարություն | D25: =SUM(D26) -> -38175000
A26: 1139 | C26: Ծրագրի անվանումը` | D26: =SUM(D33) -> -38175000
C27: ՀՀ կառավարության պահուստային ֆոնդ
C28: Ծրագրի նպատակը՝
C29: Պետական բյուջեում չկանխատեսված, ինչպես նաև բյուջետային երաշխիքների ապահովման ծախսերի ֆինանսավորման ապահովում
C30: Վերջնական արդյունքի նկարագրությունը`
C31: Պահուստային ֆոնդի կառավարման արդյունավետություն և թափանցիկություն
B32: Ծրագրի միջոցառումներ
B33: 11001 | C33: Միջոցառման անվանումը` | D33: -38175000
C34: ՀՀ կառավարության պահուստային ֆոնդ
C35: Միջոցառման նկարագրությունը`
C36: ՀՀ պետական բյուջեում նախատեսված ելքերի լրացուցիչ ֆինանսավորման, պետական բյուջեում չկանխատեսված ելքերի, ինչպես նաև բյուջետային երաշխիքների ապահովման ելքերի ֆինանսավորման ապահովում
C37: Միջոցառման տեսակը
C38: Ծառայությունների մատուցում

Sheet 2
G1: Հավելված N 2
F2: ՀՀ կառավարության 2024 թվականի
F3: -----------------ի N -----------Ն որոշման
A5: ՀԱՅԱՍՏԱՆԻ ՀԱՆՐԱՊԵՏՈՒԹՅԱՆ ԿԱՌԱՎԱՐՈՒԹՅԱՆ 2023 ԹՎԱԿԱՆԻ ԴԵԿՏԵՄԲԵՐԻ 28-Ի N 2323-Ն ՈՐՈՇՄԱՆ NN 3 ԵՎ 4 ՀԱՎԵԼՎԱԾՆԵՐՈՒՄ ԿԱՏԱՐՎՈՂ ՓՈՓՈԽՈՒԹՅՈՒՆՆԵՐԸ
G6: հազար դրամ
A7: Գործառական դասիչը | D7: Ծրագրային դասիչը | F7: Բյուջետային ծախսերի գործառական դասակարգման բաժինների, խմբերի և դասերի, բյուջետային ծրագրերի միջոցառումների, բյուջետային հատկացումների գլխավոր կարգադրիչների անվանումները | G7: Ցուցանիշների փոփոխությունները ավելացումները նշված են դրական նշանով, իսկ նվազեցումները՝ փակագծերում
A8: Բաժինը | B8: Խումբը | C8: Դասը | D8: Ծրագիր | E8: Միջոցառում | G8: Տարի
F9: ԸՆԴԱՄԵՆԸ ԾԱԽՍԵՐ | G9: =G11+G32 -> 0
F10: այդ թվում`
F11: ՀՀ աշխատանքի և սոցիալական հարցերի նախարարություն | G11: =SUM(G13) -> 38175000
F12: այդ թվում`
A13: 10 | F13: ՍՈՑԻԱԼԱԿԱՆ ՊԱՇՏՊԱՆՈՒԹՅՈՒՆ | G13: =G15 -> 38175000
F14: այդ թվում`
B15: 02 | F15: Ծերություն | G15: =G17 -> 38175000
F16: այդ թվում`
C17: 01 | F17: Ծերություն | G17: =G19 -> 38175000
F18: այդ թվում`
F19: ՀՀ աշխատանքի և սոցիալական հարցերի նախարարություն | G19: =G21 -> 38175000
F20: այդ թվում`
D21: 1102 | F21: Կենսաթոշակային ապահովություն | G21: =G23 -> 38175000
F22: այդ թվում`
E23: ='1'!B19 -> 12005 | F23: ='1'!C20 -> Կուտակային հատկացումներ մասնակցի կենսաթոշակային հաշվին | G23: =+G25 -> 38175000
F24: այդ թվում` ըստ կատարողների
F25: ՀՀ պետական եկամուտների կոմիտե | G25: =+G27 -> 38175000
F26: այդ թվում` բյուջետային ծախսերի տնտեսագիտական դասակարգման հոդվածներ
F27: ԸՆԴԱՄԵՆԸ ԾԱԽՍԵՐ | G27: =+G28 -> 38175000
F28: ԸՆԹԱՑԻԿ ԾԱԽՍԵՐ | G28: =+G29 -> 38175000
F29: ՍՈՑԻԱԼԱԿԱՆ ՆՊԱՍՏՆԵՐ ԵՎ ԿԵՆՍԱԹՈՇԱԿՆԵՐ | G29: =+G30 -> 38175000
F30: Կենսաթոշակներ | G30: =+G31 -> 38175000
F31: - Կենսաթոշակներ | G31: ='1'!D19 -> 38175000
F32: ՀՀ կառավարություն | G32: =G34 -> -38175000
F33: այդ թվում`
A34: 11 | F34: ՀԻՄՆԱԿԱՆ ԲԱԺԻՆՆԵՐԻՆ ՉԴԱՍՎՈՂ ՊԱՀՈՒՍՏԱՅԻՆ ՖՈՆԴԵՐ | G34: =G36 -> -38175000
F35: այդ թվում`
B36: 01 | F36: ՀՀ կառավարության և համայնքների պահուստային ֆոնդ | G36: =G38 -> -38175000
F37: այդ թվում`
C38: 01 | F38: ՀՀ կառավարության պահուստային ֆոնդ | G38: =G40 -> -38175000
F39: այդ թվում`
F40: ՀՀ կառավարություն | G40: =G42 -> -38175000
F41: այդ թվում`
D42: 1139 | F42: ՀՀ կառավարության պահուստային ֆոնդ | G42: =SUM(G44) -> -38175000
F43: այդ թվում`
E44: 11001 | F44: ՀՀ կառավարության պահուստային ֆոնդ | G44: =SUM(G46) -> -38175000
F45: այդ թվում` ըստ կատարողների
F46: ՀՀ կառավարություն | G46: =SUM(G48) -> -38175000
F47: այդ թվում` բյուջետային ծախսերի տնտեսագիտական դասակարգման հոդվածներ
F48: ԸՆԴԱՄԵՆԸ ԾԱԽՍԵՐ | G48: =G49+G52 -> -38175000
F49: ԸՆԹԱՑԻԿ ԾԱԽՍԵՐ | G49: =SUM(G51) -> -1000000
F50: ԱՅԼ ԾԱԽՍԵՐ | G50: =SUM(G51) -> -1000000
F51: Պահուստային միջոցներ | G51: -1000000
F52: ՈՉ ՖԻՆԱՆՍԱԿԱՆ ԱԿՏԻՎՆԵՐԻ ԳԾՈՎ ԾԱԽՍԵՐ | G52: =G53 -> -37175000
F53: ՀԻՄՆԱԿԱՆ ՄԻՋՈՑՆԵՐ | G53: =G54 -> -37175000
F54: ՇԵՆՔԵՐ ԵՎ ՇԻՆՈՒԹՅՈՒՆՆԵՐ | G54: =G55 -> -37175000
F55: - Շենքերի և շինությունների շինարարություն | G55: -37175000

Sheet 3
C1: Հավելված N 3
C2: ՀՀ կառավարության 2024 թվականի
C3: -----------------ի N -----------Ն որոշման
A6: ՀԱՅԱՍՏԱՆԻ ՀԱՆՐԱՊԵՏՈՒԹՅԱՆ ԿԱՌԱՎԱՐՈՒԹՅԱՆ 2023 ԹՎԱԿԱՆԻ ԴԵԿՏԵՄԲԵՐԻ 28-Ի N 2323-Ն ՈՐՈՇՄԱՆ N 9 ՀԱՎԵԼՎԱԾԻ N 9.15 ԵՎ 9․48 ԱՂՅՈՒՍԱԿՆԵՐՈՒՄ ԿԱՏԱՐՎՈՂ ՓՈՓՈԽՈՒԹՅՈՒՆՆԵՐԸ
A8: ՄԱՍ 2. ՊԵՏԱԿԱՆ ՄԱՐՄՆԻ ԳԾՈՎ ԱՐԴՅՈՒՆՔԱՅԻՆ (ԿԱՏԱՐՈՂԱԿԱՆ) ՑՈՒՑԱՆԻՇՆԵՐԸ
A10: Հայաստանի Հանրապետության աշխատանքի և սոցիալական հարցերի նախարարություն
A13: Ծրագրի դասիչը | B13: Ծրագրի անվանումը
A14: 1102 | B14: Կենսաթոշակային ապահովություն
A15: Ծրագրի միջոցառումները
A17: Ծրագրի դասիչը` | B17: 1102 | C17: Ցուցանիշների փոփոխությունները ավելացումները նշված են դրական նշանով
A18: Միջոցառման դասիչը` | B18: 12005 | C18: Տարի
A19: Միջոցառման անվանումը` | B19: Կուտակային հատկացումներ մասնակցի կենսաթոշակային հաշվին
A20: Նկարագրությունը` | B20: «Կուտակային կենսաթոշակների մասին» ՀՀ օրենքով սահմանված կարգով մասնակցի կենսաթոշակային հաշվին կուտակային հատկացումների կատարում
A21: Միջոցառման տեսակը` | B21: Տրանսֆերտների տրամադրում
A22: Շահառուների ընտրության չափանիշները | B22: Կուտակային կենսաթոշակային համակարգի մասնակիցներ
A23: Արդյունքի չափորոշիչներ
A24: Միջոցառման վրա կատարվող ծախսը (հազար դրամ) | C24: =SUM('1'!D19) -> 38175000
A27: ՀՀ կառավարություն
A30: Ծրագրի դասիչը | B30: Ծրագրի անվանումը
A31: 1139 | B31: ՀՀ կառավարության պահուստային ֆոնդ
A32: Ծրագրի միջոցառումները
A34: Ծրագրի դասիչը` | B34: 1139 | C34: Ցուցանիշների փոփոխությունները նվազեցումները նշված են փակագծերում
A35: Միջոցառման դասիչը` | B35: 11001 | C35: Տարի
A36: Միջոցառման անվանումը` | B36: ՀՀ կառավարության պահուստային ֆոնդ
A37: Նկարագրությունը` | B37: ՀՀ պետական բյուջեում նախատեսված ելքերի լրացուցիչ ֆինանսավորման, պետական բյուջեում չկանխատեսված ելքերի, ինչպես նաև բյուջետային երաշխիքների ապահովման ելքերի ֆինանսավորման ապահովում
A38: Միջոցառման տեսակը` | B38: Ծառայությունների մատուցում
A39: Միջոցառումն իրականացնողի անվանումը | B39: ՀՀ կառավարություն
A40: Արդյունքի չափորոշիչներ
A41: Միջոցառման վրա կատարվող ծախսը (հազար դրամ) | C41: =SUM('1'!D33) -> -38175000

Sheet 4
C1: Հավելված N 4
C2: ՀՀ կառավարության 2024 թվականի
C3: -----------------ի N -----------Ն որոշման
A5: ՀԱՅԱՍՏԱՆԻ ՀԱՆՐԱՊԵՏՈՒԹՅԱՆ ԿԱՌԱՎԱՐՈՒԹՅԱՆ 2023 ԹՎԱԿԱՆԻ ԴԵԿՏԵՄԲԵՐԻ 28-Ի N 2323-Ն ՈՐՈՇՄԱՆ N 9.1 ՀԱՎԵԼՎԱԾԻ NN9.1.27 և 9.1.58 ԱՂՅՈՒՍԱԿՆԵՐՈՒՄ ԿԱՏԱՐՎՈՂ ՓՈՓՈԽՈՒԹՅՈՒՆՆԵՐԸ
A6: ՄԱՍ 1. ՊԵՏԱԿԱՆ ՄԱՐՄՆԻ ԳԾՈՎ ԱՐԴՅՈՒՆՔԱՅԻՆ (ԿԱՏԱՐՈՂԱԿԱՆ) ՑՈՒՑԱՆԻՇՆԵՐԸ
A7: ՀՀ պետական եկամուտների կոմիտե
A9: Ծրագրի դասիչը | B9: Ծրագրի անվանումը
A10: 1102 | B10: ='1'!C13 -> Կենսաթոշակային ապահովություն
A11: Ծրագրի միջոցառումները
A13: Ծրագրի դասիչը` | B13: 1102 | C13: Ցուցանիշների փոփոխությունները ավելացումները նշված են դրական նշանով
A14: Միջոցառման դասիչը` | B14: 12005 | C14: Տարի
A15: Միջոցառման անվանումը` | B15: Կուտակային հատկացումներ մասնակցի կենսաթոշակային հաշվին
A16: Նկարագրությունը` | B16: «Կուտակային կենսաթոշակների մասին» ՀՀ օրենքով սահմանված կարգով մասնակցի կենսաթոշակային հաշվին կուտակային հատկացումների կատարում
A17: Միջոցառման տեսակը` | B17: Տրանսֆերտների տրամադրում
A18: Շահառուների ընտրության չափանիշները | B18: Կուտակային կենսաթոշակային համակարգի մասնակիցներ
A19: Արդյունքի չափորոշիչներ
A20: Միջոցառման վրա կատարվող ծախսը (հազար դրամ) | C20: ='3'!C24 -> 38175000
A22: ՀՀ կառավարություն
A24: Ծրագրի դասիչը | B24: Ծրագրի անվանումը
A25: 1139 | B25: ՀՀ կառավարության պահուստային ֆոնդ
A26: Ծրագրի միջոցառումները
A28: Ծրագրի դասիչը` | B28: 1139 | C28: Ցուցանիշների փոփոխությունները նվազեցումները նշված են փակագծերում
A29: Միջոցառման դասիչը` | B29: 11001 | C29: Տարի
A30: Միջոցառման անվանումը` | B30: ՀՀ կառավարության պահուստային ֆոնդ
A31: Նկարագրությունը` | B31: ՀՀ պետական բյուջեում նախատեսված ելքերի լրացուցիչ ֆինանսավորման, պետական բյուջեում չկանխատեսված ելքերի, ինչպես նաև բյուջետային երաշխիքների ապահովման ելքերի ֆինանսավորման ապահովում
A32: Միջոցառման տեսակը` | B32: Ծառայությունների մատուցում
A33: Միջոցառումն իրականացնողի անվանումը | B33: ՀՀ կառավարություն
A34: Արդյունքի չափորոշիչներ
A35: Միջոցառման վրա կատարվող ծախսը (հազար դրամ) | C35: =SUM('1'!D33) -> -38175000
