Workbook
Name AgencyCode: #REF!
Name AgencyName: #REF!
Name davit: #REF!
Name Functional1: #REF!
Name ggg: #REF!
Name PANature: #REF!
Name PAType: #REF!
Name Performance2: #REF!
Name PerformanceType: #REF!
Name Հավելված: #REF!
Name Մաս: #REF!
Name շախմատիստ: #REF!

Sheet 1
A1: Հավելված № 1 ՀՀ կառավարության 2024 թվականի ––-------------------–––––––– N –––––– որոշման
A4: «ՀԱՅԱՍՏԱՆԻ ՀԱՆՐԱՊԵՏՈՒԹՅԱՆ 2024 ԹՎԱԿԱՆԻ ՊԵՏԱԿԱՆ ԲՅՈՒՋԵԻ ՄԱՍԻՆ» ՕՐԵՆՔԻ N 1 ՀԱՎԵԼՎԱԾԻ N 2 ԱՂՅՈՒՍԱԿՈՒՄ ԿԱՏԱՐՎՈՂ ՎԵՐԱԲԱՇԽՈՒՄԸ ԵՎ ՀԱՅԱՍՏԱՆԻ ՀԱՆՐԱՊԵՏՈՒԹՅԱՆ ԿԱՌԱՎԱՐՈՒԹՅԱՆ 2023 ԹՎԱԿԱՆԻ ԴԵԿՏԵՄԲԵՐԻ 28-Ի N 2323-Ն ՈՐՈՇՄԱՆ N 5 ՀԱՎԵԼՎԱԾԻ N 1 ԱՂՅՈՒՍԱԿՈՒՄ ԿԱՏԱՐՎՈՂ ՓՈՓՈԽՈՒԹՅՈՒՆՆԵՐԸ
D5: հազար դրամներով
A6: Ծրագրային դասիչը | C6: Բյուջետային հատկացումների գլխավոր կարգադրիչների, ծրագրերի և միջոցառումների անվանումները | D6: Ցուցանիշների փոփոխությունը (ավելացումները նշված են դրական նշանով, իսկ նվազեցումները` փակագծերում)
A7: ծրագիրը | B7: միջոցառումը | D7: Տարի
A8: ԸՆԴԱՄԵՆԸ | D8: =+D9 -> 0
A9: ՀՀ էկոնոմիկայի նախարարություն | D9: =+D10+D42+D61+D80+D29 -> 0
A10: 1022 | C10: Ծրագրի անվանումը` | D10: =D17+D23 -> 87343.6
C11: Գյուղատնտեսության խթանման ծրագիր
C12: Ծրագրի նպատակը`
C13: Գյուղատնտեսական մթերքի և դրանց վերամշակումից ստացվող սննդամթերքի ծավալների ավելացում
C14: Վերջնական արդյունքի նկարագրությունը`
C15: Գյուղատնտեսական մթերքների ծավալների ավելացում: Օգտագործվող վարելահողերի ավելացում: Պտուղբանջարեղենի և խաղողի վերամշակումից ստացված արտադրանքի ծավալների աճ
B16: Ծրագրի միջոցառումներ
B17: 11002 | C17: Միջոցառման անվանումը` | D17: 35843.6
C18: Պետական աջակցություն Հայաստանի Հանրապետության գյուղատնտեսական ծրագրերի իրականացմանը
C19: Միջոցառման նկարագրությունը`
C20: Աջակցություն Հայաստանի Հանրապետության բուսաբուծության խթանման, բույսերի պաշտպանության և անասնաբուժական ծրագրերի իրականացմանը
C21: Միջոցառման տեսակը
C22: Ծառայությունների մատուցում
B23: 12015 | C23: Միջոցառման անվանումը` | D23: 51500
C24: Կոնյակի սպիրտի արտահանման աջակցության ծրագրի շրջանակներում տրամադրվող աջակցություն
C25: Միջոցառման նկարագրությունը`
C26: Կոնյակի և բրենդիի սպիրտներ արտադրողի կողմից 100 հազար (100 տոկոսանոց սպիրտի հաշվարկով) լիտրը գերազանցելուց հետո այլ խմբաքանակների իրացման իրավունքի ձեռքբերման համար տնտեսավարող սուբյեկտի կողմից վճարված լրացուցիչ 100 դրամ պետական տուրքի շրջանակներում արտահանված կոնյակի սպիրտին համարժեք տուրքի չափով աջակցության տրամադրում
C27: Միջոցառման տեսակը
C28: Տրանսֆերտների տրամադրում
A29: 1058 | C29: Ծրագրի անվանումը` | D29: =+D36 -> -35843.6
C30: Էկոնոմիկայի ոլորտում պետական քաղաքականության մշակում, ծրագրերի համակարգում և մոնիտորինգ
C31: Ծրագրի նպատակը`
C32: Էկոնոմիկայի ոլորտում պետական արդյունավետ քաղաքականության մշակման և իրականացման ապահովում
C33: Վերջնական արդյունքի նկարագրությունը`
C34: Էկոնոմիկայի ոլորտում իրականացվող ծրագրերի ազդեցության և արդյունավետության բարելավում
B35: Ծրագրի միջոցառումներ
B36: 11001 | C36: Միջոցառման անվանումը` | D36: -35843.6
C37: Էկոնոմիկայի ոլորտում պետական քաղաքականության մշակում, ծրագրերի համակարգում և մոնիտորինգ
C38: Միջոցառման նկարագրությունը`
C39: Քաղաքականության մշակման և դրա կատարման համակարգման, պետական ծրագրերի պլանավորման, մշակման, իրականացման և մոնիտորինգի (վերահսկման) ծառայություններ
C40: Միջոցառման տեսակը
C41: Ծառայությունների մատուցում
A42: 1059 | C42: Ծրագրի անվանումը` | D42: =D49+D55 -> 73377.7
C43: Բուսաբուծության խթանում և բույսերի պաշտպանություն
C44: Ծրագրի նպատակը`
C45: Հողագործությունից ստացվող արդյունքի բարելավում
C46: Վերջնական արդյունքի նկարագրությունը`
C47: Մշակաբույսերի միջին բերքատվության բարձրացում ՀՀ գյուղատնտեսական նշանակության ողջ հողատարածքի համար կազմված ագրոքիմիական քարտեզներով ապահովվածություն Հացահատիկի և հատիկաընդեղենի արտադրության ծավալների ավելացում
B48: Ծրագրի միջոցառումներ
B49: 11010 | C49: Միջոցառման անվանումը` | D49: 2201.4
C50: ՀՀ-ում գարնանացան մշակաբույսերի և բազմամյա խոտաբույսերի ցանքատարածությունների մոնիթորինգի իրականացմանն աջակցություն
C51: Միջոցառման նկարագրությունը`
C52: Համայնքների կողմից գարնանացան մշակաբույսերի և բազմամյա խոտաբույսերի մոնիթորինգի իրականացում, արդյունքների ամփոփում և համապատասխան տեղեկատվության ներկայացում
C53: Միջոցառման տեսակը
C54: Ծառայությունների մատուցում
B55: 12003 | C55: Միջոցառման անվանումը` | D55: 71176.3
C56: ՀՀ-ում գարնանացան մշակաբույսերի և բազմամյա խոտաբույսերի մշակության հիմնական աշխատանքների համար կատարված ծախսերի մասնակի փոխհատուցման տրամադրում
C57: Միջոցառման նկարագրությունը`
C58: Գարնանացան մշակաբույսերի և բազմամյա խոտաբույսերի ցանքատարածությունների ընդլայնմանը նպաստելու նպատակով մշակության հիմնական աշխատանքների համար կատարված ծախսերի մասնակի փոխհատուցում
C59: Միջոցառման տեսակը
C60: Տրանսֆերտների տրամադրում
A61: 1165 | C61: Ծրագրի անվանումը` | D61: =D68+D74 -> -24156.4
C62: Ներդրումների և արտահանման խթանման ծրագիր
C63: Ծրագրի նպատակը`
C64: Ներդրումների ներգրավման և արտահանման խթանում
C65: Վերջնական արդյունքի նկարագրությունը`
C66: Նախորդ տարվա համեմատ ներդրումների և արտահանման ծավալների աճ
B67: Ծրագրի միջոցառումներ
B68: 11012 | C68: Միջոցառման անվանումը` | D68: -14156.4
C69: Թողարկման և վարկանիշավորման պետական աջակցության ծրագիր
C70: Միջոցառման նկարագրությունը`
C71: Պարտատոմսերի և բաժնետոմսերի թողարկման, տեղաբաշխման և բորսայում ցուցակման համար օժանդակություն և միջազգային վարկանիշային գործակալություններից վարկանիշի ստացման և սպասարկման առաջին 12 ամիսների ծախսերի մասնակի փոխհատուցում
C72: Միջոցառման տեսակը
C73: Ծառայությունների մատուցում
B74: 11014 | C74: Միջոցառման անվանումը` | D74: -10000
C75: Տեղական արտադրության դեղերի ներկայացման հեռուստահաղորդաշարի պատրաստում և հեռարձակման ապահովում
C76: Միջոցառման նկարագրությունը`
C77: Ընկերությունների մասին պատմող ճանաչողական հաղորդաշարերի հեռարձակում
C78: Միջոցառման տեսակը
C79: Ծառայությունների մատուցում
A80: 1187 | C80: Ծրագրի անվանումը` | D80: =+D87+D93+D99+D105 -> -100721.3
C81: Գյուղատնտեսության արդիականացման ծրագիր
C82: Ծրագրի նպատակը`
C83: Գյուղատնտեսական տեխնիկական համակարգերի արդիականացում, ինտենսիվ այգիների ներդրման և տոհմաբուծության մեջ նոր ցեղատեսակների բուծման աջակցություն
C84: Վերջնական արդյունքի նկարագրությունը`
C85: Ոռոգման արդիական համակարգեր ներդրված հողատարածքների և տոհմային կենդանիների տեսակարար կշռի ավելացում
B86: Ծրագրի միջոցառումներ
B87: 12004 | C87: Միջոցառման անվանումը` | D87: =-82238.1+5000+3500-2483.2 -> -76221.3
C88: Հայաստանի Հանրապետության ագրոպարենային ոլորտի սարքավորումների լիզինգի աջակցության ծրագիր
C89: Միջոցառման նկարագրությունը`
C90: Ագրոպարենային ոլորտի սարքավորումների տրամադրման լիզինգի տոկոսադրույքների սուբսիդավորում
C91: Միջոցառման տեսակը
C92: Տրանսֆերտների տրամադրում
B93: 12008 | C93: Միջոցառման անվանումը` | D93: -3500
C94: Հայաստանի Հանրապետությունում 2019-2024 թվականների տավարաբուծության զարգացման ծրագիր
C95: Միջոցառման նկարագրությունը`
C96: Հանրապետությունում խոշոր եղջերավոր տոհմային կենդանիների ձեռքբերման համար տրմադրվող նպատակային վարկերի տոկոսադրույքների սուբսիդավորում
C97: Միջոցառման տեսակը
C98: Տրանսֆերտների տրամադրում
B99: 12018 | C99: Միջոցառման անվանումը` | D99: -11000
C100: Ոչխարաբուծության և այծաբուծության զարգացման ծրագրին աջակցություն
C101: Միջոցառման նկարագրությունը`
C102: Արտերկրից բարձր մթերատու ոչխարի և այծերի ցեղերի տոհմային կենդանիների ներկրման, ինչպես նաև ՀՀ-ից ձեռքբերումների շարունակականության ապահովում
...

Sheet 2
G1: Հավելված № 2
G2: ՀՀ կառավարության 2024 թվականի
G3: ______________ ի ___Ն որոշման
A5: ՀԱՅԱՍՏԱՆԻ ՀԱՆՐԱՊԵՏՈՒԹՅԱՆ ԿԱՌԱՎԱՐՈՒԹՅԱՆ 2023 ԹՎԱԿԱՆԻ ԴԵԿՏԵՄԲԵՐԻ 28-Ի N 2323-Ն ՈՐՈՇՄԱՆ N3 և 4 ՀԱՎԵԼՎԱԾՆԵՐՈՒՄ ԿԱՏԱՐՎՈՂ ՓՈՓՈԽՈՒԹՅՈՒՆՆԵՐԸ
G6: հազար դրամներով
A7: Գործառական դասիչը | D7: Ծրագրային դասիչը | F7: Բյուջետային ծախսերի գործառական դասակարգման բաժինների, խմբերի և դասերի, բյուջետային ծրագրերի, միջոցառումների բյուջետային հատկացումնեյի գլխավոր կարկադրիչների անվանումները | G7: Ցուցանիշների փոփոխությունը (ավելացումները նշված են դրական նշանով, իսկ նվազեցումները` փակագծերում)
A8: Բաժին | B8: Խումբ | C8: Դաս | D8: Ծրագիր | E8: Միջոցառում | G8: Տարի
F9: ԸՆԴԱՄԵՆԸ ԾԱԽՍԵՐ | G9: =G11 -> 0
F10: այդ թվում՝
F11: ՀՀ էկոնոմիկայի նախարարություն | G11: =G13+G52 -> 0
F12: այդ թվում`
A13: 04 | F13: ՏՆՏԵՍԱԿԱՆ ՀԱՐԱԲԵՐՈՒԹՅՈՒՆՆԵՐ | G13: =+G15 -> -60000
F14: այդ թվում`
B15: 01 | F15: Ընդհանուր բնույթի տնտեսական, առևտրային և աշխատանքի գծով հարաբերություններ | G15: =+G17 -> -60000
F16: այդ թվում`
C17: 01 | F17: Ընդհանուր բնույթի տնտեսական և առևտրային հարաբերություններ | G17: =G19 -> -60000
F18: այդ թվում`
F19: ՀՀ էկոնոմիկայի նախարարություն | G19: =G32+G21 -> -60000
F20: այդ թվում`
D21: 1058 | F21: Էկոնոմիկայի ոլորտում պետական քաղաքականության մշակում, ծրագրերի համակարգում և մոնիտորինգ | G21: =G23 -> -35843.6
F22: այդ թվում`
E23: 11001 | F23: Էկոնոմիկայի ոլորտում պետական քաղաքականության մշակում, ծրագրերի համակարգում և մոնիտորինգ | G23: =+G25 -> -35843.6
F24: այդ թվում` ըստ կատարողների
F25: ՀՀ էկոնոմիկայի նախարարություն | G25: =+G27 -> -35843.6
F26: այդ թվում` բյուջետային ծախսերի տնտեսագիտական դասակարգման հոդվածներ
F27: ԸՆԴԱՄԵՆԸ ԾԱԽՍԵՐ | G27: =+G28 -> -35843.6
F28: ԸՆԹԱՑԻԿ ԾԱԽՍԵՐ | G28: =+G29 -> -35843.6
F29: ԱՇԽԱՏԱՆՔԻ ՎԱՐՁԱՏՐՈՒԹՅՈՒՆ | G29: =G30 -> -35843.6
F30: Դրամով վճարվող աշխատավարձեր և հավելավճարներ | G30: =G31 -> -35843.6
F31: - Պարգևատրումներ, դրամական խրախուսումներ և հատուկ վճարներ | G31: =+'1'!D36 -> -35843.6
D32: 1165 | F32: Ներդրումների և արտահանման խթանման ծրագիր | G32: =G42+G43 -> -24156.4
F33: այդ թվում`
E34: 11012 | F34: Թողարկման և վարկանիշավորման պետական աջակցության ծրագիր | G34: =+G36 -> -14156.4
F35: այդ թվում՝ ըստ կատարողների
F36: ՀՀ էկոնոմիկայի նախարարություն | G36: =+G37 -> -14156.4
F37: այդ թվում՝ բյուջետային ծախսերի տնտեսագիտական դասակարգման հոդվածներ | G37: =+G38 -> -14156.4
F38: ԸՆԴԱՄԵՆԸ ԾԱԽՍԵՐ | G38: =G39 -> -14156.4
F39: ԸՆԹԱՑԻԿ ԾԱԽՍԵՐ | G39: =G42 -> -14156.4
F40: ԴՐԱՄԱՇՆՈՐՀՆԵՐ | G40: =G42 -> -14156.4
F41: Ընթացիկ դրամաշնորհներ պետական հատվածի այլ մակարդակներին | G41: =G42 -> -14156.4
F42: - Այլ ընթացիկ դրամաշնորհներ | G42: =+'1'!D68 -> -14156.4
E43: 11014 | F43: Տեղական արտադրության դեղերի ներկայացման հեռուստահաղորդաշարի պատրաստում և հեռարձակման ապահովում | G43: =+G45 -> -10000
F44: այդ թվում՝ ըստ կատարողների
F45: ՀՀ էկոնոմիկայի նախարարություն | G45: =+G46 -> -10000
F46: այդ թվում՝ բյուջետային ծախսերի տնտեսագիտական դասակարգման հոդվածներ | G46: =+G47 -> -10000
F47: ԸՆԴԱՄԵՆԸ ԾԱԽՍԵՐ | G47: =G48 -> -10000
F48: ԸՆԹԱՑԻԿ ԾԱԽՍԵՐ | G48: =G51 -> -10000
F49: ԾԱՌԱՅՈՒԹՅՈՒՆՆԵՐԻ ԵՎ ԱՊՐԱՆՔՆԵՐԻ ՁԵՌՔԲԵՐՈՒՄ | G49: =G51 -> -10000
F50: Պայմանագրային այլ ծառայությունների ձեռքբերում | G50: =G51 -> -10000
F51: - Տեղեկատվական ծառայություններ | G51: -10000
A52: 04 | F52: ՏՆՏԵՍԱԿԱՆ ՀԱՐԱԲԵՐՈՒԹՅՈՒՆՆԵՐ | G52: =+G54 -> 60000
F53: այդ թվում`
B54: 02 | F54: Գյուղատնտեսություն, անտառային տնտեսություն, ձկնորսություն և որսորդություն | G54: =+G56 -> 60000
F55: այդ թվում`
C56: 01 | F56: Գյուղատնտեսություն | G56: =G58 -> 60000
F57: այդ թվում`
F58: ՀՀ էկոնոմիկայի նախարարություն | G58: =G60+G80+G100 -> 60000
F59: այդ թվում`
D60: 1022 | F60: Գյուղատնտեսության խթանման ծրագիր | G60: =G62+G71 -> 87343.6
F61: այդ թվում`
E62: 11002 | F62: Պետական աջակցություն Հայաստանի Հանրապետության գյուղատնտեսական ծրագրերի իրականացմանը | G62: =+G64 -> 35843.6
F63: այդ թվում՝ ըստ կատարողների
F64: ՀՀ էկոնոմիկայի նախարարություն | G64: =+G65 -> 35843.6
F65: այդ թվում՝ բյուջետային ծախսերի տնտեսագիտական դասակարգման հոդվածներ | G65: =+G66 -> 35843.6
F66: ԸՆԴԱՄԵՆԸ՝ ԾԱԽՍԵՐ | G66: =G67 -> 35843.6
F67: ԸՆԹԱՑԻԿ ԾԱԽՍԵՐ | G67: =G70 -> 35843.6
F68: ԴՐԱՄԱՇՆՈՐՀՆԵՐ | G68: =G70 -> 35843.6
F69: Ընթացիկ դրամաշնորհներ պետական հատվածի այլ մակարդակներին | G69: =G70 -> 35843.6
F70: Ընթացիկ դրամաշնորհներ պետական և համայնքների ոչ առևտրային կազմակերպություններին | G70: 35843.6
E71: 12015 | F71: Կոնյակի սպիրտի արտահանման աջակցության ծրագրի շրջանակներում տրամադրվող աջակցություն | G71: =+G73 -> 51500
F72: այդ թվում՝ ըստ կատարողների
F73: ՀՀ էկոնոմիկայի նախարարություն | G73: =+G74 -> 51500
F74: այդ թվում՝ բյուջետային ծախսերի տնտեսագիտական դասակարգման հոդվածներ | G74: =+G75 -> 51500
F75: ԸՆԴԱՄԵՆԸ՝ ԾԱԽՍԵՐ | G75: =G76 -> 51500
F76: ԸՆԹԱՑԻԿ ԾԱԽՍԵՐ | G76: =G79 -> 51500
F77: ԴՐԱՄԱՇՆՈՐՀՆԵՐ | G77: =G79 -> 51500
F78: Ընթացիկ դրամաշնորհներ պետական հատվածի այլ մակարդակներին | G78: =G79 -> 51500
F79: Այլ ընթացիկ դրամաշնորհներ | G79: 51500
D80: 1059 | F80: Բուսաբուծության խթանում և բույսերի պաշտպանություն | G80: =G82+G91 -> 73377.7
F81: այդ թվում`
E82: 11010 | F82: ՀՀ-ում գարնանացան մշակաբույսերի և բազմամյա խոտաբույսերի ցանքատարածությունների մոնիթորինգի իրականացմանն աջակցություն | G82: =+G84 -> 2201.4
F83: այդ թվում՝ ըստ կատարողների
F84: ՀՀ էկոնոմիկայի նախարարություն | G84: =+G85 -> 2201.4
F85: այդ թվում՝ բյուջետային ծախսերի տնտեսագիտական դասակարգման հոդվածներ | G85: =+G86 -> 2201.4
F86: ԸՆԴԱՄԵՆԸ՝ ԾԱԽՍԵՐ | G86: =G87 -> 2201.4
F87: ԸՆԹԱՑԻԿ ԾԱԽՍԵՐ | G87: =G90 -> 2201.4
F88: ԴՐԱՄԱՇՆՈՐՀՆԵՐ | G88: =G90 -> 2201.4
F89: Ընթացիկ դրամաշնորհներ պետական հատվածի այլ մակարդակներին | G89: =G90 -> 2201.4
F90: Այլ ընթացիկ դրամաշնորհներ համայնքներին | G90: 2201.4
E91: 12003 | F91: ՀՀ-ում գարնանացան մշակաբույսերի և բազմամյա խոտաբույսերի մշակության հիմնական աշխատանքների համար կատարված ծախսերի մասնակի փոխհատուցման տրամադրում | G91: =+G93 -> 71176.3
F92: այդ թվում` ըստ կատարողների
F93: ՀՀ էկոնոմիկայի նախարարություն | G93: =+G95 -> 71176.3
F94: այդ թվում` բյուջետային ծախսերի տնտեսագիտական դասակարգման հոդվածներ
F95: ԸՆԴԱՄԵՆԸ ԾԱԽՍԵՐ | G95: =+G96 -> 71176.3
F96: ԸՆԹԱՑԻԿ ԾԱԽՍԵՐ | G96: =+G97 -> 71176.3
F97: ՍՈՑԻԱԼԱԿԱՆ ՆՊԱՍՏՆԵՐ ԵՎ ԿԵՆՍԱԹՈՇԱԿՆԵՐ | G97: =+G98 -> 71176.3
F98: Սոցիալական օգնության դրամական արտահայտությամբ նպաստներ (բյուջեից) | G98: =+G99 -> 71176.3
F99: - Այլ նպաստներ բյուջեից | G99: 71176.3
D100: 1187 | F100: Գյուղատնտեսության արդիականացման ծրագիր | G100: =+G102+G111+G120+G129 -> -100721.3
F101: այդ թվում`
...

Sheet 3
G1: Հավելված № 3
F2: ՀՀ կառավարության 2024 թվականի
G3: № ------------ -Ն որոշման
B5: ՀԱՅԱՍՏԱՆԻ ՀԱՆՐԱՊԵՏՈՒԹՅԱՆ ԿԱՌԱՎԱՐՈՒԹՅԱՆ 2023 ԹՎԱԿԱՆԻ ԴԵԿՏԵՄԲԵՐԻ 28-Ի N 2323-Ն ՈՐՈՇՄԱՆ N 5 ՀԱՎԵԼՎԱԾԻ 7 ԱՂՅՈՒՍԱԿՈՒՄ ԿԱՏԱՐՎՈՂ ՓՈՓՈԽՈՒԹՅՈՒՆՆԵՐԸ
H6: հազար դրամներով
B7: Ծրագրային դասիչ | D7: Բյուջետային հատկացումների գլխավոր կարգադրիչների, ծրագրերի, միջոցառումների, ծախսային ուղղությունների անվանումները | G7: Միջոցառումները կատարող պետական մարմինների և դրամաշնորհ ստացող տնտեսվարող սուբյեկտների անվանումները | H7: Տարի
B8: Ծրագիր | C8: Միջոցառում | H8: Ցուցանիշների փոփոխությունները (ավելացումները նշված են դրական նշանով, իսկ նվազեցումները` փակագծերում)
B9: 1 | C9: 2 | D9: 3 | G9: 4 | H9: 5
B10: ԸՆԴԱՄԵՆԸ | H10: =+H11 -> 54388.6
B11: ՀՀ էկոնոմիկայի նախարարություն | H11: =+H12+H17+H20+H23 -> 54388.6
B12: 1022 | C12: Գյուղատնտեսության խթանման ծրագիր | H12: =H13+H15 -> 87343.6
C13: 11002 | D13: Պետական աջակցություն Հայաստանի Հանրապետության գյուղատնտեսական ծրագրերի իրականացմանը | G13: ՀՀ էկոնոմիկայի նախարարություն | H13: =+H14 -> 35843.6
G14: «Գյուղատնտեսական ծառայությունների կենտրոն» ՊՈԱԿ | H14: =+'2'!G70 -> 35843.6
C15: 12015 | D15: Կոնյակի սպիրտի արտահանման աջակցության ծրագրի շրջանակներում տրամադրվող աջակցություն | G15: ՀՀ էկոնոմիկայի նախարարություն | H15: =+H16 -> 51500
G16: ՀՀ կառավարության կողմից հաստատված համապատասխան ծրագրի չափանիշները բավարարող շահառուներ | H16: 51500
B17: 1059 | C17: Բուսաբուծության խթանում և բույսերի պաշտպանություն | H17: =+H18 -> 2201.4
C18: 11010 | D18: ՀՀ-ում գարնանացան մշակաբույսերի և բազմամյա խոտաբույսերի ցանքատարածությունների մոնիթորինգի իրականացմանն աջակցություն | G18: ՀՀ էկոնոմիկայի նախարարություն | H18: =+H19 -> 2201.4
G19: ՀՀ կառավարության կողմից հաստատված համապատասխան ծրագրի չափանիշները բավարարող համայնքներ | H19: ='2'!G90 -> 2201.4
B20: 1165 | C20: Ներդրումների և արտահանման խթանման ծրագիր | H20: =+H21 -> -14156.4
C21: 11012 | D21: Թողարկման և վարկանիշավորման պետական աջակցության ծրագիր | G21: ՀՀ էկոնոմիկայի նախարարություն | H21: =+H22 -> -14156.4
G22: ՀՀ կառավարության կողմից հաստատված համապատասխան ծրագրի չափանիշները բավարարող շահառուներ | H22: =+'2'!G42 -> -14156.4
B23: 1187 | C23: Գյուղատնտեսության արդիականացման ծրագիր | H23: =+H24+H26 -> -21000
C24: 12018 | D24: Ոչխարաբուծության և այծաբուծության զարգացման ծրագրին աջակցություն | G24: ՀՀ էկոնոմիկայի նախարարություն | H24: =+H25 -> -11000
G25: ՀՀ կառավարության կողմից հաստատված համապատասխան ծրագրի չափանիշները բավարարող շահառուներ | H25: =+'2'!G128 -> -11000
C26: 12020 | D26: Մեղվաբուծության զարգացման փորձնական ծրագրի իրականացման համար պետական աջակցություն | G26: ՀՀ էկոնոմիկայի նախարարություն | H26: =+H27 -> -10000
G27: ՀՀ կառավարության կողմից հաստատված համապատասխան ծրագրի չափանիշները բավարարող շահառուներ | H27: -10000

Sheet 4
A1: Հավելված № 4 ՀՀ կառավարության 2024 թվականի ––-------------------–––––––– N –––––– որոշման
A5: ՀԱՅԱՍՏԱՆԻ ՀԱՆՐԱՊԵՏՈՒԹՅԱՆ ԿԱՌԱՎԱՐՈՒԹՅԱՆ 2023 ԹՎԱԿԱՆԻ ԴԵԿՏԵՄԲԵՐԻ 28-Ի N 2323-Ն ՈՐՈՇՄԱՆ N 9 ՀԱՎԵԼՎԱԾԻ 9.10 ԵՎ 9.13 ԱՂՅՈՒՍԱԿՆԵՐՈՒՄ ԿԱՏԱՐՎՈՂ ՓՈՓՈԽՈՒԹՅՈՒՆՆԵՐԸ
A7: ՄԱՍ 2. ՊԵՏԱԿԱՆ ՄԱՐՄՆԻ ԳԾՈՎ ԱՐԴՅՈՒՆՔԱՅԻՆ (ԿԱՏԱՐՈՂԱԿԱՆ) ՑՈՒՑԱՆԻՇՆԵՐԸ
A9: Ծրագրի դասիչը | B9: Ծրագրի անվանումը
A10: 1022 | B10: Գյուղատնտեսության խթանման ծրագիր
A12: Ծրագրի միջոցառումները
A14: Ծրագրի դասիչը` | B14: 1022 | C14: Ցուցանիշների փոփոխությունը (ավելացումները նշված են դրական նշանով)
A15: Միջոցառման դասիչը` | B15: 11002 | C15: Տարի
A16: Միջոցառման անվանումը` | B16: Պետական աջակցություն Հայաստանի Հանրապետության գյուղատնտեսական ծրագրերի իրականացմանը
A17: Նկարագրությունը` | B17: Աջակցություն Հայաստանի Հանրապետության բուսաբուծության խթանման, բույսերի պաշտպանության և անասնաբուժական ծրագրերի իրականացմանը
A18: Միջոցառման տեսակը` | B18: Ծառայությունների մատուցում
A19: Միջոցառումն իրականացնողի անվանումը՛ | B19: Մասնագիտացված կազմակերպություններ
A20: Արդյունքի չափորոշիչներ
A21: Միջոցառման վրա կատարվող ծախսը (հազար դրամ) | C21: 35843.6
A22: Ծրագրի դասիչը` | B22: 1022 | C22: Ցուցանիշների փոփոխությունը (ավելացումները նշված են դրական նշանով)
A23: Միջոցառման դասիչը` | B23: 12015 | C23: Տարի
A24: Միջոցառման անվանումը` | B24: Կոնյակի սպիրտի արտահանման աջակցության ծրագրի շրջանակներում տրամադրվող աջակցություն
A25: Նկարագրությունը` | B25: Կոնյակի և բրենդիի սպիրտներ արտադրողի կողմից 100 հազար (100 տոկոսանոց սպիրտի հաշվարկով) լիտրը գերազանցելուց հետո այլ խմբաքանակների իրացման իրավունքի ձեռքբերման համար տնտեսավարող սուբյեկտի կողմից վճարված լրացուցիչ 100 դրամ պետական տուրքի շրջանակներում արտահանված կոնյակի սպիրտին համարժեք տուրքի չափով աջակցության տրամադրում
A26: Միջոցառման տեսակը` | B26: Տրանսֆերտների տրամադրում
A27: Շահառուների ընտրության չափանիշները | B27: ՀՀ կառավարության 2024 թվականի հունիսի 27-ի N 971-Լ որոշմամբ հաստատված ծրագրի չափանիշները բավարարող շահառուներ
A28: Արդյունքի չափորոշիչներ
A29: 100 հազար լիտրը գերազանցող մասի իրացման իրավունք ստացած կոնյակի սպիրտ, հազար բացարձակ լիտր | C29: 515
A30: Աջակցություն ստացող տնտեսավարողներ | C30: -2
A31: Միջոցառման վրա կատարվող ծախսը (հազար դրամ) | C31: 51500
A33: Ծրագրի դասիչը | B33: Ծրագրի անվանումը
A34: 1058 | B34: Էկոնոմիկայի ոլորտում պետական քաղաքականության մշակում, ծրագրերի համակարգում և մոնիտորինգ
A36: Ծրագրի միջոցառումները
A38: Ծրագրի դասիչը` | B38: 1058 | C38: Ցուցանիշների փոփոխությունը (նվազեցումները նշված են փակագծերում)
A39: Միջոցառման դասիչը` | B39: 11001 | C39: Տարի
A40: Միջոցառման անվանումը` | B40: Էկոնոմիկայի ոլորտում պետական քաղաքականության մշակում, ծրագրերի համակարգում և մոնիտորինգ
A41: Նկարագրությունը` | B41: Քաղաքականության մշակման և դրա կատարման համակարգման, պետական ծրագրերի պլանավորման, մշակման, իրականացման և մոնիտորինգի (վերահսկման) ծառայություններ
A42: Միջոցառման տեսակը` | B42: Ծառայությունների մատուցում
A43: Ծառայությունը մատուցող կազմակերպության(ների) անվանում(ներ)ը | B43: ՀՀ էկոնոմիկայի նախարարություն
A44: Արդյունքի չափորոշիչներ
A45: Միջոցառման վրա կատարվող ծախսը (հազար դրամ) | C45: =+'2'!G31 -> -35843.6
A47: Ծրագրի դասիչը | B47: Ծրագրի անվանումը
A48: 1059 | B48: Բուսաբուծության խթանում և բույսերի պաշտպանություն
A50: Ծրագրի միջոցառումները
A52: Ծրագրի դասիչը` | B52: 1059 | C52: Ցուցանիշների փոփոխությունը (ավելացումները նշված են դրական նշանով)
A53: Միջոցառման դասիչը` | B53: 11010 | C53: Տարի
A54: Միջոցառման անվանումը` | B54: ՀՀ-ում գարնանացան մշակաբույսերի և բազմամյա խոտաբույսերի ցանքատարածությունների մոնիթորինգի իրականացմանն աջակցություն
A55: Նկարագրությունը` | B55: Համայնքների կողմից գարնանացան մշակաբույսերի և բազմամյա խոտաբույսերի մոնիթորինգի իրականացում, արդյունքների ամփոփում և համապատասխան տեղեկատվության ներկայացում
A56: Միջոցառման տեսակը` | B56: Ծառայությունների մատուցում
A57: Շահառուների ընտրության չափանիշները | B57: ՀՀ գյուղատնտեսական տնտեսավարողներ՝ ընտրված համաձայն ՀՀ կառավարության համապատասխան որոշմամբ հաստատված ծրագրի և ֆինանսական կառույցների կողմից հաստատված համապատասխան չափանիշների
A58: Արդյունքի չափորոշիչներ
A59: Մոնիթորինգի ենթարկված ցանքատարածություններ, հա | C59: 2197.4
A60: Միջոցառման վրա կատարվող ծախսը (հազար դրամ) | C60: 2201.4
A63: Ծրագրի դասիչը` | B63: 1059 | C63: Ցուցանիշների փոփոխությունը (ավելացումները նշված են դրական նշանով)
A64: Միջոցառման դասիչը` | B64: 12003 | C64: Տարի
A65: Միջոցառման անվանումը` | B65: ՀՀ-ում գարնանացան մշակաբույսերի և բազմամյա խոտաբույսերի մշակության հիմնական աշխատանքների համար կատարված ծախսերի մասնակի փոխհատուցման տրամադրում
A66: Նկարագրությունը` | B66: Գարնանացան մշակաբույսերի և բազմամյա խոտաբույսերի ցանքատարածությունների ընդլայնմանը նպաստելու նպատակով մշակության հիմնական աշխատանքների համար կատարված ծախսերի մասնակի փոխհատուցում
A67: Միջոցառման տեսակը` | B67: Տրանսֆերտների տրամադրում
A68: Շահառուների ընտրության չափանիշները | B68: ՀՀ գյուղատնտեսական տնտեսավարողներ՝ ընտրված համաձայն ՀՀ կառավարության համապատասխան որոշմամբ հաստատված ծրագրի և ֆինանսական կառույցների կողմից հաստատված համապատասխան չափանիշների
A69: Արդյունքի չափորոշիչներ
A70: հացահատիկային մշակաբույսեր, հա | C70: 2197.4
A71: Միջոցառման վրա կատարվող ծախսը (հազար դրամ) | C71: 71176.3
A73: Ծրագրի դասիչը | B73: Ծրագրի անվանումը
A74: 1165 | B74: Ներդրումների և արտահանման խթանման ծրագիր
A76: Ծրագրի միջոցառումները
A78: Ծրագրի դասիչը` | B78: 1165 | C78: Ցուցանիշների փոփոխությունը (նվազեցումները նշված են փակագծերում)
A79: Միջոցառման դասիչը` | B79: 11012 | C79: Տարի
A80: Միջոցառման անվանումը` | B80: Թողարկման և վարկանիշավորման պետական աջակցության ծրագիր
A81: Նկարագրությունը` | B81: Պարտատոմսերի և բաժնետոմսերի թողարկման, տեղաբաշխման և բորսայում ցուցակման համար օժանդակություն և միջազգային վարկանիշային գործակալություններից վարկանիշի ստացման և սպասարկման առաջին 12 ամիսների ծախսերի մասնակի փոխհատուցում
A82: Միջոցառման տեսակը` | B82: Ծառայությունների մատուցում
A83: Միջոցառումն իրականացնողի անվանումը՛ | B83: ՀՀ Էկոնոմիկայի նախարարություն
A84: Արդյունքի չափորոշիչներ
A85: Պարտատոմսերի շուկայում նոր թողարկողներ, հատ | C85: -2
A86: Միջոցառման վրա կատարվող ծախսը (հազար դրամ) | C86: =+'3'!H22 -> -14156.4
A88: Ծրագրի դասիչը` | B88: 1165 | C88: Ցուցանիշների փոփոխությունը (նվազեցումները նշված են փակագծերում)
A89: Միջոցառման դասիչը` | B89: 11014 | C89: Տարի
A90: Միջոցառման անվանումը` | B90: Տեղական արտադրության դեղերի ներկայացման հեռուստահաղորդաշարի պատրաստում և հեռարձակման ապահովում
A91: Նկարագրությունը` | B91: Ընկերությունների մասին պատմող ճանաչողական հաղորդաշարերի հեռարձակում
A92: Միջոցառման տեսակը` | B92: Ծառայությունների մատուցում
A93: Միջոցառումն իրականացնողի անվանումը՛ | B93: Մասնագիտացված կազմակերպություն
A94: Արդյունքի չափորոշիչներ
A95: Տեղական ընկերությունների մասին պատմող ճանաչողական հաղորդաշարի հեռարձակման քանակը, հաղորդաշար | C95: -2
A96: Միջոցառման վրա կատարվող ծախսը (հազար դրամ) | C96: -10000
A99: Ծրագրի դասիչը | B99: Ծրագրի անվանումը
A100: 1187 | B100: Գյուղատնտեսության արդիականացման ծրագիր
A102: Ծրագրի միջոցառումները
A104: Ծրագրի դասիչը` | B104: 1187 | C104: Ցուցանիշների փոփոխությունը (նվազեցումները նշված են փակագծերում)
A105: Միջոցառման դասիչը` | B105: 12004 | C105: Տարի
A106: Միջոցառման անվանումը` | B106: Հայաստանի Հանրապետության ագրոպարենային ոլորտի սարքավորումների լիզինգի աջակցության ծրագիր
A107: Նկարագրությունը` | B107: Ագրոպարենային ոլորտի սարքավորումների տրամադրման լիզինգի տոկոսադրույքների սուբսիդավորում
A108: Միջոցառման տեսակը` | B108: Տրանսֆերտների տրամադրում
A109: Շահառուների ընտրության չափանիշները | B109: ՀՀ գյուղատնտեսական տնտեսավարողներ՛ ընտրված համաձայն՛ ՀՀ կառավարության 19.07.2018թ. թիվ 893-Լ որոշմամբ հաստատված ծրագրի և ֆինանսական կառույցների կողմից հաստատված համապատասխան չափանիշների
A110: Արդյունքի չափորոշիչներ
A111: Միջոցառման վրա կատարվող ծախսը (հազար դրամ) | C111: ='2'!G110 -> -76221.3
A113: Ծրագրի դասիչը` | B113: 1187 | C113: Ցուցանիշների փոփոխությունը (նվազեցումները նշված են փակագծերում)
A114: Միջոցառման դասիչը` | B114: 12008 | C114: Տարի
A115: Միջոցառման անվանումը` | B115: Հայաստանի Հանրապետությունում 2019-2024 թվականների տավարաբուծության զարգացման ծրագիր
A116: Նկարագրությունը` | B116: Հանրապետությունում խոշոր եղջերավոր տոհմային կենդանիների ձեռքբերման համար տրմադրվող նպատակային վարկերի տոկոսադրույքների սուբսիդավորում
A117: Միջոցառման տեսակը` | B117: Տրանսֆերտների տրամադրում
A118: Շահառուների ընտրության չափանիշները | B118: ՀՀ գյուղատնտեսական տնտեսավարողներ՛ ընտրված համաձայն՛ ՀՀ կառավարության 29.03.2019թ. թիվ 327-Լ որոշմամբ հավանության արժանացած ծրագրի և ֆինանսական կառույցների կողմից հաստատված համապատասխան չափանիշների
A119: Արդյունքի չափորոշիչներ
A120: Միջոցառման վրա կատարվող ծախսը (հազար դրամ) | C120: =-3500 -> -3500
A122: Ծրագրի դասիչը` | B122: 1187 | C122: Ցուցանիշների փոփոխությունը (նվազեցումները նշված են փակագծերում)
A123: Միջոցառման դասիչը` | B123: 12018 | C123: Տարի
A124: Միջոցառման անվանումը` | B124: Ոչխարաբուծության և այծաբուծության զարգացման ծրագրին աջակցություն
A125: Նկարագրությունը` | B125: Արտերկրից բարձր մթերատու ոչխարի և այծերի ցեղերի տոհմային կենդանիների ներկրման, ինչպես նաև ՀՀ-ից ձեռքբերումների շարունակականության ապահովում
...

Sheet 5
A1: Հավելված № 5 ՀՀ կառավարության 2024 թվականի ––-------------------–––––––– N –––––– որոշման
A5: ՀԱՅԱՍՏԱՆԻ ՀԱՆՐԱՊԵՏՈՒԹՅԱՆ ԿԱՌԱՎԱՐՈՒԹՅԱՆ 2023 ԹՎԱԿԱՆԻ ԴԵԿՏԵՄԲԵՐԻ 28-Ի N 2323-Ն ՈՐՈՇՄԱՆ N 9.1 ՀԱՎԵԼՎԱԾԻ 9.1.10 ԱՂՅՈՒՍԱԿՈՒՄ ԿԱՏԱՐՎՈՂ ՓՈՓՈԽՈՒԹՅՈՒՆՆԵՐԸ ԵՎ ԼՐԱՑՈՒՄԸ
A7: ՄԱՍ 1. ՊԵՏԱԿԱՆ ՄԱՐՄՆԻ ԳԾՈՎ ԱՐԴՅՈՒՆՔԱՅԻՆ (ԿԱՏԱՐՈՂԱԿԱՆ) ՑՈՒՑԱՆԻՇՆԵՐԸ
A9: Ծրագրի դասիչը | B9: Ծրագրի անվանումը
A10: 1022 | B10: Գյուղատնտեսության խթանման ծրագիր
A12: Ծրագրի միջոցառումները
A14: Ծրագրի դասիչը` | B14: 1022 | C14: Ցուցանիշների փոփոխությունը (ավելացումները նշված են դրական նշանով)
A15: Միջոցառման դասիչը` | B15: 11002 | C15: Տարի
A16: Միջոցառման անվանումը` | B16: Պետական աջակցություն Հայաստանի Հանրապետության գյուղատնտեսական ծրագրերի իրականացմանը
A17: Նկարագրությունը` | B17: Աջակցություն Հայաստանի Հանրապետության բուսաբուծության խթանման, բույսերի պաշտպանության և անասնաբուժական ծրագրերի իրականացմանը
A18: Միջոցառման տեսակը` | B18: Ծառայությունների մատուցում
A19: Միջոցառումն իրականացնողի անվանումը՛ | B19: Մասնագիտացված կազմակերպություններ
A20: Արդյունքի չափորոշիչներ
A21: Միջոցառման վրա կատարվող ծախսը (հազար դրամ) | C21: 35843.6
A22: Ծրագրի դասիչը` | B22: 1022 | C22: Ցուցանիշների փոփոխությունը (ավելացումները նշված են դրական նշանով)
A23: Միջոցառման դասիչը` | B23: 12015 | C23: Տարի
A24: Միջոցառման անվանումը` | B24: Կոնյակի սպիրտի արտահանման աջակցության ծրագրի շրջանակներում տրամադրվող աջակցություն
A25: Նկարագրությունը` | B25: Կոնյակի և բրենդիի սպիրտներ արտադրողի կողմից 100 հազար (100 տոկոսանոց սպիրտի հաշվարկով) լիտրը գերազանցելուց հետո այլ խմբաքանակների իրացման իրավունքի ձեռքբերման համար տնտեսավարող սուբյեկտի կողմից վճարված լրացուցիչ 100 դրամ պետական տուրքի շրջանակներում արտահանված կոնյակի սպիրտին համարժեք տուրքի չափով աջակցության տրամադրում
A26: Միջոցառման տեսակը` | B26: Տրանսֆերտների տրամադրում
A27: Շահառուների ընտրության չափանիշները | B27: ՀՀ կառավարության 2024 թվականի հունիսի 27-ի N 971-Լ որոշմամբ հաստատված ծրագրի չափանիշները բավարարող շահառուներ
A28: Արդյունքի չափորոշիչներ
A29: 100 հազար լիտրը գերազանցող մասի իրացման իրավունք ստացած կոնյակի սպիրտ, հազար բացարձակ լիտր | C29: 515
A30: Աջակցություն ստացող տնտեսավարողներ | C30: -2
A31: Միջոցառման վրա կատարվող ծախսը (հազար դրամ) | C31: 51500
A33: Ծրագրի դասիչը | B33: Ծրագրի անվանումը
A34: 1058 | B34: Էկոնոմիկայի ոլորտում պետական քաղաքականության մշակում, ծրագրերի համակարգում և մոնիտորինգ
A36: Ծրագրի միջոցառումները
A38: Ծրագրի դասիչը` | B38: 1058 | C38: Ցուցանիշների փոփոխությունը (նվազեցումները նշված են փակագծերում)
A39: Միջոցառման դասիչը` | B39: 11001 | C39: Տարի
A40: Միջոցառման անվանումը` | B40: Էկոնոմիկայի ոլորտում պետական քաղաքականության մշակում, ծրագրերի համակարգում և մոնիտորինգ
A41: Նկարագրությունը` | B41: Քաղաքականության մշակման և դրա կատարման համակարգման, պետական ծրագրերի պլանավորման, մշակման, իրականացման և մոնիտորինգի (վերահսկման) ծառայություններ
A42: Միջոցառման տեսակը` | B42: Ծառայությունների մատուցում
A43: Ծառայությունը մատուցող կազմակերպության(ների) անվանում(ներ)ը | B43: ՀՀ էկոնոմիկայի նախարարություն
A44: Արդյունքի չափորոշիչներ
A45: Միջոցառման վրա կատարվող ծախսը (հազար դրամ) | C45: =+'2'!G30 -> -35843.6
A47: Ծրագրի դասիչը | B47: Ծրագրի անվանումը
A48: 1059 | B48: Բուսաբուծության խթանում և բույսերի պաշտպանություն
A50: Ծրագրի միջոցառումները
A52: Ծրագրի դասիչը` | B52: 1059 | C52: Ցուցանիշների փոփոխությունը (ավելացումները նշված են դրական նշանով)
A53: Միջոցառման դասիչը` | B53: 11010 | C53: Տարի
A54: Միջոցառման անվանումը` | B54: ՀՀ-ում գարնանացան մշակաբույսերի և բազմամյա խոտաբույսերի ցանքատարածությունների մոնիթորինգի իրականացմանն աջակցություն
A55: Նկարագրությունը` | B55: Համայնքների կողմից գարնանացան մշակաբույսերի և բազմամյա խոտաբույսերի մոնիթորինգի իրականացում, արդյունքների ամփոփում և համապատասխան տեղեկատվության ներկայացում
A56: Միջոցառման տեսակը` | B56: Ծառայությունների մատուցում
A57: Շահառուների ընտրության չափանիշները | B57: ՀՀ գյուղատնտեսական տնտեսավարողներ՝ ընտրված համաձայն ՀՀ կառավարության համապատասխան որոշմամբ հաստատված ծրագրի և ֆինանսական կառույցների կողմից հաստատված համապատասխան չափանիշների
A58: Արդյունքի չափորոշիչներ
A59: Մոնիթորինգի ենթարկված ցանքատարածություններ, հա | C59: =+'4'!C59 -> 2197.4
A60: Միջոցառման վրա կատարվող ծախսը (հազար դրամ) | C60: =+'4'!C60 -> 2201.4
A63: Ծրագրի դասիչը` | B63: 1059 | C63: Ցուցանիշների փոփոխությունը (ավելացումները նշված են դրական նշանով)
A64: Միջոցառման դասիչը` | B64: 12003 | C64: Տարի
A65: Միջոցառման անվանումը` | B65: ՀՀ-ում գարնանացան մշակաբույսերի և բազմամյա խոտաբույսերի մշակության հիմնական աշխատանքների համար կատարված ծախսերի մասնակի փոխհատուցման տրամադրում
A66: Նկարագրությունը` | B66: Գարնանացան մշակաբույսերի և բազմամյա խոտաբույսերի ցանքատարածությունների ընդլայնմանը նպաստելու նպատակով մշակության հիմնական աշխատանքների համար կատարված ծախսերի մասնակի փոխհատուցում
A67: Միջոցառման տեսակը` | B67: Տրանսֆերտների տրամադրում
A68: Շահառուների ընտրության չափանիշները | B68: ՀՀ գյուղատնտեսական տնտեսավարողներ՝ ընտրված համաձայն ՀՀ կառավարության համապատասխան որոշմամբ հաստատված ծրագրի և ֆինանսական կառույցների կողմից հաստատված համապատասխան չափանիշների
A69: Արդյունքի չափորոշիչներ
A70: հացահատիկային մշակաբույսեր, հա | C70: =+'4'!C70 -> 2197.4
A71: Միջոցառման վրա կատարվող ծախսը (հազար դրամ) | C71: =+'4'!C71 -> 71176.3
A73: Ծրագրի դասիչը | B73: Ծրագրի անվանումը
A74: 1162 | B74: Գիտական և գիտատեխնիկական հետազոտությունների ծրագիր
A75: Ծրագրի միջոցառումները
A76: Ծրագրի դասիչը` | B76: 1162 | C76: Ցուցանիշների փոփոխությունը (Ցուցանիշների փոփոխությունը (ավելացումները նշված են դրական նշանով, իսկ նվազեցումները՝ փակագծերում)
A77: Միջոցառման դասիչը` | B77: 11018 | C77: Տարի
A78: Միջոցառման անվանումը` | B78: Հայաստանի Հանրապետությունում գիտելիքահենք տնտեսության էկոհամակարգի ձևավորում և զարգացում
A79: Նկարագրությունը` | B79: ՀՀ-ում գիտելիքահենք տնտեսության էկոհամակարգի ձևավորմանն ու զարգացմանը միտված գիտական և գիտատեխ. ներուժի գնահատում, առևտրայանացման ենթակա նորարարությունների և դրանց իրացման շուկաների բացահայտում, թվային հարթակի ապահովում
A80: Միջոցառման տեսակը` | B80: Ծառայությունների մատուցում
A81: Միջոցառումն իրականացնողի անվանումը՛ | B81: ՀՀ կառավարության 2001 թ. նոյեմբերի 17-ի «Գիտական և գիտատեխնիկական գործունեության բազային ֆինանսավորման կարգը հաստատելու մասին» N1121 որոշման համաձայն ընտրված կազմակերպություններ
A82: Արդյունքի չափորոշիչներ
A83: Գնահատված հետազոտություններ ըստ չափորոշչի | C83: -10
A84: Առևտրայանացման ենթակա նորարարությունների և շուկաների թվային հարթակի տեխնիկական առաջադրանքի մշակում | C84: -1
A85: Առևտրայանացման ենթակա նորարարությունների և շուկաների տվյալների բազաների ձևավորում, շահագործում | C85: -18
A86: Փորձագիտական ծառայությունների պատվիրակում ըստ ոլորտների | C86: -4
A87: Գիտատեխնիկական խորհրդատվական ծառայությունների մատուցում | C87: -41
A88: Քոուչինգի ծառայությունների իրականացում առևտրայնացման ենթակա տեխնոլոգիաների տեխնիկատնտեսական ուսումնասիրությունների իրականացման համար | C88: -7
A89: Իրազեկման ծառայությունների իրականացում (սեմինարների, աշխատաժողովների կազմակերպում և անցկացում) | C89: -80
A90: Մտավոր սեփականությամբ պաշտպանված և տեխնիկատնտեսական ուսումնասիրություններ անցած պատենտներ | C90: -1
A91: Լուծարման գործընթացի ապահովում | C91: 1
A92: Միջոցառման վրա կատարվող ծախսը (հազար դրամ)
A94: Ծրագրի դասիչը | B94: Ծրագրի անվանումը
A95: 1165 | B95: Ներդրումների և արտահանման խթանման ծրագիր
A97: Ծրագրի միջոցառումները
A99: Ծրագրի դասիչը` | B99: 1165 | C99: Ցուցանիշների փոփոխությունը (նվազեցումները նշված են փակագծերում)
A100: Միջոցառման դասիչը` | B100: 11012 | C100: Տարի
A101: Միջոցառման անվանումը` | B101: Թողարկման և վարկանիշավորման պետական աջակցության ծրագիր
A102: Նկարագրությունը` | B102: Պարտատոմսերի և բաժնետոմսերի թողարկման, տեղաբաշխման և բորսայում ցուցակման համար օժանդակություն և միջազգային վարկանիշային գործակալություններից վարկանիշի ստացման և սպասարկման առաջին 12 ամիսների ծախսերի մասնակի փոխհատուցում
A103: Միջոցառման տեսակը` | B103: Ծառայությունների մատուցում
A104: Միջոցառումն իրականացնողի անվանումը՛ | B104: ՀՀ Էկոնոմիկայի նախարարություն
A105: Արդյունքի չափորոշիչներ
A106: Պարտատոմսերի շուկայում նոր թողարկողներ, հատ | C106: -2
A107: Միջոցառման վրա կատարվող ծախսը (հազար դրամ) | C107: =+'4'!C86 -> -14156.4
A109: Ծրագրի դասիչը` | B109: 1165 | C109: Ցուցանիշների փոփոխությունը (նվազեցումները նշված են փակագծերում)
A110: Միջոցառման դասիչը` | B110: 11014 | C110: Տարի
A111: Միջոցառման անվանումը` | B111: Տեղական արտադրության դեղերի ներկայացման հեռուստահաղորդաշարի պատրաստում և հեռարձակման ապահովում
A112: Նկարագրությունը` | B112: Ընկերությունների մասին պատմող ճանաչողական հաղորդաշարերի հեռարձակում
A113: Միջոցառման տեսակը` | B113: Ծառայությունների մատուցում
A114: Միջոցառումն իրականացնողի անվանումը՛ | B114: Մասնագիտացված կազմակերպություն
A115: Արդյունքի չափորոշիչներ
A116: Տեղական ընկերությունների մասին պատմող ճանաչողական հաղորդաշարի հեռարձակման քանակը, հաղորդաշար | C116: -2
A117: Միջոցառման վրա կատարվող ծախսը (հազար դրամ) | C117: -10000
A120: Ծրագրի դասիչը | B120: Ծրագրի անվանումը
A121: 1187 | B121: Գյուղատնտեսության արդիականացման ծրագիր
A123: Ծրագրի միջոցառումները
...

Sheet 6
G1: Հավելված N 6
G2: ՀՀ կառավարության 2024 թվականի
G3: № ------------ -Ն որոշման
A5: ՀԱՅԱՍՏԱՆԻ ՀԱՆՐԱՊԵՏՈՒԹՅԱՆ ԿԱՌԱՎԱՐՈՒԹՅԱՆ 2023 ԹՎԱԿԱՆԻ ԴԵԿՏԵՄԲԵՐԻ 28-Ի N 2323-Ն ՈՐՈՇՄԱՆ N 10 ՀԱՎԵԼՎԱԾՈՒՄ ԿԱՏԱՐՎՈՂ ՓՈՓՈԽՈՒԹՅՈՒՆԸ
A6: ՀՀ էկոնոմիկայի նախարարություն
A9: Գնման առարկայի | E9: Գնման ձևը (ընթացակարգը) | F9: Չափի միավորը | G9: Ցուցանիշների փոփոխությունները (նվազեցումները նշված են փակագծերում)
A10: Միջանցիկ կոդը` ըստ CPV դասակարգման | B10: անվանումը | G10: Միավորի գինը (ՀՀ դրամ) | H10: Քանակը | I10: Գումարը (հազար դրամով)
A11: 1 | B11: 2 | E11: 3 | F11: 4 | G11: 5 | H11: 6 | I11: 7
A12: ՀՀ էկոնոմիկայի նախարարություն | I12: =I13 -> -10000
A13: Բաժին 04 | B13: Խումբ 01 | C13: Դաս 01 | D13: Ընդհանուր բնույթի տնտեսական և առևտրային հարաբերություններ | I13: =+I14 -> -10000
A14: 1165-11014 | B14: Տեղական արտադրության դեղերի ներկայացման հեռուստահաղորդաշարի պատրաստում և հեռարձակման ապահովում | I14: =+I15 -> -10000
B15: ՄԱՍ III.ԾԱՌԱՅՈՒԹՅՈՒՆՆԵՐ | I15: =+I17 -> -10000
A17: 39294200/2 | B17: տեղեկատվական և գովազդային արտադրանք | E17: ԷԱՃ | F17: հատ | G17: 5000000 | H17: -2 | I17: =+G17*H17/1000 -> -10000
