Workbook
Name AgencyCode: #REF!
Name AgencyName: #REF!
Name davit: #REF!
Name Functional1: #REF!
Name ggg: #REF!
Name PANature: #REF!
Name PAType: #REF!
Name Performance2: #REF!
Name PerformanceType: #REF!
Name Հավելված: #REF!
Name Մաս: #REF!
Name շախմատիստ: #REF!

Sheet 1
A1: Հավելված № 1 ՀՀ կառավարության 2024 թվականի ––-------------------–––––––– N –––––– որոշման
A4: «ՀԱՅԱՍՏԱՆԻ ՀԱՆՐԱՊԵՏՈՒԹՅԱՆ 2024 ԹՎԱԿԱՆԻ ՊԵՏԱԿԱՆ ԲՅՈՒՋԵԻ ՄԱՍԻՆ» ՕՐԵՆՔԻ N 1 ՀԱՎԵԼՎԱԾԻ N 2 ԱՂՅՈՒՍԱԿՈՒՄ ԿԱՏԱՐՎՈՂ ՎԵՐԱԲԱՇԽՈՒՄԸ ԵՎ ՀԱՅԱՍՏԱՆԻ ՀԱՆՐԱՊԵՏՈՒԹՅԱՆ ԿԱՌԱՎԱՐՈՒԹՅԱՆ 2023 ԹՎԱԿԱՆԻ ԴԵԿՏԵՄԲԵՐԻ 28-Ի N 2323-Ն ՈՐՈՇՄԱՆ N 5 ՀԱՎԵԼՎԱԾԻ N 1 ԱՂՅՈՒՍԱԿՈՒՄ ԿԱՏԱՐՎՈՂ ՓՈՓՈԽՈՒԹՅՈՒՆՆԵՐԸ
D5: հազար դրամներով
A6: Ծրագրային դասիչը | C6: Բյուջետային հատկացումների գլխավոր կարգադրիչների, ծրագրերի և միջոցառումների անվանումները | D6: Ցուցանիշների փոփոխությունը (ավելացումները նշված են դրական նշանով, իսկ նվազեցումները` փակագծերում)
A7: ծրագիրը | B7: միջոցառումը | D7: Տարի
A8: ԸՆԴԱՄԵՆԸ | D8: =+D9 -> 0
A9: ՀՀ էկոնոմիկայի նախարարություն | D9: =+D10+D42+D61+D80+D29 -> 0
A10: 1022 | C10: Ծրագրի անվանումը` | D10: =D17+D23 -> 87343.6
C11: Գյուղատնտեսության խթանման ծրագիր
C12: Ծրագրի նպատակը`
C13: Գյուղատնտեսական մթերքի և դրանց վերամշակումից ստացվող սննդամթերքի ծավալների ավելացում
C14: Վերջնական արդյունքի նկարագրությունը`
C15: Գյուղատնտեսական մթերքների ծավալների ավելացում: Օգտագործվող վարելահողերի ավելացում: Պտուղբանջարեղենի և խաղողի վերամշակումից ստացված արտադրանքի ծավալների աճ
B16: Ծրագրի միջոցառումներ
B17: 11002 | C17: Միջոցառման անվանումը` | D17: 35843.6
C18: Պետական աջակցություն Հայաստանի Հանրապետության գյուղատնտեսական ծրագրերի իրականացմանը
C19: Միջոցառման նկարագրությունը`
C20: Աջակցություն Հայաստանի Հանրապետության բուսաբուծության խթանման, բույսերի պաշտպանության և անասնաբուժական ծրագրերի իրականացմանը
C21: Միջոցառման տեսակը
C22: Ծառայությունների մատուցում
B23: 12015 | C23: Միջոցառման անվանումը` | D23: 51500
C24: Կոնյակի սպիրտի արտահանման աջակցության ծրագրի շրջանակներում տրամադրվող աջակցություն
C25: Միջոցառման նկարագրությունը`
C26: Կոնյակի և բրենդիի սպիրտներ արտադրողի կողմից 100 հազար (100 տոկոսանոց սպիրտի հաշվարկով) լիտրը գերազանցելուց հետո այլ խմբաքանակների իրացման իրավունքի ձեռքբերման համար տնտեսավարող սուբյեկտի կողմից վճարված լրացուցիչ 100 դրամ պետական տուրքի շրջանակներում արտահանված կոնյակի սպիրտին համարժեք տուրքի չափով աջակցության տրամադրում
C27: Միջոցառման տեսակը
C28: Տրանսֆերտների տրամադրում
A29: 1058 | C29: Ծրագրի անվանումը` | D29: =+D36 -> -35843.6
C30: Էկոնոմիկայի ոլորտում պետական քաղաքականության մշակում, ծրագրերի համակարգում և մոնիտորինգ
C31: Ծրագրի նպատակը`
C32: Էկոնոմիկայի ոլորտում պետական արդյունավետ քաղաքականության մշակման և իրականացման ապահովում
C33: Վերջնական արդյունքի նկարագրությունը`
C34: Էկոնոմիկայի ոլորտում իրականացվող ծրագրերի ազդեցության և արդյունավետության բարելավում
B35: Ծրագրի միջոցառումներ
B36: 11001 | C36: Միջոցառման անվանումը` | D36: -35843.6
C37: Էկոնոմիկայի ոլորտում պետական քաղաքականության մշակում, ծրագրերի համակարգում և մոնիտորինգ
C38: Միջոցառման նկարագրությունը`
C39: Քաղաքականության մշակման և դրա կատարման համակարգման, պետական ծրագրերի պլանավորման, մշակման, իրականացման և մոնիտորինգի (վերահսկման) ծառայություններ
C40: Միջոցառման տեսակը
C41: Ծառայությունների մատուցում
A42: 1059 | C42: Ծրագրի անվանումը` | D42: =D49+D55 -> 73377.7
...

Sheet 2
G1: Հավելված № 2
G2: ՀՀ կառավարության 2024 թվականի
G3: ______________ ի ___Ն որոշման
A5: ՀԱՅԱՍՏԱՆԻ ՀԱՆՐԱՊԵՏՈՒԹՅԱՆ ԿԱՌԱՎԱՐՈՒԹՅԱՆ 2023 ԹՎԱԿԱՆԻ ԴԵԿՏԵՄԲԵՐԻ 28-Ի N 2323-Ն ՈՐՈՇՄԱՆ N3 և 4 ՀԱՎԵԼՎԱԾՆԵՐՈՒՄ ԿԱՏԱՐՎՈՂ ՓՈՓՈԽՈՒԹՅՈՒՆՆԵՐԸ
G6: հազար դրամներով
A7: Գործառական դասիչը | D7: Ծրագրային դասիչը | F7: Բյուջետային ծախսերի գործառական դասակարգման բաժինների, խմբերի և դասերի, բյուջետային ծրագրերի, միջոցառումների բյուջետային հատկացումնեյի գլխավոր կարկադրիչների անվանումները | G7: Ցուցանիշների փոփոխությունը (ավելացումները նշված են դրական նշանով, իսկ նվազեցումները` փակագծերում)
A8: Բաժին | B8: Խումբ | C8: Դաս | D8: Ծրագիր | E8: Միջոցառում | G8: Տարի
F9: ԸՆԴԱՄԵՆԸ ԾԱԽՍԵՐ | G9: =G11 -> 0
F10: այդ թվում՝
F11: ՀՀ էկոնոմիկայի նախարարություն | G11: =G13+G52 -> 0
F12: այդ թվում`
A13: 04 | F13: ՏՆՏԵՍԱԿԱՆ ՀԱՐԱԲԵՐՈՒԹՅՈՒՆՆԵՐ | G13: =+G15 -> -60000
F14: այդ թվում`
B15: 01 | F15: Ընդհանուր բնույթի տնտեսական, առևտրային և աշխատանքի գծով հարաբերություններ | G15: =+G17 -> -60000
F16: այդ թվում`
C17: 01 | F17: Ընդհանուր բնույթի տնտեսական և առևտրային հարաբերություններ | G17: =G19 -> -60000
F18: այդ թվում`
F19: ՀՀ էկոնոմիկայի նախարարություն | G19: =G32+G21 -> -60000
F20: այդ թվում`
D21: 1058 | F21: Էկոնոմիկայի ոլորտում պետական քաղաքականության մշակում, ծրագրերի համակարգում և մոնիտորինգ | G21: =G23 -> -35843.6
F22: այդ թվում`
E23: 11001 | F23: Էկոնոմիկայի ոլորտում պետական քաղաքականության մշակում, ծրագրերի համակարգում և մոնիտորինգ | G23: =+G25 -> -35843.6
F24: այդ թվում` ըստ կատարողների
F25: ՀՀ էկոնոմիկայի նախարարություն | G25: =+G27 -> -35843.6
F26: այդ թվում` բյուջետային ծախսերի տնտեսագիտական դասակարգման հոդվածներ
F27: ԸՆԴԱՄԵՆԸ ԾԱԽՍԵՐ | G27: =+G28 -> -35843.6
F28: ԸՆԹԱՑԻԿ ԾԱԽՍԵՐ | G28: =+G29 -> -35843.6
F29: ԱՇԽԱՏԱՆՔԻ ՎԱՐՁԱՏՐՈՒԹՅՈՒՆ | G29: =G30 -> -35843.6
F30: Դրամով վճարվող աշխատավարձեր և հավելավճարներ | G30: =G31 -> -35843.6
F31: - Պարգևատրումներ, դրամական խրախուսումներ և հատուկ վճարներ | G31: =+'1'!D36 -> -35843.6
D32: 1165 | F32: Ներդրումների և արտահանման խթանման ծրագիր | G32: =G42+G43 -> -24156.4
F33: այդ թվում`
E34: 11012 | F34: Թողարկման և վարկանիշավորման պետական աջակցության ծրագիր | G34: =+G36 -> -14156.4
F35: այդ թվում՝ ըստ կատարողների
F36: ՀՀ էկոնոմիկայի նախարարություն | G36: =+G37 -> -14156.4
F37: այդ թվում՝ բյուջետային ծախսերի տնտեսագիտական դասակարգման հոդվածներ | G37: =+G38 -> -14156.4
F38: ԸՆԴԱՄԵՆԸ ԾԱԽՍԵՐ | G38: =G39 -> -14156.4
F39: ԸՆԹԱՑԻԿ ԾԱԽՍԵՐ | G39: =G42 -> -14156.4
F40: ԴՐԱՄԱՇՆՈՐՀՆԵՐ | G40: =G42 -> -14156.4
F41: Ընթացիկ դրամաշնորհներ պետական հատվածի այլ մակարդակներին | G41: =G42 -> -14156.4
...

Sheet 3
G1: Հավելված № 3
F2: ՀՀ կառավարության 2024 թվականի
G3: № ------------ -Ն որոշման
B5: ՀԱՅԱՍՏԱՆԻ ՀԱՆՐԱՊԵՏՈՒԹՅԱՆ ԿԱՌԱՎԱՐՈՒԹՅԱՆ 2023 ԹՎԱԿԱՆԻ ԴԵԿՏԵՄԲԵՐԻ 28-Ի N 2323-Ն ՈՐՈՇՄԱՆ N 5 ՀԱՎԵԼՎԱԾԻ 7 ԱՂՅՈՒՍԱԿՈՒՄ ԿԱՏԱՐՎՈՂ ՓՈՓՈԽՈՒԹՅՈՒՆՆԵՐԸ
H6: հազար դրամներով
B7: Ծրագրային դասիչ | D7: Բյուջետային հատկացումների գլխավոր կարգադրիչների, ծրագրերի, միջոցառումների, ծախսային ուղղությունների անվանումները | G7: Միջոցառումները կատարող պետական մարմինների և դրամաշնորհ ստացող տնտեսվարող սուբյեկտների անվանումները | H7: Տարի
B8: Ծրագիր | C8: Միջոցառում | H8: Ցուցանիշների փոփոխությունները (ավելացումները նշված են դրական նշանով, իսկ նվազեցումները` փակագծերում)
B9: 1 | C9: 2 | D9: 3 | G9: 4 | H9: 5
B10: ԸՆԴԱՄԵՆԸ | H10: =+H11 -> 54388.6
B11: ՀՀ էկոնոմիկայի նախարարություն | H11: =+H12+H17+H20+H23 -> 54388.6
B12: 1022 | C12: Գյուղատնտեսության խթանման ծրագիր | H12: =H13+H15 -> 87343.6
C13: 11002 | D13: Պետական աջակցություն Հայաստանի Հանրապետության գյուղատնտեսական ծրագրերի իրականացմանը | G13: ՀՀ էկոնոմիկայի նախարարություն | H13: =+H14 -> 35843.6
G14: «Գյուղատնտեսական ծառայությունների կենտրոն» ՊՈԱԿ | H14: =+'2'!G70 -> 35843.6
C15: 12015 | D15: Կոնյակի սպիրտի արտահանման աջակցության ծրագրի շրջանակներում տրամադրվող աջակցություն | G15: ՀՀ էկոնոմիկայի նախարարություն | H15: =+H16 -> 51500
G16: ՀՀ կառավարության կողմից հաստատված համապատասխան ծրագրի չափանիշները բավարարող շահառուներ | H16: 51500
B17: 1059 | C17: Բուսաբուծության խթանում և բույսերի պաշտպանություն | H17: =+H18 -> 2201.4
C18: 11010 | D18: ՀՀ-ում գարնանացան մշակաբույսերի և բազմամյա խոտաբույսերի ցանքատարածությունների մոնիթորինգի իրականացմանն աջակցություն | G18: ՀՀ էկոնոմիկայի նախարարություն | H18: =+H19 -> 2201.4
G19: ՀՀ կառավարության կողմից հաստատված համապատասխան ծրագրի չափանիշները բավարարող համայնքներ | H19: ='2'!G90 -> 2201.4
B20: 1165 | C20: Ներդրումների և արտահանման խթանման ծրագիր | H20: =+H21 -> -14156.4
C21: 11012 | D21: Թողարկման և վարկանիշավորման պետական աջակցության ծրագիր | G21: ՀՀ էկոնոմիկայի նախարարություն | H21: =+H22 -> -14156.4
G22: ՀՀ կառավարության կողմից հաստատված համապատասխան ծրագրի չափանիշները բավարարող շահառուներ | H22: =+'2'!G42 -> -14156.4
B23: 1187 | C23: Գյուղատնտեսության արդիականացման ծրագիր | H23: =+H24+H26 -> -21000
C24: 12018 | D24: Ոչխարաբուծության և այծաբուծության զարգացման ծրագրին աջակցություն | G24: ՀՀ էկոնոմիկայի նախարարություն | H24: =+H25 -> -11000
G25: ՀՀ կառավարության կողմից հաստատված համապատասխան ծրագրի չափանիշները բավարարող շահառուներ | H25: =+'2'!G128 -> -11000
C26: 12020 | D26: Մեղվաբուծության զարգացման փորձնական ծրագրի իրականացման համար պետական աջակցություն | G26: ՀՀ էկոնոմիկայի նախարարություն | H26: =+H27 -> -10000
G27: ՀՀ կառավարության կողմից հաստատված համապատասխան ծրագրի չափանիշները բավարարող շահառուներ | H27: -10000

Sheet 4
A1: Հավելված № 4 ՀՀ կառավարության 2024 թվականի ––-------------------–––––––– N –––––– որոշման
A5: ՀԱՅԱՍՏԱՆԻ ՀԱՆՐԱՊԵՏՈՒԹՅԱՆ ԿԱՌԱՎԱՐՈՒԹՅԱՆ 2023 ԹՎԱԿԱՆԻ ԴԵԿՏԵՄԲԵՐԻ 28-Ի N 2323-Ն ՈՐՈՇՄԱՆ N 9 ՀԱՎԵԼՎԱԾԻ 9.10 ԵՎ 9.13 ԱՂՅՈՒՍԱԿՆԵՐՈՒՄ ԿԱՏԱՐՎՈՂ ՓՈՓՈԽՈՒԹՅՈՒՆՆԵՐԸ
A7: ՄԱՍ 2. ՊԵՏԱԿԱՆ ՄԱՐՄՆԻ ԳԾՈՎ ԱՐԴՅՈՒՆՔԱՅԻՆ (ԿԱՏԱՐՈՂԱԿԱՆ) ՑՈՒՑԱՆԻՇՆԵՐԸ
A9: Ծրագրի դասիչը | B9: Ծրագրի անվանումը
A10: 1022 | B10: Գյուղատնտեսության խթանման ծրագիր
A12: Ծրագրի միջոցառումները
A14: Ծրագրի դասիչը` | B14: 1022 | C14: Ցուցանիշների փոփոխությունը (ավելացումները նշված են դրական նշանով)
A15: Միջոցառման դասիչը` | B15: 11002 | C15: Տարի
A16: Միջոցառման անվանումը` | B16: Պետական աջակցություն Հայաստանի Հանրապետության գյուղատնտեսական ծրագրերի իրականացմանը
A17: Նկարագրությունը` | B17: Աջակցություն Հայաստանի Հանրապետության բուսաբուծության խթանման, բույսերի պաշտպանության և անասնաբուժական ծրագրերի իրականացմանը
A18: Միջոցառման տեսակը` | B18: Ծառայությունների մատուցում
A19: Միջոցառումն իրականացնողի անվանումը՛ | B19: Մասնագիտացված կազմակերպություններ
A20: Արդյունքի չափորոշիչներ
A21: Միջոցառման վրա կատարվող ծախսը (հազար դրամ) | C21: 35843.6
A22: Ծրագրի դասիչը` | B22: 1022 | C22: Ցուցանիշների փոփոխությունը (ավելացումները նշված են դրական նշանով)
A23: Միջոցառման դասիչը` | B23: 12015 | C23: Տարի
A24: Միջոցառման անվանումը` | B24: Կոնյակի սպիրտի արտահանման աջակցության ծրագրի շրջանակներում տրամադրվող աջակցություն
A25: Նկարագրությունը` | B25: Կոնյակի և բրենդիի սպիրտներ արտադրողի կողմից 100 հազար (100 տոկոսանոց սպիրտի հաշվարկով) լիտրը գերազանցելուց հետո այլ խմբաքանակների իրացման իրավունքի ձեռքբերման համար տնտեսավարող սուբյեկտի կողմից վճարված լրացուցիչ 100 դրամ պետական տուրքի շրջանակներում արտահանված կոնյակի սպիրտին համարժեք տուրքի չափով աջակցության տրամադրում
A26: Միջոցառման տեսակը` | B26: Տրանսֆերտների տրամադրում
A27: Շահառուների ընտրության չափանիշները | B27: ՀՀ կառավարության 2024 թվականի հունիսի 27-ի N 971-Լ որոշմամբ հաստատված ծրագրի չափանիշները բավարարող շահառուներ
A28: Արդյունքի չափորոշիչներ
A29: 100 հազար լիտրը գերազանցող մասի իրացման իրավունք ստացած կոնյակի սպիրտ, հազար բացարձակ լիտր | C29: 515
A30: Աջակցություն ստացող տնտեսավարողներ | C30: -2
A31: Միջոցառման վրա կատարվող ծախսը (հազար դրամ) | C31: 51500
A33: Ծրագրի դասիչը | B33: Ծրագրի անվանումը
A34: 1058 | B34: Էկոնոմիկայի ոլորտում պետական քաղաքականության մշակում, ծրագրերի համակարգում և մոնիտորինգ
A36: Ծրագրի միջոցառումները
A38: Ծրագրի դասիչը` | B38: 1058 | C38: Ցուցանիշների փոփոխությունը (նվազեցումները նշված են փակագծերում)
A39: Միջոցառման դասիչը` | B39: 11001 | C39: Տարի
A40: Միջոցառման անվանումը` | B40: Էկոնոմիկայի ոլորտում պետական քաղաքականության մշակում, ծրագրերի համակարգում և մոնիտորինգ
A41: Նկարագրությունը` | B41: Քաղաքականության մշակման և դրա կատարման համակարգման, պետական ծրագրերի պլանավորման, մշակման, իրականացման և մոնիտորինգի (վերահսկման) ծառայություններ
A42: Միջոցառման տեսակը` | B42: Ծառայությունների մատուցում
A43: Ծառայությունը մատուցող կազմակերպության(ների) անվանում(ներ)ը | B43: ՀՀ էկոնոմիկայի նախարարություն
A44: Արդյունքի չափորոշիչներ
A45: Միջոցառման վրա կատարվող ծախսը (հազար դրամ) | C45: =+'2'!G31 -> -35843.6
A47: Ծրագրի դասիչը | B47: Ծրագրի անվանումը
A48: 1059 | B48: Բուսաբուծության խթանում և բույսերի պաշտպանություն
A50: Ծրագրի միջոցառումները
A52: Ծրագրի դասիչը` | B52: 1059 | C52: Ցուցանիշների փոփոխությունը (ավելացումները նշված են դրական նշանով)
A53: Միջոցառման դասիչը` | B53: 11010 | C53: Տարի
...

Sheet 5
A1: Հավելված № 5 ՀՀ կառավարության 2024 թվականի ––-------------------–––––––– N –––––– որոշման
A5: ՀԱՅԱՍՏԱՆԻ ՀԱՆՐԱՊԵՏՈՒԹՅԱՆ ԿԱՌԱՎԱՐՈՒԹՅԱՆ 2023 ԹՎԱԿԱՆԻ ԴԵԿՏԵՄԲԵՐԻ 28-Ի N 2323-Ն ՈՐՈՇՄԱՆ N 9.1 ՀԱՎԵԼՎԱԾԻ 9.1.10 ԱՂՅՈՒՍԱԿՈՒՄ ԿԱՏԱՐՎՈՂ ՓՈՓՈԽՈՒԹՅՈՒՆՆԵՐԸ ԵՎ ԼՐԱՑՈՒՄԸ
A7: ՄԱՍ 1. ՊԵՏԱԿԱՆ ՄԱՐՄՆԻ ԳԾՈՎ ԱՐԴՅՈՒՆՔԱՅԻՆ (ԿԱՏԱՐՈՂԱԿԱՆ) ՑՈՒՑԱՆԻՇՆԵՐԸ
A9: Ծրագրի դասիչը | B9: Ծրագրի անվանումը
A10: 1022 | B10: Գյուղատնտեսության խթանման ծրագիր
A12: Ծրագրի միջոցառումները
A14: Ծրագրի դասիչը` | B14: 1022 | C14: Ցուցանիշների փոփոխությունը (ավելացումները նշված են դրական նշանով)
A15: Միջոցառման դասիչը` | B15: 11002 | C15: Տարի
A16: Միջոցառման անվանումը` | B16: Պետական աջակցություն Հայաստանի Հանրապետության գյուղատնտեսական ծրագրերի իրականացմանը
A17: Նկարագրությունը` | B17: Աջակցություն Հայաստանի Հանրապետության բուսաբուծության խթանման, բույսերի պաշտպանության և անասնաբուժական ծրագրերի իրականացմանը
A18: Միջոցառման տեսակը` | B18: Ծառայությունների մատուցում
A19: Միջոցառումն իրականացնողի անվանումը՛ | B19: Մասնագիտացված կազմակերպություններ
A20: Արդյունքի չափորոշիչներ
A21: Միջոցառման վրա կատարվող ծախսը (հազար դրամ) | C21: 35843.6
A22: Ծրագրի դասիչը` | B22: 1022 | C22: Ցուցանիշների փոփոխությունը (ավելացումները նշված են դրական նշանով)
A23: Միջոցառման դասիչը` | B23: 12015 | C23: Տարի
A24: Միջոցառման անվանումը` | B24: Կոնյակի սպիրտի արտահանման աջակցության ծրագրի շրջանակներում տրամադրվող աջակցություն
A25: Նկարագրությունը` | B25: Կոնյակի և բրենդիի սպիրտներ արտադրողի կողմից 100 հազար (100 տոկոսանոց սպիրտի հաշվարկով) լիտրը գերազանցելուց հետո այլ խմբաքանակների իրացման իրավունքի ձեռքբերման համար տնտեսավարող սուբյեկտի կողմից վճարված լրացուցիչ 100 դրամ պետական տուրքի շրջանակներում արտահանված կոնյակի սպիրտին համարժեք տուրքի չափով աջակցության տրամադրում
A26: Միջոցառման տեսակը` | B26: Տրանսֆերտների տրամադրում
A27: Շահառուների ընտրության չափանիշները | B27: ՀՀ կառավարության 2024 թվականի հունիսի 27-ի N 971-Լ որոշմամբ հաստատված ծրագրի չափանիշները բավարարող շահառուներ
A28: Արդյունքի չափորոշիչներ
A29: 100 հազար լիտրը գերազանցող մասի իրացման իրավունք ստացած կոնյակի սպիրտ, հազար բացարձակ լիտր | C29: 515
A30: Աջակցություն ստացող տնտեսավարողներ | C30: -2
A31: Միջոցառման վրա կատարվող ծախսը (հազար դրամ) | C31: 51500
A33: Ծրագրի դասիչը | B33: Ծրագրի անվանումը
A34: 1058 | B34: Էկոնոմիկայի ոլորտում պետական քաղաքականության մշակում, ծրագրերի համակարգում և մոնիտորինգ
A36: Ծրագրի միջոցառումները
A38: Ծրագրի դասիչը` | B38: 1058 | C38: Ցուցանիշների փոփոխությունը (նվազեցումները նշված են փակագծերում)
A39: Միջոցառման դասիչը` | B39: 11001 | C39: Տարի
A40: Միջոցառման անվանումը` | B40: Էկոնոմիկայի ոլորտում պետական քաղաքականության մշակում, ծրագրերի համակարգում և մոնիտորինգ
A41: Նկարագրությունը` | B41: Քաղաքականության մշակման և դրա կատարման համակարգման, պետական ծրագրերի պլանավորման, մշակման, իրականացման և մոնիտորինգի (վերահսկման) ծառայություններ
A42: Միջոցառման տեսակը` | B42: Ծառայությունների մատուցում
A43: Ծառայությունը մատուցող կազմակերպության(ների) անվանում(ներ)ը | B43: ՀՀ էկոնոմիկայի նախարարություն
A44: Արդյունքի չափորոշիչներ
A45: Միջոցառման վրա կատարվող ծախսը (հազար դրամ) | C45: =+'2'!G30 -> -35843.6
A47: Ծրագրի դասիչը | B47: Ծրագրի անվանումը
A48: 1059 | B48: Բուսաբուծության խթանում և բույսերի պաշտպանություն
A50: Ծրագրի միջոցառումները
A52: Ծրագրի դասիչը` | B52: 1059 | C52: Ցուցանիշների փոփոխությունը (ավելացումները նշված են դրական նշանով)
A53: Միջոցառման դասիչը` | B53: 11010 | C53: Տարի
...

Sheet 6
G1: Հավելված N 6
G2: ՀՀ կառավարության 2024 թվականի
G3: № ------------ -Ն որոշման
A5: ՀԱՅԱՍՏԱՆԻ ՀԱՆՐԱՊԵՏՈՒԹՅԱՆ ԿԱՌԱՎԱՐՈՒԹՅԱՆ 2023 ԹՎԱԿԱՆԻ ԴԵԿՏԵՄԲԵՐԻ 28-Ի N 2323-Ն ՈՐՈՇՄԱՆ N 10 ՀԱՎԵԼՎԱԾՈՒՄ ԿԱՏԱՐՎՈՂ ՓՈՓՈԽՈՒԹՅՈՒՆԸ
A6: ՀՀ էկոնոմիկայի նախարարություն
A9: Գնման առարկայի | E9: Գնման ձևը (ընթացակարգը) | F9: Չափի միավորը | G9: Ցուցանիշների փոփոխությունները (նվազեցումները նշված են փակագծերում)
A10: Միջանցիկ կոդը` ըստ CPV դասակարգման | B10: անվանումը | G10: Միավորի գինը (ՀՀ դրամ) | H10: Քանակը | I10: Գումարը (հազար դրամով)
A11: 1 | B11: 2 | E11: 3 | F11: 4 | G11: 5 | H11: 6 | I11: 7
A12: ՀՀ էկոնոմիկայի նախարարություն | I12: =I13 -> -10000
A13: Բաժին 04 | B13: Խումբ 01 | C13: Դաս 01 | D13: Ընդհանուր բնույթի տնտեսական և առևտրային հարաբերություններ | I13: =+I14 -> -10000
A14: 1165-11014 | B14: Տեղական արտադրության դեղերի ներկայացման հեռուստահաղորդաշարի պատրաստում և հեռարձակման ապահովում | I14: =+I15 -> -10000
B15: ՄԱՍ III.ԾԱՌԱՅՈՒԹՅՈՒՆՆԵՐ | I15: =+I17 -> -10000
A17: 39294200/2 | B17: տեղեկատվական և գովազդային արտադրանք | E17: ԷԱՃ | F17: հատ | G17: 5000000 | H17: -2 | I17: =+G17*H17/1000 -> -10000
