Workbook

Sheet 1
D1: Հավելված N1
D2: ՀՀ կառավարության 2024 թվականի
D3: ______________ ի ___Ն որոշման
A5: «ՀԱՅԱUՏԱՆԻ ՀԱՆՐԱՊԵՏՈՒԹՅԱՆ 2024 ԹՎԱԿԱՆԻ ՊԵՏԱԿԱՆ ԲՅՈՒՋԵԻ ՄԱUԻՆ» OՐԵՆՔԻ N 1 ՀԱՎԵԼՎԱԾԻ N 2 ԱՂՅՈՒՍԱԿՈՒՄ ԿԱՏԱՐՎՈՂ ՎԵՐԱԲԱՇԽՈՒՄԸ ԵՎ ՓՈՓՈԽՈՒԹՅՈՒՆԸ, ՀԱՅԱՍՏԱՆԻ ՀԱՆՐԱՊԵՏՈՒԹՅԱՆ ԿԱՌԱՎԱՐՈՒԹՅԱՆ 2023 ԹՎԱԿԱՆԻ ԴԵԿՏԵՄԲԵՐԻ 28-Ի N 2323-Ն ՈՐՈՇՄԱՆ N 5 ՀԱՎԵԼՎԱԾԻ N 1 ԱՂՅՈՒՍԱԿՈՒՄ ԿԱՏԱՐՎՈՂ ՓՈՓՈԽՈՒԹՅՈՒՆՆԵՐԸ
D6: հազ. դրամ
A7: Ծրագրային դասիչը | C7: Բյուջետային հատկացումների գլխավոր կարգադրիչների, ծրագրերի և միջոցառումների անվանումները | D7: Ցուցանիշների փոփոխությունը (ավելացումները նշված են դրական նշանով, իսկ նվազեցումները` փակագծերում)
A8: Ծրագիր | B8: Միջոցառում | D8: Տարի
A9: 1192 | C9: ԸՆԴԱՄԵՆԸ | D9: =D10+D49 -> 0
C10: ՀՀ տարածքային կառավարման և ենթակառուցվածքների նախարարություն | D10: =D11+D30 -> 0
A11: 1072 | C11: Ծրագրի անվանումը` | D11: =D18+D24 -> 57.1
C12: Ջրամատակարարաման և ջրահեռացման բարելավում
C13: Ծրագրի նպատակը`
C14: Ջրամատակարարման ծառայությունների հասանելիության և մատչելիության ապահովում
C15: Վերջնական արդյունքի նկարագրությունը`
C16: Խմելու ջրի մատակարարման և ջրահեռացման համակարգի բարելավում, կորուստների կրճատում
A17: Ծրագրի միջոցառումներ
B18: 11007 | C18: Միջոցառման անվանումը` | D18: ='3'!G26 -> 42.5
C19: Գերմանիայի զարգացման վարկերի բանկի աջակցությամբ իրականացվող ջրամատակարարման և ջրահեռացման ենթակառուցվածքների վերականգնման ծրագրի երրորդ փուլ
C20: Միջոցառման նկարագրությունը`
C21: Համայնքային ջրամատակարարման և ջրահեռացման ենթակառուցվածքների վերականգնման ծրագրի համակարգում և ղեկավարում
C22: Միջոցառման տեսակը
C23: Ծառայությունների մատուցում
B24: 12001 | C24: Միջոցառման անվանումը` | D24: ='3'!G33 -> 14.6
C25: Գերմանիայի զարգացման և Եվրոպական միության հարևանության ներդրումային բանկի աջակցությամբ իրականացվող ջրամատակարարման և ջրահեռացման ենթակառուցվածքների դրամաշնորհային ծրագիր` երրորդ փուլ
C26: Միջոցառման նկարագրությունը`
C27: 579 գյուղական բնակավայրերից ընտրված որոշ համայնքների ջրամատակարարման և ջրահեռացման համակարգերի հատվածների հրատապ վերականգնման աշխատանքների իրականացում ինչպես նաև՛ Արմավիրի կեղտաջրերի մաքրման կայանի կառուցում
C28: Միջոցառման տեսակը
C29: Տրանսֆերտների տրամադրում
A30: 1109 | C30: Ծրագրի անվանումը` | D30: -57.1
C31: Ջրային տնտեսության ոլորտում ծրագրերի համակարգում և մոնիտորինգ
C32: Ծրագրի նպատակը`
C33: Ջրային տնտեսության ոլորտում պետական արդյունավետ ծրագրերի մշակման և իրականացման ապահովում
C34: Վերջնական արդյունքի նկարագրությունը`
C35: Ջրային տնտեսության ոլորտում իրականացվող ծրագրերի ազդեցության և արդյունավետության բարելավում
A36: Ծրագրի միջոցառումներ
B37: 11001 | C37: Միջոցառման անվանումը` | D37: ='3'!G48 -> -1185.1
C38: Ջրային տնտեսության ոլորտում պետական քաղաքականության մշակում, ծրագրերի համակարգում և մոնիտորինգ
C39: Միջոցառման նկարագրությունը`
C40: Ոլորտի քաղաքականության խորհրդատվության, կոմիտեի իրավասության տակ ընկնող ծառայությունների ու ծրագրերի համակարգման ծառայություններ
C41: Միջոցառման տեսակը`
C42: Ծառայությունների մատուցում
B43: 11001 | C43: Միջոցառման անվանումը` | D43: ='3'!G50 -> 1128
C44: Ջրային տնտեսության ոլորտում պետական քաղաքականության մշակում, ծրագրերի համակարգում և մոնիտորինգ
C45: Միջոցառման նկարագրությունը`
C46: Ոլորտի քաղաքականության խորհրդատվության, կոմիտեի իրավասության տակ ընկնող ծառայությունների ու ծրագրերի համակարգման ծառայություններ
C47: Միջոցառման տեսակը`
C48: Ծառայությունների մատուցում
C49: ՀՀ կառավարություն | D49: =D50 -> 0
A50: 1139 | C50: Ծրագրի անվանումը` | D50: ='3'!G60 -> 0
C51: ՀՀ կառավարության պահուստային ֆոնդ
C52: Ծրագրի նպատակը`
C53: Պետական բյուջեում չկանխատեսված՝ ինչպես նաեւ բյուջետային երաշխիքների ապահովման ծախսերի ֆինանսավորման ապահովում
C54: Վերջնական արդյունքի նկարագրությունը`
C55: Պահուստային ֆոնդի կառավարման արդյունավետության և թափանցիկության ապահովում
C56: Ծրագրի միջոցառումներ
B57: 11001 | C57: Միջոցառման անվանումը` | D57: ='3'!G62 -> 1185.1
C58: ՀՀ կառավարության պահուստային ֆոնդ
C59: Միջոցառման նկարագրությունը`
C60: ՀՀ պետական բյուջեում նախատեսված ելքերի լրացուցիչ ֆինանսավորման՝ պետական բյուջեում չկանխատեսված ելքերի՝ ինչպես նաև բյուջետային երաշխիքների ապահովման ելքերի ֆինանսավորման ապահովում
C61: Միջոցառման տեսակը
C62: Ծառայությունների մատուցում
B63: 11001 | C63: Միջոցառման անվանումը` | D63: ='3'!G70 -> -1185.1
C64: ՀՀ կառավարության պահուստային ֆոնդ
C65: Միջոցառման նկարագրությունը`
C66: ՀՀ պետական բյուջեում նախատեսված ելքերի լրացուցիչ ֆինանսավորման՝ պետական բյուջեում չկանխատեսված ելքերի՝ ինչպես նաև բյուջետային երաշխիքների ապահովման ելքերի ֆինանսավորման ապահովում
C67: Միջոցառման տեսակը
C68: Ծառայությունների մատուցում

Sheet 2
A1: Հավելված N 2
A2: ՀՀ կառավարության 2024 թվականի
A3: -ի N -Ն որոշման
A4: «ՀԱՅԱՍՏԱՆԻ ՀԱՆՐԱՊԵՏՈՒԹՅԱՆ 2024 ԹՎԱԿԱՆԻ ՊԵՏԱԿԱՆ ԲՅՈՒՋԵԻ ՄԱՍԻՆ» ՀԱՅԱՍՏԱՆԻ ՀԱՆՐԱՊԵՏՈՒԹՅԱՆ ՕՐԵՆՔԻ N 1 ՀԱՎԵԼՎԱԾԻ N 3 ԱՂՅՈՒՍԱԿՈՒՄ ԿԱՏԱՐՎՈՂ ՓՈՓՈԽՈՒԹՅՈՒՆՆԵՐԸ
G5: (հազ. դրամ)
A6: Ծրագրային դասիչ | C6: Բյուջետային գլխավոր կարգադրիչների, ծրագրերի, միջոցառումների և ուղղությունների անվանումները | D6: Ցուցանիշների փոփոխությունը (ավելացումները նշված են դրական նշանով, իսկ նվազեցումները՝ փակագծերում)
D7: Ընդամենը, | E7: այդ թվում՝
A8: Ծրագիր | B8: Միջոցառում | E8: Կառուցման աշխատանքներ | F8: Վերակառուցման, վերանորոգման և վերականգնման աշխատանքներ | G8: Նախագծահե- տազոտական, գեոդեզիա- քարտեզագրա- կան աշխա- տանքներ | H8: Ոչ ֆինանսական այլ ակտիվների ձեռքբերում
C9: ԸՆԴԱՄԵՆԸ | D9: =SUM(E9:H9) -> 0 | E9: =E11 -> 0 | F9: =F11 -> 0 | G9: =G11 -> 0 | H9: =H11 -> 0
C10: այդ թվում՝
C11: ՀՀ ՏԱՐԱԾՔԱՅԻՆ ԿԱՌԱՎԱՐՄԱՆ ԵՎ ԵՆԹԱԿԱՌՈՒՑՎԱԾՔՆԵՐԻ ՆԱԽԱՐԱՐՈՒԹՅՈՒՆ | D11: =SUM(E11:H11) -> 0 | E11: =E13 -> 0 | F11: =F13 -> 0 | G11: =G13 -> 0 | H11: =H13 -> 0
C12: այդ թվում`
A13: 1072 | B13: 31010 | C13: Ջրամատակարարման և ջրահեռացման համակարգի հիմնանորոգում | D13: =SUM(E13:H13) -> 0 | E13: =SUM(E15:E16) -> 0 | F13: =SUM(F15:F16) -> 0 | G13: =SUM(G15:G16) -> 0 | H13: =SUM(H15:H16) -> 0
C14: այդ թվում` ըստ ուղղությունների
C15: ՀՀ Արարատի մարզի Մխչյան համայնքի ջրամատակարարման համակարգի վերակառուցում | D15: =SUM(E15:H15) -> -6710.6 | F15: -6710.6
C16: ՀՀ Գեղարքունիքի մարզի Ներքին Գետաշեն բնակավայրի ջրամատակարարման համակարգի վերակառուցում | D16: =SUM(E16:H16) -> 6710.6 | F16: 6710.6

Sheet 3
A1: Հավելված N 3
A2: ՀՀ կառավարության 2024 թվականի
A3: -ի N -Ն որոշման
A4: ՀԱՅԱՍՏԱՆԻ ՀԱՆՐԱՊԵՏՈՒԹՅԱՆ ԿԱՌԱՎԱՐՈՒԹՅԱՆ 2023 ԹՎԱԿԱՆԻ ԴԵԿՏԵՄԲԵՐԻ 28-Ի N 2323-Ն ՈՐՈՇՄԱՆ N 3 ԵՎ N 4 ՀԱՎԵԼՎԱԾՆԵՐՈՒՄ ԿԱՏԱՐՎՈՂ ՓՈՓՈԽՈՒԹՅՈՒՆՆԵՐԸ ԵՎ ԼՐԱՑՈՒՄՆԵՐԸ
A6: Գործառական դասիչը | D6: Ծրագրային դասիչը | F6: Բյուջետային ծախսերի գործառական դասակարգման բաժինների, խմբերի և դասերի, բյուջետային ծրագրերի միջոցառումների, բյուջետային հատկացումների գլխավոր կարգադրիչների անվանումները | G6: Ցուցանիշների փոփոխությունը (ավելացումները նշված են դրական նշանով, իսկ նվազեցումները՝ փակագծերում)
A7: Բաժին | B7: Խումբ | C7: Դաս | D7: Ծրագիր | E7: Միջոցառում | G7: Տարի
F8: ԸՆԴԱՄԵՆԸ | G8: =G10+G51 -> 0
F9: այդ թվում`
A10: 06 | F10: ԲՆԱԿԱՐԱՆԱՅԻՆ ՇԻՆԱՐԱՐՈՒԹՅՈՒՆ ԵՎ ԿՈՄՈՒՆԱԼ ԾԱՌԱՅՈՒԹՅՈՒՆՆԵՐ | G10: =G12 -> 0
F11: այդ թվում`
B12: 03 | F12: Ջրամատակարարում | G12: =G14 -> 0
F13: այդ թվում`
C14: 01 | F14: Ջրամատակարարում | G14: =G16 -> 0
F15: այդ թվում`
F16: ՀՀ տարածքային կառավարման և ենթակառուցվածքների նախարարություն | G16: =G18+G38 -> 0
F17: այդ թվում`
D18: 1072 | F18: Ջրամատակարարաման և ջրահեռացման բարելավում | G18: =G20+G29 -> 57.1
F19: այդ թվում`
E20: 11007 | F20: Գերմանիայի զարգացման վարկերի բանկի աջակցությամբ իրականացվող ջրամատակարարման և ջրահեռացման ենթակառուցվածքների վերականգնման ծրագրի երրորդ փուլ | G20: =G22 -> 42.5
F21: այդ թվում` ըստ կատարողների
F22: ՀՀ տարածքային կառավարման և ենթակառուցվածքների նախարարության ջրային կոմիտե | G22: =G24 -> 42.5
F23: այդ թվում` բյուջետային ծախսերի տնտեսագիտական դասակարգման հոդվածներ
F24: ԸՆԴԱՄԵՆԸ ԾԱԽՍԵՐ | G24: =G25 -> 42.5
F25: ԸՆԹԱՑԻԿ ԾԱԽՍԵՐ | G25: =G26 -> 42.5
F26: ԾԱՌԱՅՈՒԹՅՈՒՆՆԵՐԻ ԵՎ ԱՊՐԱՆՔՆԵՐԻ ՁԵՌՔԲԵՐՈՒՄ | G26: =G27 -> 42.5
F27: Շարունակական ծախսեր | G27: =G28 -> 42.5
F28: - Գործառնական և բանկային ծառայությունների ծախսեր | G28: 42.5
E29: 12001 | F29: Գերմանիայի զարգացման և Եվրոպական միության հարևանության ներդրումային բանկի աջակցությամբ իրականացվող ջրամատակարարման և ջրահեռացման ենթակառուցվածքների դրամաշնորհային ծրագիր` երրորդ փուլ | G29: =G31 -> 14.6
F30: այդ թվում` ըստ կատարողների
F31: ՀՀ տարածքային կառավարման և ենթակառուցվածքների նախարարության ջրային կոմիտե | G31: =G33 -> 14.6
F32: այդ թվում` բյուջետային ծախսերի տնտեսագիտական դասակարգման հոդվածներ
F33: ԸՆԴԱՄԵՆԸ ԾԱԽՍԵՐ | G33: =G34 -> 14.6
F34: ԸՆԹԱՑԻԿ ԾԱԽՍԵՐ | G34: =G35 -> 14.6
F35: ԾԱՌԱՅՈՒԹՅՈՒՆՆԵՐԻ ԵՎ ԱՊՐԱՆՔՆԵՐԻ ՁԵՌՔԲԵՐՈՒՄ | G35: =G36 -> 14.6
F36: Շարունակական ծախսեր | G36: =G37 -> 14.6
F37: - Գործառնական և բանկային ծառայությունների ծախսեր | G37: 14.6
D38: 1109 | F38: Ջրային տնտեսության ոլորտում ծրագրերի համակարգում և մոնիտորինգ | G38: =G40 -> -57.1
F39: այդ թվում`
E40: 11001 | F40: Ջրային տնտեսության ոլորտում պետական քաղաքականության մշակում, ծրագրերի համակարգում և մոնիտորինգ | G40: =G42 -> -57.1
F41: այդ թվում` ըստ կատարողների
F42: ՀՀ տարածքային կառավարման և ենթակառուցվածքների նախարարության ջրային կոմիտե | G42: =G44 -> -57.1
F43: այդ թվում` բյուջետային ծախսերի տնտեսագիտական դասակարգման հոդվածներ
F44: ԸՆԴԱՄԵՆԸ ԾԱԽՍԵՐ | G44: =G45 -> -57.1
F45: ԸՆԹԱՑԻԿ ԾԱԽՍԵՐ | G45: =G46 -> -57.1
F46: ԾԱՌԱՅՈՒԹՅՈՒՆՆԵՐԻ ԵՎ ԱՊՐԱՆՔՆԵՐԻ ՁԵՌՔԲԵՐՈՒՄ | G46: -57.1
F47: Պայմանագրային այլ ծառայությունների ձեռքբերում | G47: =G48 -> -1185.1
F48: - Կառավարչական ծառայություններ | G48: -1185.1
F49: Այլ մասնագիտական ծառայությունների ձեռքբերում | G49: =G50 -> 1128
F50: - Մասնագիտական ծառայություններ | G50: 1128
F51: ՀՀ Կառավարություն | G51: =G52 -> 0
A52: 11 | F52: ՀԻՄՆԱԿԱՆ ԲԱԺԻՆՆԵՐԻՆ ՉԴԱՍՎՈՂ ՊԱՀՈՒՍՏԱՅԻՆ ՖՈՆԴԵՐ | G52: =G54 -> 0
F53: այդ թվում`
B54: 01 | F54: ՀՀ կառավարության և համայնքների պահուստային ֆոնդ | G54: =G56 -> 0
F55: այդ թվում`
C56: 01 | F56: ՀՀ կառավարության պահուստային ֆոնդ | G56: =G58 -> 0
F57: այդ թվում`
F58: ՀՀ կառավարություն | G58: =G60 -> 0
F59: այդ թվում`
D60: 1139 | F60: ՀՀ կառավարության պահուստային ֆոնդ | G60: =G62+G70 -> 0
F61: այդ թվում`
E62: 11001 | F62: ՀՀ կառավարության պահուստային ֆոնդ | G62: =G64 -> 1185.1
F63: այդ թվում` ըստ կատարողների
F64: ՀՀ կառավարություն | G64: =G66 -> 1185.1
F65: այդ թվում` բյուջետային ծախսերի տնտեսագիտական դասակարգման հոդվածներ
F66: ԸՆԴԱՄԵՆԸ ԾԱԽՍԵՐ | G66: =G67 -> 1185.1
F67: ԸՆԹԱՑԻԿ ԾԱԽՍԵՐ | G67: =G68 -> 1185.1
F68: ԱՅԼ ԾԱԽՍԵՐ | G68: =G69 -> 1185.1
F69: Պահուստային միջոցներ | G69: 1185.1
E70: 11001 | F70: ՀՀ կառավարության պահուստային ֆոնդ | G70: =G72 -> -1185.1
F71: այդ թվում` ըստ կատարողների
F72: ՀՀ կառավարություն | G72: =G74 -> -1185.1
F73: այդ թվում` բյուջետային ծախսերի տնտեսագիտական դասակարգման հոդվածներ
F74: ԸՆԴԱՄԵՆԸ ԾԱԽՍԵՐ | G74: =G75 -> -1185.1
F75: ԸՆԹԱՑԻԿ ԾԱԽՍԵՐ | G75: =G76 -> -1185.1
F76: ԱՅԼ ԾԱԽՍԵՐ | G76: =G77 -> -1185.1
F77: Պահուստային միջոցներ | G77: =-G50-G20-G29 -> -1185.1

Sheet 4
F1: Հավելված N 4
F2: ՀՀ կառավարության 2024 թվականի
F3: ______________ ի ___Ն որոշման
A5: «ՀԱՅԱUՏԱՆԻ ՀԱՆՐԱՊԵՏՈՒԹՅԱՆ 2024 ԹՎԱԿԱՆԻ ՊԵՏԱԿԱՆ ԲՅՈՒՋԵԻ ՄԱUԻՆ» OՐԵՆՔԻ N 1 ՀԱՎԵԼՎԱԾԻ N 4 ԱՂՅՈՒՍԱԿՈՒՄ ԵՎ ՀԱՅԱՍՏԱՆԻ ՀԱՆՐԱՊԵՏՈՒԹՅԱՆ ԿԱՌԱՎԱՐՈՒԹՅԱՆ 2023 ԹՎԱԿԱՆԻ ԴԵԿՏԵՄԲԵՐԻ 28-Ի N 2323-Ն ՈՐՈՇՄԱՆ N 5 ՀԱՎԵԼՎԱԾԻ N 3 ԱՂՅՈՒՍԱԿՈՒՄ ԿԱՏԱՐՎՈՂ ՓՈՓՈԽՈՒԹՅՈՒՆՆԵՐԸ ԵՎ ԼՐԱՑՈՒՄՆԵՐԸ
F6: հազ. դրամ
A7: Ծրագրային դասիչը | C7: Բյուջետային գլխավոր կարգադրիչների, ծրագրերի և միջոցառումների անվանումները | D7: Ցուցանիշների փոփոխությունը (ավելացումները նշված են դրական նշանով)
D8: Տարի
D9: Ընդամենը | E9: այդ թվում`
A10: Ծրագիր | B10: Միջոց առում | E10: Վարկային միջոցներ | F10: Համաֆինան սավորում
C11: ԸՆԴԱՄԵՆԸ | D11: =+E11+F11 -> 42.5 | E11: =+E14 -> 42.5 | F11: =+F14 -> 0
C12: այդ թվում`
C13: ԸՆԹԱՑԻԿ ԾԱԽՍԵՐ | D13: =+E13+F13 -> 42.5 | E13: =E17 -> 42.5 | F13: =F17 -> 0
C14: ՀՀ ՏԱՐԱԾՔԱՅԻՆ ԿԱՌԱՎԱՐՄԱՆ ԵՎ ԵՆԹԱԿԱՌՈՒՑՎԱԾՔՆԵՐԻ ՆԱԽԱՐԱՐՈՒԹՅՈՒՆ | D14: =+E14+F14 -> 42.5 | E14: =E15 -> 42.5 | F14: =F15 -> 0
A15: 1072 | C15: Ջրամատակարարաման և ջրահեռացման բարելավում | D15: =+E15+F15 -> 42.5 | E15: =+E17 -> 42.5 | F15: =+F17 -> 0
C16: այդ թվում`
B17: 11007 | C17: Գերմանիայի զարգացման վարկերի բանկի աջակցությամբ իրականացվող ջրամատակարարման և ջրահեռացման ենթակառուցվածքների վերականգնման ծրագրի երրորդ փուլ | D17: =+D19 -> 42.5 | E17: =+E19 -> 42.5 | F17: =+F19 -> 0
C18: այդ թվում` ըստ կատարողների
C19: ՀՀ տարածքային կառավարման և ենթակառուցվածքների նախարարության ջրային կոմիտե | D19: =+D21 -> 42.5 | E19: =+E21 -> 42.5 | F19: =+F21 -> 0
C20: այդ թվում` բյուջետային ծախսերի տնտեսագիտական դասակարգման հոդվածներ
C21: ԸՆԴԱՄԵՆԸ ԾԱԽՍԵՐ | D21: =+E21+F21 -> 42.5 | E21: =+E22 -> 42.5 | F21: =+F22 -> 0
C22: ԸՆԹԱՑԻԿ ԾԱԽՍԵՐ | D22: =+E22+F22 -> 42.5 | E22: =+E23 -> 42.5 | F22: =+F23 -> 0
C23: ԾԱՌԱՅՈՒԹՅՈՒՆՆԵՐԻ ԵՎ ԱՊՐԱՆՔՆԵՐԻ ՁԵՌՔԲԵՐՈՒՄ | D23: =+E23+F23 -> 42.5 | E23: =E24 -> 42.5 | F23: =F24 -> 0
C24: Շարունակական ծախսեր | D24: =+E24+F24 -> 42.5 | E24: =E25 -> 42.5 | F24: =F25 -> 0
C25: - Գործառնական և բանկային ծառայությունների ծախսեր | D25: =+E25+F25 -> 42.5 | E25: 42.5

Sheet 5
F1: Հավելված N 5
F2: ՀՀ կառավարության 2024 թվականի
F3: ______________ ի ___Ն որոշման
A5: «ՀԱՅԱUՏԱՆԻ ՀԱՆՐԱՊԵՏՈՒԹՅԱՆ 2024 ԹՎԱԿԱՆԻ ՊԵՏԱԿԱՆ ԲՅՈՒՋԵԻ ՄԱUԻՆ» OՐԵՆՔԻ N 1 ՀԱՎԵԼՎԱԾԻ N 5 ԱՂՅՈՒՍԱԿՈՒՄ ԵՎ ՀԱՅԱՍՏԱՆԻ ՀԱՆՐԱՊԵՏՈՒԹՅԱՆ ԿԱՌԱՎԱՐՈՒԹՅԱՆ 2023 ԹՎԱԿԱՆԻ ԴԵԿՏԵՄԲԵՐԻ 28-Ի N 2323-Ն ՈՐՈՇՄԱՆ N 5 ՀԱՎԵԼՎԱԾԻ N 4 ԱՂՅՈՒՍԱԿՈՒՄ ԿԱՏԱՐՎՈՂ ՓՈՓՈԽՈՒԹՅՈՒՆՆԵՐԸ ԵՎ ԼՐԱՑՈՒՄՆԵՐԸ
F6: հազ. դրամ
A7: Ծրագրային դասիչը | C7: Բյուջետային գլխավոր կարգադրիչների, ծրագրերի և միջոցառումների անվանումները | D7: Ցուցանիշների փոփոխությունը (ավելացումները նշված են դրական նշանով)
D8: Տարի
D9: Ընդամենը | E9: այդ թվում`
A10: Ծրագիր | B10: Միջոց առում | E10: Դրամաշնորհային միջոցներ | F10: Համաֆինան սավորում
C11: ԸՆԴԱՄԵՆԸ | D11: =+E11+F11 -> 14.6 | E11: =+E14 -> 14.6 | F11: =+F14 -> 0
C12: այդ թվում`
C13: ԸՆԹԱՑԻԿ ԾԱԽՍԵՐ | D13: =+E13+F13 -> 14.6 | E13: =E14 -> 14.6 | F13: =F14 -> 0
C14: ՀՀ ՏԱՐԱԾՔԱՅԻՆ ԿԱՌԱՎԱՐՄԱՆ ԵՎ ԵՆԹԱԿԱՌՈՒՑՎԱԾՔՆԵՐԻ ՆԱԽԱՐԱՐՈՒԹՅՈՒՆ | D14: =+E14+F14 -> 14.6 | E14: =E15 -> 14.6 | F14: =F15 -> 0
A15: 1072 | C15: Ջրամատակարարաման և ջրահեռացման բարելավում | D15: =+E15+F15 -> 14.6 | E15: =E17 -> 14.6 | F15: =F17 -> 0
C16: այդ թվում`
B17: 12001 | C17: Գերմանիայի զարգացման և Եվրոպական միության հարևանության ներդրումային բանկի աջակցությամբ իրականացվող ջրամատակարարման և ջրահեռացման ենթակառուցվածքների դրամաշնորհային ծրագիր` երրորդ փուլ | D17: =+D19 -> 14.6 | E17: =+E19 -> 14.6 | F17: =+F19 -> 0
C18: այդ թվում` ըստ կատարողների
C19: ՀՀ տարածքային կառավարման և ենթակառուցվածքների նախարարության ջրային կոմիտե | D19: =+D21 -> 14.6 | E19: =+E21 -> 14.6 | F19: =+F21 -> 0
C20: այդ թվում` բյուջետային ծախսերի տնտեսագիտական դասակարգման հոդվածներ
C21: ԸՆԴԱՄԵՆԸ ԾԱԽՍԵՐ | D21: =E21+F21 -> 14.6 | E21: =+E22 -> 14.6 | F21: =+F22 -> 0
C22: ԸՆԹԱՑԻԿ ԾԱԽՍԵՐ | D22: =E22+F22 -> 14.6 | E22: =+E23 -> 14.6 | F22: =+F23 -> 0
C23: ԾԱՌԱՅՈՒԹՅՈՒՆՆԵՐԻ ԵՎ ԱՊՐԱՆՔՆԵՐԻ ՁԵՌՔԲԵՐՈՒՄ | D23: =E23+F23 -> 14.6 | E23: =E24 -> 14.6 | F23: =F24 -> 0
C24: Շարունակական ծախսեր | D24: =E24+F24 -> 14.6 | E24: =E25 -> 14.6 | F24: =F25 -> 0
C25: - Գործառնական և բանկային ծառայությունների ծախսեր | D25: =E25+F25 -> 14.6 | E25: 14.6

Sheet 6
A1: Հավելված N 6
A2: ՀՀ կառավարության 2024 թվականի
A3: -ի N -Ն որոշման
A4: ՀԱՅԱՍՏԱՆԻ ՀԱՆՐԱՊԵՏՈՒԹՅԱՆ ԿԱՌԱՎԱՐՈՒԹՅԱՆ 2023 ԹՎԱԿԱՆԻ ԴԵԿՏԵՄԲԵՐԻ 28-Ի N 2323-Ն ՈՐՈՇՄԱՆ N 5 ՀԱՎԵԼՎԱԾԻ N 2 ԱՂՅՈՒՍԱԿՈՒՄ ԿԱՏԱՐՎՈՂ ՓՈՓՈԽՈՒԹՅՈՒՆՆԵՐԸ
D5: (հազ. դրամ)
A6: Ծրագրային դասիչ | C6: Բյուջետային գլխավոր կարգադրիչների, ծրագրերի, միջոցառումների, միջոցառումները կատարող պետական մարմինների և ուղղությունների անվանումները | D6: Ցուցանիշների փոփոխությունը (ավելացումները նշված են դրական նշանով, իսկ նվազեցումները` փակագծերում)
A7: Ծրագիր | B7: Միջոցառում | D7: Տարի
C8: ԸՆԴԱՄԵՆԸ | D8: =D10 -> 0
C9: այդ թվում՝
C10: ՀՀ ՏԱՐԱԾՔԱՅԻՆ ԿԱՌԱՎԱՐՄԱՆ ԵՎ ԵՆԹԱԿԱՌՈՒՑՎԱԾՔՆԵՐԻ ՆԱԽԱՐԱՐՈՒԹՅՈՒՆ | D10: =D12 -> 0
C11: այդ թվում`
A12: 1072 | B12: 31010 | C12: Ջրամատակարարման և ջրահեռացման համակարգի հիմնանորոգում | D12: =D14 -> 0
C13: այդ թվում` ըստ կատարողների
C14: ՀՀ տարածքային կառավարման և ենթակառուցվածքների նախարարության ջրային կոմիտե | D14: =SUM(D16:D17) -> 0
C15: այդ թվում` ըստ ուղղությունների
C16: ՀՀ Արարատի մարզի Մխչյան համայնքի ջրամատակարարման համակարգի վերակառուցում | D16: ='2'!D15 -> -6710.6
C17: ՀՀ Գեղարքունիքի մարզի Ներքին Գետաշեն բնակավայրի ջրամատակարարման համակարգի վերակառուցում | D17: ='2'!D16 -> 6710.6

Sheet 7-1
A1: Հավելված N 7
A2: ՀՀ կառավարության 2024 թվականի
A3: -ի N -Ն որոշման
C4: Աղյուսակ 1
A5: ՀԱՅԱՍՏԱՆԻ ՀԱՆՐԱՊԵՏՈՒԹՅԱՆ ԿԱՌԱՎԱՐՈՒԹՅԱՆ 2023 ԹՎԱԿԱՆԻ ԴԵԿՏԵՄԲԵՐԻ 28-Ի N 2323-Ն ՈՐՈՇՄԱՆ N 9 ՀԱՎԵԼՎԱԾԻ N 9.7 ԵՎ N 9.48 ԱՂՅՈՒՍԱԿՆԵՐՈՒՄ ԿԱՏԱՐՎՈՂ ՓՈՓՈԽՈՒԹՅՈՒՆՆԵՐԸ
A6: ՀՀ տարածքային կառավարման և ենթակառուցվածքների նախարարություն
A8: ՄԱՍ 2. ՊԵՏԱԿԱՆ ՄԱՐՄՆԻ ԳԾՈՎ ԱՐԴՅՈՒՆՔԱՅԻՆ (ԿԱՏԱՐՈՂԱԿԱՆ) ՑՈՒՑԱՆԻՇՆԵՐԸ | C8: Աղյուսակ 9.7
A10: Ծրագրի դասիչը | B10: Ծրագրի անվանումը
A11: 1004 | B11: Ոռոգման համակարգի առողջացում
A13: Ծրագրի միջոցառումները
A14: Ծրագրի դասիչը` | B14: 1004 | C14: Ցուցանիշների փոփոխությունը (նվազեցումները նշված են փակագծերում)
A16: Միջոցառման դասիչը` | B16: 11002 | C16: Տարի
A17: Միջոցառման անվանումը` | B17: Ոռոգման ծառայություններ մատուցող ընկերություններին ֆինանսական աջակցության տրամադրում
A18: Նկարագրությունը` | B18: Ոռոգման ոլորտի սուբսիդավորում ՋՕԸ-ների համար սահմանված ոռոգման ջրի սակագնի և նվազագույն շահավետ գնի տարբերության չափով
A19: Միջոցառման տեսակը` | B19: Ծառայությունների մատուցում
A20: Միջոցառումն իրականացնողի անվանումը | B20: Ջրօգտագործողների ընկերություններ
A21: Արդյունքի չափորոշիչներ
A22: Ջրամատակարարման ծավալ, մլն խմ | C22: -114
A23: Հասույթից գանձում, % | C23: -6
A24: Միջոցառման վրա կատարվող ծախսը (հազար դրամ)
A26: Ծրագրի դասիչը | B26: Ծրագրի անվանումը
A27: 1017 | B27: Որոտան-Արփա-Սևան թունելի ջրային համակարգի կառավարում
A29: Ծրագրի միջոցառումները
A30: Ծրագրի դասիչը` | B30: 1017 | C30: Ցուցանիշների փոփոխությունը (ավելացումները նշված են դրական նշանով)
A32: Միջոցառման դասիչը` | B32: 11001 | C32: Տարի
A33: Միջոցառման անվանումը` | B33: Արփա-Սևան թունելի ընթացիկ շահագործում և պահպանում
A34: Նկարագրությունը` | B34: Որոտան-Արփա-Սևան թունելի շահագործման և պահպանման նպատակով ծառայությունների մատուցում
A35: Միջոցառման տեսակը` | B35: Ծառայությունների մատուցում
A36: Միջոցառումն իրականացնողի անվանումը | B36: Մասնագիտացված կազմակերպություն
A37: Արդյունքի չափորոշիչներ
A38: Տարվա ընթացքում Արփա-Սևան թունելով ջրի տեղափոխման օրերի քանակ | C38: 60
A39: Միջոցառման վրա կատարվող ծախսը (հազար դրամ) | C39: 0
A41: Ծրագրի դասիչը` | B41: 1017 | C41: Ցուցանիշների փոփոխությունը (նվազեցումները նշված են փակագծերում)
A43: Միջոցառման դասիչը` | B43: 21001 | C43: Տարի
A44: Միջոցառման անվանումը` | B44: Արփա-Սևան ջրային համակարգի տեխնիկական վիճակի բարելավում
A45: Նկարագրությունը` | B45: Արփա-Սևան թունելի առանձին վթարային հատվածների վերականգնման աշխատանքներ
A46: Միջոցառման տեսակը` | B46: Հանրության կողմից անմիջականորեն օգտագործվող ակտիվների հետ կապված միջոցառումներ
A47: Ակտիվն օգտագործող կազմակերպության(ների) անվանում(ները)՛ | B47: ՀՀ ՏԿԵՆ ջրային կոմիտե
A48: Արդյունքի չափորոշիչներ
A49: Երեսարկների վերակառուցում (մեկ համալիրի ճակատով՛ թունելի ՈՒՀ 189+90-ից մինչև ՈՒՀ 360+47), գծմ | C49: -93.6
A50: Միջոցառման վրա կատարվող ծախսը (հազար դրամ) | C50: 0
A52: Ծրագրի դասիչը | B52: Ծրագրի անվանումը
A53: 1027 | B53: Կոլեկտորադրենաժային ծառայություններ
A55: Ծրագրի միջոցառումները
A56: Ծրագրի դասիչը` | B56: 1027 | C56: Ցուցանիշների փոփոխությունը (ավելացումները նշված են դրական նշանով)
A58: Միջոցառման դասիչը` | B58: 11001 | C58: Տարի
A59: Միջոցառման անվանումը` | B59: Կոլեկտորադրենաժային ցանցերի պահպանում և շահագործում
A60: Նկարագրությունը` | B60: Կոլեկտորադրենաժային ցանցերի պահպանում և շահագործում, գրունտային ջրերի մակարդակների և որակի որոշման աշխատանքներ
A61: Միջոցառման տեսակը` | B61: Ծառայությունների մատուցում
A62: Միջոցառումն իրականացնողի անվանումը | B62: Մասնագիտացված կազմակերպություններ
A63: Արդյունքի չափորոշիչներ
A64: ՀՀ Արմավիրի մարզ | C64: 14.4
A65: ՀՀ Շիրակի մարզ | C65: 0.7
A66: Միջոցառման վրա կատարվող ծախսը (հազար դրամ) | C66: 0
A68: Ծրագրի դասիչը | B68: Ծրագրի անվանումը
A69: 1072 | B69: Ջրամատակարարաման և ջրահեռացման բարելավում
A71: Ծրագրի միջոցառումները
A72: Ծրագրի դասիչը` | B72: 1072 | C72: Ցուցանիշների փոփոխությունը (նվազեցումները նշված են փակագծերում)
A74: Միջոցառման դասիչը` | B74: 11001 | C74: Տարի
A75: Միջոցառման անվանումը` | B75: Խմելու ջրի մատակարարման և ջրահեռացման ծառայությունների սուբսիդավորում
A76: Նկարագրությունը` | B76: Խմելու ջուր մատակարարող ընկերության սուբսիդավորում՛ հաստատված սակագնի և նվազագույն շահավետ գնի տարբերության չափով
A77: Միջոցառման տեսակը` | B77: Ծառայությունների մատուցում
A78: Միջոցառումն իրականացնողի անվանումը | B78: Ջրամատակարարման և ջրահեռացման ծառայություններ մատուցող ընկերություն
A79: Արդյունքի չափորոշիչներ
A80: Բաժանորդներին մատակարարվող ջրի ծավալ, մլն խ մ | C80: -3
A81: Հեռացվող կեղտաջրերի ծավալ, մլն խ մ | C81: -3.5
A82: Միջոցառման վրա կատարվող ծախսը (հազար դրամ) | C82: 0
A84: Ծրագրի դասիչը` | B84: 1072 | C84: Ցուցանիշների փոփոխությունը (ավելացումները նշված են դրական նշանով
A86: Միջոցառման դասիչը` | B86: 11007 | C86: Տարի
A87: Միջոցառման անվանումը` | B87: Գերմանիայի զարգացման վարկերի բանկի աջակցությամբ իրականացվող ջրամատակարարման և ջրահեռացման ենթակառուցվածքների վերականգնման ծրագրի երրորդ փուլ
A88: Նկարագրությունը` | B88: Համայնքային ջրամատակարարման և ջրահեռացման ենթակառուցվածքների վերականգնման ծրագրի համակարգում և ղեկավարում
A89: Միջոցառման տեսակը` | B89: Ծառայությունների մատուցում
A90: Ակտիվն օգտագործող կազմակերպության(ների) անվանում(ները)՛ | B90: Մասնագիտացված միավոր
A91: Արդյունքի չափորոշիչներ
A92: Միջոցառման վրա կատարվող ծախսը (հազար դրամ) | C92: ='1'!D18 -> 42.5
A94: Ծրագրի դասիչը` | B94: 1072 | C94: Ցուցանիշների փոփոխությունը (ավելացումները նշված են դրական նշանով
A96: Միջոցառման դասիչը` | B96: 12001 | C96: Տարի
A97: Միջոցառման անվանումը` | B97: Գերմանիայի զարգացման և Եվրոպական միության հարևանության ներդրումային բանկի աջակցությամբ իրականացվող ջրամատակարարման և ջրահեռացման ենթակառուցվածքների դրամաշնորհային ծրագիր` երրորդ փուլ
A98: Նկարագրությունը` | B98: 579 գյուղական բնակավայրերից ընտրված որոշ համայնքների ջրամատակարարման և ջրահեռացման համակարգերի հատվածների հրատապ վերականգնման աշխատանքների իրականացում ինչպես նաև՛ Արմավիրի կեղտաջրերի մաքրման կայանի կառուցում
A99: Միջոցառման տեսակը` | B99: Տրանսֆերտների տրամադրում
A100: Շահառուների ընտրության չափանիշները | B100: ՀՀ բնակչություն
A101: Արդյունքի չափորոշիչներ
A102: Միջոցառման վրա կատարվող ծախսը (հազար դրամ) | C102: ='1'!D24 -> 14.6
A105: Ծրագրի դասիչը | B105: Ծրագրի անվանումը
A106: 1109 | B106: Ջրային տնտեսության ոլորտում ծրագրերի համակարգում և մոնիտորինգ
A108: Ծրագրի միջոցառումները
A109: Ծրագրի դասիչը` | B109: 1109 | C109: Ցուցանիշների փոփոխությունը (նվազեցումները նշված են փակագծերում)
A111: Միջոցառման դասիչը` | B111: 11001 | C111: Տարի
A112: Միջոցառման անվանումը` | B112: Ջրային տնտեսության ոլորտում պետական քաղաքականության մշակում, ծրագրերի համակարգում և մոնիտորինգ
A113: Նկարագրությունը` | B113: Ոլորտի քաղաքականության խորհրդատվության, կոմիտեի իրավասության տակ ընկնող ծառայությունների ու ծրագրերի համակարգման ծառայություններ
A114: Միջոցառման տեսակը` | B114: Ծառայությունների մատուցում
A115: Ակտիվն օգտագործող կազմակերպության(ների) անվանումը(ները) | B115: ՀՀ ՏԿԵՆ ջրային կոմիտե
A116: Արդյունքի չափորոշիչներ
A117: Միջոցառման վրա կատարվող ծախսը (հազար դրամ) | C117: ='1'!D37 -> -1185.1
C120: Աղյուսակ 9.48
A121: ՀՀ կառավարություն
A122: ՄԱՍ 2. ՊԵՏԱԿԱՆ ՄԱՐՄՆԻ ԳԾՈՎ ԱՐԴՅՈՒՆՔԱՅԻՆ (ԿԱՏԱՐՈՂԱԿԱՆ) ՑՈՒՑԱՆԻՇՆԵՐԸ
A124: Ծրագրի դասիչը | B124: Ծրագրի անվանումը
A125: 1139 | B125: ՀՀ կառավարության պահուստային ֆոնդ
A127: Ծրագրի միջոցառումները
...

Sheet 7-2
A1: Աղյուսակ 2
A3: ՀԱՅԱՍՏԱՆԻ ՀԱՆՐԱՊԵՏՈՒԹՅԱՆ ԿԱՌԱՎԱՐՈՒԹՅԱՆ 2023 ԹՎԱԿԱՆԻ ԴԵԿՏԵՄԲԵՐԻ 28-Ի N 2323-Ն ՈՐՈՇՄԱՆ N 9.1 ՀԱՎԵԼՎԱԾԻ N 9.1.25 ԵՎ N 9.1.58 ԱՂՅՈՒՍԱԿՆԵՐՈՒՄ ԿԱՏԱՐՎՈՂ ՓՈՓՈԽՈՒԹՅՈՒՆՆԵՐԸ
C4: Աղյուսակ 9.1.25
A5: ՀՀ տարածքային կառավարման և ենթակառուցվածքների նախարարության ջրային կոմիտե
A6: ՄԱՍ 1. ՊԵՏԱԿԱՆ ՄԱՐՄՆԻ ԳԾՈՎ ԱՐԴՅՈՒՆՔԱՅԻՆ (ԿԱՏԱՐՈՂԱԿԱՆ) ՑՈՒՑԱՆԻՇՆԵՐԸ
A7: Ծրագրի դասիչը | B7: Ծրագրի անվանումը
A8: 1004 | B8: Ոռոգման համակարգի առողջացում
A10: Ծրագրի միջոցառումները
A11: Ծրագրի դասիչը` | B11: 1004 | C11: Ցուցանիշների փոփոխությունը (նվազեցումները նշված են փակագծերում)
A13: Միջոցառման դասիչը` | B13: 11002 | C13: Տարի
A14: Միջոցառման անվանումը` | B14: Ոռոգման ծառայություններ մատուցող ընկերություններին ֆինանսական աջակցության տրամադրում
A15: Նկարագրությունը` | B15: Ոռոգման ոլորտի սուբսիդավորում ՋՕԸ-ների համար սահմանված ոռոգման ջրի սակագնի և նվազագույն շահավետ գնի տարբերության չափով
A16: Միջոցառման տեսակը` | B16: Ծառայությունների մատուցում
A17: Միջոցառումն իրականացնողի անվանումը | B17: Ջրօգտագործողների ընկերություններ
A18: Արդյունքի չափորոշիչներ
A19: Ջրամատակարարման ծավալ, մլն խմ | C19: -114
A20: Հասույթից գանձում, % | C20: -6
A21: Միջոցառման վրա կատարվող ծախսը (հազար դրամ) | C21: 0
A24: Ծրագրի դասիչը | B24: Ծրագրի անվանումը
A25: 1017 | B25: Որոտան-Արփա-Սևան թունելի ջրային համակարգի կառավարում
A27: Ծրագրի միջոցառումները
A28: Ծրագրի դասիչը` | B28: 1017 | C28: Ցուցանիշների փոփոխությունը (ավելացումները նշված են դրական նշանով)
A30: Միջոցառման դասիչը` | B30: 11001 | C30: Տարի
A31: Միջոցառման անվանումը` | B31: Արփա-Սևան թունելի ընթացիկ շահագործում և պահպանում
A32: Նկարագրությունը` | B32: Որոտան-Արփա-Սևան թունելի շահագործման և պահպանման նպատակով ծառայությունների մատուցում
A33: Միջոցառման տեսակը` | B33: Ծառայությունների մատուցում
A34: Միջոցառումն իրականացնողի անվանումը | B34: Մասնագիտացված կազմակերպություն
A35: Արդյունքի չափորոշիչներ
A36: Տարվա ընթացքում Արփա-Սևան թունելով ջրի տեղափոխման օրերի քանակ | C36: 60
A37: Միջոցառման վրա կատարվող ծախսը (հազար դրամ) | C37: 0
A39: Ծրագրի դասիչը` | B39: 1017 | C39: Ցուցանիշների փոփոխությունը (նվազեցումները նշված են փակագծերում)
A41: Միջոցառման դասիչը` | B41: 21001 | C41: Տարի
A42: Միջոցառման անվանումը` | B42: Արփա-Սևան ջրային համակարգի տեխնիկական վիճակի բարելավում
A43: Նկարագրությունը` | B43: Արփա-Սևան թունելի առանձին վթարային հատվածների վերականգնման աշխատանքներ
A44: Միջոցառման տեսակը` | B44: Հանրության կողմից անմիջականորեն օգտագործվող ակտիվների հետ կապված միջոցառումներ
A45: Ակտիվն օգտագործող կազմակերպության(ների) անվանում(ները)՛ | B45: ՀՀ ՏԿԵՆ ջրային կոմիտե
A46: Արդյունքի չափորոշիչներ
A47: Երեսարկների վերակառուցում (մեկ համալիրի ճակատով՛ թունելի ՈՒՀ 189+90-ից մինչև ՈՒՀ 360+47), գծմ | C47: -93.6
A48: Միջոցառման վրա կատարվող ծախսը (հազար դրամ) | C48: ='7-1'!C50 -> 0
A51: Ծրագրի դասիչը | B51: Ծրագրի անվանումը
A52: 1027 | B52: Կոլեկտորադրենաժային ծառայություններ
A54: Ծրագրի միջոցառումները
A55: Ծրագրի դասիչը` | B55: 1027 | C55: Ցուցանիշների փոփոխությունը (ավելացումները նշված են դրական նշանով)
A57: Միջոցառման դասիչը` | B57: 11001 | C57: Տարի
A58: Միջոցառման անվանումը` | B58: Կոլեկտորադրենաժային ցանցերի պահպանում և շահագործում
A59: Նկարագրությունը` | B59: Կոլեկտորադրենաժային ցանցերի պահպանում և շահագործում, գրունտային ջրերի մակարդակների և որակի որոշման աշխատանքներ
A60: Միջոցառման տեսակը` | B60: Ծառայությունների մատուցում
A61: Միջոցառումն իրականացնողի անվանումը | B61: Մասնագիտացված կազմակերպություններ
A62: Արդյունքի չափորոշիչներ
A63: ՀՀ Արմավիրի մարզ | C63: 14.4
A64: ՀՀ Շիրակի մարզ | C64: 0.7
A65: Միջոցառման վրա կատարվող ծախսը (հազար դրամ) | C65: ='7-1'!C66 -> 0
A67: Ծրագրի դասիչը | B67: Ծրագրի անվանումը
A68: 1072 | B68: Ջրամատակարարաման և ջրահեռացման բարելավում
A70: Ծրագրի միջոցառումները
A71: Ծրագրի դասիչը` | B71: 1072 | C71: Ցուցանիշների փոփոխությունը (նվազեցումները նշված են փակագծերում)
A73: Միջոցառման դասիչը` | B73: 11001 | C73: Տարի
A74: Միջոցառման անվանումը` | B74: Խմելու ջրի մատակարարման և ջրահեռացման ծառայությունների սուբսիդավորում
A75: Նկարագրությունը` | B75: Խմելու ջուր մատակարարող ընկերության սուբսիդավորում՛ հաստատված սակագնի և նվազագույն շահավետ գնի տարբերության չափով
A76: Միջոցառման տեսակը` | B76: Ծառայությունների մատուցում
A77: Միջոցառումն իրականացնողի անվանումը | B77: Ջրամատակարարման և ջրահեռացման ծառայություններ մատուցող ընկերություն
A78: Արդյունքի չափորոշիչներ
A79: Բաժանորդներին մատակարարվող ջրի ծավալ, մլն խ մ | C79: -3
A80: Հեռացվող կեղտաջրերի ծավալ, մլն խ մ | C80: -3.5
A81: Միջոցառման վրա կատարվող ծախսը (հազար դրամ) | C81: 0
A83: Ծրագրի դասիչը` | B83: 1072 | C83: Ցուցանիշների փոփոխությունը (ավելացումները նշված են դրական նշանով
A85: Միջոցառման դասիչը` | B85: 11007 | C85: Տարի
A86: Միջոցառման անվանումը` | B86: Գերմանիայի զարգացման վարկերի բանկի աջակցությամբ իրականացվող ջրամատակարարման և ջրահեռացման ենթակառուցվածքների վերականգնման ծրագրի երրորդ փուլ
A87: Նկարագրությունը` | B87: Համայնքային ջրամատակարարման և ջրահեռացման ենթակառուցվածքների վերականգնման ծրագրի համակարգում և ղեկավարում
A88: Միջոցառման տեսակը` | B88: Ծառայությունների մատուցում
A89: Ակտիվն օգտագործող կազմակերպության(ների) անվանում(ները)՛ | B89: Մասնագիտացված միավոր
A90: Արդյունքի չափորոշիչներ
A91: Միջոցառման վրա կատարվող ծախսը (հազար դրամ) | C91: ='7-1'!C92 -> 42.5
A93: Ծրագրի դասիչը` | B93: 1072 | C93: Ցուցանիշների փոփոխությունը (ավելացումները նշված են դրական նշանով
A95: Միջոցառման դասիչը` | B95: 12001 | C95: Տարի
A96: Միջոցառման անվանումը` | B96: Գերմանիայի զարգացման և Եվրոպական միության հարևանության ներդրումային բանկի աջակցությամբ իրականացվող ջրամատակարարման և ջրահեռացման ենթակառուցվածքների դրամաշնորհային ծրագիր` երրորդ փուլ
A97: Նկարագրությունը` | B97: 579 գյուղական բնակավայրերից ընտրված որոշ համայնքների ջրամատակարարման և ջրահեռացման համակարգերի հատվածների հրատապ վերականգնման աշխատանքների իրականացում ինչպես նաև՛ Արմավիրի կեղտաջրերի մաքրման կայանի կառուցում
A98: Միջոցառման տեսակը` | B98: Տրանսֆերտների տրամադրում
A99: Շահառուների ընտրության չափանիշները | B99: ՀՀ բնակչություն
A100: Արդյունքի չափորոշիչներ
A101: Միջոցառման վրա կատարվող ծախսը (հազար դրամ) | C101: ='7-1'!C102 -> 14.6
A105: Ծրագրի դասիչը | B105: Ծրագրի անվանումը
A106: 1109 | B106: Ջրային տնտեսության ոլորտում ծրագրերի համակարգում և մոնիտորինգ
A108: Ծրագրի միջոցառումները
A109: Ծրագրի դասիչը` | B109: 1109 | C109: Ցուցանիշների փոփոխությունը (նվազեցումները նշված են փակագծերում)
A111: Միջոցառման դասիչը` | B111: 11001 | C111: Տարի
A112: Միջոցառման անվանումը` | B112: Ջրային տնտեսության ոլորտում պետական քաղաքականության մշակում, ծրագրերի համակարգում և մոնիտորինգ
A113: Նկարագրությունը` | B113: Ոլորտի քաղաքականության խորհրդատվության, կոմիտեի իրավասության տակ ընկնող ծառայությունների ու ծրագրերի համակարգման ծառայություններ
A114: Միջոցառման տեսակը` | B114: Ծառայությունների մատուցում
A115: Ակտիվն օգտագործող կազմակերպության(ների) անվանումը(ները) | B115: ՀՀ ՏԿԵՆ ջրային կոմիտե
A116: Արդյունքի չափորոշիչներ
A117: Միջոցառման վրա կատարվող ծախսը (հազար դրամ) | C117: ='7-1'!C117 -> -1185.1
C119: Աղյուսակ 9.1.58
A120: ՀՀ կառավարություն
A121: ՄԱՍ 1. ՊԵՏԱԿԱՆ ՄԱՐՄՆԻ ԳԾՈՎ ԱՐԴՅՈՒՆՔԱՅԻՆ (ԿԱՏԱՐՈՂԱԿԱՆ) ՑՈՒՑԱՆԻՇՆԵՐԸ
A123: Ծրագրի դասիչը | B123: Ծրագրի անվանումը
A124: 1139 | B124: ՀՀ կառավարության պահուստային ֆոնդ
A126: Ծրագրի միջոցառումները
A127: Ծրագրի դասիչը` | B127: 1139 | C127: Ցուցանիշների փոփոխությունը (ավելացումները նշված են դրական նշանով
A128: Միջոցառման դասիչը` | B128: 11001 | C128: Տարի
...

Sheet 8
A1: Հավելված N 8
A2: ՀՀ կառավարության 2024 թվականի
A3: -ի N -Ն որոշման
A5: ՀՀ ԿԱՌԱՎԱՐՈՒԹՅԱՆ 2023 ԹՎԱԿԱՆԻ ԴԵԿՏԵՄԲԵՐԻ 28-Ի N 2323-Ն ՈՐՈՇՄԱՆ N 10 ՀԱՎԵԼՎԱԾՈՒՄ ԿԱՏԱՐՎՈՂ ՓՈՓՈԽՈՒԹՅՈՒՆՆԵՐԸ ԵՎ ԼՐԱՑՈՒՄՆԵՐԸ
A7: Կոդը | B7: Անվանումը | C7: Գնման ձևը | D7: Չափի միավորը | E7: Ցուցանիշների փոփոխությունը (ավելացումները նշված են դրական նշանով, իսկ նվազեցումները՝ փակագծերում)
E8: Միավորի գինը | F8: քանակը | G8: գումարը (հազ. դրամ)
A9: ՀՀ տարածքային կառավարման և ենթակառուցվածքների նախարարության ջրային կոմիտե | G9: =G10 -> -57.1
A10: Բաժին N 06 | B10: Խումբ N 03 | C10: Դաս N 01 | D10: Ջրամատակարարում | G10: =G11+G15 -> -57.1
A11: 1072 31010 | B11: Ջրամատակարարման և ջրահեռացման համակարգի հիմնանորոգում | G11: =G12 -> 0
B12: ՄԱՍ II ԱՇԽԱՏԱՆՔՆԵՐ | G12: =SUM(G13:G14) -> 0
A13: 45231131/10 | B13: ջրամատակարարման խողովակաշարերի հետ կապված աշխատանքներ | C13: ԲՄ | D13: դրամ | G13: -6710.6
A14: 45231131/6 | B14: ջրամատակարարման խողովակաշարերի հետ կապված աշխատանքներ | C14: ԲՄ | D14: դրամ | G14: 6710.6
A15: 1109 11001 | B15: Ջրային տնտեսության ոլորտում պետական քաղաքականության մշակում | G15: =G16 -> -57.1
B16: ՄԱՍ III ԾԱՌԱՅՈՒԹՅՈՒՆՆԵՐ | G16: =G17+G18+G19 -> -57.1
A17: 79211180/1 | B17: ներքին աուդիտի ծառայություններ | C17: ԷԱՃ | D17: դրամ | G17: -1185.1
A18: 7911110/501 | B18: Իրավական խորհրդատվության ծառայություններ | C18: ԳՀ | D18: դրամ | E18: 564000 | F18: 1 | G18: 564
A19: 7911110/502 | B19: Իրավական խորհրդատվության ծառայություններ | C19: ԳՀ | D19: դրամ | E19: 564000 | F19: 1 | G19: 564

Sheet 9
A1: Հավելված N 9
A2: ՀՀ կառավարության 2024 թվականի
A3: -ի N -Ն որոշման
A4: ՀԱՅԱՍՏԱՆԻ ՀԱՆՐԱՊԵՏՈՒԹՅԱՆ ԿԱՌԱՎԱՐՈՒԹՅԱՆ ՊԱՀՈՒՍՏԱՅԻՆ ՖՈՆԴԻՑ ԿԱՏԱՐՎՈՂ ՀԱՏԿԱՑՈՒՄԸ
A7: Գործառական դասիչը | D7: Ծրագրային դասիչը | F7: Բյուջետային ծախսերի գործառական դասակարգման բաժինների, խմբերի և դասերի, բյուջետային ծրագրերի միջոցառումների, բյուջետային հատկացումների գլխավոր կարգադրիչների անվանումները | G7: Ցուցանիշների փոփոխությունը (ավելացումները նշված են դրական նշանով, իսկ նվազեցումները՝ փակագծերում)
G8: Տարի
A9: Բաժին | B9: Խումբ | C9: Դաս | D9: Ծրագիր | E9: Միջոցառում
F10: ԸՆԴԱՄԵՆԸ ԾԱԽՍԵՐ | G10: =G12+G31 -> 0
F11: այդ թվում`
F12: ՀՀ կառավարություն | G12: =G13 -> -1185.1
A13: 11 | F13: ՀԻՄՆԱԿԱՆ ԲԱԺԻՆՆԵՐԻՆ ՉԴԱՍՎՈՂ ՊԱՀՈՒՍՏԱՅԻՆ ՖՈՆԴԵՐ | G13: =G15 -> -1185.1
F14: այդ թվում`
B15: 01 | F15: ՀՀ կառավարության և համայնքների պահուստային ֆոնդ | G15: =G17 -> -1185.1
F16: այդ թվում`
C17: 01 | F17: ՀՀ կառավարության պահուստային ֆոնդ | G17: =G19 -> -1185.1
F18: այդ թվում`
F19: ՀՀ կառավարություն | G19: =G21 -> -1185.1
F20: այդ թվում`
D21: 1139 | F21: ՀՀ կառավարության պահուստային ֆոնդ | G21: =G23 -> -1185.1
F22: այդ թվում`
E23: 11001 | F23: ՀՀ կառավարության պահուստային ֆոնդ | G23: =G25 -> -1185.1
F24: այդ թվում` ըստ կատարողների
F25: ՀՀ կառավարություն | G25: =G27 -> -1185.1
F26: այդ թվում` բյուջետային ծախսերի տնտեսագիտական դասակարգման հոդվածներ
F27: ԸՆԴԱՄԵՆԸ ԾԱԽՍԵՐ | G27: =G28 -> -1185.1
F28: ԸՆԹԱՑԻԿ ԾԱԽՍԵՐ | G28: =G29 -> -1185.1
F29: ԱՅԼ ԾԱԽՍԵՐ | G29: =G30 -> -1185.1
F30: Պահուստային միջոցներ | G30: ='3'!G77 -> -1185.1
F31: ՀՀ տարածքային կառավարման և ենթակառուցվածքների նախարարություն | G31: =G32 -> 1185.1
A32: 06 | F32: ԲՆԱԿԱՐԱՆԱՅԻՆ ՇԻՆԱՐԱՐՈՒԹՅՈՒՆ ԵՎ ԿՈՄՈՒՆԱԼ ԾԱՌԱՅՈՒԹՅՈՒՆՆԵՐ | G32: =G34 -> 1185.1
F33: այդ թվում`
B34: 03 | F34: Ջրամատակարարում | G34: =G36 -> 1185.1
F35: այդ թվում`
C36: 01 | F36: Ջրամատակարարում | G36: =G38 -> 1185.1
F37: այդ թվում`
F38: ՀՀ տարածքային կառավարման և ենթակառուցվածքների նախարարություն | G38: =G40+G60 -> 1185.1
F39: այդ թվում`
D40: 1072 | F40: Ջրամատակարարաման և ջրահեռացման բարելավում | G40: =G42+G51 -> 57.1
F41: այդ թվում`
E42: 11007 | F42: Գերմանիայի զարգացման վարկերի բանկի աջակցությամբ իրականացվող ջրամատակարարման և ջրահեռացման ենթակառուցվածքների վերականգնման ծրագրի երրորդ փուլ | G42: =G44 -> 42.5
F43: այդ թվում` ըստ կատարողների
F44: ՀՀ տարածքային կառավարման և ենթակառուցվածքների նախարարության ջրային կոմիտե | G44: =G46 -> 42.5
F45: այդ թվում` բյուջետային ծախսերի տնտեսագիտական դասակարգման հոդվածներ
F46: ԸՆԴԱՄԵՆԸ ԾԱԽՍԵՐ | G46: =G47 -> 42.5
F47: ԸՆԹԱՑԻԿ ԾԱԽՍԵՐ | G47: =G48 -> 42.5
F48: ԾԱՌԱՅՈՒԹՅՈՒՆՆԵՐԻ ԵՎ ԱՊՐԱՆՔՆԵՐԻ ՁԵՌՔԲԵՐՈՒՄ | G48: =G49 -> 42.5
F49: Շարունակական ծախսեր | G49: =G50 -> 42.5
F50: - Գործառնական և բանկային ծառայությունների ծախսեր | G50: ='3'!G28 -> 42.5
E51: 12001 | F51: Գերմանիայի զարգացման և Եվրոպական միության հարևանության ներդրումային բանկի աջակցությամբ իրականացվող ջրամատակարարման և ջրահեռացման ենթակառուցվածքների դրամաշնորհային ծրագիր` երրորդ փուլ | G51: =G53 -> 14.6
F52: այդ թվում` ըստ կատարողների
F53: ՀՀ տարածքային կառավարման և ենթակառուցվածքների նախարարության ջրային կոմիտե | G53: =G55 -> 14.6
F54: այդ թվում` բյուջետային ծախսերի տնտեսագիտական դասակարգման հոդվածներ
F55: ԸՆԴԱՄԵՆԸ ԾԱԽՍԵՐ | G55: =G56 -> 14.6
F56: ԸՆԹԱՑԻԿ ԾԱԽՍԵՐ | G56: =G57 -> 14.6
F57: ԾԱՌԱՅՈՒԹՅՈՒՆՆԵՐԻ ԵՎ ԱՊՐԱՆՔՆԵՐԻ ՁԵՌՔԲԵՐՈՒՄ | G57: =G58 -> 14.6
F58: Շարունակական ծախսեր | G58: =G59 -> 14.6
F59: - Գործառնական և բանկային ծառայությունների ծախսեր | G59: ='3'!G37 -> 14.6
D60: 1109 | F60: Ջրային տնտեսության ոլորտում ծրագրերի համակարգում և մոնիտորինգ | G60: =G62 -> 1128
F61: այդ թվում`
E62: 11001 | F62: Ջրային տնտեսության ոլորտում պետական քաղաքականության մշակում, ծրագրերի համակարգում և մոնիտորինգ | G62: =G64 -> 1128
F63: այդ թվում` ըստ կատարողների
F64: ՀՀ տարածքային կառավարման և ենթակառուցվածքների նախարարության ջրային կոմիտե | G64: =G66 -> 1128
F65: այդ թվում` բյուջետային ծախսերի տնտեսագիտական դասակարգման հոդվածներ
F66: ԸՆԴԱՄԵՆԸ ԾԱԽՍԵՐ | G66: =G67 -> 1128
F67: ԸՆԹԱՑԻԿ ԾԱԽՍԵՐ | G67: =G68 -> 1128
F68: ԾԱՌԱՅՈՒԹՅՈՒՆՆԵՐԻ ԵՎ ԱՊՐԱՆՔՆԵՐԻ ՁԵՌՔԲԵՐՈՒՄ | G68: =G69 -> 1128
F69: Այլ մասնագիտական ծառայությունների ձեռքբերում | G69: =G70 -> 1128
F70: - Մասնագիտական ծառայություններ | G70: ='3'!G50 -> 1128
