Workbook
Name _tab10: #REF!
Name _tab10: #REF!
Name _tab10: #REF!
Name _tab10: #REF!
Name _tab10: #REF!
Name _tab11: #REF!
Name _tab12: #REF!
Name _tab13: #REF!
Name _tab14: #REF!
Name _tab15: #REF!
Name _tab16: #REF!
Name _tab17: #REF!
Name _tab18: #REF!
Name _tab19: #REF!
Name _tab20: #REF!
Name _tab21: #REF!
Name _tab22: #REF!
Name _tab22222: #REF!
Name _tab23: #REF!
Name _tab24: #REF!
Name _tab5: #REF!
Name _tab6: #REF!
Name _tab7: #REF!
Name _tab8: #REF!
Name _tab9: #REF!
Name aaaaaaaaaaaa: #REF!
Name hhhh: #REF!
Name hunvar: #REF!,#REF!,#REF!,#REF!,#REF!,#REF!,#REF!,#REF!,#REF!,#REF!,#REF!,#REF!,#REF!,#REF!,#REF!
Name hunvar: #REF!,#REF!,#REF!,#REF!,#REF!,#REF!,#REF!,#REF!,#REF!,#REF!,#REF!,#REF!,#REF!,#REF!,#REF!
Name hunvar: #REF!,#REF!,#REF!,#REF!,#REF!,#REF!,#REF!,#REF!,#REF!,#REF!,#REF!,#REF!,#REF!,#REF!,#REF!
Name hunvar: #REF!,#REF!,#REF!,#REF!,#REF!,#REF!,#REF!,#REF!,#REF!,#REF!,#REF!,#REF!,#REF!,#REF!,#REF!
Name hunvar: #REF!,#REF!,#REF!,#REF!,#REF!,#REF!,#REF!,#REF!,#REF!,#REF!,#REF!,#REF!,#REF!,#REF!,#REF!
Name par_count: #REF!,#REF!,#REF!,#REF!,#REF!,#REF!,#REF!,#REF!,#REF!,#REF!,#REF!,#REF!,#REF!,#REF!,#REF!
Name par_count: #REF!,#REF!,#REF!,#REF!,#REF!,#REF!,#REF!,#REF!,#REF!,#REF!,#REF!,#REF!,#REF!,#REF!,#REF!
Name par_count: #REF!,#REF!,#REF!,#REF!,#REF!,#REF!,#REF!,#REF!,#REF!,#REF!,#REF!,#REF!,#REF!,#REF!,#REF!
Name par_count: #REF!,#REF!,#REF!,#REF!,#REF!,#REF!,#REF!,#REF!,#REF!,#REF!,#REF!,#REF!,#REF!,#REF!,#REF!
Name par_count: #REF!,#REF!,#REF!,#REF!,#REF!,#REF!,#REF!,#REF!,#REF!,#REF!,#REF!,#REF!,#REF!,#REF!,#REF!
Name par_qual: #REF!,#REF!,#REF!,#REF!,#REF!
Name par_qual: #REF!,#REF!,#REF!,#REF!,#REF!
Name par_qual: #REF!,#REF!,#REF!,#REF!,#REF!
Name par_qual: #REF!,#REF!,#REF!,#REF!,#REF!
Name par_qual: #REF!,#REF!,#REF!,#REF!,#REF!
Name par_time: #REF!,#REF!,#REF!,#REF!
Name par_time: #REF!,#REF!,#REF!,#REF!
Name par_time: #REF!,#REF!,#REF!,#REF!
Name par_time: #REF!,#REF!,#REF!,#REF!
Name par_time: #REF!,#REF!,#REF!,#REF!
Name par2.12s: #REF!
Name par2.12s: #REF!
Name par2.12s: #REF!
Name par2.12s: #REF!
Name par2.12s: #REF!
Name par2.4s: #REF!,#REF!,#REF!,#REF!,#REF!,#REF!,#REF!,#REF!,#REF!,#REF!,#REF!,#REF!,#REF!,#REF!,#REF!,#REF!
Name par2.4s: #REF!,#REF!,#REF!,#REF!,#REF!,#REF!,#REF!,#REF!,#REF!,#REF!,#REF!,#REF!,#REF!,#REF!,#REF!,#REF!
Name par2.4s: #REF!,#REF!,#REF!,#REF!,#REF!,#REF!,#REF!,#REF!,#REF!,#REF!,#REF!,#REF!,#REF!,#REF!,#REF!,#REF!
Name par2.4s: #REF!,#REF!,#REF!,#REF!,#REF!,#REF!,#REF!,#REF!,#REF!,#REF!,#REF!,#REF!,#REF!,#REF!,#REF!,#REF!
Name par2.4s: #REF!,#REF!,#REF!,#REF!,#REF!,#REF!,#REF!,#REF!,#REF!,#REF!,#REF!,#REF!,#REF!,#REF!,#REF!,#REF!
Name par2.5s: #REF!,#REF!
Name par2.5s: #REF!,#REF!
Name par2.5s: #REF!,#REF!

Sheet 1
B1: Հավելված № 1
B2: ՀՀ կառավարության 2024 թվականի
B3: __________ «____» -ի
B4: N_____ -Ն որոշման
B5: «ՀԱՅԱՍՏԱՆԻ ՀԱՆՐԱՊԵՏՈՒԹՅԱՆ 2024 ԹՎԱԿԱՆԻ ՊԵՏԱԿԱՆ ԲՅՈՒՋԵԻ ՄԱՍԻՆ» ՀԱՅԱՍՏԱՆԻ ՀԱՆՐԱՊԵՏՈՒԹՅԱՆ ՕՐԵՆՔԻ N 1 ՀԱՎԵԼՎԱԾԻ N 1 ԱՂՅՈՒՍԱԿՈՒՄ ԿԱՏԱՐՎՈՂ ՓՈՓՈԽՈՒԹՅՈՒՆՆԵՐԸ
D6: Գումարը (հազար դրամներով)
B7: Ծրագրային դասիչը | C7: Ծրագրի անվանումը | D7: Ցուցանիշների փոփոխությունները (ավելացումը նշված է դրական նշանով, իսկ նվազեցումը` փակագծերում)
D8: Տարի
B9: Ընդամենը | D9: =SUM(D10:D11) -> 0
B10: 1126 | C10: Առողջապահության ոլորտում պետական քաղաքականության մշակում, ծրագրերի համակարգում և մոնիտորինգ | D10: =+-D11 -> 40903.903
B11: 1139 | C11: ՀՀ կառավարության պահուստային ֆոնդ | D11: =+-'8'!J8 -> -40903.903

Sheet 2
B1: Հավելված № 2
B2: ՀՀ կառավարության 2024 թվականի
B3: __________ «____» -ի
B4: N_____ -Ն որոշման
B5: «ՀԱՅԱՍՏԱՆԻ ՀԱՆՐԱՊԵՏՈՒԹՅԱՆ 2024 ԹՎԱԿԱՆԻ ՊԵՏԱԿԱՆ ԲՅՈՒՋԵԻ ՄԱՍԻՆ» ՀԱՅԱՍՏԱՆԻ ՀԱՆՐԱՊԵՏՈՒԹՅԱՆ ՕՐԵՆՔԻ № 1 ՀԱՎԵԼՎԱԾԻ № 2 ԱՂՅՈՒՍԱԿՈՒՄ ԿԱՏԱՐՎՈՂ ՎԵՐԱԲԱՇԽՈՒՄԸ ԵՎ ՀԱՅԱՍՏԱՆԻ ՀԱՆՐԱՊԵՏՈՒԹՅԱՆ ԿԱՌԱՎԱՐՈՒԹՅԱՆ 2023 ԹՎԱԿԱՆԻ ԴԵԿՏԵՄԲԵՐԻ 28-Ի № 2323-Ն ՈՐՈՇՄԱՆ № 5 ՀԱՎԵԼՎԱԾԻ № 1 ԱՂՅՈՒՍԱԿՈՒՄ ԿԱՏԱՐՎՈՂ ՓՈՓՈԽՈՒԹՅՈՒՆՆԵՐԸ
B6: Գումարը (հազար դրամներով)
B7: Ծրագրային դասիչը | D7: Բյուջետային հատկացումների գլխավոր կարգադրիչների, ծրագրերի և միջոցառումների անվանումները | E7: Ցուցանիշների փոփոխությունները (ավելացումները նշված են դրական նշանով, իսկ նվազեցումները` փակագծերում)
B8: Ծրագիր | C8: Միջոցառում | E8: Տարի
D9: ԸՆԴԱՄԵՆԸ | E9: =+E10+E24 -> 0
D10: ՀՀ առողջապահության նախարարություն | E10: =+E11 -> 40903.903
B11: 1126 | D11: Ծրագրի անվանումը` | E11: =+E18 -> 40903.903
D12: Առողջապահության ոլորտում պետական քաղաքականության մշակում, ծրագրերի համակարգում և մոնիտորինգ
D13: Ծրագրի նպատակը`
D14: Մարդու և հանրության առողջության պահպանում, բնակչության առողջության բարելավում, հիվանդությունների կանխարգելում, հաշմանդամության և մահացության ցուցանիշների նվազեցում
D15: Վերջնական արդյունքի նկարագրությունը`
D16: Առողջապահության ոլորտում իրականացվող ծրագրերի ազդեցության և արդյունավետության բարելավում
B17: Ծրագրի միջոցառումներ
C18: 31003 | D18: Միջոցառման անվանումը` | E18: =+'1'!D10 -> 40903.903
D19: Առողջապահական կազմակերպությունների կառուցում, վերակառուցում
D20: Միջոցառման նկարագրությունը`
D21: Բնակչությանը որակյալ բժշկական օգնության և սպասարկման ծառայություններ մատուցելու նպատակով առողջապահական կազմակերպությունների կառուցում, վերակառուցում
D22: Միջոցառման տեսակը
D23: Պետական մարմինների կողմից օգտագործվող ոչ ֆինանսական ակտիվների հետ գործառնություններ
D24: ՀՀ կառավարություն | E24: =+E25 -> -40903.903
B25: 1139 | D25: Ծրագրի անվանումը | E25: =+E32+E38 -> -40903.903
D26: ՀՀ կառավարության պահուստային ֆոնդ
D27: Ծրագրի նպատակը
D28: Պետական բյուջեում չկանխատեսված, ինչպես նաեւ բյուջետային երաշխիքների ապահովման ծախսերի ֆինանսավորման ապահովում
D29: Վերջնական արդյունքի նկարագրությունը
D30: Պահուստային ֆոնդի կառավարման արդյունավետության և թափանցիկության ապահովում
B31: Ծրագրի միջոցառումներ
C32: 11001 | D32: Միջոցառման անվանումը | E32: =+'1'!D11 -> -40903.903
D33: ՀՀ կառավարության պահուստային ֆոնդ
D34: Միջոցառման նկարագրությունը
D35: ՀՀ պետական բյուջեում նախատեսված ելքերի լրացուցիչ ֆինանսավորման, պետական բյուջեում չկանխատեսված ելքերի, ինչպես նաև բյուջետային երաշխիքների ապահովման ելքերի ֆինանսավորման ապահովում
D36: Միջոցառման տեսակը
D37: Ծառայությունների մատուցում

Sheet 3
B1: Հավելված № 3
B2: ՀՀ կառավարության 2024 թվականի
B3: __________ «____» -ի
B4: N_____ -Ն որոշման
B6: «ՀԱՅԱՍՏԱՆԻ ՀԱՆՐԱՊԵՏՈՒԹՅԱՆ 2024 ԹՎԱԿԱՆԻ ՊԵՏԱԿԱՆ ԲՅՈՒՋԵԻ ՄԱՍԻՆ» ՀԱՅԱՍՏԱՆԻ ՀԱՆՐԱՊԵՏՈՒԹՅԱՆ ՕՐԵՆՔԻ № 1 ՀԱՎԵԼՎԱԾԻ № 3 ԱՂՅՈՒՍԱԿՈՒՄ ԿԱՏԱՐՎՈՂ ՓՈՓՈԽՈՒԹՅՈՒՆՆԵՐԸ
B7: Գումարը (հազար դրամներով)
B8: Ծրագրային դասիչ | D8: Բյուջետային գլխավոր կարգադրիչների, ծրագրերի, միջոցառումների և ուղղությունների անվանումները | E8: Ցուցանիշների փոփոխությունները` ավելացումները նշված են դրական նշանով
E9: Ընդամենը | F9: այդ թվում
B10: Ծրագիր | C10: Միջոցառում | F10: Կառուցման աշխատանքներ | G10: Վերակառուցման, վերանորոգման և վերականգնման աշխատանքներ | H10: Նախագծահե- տազոտական, գեոդեզիա- քարտեզագրա- կան աշխա- տանքներ | I10: Ոչ ֆինանսական այլ ակտիվների ձեռքբերում
D11: ՀՀ ԱՌՈՂՋԱՊԱՀՈՒԹՅԱՆ ՆԱԽԱՐԱՐՈՒԹՅՈՒՆ | E11: =+E13 -> 39614.903 | F11: =+F13 -> 4531 | G11: =+G13 -> 25903.903 | H11: =+H13 -> 9180 | I11: =+I13 -> 0
D12: այդ թվում`
B13: 1126 | C13: 31003 | D13: Առողջապահական կազմակերպությունների կառուցում, վերակառուցում | E13: =+E15+E17+E20 -> 39614.903 | F13: =+F15+F17+F20 -> 4531 | G13: =+G15+G17+G20 -> 25903.903 | H13: =+H15+H17+H20 -> 9180 | I13: =+I15+I17+I20 -> 0
D14: այդ թվում`
D15: ՀՀ Արագածոտնի մարզ | E15: =+E16 -> 9454.5 | F15: =+F16 -> 0 | G15: =+G16 -> 274.5 | H15: =+H16 -> 9180 | I15: =+I16 -> 0
D16: ՀՀ Արագածոտնի մարզի «Աշտարակի բժշկական կենտրոն» ՓԲԸ | E16: =+F16+G16+H16 -> 9454.5 | G16: =+'8'!J21+'8'!J24 -> 274.5 | H16: =+'8'!J18 -> 9180
D17: ՀՀ Կոտայքի մարզ | E17: =+E18+E19 -> 28333.903 | F17: =+F18+F19 -> 2704.5 | G17: =+G18+G19 -> 25629.403 | H17: =+H18+H19 -> 0 | I17: =+I18+I19 -> 0
D18: ՀՀ Կոտայքի մարզի «Չարենցավանի բժշկական կենտրոն» ՓԲԸ | E18: =+F18+G18+H18 -> 25629.403 | G18: =+'8'!J13 -> 25629.403
D19: ՀՀ Կոտայքի մարզի Եղվարդի «Նաիրիի բժշկական կենտրոն» ՓԲԸ | E19: =+F19+G19+H19 -> 2704.5 | F19: =+'8'!J20+'8'!J23 -> 2704.5
D20: ՀՀ Լոռու մարզ | E20: =+E21 -> 1826.5 | F20: =+F21 -> 1826.5 | G20: =+G21 -> 0 | H20: =+H21 -> 0 | I20: =+I21 -> 0
D21: ՀՀ Լոռու մարզի «Տաշիրի բժշկական կենտրոն» ՓԲԸ | E21: =+F21+G21+H21+I21 -> 1826.5 | F21: =+'8'!J22+'8'!J19 -> 1826.5

Sheet 4
B1: Հավելված № 4
B2: ՀՀ կառավարության 2024 թվականի
B3: __________ «____» -ի
B4: N_____ -Ն որոշման
B5: ՀԱՅԱՍՏԱՆԻ ՀԱՆՐԱՊԵՏՈՒԹՅԱՆ ԿԱՌԱՎԱՐՈՒԹՅԱՆ 2023 ԹՎԱԿԱՆԻ ԴԵԿՏԵՄԲԵՐԻ 28-Ի № 2323-Ն ՈՐՈՇՄԱՆ №№ 3 և 4 ՀԱՎԵԼՎԱԾՆԵՐՈՒՄ ԿԱՏԱՐՎՈՂ ՓՈՓՈԽՈՒԹՅՈՒՆՆԵՐԸ ԵՎ ԼՐԱՑՈՒՄՆԵՐԸ
B6: Գումարը (հազար դրամներով)
B7: Գործառական դասիչը | E7: Ծրագրային դասիչը | G7: Բյուջետային հատկացումների գլխավոր կարգադրիչների, ծրագրերի, միջոցառումների և միջոցառումները կատարող պետական մարմինների անվանումները | H7: Ցուցանիշների փոփոխությունները (ավելացումները նշված են դրական նշանով, իսկ նվազեցումները` փակագծերում)
B8: բաժին | C8: խումբ | D8: դաս | E8: Ծրագիր | F8: Միջոցառում | H8: Տարի
B9: ԸՆԴԱՄԵՆԸ | H9: =+H10+H35 -> 0
B10: 07 | G10: ԱՌՈՂՋԱՊԱՀՈՒԹՅՈՒՆ | H10: =+H12 -> 40903.903
G11: այդ թվում՝
C12: 06 | G12: Առողջապահություն (այլ դասերին չպատկանող) | H12: =+H14 -> 40903.903
G13: այդ թվում՝
D14: 02 | G14: Առողջապահություն (այլ դասերին չպատկանող) | H14: =+H16 -> 40903.903
G15: այդ թվում՝
G16: ՀՀ առողջապահության նախարարություն | H16: =+H18 -> 40903.903
G17: այդ թվում՝
E18: 1126 | G18: Առողջապահության ոլորտում պետական քաղաքականության մշակում, ծրագրերի համակարգում և մոնիտորինգ | H18: =+H20 -> 40903.903
G19: այդ թվում՝
F20: 31003 | G20: Առողջապահական կազմակերպությունների կառուցում, վերակառուցում | H20: =+H22 -> 40903.903
G21: այդ թվում ըստ կատարողների
G22: ՀՀ քաղաքաշինության կոմիտե | H22: =+H24+H29 -> 40903.903
G23: այդ թվում` բյուջետային ծախսերի տնտեսագիտական դասակարգման հոդվածներ
G24: ԸՆԴԱՄԵՆԸ ԾԱԽՍԵՐ | H24: =+H25 -> 1289
G25: ԸՆԹԱՑԻԿ ԾԱԽՍԵՐ | H25: =+H26 -> 1289
G26: ԾԱՌԱՅՈՒԹՅՈՒՆՆԵՐԻ ԵՎ ԱՊՐԱՆՔՆԵՐԻ ՁԵՌՔ ԲԵՐՈՒՄ | H26: =+H27 -> 1289
G27: ԱՅԼ ՄԱՍՆԱԳԻՏԱԿԱՆ ԾԱՌԱՅՈՒԹՅՈՒՆՆԵՐԻ ՁԵՌՔ ԲԵՐՈՒՄ | H27: =+H28 -> 1289
G28: - Մասնագիտական ծառայություններ | H28: =+'8'!J15+'8'!J16+'8'!J17 -> 1289
G29: ՈՉ ՖԻՆԱՆՍԱԿԱՆ ԱԿՏԻՎՆԵՐԻ ԳԾՈՎ ԾԱԽՍԵՐ | H29: =+H30 -> 39614.903
G30: ՀԻՄՆԱԿԱՆ ՄԻՋՈՑՆԵՐ | H30: =+H31 -> 39614.903
G31: ՇԵՆՔԵՐ ԵՎ ՇԻՆՈՒԹՅՈՒՆՆԵՐ | H31: =+H32+H33+H34 -> 39614.903
G32: - Շենքերի և շինությունների շինարարություն | H32: =+'3'!F11 -> 4531
G33: - Շենքերի և շինությունների կապիտալ վերանորոգում | H33: =+'3'!G11 -> 25903.903
G34: -Նախագծահետազոտական ծախսեր | H34: =+'3'!H11 -> 9180
B35: 11 | G35: ՀԻՄՆԱԿԱՆ ԲԱԺԻՆՆԵՐԻՆ ՉԴԱՍՎՈՂ ՊԱՀՈՒՍՏԱՅԻՆ ՖՈՆԴԵՐ | H35: =+H37 -> -40903.903
G36: այդ թվում՝
C37: 01 | G37: ՀՀ կառավարության և համայնքների պահուստային ֆոնդ | H37: =+H39 -> -40903.903
G38: այդ թվում՝
D39: 01 | G39: ՀՀ կառավարության պահուստային ֆոնդ | H39: =+H43+H53 -> -40903.903
G40: այդ թվում՝
G41: ՀՀ կառավարություն | H41: =+H43 -> -40903.903
G42: այդ թվում՝
E43: 1139 | G43: ՀՀ կառավարության պահուստային ֆոնդ | H43: =+H45 -> -40903.903
G44: այդ թվում`
F45: 11001 | G45: ՀՀ կառավարության պահուստային ֆոնդ | H45: =+H47 -> -40903.903
G46: այդ թվում ըստ կատարողների
G47: ՀՀ կառավարություն | H47: =+H49 -> -40903.903
G48: այդ թվում` բյուջետային ծախսերի տնտեսագիտական դասակարգման հոդվածներ
G49: ԸՆԴԱՄԵՆԸ ԾԱԽՍԵՐ | H49: =+H50 -> -40903.903
G50: ԸՆԹԱՑԻԿ ԾԱԽՍԵՐ | H50: =+H51 -> -40903.903
G51: ԱՅԼ ԾԱԽՍԵՐ | H51: =+H52 -> -40903.903
G52: Պահուստային միջոցներ | H52: =+'1'!D11 -> -40903.903

Sheet 5
B1: Հավելված № 5
B2: ՀՀ կառավարության 2024 թվականի
B3: __________ «____» -ի
B4: N_____ -Ն որոշման
B6: ՀԱՅԱՍՏԱՆԻ ՀԱՆՐԱՊԵՏՈՒԹՅԱՆ ԿԱՌԱՎԱՐՈՒԹՅԱՆ 2023 ԹՎԱԿԱՆԻ ԴԵԿՏԵՄԲԵՐԻ 28-Ի № 2323-Ն ՈՐՈՇՄԱՆ № 5 ՀԱՎԵԼՎԱԾԻ № 2 ԱՂՅՈՒՍԱԿՈՒՄ ԿԱՏԱՐՎՈՂ ՓՈՓՈԽՈՒԹՅՈՒՆՆԵՐԸ
B7: Գումարը (հազար դրամներով)
B8: Ծրագրային դասիչ | D8: Բյուջետային գլխավոր կարգադրիչների, ծրագրերի, միջոցառումների և ուղղությունների անվանումները | E8: Ցուցանիշների փոփոխությունները (ավելացումները նշված են դրական նշանով, իսկ նվազեցումները` փակագծերում)
B9: Ծրագիր | C9: Միջոցառում | E9: Տարի
D10: ՀՀ ԱՌՈՂՋԱՊԱՀՈՒԹՅԱՆ ՆԱԽԱՐԱՐՈՒԹՅՈՒՆ | E10: =+E12 -> 39614.903
D11: այդ թվում`
B12: 1126 | C12: 31003 | D12: Առողջապահական կազմակերպությունների կառուցում, վերակառուցում | E12: =+E14 -> 39614.903
D13: այդ թվում ըստ կատարողների
D14: ՀՀ քաղաքաշինության կոմիտե | E14: =+E16+E18+E21 -> 39614.903
D15: այդ թվում`ըստ ուղղությունների
D16: ՀՀ Արագածոտնի մարզ | E16: =+E17 -> 9454.5
D17: ՀՀ Արագածոտնի մարզի «Աշտարակի բժշկական կենտրոն» ՓԲԸ | E17: =+'3'!E16 -> 9454.5
D18: ՀՀ Կոտայքի մարզ | E18: =+E19+E20 -> 28333.903
D19: ՀՀ Կոտայքի մարզի «Չարենցավանի բժշկական կենտրոն» ՓԲԸ | E19: =+'3'!G18 -> 25629.403
D20: ՀՀ Կոտայքի մարզի Եղվարդի «Նաիրիի բժշկական կենտրոն» ՓԲԸ | E20: =+'3'!F19 -> 2704.5
D21: ՀՀ Լոռու մարզ | E21: =+E22 -> 1826.5
D22: ՀՀ Լոռու մարզի «Տաշիրի բժշկական կենտրոն» ՓԲԸ | E22: =+'3'!F21 -> 1826.5

Sheet 6
B1: Հավելված № 6
B2: ՀՀ կառավարության 2024 թվականի
B3: __________ «____» -ի
B4: N_____ -Ն որոշման
B5: ՀԱՅԱՍՏԱՆԻ ՀԱՆՐԱՊԵՏՈՒԹՅԱՆ ԿԱՌԱՎԱՐՈՒԹՅԱՆ 2023 ԹՎԱԿԱՆԻ ԴԵԿՏԵՄԲԵՐԻ 28-Ի N 2323-Ն ՈՐՈՇՄԱՆ N 9 ՀԱՎԵԼՎԱԾԻ 9.8 ԱՂՅՈՒՍԱԿՈՒՄ ԿԱՏԱՐՎՈՂ ՓՈՓՈԽՈՒԹՅՈՒՆՆԵՐԸ ԵՎ ԼՐԱՑՈՒՄՆԵՐԸ
B6: ՄԱՍ 2. ՊԵՏԱԿԱՆ ՄԱՐՄՆԻ ԳԾՈՎ ԱՐԴՅՈՒՆՔԱՅԻՆ (ԿԱՏԱՐՈՂԱԿԱՆ) ՑՈՒՑԱՆԻՇՆԵՐԸ
B7: ՀՀ առողջապահության նախարարություն
B8: Ծրագրի դասիչը | C8: Ծրագրի անվանումը
B9: 1126 | C9: Առողջապահության ոլորտում պետական քաղաքականության մշակում, ծրագրերի համակարգում և մոնիտորինգ
B10: Ծրագրի միջոցառումները | D10: Ցուցանիշների փոփոխությունները (ավելացումները նշված են դրական նշանով)
B11: Ծրագրի դասիչը` | C11: 1126
B12: Միջոցառման դասիչը` | C12: 31003 | D12: Տարի
B13: Միջոցառման անվանումը` | C13: Առողջապահական կազմակերպությունների կառուցում, վերակառուցում
B14: Նկարագրությունը` | C14: Բնակչությանը որակյալ բժշկական օգնության և սպասարկման ծառայություններ մատուցելու նպատակով առողջապահական կազմակերպությունների կառուցում, վերակառուցում
B15: Միջոցառման տեսակը` | C15: Պետական մարմինների կողմից օգտագործվող ոչ ֆինանսական ակտիվների հետ գործառնություններ
B16: Ակտիվն օգտագործող կազմակերպության (ների) անվանում(ներ)ը | C16: Բժշկական կազմակերպություններ
B17: Արդյունքի չափորոշիչներ
B18: Նախագծանախահաշվային փաստաթղթերի քանակ, հատ | D18: 1
B19: Միջոցառման վրա կատարվող ծախսը (հազար դրամ) | D19: =+'1'!D10 -> 40903.903
B21: ՀԱՅԱՍՏԱՆԻ ՀԱՆՐԱՊԵՏՈՒԹՅԱՆ ԿԱՌԱՎԱՐՈՒԹՅԱՆ 2023 ԹՎԱԿԱՆԻ ԴԵԿՏԵՄԲԵՐԻ 28-Ի N 2323-Ն ՈՐՈՇՄԱՆ N 9 ՀԱՎԵԼՎԱԾԻ 9.48 ԱՂՅՈՒՍԱԿՈՒՄ ԿԱՏԱՐՎՈՂ ՓՈՓՈԽՈՒԹՅՈՒՆԸ ԵՎ ԼՐԱՑՈՒՄԸ
B22: ՄԱՍ 2. ՊԵՏԱԿԱՆ ՄԱՐՄՆԻ ԳԾՈՎ ԱՐԴՅՈՒՆՔԱՅԻՆ (ԿԱՏԱՐՈՂԱԿԱՆ) ՑՈՒՑԱՆԻՇՆԵՐԸ
B23: ՀՀ կառավարություն
B24: Ծրագրի դասիչը | C24: Ծրագրի անվանումը
B25: 1139 | C25: ՀՀ կառավարության պահուստային ֆոնդ
B26: Ծրագրի միջոցառումները
B27: Ծրագրի դասիչը` | C27: 1139 | D27: Ցուցանիշների փոփոխությունները (նվազեցումները նշված են փակագծերում)
B28: Միջոցառման դասիչը` | C28: 11001 | D28: Տարի
B29: Միջոցառման անվանումը` | C29: ՀՀ կառավարության պահուստային ֆոնդ
B30: Նկարագրությունը` | C30: ՀՀ պետական բյուջեում նախատեսված ելքերի լրացուցիչ ֆինանսավորման, պետական բյուջեում չկանխատեսված ելքերի, ինչպես նաև բյուջետային երաշխիքների ապահովման ելքերի ֆինանսավորման ապահովում
B31: Միջոցառման տեսակը` | C31: Ծառայությունների մատուցում
B32: Միջոցառումն իրականացնողի անվանումը | C32: ՀՀ կառավարություն
B33: Արդյունքի չափորոշիչներ
B34: Միջոցառման վրա կատարվող ծախսը (հազար դրամ) | D34: =+'1'!D11 -> -40903.903

Sheet 7
B1: Հավելված № 7
B2: ՀՀ կառավարության 2024 թվականի
B3: __________ «____» -ի
B4: N_____ -Ն որոշման
B5: ՀԱՅԱՍՏԱՆԻ ՀԱՆՐԱՊԵՏՈՒԹՅԱՆ ԿԱՌԱՎԱՐՈՒԹՅԱՆ 2023 ԹՎԱԿԱՆԻ ԴԵԿՏԵՄԲԵՐԻ 28-Ի N 2323-Ն ՈՐՈՇՄԱՆ N 9.1 ՀԱՎԵԼՎԱԾԻ 9.1.39 ԱՂՅՈՒՍԱԿՈՒՄ ԿԱՏԱՐՎՈՂ ՓՈՓՈԽՈՒԹՅՈՒՆՆԵՐԸ ԵՎ ԼՐԱՑՈՒՄՆԵՐԸ
B6: ՄԱՍ 1. ՊԵՏԱԿԱՆ ՄԱՐՄՆԻ ԳԾՈՎ ԱՐԴՅՈՒՆՔԱՅԻՆ (ԿԱՏԱՐՈՂԱԿԱՆ) ՑՈՒՑԱՆԻՇՆԵՐԸ
B7: ՀՀ քաղաքաշինության կոմիտե
B8: Ծրագրի դասիչը | C8: Ծրագրի անվանումը
B9: 1126 | C9: Առողջապահության ոլորտում պետական քաղաքականության մշակում, ծրագրերի համակարգում և մոնիտորինգ
B10: Ծրագրի միջոցառումները
B11: Ծրագրի դասիչը` | C11: 1126 | D11: Ցուցանիշների փոփոխությունները (ավելացումները նշված են դրական նշանով)
B12: Միջոցառման դասիչը` | C12: 31003 | D12: Տարի
B13: Միջոցառման անվանումը` | C13: Առողջապահական կազմակերպությունների կառուցում, վերակառուցում
B14: Նկարագրությունը` | C14: Բնակչությանը որակյալ բժշկական օգնության և սպասարկման ծառայություններ մատուցելու նպատակով առողջապահական կազմակերպությունների կառուցում, վերակառուցում
B15: Միջոցառման տեսակը` | C15: Պետական մարմինների կողմից օգտագործվող ոչ ֆինանսական ակտիվների հետ գործառնություններ
B16: Ակտիվն օգտագործող կազմակերպության (ների) անվանում(ներ)ը | C16: Բժշկական կազմակերպություններ
B17: Արդյունքի չափորոշիչներ
B18: Նախագծանախահաշվային փաստաթղթերի քանակ, հատ | D18: 1
B19: Միջոցառման վրա կատարվող ծախսը (հազար դրամ) | D19: =+'1'!D10 -> 40903.903
B21: ՀԱՅԱՍՏԱՆԻ ՀԱՆՐԱՊԵՏՈՒԹՅԱՆ ԿԱՌԱՎԱՐՈՒԹՅԱՆ 2023 ԹՎԱԿԱՆԻ ԴԵԿՏԵՄԲԵՐԻ 28-Ի N 2323-Ն ՈՐՈՇՄԱՆ N 9.1 ՀԱՎԵԼՎԱԾԻ 9.1.58 ԱՂՅՈՒՍԱԿՈՒՄ ԿԱՏԱՐՎՈՂ ՓՈՓՈԽՈՒԹՅՈՒՆԸ ԵՎ ԼՐԱՑՈՒՄԸ
B22: ՄԱՍ 1. ՊԵՏԱԿԱՆ ՄԱՐՄՆԻ ԳԾՈՎ ԱՐԴՅՈՒՆՔԱՅԻՆ (ԿԱՏԱՐՈՂԱԿԱՆ) ՑՈՒՑԱՆԻՇՆԵՐԸ
B23: ՀՀ կառավարություն
B24: Ծրագրի դասիչը | C24: Ծրագրի անվանումը
B25: 1139 | C25: ՀՀ կառավարության պահուստային ֆոնդ
B26: Ծրագրի միջոցառումները
B27: Ծրագրի դասիչը` | C27: 1139 | D27: Ցուցանիշների փոփոխությունները (նվազեցումները նշված են փակագծերում)
B28: Միջոցառման դասիչը` | C28: 11001 | D28: Տարի
B29: Միջոցառման անվանումը` | C29: ՀՀ կառավարության պահուստային ֆոնդ
B30: Նկարագրությունը` | C30: ՀՀ պետական բյուջեում նախատեսված ելքերի լրացուցիչ ֆինանսավորման, պետական բյուջեում չկանխատեսված ելքերի, ինչպես նաև բյուջետային երաշխիքների ապահովման ելքերի ֆինանսավորման ապահովում
B31: Միջոցառման տեսակը` | C31: Ծառայությունների մատուցում
B32: Միջոցառումն իրականացնողի անվանումը | C32: ՀՀ կառավարություն
B33: Արդյունքի չափորոշիչներ
B34: Միջոցառման վրա կատարվող ծախսը (հազար դրամ) | D34: =+'6'!D34 -> -40903.903

Sheet 8
B1: Հավելված № 8
B2: ՀՀ կառավարության 2024 թվականի
B3: __________ «____» -ի
B4: N_____ -Ն որոշման
B5: ՀԱՅԱՍՏԱՆԻ ՀԱՆՐԱՊԵՏՈՒԹՅԱՆ ԿԱՌԱՎԱՐՈՒԹՅԱՆ 2023 ԹՎԱԿԱՆԻ ԴԵԿՏԵՄԲԵՐԻ 28-Ի № 2323-Ն ՈՐՈՇՄԱՆ № 10 ՀԱՎԵԼՎԱԾՈՒՄ ԿԱՏԱՐՎՈՂ ՓՈՓՈԽՈՒԹՅՈՒՆՆԵՐԸ ԵՎ ԼՐԱՑՈՒՄՆԵՐԸ
B6: Կոդը | C6: Անվանումը | F6: Գնման ձևը | G6: Չափման միավորը | H6: Միավորի գինը | I6: Քանակը | J6: Ցուցանիշների փոփոխությունները (նվազեցումները նշված են փակագծերում)
J7: Գումարը (հազար դրամներով)
J8: =+J9 -> 40903.903
B9: ՀՀ քաղաքաշինության կոմիտե | J9: =+J10 -> 40903.903
B10: Բաժին 07 | C10: Խումբ 06 | D10: Դաս 02 | E10: Առողջապահություն (այլ դասերին չպատկանող) | J10: =+J11 -> 40903.903
B11: 1126 31003 | C11: Առողջապահական կազմակերպությունների կառուցում, վերակառուցում | J11: =+J12+J14 -> 40903.903
C12: ՄԱՍ II. ԱՇԽԱՏԱՆՔՆԵՐ | J12: =SUM(J13:J13) -> 25629.403
B13: 45221142/1 | C13: ընդհանուր շինարարական աշխատանքներ | F13: ՀԲՄ | G13: դրամ | J13: 25629.403
C14: ՄԱՍ III. ԾԱՌԱՅՈՒԹՅՈՒՆՆԵՐ | J14: =SUM(J15:J24) -> 15274.5
B15: 71311360/514 | C15: շենքերի չափագրման ծառայություն | F15: ԳՀ | G15: դրամ | H15: 272000 | I15: 1 | J15: =+H15*I15/1000 -> 272
B16: 71311360/520 | C16: շենքերի չափագրման ծառայություն | F16: ՀՄԱ | G16: դրամ | H16: 923000 | I16: 1 | J16: =+H16*I16/1000 -> 923
B17: 71311360/521 | C17: շենքերի չափագրման ծառայություն | F17: ՀՄԱ | G17: դրամ | H17: 94000 | I17: 1 | J17: =+H17*I17/1000 -> 94
B18: 71241200/599 | C18: նախագծերի պատրաստում, ծախսերի գնահատում | F18: ԲՄ | G18: դրամ | H18: 9180000 | I18: 1 | J18: =+H18*I18/1000 -> 9180
B19: 71351540/12 | C19: տեխնիկական հսկողության ծառայություններ | F19: ԳՀ | G19: դրամ | J19: 1285.1
B20: 71351540/11 | C20: տեխնիկական հսկողության ծառայություններ | F20: ԳՀ | G20: դրամ | J20: 43.4
B21: 71351540/10 | C21: տեխնիկական հսկողության ծառայություններ | F21: ԳՀ | G21: դրամ | J21: 123.6
B22: 98111140/11 | C22: հեղինակային հսկողության ծառայություններ | F22: ՄԱ | G22: դրամ | J22: 541.4
B23: 98111140/5 | C23: հեղինակային հսկողության ծառայություններ | F23: ՄԱ | G23: դրամ | J23: 2661.1
B24: 98111140/10 | C24: հեղինակային հսկողության ծառայություններ | F24: ՄԱ | G24: դրամ | J24: 150.9
