Workbook
Name _tab10: #REF!
Name _tab10: #REF!
Name _tab10: #REF!
Name _tab10: #REF!
Name _tab11: #REF!
Name _tab11: #REF!
Name _tab11: #REF!
Name _tab11: #REF!
Name _tab12: #REF!
Name _tab12: #REF!
Name _tab12: #REF!
Name _tab12: #REF!
Name _tab13: #REF!
Name _tab13: #REF!
Name _tab13: #REF!
Name _tab13: #REF!
Name _tab14: #REF!
Name _tab14: #REF!
Name _tab14: #REF!
Name _tab14: #REF!
Name _tab15: #REF!
Name _tab15: #REF!
Name _tab15: #REF!
Name _tab15: #REF!
Name _tab16: #REF!
Name _tab16: #REF!
Name _tab16: #REF!
Name _tab16: #REF!
Name _tab17: #REF!
Name _tab17: #REF!
Name _tab17: #REF!
Name _tab17: #REF!
Name _tab18: #REF!
Name _tab18: #REF!
Name _tab18: #REF!
Name _tab18: #REF!
Name _tab19: #REF!
Name _tab19: #REF!
Name _tab19: #REF!
Name _tab19: #REF!
Name _tab20: #REF!
Name _tab20: #REF!
Name _tab20: #REF!
Name _tab20: #REF!
Name _tab21: #REF!
Name _tab21: #REF!
Name _tab21: #REF!
Name _tab21: #REF!
Name _tab22: #REF!
Name _tab22: #REF!
Name _tab22: #REF!
Name _tab22: #REF!
Name _tab23: #REF!
Name _tab23: #REF!
Name _tab23: #REF!
Name _tab23: #REF!
Name _tab24: #REF!
Name _tab24: #REF!
Name _tab24: #REF!
Name _tab24: #REF!

Sheet h1
D1: Հավելված N 1
C2: ՀՀ կառավարության 2024 թվականի
D3: N ------------ -Ն որոշման
A4: ՀԱՅԱՍՏԱՆԻ ՀԱՆՐԱՊԵՏՈՒԹՅԱՆ 2024 ԹՎԱԿԱՆԻ ՊԵՏԱԿԱՆ ԲՅՈՒՋԵԻ ՄԱՍԻՆ» ՕՐԵՆՔԻ N 1 ՀԱՎԵԼՎԱԾԻ N 2 ԱՂՅՈՒՍԱԿՈՒՄ ԿԱՏԱՐՎՈՂ ՎԵՐԱԲԱՇԽՈՒՄԸ ԵՎ ՀԱՅԱՍՏԱՆԻ ՀԱՆՐԱՊԵՏՈՒԹՅԱՆ ԿԱՌԱՎԱՐՈՒԹՅԱՆ 2023 ԹՎԱԿԱՆԻ ԴԵԿՏԵՄԲԵՐԻ 28-Ի N 2323-Ն ՈՐՈՇՄԱՆ N 5 ՀԱՎԵԼՎԱԾԻ N 1 ԱՂՅՈՒՍԱԿՈՒՄ ԿԱՏԱՐՎՈՂ ՓՈՓՈԽՈՒԹՅՈՒՆՆԵՐԸ ԵՎ ԼՐԱՑՈՒՄՆԵՐԸ
D6: հազար դրամ
A7: Ծրագրային դասիչը | C7: Բյուջետային հատկացումների գլխավոր կարգադրիչների, ծրագրերի և միջոցառումների անվանումները | D7: Ցուցանիշների փոփոխությունը (ավելացումները նշված են դրական նշանով, իսկ նվազեցումները` փակագծերում)
A8: Ծրագիր | B8: Միջոցառում | D8: Տարի
C9: ԸՆԴԱՄԵՆԸ | D9: =D10+D99 -> -2.910383e-10
C10: ՀՀ տարածքային կառավարման և ենթակառուցվածքների նախարարություն | D10: =D24+D74+D11+D61 -> -2.910383e-10
A11: 1004 | C11: Ծրագրի անվանումը` | D11: =D18 -> -77900
C12: Ոռոգման համակարգի առողջացում
C13: Ծրագրի նպատակը`
C14: Ոռոգման ծառայությունների հասանելիության և մատչելիության ապահովում
C15: Վերջնական արդյունքի նկարագրությունը`
C16: Ոռոգման ջրի մատակարարման արդյունավետության և հասանելիության բարելավում՝ կորուստների կրճատում
C17: Ծրագրի միջոցառումներ
B18: 11010 | C18: Միջոցառման անվանումը` | D18: ='h2'!G147 -> -77900
C19: Գերմանիայի զարգացման վարկերի բանկի աջակցությամբ իրականացվող Ախուրյան գետի ջրային ռեսուրսների ինտեգրացված կառավարում փուլ 1 ծրագրով Ջրաձոր գյուղի վերաբնակեցման գործողությունների խորհրդատվություն և կառավարում
C20: Միջոցառման նկարագրությունը`
C21: Գերմանիայի զարգացման վարկերի բանկի աջակցությամբ իրականացվող Ախուրյան գետի ջրային ռեսուրսների ինտեգրացված կառավարում փուլ 1 ծրագրով Ջրաձոր գյուղի վերաբնակեցման գործողությունների համակարգում և ղեկավարում
C22: Միջոցառման տեսակը
C23: Ծառայությունների մատուցում
A24: 1049 | C24: Ծրագրի անվանումը` | D24: =D37+D43+D49+D55+D31 -> -2308298.7
C25: Ճանապարհային ցանցի բարելավում
C26: Ծրագրի նպատակը`
C27: Ճանապարհային ցանցի բարելավում և անվտանգ երթևեկության ապահովում
C28: Վերջնական արդյունքի նկարագրությունը`
C29: Ճանապարհների ծածկի որակի և փոխադրումների արդյունավետության բարելավում, ճանապարհների վիճակով պայմանավորված պատահարների նվազում
C30: Ծրագրի միջոցառումներ
B31: 11001 | C31: Միջոցառման անվանումը` | D31: ='h2'!G166 -> -135500
C32: Միջպետական և հանրապետական նշանակության ավտոճանապարհների պահպանման և անվտանգ երթևեկության ծառայություններ
C33: Միջոցառման նկարագրությունը`
C34: Հողային պաստառի, երթևեկելի մասի, արհեստական կառույցների և կահավորման տարրերի նորմատիվ մակարդակում պահպանում և շահագործում
C35: Միջոցառման տեսակը
C36: Ծառայությունների մատուցում
B37: 11002 | C37: Միջոցառման անվանումը` | D37: ='h2'!G175 -> -65565.3
C38: Մարզային նշանակության ավտոճանապարհների պահպանման և անվտանգ երթևեկության ծառայություններ
C39: Միջոցառման նկարագրությունը`
C40: Հողային պաստառի, երթևեկելի մասի, արհեստական կառույցների և կահավորման տարրերի նորմատիվ մակարդակում պահպանում և շահագործում
C41: Միջոցառման տեսակը
C42: Ծառայությունների մատուցում
B43: 21001 | C43: Միջոցառման անվանումը` | D43: ='h2'!G191 -> -1494091.3
C44: Պետական նշանակության ավտոճանապարհների հիմնանորոգում
C45: Միջոցառման նկարագրությունը`
C46: Միջպետական, հանրապետական և մարզային նշանակության ավտոճոնապարհների քայքայված ծածկի վերանորոգում, մաշված ծածկի փոխարինում
C47: Միջոցառման տեսակը
C48: Հանրության կողմից անմիջականորեն օգտագործվող ակտիվների հետ կապված միջոցառումներ
B49: 21002 | C49: Միջոցառման անվանումը` | D49: ='h2'!G201 -> -451142.1
C50: Տրանսպորտային օբյեկտների հիմնանորոգում
C51: Միջոցառման նկարագրությունը`
C52: Ավտոմոբիլային ճանապարհների վրա գտնվող կամուրջների հիմնանորոգում
C53: Միջոցառման տեսակը
C54: Հանրության կողմից անմիջականորեն օգտագործվող ակտիվների հետ կապված միջոցառումներ
B55: 21012 | C55: Միջոցառման անվանումը` | D55: ='հ5․'!E31 -> -162000
C56: Եվրասիական զարգացման բանկի աջակցությամբ իրականացվող Հյուսիս-հարավ միջանցքի զարգացման ծրագիր
C57: Միջոցառման նկարագրությունը`
C58: Ճանապարհաշինական աշխատանքներ
C59: Միջոցառման տեսակը
C60: Հանրության կողմից անմիջականորեն օգտագործվող ակտիվների հետ կապված միջոցառումներ
A61: 1157 | C61: Ծրագրի անվանումը` | D61: =D68 -> -131298.7
C62: Քաղաքային զարգացում
C63: Ծրագրի նպատակը`
C64: Քաղաքային ենթակառուցվածքների զարգացում
C65: Վերջնական արդյունքի նկարագրությունը`
C66: Քաղաքային ենթակառուցվածքների արդիականացում և բարելավում
C67: Ծրագրի միջոցառումներ
B68: 12006 | C68: Միջոցառման անվանումը` | D68: ='h2'!G138 -> -131298.7
C69: Եվրոպական ներդրումային բանկի աջակցությամբ իրականացվող Երևանի էներգաարդյունավետության ծրագրին պետական աջակցություն
C70: Միջոցառման նկարագրությունը`
C71: Ծրագրի շրջանակներում հանրային շենքերում իրականացվող էներգաարդյունավետության և էներգախնայողության աշխատանքներ
C72: Միջոցառման տեսակը
C73: Տրանսֆերտների տրամադրում
A74: 1212 | C74: Ծրագրի անվանումը` | D74: =D87+D81+D93 -> 2517497.4
C75: Տարածքային զարգացում
C76: Ծրագրի նպատակը`
C77: Տարածքային համաչափ զարգացման խթանում
C78: Վերջնական արդյունքի նկարագրությունը`
C79: ՀՀ համայնքների կառավարման արդյունավետության բարձրացում և տնտեսական գործունեության խթանում
C80: Ծրագրի միջոցառումներ
B81: 12007 | C81: Միջոցառման անվանումը` | D81: ='h2'!G23 -> 2568400
C82: ՀՀ մարզերին սուբվենցիաների տրամադրում՛ ենթակառուցվածքների զարգացման նպատակով
C83: Միջոցառման նկարագրությունը`
C84: ՀՀ մարզերին սուբվենցիաների տրամադրում՛ ենթակառուցվածքների զարգացման նպատակով
C85: Միջոցառման տեսակը
C86: Տրանսֆերտների տրամադրում
B87: 12025 | C87: Միջոցառման անվանումը` | D87: ='h2'!G102 -> 6065.3
C88: Մարզերում առաջնահերթ լուծում պահանջող հիմնախնդիրների լուծում
C89: Միջոցառման նկարագրությունը`
C90: Մարզերում առաջնահերթ լուծում պահանջող ծրագրերի իրականացում, որի արդյունքում լուծում կտրվի բնակչության և համայնքների սոցիալական նշանակություն ունեցող հիմնախնդիրներին
C91: Միջոցառման տեսակը
C92: Տրանսֆերտների տրամադրում
B93: 12027 | C93: Միջոցառման անվանումը` | D93: -56967.9
C94: Սուբվենցիաներ՛ մասնակցային բյուջետավորմամբ ձևավորված ծրագրերի իրականացման համար
C95: Միջոցառման նկարագրությունը`
C96: ՀՀ պետական բյուջեից մասնակցային բյուջետավորմամբ ձևավորված ծրագրերի իրականացման նպատակով սուբվենցիաների տրամադրում
C97: Միջոցառման տեսակը
C98: Տրանսֆերտների տրամադրում
C99: ՀՀ կառավարություն | D99: =D100 -> 0
A100: 1139 | C100: Ծրագրի անվանումը` | D100: =D107+D113 -> 0
C101: ՀՀ կառավարության պահուստային ֆոնդ
...

Sheet h2
G1: Հավելված N 2
F2: ՀՀ կառավարության 2024 թվականի
G3: N ------------ -Ն որոշման
A5: ՀԱՅԱՍՏԱՆԻ ՀԱՆՐԱՊԵՏՈՒԹՅԱՆ ԿԱՌԱՎԱՐՈՒԹՅԱՆ 2023 ԹՎԱԿԱՆԻ ԴԵԿՏԵՄԲԵՐԻ 28-Ի N 2323-Ն ՈՐՈՇՄԱՆ NN 3 ԵՎ 4 ՀԱՎԵԼՎԱԾՆԵՐՈՒՄ ԿԱՏԱՐՎՈՂ ՓՈՓՈԽՈՒԹՅՈՒՆՆԵՐԸ ԵՎ ԼՐԱՑՈՒՄՆԵՐԸ
G6: հազար դրամ
A7: Գործառական դասիչը | D7: Ծրագրային դասիչը | F7: Բյուջետային ծախսերի գործառական դասակարգման բաժինների, խմբերի և դասերի, բյուջետային ծրագրերի միջոցառումների, բյուջետային հատկացումների գլխավոր կարգադրիչների անվանումները | G7: Ցուցանիշների փոփոխությունը (ավելացումները նշված են դրական նշանով, իսկ նվազեցումները` փակագծերում)
A8: Բաժին | B8: Խումբ | C8: Դաս | D8: Ծրագիր | E8: Միջոցառում | G8: Տարի
F9: ԸՆԴԱՄԵՆԸ ԾԱԽՍԵՐ | G9: =G11+G240 -> 0
F10: այդ թվում`
F11: ՀՀ տարածքային կառավարման և ենթակառուցվածքների նախարարություն | G11: =G13+G120 -> 0
F12: այդ թվում`
A13: 01 | F13: ԸՆԴՀԱՆՈՒՐ ԲՆՈՒՅԹԻ ՀԱՆՐԱՅԻՆ ԾԱՌԱՅՈՒԹՅՈՒՆՆԵՐ | G13: =G15 -> 2517497.4
F14: այդ թվում`
B15: 08 | F15: Կառավարության տարբեր մակարդակների միջև իրականացվող ընդհանուր բնույթի տրանսֆերտներ | G15: =G17 -> 2517497.4
F16: այդ թվում`
C17: 01 | F17: Կառավարության տարբեր մակարդակների միջև իրականացվող ընդհանուր բնույթի տրանսֆերտներ | G17: =G19 -> 2517497.4
F18: այդ թվում`
F19: ՀՀ տարածքային կառավարման և ենթակառուցվածքների նախարարություն | G19: =+G21 -> 2517497.4
F20: այդ թվում`
D21: 1212 | F21: Տարածքային զարգացում | G21: =G102+G23+G111 -> 2517497.4
F22: այդ թվում
E23: 12007 | F23: ՀՀ մարզերին սուբվենցիաների տրամադրում՛ ենթակառուցվածքների զարգացման նպատակով_x000D_ | G23: =G32+G39+G46+G53+G60+G67+G74+G81+G88+G95+G25 -> 2568400
F24: այդ թվում` ըստ կատարողների
F25: ՀՀ կառավարություն | G25: =G27 -> -22519.4
F26: այդ թվում` բյուջետային ծախսերի տնտեսագիտական դասակարգման հոդվածներ
F27: ԸՆԴԱՄԵՆԸ ԾԱԽՍԵՐ | G27: =G28 -> -22519.4
F28: ԸՆԹԱՑԻԿ ԾԱԽՍԵՐ | G28: =G29 -> -22519.4
F29: ԴՐԱՄԱՇՆՈՐՀՆԵՐ | G29: =G30 -> -22519.4
F30: Կապիտալ դրամաշնորհներ պետական հատվածի այլ մակարդակներին | G30: =G31 -> -22519.4
F31: - Կապիտալ սուբվենցիաներ համայնքներին | G31: -22519.4
F32: ՀՀ Արագածոտնի մարզպետի աշխատակազմ | G32: =G34 -> 133159.2
F33: այդ թվում` բյուջետային ծախսերի տնտեսագիտական դասակարգման հոդվածներ
F34: ԸՆԴԱՄԵՆԸ ԾԱԽՍԵՐ | G34: =G35 -> 133159.2
F35: ԸՆԹԱՑԻԿ ԾԱԽՍԵՐ | G35: =G36 -> 133159.2
F36: ԴՐԱՄԱՇՆՈՐՀՆԵՐ | G36: =G37 -> 133159.2
F37: Կապիտալ դրամաշնորհներ պետական հատվածի այլ մակարդակներին | G37: =G38 -> 133159.2
F38: - Կապիտալ սուբվենցիաներ համայնքներին | G38: ='h4'!D20 -> 133159.2
F39: ՀՀ Արարատի մարզպետի աշխատակազմ | G39: =G41 -> -69461.2
F40: այդ թվում` բյուջետային ծախսերի տնտեսագիտական դասակարգման հոդվածներ
F41: ԸՆԴԱՄԵՆԸ ԾԱԽՍԵՐ | G41: =G42 -> -69461.2
F42: ԸՆԹԱՑԻԿ ԾԱԽՍԵՐ | G42: =G43 -> -69461.2
F43: ԴՐԱՄԱՇՆՈՐՀՆԵՐ | G43: =G44 -> -69461.2
F44: Կապիտալ դրամաշնորհներ պետական հատվածի այլ մակարդակներին | G44: =G45 -> -69461.2
F45: - Կապիտալ սուբվենցիաներ համայնքներին | G45: ='h4'!D23 -> -69461.2
F46: ՀՀ Արմավիրի մարզպետի աշխատակազմ | G46: =G48 -> 143839.2
F47: այդ թվում` բյուջետային ծախսերի տնտեսագիտական դասակարգման հոդվածներ
F48: ԸՆԴԱՄԵՆԸ ԾԱԽՍԵՐ | G48: =G49 -> 143839.2
F49: ԸՆԹԱՑԻԿ ԾԱԽՍԵՐ | G49: =G50 -> 143839.2
F50: ԴՐԱՄԱՇՆՈՐՀՆԵՐ | G50: =G51 -> 143839.2
F51: Կապիտալ դրամաշնորհներ պետական հատվածի այլ մակարդակներին | G51: =G52 -> 143839.2
F52: - Կապիտալ սուբվենցիաներ համայնքներին | G52: ='h4'!D33 -> 143839.2
F53: ՀՀ Գեղարքունիքի մարզպետի աշխատակազմ | G53: =G55 -> 406288.1
F54: այդ թվում` բյուջետային ծախսերի տնտեսագիտական դասակարգման հոդվածներ
F55: ԸՆԴԱՄԵՆԸ ԾԱԽՍԵՐ | G55: =G56 -> 406288.1
F56: ԸՆԹԱՑԻԿ ԾԱԽՍԵՐ | G56: =G57 -> 406288.1
F57: ԴՐԱՄԱՇՆՈՐՀՆԵՐ | G57: =G58 -> 406288.1
F58: Կապիտալ դրամաշնորհներ պետական հատվածի այլ մակարդակներին | G58: =G59 -> 406288.1
F59: - Կապիտալ սուբվենցիաներ համայնքներին | G59: ='h4'!D48 -> 406288.1
F60: ՀՀ Լոռու մարզպետի աշխատակազմ | G60: =G62 -> 515020.9
F61: այդ թվում` բյուջետային ծախսերի տնտեսագիտական դասակարգման հոդվածներ
F62: ԸՆԴԱՄԵՆԸ ԾԱԽՍԵՐ | G62: =G63 -> 515020.9
F63: ԸՆԹԱՑԻԿ ԾԱԽՍԵՐ | G63: =G64 -> 515020.9
F64: ԴՐԱՄԱՇՆՈՐՀՆԵՐ | G64: =G65 -> 515020.9
F65: Կապիտալ դրամաշնորհներ պետական հատվածի այլ մակարդակներին | G65: =G66 -> 515020.9
F66: - Կապիտալ սուբվենցիաներ համայնքներին | G66: ='h4'!D61 -> 515020.9
F67: ՀՀ Կոտայքի մարզպետի աշխատակազմ | G67: =G69 -> 23525.4
F68: այդ թվում` բյուջետային ծախսերի տնտեսագիտական դասակարգման հոդվածներ
F69: ԸՆԴԱՄԵՆԸ ԾԱԽՍԵՐ | G69: =G70 -> 23525.4
F70: ԸՆԹԱՑԻԿ ԾԱԽՍԵՐ | G70: =G71 -> 23525.4
F71: ԴՐԱՄԱՇՆՈՐՀՆԵՐ | G71: =G72 -> 23525.4
F72: Կապիտալ դրամաշնորհներ պետական հատվածի այլ մակարդակներին | G72: =G73 -> 23525.4
F73: - Կապիտալ սուբվենցիաներ համայնքներին | G73: ='h4'!D72 -> 23525.4
F74: ՀՀ Շիրակի մարզպետի աշխատակազմ | G74: =G76 -> 182220.4
F75: այդ թվում` բյուջետային ծախսերի տնտեսագիտական դասակարգման հոդվածներ
F76: ԸՆԴԱՄԵՆԸ ԾԱԽՍԵՐ | G76: =G77 -> 182220.4
F77: ԸՆԹԱՑԻԿ ԾԱԽՍԵՐ | G77: =G78 -> 182220.4
F78: ԴՐԱՄԱՇՆՈՐՀՆԵՐ | G78: =G79 -> 182220.4
F79: Կապիտալ դրամաշնորհներ պետական հատվածի այլ մակարդակներին | G79: =G80 -> 182220.4
F80: - Կապիտալ սուբվենցիաներ համայնքներին | G80: ='h4'!D80 -> 182220.4
F81: ՀՀ Սյունիքի մարզպետի աշխատակազմ | G81: =G83 -> 696430.4
F82: այդ թվում` բյուջետային ծախսերի տնտեսագիտական դասակարգման հոդվածներ
F83: ԸՆԴԱՄԵՆԸ ԾԱԽՍԵՐ | G83: =G84 -> 696430.4
F84: ԸՆԹԱՑԻԿ ԾԱԽՍԵՐ | G84: =G85 -> 696430.4
F85: ԴՐԱՄԱՇՆՈՐՀՆԵՐ | G85: =G86 -> 696430.4
F86: Կապիտալ դրամաշնորհներ պետական հատվածի այլ մակարդակներին | G86: =G87 -> 696430.4
F87: - Կապիտալ սուբվենցիաներ համայնքներին | G87: ='h4'!D95 -> 696430.4
F88: ՀՀ Վայոց ձորի մարզպետի աշխատակազմ | G88: =G90 -> 224083.6
F89: այդ թվում` բյուջետային ծախսերի տնտեսագիտական դասակարգման հոդվածներ
F90: ԸՆԴԱՄԵՆԸ ԾԱԽՍԵՐ | G90: =G91 -> 224083.6
F91: ԸՆԹԱՑԻԿ ԾԱԽՍԵՐ | G91: =G92 -> 224083.6
F92: ԴՐԱՄԱՇՆՈՐՀՆԵՐ | G92: =G93 -> 224083.6
F93: Կապիտալ դրամաշնորհներ պետական հատվածի այլ մակարդակներին | G93: =G94 -> 224083.6
F94: - Կապիտալ սուբվենցիաներ համայնքներին | G94: ='h4'!D103 -> 224083.6
F95: ՀՀ Տավուշի մարզպետի աշխատակազմ | G95: =G97 -> 335813.4
F96: այդ թվում` բյուջետային ծախսերի տնտեսագիտական դասակարգման հոդվածներ
F97: ԸՆԴԱՄԵՆԸ ԾԱԽՍԵՐ | G97: =G98 -> 335813.4
F98: ԸՆԹԱՑԻԿ ԾԱԽՍԵՐ | G98: =G99 -> 335813.4
F99: ԴՐԱՄԱՇՆՈՐՀՆԵՐ | G99: =G100 -> 335813.4
F100: Կապիտալ դրամաշնորհներ պետական հատվածի այլ մակարդակներին | G100: =G101 -> 335813.4
F101: - Կապիտալ սուբվենցիաներ համայնքներին | G101: ='h4'!D110 -> 335813.4
...

Sheet h3
H1: Հավելված N 3
H2: ՀՀ կառավարության 2024 թվականի
H3: ______________ ի ___Ն որոշման
A5: «ՀԱՅԱՍՏԱՆԻ ՀԱՆՐԱՊԵՏՈՒԹՅԱՆ 2024 ԹՎԱԿԱՆԻ ՊԵՏԱԿԱՆ ԲՅՈՒՋԵԻ ՄԱՍԻՆ» ՕՐԵՆՔԻ N 1 ՀԱՎԵԼՎԱԾԻ N 3 ԱՂՅՈՒՍԱԿՈՒՄ ԿԱՏԱՐՎՈՂ ՓՈՓՈԽՈՒԹՅՈՒՆՆԵՐԸ
G6: հազ. դրամ
A7: Ծրագրային դասիչ | C7: Բյուջետային գլխավոր կարգադրիչների, ծրագրերի, միջոցառումների և ուղղությունների անվանումները | D7: Ցուցանիշների փոփոխությունը (նվազեցումները նշված են փակագծերում)
D8: Ընդամենը, | E8: այդ թվում՝
A9: Ծրագիր | B9: Միջոցառում | E9: Կառուցման աշխատանքներ | F9: Վերակառուցման, վերանորոգման և վերականգնման աշխատանքներ | G9: Նախագծահե- տազոտական, գեոդեզիա- քարտեզագրա- կան աշխա- տանքներ | H9: Ոչ ֆինանսական այլ ակտիվների ձեռքբերում
C10: ԸՆԴԱՄԵՆԸ | D10: =+E10+F10+G10+H10 -> -1945233.4 | E10: =+E12 -> -39971.1 | F10: =+F12 -> -1905262.3 | G10: =+G12 -> 0 | H10: =+H12 -> 0
C11: այդ թվում՝
C12: ՀՀ ՏԱՐԱԾՔԱՅԻՆ ԿԱՌԱՎԱՐՄԱՆ ԵՎ ԵՆԹԱԿԱՌՈՒՑՎԱԾՔՆԵՐԻ ՆԱԽԱՐԱՐՈՒԹՅՈՒՆ | D12: =+E12+F12+G12+H12 -> -1945233.4 | E12: =E14+E27 -> -39971.1 | F12: =F14+F27 -> -1905262.3 | G12: =G14+G27 -> 0 | H12: =H14+H27 -> 0
C13: այդ թվում`
A14: 1049 | B14: 21001 | C14: Պետական նշանակության ավտոճանապարհների հիմնանորոգում | D14: =+E14+F14+G14+H14 -> -1494091.3 | E14: =+E16+E22+E19 -> -39971.1 | F14: =+F16+F22+F19 -> -1454120.2 | G14: =+G16+G22+G19 -> 0 | H14: =+H16+H22+H19 -> 0
C15: այդ թվում`
B16: 1 | C16: Միջպետական նշանակության ավտոճանապարհներ, այդ թվում | D16: =+E16+F16+G16+H16 -> -5282.2 | E16: =SUM(E17:E18) -> 0 | F16: =SUM(F17:F18) -> -5282.2 | G16: =SUM(G17:G18) -> 0 | H16: =SUM(H17:H18) -> 0
C17: Մ-2, (Սյունիք) /Մ-2/ - Աղվանի- Տաթև - /Մ-2/ միջպետական նշանակության ավտոճանապարհի Վերին Խոտանանը շրջանցող ճանապարհահատվածի կառուցում (II փուլ) | D17: =+E17+F17+G17+H17 -> -3150 | E17: 0 | F17: -3150 | G17: 0 | H17: 0
C18: Մ-12, /Մ-2/ (Գորիս) – ՀՀ սահման միջպետական նշանակության ավտոճանապարհի կմ0+000 - կմ4+000 հատվածի հիմնանորոգում | D18: =+E18+F18+G18+H18 -> -2132.2 | E18: 0 | F18: -2132.2 | G18: 0 | H18: 0
B19: 2 | C19: Հանրապետական նշանակության ավտոճանապարհներ, այդ թվում | D19: =+E19+F19+G19+H19 -> -98488.5 | E19: =SUM(E20:E21) -> -39971.1 | F19: =SUM(F20:F21) -> -58517.4 | G19: =SUM(G20:G21) -> 0 | H19: =SUM(H20:H21) -> 0
C20: Հ-1, Վ. Պտղնու տրանսպորտային հանգույց - Ջրաբեր-Հրազդան -Հրազդանի քրեակատարողական հիմնարկ հանրապետական նշանակության ավտոճանապարհի կմ33+500 - կմ37+700 հատվածի հիմնանորոգում | D20: =+E20+F20+G20+H20 -> -58517.4 | E20: 0 | F20: -58517.4 | G20: 0 | H20: 0
C21: Կիրանց գյուղի հատվածում Հ-58 հանրապետական նշանակության ավտոմոբիլային ճանապարհի շրջանցիկ հատվածի կառուցում | D21: =+E21+F21+G21+H21 -> -39971.1 | E21: -39971.1 | F21: 0 | G21: 0 | H21: 0
B22: 3 | C22: Մարզային նշանակության ավտոճանապարհներ, այդ թվում | D22: =+E22+F22+G22+H22 -> -1390320.6 | E22: =SUM(E23:E26) -> 0 | F22: =SUM(F23:F26) -> -1390320.6 | G22: =SUM(G23:G26) -> 0 | H22: =SUM(H23:H26) -> 0
C23: Տ-6-29, Երևան (Բագրևանդի փող.) – Ձորաղբյուր (Տ-6-42) ավտոճանապարհի կմ0+000-կմ5+200 հատվածի հիմնանորոգում | D23: =+E23+F23+G23+H23 -> -6884.3 | E23: 0 | F23: -6884.3 | G23: 0 | H23: 0
C24: Տ-8-56, /Մ-2/ - Հարժիս ավտոճանապարհի կմ0+000 - կմ8+000 հատվածի հիմնանորոգում | D24: =+E24+F24+G24+H24 -> -13368.3 | E24: 0 | F24: -13368.3 | G24: 0 | H24: 0
C25: Տ-10-30, /Մ-16/ - Աճարկուտ - Կիրանց պատմական հուշարձան ավտոճանապարհի 3,5 կմ երկարությամբ հատվածի վերակառուցում | D25: =+E25+F25+G25+H25 -> -4954.7 | E25: 0 | F25: -4954.7 | G25: 0 | H25: 0
C26: Որոտան-Խոտ ավտոճանապարհի վերակառուցում | D26: =+E26+F26+G26+H26 -> -1365113.3 | E26: 0 | F26: =-1342313.3-13500-9300 -> -1365113.3 | G26: 0 | H26: 0
A27: 1049 | B27: 21002 | C27: Տրանսպորտային օբյեկտների հիմնանորոգում | D27: =+E27+F27+G27+H27 -> -451142.1 | E27: =SUM(E30:E31) -> 0 | F27: =SUM(F29:F31) -> -451142.1 | G27: =SUM(G30:G31) -> 0 | H27: =SUM(H30:H31) -> 0
C28: այդ թվում`
C29: Երևան քաղաքի Հրազդանի գետի վրա «Կիևյան» կամուրջի հիմնանորոգում | D29: =E29+F29+G29+H29 -> -409099.1 | E29: 0 | F29: -409099.1 | G29: 0 | H29: 0
C30: Մ-6, Վանաձոր (Մ-3 հատման կետ) – Ալավերդի - ՀՀ սահման միջպետական նշանակության ավտոճանապարհի կմ 51+100-ում գտնող փլուզված հենապատի վերականգում | D30: =+E30+F30+G30+H30 -> -21637.1 | E30: 0 | F30: -21637.1 | G30: 0 | H30: 0
C31: Մ-10, Սևան-Մարտունի-Գետափ միջպետական նշանակության ավտոճանապարհի կմ21+500-ում գտնվող փլուզված հողային պաստառի շեպի վերականգնում | D31: =+E31+F31+G31+H31 -> -20405.9 | E31: 0 | F31: -20405.9 | G31: 0 | H31: 0

Sheet h4
D1: Հավելված № 4
D2: ՀՀ կառավարության 2024 թվականի
D3: -------------- ի № ---- -Ն որոշման
A5: «ՀԱՅԱՍՏԱՆԻ ՀԱՆՐԱՊԵՏՈՒԹՅԱՆ 2024 ԹՎԱԿԱՆԻ ՊԵՏԱԿԱՆ ԲՅՈՒՋԵԻ ՄԱՍԻՆ» ՕՐԵՆՔԻ N 1 ՀԱՎԵԼՎԱԾԻ N 7 ԱՂՅՈՒՍԱԿՈՒՄ ԵՎ ՀԱՅԱՍՏԱՆԻ ՀԱՆՐԱՊԵՏՈՒԹՅԱՆ ԿԱՌԱՎԱՐՈՒԹՅԱՆ 2023 ԹՎԱԿԱՆԻ ԴԵԿՏԵՄԲԵՐԻ 28-Ի N 2323-Ն ՈՐՈՇՄԱՆ N 5 ՀԱՎԵԼՎԱԾԻ N 6 ԱՂՅՈՒՍԱԿՈՒՄ ԿԱՏԱՐՎՈՂ ՓՈՓՈԽՈՒԹՅՈՒՆՆԵՐԸ ԵՎ ԼՐԱՑՈՒՄՆԵՐԸ
D6: հազար դրամ
A7: Ծրագրային դասիչը | C7: Հատկացումների տրամադրման նպատակները և բյուջետային գլխավոր կարգադրիչների, ծրագրերի, միջոցառումների և կատարող պետական մարմնի անվանումները | D7: Ցուցանիշների փոփոխությունը (ավելացումները նշված են դրական նշանով, իսկ նվազեցումները` փակագծերում)
A8: Ծրագիր | B8: Միջոցառում | D8: Տարի
C9: ԸՆԴԱՄԵՆԸ | D9: =+D11 -> 2386198.7
C10: այդ թվում
C11: Կապիտալ սուբվենցիաներ համայնքներին | D11: =+D13 -> 2386198.7
C12: այդ թվում`
C13: ՀՀ տարածքային կառավարման և ենթակառուցվածքների նախարարություն | D13: =+D15+D130 -> 2386198.7
C14: այդ թվում`
A15: 1212 | C15: Տարածքային զարգացում | D15: =+D17+D122+D127 -> 2517497.4
C16: այդ թվում`
B17: 12007 | C17: ՀՀ մարզերին սուբվենցիաների տրամադրում՝ ենթակառուցվածքների զարգացման նպատակով | D17: =D19+D20+D23+D33+D48+D61+D72+D80+D95+D103+D110 -> 2568400
C18: այդ թվում` ըստ կատարողների
C19: ՀՀ կառավարություն | D19: ='h2'!G25 -> -22519.4
C20: ՀՀ Արագածոտնի մարզպետի աշխատակազմ | D20: =SUM(D22:D22) -> 133159.2
C21: այդ թվում` ըստ ուղղությունների
C22: Աշտարակ համայնքի Աշտարակ, Ավան, Բյուրական, Լեռնարոտ, Ոսկեվազ, Վերին Սասունիկ և Ուջան բնակավայրերի փողոցների հիմնանորոգում, տուֆ քարով սալապատում | D22: 133159.2
C23: ՀՀ Արարատի մարզպետի աշխատակազմ | D23: =D25+D26+D27+D28+D29+D30+D31+D32 -> -69461.2
C24: այդ թվում` ըստ ուղղությունների
C25: Մասիս համայնքի Այնթապ, Արբաթ, Դաշտավան, Դարակերտ, Նորաբաց, Սայաթ - Նովա բնակավայրերի գազաֆիկացման աշխատանքներ | D25: -743.6
C26: Մասիս համայնքի Նորամարգ բնակավայրի գազիֆիկացման աշխատանքներ | D26: -672.1
C27: Վեդի համայնքի Վանաշեն, Սիսավան, Գոռավան, Շաղափ և Գինեվետ բնակավայրերի խմելու ջրագծի կառուցում | D27: -10140.4
C28: Արտաշատ համայնքի Մխչյան/խորքային հոր/ եւ Մրգավետ բնակավայրերի ոռոգման համակարգի կառուցում /նորոգում/ | D28: -479.1
C29: Արարատ համայնքի Արմաշ բնակավայրի ջրամատակարարում /2-րդ փուլ / | D29: -212.5
C30: Վեդի համայնքի Այգավան բնակավայրի խմելու ջրագծի կառուցում | D30: -42199.7
C31: «Մասիս համայնքի Նիզամի, Դաշտավան, Ազատաշեն, Ռանչպար, Գետափնյա բնակավայրերում փողոցային լուսավորության համակարգի կառուցում և նորոգում», «Մասիս համայնքի Մարմարաշեն, Արևաբույր, Այնթապ, Ջրահովիտ, Նոր Խարբերդ բնակավայրերում փողոցային լուսավորության համակարգի կառուցում և նորոգում» և «Մասիս համայնքի Արբաթ, Զորակ, Դաշտավան, Դարակերտ, Նորամարգ, Խաչփար, Այնթապ, Սիս, Դարբնիկ բնակավայրերում փողոցային լուսավորության համակարգի կառուցում և նորոգում» | D31: -423.3
C32: Մասիս համայնքի Հայանիստ և Սայաթ-Նովա բնակավայրերում ոռոգման համակարգի կառուցում և նորոգում | D32: -14590.5
C33: ՀՀ Արմավիրի մարզպետի աշխատակազմ | D33: =SUM(D35:D47) -> 143839.2
C34: այդ թվում` ըստ ուղղությունների
C35: Արաքս համայնքի Ջրառատ գյուղի մշակույթի տան հիմնանորոգում և Արաքս բնակավայրի մշակույթի տան 2-րդ հարկի վերանորոգում /Արաքս/ | D35: 26713.4
C36: Արաքս համայնքի Արաքս և Մեծամոր բնակավայրերը սնուցող գազատար խողովակի կառուցման, Արաքս բնակավայրի Դեմիրճյան և Դրոյի փողոցների, Մեծամոր բնակավայրի Սարյան և Աբովյան փողոցների գազաֆիկացում | D36: 101735.9
C37: Խոյ համայնքի Դաշտ գյուղի մշակույթի տան տանիքի հիմնանորոգում, Արագած գյուղի մշակույթի տան 2-րդ և 3-րդ հարկերի վերանորոգում և ջեռուցում/Արագած գյուղի մշակույթի տան 2-րդ և 3-րդ հարկերի վերանորոգում և ջեռուցում/ | D37: 20355.1
C38: Մեծամոր համայնքի Ալաշկերտ, Ամասիա, Արգավանդ, Արևիկ, Բամբակաշատ, Գետաշեն, Հայկավան, Նալբանդյան, Նոր Արմավիր, Նոր Արտագերս, Նոր Կեսարիա, Շենավան, Ջանֆիդա, Ջրաշեն, Վարդանաշեն, Փշատավան, Տարոնիկ և Մրգաշատ բնակավայրերի խմելու ջրամատակարարման ցանցերի կառուցում/Նոր Արմավիր բնակավայրի խմելու ջրամատակարարման ցանցի կառուցում/ | D38: 25468.7
C39: Մեծամոր համայնքի Նորապատ բնակավայրի 2-րդ և 9-րդ փողոցների կոյուղու կառուցում, Նորապատ բնակավայրի 2-րդ, 9-րդ փողոցների և 9-րդ փողոցի 1-ին նրբանցքի ջրագծերի փոխարինում | D39: 16600.7
C40: Մեծամոր համայնքի Մեծամոր քաղաքի թիվ 3, Տանձուտ և Տարոնիկ բնակավայրերի մանկապարտեզների շենքերի հարակից տարածքների բարեկարգում, Ակնալիճ բնակավայրի մանկապարտեզի հիմնանորոգում, Ջանֆիդա գյուղի «Վազգեն Սարգսյանի անվան մանկապարտեզ» ՀՈԱԿ-ի ջեռուցում /Տարոնիկ/ | D40: 27731.1
C41: Խոյ համայնքի Այգեշատ, Ամբերդ, Ծիածան, Ծաղկունք, Արագած, Դողս, Հովտամեջ բնակավայրերի ներտնտեսային ոռոգման ջրագծերի վերակառուցում | D41: 18669.9
C42: ք.Մեծամորի թիվ 2 մանկապարտեզի հիմնանորոգման և հարակից տարածքի բարեկարգման աշխատանքներ | D42: -87564.6
C43: Տանձուտ բնակավայրի մանկապարտեզի հիմնանորոգման աշխատանքներ | D43: -2258.5
C44: Դալարիկ բնակավայրի մանկապարտեզի ջեռուցման համակարգի կառուցում | D44: -104.6
C45: Քարակերտ բնակավայրի Թումանյան հասցեում գտնվող թիվ 2 մանկապարտեզի ջեռուցման համակարգի կառուցում | D45: -261.8
C46: Ամասիա բնակավայրի խմելու ջրամատակարարման ցանցի կառուցում | D46: -1301.6
C47: Արմավիր քաղաքի Հանրապետության փողոցի մայթերի բարեկարգում և կանաչապատ տարածքների ոռոգման համակարգի կառուցում | D47: -1944.5
C48: ՀՀ Գեղարքունիքի մարզպետի աշխատակազմ | D48: =D50+D51+D52+D53+D54+D55+D56+D57+D58+D59+D60 -> 406288.1
C49: այդ թվում` ըստ ուղղությունների
C50: Սևան համայնքի Զովաբեր, Գագարին, Գեղամավան, Չկալովկա, Նորաշեն, Ծովագյուղ, Ծաղկունք և Դդմաշեն բնակավայրերի փողոցների հիմնանորոգում,/1-ին փուլ, 2023 թվական 1-ին փուլ՝ Ծովագյուղ, Ծաղկունք և Դդմաշեն բնակավայրերի փողոցների հիմնանորոգում, 2024 թվական 2-րդ փուլ՝ Զովաբեր, Գագարին, Գեղամավան, Չկալովկա և Նորաշեն բնակավայրերի փողոցների հիմնանորոգում/Սևան քաղաքի Խորհուրդների, Սունդուկյան, Մարզպետունի փող․, Գագարին գյուղի Բաղրամյան և Կոմիտաս փող./ /Գագարին, Զովաբեր, Գեղամավան, Չկալովկա, Նորաշեն / | D50: 132732
C51: Վարդենիս համայնքի Ախպրաձոր, Ակունք, Արփունք, Լուսակունք, Խաչաղբյուր, Մաքենիս, Շատջրեք, Տրետուք, Մեծ Մասրիկ, Նորաբակ բնակավայրերում ոռոգման ջրի գրագծերի կառուցում կամ վերակառուցում /Նորաբակ, Փոքր Մասրիկ / | D51: 111456.2
C52: Մարտունի համայնքի «Արծվանիստ, Ծովինար, Վարդենիկ, Զոլաքար, Աստղաձոր, Վաղաշեն, Գեղհովիտ, Լեռնակերտ, Ն․ Գետաշեն, Վ․ Գետաշեն, Մադինա, Լիճք, Ծովասար, Ձորագյուղ, Վարդաձոր և Երանոս բնակավայրերում ոռոգման ջրատարների և Վարդենիկ, Աստղաձոր բնակավայրերում խորքային հորերի կառուցում» /Արծվանիստ, Վարդենիկ, Զոլաքար, Վաղաշեն, Երանոս և Վարդաձոր բնակավայրի ջրատար/ | D52: 206387
C53: Ճամբարակ համայնքի թիվ 5 մանկապարտեզի 1-ին հարկի և ցանկապատի վերանորոգման ու 3-րդ մանկապարտեզի մասնաշենքի հիմնանորոգման աշխատանքներ /թիվ 3 մանկապարտեզ/ | D53: 69093.2
C54: Վարդենիս խոշորացված համայնքի Ավազան, Արփունք, Արեգունի, Գեղամասար, Սոթք, Կուտական, Նորակերտ, Տրետուք, Փամբակ, Փոքր Մասրիկ, Կարճաղբյուր և Լուսակունք բնակավայրերի խմելու ջրի ջրագծերի, կապտաժների և ՕԿՋ-ների կառուցում | D54: -368.3
C55: Գավառ համայնքի Հայրավանք և Բերդկունք գյուղերի համար նոր մանկապարտեզի շենքի կառուցման աշխատանքներ | D55: -3180.1
C56: Ճամբարակ համայնքի Այգուտ բնակավայրի արտաքին ջրագծի վերակառուցման աշխատանքներ | D56: -737.2
C57: Ճամբարակ համայնքի Դպրաբակ, Այգուտ, Գետիկ, Մարտունի, Կալավան, Բարեպատ բնակավայրերի և Վերին Ճամբարակ թաղամասի Կոմիտաս փողոցի, Շողակաթ համայնքի 6 բնակավայրերի փողոցների, Դրախտիկ Շողակաթ խաչմերուկի ու Ճամբարակ քաղաքի Թումանյան փողոցի լուսավորության ցանցերի կառուցման աշխատանքներ | D57: -2919
C58: Ճամբարակ համայնքի Շողակաթ բնակավայրում խելացի ոռոգման համակարգի կառուցում | D58: -16219
C59: Վարդենիս համայնքի Բանդեր թաղամասի կոյուղագծի և դրենաժային համակարգի կառուցում | D59: -38448.3
C60: Մարտունի նամայնքի Գեղհովիտ բնակավայրում ասֆալտապատման աշխատանքների իրականացում | D60: -51508.4
C61: ՀՀ Լոռու մարզպետի աշխատակազմ | D61: =SUM(D63:D71) -> 515020.9
C62: այդ թվում` ըստ ուղղությունների
C63: Վանաձոր համայնքի Վանաձոր բն․ թիվ8 տնակային մանկապարտեզի շենքի կառուցում/2-րդ փուլ/ | D63: 214689.4
C64: Ախթալա համայնքի Նեղոց գյուղի և Ախթալա քաղաքի կենտրոնական խաղահրապարակների, Ճոճկան գյուղում Հայրենական Մեծ պատերազմի զոհերի հուշարձանի տարածքի վերակառուցում | D64: 14688.8
C65: Մեծավան համայնքի Մեծավան բն․ զբոսայգու բարեկարգում, կանաչապատում, մանկական խաղահրապարակի ստեղծում | D65: 5867.5
C66: Գյուլագարակ համայնքի Գարգառ բն․ ՕԿՋ-ի և ներքին ցանցի կառուցում | D66: 167557
C67: Ալավերդի համայնքի համայնքապատկան շենքերի՝ Ճոճկան բն․ վարչական նստավայրի շենքի տանիքի, Ալավերդի բն․ մշակույթի տան /նախկին ՄՍԿ/, Շամլուղ բն վարչական նստավայրի և Ճոճկան բն․ «Բժշկական ամբուլատորիա» ՀՈԱԿ-ի շենքերի հիմնանորոգում /Ճոճկան բն․ «Բժշկական ամբուլատորիա» ՀՈԱԿ/ | D67: 9788.2
C68: Ալավերդի համայնքի ճանապարհների կապիտալ վերանորոգում ասֆալտապատմամբ /Օձուն, Հագվի/ | D68: 36660.2
C69: Սպիտակ համայնքի Սպիտակ բնակավայրի ԲԲՇ-ների բակային տարածքների ասֆալտապատում և Ս. Ավետիսյան փողոցի ջրահեռացման համակարգի կառուցում, Լուսաղբյուր բնակավայրի ճանապարհների ասֆալտապատում և սելավատարների գաբիոնով կառուցում, Արևաշող բնակավայրի կենտրոնական ճանապարհի հիմնանորոգում (2-րդ փուլ), Կաթնաջուր բնակավայրի հրապարակի հարակից տարածքի բարեկարգում և հենապատի կառուցում /Լուսաղբյուր/ | D69: 8276.9
C70: Սպիտակ համայնքի Սպիտակ բն․ նոր ավտոկայանատեղիի կառուցում և Մեծ Պարնի բն․ մշակույթի տան ներքին հարդարում, Քարաձոր բն․ ժամանցի կենտրոնին կից խոհանոցի կառուցում /Մեծ Պարնի/ | D70: 31081.9
C71: Լերմոնտովո համայնքի Անտառաշեն բնակավայրի գազիֆիկացում | D71: 26411
C72: ՀՀ Կոտայքի մարզպետի աշխատակազմ | D72: =D74+D75+D76+D77+D78+D79 -> 23525.4
C73: այդ թվում` ըստ ուղղությունների
C74: Ծաղկաձոր համայնքի Մհեր Մկրտչյան և Չարենցի փողոցների հենապատերի վերակառուցման աշխատանքներ | D74: 37193.4
C75: Հրազդան համայնքի տարածքում մայթերի նոր եզրաքարերի կառուցման աշխատանքներ | D75: 34696.2
C76: Արզնի համայնքի ոռոգման համակարգի կառուցում և փոխարինում | D76: -47189.9
C77: Նոր Հաճն համայնքի Նոր Գեղի բնակավայրի Ֆուտբոլային դաշտի վերակառուցում և սպորտային կենտրոնի կառուցում /Նոր Գեղի բնակավայրի Ֆուտբոլային դաշտի վերակառուցում | D77: -233.8
C78: Նոր Հաճն համայնքի Չարենցի և Շահումյան փողոցների հիմնանորոգում | D78: -60.8
C79: Գառնի համայնքի խմելու ջրի խողովակների անցկացում | D79: -879.7
C80: ՀՀ Շիրակի մարզպետի աշխատակազմ | D80: =SUM(D82:D94) -> 182220.4
C81: այդ թվում` ըստ ուղղությունների
C82: Գյումրի համայնքի թվով 10 մանկապարտեզների վերանորոգում /Փարոս, Ձյունիկ, Լապտերիկ, Անի պարտեզ, Կարմիր գլխարկ, Հենզել-Գրետել, Երազանք, Արձագանք և Հուսո Առագաստ մանկապարտեզներ/ | D82: 57299.4
C83: Ախուրյան համայնքի Հովիտ, Բասեն և Երազգավորս բնակավայրերի ոռոգման ցանցերի հիմնանորոգման աշխատանքներ /Հովիտ/ | D83: 29632.4
C84: Աշոցք համայնքի Թավշուտ բնակավայրում ոռոգման համակարգի կառուցման աշխատանքներ | D84: 53499.8
C85: Ամասիա համայնքի Ամասիա բնակավայրի Հայասա թաղամասի, Բերդաշեն բնակավայրի խմելու ջրագծի վերանորոգման և վերակառուցման աշխատանքներ /Բերդաշեն/ | D85: 30440.1
C86: Աշոցք համայնքի Բավրա, Զույգաղբյուր, Ղազանչի և Կարմրավան բնակավայրերի բնական գազի ներքին ցանցի կառուցում | D86: 34095.1
C87: Երազգավորս բնակավայրերի որոգման ցանցերի հիմնանորոգման աշխատանքներ | D87: -347.3
C88: Բենիամին բնակավայրի ներբնակավայրային ճանապարհի ասֆալտապատման աշխատանքներ | D88: -13100.6
C89: Գյումրի համայնքի թվով 5 փողոցների հիմնանորոգում (Թելման, Նիզամի, Ավետիսյան, Ալավերդյան և Մատրոսով փողոցներ) | D89: -4267.6
C90: Մ7 հանրապետական նշանակության ճանապարհի կմ12+325-ից մինչև Կրաշենի խաչմերուկ | D90: -5
C91: Մուշ-2 թաղամաս, 7-1 բազմաբնակարան շենքի էներգաարդյունավետ արդիականացում | D91: -3412.1
C92: Գոհար մանկապարտեզի վերանորոգում | D92: -1259.5
C93: Արթիկ համայնքի Լեռնակերտ, Գեղանիստ, Հոռոմ և Հայրենյաց բնակավայրերի գազատարի ներքին ցանցի կառուցում | D93: -120.6
C94: Արթիկ, Արևշատ, Նահապետավան ճանապարհների տուֆ քարով սալապատում | D94: -233.7
C95: ՀՀ Սյունիքի մարզպետի աշխատակազմ | D95: =SUM(D97:D102) -> 696430.4
C96: այդ թվում` ըստ ուղղությունների
C97: Տեղ համայնքի Տեղ բնակավայրի ոռոգման ներտնտեսային ցանցի կառուցում | D97: 202543.5
C98: Կապան համայնքի «Դավիթ Բեկ բնակավայրի ջրամատակարարում, Սրաշեն բնակավայրի խմելու ջրամատակարարման ապահովում և Կաղնուտ բնակավայրի խմելու ջրամատակարարման ապահովում», /Դավիթ Բեկ բնակավայրի ջրամատակարարում/ | D98: 30476.3
C99: Կապան համայնքի «Կապանի թիվ 2 ՆՈՒՀ» ՀՈԱԿ-ի շենքի հիմնանորոգում և տարածքի բարեկարգում, «Արծվանիկ»ՆՈՒՀ ՀՈԱԿ-ի հարևանությամբ տարածքի բարեկարգում /Կապանի թիվ 2 ՆՈՒՀ/ | D99: 198007
C100: Կապան համայնքի «Կապանի համայնքապետարանի մասնաշենքի ուժեղացում, վերակառուցում և նոր մասնաշենքի կառուցում»: | D100: 193706.1
C101: Կապան համայնքի Սզնակ բնակվայրի ջրամատակարարման համակարգի բարելավում | D101: 74433.7
...

Sheet հ5․
G1: Հավելված N 5
G2: ՀՀ կառավարության 2024 թվականի
G3: ______________ ի ___Ն որոշման
B5: «ՀԱՅԱUՏԱՆԻ ՀԱՆՐԱՊԵՏՈՒԹՅԱՆ 2024 ԹՎԱԿԱՆԻ ՊԵՏԱԿԱՆ ԲՅՈՒՋԵԻ ՄԱUԻՆ» OՐԵՆՔԻ N 1 ՀԱՎԵԼՎԱԾԻ N 4 ԱՂՅՈՒՍԱԿՈՒՄ ԵՎ ՀԱՅԱՍՏԱՆԻ ՀԱՆՐԱՊԵՏՈՒԹՅԱՆ ԿԱՌԱՎԱՐՈՒԹՅԱՆ 2023 ԹՎԱԿԱՆԻ ԴԵԿՏԵՄԲԵՐԻ 28-Ի N 2323-Ն ՈՐՈՇՄԱՆ N 5 ՀԱՎԵԼՎԱԾԻ N 3 ԱՂՅՈՒՍԱԿՈՒՄ ԿԱՏԱՐՎՈՂ ՓՈՓՈԽՈՒԹՅՈՒՆՆԵՐԸ
G6: հազար դրամով
B7: Ծրագրային դասիչը | D7: Բյուջետային գլխավոր կարգադրիչների, ծրագրերի և միջոցառումների անվանումները | E7: Ցուցանիշների փոփոխությունը (նվազեցումները նշված են փակագծերում)
E8: Տարի
E9: Ընդամենը | F9: այդ թվում`
B10: Ծրագիր | C10: Միջոցառում | F10: Վարկային միջոցներ | G10: Համաֆինան սավորում
D11: ԸՆԴԱՄԵՆԸ | E11: =E13+E14 -> -239900 | F11: =F13 -> 0 | G11: =G13+G14 -> -239900
D12: այդ թվում`
D13: ՈՉ ՖԻՆԱՆՍԱԿԱՆ ԱԿՏԻՎՆԵՐԻ ԳԾՈՎ ԾԱԽՍԵՐ | E13: =F13+G13 -> -162000 | F13: =F15 -> 0 | G13: =G36 -> -162000
D14: ԸՆԹԱՑԻԿ ԾԱԽՍԵՐ | E14: =F14+G14 -> -77900 | G14: =G18 -> -77900
D15: ՀՀ ՏԱՐԱԾՔԱՅԻՆ ԿԱՌԱՎԱՐՄԱՆ ԵՎ ԵՆԹԱԿԱՌՈՒՑՎԱԾՔՆԵՐԻ ՆԱԽԱՐԱՐՈՒԹՅՈՒՆ | E15: =F15+G15 -> -239900 | F15: =F29 -> 0 | G15: =G29+G18 -> -239900
B16: 1004 | D16: Ջրամատակարարաման և ջրահեռացման բարելավում | E16: =+F16+G16 -> -77900 | F16: =F18 -> 0 | G16: =G18 -> -77900
D17: այդ թվում`
C18: 11010 | D18: Գերմանիայի զարգացման վարկերի բանկի աջակցությամբ իրականացվող Ախուրյան գետի ջրային ռեսուրսների ինտեգրացված կառավարում փուլ 1 ծրագրով Ջրաձոր գյուղի վերաբնակեցման գործողությունների խորհրդատվություն և կառավարում | E18: =F18+G18 -> -77900 | F18: =F20 -> 0 | G18: =G20 -> -77900
D19: այդ թվում` ըստ կատարողների
D20: ՀՀ տարածքային կառավարման և ենթակառուցվածքների նախարարության ջրային կոմիտե | E20: =F20+G20 -> -77900 | F20: =F22 -> 0 | G20: =G22 -> -77900
D21: այդ թվում` բյուջետային ծախսերի տնտեսագիտական դասակարգման հոդվածներ
D22: ԸՆԴԱՄԵՆԸ ԾԱԽՍԵՐ | E22: =F22+G22 -> -77900 | F22: =+F23 -> 0 | G22: =+G23 -> -77900
D23: ԸՆԹԱՑԻԿ ԾԱԽՍԵՐ | E23: =F23+G23 -> -77900 | F23: =+F27 -> 0 | G23: =+G27+G24 -> -77900
D24: ԴՐԱՄԱՇՆՈՐՀՆԵՐ | E24: =F24+G24 -> -20000 | F24: =+F25 -> 0 | G24: =+G25 -> -20000
D25: Ընթացիկ դրամաշնորհներ պետական հատվածի այլ մակարդակներին | E25: =F25+G25 -> -20000 | F25: =F26 -> 0 | G25: =+G26 -> -20000
D26: - Այլ ընթացիկ դրամաշնորհներ | E26: =+F26+G26 -> -20000 | F26: =F27 -> 0 | G26: -20000
D27: ԱՅԼ ԾԱԽՍԵՐ | E27: =F27+G27 -> -57900 | F27: =+F28 -> 0 | G27: =+G28 -> -57900
D28: Այլ ծախսեր | E28: =F28+G28 -> -57900 | F28: 0 | G28: -57900
B29: 1049 | D29: Ճանապարհային ցանցի բարելավում | E29: =E31 -> -162000 | F29: =F31 -> 0 | G29: =G31 -> -162000
D30: այդ թվում`
C31: 21012 | D31: Եվրասիական զարգացման բանկի աջակցությամբ իրականացվող Հյուսիս-հարավ միջանցքի զարգացման ծրագիր | E31: =+E33 -> -162000 | F31: =+F33 -> 0 | G31: =+G33 -> -162000
D32: այդ թվում` ըստ կատարողների
D33: ՀՀ տարածքային կառավարման և ենթակառուցվածքների նախարարություն | E33: =+E35 -> -162000 | F33: =+F35 -> 0 | G33: =+G35 -> -162000
D34: այդ թվում` բյուջետային ծախսերի տնտեսագիտական դասակարգման հոդվածներ
D35: ԸՆԴԱՄԵՆԸ ԾԱԽՍԵՐ | E35: =+E36 -> -162000 | F35: =+F36 -> 0 | G35: =+G36 -> -162000
D36: ՈՉ ՖԻՆԱՆՍԱԿԱՆ ԱԿՏԻՎՆԵՐԻ ԳԾՈՎ ԾԱԽՍԵՐ | E36: =+E37 -> -162000 | F36: =+F37 -> 0 | G36: =+G37 -> -162000
D37: ՀԻՄՆԱԿԱՆ ՄԻՋՈՑՆԵՐ | E37: =+E38 -> -162000 | F37: =+F38 -> 0 | G37: =+G38 -> -162000
D38: ԱՅԼ ՀԻՄՆԱԿԱՆ ՄԻՋՈՑՆԵՐ | E38: =+E39 -> -162000 | F38: =+F39 -> 0 | G38: =+G39 -> -162000
D39: - Նախագծահետազոտական ծախսեր | E39: =+F39+G39 -> -162000 | F39: 0 | G39: -162000

Sheet h6
A1: Հավելված 6
A2: ՀՀ կառավարության 2024 թվականի
A3: -----------------ի N -----------Ն որոշման
A5: «ՀԱՅԱՍՏԱՆԻ ՀԱՆՐԱՊԵՏՈՒԹՅԱՆ 2024 ԹՎԱԿԱՆԻ ՊԵՏԱԿԱՆ ԲՅՈՒՋԵԻ ՄԱՍԻՆ» ՀԱՅԱՍՏԱՆԻ ՀԱՆՐԱՊԵՏՈՒԹՅԱՆ ՕՐԵՆՔԻ N 1 ՀԱՎԵԼՎԱԾԻ N 5 ԱՂՅՈՒՍԱԿՈՒՄ ԵՎ ՀԱՅԱՍՏԱՆԻ ՀԱՆՐԱՊԵՏՈՒԹՅԱՆ ԿԱՌԱՎԱՐՈՒԹՅԱՆ 2023 ԹՎԱԿԱՆԻ ԴԵԿՏԵՄԲԵՐԻ 28-Ի N 2323-Ն ՈՐՈՇՄԱՆ N 5 ՀԱՎԵԼՎԱԾԻ N 4 ԱՂՅՈՒՍԱԿՈՒՄ ԿԱՏԱՐՎՈՂ ՓՈՓՈԽՈՒԹՅՈՒՆԸ
F7: (հազ. դրամ)
A8: Ծրագրային դասիչը | C8: Բյուջետային հատկացումների գլխավոր կարգադրիչների, ծրագրերի, միջոցառումների և միջոցառումները կատարող պետական մարմինների անվանումները | D8: Ցուցանիշների փոփոխությունը (նվազեցումները նշված են փակագծերում)
D9: Տարի
A10: Ծրագիր | B10: Միջոցառում | D10: Ընդամենը | E10: այդ թվում՝
E11: Դրամաշնորհային միջոցներ | F11: համաֆինանսավորում
C12: ԸՆԴԱՄԵՆԸ | D12: =D14 -> 0 | E12: =E14 -> 0 | F12: =F14 -> 0
C13: այդ թվում`
C14: ՈՉ ՖԻՆԱՆՍԱԿԱՆ ԱԿՏԻՎՆԵՐԻ ԳԾՈՎ ԾԱԽՍԵՐ | D14: =D15 -> 0 | E14: =E15 -> 0 | F14: =F15 -> 0
C15: ՀՀ տարածքային կառավարման և ենթակառուցվածքների նախարարություն | D15: =D16 -> 0 | E15: =E16 -> 0 | F15: =F16 -> 0
A16: 1040 | C16: Կոշտ թափոնների կառավարում | D16: =D18 -> 0 | E16: =E18 -> 0 | F16: =F18 -> 0
C17: այդ թվում`
B18: 32004 | C18: Վերակառուցման և զարգացման եվրոպական բանկի աջակցությամբ իրականացվող «Կոտայքի և Գեղարքունիքի մարզի կոշտ թափոնների կառավարման» դրամաշնորհային ծրագիր | D18: =E18+F18 -> 0 | E18: =E20 -> 0 | F18: =F20 -> 0
C19: այդ թվում` ըստ կատարողների
C20: ՀՀ տարածքային կառավարման և ենթակառուցվածքների նախարարություն | D20: =E20+F20 -> 0 | E20: =E22 -> 0 | F20: =F22 -> 0
C21: այդ թվում` բյուջետային ծախսերի տնտեսագիտական դասակարգման հոդվածներ
C22: ԸՆԴԱՄԵՆԸ ԾԱԽՍԵՐ | D22: =E22+F22 -> 0 | E22: =E23 -> 0 | F22: =F23 -> 0
C23: ՈՉ ՖԻՆԱՆՍԱԿԱՆ ԱԿՏԻՎՆԵՐԻ ԳԾՈՎ ԾԱԽՍԵՐ | D23: =E23+F23 -> 0 | E23: =E24 -> 0 | F23: =F24 -> 0
C24: ՀԻՄՆԱԿԱՆ ՄԻՋՈՑՆԵՐ | D24: =E24+F24 -> 0 | E24: =E27 -> 0 | F24: =F27+F25 -> 0
C25: ՇԵՆՔԵՐ ԵՎ ՇԻՆՈՒԹՅՈՒՆՆԵՐ | D25: =+E25+F25 -> 112000 | E25: =+E26 -> 0 | F25: =+F26 -> 112000
C26: - Շենքերի և շինությունների շինարարություն | D26: =+E26+F26 -> 112000 | E26: 0 | F26: =-F27 -> 112000
C27: ՄԵՔԵՆԱՆԵՐ ԵՎ ՍԱՐՔԱՎՈՐՈՒՄՆԵՐ | D27: =E27+F27 -> -112000 | E27: =E28 -> 0 | F27: =F28 -> -112000
C28: - Այլ մեքենաներ և սարքավորումներ | D28: =E28+F28 -> -112000 | E28: 0 | F28: -112000
C34: ՀԱՅԱՍՏԱՆԻ ՀԱՆՐԱՊԵՏՈՒԹՅԱՆ ՎԱՐՉԱՊԵՏԻ ԱՇԽԱՏԱԿԱԶՄԻ ՂԵԿԱՎԱՐ | D34: Ա. ՀԱՐՈՒԹՅՈՒՆՅԱՆ

Sheet h7
E1: Հավելված 7
E2: ՀՀ կառավարության 2024 թվականի
E3: ______________ ի ___Ն որոշման
A5: ՀԱՅԱՍՏԱՆԻ ՀԱՆՐԱՊԵՏՈՒԹՅԱՆ ԿԱՌԱՎԱՐՈՒԹՅԱՆ 2023 ԹՎԱԿԱՆԻ ԴԵԿՏԵՄԲԵՐԻ 28-Ի N 2323-Ն ՈՐՈՇՄԱՆ N 5 ՀԱՎԵԼՎԱԾԻ N 2 ԱՂՅՈՒՍԱԿՈՒՄ ԿԱՏԱՐՎՈՂ ՓՈՓՈԽՈՒԹՅՈՒՆՆԵՐԸ
E7: հազ․ դրամ
B8: Ծրագրային դասիչը | D8: Հատկացումների տրամադրման նպատակները և բյուջետային գլխավոր կարգադրիչների, ծրագրերի, միջոցառումների և կատարող պետական մարմնի անվանումները | E8: Ցուցանիշների փոփոխությունը (նվազեցումները նշված են փակագծերում)
B9: Ծրագիր | C9: Միջոցառում | E9: Տարի
D10: ԸՆԴԱՄԵՆԸ | E10: =+E12 -> -1945233.4
D11: այդ թվում՝
D12: ՀՀ ՏԱՐԱԾՔԱՅԻՆ ԿԱՌԱՎԱՐՄԱՆ ԵՎ ԵՆԹԱԿԱՌՈՒՑՎԱԾՔՆԵՐԻ ՆԱԽԱՐԱՐՈՒԹՅՈՒՆ | E12: =E14+E29 -> -1945233.4
D13: այդ թվում`
B14: 1049 | C14: 21001 | D14: Պետական նշանակության ավտոճանապարհների հիմնանորոգում | E14: =E16 -> -1494091.3
D15: այդ թվում` ըստ կատարողների
D16: ՀՀ տարածքային կառավարման և ենթակառուցվածքների նախարարություն | E16: =E18+E21+E24 -> -1494091.3
D17: այդ թվում՝ ըստ ուղղությունների
C18: 1 | D18: =[2]Հ2!C16 -> Միջպետական նշանակության ավտոճանապարհներ, այդ թվում | E18: =SUM(E19:E20) -> -5282.2
D19: =[2]Հ2!C17 -> Մ-2, (Սյունիք) /Մ-2/ - Աղվանի- Տաթև - /Մ-2/ միջպետական նշանակության ավտոճանապարհի Վերին Խոտանանը շրջանցող ճանապարհահատվածի կառուցում (II փուլ) | E19: ='h3'!F17 -> -3150
D20: =[2]Հ2!C18 -> Մ-12, /Մ-2/ (Գորիս) – ՀՀ սահման միջպետական նշանակության ավտոճանապարհի կմ0+000 - կմ4+000 հատվածի հիմնանորոգում | E20: =[2]Հ2!D18 -> -2132.2
C21: 2 | D21: =[2]Հ2!C19 -> Հանրապետական նշանակության ավտոճանապարհներ, այդ թվում | E21: =SUM(E22:E23) -> -98488.5
D22: =[2]Հ2!C20 -> Հ-1, Վ. Պտղնու տրանսպորտային հանգույց - Ջրաբեր-Հրազդան -Հրազդանի քրեակատարողական հիմնարկ հանրապետական նշանակության ավտոճանապարհի կմ33+500 - կմ37+700 հատվածի հիմնանորոգում | E22: =[2]Հ2!D20 -> -58517.4
D23: =[2]Հ2!C21 -> Կիրանց գյուղի հատվածում Հ-58 հանրապետական նշանակության ավտոմոբիլային ճանապարհի շրջանցիկ հատվածի կառուցում | E23: =[2]Հ2!D21 -> -39971.1
C24: 3 | D24: Մարզային նշանակության ավտոճանապարհներ, այդ թվում | E24: =SUM(E25:E28) -> -1390320.6
D25: =[2]Հ2!C23 -> Տ-6-29, Երևան (Բագրևանդի փող.) – Ձորաղբյուր (Տ-6-42) ավտոճանապարհի կմ0+000-կմ5+200 հատվածի հիմնանորոգում | E25: =[2]Հ2!D23 -> -6884.3
D26: Տ-8-56, /Մ-2/ - Հարժիս ավտոճանապարհի կմ0+000 - կմ8+000 հատվածի հիմնանորոգում | E26: ='h3'!F24 -> -13368.3
D27: =[2]Հ2!C25 -> Տ-10-30, /Մ-16/ - Աճարկուտ - Կիրանց պատմական հուշարձան ավտոճանապարհի 3,5 կմ երկարությամբ հատվածի վերակառուցում | E27: =[2]Հ2!D25 -> -4954.7
D28: =[2]Հ2!C26 -> Որոտան-Խոտ ավտոճանապարհի վերակառուցում | E28: =[2]Հ2!D26 -> -1365113.3
B29: 1049 | C29: 21002 | D29: Տրանսպորտային օբյեկտների հիմնանորոգում | E29: =E31 -> -451142.1
D30: այդ թվում` ըստ կատարողների
D31: ՀՀ տարածքային կառավարման և ենթակառուցվածքների նախարարություն | E31: =SUM(E32:E35) -> -451142.1
D32: այդ թվում՝ ըստ ուղղությունների
D33: Երևան քաղաքի Հրազդանի գետի վրա «Կիևյան» կամուրջի հիմնանորոգում | E33: ='h3'!D29 -> -409099.1
D34: =[2]Հ2!C29 -> Մ-6, Վանաձոր (Մ-3 հատման կետ) – Ալավերդի - ՀՀ սահման միջպետական նշանակության ավտոճանապարհի կմ 51+100-ում գտնող փլուզված հենապատի վերականգում | E34: =[2]Հ2!D29 -> -21637.1
D35: =[2]Հ2!C30 -> Մ-10, Սևան-Մարտունի-Գետափ միջպետական նշանակության ավտոճանապարհի կմ21+500-ում գտնվող փլուզված հողային պաստառի շեպի վերականգնում | E35: =[2]Հ2!D30 -> -20405.9

Sheet h8.
E1: Հավելված N 8
D2: ՀՀ կառավարության 2024 թվականի
E3: N ------------ -Ն որոշման
B5: ՀԱՅԱՍՏԱՆԻ ՀԱՆՐԱՊԵՏՈՒԹՅԱՆ ԿԱՌԱՎԱՐՈՒԹՅԱՆ 2023 ԹՎԱԿԱՆԻ ԴԵԿՏԵՄԲԵՐԻ 28-Ի N 2323-Ն ՈՐՈՇՄԱՆ N 5 ՀԱՎԵԼՎԱԾԻ N5 ԱՂՅՈՒՍԱԿՈՒՄ ԿԱՏԱՐՎՈՂ ՓՈՓՈԽՈՒԹՅՈՒՆԸ
B7: Ծրագրային դասիչը | D7: Բյուջետային ծրագրերի, միջոցառումների և աշխատանքների անվանումները | E7: Ցուցանիշների փոփոխությունը (նվազեցումները նշված են փակագծերում)
B8: Ծրագիր | C8: Միջոցառում | E8: Տարի
B9: 1049 | D9: Ճանապարհային ցանցի բարելավում | E9: =E10 -> -135500
C10: 11001 | D10: Միջպետական և հանրապետական նշանակության ավտոճանապարհների պահպանման և անվտանգ երթևեկության ծառայություններ¸ այդ թվում՝ | E10: =+E11+E14 -> -135500
D11: 1. Ավտոճանապարհների ձմեռային և ընթացիկ պահպանում, այդ թվում` | E11: =+E12+E13 -> -135500
D12: 1.1 Միջպետական և հանրապետական նշանակության ավտոճանապարհների ձմեռային և ընթացիկ պահպանում | E12: ='h2'!G166 -> -135500
B17: ՀԱՅԱՍՏԱՆԻ ՀԱՆՐԱՊԵՏՈՒԹՅԱՆ
B18: ՎԱՐՉԱՊԵՏԻ ԱՇԽԱՏԱԿԱԶՄԻ ՂԵԿԱՎԱՐ
D19: Ա. ՀԱՐՈՒԹՅՈՒՆՅԱՆ

Sheet h9
D1: Հավելված N 9
C2: ՀՀ կառավարության 2024 թվականի
C3: ______________ ի ___Ն որոշման
A5: ՀԱՅԱՍՏԱՆԻ ՀԱՆՐԱՊԵՏՈՒԹՅԱՆ ԿԱՌԱՎԱՐՈՒԹՅԱՆ 2023 ԹՎԱԿԱՆԻ ԴԵԿՏԵՄԲԵՐԻ 28-Ի N 2323-Ն ՈՐՈՇՄԱՆ N 8 ՀԱՎԵԼՎԱԾՈՒՄ ԿԱՏԱՐՎՈՂ ՓՈՓՈԽՈՒԹՅՈՒՆՆԵՐԸ
D8: (հազ. դրամ)
A9: Ծրագրային դասիչը | C9: Բյուջետային հատակացումների գլխավոր կարգադրիչներ, ծրագրերի, միջոցառումների անվանումները | D9: Ցուցանիշների փոփոխությունը (նվազեցումները նշված են փակագծերում)
A10: Ծրագիր | B10: Միջոցառում
C11: ԸՆԴԱՄԵՆԸ | D11: =+D14+D13 -> -540397.8
A12: 1049 | C12: Ճանապարհային ցանցի բարելավում | D12: =+D13 -> -409099.1
B13: 21002 | C13: Տրանսպորտային օբյեկտների հիմնանորոգում | D13: -409099.1
A14: 1157 | C14: Քաղաքային զարգացում | D14: =SUM(D15:D15) -> -131298.7
B15: 12006 | C15: Եվրոպական ներդրումային բանկի աջակցությամբ իրականացվող Երևանի էներգաարդյունավետության ծրագրին պետական աջակցություն | D15: ='h1'!D68 -> -131298.7
A20: ՀԱՅԱՍՏԱՆԻ ՀԱՆՐԱՊԵՏՈՒԹՅԱՆ
A21: ՎԱՐՉԱՊԵՏԻ ԱՇԽԱՏԱԿԱԶՄԻ ՂԵԿԱՎԱՐ | C21: Ա. ՀԱՐՈՒԹՅՈՒՆՅԱՆ

Sheet h10
C1: Հավելված N 10
C2: ՀՀ կառավարության 2024 թվականի
C3: N ------------ -Ն որոշման
A5: ՀԱՅԱՍՏԱՆԻ ՀԱՆՐԱՊԵՏՈՒԹՅԱՆ ԿԱՌԱՎԱՐՈՒԹՅԱՆ 2023 ԹՎԱԿԱՆԻ ԴԵԿՏԵՄԲԵՐԻ 28-Ի N 2323-Ն ՈՐՈՇՄԱՆ N 9 ՀԱՎԵԼՎԱԾԻ N 9.7 ԵՎ 9․48 ԱՂՅՈՒՍԱԿՈՒՄ ԿԱՏԱՐՎՈՂ ՓՈՓՈԽՈՒԹՅՈՒՆՆԵՐԸ ԵՎ ԼՐԱՑՈՒՄՆԵՐԸ
C6: Աղյուսակ 9.7
A8: ՀՀ ՏԱՐԱԾՔԱՅԻՆ ԿԱՌԱՎԱՐՄԱՆ ԵՎ ԵՆԹԱԿԱՌՈՒՑՎԱԾՔՆԵՐԻ ՆԱԽԱՐԱՐՈՒԹՅՈՒՆ
A9: ՄԱՍ 2. ՊԵՏԱԿԱՆ ՄԱՐՄՆԻ ԳԾՈՎ ԱՐԴՅՈՒՆՔԱՅԻՆ (ԿԱՏԱՐՈՂԱԿԱՆ) ՑՈՒՑԱՆԻՇՆԵՐԸ
A12: Ծրագրի դասիչը | B12: Ծրագրի անվանումը
A13: 1049 | B13: Ճանապարհային ցանցի բարելավում
A15: Ծրագրի միջոցառումները
A16: Ծրագրի դասիչը` | B16: 1049 | C16: Ցուցանիշների փոփոխությունը ( նվազեցումները նշված են փակագծերում)
A17: Միջոցառման դասիչը` | B17: 11001 | C17: Տարի
A18: Միջոցառման անվանումը` | B18: Միջպետական և հանրապետական նշանակության ավտոճանապարհների պահպանման և անվտանգ երթևեկության ծառայություններ
A19: Նկարագրությունը` | B19: Հողային պաստառի, երթևեկելի մասի, արհեստական կառույցների և կահավորման տարրերի նորմատիվ մակարդակում պահպանում և շահագործում
A20: Միջոցառման տեսակը` | B20: Ծառայությունների մատուցում
A21: Միջոցառումն իրականացնողի անվանումը | B21: ՀՀ տարածքային կառավարման և ենթակառուցվածքների նախարարություն, մրցութային կարգով ընտրված կազմակերպություններ
A22: Արդյունքի չափորոշիչներ
A23: Միջոցառման վրա կատարվող ծախսը (հազար դրամ) | C23: ='h2'!G166 -> -135500
A26: Ծրագրի դասիչը` | B26: 1049 | C26: Ցուցանիշների փոփոխությունը ( նվազեցումները նշված են փակագծերում)
A27: Միջոցառման դասիչը` | B27: 11002 | C27: Տարի
A28: Միջոցառման անվանումը` | B28: Մարզային նշանակության ավտոճանապարհների պահպանման և անվտանգ երթևեկության ծառայություններ
A29: Նկարագրությունը` | B29: Հողային պաստառի, երթևեկելի մասի, արհեստական կառույցների և կահավորման տարրերի նորմատիվ մակարդակում պահպանում և շահագործում
A30: Միջոցառման տեսակը` | B30: Ծառայությունների մատուցում
A31: Միջոցառումն իրականացնողի անվանումը | B31: Մարզպետարան, մրցութային կարգով ընտրված կազմակերպություններ
A32: Արդյունքի չափորոշիչներ
A33: Միջոցառման վրա կատարվող ծախսը (հազար դրամ) | C33: ='h2'!G175 -> -65565.3
A35: Ծրագրի դասիչը` | B35: 1049 | C35: Ցուցանիշների փոփոխությունը ( նվազեցումները նշված են փակագծերում)
A36: Միջոցառման դասիչը` | B36: 21001 | C36: Տարի
A37: Միջոցառման անվանումը` | B37: Պետական նշանակության ավտոճանապարհների հիմնանորոգում
A38: Նկարագրությունը` | B38: Միջպետական, հանրապետական և մարզային նշանակության ավտոճոնապարհների քայքայված ծածկի վերանորոգում, մաշված ծածկի փոխարինում
A39: Միջոցառման տեսակը` | B39: Հանրության կողմից անմիջականորեն օգտագործվող ակտիվների հետ կապված միջոցառումներ
A40: Միջոցառումն իրականացնողի անվանումը | B40: Մասնագիտացված միավոր
A41: Արդյունքի չափորոշիչներ
A42: Մարզային նշանակության ավտոճանապարհներ,կմ | C42: -3.1
A43: Միջոցառման վրա կատարվող ծախսը (հազար դրամ) | C43: ='h1'!D43 -> -1494091.3
A45: Ծրագրի դասիչը` | B45: 1049 | C45: Ցուցանիշների փոփոխությունը ( նվազեցումները նշված են փակագծերում)
A46: Միջոցառման դասիչը` | B46: 21002 | C46: Տարի
A47: Միջոցառման անվանումը` | B47: Տրանսպորտային օբյեկտների հիմնանորոգում
A48: Նկարագրությունը` | B48: Ավտոմոբիլային ճանապարհների վրա գտնվող կամուրջների հիմնանորոգում
A49: Միջոցառման տեսակը` | B49: Հանրության կողմից անմիջականորեն օգտագործվող ակտիվների հետ կապված միջոցառումներ
A50: Միջոցառումն իրականացնողի անվանումը | B50: Մասնագիտացված միավոր
A51: Արդյունքի չափորոշիչներ
A52: Հիմնանորոգվող տրանսպորտային օբյեկտների թիվը, այդ թվում՜ | C52: -1
A53: Միջոցառման վրա կատարվող ծախսը (հազար դրամ) | C53: ='h2'!G201 -> -451142.1
A55: Ծրագրի դասիչը` | B55: 1049 | C55: Ցուցանիշների փոփոխությունը (նվազեցումները` փակագծերում)
A56: Միջոցառման դասիչը` | B56: 21012 | C56: Տարի
A57: Միջոցառման անվանումը` | B57: Եվրասիական զարգացման բանկի աջակցությամբ իրականացվող Հյուսիս-հարավ միջանցքի զարգացման ծրագիր
A58: Նկարագրությունը` | B58: Ճանապարհաշինական աշխատանքներ
A59: Միջոցառման տեսակը` | B59: Հանրության կողմից անմիջականորեն օգտագործվող ակտիվների հետ կապված միջոցառումներ
A60: Միջոցառումն իրականացնողի անվանումը՛ | B60: Մասնագիտացված միավոր
A61: Արդյունքի չափորոշիչներ
A62: Միջոցառման վրա կատարվող ծախսը (հազար դրամ) | C62: ='հ5․'!G39 -> -162000
A65: Ծրագրի դասիչը | B65: Ծրագրի անվանումը
A66: 1157 | B66: Քաղաքային զարգացում
A68: Ծրագրի միջոցառումները
A69: Ծրագրի դասիչը՝ | B69: 1157 | C69: Ցուցանիշների փոփոխությունը (նվազեցումները նշված են փակագծերում)
A70: Միջոցառման դասիչը՝ | B70: 12006 | C70: Տարի
A71: Միջոցառման անվանումը` | B71: Եվրոպական ներդրումային բանկի աջակցությամբ իրականացվող Երևանի էներգաարդյունավետության ծրագրին պետական աջակցություն
A72: Նկարագրությունը` | B72: Ծրագրի շրջանակներում հանրային շենքերում իրականացվող էներգաարդյունավետության և էներգախնայողության աշխատանքներ
A73: Միջոցառման տեսակը` | B73: Տրանսֆերտների տրամադրում
A74: Միջոցառումն իրականացնողի անվանումը` | B74: Երևան համայնք
A75: Արդյունքի չափորոշիչներ
A76: Միջոցառման վրա կատարվող ծախսը (հազար դրամ) | C76: ='h2'!G130 -> -131298.7
A78: Ծրագրի դասիչը | B78: Ծրագրի անվանումը
A79: 1004 | B79: Ոռոգման համակարգի առողջացում
A81: Ծրագրի դասիչը` | B81: 1004 | C81: Ցուցանիշների փոփոխությունը (նվազեցումները նշված են փակագծերում)
A82: Միջոցառման դասիչը` | B82: 11010 | C82: Տարի
A83: Միջոցառման անվանումը` | B83: Գերմանիայի զարգացման վարկերի բանկի աջակցությամբ իրականացվող Ախուրյան գետի ջրային ռեսուրսների ինտեգրացված կառավարում փուլ 1 ծրագրով Ջրաձոր գյուղի վերաբնակեցման գործողությունների խորհրդատվություն և կառավարում
A84: Նկարագրությունը` | B84: Գերմանիայի զարգացման վարկերի բանկի աջակցությամբ իրականացվող Ախուրյան գետի ջրային ռեսուրսների ինտեգրացված կառավարում փուլ 1 ծրագրով Ջրաձոր գյուղի վերաբնակեցման գործողությունների համակարգում և ղեկավարում
A85: Միջոցառման տեսակը` | B85: Ծառայությունների մատուցում
A86: Ծառայությունը մատուցող կազմակերպության անվանումը | B86: Մասնագիտացված միավոր
A87: Արդյունքի չափորոշիչներ
A88: Միջոցառման վրա կատարվող ծախսը (հազար դրամ) | C88: ='h2'!G147 -> -77900
A91: Ծրագրի դասիչը | B91: Ծրագրի անվանումը
A92: 1212 | B92: Տարածքային զարգացում
A94: Ծրագրի միջոցառումները
A95: Ծրագրի դասիչը` | B95: 1212 | C95: Ցուցանիշների փոփոխությունը (ավելացումները նշված են դրական նշանով)
A96: Միջոցառման դասիչը` | B96: 12007 | C96: Տարի
A97: Միջոցառման անվանումը` | B97: ՀՀ մարզերին սուբվենցիաների տրամադրում` ենթակառուցվածքների զարգացման նպատակով_x000D_
A98: Նկարագրությունը` | B98: ՀՀ մարզերին սուբվենցիաների տրամադրում` ենթակառուցվածքների զարգացման նպատակով
A99: Միջոցառման տեսակը` | B99: Տրանսֆերտների տրամադրում
A100: Շահառուների ընտրության չափանիշները | B100: ՀՀ կառավարության 16. 11.2006 թվականի «ՀՀ պետական բյուջեից համայնքներին սուբվենցիաների տրամադրման կարգը հաստատելու մասին» 1708-Ն որոշում
A101: Արդյունքի չափորոշիչներ
A102: Ծրագրերի քանակ, հատ | C102: ='h11'!C297+'h11'!C266+'h11'!C247+'h11'!C228+'h11'!C209+'h11'!C191+'h11'!C149+'h11'!C130+'h11'!C97 -> 46
A103: Միջոցառման վրա կատարվող ծախսը (հազար դրամ) | C103: ='h2'!G23 -> 2568400
A106: Ծրագրի դասիչը` | B106: 1212 | C106: Ցուցանիշների փոփոխությունը (ավելացումները նշված են դրական նշանով)
A107: Միջոցառման դասիչը` | B107: 12025 | C107: Տարի
A108: Միջոցառման անվանումը` | B108: Մարզերում առաջնահերթ լուծում պահանջող հիմնախնդիրների լուծում
A109: Նկարագրությունը` | B109: Մարզերում առաջնահերթ լուծում պահանջող ծրագրերի իրականացում, որի արդյունքում լուծում կտրվի բնակչության և համայնքների սոցիալական նշանակություն ունեցող հիմնախնդիրներին
A110: Միջոցառման տեսակը` | B110: Տրանսֆերտների տրամադրում
A111: Շահառուների ընտրության չափանիշները | B111: Համայնքներ
A112: Արդյունքի չափորոշիչներ
A113: Միջոցառման վրա կատարվող ծախսը (հազար դրամ) | C113: ='h2'!G102 -> 6065.3
A115: Ծրագրի դասիչը` | B115: 1212 | C115: Ցուցանիշների փոփոխությունը (նվազեցումները նշված են փակագծերում
A116: Միջոցառման դասիչը` | B116: 12027 | C116: Տարի
A117: Միջոցառման անվանումը` | B117: Սուբվենցիաներ՛ մասնակցային բյուջետավորմամբ ձևավորված ծրագրերի իրականացման համար
A118: Նկարագրությունը` | B118: ՀՀ պետական բյուջեից մասնակցային բյուջետավորմամբ ձևավորված ծրագրերի իրականացման նպատակով սուբվենցիաների տրամադրում
A119: Միջոցառման տեսակը` | B119: Տրանսֆերտների տրամադրում
A120: Միջոցառումն իրականացնողի անվանումը | B120: ՀՀ տարածքային կառավարման և ենթակառուցվածքների նախարարություն
A121: Արդյունքի չափորոշիչներ
...

Sheet h11
C1: Հավելված N 11
C2: ՀՀ կառավարության 2024 թվականի
C3: N ------------ -Ն որոշման
A5: ՀԱՅԱՍՏԱՆԻ ՀԱՆՐԱՊԵՏՈՒԹՅԱՆ ԿԱՌԱՎԱՐՈՒԹՅԱՆ 2023 ԹՎԱԿԱՆԻ ԴԵԿՏԵՄԲԵՐԻ 28-Ի N 2323-Ն ՈՐՈՇՄԱՆ N 9.1 ՀԱՎԵԼՎԱԾԻ NN 9․1․7,9.1.25, 9.1.48, 9.1.49, 9.1.50, 9.1.51, 9.1.52, 9.1.53, 9.1.54, 9.1.55, 9.1.56, 9.1.57 ԵՎ 9.1.58 ԱՂՅՈՒՍԱԿՈՒՄ ԿԱՏԱՐՎՈՂ ՓՈՓՈԽՈՒԹՅՈՒՆԸ ԵՎ ԼՐԱՑՈՒՄԸ
C7: Աղյուսակ 9.1․7
A9: ՀՀ ՏԱՐԱԾՔԱՅԻՆ ԿԱՌԱՎԱՐՄԱՆ ԵՎ ԵՆԹԱԿԱՌՈՒՑՎԱԾՔՆԵՐԻ ՆԱԽԱՐԱՐՈՒԹՅՈՒՆ
A10: ՄԱՍ 1. ՊԵՏԱԿԱՆ ՄԱՐՄՆԻ ԳԾՈՎ ԱՐԴՅՈՒՆՔԱՅԻՆ (ԿԱՏԱՐՈՂԱԿԱՆ) ՑՈՒՑԱՆԻՇՆԵՐԸ
A12: Ծրագրի դասիչը | B12: Ծրագրի անվանումը
A13: 1049 | B13: Ճանապարհային ցանցի բարելավում
A15: Ծրագրի միջոցառումները
A16: Ծրագրի դասիչը` | B16: 1049 | C16: Ցուցանիշների փոփոխությունը ( նվազեցումները նշված են փակագծերում)
A17: Միջոցառման դասիչը` | B17: 11001 | C17: Տարի
A18: Միջոցառման անվանումը` | B18: Միջպետական և հանրապետական նշանակության ավտոճանապարհների պահպանման և անվտանգ երթևեկության ծառայություններ
A19: Նկարագրությունը` | B19: Հողային պաստառի, երթևեկելի մասի, արհեստական կառույցների և կահավորման տարրերի նորմատիվ մակարդակում պահպանում և շահագործում
A20: Միջոցառման տեսակը` | B20: Ծառայությունների մատուցում
A21: Միջոցառումն իրականացնողի անվանումը | B21: ՀՀ տարածքային կառավարման և ենթակառուցվածքների նախարարություն, մրցութային կարգով ընտրված կազմակերպություններ
A22: Արդյունքի չափորոշիչներ
A23: Միջոցառման վրա կատարվող ծախսը (հազար դրամ) | C23: ='h2'!G166 -> -135500
A26: Ծրագրի դասիչը` | B26: 1049 | C26: Ցուցանիշների փոփոխությունը ( նվազեցումները նշված են փակագծերում)
A27: Միջոցառման դասիչը` | B27: 21001 | C27: Տարի
A28: Միջոցառման անվանումը` | B28: Պետական նշանակության ավտոճանապարհների հիմնանորոգում
A29: Նկարագրությունը` | B29: Միջպետական, հանրապետական և մարզային նշանակության ավտոճոնապարհների քայքայված ծածկի վերանորոգում, մաշված ծածկի փոխարինում
A30: Միջոցառման տեսակը` | B30: Հանրության կողմից անմիջականորեն օգտագործվող ակտիվների հետ կապված միջոցառումներ
A31: Միջոցառումն իրականացնողի անվանումը | B31: Մասնագիտացված միավոր
A32: Արդյունքի չափորոշիչներ
A33: Մարզային նշանակության ավտոճանապարհներ,կմ | C33: -3.1
A34: Միջոցառման վրա կատարվող ծախսը (հազար դրամ) | C34: ='h2'!G191 -> -1494091.3
A36: Ծրագրի դասիչը` | B36: 1049 | C36: Ցուցանիշների փոփոխությունը ( նվազեցումները նշված են փակագծերում)
A37: Միջոցառման դասիչը` | B37: 21002 | C37: Տարի
A38: Միջոցառման անվանումը` | B38: Տրանսպորտային օբյեկտների հիմնանորոգում
A39: Նկարագրությունը` | B39: Ավտոմոբիլային ճանապարհների վրա գտնվող կամուրջների հիմնանորոգում
A40: Միջոցառման տեսակը` | B40: Հանրության կողմից անմիջականորեն օգտագործվող ակտիվների հետ կապված միջոցառումներ
A41: Միջոցառումն իրականացնողի անվանումը | B41: Մասնագիտացված միավոր
A42: Արդյունքի չափորոշիչներ
A43: Հիմնանորոգվող տրանսպորտային օբյեկտների թիվը, այդ թվում՜ | C43: -1
A44: Միջոցառման վրա կատարվող ծախսը (հազար դրամ) | C44: ='h2'!G201 -> -451142.1
A46: Ծրագրի դասիչը` | B46: 1049 | C46: Ցուցանիշների փոփոխությունը (նվազեցումները` փակագծերում)
A47: Միջոցառման դասիչը` | B47: 21012 | C47: Տարի
A48: Միջոցառման անվանումը` | B48: Եվրասիական զարգացման բանկի աջակցությամբ իրականացվող Հյուսիս-հարավ միջանցքի զարգացման ծրագիր
A49: Նկարագրությունը` | B49: Ճանապարհաշինական աշխատանքներ
A50: Միջոցառման տեսակը` | B50: Հանրության կողմից անմիջականորեն օգտագործվող ակտիվների հետ կապված միջոցառումներ
A51: Միջոցառումն իրականացնողի անվանումը՛ | B51: Մասնագիտացված միավոր
A52: Արդյունքի չափորոշիչներ
A53: Միջոցառման վրա կատարվող ծախսը (հազար դրամ) | C53: ='հ5․'!G39 -> -162000
A57: Ծրագրի դասիչը | B57: Ծրագրի անվանումը
A58: 1157 | B58: Քաղաքային զարգացում
A60: Ծրագրի միջոցառումները
A61: Ծրագրի դասիչը՝ | B61: 1157 | C61: Ցուցանիշների փոփոխությունը (նվազեցումները նշված են փակագծերում)
A62: Միջոցառման դասիչը՝ | B62: 12006 | C62: Տարի
A63: Միջոցառման անվանումը` | B63: Եվրոպական ներդրումային բանկի աջակցությամբ իրականացվող Երևանի էներգաարդյունավետության ծրագրին պետական աջակցություն
A64: Նկարագրությունը` | B64: Ծրագրի շրջանակներում հանրային շենքերում իրականացվող էներգաարդյունավետության և էներգախնայողության աշխատանքներ
A65: Միջոցառման տեսակը` | B65: Տրանսֆերտների տրամադրում
A66: Միջոցառումն իրականացնողի անվանումը` | B66: Երևան համայնք
A67: Արդյունքի չափորոշիչներ
A68: Միջոցառման վրա կատարվող ծախսը (հազար դրամ) | C68: ='h2'!G122 -> -131298.7
C70: Աղյուսակ 9.1.25
A71: ՀՀ տարածքային կառավարման և ենթակառուցվածքների նախարարության ջրային կոմիտե
A72: ՄԱՍ 1. ՊԵՏԱԿԱՆ ՄԱՐՄՆԻ ԳԾՈՎ ԱՐԴՅՈՒՆՔԱՅԻՆ (ԿԱՏԱՐՈՂԱԿԱՆ) ՑՈՒՑԱՆԻՇՆԵՐԸ
A74: Ծրագրի դասիչը` | B74: 1004 | C74: Ցուցանիշների փոփոխությունը (նվազեցումները նշված են փակագծերում)
A75: Միջոցառման դասիչը` | B75: 11010 | C75: Տարի
A76: Միջոցառման անվանումը` | B76: Գերմանիայի զարգացման վարկերի բանկի աջակցությամբ իրականացվող Ախուրյան գետի ջրային ռեսուրսների ինտեգրացված կառավարում փուլ 1 ծրագրով Ջրաձոր գյուղի վերաբնակեցման գործողությունների խորհրդատվություն և կառավարում
A77: Նկարագրությունը` | B77: Գերմանիայի զարգացման վարկերի բանկի աջակցությամբ իրականացվող Ախուրյան գետի ջրային ռեսուրսների ինտեգրացված կառավարում փուլ 1 ծրագրով Ջրաձոր գյուղի վերաբնակեցման գործողությունների համակարգում և ղեկավարում
A78: Միջոցառման տեսակը` | B78: Ծառայությունների մատուցում
A79: Ծառայությունը մատուցող կազմակերպության անվանումը | B79: Մասնագիտացված միավոր
A80: Արդյունքի չափորոշիչներ
A81: Միջոցառման վրա կատարվող ծախսը (հազար դրամ) | C81: ='h2'!G141 -> -77900
C83: Աղյուսակ 9.1.48
A84: ՀՀ Արագածոտնի մարզպետի աշխատակազմ
A85: ՄԱՍ 1. ՊԵՏԱԿԱՆ ՄԱՐՄՆԻ ԳԾՈՎ ԱՐԴՅՈՒՆՔԱՅԻՆ (ԿԱՏԱՐՈՂԱԿԱՆ) ՑՈՒՑԱՆԻՇՆԵՐԸ
A86: Ծրագրի դասիչը | B86: Ծրագրի անվանումը
A87: 1212 | B87: Տարածքային զարգացում
A89: Ծրագրի միջոցառումները
A90: Ծրագրի դասիչը` | B90: 1212 | C90: Ցուցանիշների փոփոխությունը (ավելացումները նշված են դրական նշանով)
A91: Միջոցառման դասիչը` | B91: 12007 | C91: Տարի
A92: Միջոցառման անվանումը` | B92: ՀՀ մարզերին սուբվենցիաների տրամադրում` ենթակառուցվածքների զարգացման նպատակով_x000D_
A93: Նկարագրությունը` | B93: ՀՀ մարզերին սուբվենցիաների տրամադրում` ենթակառուցվածքների զարգացման նպատակով
A94: Միջոցառման տեսակը` | B94: Տրանսֆերտների տրամադրում
A95: Շահառուների ընտրության չափանիշները | B95: ՀՀ կառավարության 16. 11.2006 թվականի «ՀՀ պետական բյուջեից համայնքներին սուբվենցիաների տրամադրման կարգը հաստատելու մասին» 1708-Ն որոշում
A96: Արդյունքի չափորոշիչներ
A97: Ծրագրերի քանակ, հատ | C97: 1
A98: Միջոցառման վրա կատարվող ծախսը (հազար դրամ) | C98: ='h2'!G32 -> 133159.2
C100: Աղյուսակ 9.1.49
A101: ՀՀ Արարատի մարզպետի աշխատակազմ
A102: ՄԱՍ 1. ՊԵՏԱԿԱՆ ՄԱՐՄՆԻ ԳԾՈՎ ԱՐԴՅՈՒՆՔԱՅԻՆ (ԿԱՏԱՐՈՂԱԿԱՆ) ՑՈՒՑԱՆԻՇՆԵՐԸ
A103: Ծրագրի դասիչը | B103: Ծրագրի անվանումը
A104: 1212 | B104: Տարածքային զարգացում
A106: Ծրագրի միջոցառումները
A107: Ծրագրի դասիչը` | B107: 1212 | C107: Ցուցանիշների փոփոխությունը (ավելացումները նշված են դրական նշանով)
A108: Միջոցառման դասիչը` | B108: 12007 | C108: Տարի
A109: Միջոցառման անվանումը` | B109: ՀՀ մարզերին սուբվենցիաների տրամադրում` ենթակառուցվածքների զարգացման նպատակով_x000D_
A110: Նկարագրությունը` | B110: ՀՀ մարզերին սուբվենցիաների տրամադրում` ենթակառուցվածքների զարգացման նպատակով
A111: Միջոցառման տեսակը` | B111: Տրանսֆերտների տրամադրում
A112: Շահառուների ընտրության չափանիշները | B112: ՀՀ կառավարության 16. 11.2006 թվականի «ՀՀ պետական բյուջեից համայնքներին սուբվենցիաների տրամադրման կարգը հաստատելու մասին» 1708-Ն որոշում
A113: Արդյունքի չափորոշիչներ
A114: Միջոցառման վրա կատարվող ծախսը (հազար դրամ) | C114: ='h2'!G39 -> -69461.2
C115: Աղյուսակ 9.1.50
A116: ՀՀ Արմավիրի մարզպետի աշխատակազմ
A117: ՄԱՍ 1. ՊԵՏԱԿԱՆ ՄԱՐՄՆԻ ԳԾՈՎ ԱՐԴՅՈՒՆՔԱՅԻՆ (ԿԱՏԱՐՈՂԱԿԱՆ) ՑՈՒՑԱՆԻՇՆԵՐԸ
A119: Ծրագրի դասիչը | B119: Ծրագրի անվանումը
A120: 1212 | B120: Տարածքային զարգացում
...

Sheet h12.
G1: Հավելված N 12
G2: ՀՀ կառավարության 2024 թվականի
G3: N ------------ -Ն որոշման
A6: ՀԱՅԱՍՏԱՆԻ ՀԱՆՐԱՊԵՏՈՒԹՅԱՆ ԿԱՌԱՎԱՐՈՒԹՅԱՆ 2023 ԹՎԱԿԱՆԻ ԴԵԿՏԵՄԲԵՐԻ 28-Ի N 2323-Ն ՈՐՈՇՄԱՆ N 10 ՀԱՎԵԼՎԱԾՈՒՄ ԿԱՏԱՐՎՈՂ ՓՈՓՈԽՈՒԹՅՈՒՆՆԵՐԸ
G7: (հազար դրամ)
A8: Կոդը | B8: Անվանումը | C8: Գնման ձևը | D8: Չափի միավորը | E8: Միավորի գինը | F8: Քանակը | G8: Ցուցանիշների փոփոխությունը (նվազեցումները նշված են փակագծերում)
B10: ԸՆԴԱՄԵՆԸ | G10: =G52+G57+G11 -> -1737199.6
A11: ՀՀ տարածքային կառավարման և ենթակառուցվածքների նախարարություն | G11: =+G12 -> -1671634.3
A12: Բաժին N 04 | B12: Խումբ N 05 | C12: Դաս N 01 | D12: Ճանապարհային տրանսպորտ | G12: =+G30+G43+G13 -> -1671634.3
A13: 1049 11001 | B13: =[3]Հ3!F23 -> Միջպետական և հանրապետական նշանակության ավտոճանապարհների պահպանման և անվտանգ երթևեկության ծառայություններ | G13: =G14 -> -135500
A14: ՄԱՍ II. ԱՇԽԱՏԱՆՔՆԵՐ | G14: =SUM(G15:G29) -> -135500
A15: 45231176/1 | B15: ճանապարհների պահպանման աշխատանքներ | C15: ԲՄ | D15: դրամ | G15: -27583.714
A16: 45231176/4 | B16: ճանապարհների պահպանման աշխատանքներ | C16: ՀԲՄ | D16: դրամ | G16: -3103.838
A17: 45231176/58 | B17: ճանապարհների պահպանման աշխատանքներ | C17: ՀԲՄ | D17: դրամ | G17: -12705.678
A18: 45231176/588 | B18: ճանապարհների պահպանման աշխատանքներ | C18: ԲՄ | D18: դրամ | G18: -23.4
A19: 45231176/65 | B19: ճանապարհների պահպանման աշխատանքներ | C19: ՀՄԱ | D19: դրամ | G19: -19944.776
A20: 45231176/75 | B20: ճանապարհների պահպանման աշխատանքներ | C20: ՀԲՄ | D20: դրամ | G20: -7798.68
A21: 45231176/76 | B21: ճանապարհների պահպանման աշխատանքներ | C21: ՀԲՄ | D21: դրամ | G21: -12902.208
A22: 45231176/77 | B22: ճանապարհների պահպանման աշխատանքներ | C22: ՀԲՄ | D22: դրամ | G22: -5787.456
A23: 45231176/78 | B23: ճանապարհների պահպանման աշխատանքներ | C23: ՀԲՄ | D23: դրամ | G23: -2669.76
A24: 45231176/80 | B24: ճանապարհների պահպանման աշխատանքներ | C24: ՀԲՄ | D24: դրամ | G24: -37.349
A25: 45231176/81 | B25: ճանապարհների պահպանման աշխատանքներ | C25: ՀԲՄ | D25: դրամ | G25: -5606.978
A26: 45231176/82 | B26: ճանապարհների պահպանման աշխատանքներ | C26: ՀԲՄ | D26: դրամ | G26: -1054.104
... A29: 45231176/91 | B29: ճանապարհների պահպանման աշխատանքներ | C29: ՀՄԱ | D29: դրամ | G29: -27005.202
A30: 1049 21001 | B30: Պետական նշանակության ավտոճանապարհների հիմնանորոգում | G30: =SUM(G31+G40) -> -1494091.3
A31: ՄԱՍ II. ԱՇԽԱՏԱՆՔՆԵՐ | G31: =SUM(G32:G39) -> -1471291.3
A32: 45231177/65 | B32: ճանապարհների վերանորոգման աշխատանքներ | C32: ՀԲՄ | D32: դրամ | G32: -3150
A33: 45231177/638 | B33: ճանապարհների վերանորոգման աշխատանքներ | C33: ՀԲՄ | D33: դրամ | G33: -2132.2
A34: 45231177/77 | B34: ճանապարհների վերանորոգման աշխատանքներ | C34: ՀԲՄ | D34: դրամ | G34: -58517.4
A35: 45231162/3 | B35: ճանապարհների կառուցման աշխատանքներ | C35: ՀՄԱ | D35: դրամ | G35: -39971.1
A36: 45231177/562 | B36: ճանապարհների վերանորոգման աշխատանքներ | C36: ԲՄ | D36: դրամ | G36: -6884.3
A37: 45231177/33 | B37: ճանապարհների վերանորոգման աշխատանքներ | C37: ՀԲՄ | D37: դրամ | G37: ='h7'!E26 -> -13368.3
A38: 45231177/108 | B38: ճանապարհների վերանորոգման աշխատանքներ | C38: ՀՄԱ | D38: դրամ | G38: -4954.7
A39: 45231177/ | B39: ճանապարհների վերանորոգման աշխատանքներ | C39: ՄԱ | D39: դրամ | G39: -1342313.3
A40: ՄԱՍ III. ԾԱՌԱՅՈՒԹՅՈՒՆՆԵՐ | G40: =SUM(G41:G42) -> -22800
A41: 71351540/121 | B41: տեխնիկական հսկողության ծառայություններ | C41: ՀՄԱ | D41: դրամ | G41: -13500
A42: 98111140/92 | B42: հեղինակային հսկողության ծառայություններ | C42: ՄԱ | D42: դրամ | G42: -9300
A43: 1049 21002 | B43: Տրանսպորտային օբյեկտների հիմնանորոգում | G43: =G44+G47 -> -42043
A44: ՄԱՍ II ԱՇԽԱՏԱՆՔՆԵՐ | G44: =SUM(G45:G46) -> -40895
A45: 45221117/507 | B45: կամուրջների վերանորոգման շինարարական աշխատանքներ | C45: ԲՄ | D45: դրամ | G45: -21000
A46: 45221117/ | B46: կամուրջների վերանորոգման շինարարական աշխատանքներ | C46: ՀՄԱ | D46: դրամ | G46: -19895
A47: ՄԱՍ III. ԾԱՌԱՅՈՒԹՅՈՒՆՆԵՐ | G47: =(G48+G49+G50+G51) -> -1148
A48: 71351540/561 | B48: տեխնիկական հսկողության ծառայություններ | C48: ԲՄ | D48: դրամ | G48: -490.1
A49: 71351540/ | B49: տեխնիկական հսկողության ծառայություններ | C49: ՀՄԱ | D49: դրամ | G49: -393
A50: 98111140/ | B50: հեղինակային հսկողության ծառայություններ | C50: ՄԱ | D50: դրամ | G50: -147
A51: 98111140/ | B51: հեղինակային հսկողության ծառայություններ | C51: ՄԱ | D51: դրամ | G51: -117.9
A52: ՀՀ Գեղարքունիքի մարզպետի աշխատակազմ | G52: =G53 -> -6065.3
A53: Բաժին N 04 | B53: Խումբ N 05 | C53: Դաս N 01 | D53: Ճանապարհային տրանսպորտ | G53: =G55 -> -6065.3
A54: 1049 /11002 | B54: Մարզային նշանակության ավտոճանապարհների պահպանման և անվտանգ երթևեկության ծառայություններ | G54: =G55 -> -6065.3
B55: ՄԱՍ II. ԱՇԽԱՏԱՆՔՆԵՐ | G55: =G56 -> -6065.3
A56: 45231176-1 | B56: ճանապարհների պահպանման աշխատանքներ | C56: ՀԲՄ | D56: դրամ | G56: ='h2'!G179 -> -6065.3
A57: ՀՀ Տավուշի մարզպետի աշխատակազմ | G57: =G58 -> -59500
A58: Բաժին N 04 | B58: Խումբ N 05 | C58: Դաս N 01 | D58: Ճանապարհային տրանսպորտ | G58: =G60 -> -59500
A59: 1049 /11002 | B59: Մարզային նշանակության ավտոճանապարհների պահպանման և անվտանգ երթևեկության ծառայություններ | G59: =G60 -> -59500
B60: ՄԱՍ II. ԱՇԽԱՏԱՆՔՆԵՐ | G60: =G61 -> -59500
A61: 45231176-1 | B61: ճանապարհների պահպանման աշխատանքներ | C61: ՀԲՄ | D61: դրամ | G61: ='h2'!G184 -> -59500
B67: ՀԱՅԱՍՏԱՆԻ ՀԱՆՐԱՊԵՏՈՒԹՅԱՆ
B68: ՎԱՐՉԱՊԵՏԻ ԱՇԽԱՏԱԿԱԶՄԻ
B69: ՂԵԿԱՎԱՐ ՝ Ա. ՀԱՐՈՒԹՅՈՒՆՅԱՆ

Sheet h13
G1: Հավելված 13
A2: ՀՀ կառավարության 2024 թվականի
A3: -ի N -Ն որոշման
A4: ՀԱՅԱՍՏԱՆԻ ՀԱՆՐԱՊԵՏՈՒԹՅԱՆ ԿԱՌԱՎԱՐՈՒԹՅԱՆ ՊԱՀՈՒՍՏԱՅԻՆ ՖՈՆԴԻՑ ԿԱՏԱՐՎՈՂ ՀԱՏԿԱՑՈՒՄԸ
A6: Գործառական դասիչը | D6: Ծրագրային դասիչը | F6: Բյուջետային ծախսերի գործառական դասակարգման բաժինների, խմբերի և դասերի, բյուջետային ծրագրերի միջոցառումների, բյուջետային հատկացումների գլխավոր կարգադրիչների անվանումները | G6: Ցուցանիշների փոփոխությունը (ավելացումները նշված են դրական նշանով, իսկ նվազեցումները` փակագծերում)
G7: Տարի
A8: Բաժին | B8: Խումբ | C8: Դաս | D8: Ծրագիր | E8: Միջոցառում
F9: ԸՆԴԱՄԵՆԸ ԾԱԽՍԵՐ | G9: =+G11+G30 -> 0
F10: այդ թվում`
F11: ՀՀ կառավարություն | G11: =G12 -> -2574465.3
A12: 11 | F12: ՀԻՄՆԱԿԱՆ ԲԱԺԻՆՆԵՐԻՆ ՉԴԱՍՎՈՂ ՊԱՀՈՒՍՏԱՅԻՆ ՖՈՆԴԵՐ | G12: =G14 -> -2574465.3
F13: այդ թվում`
B14: 01 | F14: ՀՀ կառավարության և համայնքների պահուստային ֆոնդ | G14: =G16 -> -2574465.3
F15: այդ թվում`
C16: 01 | F16: ՀՀ կառավարության պահուստային ֆոնդ | G16: =G18 -> -2574465.3
F17: այդ թվում`
F18: ՀՀ կառավարություն | G18: =G20 -> -2574465.3
F19: այդ թվում`
D20: 1139 | F20: ՀՀ կառավարության պահուստային ֆոնդ | G20: =G22 -> -2574465.3
F21: այդ թվում`
E22: 11001 | F22: ՀՀ կառավարության պահուստային ֆոնդ | G22: =G24 -> -2574465.3
F23: այդ թվում` ըստ կատարողների
F24: ՀՀ կառավարություն | G24: =G26 -> -2574465.3
F25: այդ թվում` բյուջետային ծախսերի տնտեսագիտական դասակարգման հոդվածներ
F26: ԸՆԴԱՄԵՆԸ ԾԱԽՍԵՐ | G26: =G27 -> -2574465.3
F27: ԸՆԹԱՑԻԿ ԾԱԽՍԵՐ | G27: =G28 -> -2574465.3
F28: ԱՅԼ ԾԱԽՍԵՐ | G28: =G29 -> -2574465.3
F29: Պահուստային միջոցներ | G29: ='h2'!G258 -> -2574465.3
F30: ՀՀ տարածքային կառավարման և ենթակառուցվածքների նախարարություն | G30: =G31 -> 2574465.3
A31: 01 | F31: ԸՆԴՀԱՆՈՒՐ ԲՆՈՒՅԹԻ ՀԱՆՐԱՅԻՆ ԾԱՌԱՅՈՒԹՅՈՒՆՆԵՐ | G31: =G33 -> 2574465.3
F32: այդ թվում՝
B33: 08 | F33: Կառավարության տարբեր մակարդակների միջև իրականացվող ընդհանուր բնույթի տրանսֆերտներ | G33: =G35 -> 2574465.3
F34: այդ թվում՝
C35: 01 | F35: Կառավարության տարբեր մակարդակների միջև իրականացվող ընդհանուր բնույթի տրանսֆերտներ | G35: =G37 -> 2574465.3
F36: այդ թվում՝
F37: ՀՀ տարածքային կառավարման և ենթակառուցվածքների նախարարություն | G37: =G39 -> 2574465.3
F38: այդ թվում՝
D39: 1212 | F39: Տարածքային զարգացում | G39: =G41+G106 -> 2574465.3
F40: այդ թվում
E41: 12007 | F41: ՀՀ մարզերին սուբվենցիաների տրամադրում՛ ենթակառուցվածքների զարգացման նպատակով_x000D_ | G41: =G43+G50+G57+G64+G71+G78+G85+G92+G99 -> 2568400
F42: այդ թվում` ըստ կատարողների
F43: ՀՀ Արագածոտնի մարզպետի աշխատակազմ | G43: =G45 -> 41178.6
F44: այդ թվում` բյուջետային ծախսերի տնտեսագիտական դասակարգման հոդվածներ
F45: ԸՆԴԱՄԵՆԸ ԾԱԽՍԵՐ | G45: =G46 -> 41178.6
F46: ԸՆԹԱՑԻԿ ԾԱԽՍԵՐ | G46: =G47 -> 41178.6
F47: ԴՐԱՄԱՇՆՈՐՀՆԵՐ | G47: =G48 -> 41178.6
F48: Կապիտալ դրամաշնորհներ պետական հատվածի այլ մակարդակներին | G48: =G49 -> 41178.6
F49: - Կապիտալ սուբվենցիաներ համայնքներին | G49: 41178.6
F50: ՀՀ Արմավիրի մարզպետի աշխատակազմ | G50: =G52 -> 143839.2
F51: այդ թվում` բյուջետային ծախսերի տնտեսագիտական դասակարգման հոդվածներ
F52: ԸՆԴԱՄԵՆԸ ԾԱԽՍԵՐ | G52: =G53 -> 143839.2
F53: ԸՆԹԱՑԻԿ ԾԱԽՍԵՐ | G53: =G54 -> 143839.2
F54: ԴՐԱՄԱՇՆՈՐՀՆԵՐ | G54: =G55 -> 143839.2
F55: Կապիտալ դրամաշնորհներ պետական հատվածի այլ մակարդակներին | G55: =G56 -> 143839.2
F56: - Կապիտալ սուբվենցիաներ համայնքներին | G56: ='h2'!G46 -> 143839.2
F57: ՀՀ Գեղարքունիքի մարզպետի աշխատակազմ | G57: =G59 -> 406288.1
F58: այդ թվում` բյուջետային ծախսերի տնտեսագիտական դասակարգման հոդվածներ
F59: ԸՆԴԱՄԵՆԸ ԾԱԽՍԵՐ | G59: =G60 -> 406288.1
F60: ԸՆԹԱՑԻԿ ԾԱԽՍԵՐ | G60: =G61 -> 406288.1
F61: ԴՐԱՄԱՇՆՈՐՀՆԵՐ | G61: =G62 -> 406288.1
F62: Կապիտալ դրամաշնորհներ պետական հատվածի այլ մակարդակներին | G62: =G63 -> 406288.1
F63: - Կապիտալ սուբվենցիաներ համայնքներին | G63: ='h2'!G53 -> 406288.1
F64: ՀՀ Լոռու մարզպետի աշխատակազմ | G64: =G66 -> 515020.9
F65: այդ թվում` բյուջետային ծախսերի տնտեսագիտական դասակարգման հոդվածներ
F66: ԸՆԴԱՄԵՆԸ ԾԱԽՍԵՐ | G66: =G67 -> 515020.9
F67: ԸՆԹԱՑԻԿ ԾԱԽՍԵՐ | G67: =G68 -> 515020.9
F68: ԴՐԱՄԱՇՆՈՐՀՆԵՐ | G68: =G69 -> 515020.9
F69: Կապիտալ դրամաշնորհներ պետական հատվածի այլ մակարդակներին | G69: =G70 -> 515020.9
F70: - Կապիտալ սուբվենցիաներ համայնքներին | G70: ='h2'!G60 -> 515020.9
F71: ՀՀ Կոտայքի մարզպետի աշխատակազմ | G71: =G73 -> 23525.4
F72: այդ թվում` բյուջետային ծախսերի տնտեսագիտական դասակարգման հոդվածներ
F73: ԸՆԴԱՄԵՆԸ ԾԱԽՍԵՐ | G73: =G74 -> 23525.4
F74: ԸՆԹԱՑԻԿ ԾԱԽՍԵՐ | G74: =G75 -> 23525.4
F75: ԴՐԱՄԱՇՆՈՐՀՆԵՐ | G75: =G76 -> 23525.4
F76: Կապիտալ դրամաշնորհներ պետական հատվածի այլ մակարդակներին | G76: =G77 -> 23525.4
F77: - Կապիտալ սուբվենցիաներ համայնքներին | G77: ='h2'!G67 -> 23525.4
F78: ՀՀ Շիրակի մարզպետի աշխատակազմ | G78: =G80 -> 182220.4
F79: այդ թվում` բյուջետային ծախսերի տնտեսագիտական դասակարգման հոդվածներ
F80: ԸՆԴԱՄԵՆԸ ԾԱԽՍԵՐ | G80: =G81 -> 182220.4
F81: ԸՆԹԱՑԻԿ ԾԱԽՍԵՐ | G81: =G82 -> 182220.4
F82: ԴՐԱՄԱՇՆՈՐՀՆԵՐ | G82: =G83 -> 182220.4
F83: Կապիտալ դրամաշնորհներ պետական հատվածի այլ մակարդակներին | G83: =G84 -> 182220.4
F84: - Կապիտալ սուբվենցիաներ համայնքներին | G84: ='h2'!G74 -> 182220.4
F85: ՀՀ Սյունիքի մարզպետի աշխատակազմ | G85: =G87 -> 696430.4
F86: այդ թվում` բյուջետային ծախսերի տնտեսագիտական դասակարգման հոդվածներ
F87: ԸՆԴԱՄԵՆԸ ԾԱԽՍԵՐ | G87: =G88 -> 696430.4
F88: ԸՆԹԱՑԻԿ ԾԱԽՍԵՐ | G88: =G89 -> 696430.4
F89: ԴՐԱՄԱՇՆՈՐՀՆԵՐ | G89: =G90 -> 696430.4
F90: Կապիտալ դրամաշնորհներ պետական հատվածի այլ մակարդակներին | G90: =G91 -> 696430.4
F91: - Կապիտալ սուբվենցիաներ համայնքներին | G91: ='h2'!G81 -> 696430.4
F92: ՀՀ Վայոց ձորի մարզպետի աշխատակազմ | G92: =G94 -> 224083.6
F93: այդ թվում` բյուջետային ծախսերի տնտեսագիտական դասակարգման հոդվածներ
F94: ԸՆԴԱՄԵՆԸ ԾԱԽՍԵՐ | G94: =G95 -> 224083.6
F95: ԸՆԹԱՑԻԿ ԾԱԽՍԵՐ | G95: =G96 -> 224083.6
F96: ԴՐԱՄԱՇՆՈՐՀՆԵՐ | G96: =G97 -> 224083.6
F97: Կապիտալ դրամաշնորհներ պետական հատվածի այլ մակարդակներին | G97: =G98 -> 224083.6
F98: - Կապիտալ սուբվենցիաներ համայնքներին | G98: ='h2'!G88 -> 224083.6
F99: ՀՀ Տավուշի մարզպետի աշխատակազմ | G99: =G101 -> 335813.4
F100: այդ թվում` բյուջետային ծախսերի տնտեսագիտական դասակարգման հոդվածներ
F101: ԸՆԴԱՄԵՆԸ ԾԱԽՍԵՐ | G101: =G102 -> 335813.4
...
