Workbook
Name _tab10: #REF!
Name _tab11: #REF!
Name _tab12: #REF!
Name _tab13: #REF!
Name _tab14: #REF!
Name _tab15: #REF!
Name _tab16: #REF!
Name _tab17: #REF!
Name _tab18: #REF!
Name _tab19: #REF!
Name _tab20: #REF!
Name _tab21: #REF!
Name _tab22: #REF!
Name _tab22222: #REF!
Name _tab23: #REF!
Name _tab24: #REF!
Name _tab5: #REF!
Name _tab6: #REF!
Name _tab7: #REF!
Name _tab8: #REF!
Name _tab9: #REF!
Name aaaaaaaaaaaa: #REF!
Name hhhh: #REF!
Name hunvar: #REF!,#REF!,#REF!,#REF!,#REF!,#REF!,#REF!,#REF!,#REF!,#REF!,#REF!,#REF!,#REF!,#REF!,#REF!
Name par_count: #REF!,#REF!,#REF!,#REF!,#REF!,#REF!,#REF!,#REF!,#REF!,#REF!,#REF!,#REF!,#REF!,#REF!,#REF!
Name par_qual: #REF!,#REF!,#REF!,#REF!,#REF!
Name par_time: #REF!,#REF!,#REF!,#REF!
Name par2.12s: #REF!
Name par2.4s: #REF!,#REF!,#REF!,#REF!,#REF!,#REF!,#REF!,#REF!,#REF!,#REF!,#REF!,#REF!,#REF!,#REF!,#REF!,#REF!
Name par2.5s: #REF!,#REF!
Name par2.6s: #REF!,#REF!,#REF!,#REF!
Name par2.7s: #REF!,#REF!
Name par2.9s: #REF!,#REF!,#REF!,#REF!,#REF!,#REF!,#REF!,#REF!,#REF!,#REF!,#REF!,#REF!,#REF!,#REF!,#REF!,#REF!
Name par4.10s: #REF!,#REF!
Name par4.11d: #REF!,#REF!,#REF!,#REF!,#REF!
Name par4.12d: #REF!
Name par4.13s: #REF!
Name par4.14: #REF!,#REF!,#REF!,#REF!,#REF!,#REF!
Name par4.15: #REF!,#REF!,#REF!
Name par4.16: #REF!,#REF!,#REF!
Name par4.17: #REF!,#REF!,#REF!,#REF!
Name par4.18d: #REF!,#REF!
Name par4.19s: #REF!
Name par4.20f: #REF!
Name par4.21f: #REF!
Name par4.22: #REF!
Name par4.4: #REF!
Name par4.5: #REF!
Name par4.6s: #REF!
Name par4.7s: #REF!
Name par4.8: #REF!,#REF!,#REF!,#REF!,#REF!
Name par4.9: #REF!,#REF!,#REF!,#REF!,#REF!,#REF!
Name par5.1: #REF!,#REF!
Name par5.3: #REF!,#REF!,#REF!,#REF!,#REF!,#REF!
Name par5.4: #REF!,#REF!,#REF!,#REF!,#REF!
Name par5.5: #REF!
Name par5.6: #REF!,#REF!
Name program: #REF!,#REF!,#REF!,#REF!,#REF!,#REF!,#REF!,#REF!,#REF!,#REF!,#REF!,#REF!,#REF!,#REF!,#REF!,#REF!,#REF!,#REF!,#REF!,#REF!
Name yyy: #REF!

Sheet 1
C1: Հավելված № 1
C2: ՀՀ կառավարության 2024 թվականի
C3: __________ «____» -ի
C4: N_____ -Ն որոշման
B5: «ՀԱՅԱՍՏԱՆԻ ՀԱՆՐԱՊԵՏՈՒԹՅԱՆ 2024 ԹՎԱԿԱՆԻ ՊԵՏԱԿԱՆ ԲՅՈՒՋԵԻ ՄԱՍԻՆ» ՀԱՅԱՍՏԱՆԻ ՀԱՆՐԱՊԵՏՈՒԹՅԱՆ ՕՐԵՆՔԻ N 3 ՀԱՎԵԼՎԱԾԻ N 1 ԱՂՅՈՒՍԱԿՈՒՄ ԵՎ ՀԱՅԱՍՏԱՆԻ ՀԱՆՐԱՊԵՏՈՒԹՅԱՆ ԿԱՌԱՎԱՐՈՒԹՅԱՆ 2023 ԹՎԱԿԱՆԻ ԴԵԿՏԵՄԲԵՐԻ 28-Ի N 2323-Ն ՈՐՈՇՄԱՆ N 1 ՀԱՎԵԼՎԱԾԻ N 1 ԱՂՅՈՒՍԱԿՈՒՄ ԿԱՏԱՐՎՈՂ ՓՈՓՈԽՈՒԹՅՈՒՆՆԵՐԸ ԵՎ ԼՐԱՑՈՒՄՆԵՐԸ
C6: Գումարը (հազար դրամներով)
B7: Պետական բյուջեի դեֆիցիտի ֆինանսավորման աղբյուրներն ու դրանց տարրերի անվանումները | C7: Ցուցանիշների փոփոխությունը (ավելացումները նշված են դրական նշանով, իսկ նվազեցումները` փակագծերում)
C8: Տարի
B9: ԸՆԴԱՄԵՆԸ | C9: =C13 -> 0
B10: այդ թվում՝
B11: Ա.Ներքին աղբյուրներ-ընդամենը | C11: =C13 -> 0
B12: այդ թվում՝
B13: 2. Ֆինանսական զուտ ակտիվներ | C13: =C15+C16 -> 0
B14: այդ թվում՝
B15: 2.3. Ելքերի ֆինանսավորմանն ուղղվող պետական բյուջեի տարեսկզբի ազատ մնացորդի միջոցներ | C15: =-C18 -> 250000
B16: 2.4. Վարկերի և փոխատվությունների տրամադրում | C16: =+C18 -> -250000
B17: այդ թվում
B18: Բյուջետային վարկի տրամադրում տնտեսվարող սուբյեկտներին | C18: -250000

Sheet 2
B1: Հավելված № 2
B2: ՀՀ կառավարության 2024 թվականի
B3: __________ «____» -ի
B4: N_____ -Ն որոշման
B5: «ՀԱՅԱՍՏԱՆԻ ՀԱՆՐԱՊԵՏՈՒԹՅԱՆ 2024 ԹՎԱԿԱՆԻ ՊԵՏԱԿԱՆ ԲՅՈՒՋԵԻ ՄԱՍԻՆ» ՀԱՅԱՍՏԱՆԻ ՀԱՆՐԱՊԵՏՈՒԹՅԱՆ ՕՐԵՆՔԻ N 3 ՀԱՎԵԼՎԱԾԻ N 1.1 ԱՂՅՈՒՍԱԿՈՒՄ ԵՎ ՀԱՅԱՍՏԱՆԻ ՀԱՆՐԱՊԵՏՈՒԹՅԱՆ ԿԱՌԱՎԱՐՈՒԹՅԱՆ 2023 ԹՎԱԿԱՆԻ ԴԵԿՏԵՄԲԵՐԻ 28-Ի N 2323-Ն N 1 ՀԱՎԵԼՎԱԾԻ N 2 ԱՂՅՈՒՍԱԿՈՒՄ ԿԱՏԱՐՎՈՂ ՓՈՓՈԽՈՒԹՅՈՒՆՆԵՐՆ ՈՒ ԼՐԱՑՈՒՄՆԵՐԸ
E6: Գումարը (հազար դրամներով)
B7: Ծրագրային դասիչ | D7: Բյուջետային գլխավոր կարգադրիչների, ծրագրերի և միջոցառումների անվանումները | E7: Ցուցանիշների փոփոխությունը (ավելացումները նշված են դրական նշանով)
B8: Ծրագիր | C8: Միջոցառում | E8: Տարի
D9: ԸՆԴԱՄԵՆԸ այդ թվում | E9: =+E11 -> 250000
B10: ՀՀ առողջապահության նախարարություն
B11: 1126 | D11: Ծրագրի անվանումը` | E11: =+E18 -> 250000
D12: Առողջապահության ոլորտում պետական քաղաքականության մշակում, ծրագրերի համակարգում և մոնիտորինգ
D13: Ծրագրի նպատակը`
D14: Մարդու և հանրության առողջության պահպանում, բնակչության առողջության բարելավում, հիվանդությունների կանխարգելում, հաշմանդամության և մահացության ցուցանիշների նվազեցում
D15: Վերջնական արդյունքի նկարագրությունը`
D16: Առողջապահության ոլորտում իրականացվող ծրագրերի ազդեցության և արդյունավետության բարելավում
B17: Ֆինանսական ակտիվների կառավարման միջոցառումներ
C18: 42001 | D18: Միջոցառման անվանումը | E18: 250000
D19: «Արտաշատի ԲԿ» փակ բաժնետիրական ընկերությանը բյուջետային վարկի տրամադրում
D20: Միջոցառման նկարագրությունը
D21: «Արտաշատի ԲԿ» փակ բաժնետիրական ընկերությանը ընթացիկ պարտավորությունների մարման նպատակով բյուջետային վարկի տրամադրում
D22: Միջոցառման տեսակը
D23: Վարկի տրամադրում

Sheet 3
B1: Հավելված № 3
B2: ՀՀ կառավարության 2024 թվականի
B3: __________ «____» -ի
B4: N_____ -Ն որոշման
B5: «ՀԱՅԱՍՏԱՆԻ ՀԱՆՐԱՊԵՏՈՒԹՅԱՆ 2024 ԹՎԱԿԱՆԻ ՊԵՏԱԿԱՆ ԲՅՈՒՋԵԻ ՄԱՍԻՆ» ՀԱՅԱՍՏԱՆԻ ՀԱՆՐԱՊԵՏՈՒԹՅԱՆ ՕՐԵՆՔԻ N 3 ՀԱՎԵԼՎԱԾԻ N1.1.1․1 ԱՂՅՈՒՍԱԿՈՒՄ ԵՎ ՀԱՅԱՍՏԱՆԻ ՀԱՆՐԱՊԵՏՈՒԹՅԱՆ ԿԱՌԱՎԱՐՈՒԹՅԱՆ 2023 ԹՎԱԿԱՆԻ ԴԵԿՏԵՄԲԵՐԻ 28-Ի N 2323-Ն ՈՐՈՇՄԱՆ N 1 ՀԱՎԵԼՎԱԾԻ N 4 ԱՂՅՈՒՍԱԿՈՒՄ ԿԱՏԱՐՎՈՂ ՓՈՓՈԽՈՒԹՅՈՒՆՆԵՐՆ ՈՒ ԼՐԱՑՈՒՄՆԵՐԸ
E6: Գումարը (հազար դրամներով)
B7: Ծրագրային դասիչ | D7: Պետական բյուջեի դեֆիցիտի ֆինանսավորման աղբյուրներն ու դրանց տարրերի անվանումները | E7: Ցուցանիշների փոփոխությունը (ավելացումները նշված են դրական նշանով)
E8: Տարի
B9: Ծրագիր | C9: Միջոցառում | D9: ԸՆԴԱՄԵՆԸ | E9: =+E11 -> 250000
D10: այդ թվում՝
D11: ՀՀ Առողջապահության նախարարություն | E11: =+E12 -> 250000
B12: 1126 | D12: Առողջապահության ոլորտում պետական քաղաքականության մշակում, ծրագրերի համակարգում և մոնիտորինգ | E12: =+E13 -> 250000
C13: =+'[1]2'!C16 -> 42001 | D13: «Արտաշատի ԲԿ» փակ բաժնետիրական ընկերությանը բյուջետային վարկի տրամադրում | E13: =+E17 -> 250000
D14: այդ թվում՝ ըստ կատարողների
D15: ՀՀ ֆինանսների նախարարություն | E15: =+E13 -> 250000
D16: այդ թվում՝ ըստ տնտեսագիտական դասակարգման հոդվածների՝
D17: ՀԻՄՆԱԿԱՆ ԳՈՒՄԱՐԻ ՄԱՐՄԱՆ ԵՎ ՖԻՆԱՆՍԱԿԱՆ ԱԿՏԻՎՆԵՐԻ ՁԵՌՔԲԵՐՄԱՆ ԳԾՈՎ ԾԱԽՍԵՐ, այդ թվում` | E17: =+E18 -> 250000
D18: ՖԻՆԱՆՍԱԿԱՆ ԱԿՏԻՎՆԵՐԻ ՁԵՌՔԲԵՐՈՒՄ, այդ թվում | E18: =+E19 -> 250000
D19: ՆԵՐՔԻՆ ՖԻՆԱՆՍԱԿԱՆ ԱԿՏԻՎՆԵՐԻ ՁԵՌՔԲԵՐՈՒՄ, այդ թվում` | E19: =+E20 -> 250000
D20: Ներքին վարկեր և փոխատվություններ | E20: 250000

Sheet 4
B1: Հավելված № 4
B2: ՀՀ կառավարության 2024 թվականի
B3: __________ «____» -ի
B4: N_____ -Ն որոշման
B5: ՀԱՅԱՍՏԱՆԻ ՀԱՆՐԱՊԵՏՈՒԹՅԱՆ ԿԱՌԱՎԱՐՈՒԹՅԱՆ 2023 ԹՎԱԿԱՆԻ ԴԵԿՏԵՄԲԵՐԻ 28-Ի N 2323-Ն ՈՐՈՇՄԱՆ N 1 ՀԱՎԵԼՎԱԾԻ N 5 ԱՂՅՈՒՍԱԿՈՒՄ ԿԱՏԱՐՎՈՂ ՓՈՓՈԽՈՒԹՅՈՒՆՆԵՐՆ ՈՒ ԼՐԱՑՈՒՄՆԵՐԸ
B6: ՄԱՍ 2. ՊԵՏԱԿԱՆ ՄԱՐՄՆԻ ԳԾՈՎ ԱՐԴՅՈՒՆՔԱՅԻՆ (ԿԱՏԱՐՈՂԱԿԱՆ) ՑՈՒՑԱՆԻՇՆԵՐԸ
B8: Ծրագրի դասիչը | C8: Ծրագրի անվանումը
B9: 1126 | C9: Առողջապահության ոլորտում պետական քաղաքականության մշակում, ծրագրերի համակարգում և մոնիտորինգ
B10: Ծրագրի միջոցառումները
B11: Ծրագրի դասիչը՝ | C11: 1126 | D11: Ցուցանիշների փոփոխությունը (ավելացումները նշված են դրական նշանով)
B12: Միջոցառման դասիչը՝ | C12: =+'[1]2'!C16 -> 42001 | D12: Տարի
B13: Միջոցառման անվանումը՝ | C13: «Արտաշատի ԲԿ» փակ բաժնետիրական ընկերությանը բյուջետային վարկի տրամադրում
B14: Նկարագրությունը՝ | C14: «Արտաշատի ԲԿ» փակ բաժնետիրական ընկերությանը ընթացիկ պարտավորությունների մարման նպատակով բյուջետային վարկի տրամադրում
B15: Միջոցառման տեսակը՝ | C15: Բյուջետային վարկի տրամադրում
B16: Միջոցառումն իրականացնողի անվանումը՝ | C16: ՀՀ ֆինանսների նախարարություն
C17: Արդյունքի չափորոշիչներ
B18: Քանակական | C18: Տրամադրվող վարկերի քանակ, հատ | D18: 1
B19: Միջոցառման վրա կատարվող ծախսը (հազար դրամ) | D19: 250000

Sheet 5
B1: Հավելված № 5
B2: ՀՀ կառավարության 2024 թվականի
B3: __________ «____» -ի
B4: N_____ -Ն որոշման
B5: «ՀԱՅԱՍՏԱՆԻ ՀԱՆՐԱՊԵՏՈՒԹՅԱՆ 2024 ԹՎԱԿԱՆԻ ՊԵՏԱԿԱՆ ԲՅՈՒՋԵԻ ՄԱՍԻՆ» ՀԱՅԱՍՏԱՆԻ ՀԱՆՐԱՊԵՏՈՒԹՅԱՆ ՕՐԵՆՔԻ № 1 ՀԱՎԵԼՎԱԾԻ № 2 ԱՂՅՈՒՍԱԿՈՒՄ ԿԱՏԱՐՎՈՂ ՎԵՐԱԲԱՇԽՈՒՄԸ ԵՎ ՀԱՅԱՍՏԱՆԻ ՀԱՆՐԱՊԵՏՈՒԹՅԱՆ ԿԱՌԱՎԱՐՈՒԹՅԱՆ 2023 ԹՎԱԿԱՆԻ ԴԵԿՏԵՄԲԵՐԻ 28-Ի № 2323-Ն ՈՐՈՇՄԱՆ № 5 ՀԱՎԵԼՎԱԾԻ № 1 ԱՂՅՈՒՍԱԿՈՒՄ ԿԱՏԱՐՎՈՂ ՓՈՓՈԽՈՒԹՅՈՒՆՆԵՐԸ
B6: Գումարը (հազար դրամներով)
B7: Ծրագրային դասիչը | D7: Բյուջետային հատկացումների գլխավոր կարգադրիչների, ծրագրերի և միջոցառումների անվանումները | E7: Ցուցանիշների փոփոխությունները (ավելացումները նշված են դրական նշանով, իսկ նվազեցումները` փակագծերում)
B8: Ծրագիր | C8: Միջոցառում | E8: Տարի
D9: ԸՆԴԱՄԵՆԸ | E9: =+E10 -> 0
D10: ՀՀ առողջապահության նախարարություն | E10: =+E11+E37+E51+E83+E97+E129+E149 -> 0
B11: 1099 | D11: Ծրագրի անվանումը | E11: =+E18+E24+E30 -> -148000
D12: Առողջության առաջնային պահպանում
D13: Ծրագրի նպատակը
D14: Բնակչությանը մատչելի և որակյալ առաջնային բժշկական օգնության և սպասարկման տրամադրում, առողջության վատթարացման ռիսկի գործոնների վերհանում և դրանց հնարավոր անբարենպաստ ազդեցության կանխարգելում
D15: Վերջնական արդյունքի նկարագրությունը
D16: Բնակչությանը մատչելի և որակյալ առաջնային բժշկական օգնության և սպասարկման տրամադրում, առողջության վատթարացման ռիսկի գործոնների վերհանում և դրանց հնարավոր անբարենպաստ ազդեցության կանխարգելում
B17: Ծրագրի միջոցառումներ
C18: 11004 | D18: Միջոցառման անվանումը` | E18: -140000
D19: Ախտորոշման ճշտման նպատակով լաբորատոր-գործիքային ախտորոշիչ հետազոտություններ նեղ մասնագիտացված կենտրոններում և շարունակական հսկողություն պահանջող և առանձին հիվանդությունների բուժման ծառայություններ
D20: Միջոցառման նկարագրությունը`
D21: Ախտորոշման ճշտման նպատակով լաբորատոր-գործիքային ախտորոշիչ հետազոտությունների իրականացում նեղ մասնագիտացված կենտրոններում, առանձին հիվանդությունների (քրոնիկ, դիսպանսեր հսկողություն պահանջող) բժշկական օգնության համալիր միջոցառումների իրականացում
D22: Միջոցառման տեսակը
D23: Ծառայությունների մատուցում
C24: 11006 | D24: Միջոցառման անվանումը` | E24: -4000
D25: Կոլոռեկտալ քաղցկեղի սքրինինգ
D26: Միջոցառման նկարագրությունը`
D27: Կոլոռեկտալ քաղցկեղի սքրինինգի իրականացում` նախաքաղցկեղային վիճակները և վաղ փուլի չարորակ նորագոյացությունները հայտնաբերելու նպատակով
D28: Միջոցառման տեսակը
D29: Ծառայությունների մատուցում
C30: 12001 | D30: Միջոցառման անվանումը` | E30: -4000
D31: Ըստ մարդաշնչի փոխհատուցվող ամբուլատոր-պոլիկլինիկական բժշկական օգնության ծառայություններ
D32: Միջոցառման նկարագրությունը`
D33: Հիվանդությունների կանխարգելում, հայտնաբերում, բուժում, նեղ մասնագիտացված ամբուլատոր ծառայություններ, լաբորատոր-գործիքային հետազոտություններ, զորակոչային և նախազորակոչային տարիքի անձանց բուժման և փորձաքննության ամբուլատոր ծառայություններ
D34: Միջոցառման տեսակը
D35: Տրանսֆերտների տրամադրում
B37: 1142 | D37: Ծրագրի անվանումը` | E37: =+E44 -> 27000
D38: Դատաբժշկական և ախտաբանաանատոմիական ծառայություններ
D39: Ծրագրի նպատակը`
D40: Պաթանատոմիական կանխորոշումների հիման վրա ախտորոշման և բուժման արդյունավետության բարձրացում
D41: Վերջնական արդյունքի նկարագրությունը`
D42: Մահերի պատճառների բացահայտում
B43: Ծրագրի միջոցառումներ
C44: 11001 | D44: Միջոցառման անվանումը` | E44: 27000
D45: Դատաբժշկական փորձաքննություններ
D46: Միջոցառման նկարագրությունը`
D47: Հանրապետության ուժային մարմինների որոշումների հիման վրա դատաբժշկական և գենետիկ փորձաքննությունների ապահովում` մահերի պատճառների վերհանման նպատակով դիակների փորձաքննություն
D48: Միջոցառման տեսակը
D49: Ծառայությունների մատուցում
B51: 1200 | D51: Ծրագրի անվանումը` | E51: =+E58+E64+E70+E76 -> -260000
D52: Մոր և մանկան առողջության պահպանում
D53: Ծրագրի նպատակը`
D54: Մոր և մանկան առողջության պահպանում, կանանց և երեխաներին մատուցվող բժշկական ծառայությունների մատչելիության և որակի բարելավում
D55: Վերջնական արդյունքի նկարագրությունը`
D56: Մանկական և մայրական մահացության և հիվանդացության կրճատում, կանանց վերարտադրողական առողջության բարելավում
B57: Ծրագրի միջոցառումներ
C58: 11001 | D58: Միջոցառման անվանումը` | E58: -30000
D59: Մանկաբարձական բժշկական օգնության ծառայություններ
D60: Միջոցառման նկարագրությունը`
D61: Մանկաբարձական բժշկական օգնության համալիր միջոցառումների իրականացում, հղիության ախտաբանական ընթացքի բժշկական օգնություն և ծննդօգնություն
D62: Միջոցառման տեսակը
D63: Ծառայությունների մատուցում
C64: 11003 | D64: Միջոցառման անվանումը` | E64: -200000
D65: Երեխաներին բժշկական օգնության ծառայություններ
D66: Միջոցառման նկարագրությունը`
D67: Երեխաների (0-18 տարեկան երեխաներին) հիվանդանոցային բժշկական օգնության իրականացում (հետազոտում, ախտորոշում, բուժում)
D68: Միջոցառման տեսակը
D69: Ծառայությունների մատուցում
C70: 11004 | D70: Միջոցառման անվանումը` | E70: -10000
D71: Մտավոր, հոգեկան (վարքագծային), լսողական, ֆիզիկական (շարժողական) և զարգացման այլ խանգարումներով երեխաների գնահատման և վերականգնողական բուժման ծառայություններ
D72: Միջոցառման նկարագրությունը`
D73: Մտավոր, հոգեկան (վարքագծային), լսողական, ֆիզիկական (շարժողական) և զարգացման այլ խանգարումներով երեխաների առողջական վիճակի գնահատումը և վերականգնողական ամբուլատոր բուժման կազմակերպումը
D74: Միջոցառման տեսակը
D75: Ծառայությունների մատուցում
C76: 11007 | D76: Միջոցառման անվանումը` | E76: -20000
D77: Բնածին հիպոթիրեոզի, ֆենիլկենտոնուրիայի, լսողության և տեսողության (անհասների ռետինոպաթիա) խանգարումների, կոնքազդրային հոդի խախտման վաղ հայտնաբերման նպատակով նորածնային սքրինգների անցկացում
D78: Միջոցառման նկարագրությունը`
D79: Նորածնային սքրինինգներ իրականացում (բնածին հիպոթիրեոզի, ֆենիլկետոնուրիայի, լսողության, տեսողության և կոնքազդրային հոդի)
D80: Միջոցառման տեսակը
D81: Ծառայությունների մատուցում
B83: 1201 | D83: Ծրագրի անվանումը` | E83: =+E90 -> -100000
D84: Շտապ բժշկական օգնություն
D85: Ծրագրի նպատակը`
D86: Մարդու կյանքին և առողջությանը վտանգ սպառնացող վիճակներում որակյալ շտապ բժշկական օգնության ծառայությունների տրամադրում
D87: Վերջնական արդյունքի նկարագրությունը`
D88: Շտապ օգնության համակարգի պատրաստվածության բարելավում, արձագանքման արագության, հասանելիության և բժշկական օգնության ծառայությունների որակի բարելավում
B89: Ծրագրի միջոցառումներ
C90: 11001 | D90: Միջոցառման անվանումը` | E90: -100000
D91: Շտապ բժշկական օգնության ծառայություններ
D92: Միջոցառման նկարագրությունը`
D93: Շտապ բժշկական օգնության իրականացում
D94: Միջոցառման տեսակը
D95: Ծառայությունների մատուցում
B97: 1202 | D97: Ծրագրի անվանումը` | E97: =+E104+E110+E116+E122 -> 140000
D98: Ոչ վարակիչ հիվանդությունների բժշկական օգնության ապահովում
D99: Ծրագրի նպատակը`
D100: Ոչ վարակիչ հիվանդությունների (մասնավորապես՛ սիրտանոթային, շաքարային դիաբետի և չարորակ նորագոյացությունների) բուժման արդյունավետության բարձրացում
D101: Վերջնական արդյունքի նկարագրությունը`
D102: Ոչ վարակիչ հիվանդություններով պայմանավորված հիվանդացության և մահացության նվազեցում
B103: Ծրագրի միջոցառումներ
C104: 11001 | D104: Միջոցառման անվանումը` | E104: 105000
...

Sheet 6
B1: Հավելված № 6
B2: ՀՀ կառավարության 2024 թվականի
B3: __________ «____» -ի
B4: N_____ -Ն որոշման
B5: ՀԱՅԱՍՏԱՆԻ ՀԱՆՐԱՊԵՏՈՒԹՅԱՆ ԿԱՌԱՎԱՐՈՒԹՅԱՆ 2023 ԹՎԱԿԱՆԻ ԴԵԿՏԵՄԲԵՐԻ 28-Ի № 2323-Ն ՈՐՈՇՄԱՆ №№ 3 և 4 ՀԱՎԵԼՎԱԾՆԵՐՈՒՄ ԿԱՏԱՐՎՈՂ ՓՈՓՈԽՈՒԹՅՈՒՆՆԵՐԸ
B6: Գումարը (հազար դրամներով)
B7: Գործառական դասիչը | E7: Ծրագրային դասիչը | G7: Բյուջետային հատկացումների գլխավոր կարգադրիչների, ծրագրերի, միջոցառումների և միջոցառումները կատարող պետական մարմինների անվանումները | H7: Ցուցանիշների փոփոխությունները (ավելացումները նշված են դրական նշանով, իսկ նվազեցումները` փակագծերում)
B8: բաժին | C8: խումբ | D8: դաս | E8: Ծրագիր | F8: Միջոցառում | H8: Տարի
B9: ԸՆԴԱՄԵՆԸ | H9: =+H10 -> 0
G10: Առողջապահության նախարարություն | H10: =+H12 -> 0
G11: այդ թվում`
B12: 07 | G12: ԱՌՈՂՋԱՊԱՀՈՒԹՅՈՒՆ | H12: =+H14+H112+H191 -> 0
G13: այդ թվում՝
C14: 02 | G14: Արտահիվանդանոցային ծառայություններ | H14: =+H16+H31+H97 -> -163000
G15: այդ թվում՝
D16: 01 | G16: Ընդհանուր բնույթի բժշկական ծառայություններ | H16: =+H20 -> -4000
G17: այդ թվում՝
G18: ՀՀ առողջապահության նախարարություն | H18: =+H20 -> -4000
G19: այդ թվում՝
E20: 1099 | G20: Առողջության առաջնային պահպանում | H20: =+H22 -> -4000
G21: այդ թվում`
F22: 12001 | G22: Ըստ մարդաշնչի փոխհատուցվող ամբուլատոր-պոլիկլինիկական բժշկական օգնության ծառայություններ | H22: =+H24 -> -4000
G23: այդ թվում` ըստ կատարողների
G24: ՀՀ առողջապահության նախարարություն | H24: =+H26 -> -4000
G25: այդ թվում` բյուջետային ծախսերի տնտեսագիտական դասակարգման հոդվածներ
G26: ԸՆԴԱՄԵՆԸ ԾԱԽՍԵՐ | H26: =+H27 -> -4000
G27: ԸՆԹԱՑԻԿ ԾԱԽՍԵՐ | H27: =H28 -> -4000
G28: ՍՈՑԻԱԼԱԿԱՆ ՆՊԱՍՏՆԵՐ ԵՎ ԿԵՆՍԱԹՈՇԱԿՆԵՐ | H28: =+H30 -> -4000
G29: Սոցիալական օգնության դրամական արտահայտությամբ նպաստներ (բյուջեից)
G30: - Այլ նպաստներ բյուջեից | H30: =+'5'!E30 -> -4000
D31: 02 | G31: Մասնագիտացված բժշկական ծառայություններ | H31: =+H35+H55+H75+H86 -> -59000
G32: այդ թվում՝
G33: ՀՀ առողջապահության նախարարություն | H33: =+H35 -> -144000
G34: այդ թվում՝
E35: 1099 | G35: Առողջության առաջնային պահպանում | H35: =+H37+H46 -> -144000
G36: այդ թվում`
F37: 11004 | G37: Ախտորոշման ճշտման նպատակով լաբորատոր-գործիքային ախտորոշիչ հետազոտություններ նեղ մասնագիտացված կենտրոններում և շարունակական հսկողություն պահանջող և առանձին հիվանդությունների բուժման ծառայություններ | H37: =+H39 -> -140000
G38: այդ թվում` ըստ կատարողների
G39: ՀՀ առողջապահության նախարարություն | H39: =+H41 -> -140000
G40: այդ թվում` բյուջետային ծախսերի տնտեսագիտական դասակարգման հոդվածներ
G41: ԸՆԴԱՄԵՆԸ ԾԱԽՍԵՐ | H41: =+H42 -> -140000
G42: ԸՆԹԱՑԻԿ ԾԱԽՍԵՐ | H42: =H43 -> -140000
G43: ՍՈՑԻԱԼԱԿԱՆ ՆՊԱՍՏՆԵՐ ԵՎ ԿԵՆՍԱԹՈՇԱԿՆԵՐ | H43: =+H45 -> -140000
G44: Սոցիալական օգնության դրամական արտահայտությամբ նպաստներ (բյուջեից)
G45: - Այլ նպաստներ բյուջեից | H45: =+'5'!E18 -> -140000
F46: 11006 | G46: Կոլոռեկտալ քաղցկեղի սքրինինգ | H46: =+H48 -> -4000
G47: այդ թվում` ըստ կատարողների
G48: ՀՀ առողջապահության նախարարություն | H48: =+H50 -> -4000
G49: այդ թվում` բյուջետային ծախսերի տնտեսագիտական դասակարգման հոդվածներ
G50: ԸՆԴԱՄԵՆԸ ԾԱԽՍԵՐ | H50: =+H51 -> -4000
G51: ԸՆԹԱՑԻԿ ԾԱԽՍԵՐ | H51: =H52 -> -4000
G52: ՍՈՑԻԱԼԱԿԱՆ ՆՊԱՍՏՆԵՐ ԵՎ ԿԵՆՍԱԹՈՇԱԿՆԵՐ | H52: =+H54 -> -4000
G53: Սոցիալական օգնության դրամական արտահայտությամբ նպաստներ (բյուջեից)
G54: - Այլ նպաստներ բյուջեից | H54: =+'5'!E24 -> -4000
E55: 1200 | G55: Մոր և մանկան առողջության պահպանում | H55: =+H57+H66 -> -30000
G56: այդ թվում`
F57: 11004 | G57: Մտավոր, հոգեկան (վարքագծային), լսողական, ֆիզիկական (շարժողական) և զարգացման այլ խանգարումներով երեխաների գնահատման և վերականգնողական բուժման ծառայություններ | H57: =+H59 -> -10000
G58: այդ թվում` ըստ կատարողների
G59: ՀՀ առողջապահության նախարարություն | H59: =+H61 -> -10000
G60: այդ թվում` բյուջետային ծախսերի տնտեսագիտական դասակարգման հոդվածներ
G61: ԸՆԴԱՄԵՆԸ ԾԱԽՍԵՐ | H61: =+H62 -> -10000
G62: ԸՆԹԱՑԻԿ ԾԱԽՍԵՐ | H62: =H63 -> -10000
G63: ՍՈՑԻԱԼԱԿԱՆ ՆՊԱՍՏՆԵՐ ԵՎ ԿԵՆՍԱԹՈՇԱԿՆԵՐ | H63: =+H65 -> -10000
G64: Սոցիալական օգնության դրամական արտահայտությամբ նպաստներ (բյուջեից)
G65: - Այլ նպաստներ բյուջեից | H65: =+'5'!E70 -> -10000
F66: 11007 | G66: Բնածին հիպոթիրեոզի, ֆենիլկենտոնուրիայի, լսողության և տեսողության (անհասների ռետինոպաթիա) խանգարումների, կոնքազդրային հոդի խախտման վաղ հայտնաբերման նպատակով նորածնային սքրինգների անցկացում | H66: =+H68 -> -20000
G67: այդ թվում` ըստ կատարողների
G68: ՀՀ առողջապահության նախարարություն | H68: =+H70 -> -20000
G69: այդ թվում` բյուջետային ծախսերի տնտեսագիտական դասակարգման հոդվածներ
G70: ԸՆԴԱՄԵՆԸ ԾԱԽՍԵՐ | H70: =+H71 -> -20000
G71: ԸՆԹԱՑԻԿ ԾԱԽՍԵՐ | H71: =H72 -> -20000
G72: ՍՈՑԻԱԼԱԿԱՆ ՆՊԱՍՏՆԵՐ ԵՎ ԿԵՆՍԱԹՈՇԱԿՆԵՐ | H72: =+H74 -> -20000
G73: Սոցիալական օգնության դրամական արտահայտությամբ նպաստներ (բյուջեից)
G74: - Այլ նպաստներ բյուջեից | H74: =+'5'!E76 -> -20000
E75: 1202 | G75: Ոչ վարակիչ հիվանդությունների բժշկական օգնության ապահովում | H75: =+H77 -> 105000
G76: այդ թվում`
F77: 11001 | G77: Հեմոդիալիզի և պերիտոնիալ դիալիզի անցկացման ծառայություններ | H77: =+H79 -> 105000
G78: այդ թվում` ըստ կատարողների
G79: ՀՀ առողջապահության նախարարություն | H79: =+H81 -> 105000
G80: այդ թվում` բյուջետային ծախսերի տնտեսագիտական դասակարգման հոդվածներ
G81: ԸՆԴԱՄԵՆԸ ԾԱԽՍԵՐ | H81: =+H82 -> 105000
G82: ԸՆԹԱՑԻԿ ԾԱԽՍԵՐ | H82: =H83 -> 105000
G83: ՍՈՑԻԱԼԱԿԱՆ ՆՊԱՍՏՆԵՐ ԵՎ ԿԵՆՍԱԹՈՇԱԿՆԵՐ | H83: =+H85 -> 105000
G84: Սոցիալական օգնության դրամական արտահայտությամբ նպաստներ (բյուջեից)
G85: - Այլ նպաստներ բյուջեից | H85: =+'5'!E104 -> 105000
E86: 1208 | G86: Վարակիչ հիվանդությունների կանխարգելման ծրագիր | H86: =+H88 -> 10000
G87: այդ թվում`
F88: 11001 | G88: ՄԻԱՎ/ՁԻԱՀ-ի կանխարգելման և բուժօգնության ծառայություններ | H88: =+H90 -> 10000
G89: այդ թվում` ըստ կատարողների
G90: ՀՀ առողջապահության նախարարություն | H90: =+H92 -> 10000
G91: այդ թվում` բյուջետային ծախսերի տնտեսագիտական դասակարգման հոդվածներ
G92: ԸՆԴԱՄԵՆԸ ԾԱԽՍԵՐ | H92: =+H93 -> 10000
G93: ԸՆԹԱՑԻԿ ԾԱԽՍԵՐ | H93: =H94 -> 10000
G94: ՍՈՑԻԱԼԱԿԱՆ ՆՊԱՍՏՆԵՐ ԵՎ ԿԵՆՍԱԹՈՇԱԿՆԵՐ | H94: =+H96 -> 10000
G95: Սոցիալական օգնության դրամական արտահայտությամբ նպաստներ (բյուջեից)
G96: - Այլ նպաստներ բյուջեից | H96: =+'5'!E156 -> 10000
D97: 04 | G97: Պարաբժշկական ծառայություններ | H97: =+H99 -> -100000
G98: այդ թվում՝
G99: ՀՀ առողջապահության նախարարություն | H99: =+H101 -> -100000
G100: այդ թվում՝
...

Sheet 7
B1: Հավելված № 7
B2: ՀՀ կառավարության 2024 թվականի
B3: __________ «____» -ի
B4: N_____ -Ն որոշման
B5: ՀԱՅԱՍՏԱՆԻ ՀԱՆՐԱՊԵՏՈՒԹՅԱՆ ԿԱՌԱՎԱՐՈՒԹՅԱՆ 2023 ԹՎԱԿԱՆԻ ԴԵԿՏԵՄԲԵՐԻ 28-Ի № 2323-Ն ՈՐՈՇՄԱՆ № 9 ՀԱՎԵԼՎԱԾԻ № 9.8 ԱՂՅՈՒՍԱԿՈՒՄ ԿԱՏԱՐՎՈՂ ՓՈՓՈԽՈՒԹՅՈՒՆՆԵՐԸ
B6: ՀՀ Առողջապահության նախարարություն
B7: ՄԱՍ 2. ՊԵՏԱԿԱՆ ՄԱՐՄՆԻ ԳԾՈՎ ԱՐԴՅՈՒՆՔԱՅԻՆ (ԿԱՏԱՐՈՂԱԿԱՆ) ՑՈՒՑԱՆԻՇՆԵՐԸ
B9: Ծրագրի դասիչը | C9: Ծրագրի անվանումը
B10: 1099 | C10: Առողջության առաջնային պահպանում
B11: Ծրագրի միջոցառումները
B12: Ծրագրի դասիչը` | C12: 1099 | D12: Ցուցանիշների փոփոխությունները (ավելացումները նշված են դրական նշանով, իսկ նվազեցումը` փակագծերում)
B13: Միջոցառման դասիչը` | C13: 11001 | D13: Տարի
B14: Միջոցառման անվանումը` | C14: Ըստ փաստացի կատարողականի փոխհատուցվող ամբուլատոր-պոլիկլինիկական բժշկական օգնության ծառայություններ
B15: Նկարագրությունը` | C15: Հիվանդությունների կանխարգելում, հայտնաբերում, բուժում, նեղ մասնագիտացված ամբուլատոր ծառայություններ, լաբորատոր-գործիքային հետազոտություններ, զորակոչային և նախազորակոչային տարիքի անձանց բուժման և փորձաքննության ամբուլատոր ծառայություններ
B16: Միջոցառման տեսակը` | C16: Ծառայությունների մատուցում
B17: Միջոցառումն իրականացնողի անվանումը | C17: ՀՀ գնումների մասին օրենսդրությանը համապատասխան ընտրված կազմակերպություններ
B18: Արդյունքի չափորոշիչներ
B19: Դպրոցում բժշկական օգնություն և սպասարկում ստացող աշակերտների թիվ, մարդ | D19: 18095
B20: Հղիների նախածննդյան և հետծննդյան հսկողության ընթացքում իրականացվող լաբորատոր-գործիքային ախտորոշիչ հետազոտությունների թիվ, հատ | D20: -18769
B21: Հիվանդությունների կանխարգելում և վերահսկում | D21: 30231
B22: Միջոցառման վրա կատարվող ծախսը (հազար դրամ) | D22: =+'5'!E9 -> 0
B24: Ծրագրի դասիչը` | C24: 1099 | D24: Ցուցանիշների փոփոխությունները` (նվազեցումները նշված են փակագծերում)
B25: Միջոցառման դասիչը` | C25: 11004 | D25: Տարի
B26: Միջոցառման անվանումը` | C26: Ախտորոշման ճշտման նպատակով լաբորատոր-գործիքային ախտորոշիչ հետազոտություններ նեղ մասնագիտացված կենտրոններում և շարունակական հսկողություն պահանջող և առանձին հիվանդությունների բուժման ծառայություններ
B27: Նկարագրությունը` | C27: Ախտորոշման ճշտման նպատակով լաբորատոր-գործիքային ախտորոշիչ հետազոտությունների իրականացում նեղ մասնագիտացված կենտրոններում, առանձին հիվանդությունների (քրոնիկ, դիսպանսեր հսկողություն պահանջող) բժշկական օգնության համալիր միջոցառումների իրականացում
B28: Միջոցառման տեսակը` | C28: Ծառայությունների մատուցում
B29: Ակտիվն օգտագործող կազմակերպության (ների) անվանում(ներ)ը | C29: ՀՀ գնումների մասին օրենսդրությանը համապատասխան ընտրված կազմակերպություններ
B30: Արդյունքի չափորոշիչներ
B31: Հետազոտությունների քանակ, հատ | D31: -26730
B32: Միջոցառման վրա կատարվող ծախսը (հազար դրամ) | D32: =+'5'!E18 -> -140000
B34: Ծրագրի դասիչը` | C34: 1099 | D34: Ցուցանիշների փոփոխությունները` (նվազեցումները նշված են փակագծերում)
B35: Միջոցառման դասիչը` | C35: 11006 | D35: Տարի
B36: Միջոցառման անվանումը` | C36: Կոլոռեկտալ քաղցկեղի սքրինինգ
B37: Նկարագրությունը` | C37: Կոլոռեկտալ քաղցկեղի սքրինինգի իրականացում` նախաքաղցկեղային վիճակները և վաղ փուլի չարորակ նորագոյացությունները հայտնաբերելու նպատակով
B38: Միջոցառման տեսակը` | C38: Ծառայությունների մատուցում
B39: Ակտիվն օգտագործող կազմակերպության (ների) անվանում(ներ)ը | C39: ՀՀ գնումների մասին օրենսդրությանը համապատասխան ընտրված կազմակերպություններ
B40: Արդյունքի չափորոշիչներ
B41: Կոլոռեկտալ քաղցկեղի սկրինինգի հետազոտությունների թիվ | D41: -6290
B42: Միջոցառման վրա կատարվող ծախսը (հազար դրամ) | D42: =+'5'!E24 -> -4000
B44: Ծրագրի դասիչը` | C44: 1099 | D44: Ցուցանիշների փոփոխությունները` (նվազեցումները նշված են փակագծերում)
B45: Միջոցառման դասիչը` | C45: 1201 | D45: Տարի
B46: Միջոցառման անվանումը` | C46: Ըստ մարդաշնչի փոխհատուցվող ամբուլատոր-պոլիկլինիկական բժշկական օգնության ծառայություններ
B47: Նկարագրությունը` | C47: Հիվանդությունների կանխարգելում, հայտնաբերում, բուժում, նեղ մասնագիտացված ամբուլատոր ծառայություններ, լաբորատոր-գործիքային հետազոտություններ, զորակոչային և նախազորակոչային տարիքի անձանց բուժման և փորձաքննության ամբուլատոր ծառայություններ
B48: Միջոցառման տեսակը` | C48: Տրանսֆերտների տրամադրում
B49: Շահառուների ընտրության չափանիշները | C49: Առողջության առաջնային պահպանման ծառայություններից պետության կողմից երաշխավորված անվճար և արտոնյալ պայմաններով բժշկական օգնության և պասարկման իրավունք ունեցող ՀՀ յուրաքանչյուր քաղաքացի
B50: Արդյունքի չափորոշիչներ
B51: Բնակչության առողջության առաջնային պահպանման գծով կազմակերպություններում գրանցված բնակչության թիվ, մարդ ,այդ թվում` | D51: -115230
B52: Տեղամասային թերապևտի, ընտանեկան բժշկի կողմից կազմակերպություններում գրանցված բնակչության թիվ` 18 և ավելի բարձր տարիքի անձինք, մարդ | D52: -105670
B53: Տեղամասային մանկաբույժի, ընտանեկան բժշկի կողմից կազմակերպություններում գրանցված բնակչության թիվ` մինչև 18տ. երեխաներ, մարդ | D53: -9560
B54: Միջոցառման վրա կատարվող ծախսը (հազար դրամ) | D54: =+'5'!E30 -> -4000
B56: Ծրագրի դասիչը | C56: Ծրագրի անվանումը
B57: 1142 | C57: Դատաբժշկական և ախտաբանաանատոմիական ծառայություններ
B58: Ծրագրի միջոցառումները
B59: Ծրագրի դասիչը` | C59: 1142 | D59: Ցուցանիշների փոփոխությունները (ավելացումները նշված են դրական նշանով, իսկ նվազեցումը` փակագծերում)
B60: Միջոցառման դասիչը` | C60: 11001 | D60: Տարի
B61: Միջոցառման անվանումը` | C61: Դատաբժշկական փորձաքննություններ
B62: Նկարագրությունը` | C62: Հանրապետության ուժային մարմինների որոշումների հիման վրա դատաբժշկական և գենետիկ փորձաքննությունների ապահովում` մահերի պատճառների վերհանման նպատակով դիակների փորձաքննություն
B63: Միջոցառման տեսակը` | C63: Ծառայությունների մատուցում
B64: Միջոցառումն իրականացնողի անվանումը | C64: Մասնագիտացված կազմակերպություն (ներ)
B65: Արդյունքի չափորոշիչներ
B66: Դատաբժշկական փորձաքննությունների թիվ, հատ | D66: 44
B67: Դիակի փորձաքննությունների թիվ, հատ | D67: 656
B68: Կենդանի անձի փորձաքննությունների թիվ, հատ | D68: 2980
B69: Հյուսվածքաբանական փորձաքննությունների թիվ, հատ | D69: 2467
B70: Համալիր փորձաքննությունների թիվ, հատ | D70: 30
B71: Դատագենետիկական փորձաքննություն | D71: -1273
B72: Միջոցառման վրա կատարվող ծախսը (հազար դրամ) | D72: =+'5'!E44 -> 27000
B74: Ծրագրի դասիչը` | C74: 1142 | D74: Ցուցանիշների փոփոխությունները (նվազեցումները նշված են փակագծերում)
B75: Միջոցառման դասիչը` | C75: 11002 | D75: Տարի
B76: Միջոցառման անվանումը` | C76: Ախտաբանաանատոմիական հետազոտություններ
B77: Նկարագրությունը` | C77: Մանկական մահերի հիվանդությունների պատճառների բացահայտում` մանկամահացության մակարդակը նվազեցնելու նպատակով
B78: Միջոցառման տեսակը` | C78: Ծառայությունների մատուցում
B79: Միջոցառումն իրականացնողի անվանումը | C79: ՀՀ գնումների մասին օրենսդրությանը համապատասխան ընտրված կազմակերպություններ
B80: Արդյունքի չափորոշիչներ
B81: Ախտաբանաանատոմիական դիահերձումների թիվ, հատ | D81: -56
B82: Վիրահատական և բիոպսիոն նյութերի հետազոտությունների թիվ, հատ | D82: -1916
B83: Միջոցառման վրա կատարվող ծախսը (հազար դրամ) | D83: =+'5'!E59 -> 0
B85: Ծրագրի դասիչը | C85: Ծրագրի անվանումը
B86: 1200 | C86: Մոր և մանկան առողջության պահպանում
B87: Ծրագրի միջոցառումները
B88: Ծրագրի դասիչը` | C88: 1200 | D88: Ցուցանիշների փոփոխությունները` (նվազեցումները նշված են փակագծերում)
B89: Միջոցառման դասիչը` | C89: 11001 | D89: Տարի
B90: Միջոցառման անվանումը` | C90: Մանկաբարձական բժշկական օգնության ծառայություններ
B91: Նկարագրությունը` | C91: Մանկաբարձական բժշկական օգնության համալիր միջոցառումների իրականացում, հղիության ախտաբանական ընթացքի բժշկական օգնություն և ծննդօգնություն
B92: Միջոցառման տեսակը` | C92: Ծառայությունների մատուցում
B93: Միջոցառումն իրականացնողի անվանումը | C93: ՀՀ գնումների մասին օրենսդրությանը համապատասխան ընտրված կազմակերպություններ
B94: Արդյունքի չափորոշիչներ
B95: Մանկաբարձական բժշկական օգնության ծառայություններից օգտվելու դեպքերի թիվ, հատ | D95: -4131
B96: Ծնունդների թիվ, հատ, որից | D96: -3114
B97: Կեսարյան հատումների թիվ, հատ | D97: -267
B98: Միջոցառման վրա կատարվող ծախսը (հազար դրամ) | D98: =+'5'!E58 -> -30000
B100: Ծրագրի դասիչը` | C100: 1200 | D100: Ցուցանիշների փոփոխությունները (ավելացումները նշված են դրական նշանով, իսկ նվազեցումը` փակագծերում)
B101: Միջոցառման դասիչը` | C101: 11003 | D101: Տարի
B102: Միջոցառման անվանումը` | C102: Երեխաներին բժշկական օգնության ծառայություններ
B103: Նկարագրությունը` | C103: Երեխաների (0-18 տարեկան երեխաներին) հիվանդանոցային բժշկական օգնության իրականացում (հետազոտում, ախտորոշում, բուժում)
B104: Միջոցառման տեսակը` | C104: Ծառայությունների մատուցում
B105: Միջոցառումն իրականացնողի անվանումը | C105: ՀՀ գնումների մասին օրենսդրությանը համապատասխան ընտրված կազմակերպություններ
B106: Արդյունքի չափորոշիչներ
B107: Երեխաների բժշկական օգնության գծով ծառայություններից օգտվելու դեպքերի թիվ, հատ | D107: 17420
B108: ցերակային ստացիոնար և կարճաժամկետ կամ փոքր ծավալի բուժօգնության դեպքերի թիվ, հատ | D108: 319
...

Sheet 8
B1: Հավելված № 8
B2: ՀՀ կառավարության 2024 թվականի
B3: __________ «____» -ի
B4: N_____ -Ն որոշման
B5: ՀԱՅԱՍՏԱՆԻ ՀԱՆՐԱՊԵՏՈՒԹՅԱՆ ԿԱՌԱՎԱՐՈՒԹՅԱՆ 2023 ԹՎԱԿԱՆԻ ԴԵԿՏԵՄԲԵՐԻ 28-Ի № 2323-Ն ՈՐՈՇՄԱՆ № 9.1 ՀԱՎԵԼՎԱԾԻ № 9.1.8 ԱՂՅՈՒՍԱԿՈՒՄ ԿԱՏԱՐՎՈՂ ՓՈՓՈԽՈՒԹՅՈՒՆՆԵՐԸ
B6: ՀՀ Առողջապահության նախարարություն
B7: ՄԱՍ 1. ՊԵՏԱԿԱՆ ՄԱՐՄՆԻ ԳԾՈՎ ԱՐԴՅՈՒՆՔԱՅԻՆ (ԿԱՏԱՐՈՂԱԿԱՆ) ՑՈՒՑԱՆԻՇՆԵՐԸ
B9: Ծրագրի դասիչը | C9: Ծրագրի անվանումը
B10: 1099 | C10: Առողջության առաջնային պահպանում
B11: Ծրագրի միջոցառումները
B12: Ծրագրի դասիչը` | C12: 1099 | D12: Ցուցանիշների փոփոխությունները (ավելացումը նշված է դրական նշանով, իսկ նվազեցումը` փակագծերում)
B13: Միջոցառման դասիչը` | C13: 11001 | D13: Տարի
B14: Միջոցառման անվանումը` | C14: Ըստ փաստացի կատարողականի փոխհատուցվող ամբուլատոր-պոլիկլինիկական բժշկական օգնության ծառայություններ
B15: Նկարագրությունը` | C15: Հիվանդությունների կանխարգելում, հայտնաբերում, բուժում, նեղ մասնագիտացված ամբուլատոր ծառայություններ, լաբորատոր-գործիքային հետազոտություններ, զորակոչային և նախազորակոչային տարիքի անձանց բուժման և փորձաքննության ամբուլատոր ծառայություններ
B16: Միջոցառման տեսակը` | C16: Ծառայությունների մատուցում
B17: Միջոցառումն իրականացնողի անվանումը | C17: ՀՀ գնումների մասին օրենսդրությանը համապատասխան ընտրված կազմակերպություններ
B18: Արդյունքի չափորոշիչներ
B19: Դպրոցում բժշկական օգնություն և սպասարկում ստացող աշակերտների թիվ, մարդ | D19: 18095
B20: Հղիների նախածննդյան և հետծննդյան հսկողության ընթացքում իրականացվող լաբորատոր-գործիքային ախտորոշիչ հետազոտությունների թիվ, հատ | D20: -18769
B21: Հիվանդությունների կանխարգելում և վերահսկում | D21: 30231
B22: Միջոցառման վրա կատարվող ծախսը (հազար դրամ) | D22: =+'5'!E9 -> 0
B24: Ծրագրի դասիչը` | C24: 1099 | D24: Ցուցանիշների փոփոխությունները` (նվազեցումը նշված է փակագծերում)
B25: Միջոցառման դասիչը` | C25: 11004 | D25: Տարի
B26: Միջոցառման անվանումը` | C26: Ախտորոշման ճշտման նպատակով լաբորատոր-գործիքային ախտորոշիչ հետազոտություններ նեղ մասնագիտացված կենտրոններում և շարունակական հսկողություն պահանջող և առանձին հիվանդությունների բուժման ծառայություններ
B27: Նկարագրությունը` | C27: Ախտորոշման ճշտման նպատակով լաբորատոր-գործիքային ախտորոշիչ հետազոտությունների իրականացում նեղ մասնագիտացված կենտրոններում, առանձին հիվանդությունների (քրոնիկ, դիսպանսեր հսկողություն պահանջող) բժշկական օգնության համալիր միջոցառումների իրականացում
B28: Միջոցառման տեսակը` | C28: Ծառայությունների մատուցում
B29: Ակտիվն օգտագործող կազմակերպության (ների) անվանում(ներ)ը | C29: ՀՀ գնումների մասին օրենսդրությանը համապատասխան ընտրված կազմակերպություններ
B30: Արդյունքի չափորոշիչներ
B31: Հետազոտությունների քանակ, հատ | D31: -26730
B32: Միջոցառման վրա կատարվող ծախսը (հազար դրամ) | D32: =+'5'!E18 -> -140000
B34: Ծրագրի դասիչը` | C34: 1099 | D34: Ցուցանիշների փոփոխությունները` (նվազեցումը նշված է փակագծերում)
B35: Միջոցառման դասիչը` | C35: 11006 | D35: Տարի
B36: Միջոցառման անվանումը` | C36: Կոլոռեկտալ քաղցկեղի սքրինինգ
B37: Նկարագրությունը` | C37: Կոլոռեկտալ քաղցկեղի սքրինինգի իրականացում` նախաքաղցկեղային վիճակները և վաղ փուլի չարորակ նորագոյացությունները հայտնաբերելու նպատակով
B38: Միջոցառման տեսակը` | C38: Ծառայությունների մատուցում
B39: Ակտիվն օգտագործող կազմակերպության (ների) անվանում(ներ)ը | C39: ՀՀ գնումների մասին օրենսդրությանը համապատասխան ընտրված կազմակերպություններ
B40: Արդյունքի չափորոշիչներ
B41: Կոլոռեկտալ քաղցկեղի սկրինինգի հետազոտությունների թիվ | D41: -6290
B42: Միջոցառման վրա կատարվող ծախսը (հազար դրամ) | D42: =+'5'!E24 -> -4000
B44: Ծրագրի դասիչը` | C44: 1099 | D44: Ցուցանիշների փոփոխությունները` (նվազեցումը նշված է փակագծերում)
B45: Միջոցառման դասիչը` | C45: 1201 | D45: Տարի
B46: Միջոցառման անվանումը` | C46: Ըստ մարդաշնչի փոխհատուցվող ամբուլատոր-պոլիկլինիկական բժշկական օգնության ծառայություններ
B47: Նկարագրությունը` | C47: Հիվանդությունների կանխարգելում, հայտնաբերում, բուժում, նեղ մասնագիտացված ամբուլատոր ծառայություններ, լաբորատոր-գործիքային հետազոտություններ, զորակոչային և նախազորակոչային տարիքի անձանց բուժման և փորձաքննության ամբուլատոր ծառայություններ
B48: Միջոցառման տեսակը` | C48: Տրանսֆերտների տրամադրում
B49: Շահառուների ընտրության չափանիշները | C49: Առողջության առաջնային պահպանման ծառայություններից պետության կողմից երաշխավորված անվճար և արտոնյալ պայմաններով բժշկական օգնության և պասարկման իրավունք ունեցող ՀՀ յուրաքանչյուր քաղաքացի
B50: Արդյունքի չափորոշիչներ
B51: Բնակչության առողջության առաջնային պահպանման գծով կազմակերպություններում գրանցված բնակչության թիվ, մարդ ,այդ թվում` | D51: -115230
B52: Տեղամասային թերապևտի, ընտանեկան բժշկի կողմից կազմակերպություններում գրանցված բնակչության թիվ` 18 և ավելի բարձր տարիքի անձինք, մարդ | D52: -105670
B53: Տեղամասային մանկաբույժի, ընտանեկան բժշկի կողմից կազմակերպություններում գրանցված բնակչության թիվ` մինչև 18տ. երեխաներ, մարդ | D53: -9560
B54: Միջոցառման վրա կատարվող ծախսը (հազար դրամ) | D54: =+'5'!E30 -> -4000
B56: Ծրագրի դասիչը | C56: Ծրագրի անվանումը
B57: 1142 | C57: Դատաբժշկական և ախտաբանաանատոմիական ծառայություններ
B58: Ծրագրի միջոցառումները
B59: Ծրագրի դասիչը` | C59: 1142 | D59: Ցուցանիշների փոփոխությունները (ավելացումը նշված է դրական նշանով, իսկ նվազեցումը` փակագծերում)
B60: Միջոցառման դասիչը` | C60: 11001 | D60: Տարի
B61: Միջոցառման անվանումը` | C61: Դատաբժշկական փորձաքննություններ
B62: Նկարագրությունը` | C62: Հանրապետության ուժային մարմինների որոշումների հիման վրա դատաբժշկական և գենետիկ փորձաքննությունների ապահովում` մահերի պատճառների վերհանման նպատակով դիակների փորձաքննություն
B63: Միջոցառման տեսակը` | C63: Ծառայությունների մատուցում
B64: Միջոցառումն իրականացնողի անվանումը | C64: Մասնագիտացված կազմակերպություն (ներ)
B65: Արդյունքի չափորոշիչներ
B66: Դատաբժշկական փորձաքննությունների թիվ, հատ | D66: 44
B67: Դիակի փորձաքննությունների թիվ, հատ | D67: 656
B68: Կենդանի անձի փորձաքննությունների թիվ, հատ | D68: 2980
B69: Հյուսվածքաբանական փորձաքննությունների թիվ, հատ | D69: 2467
B70: Համալիր փորձաքննությունների թիվ, հատ | D70: 30
B71: Դատագենետիկական փորձաքննություն | D71: -1273
B72: Միջոցառման վրա կատարվող ծախսը (հազար դրամ) | D72: =+'5'!E44 -> 27000
B74: Ծրագրի դասիչը` | C74: 1142 | D74: Ցուցանիշների փոփոխությունները (նվազեցումը նշված է փակագծերում)
B75: Միջոցառման դասիչը` | C75: 11002 | D75: Տարի
B76: Միջոցառման անվանումը` | C76: Ախտաբանաանատոմիական հետազոտություններ
B77: Նկարագրությունը` | C77: Մանկական մահերի հիվանդությունների պատճառների բացահայտում` մանկամահացության մակարդակը նվազեցնելու նպատակով
B78: Միջոցառման տեսակը` | C78: Ծառայությունների մատուցում
B79: Միջոցառումն իրականացնողի անվանումը | C79: ՀՀ գնումների մասին օրենսդրությանը համապատասխան ընտրված կազմակերպություններ
B80: Արդյունքի չափորոշիչներ
B81: Ախտաբանաանատոմիական դիահերձումների թիվ, հատ | D81: -56
B82: Վիրահատական և բիոպսիոն նյութերի հետազոտությունների թիվ, հատ | D82: -1916
B83: Միջոցառման վրա կատարվող ծախսը (հազար դրամ) | D83: =+'5'!E59 -> 0
B85: Ծրագրի դասիչը | C85: Ծրագրի անվանումը
B86: 1200 | C86: Մոր և մանկան առողջության պահպանում
B87: Ծրագրի միջոցառումները
B88: Ծրագրի դասիչը` | C88: 1200 | D88: Ցուցանիշների փոփոխությունները` (նվազեցումը նշված է փակագծերում)
B89: Միջոցառման դասիչը` | C89: 11001 | D89: Տարի
B90: Միջոցառման անվանումը` | C90: Մանկաբարձական բժշկական օգնության ծառայություններ
B91: Նկարագրությունը` | C91: Մանկաբարձական բժշկական օգնության համալիր միջոցառումների իրականացում, հղիության ախտաբանական ընթացքի բժշկական օգնություն և ծննդօգնություն
B92: Միջոցառման տեսակը` | C92: Ծառայությունների մատուցում
B93: Միջոցառումն իրականացնողի անվանումը | C93: ՀՀ գնումների մասին օրենսդրությանը համապատասխան ընտրված կազմակերպություններ
B94: Արդյունքի չափորոշիչներ
B95: Մանկաբարձական բժշկական օգնության ծառայություններից օգտվելու դեպքերի թիվ, հատ | D95: -4131
B96: Ծնունդների թիվ, հատ, որից | D96: -3114
B97: Կեսարյան հատումների թիվ, հատ | D97: -267
B98: Միջոցառման վրա կատարվող ծախսը (հազար դրամ) | D98: =+'5'!E58 -> -30000
B100: Ծրագրի դասիչը` | C100: 1200 | D100: Ցուցանիշների փոփոխությունները (ավելացումը նշված է դրական նշանով, իսկ նվազեցումը` փակագծերում)
B101: Միջոցառման դասիչը` | C101: 11003 | D101: Տարի
B102: Միջոցառման անվանումը` | C102: Երեխաներին բժշկական օգնության ծառայություններ
B103: Նկարագրությունը` | C103: Երեխաների (0-18 տարեկան երեխաներին) հիվանդանոցային բժշկական օգնության իրականացում (հետազոտում, ախտորոշում, բուժում)
B104: Միջոցառման տեսակը` | C104: Ծառայությունների մատուցում
B105: Միջոցառումն իրականացնողի անվանումը | C105: ՀՀ գնումների մասին օրենսդրությանը համապատասխան ընտրված կազմակերպություններ
B106: Արդյունքի չափորոշիչներ
B107: Երեխաների բժշկական օգնության գծով ծառայություններից օգտվելու դեպքերի թիվ, հատ | D107: 17420
B108: ցերակային ստացիոնար և կարճաժամկետ կամ փոքր ծավալի բուժօգնության դեպքերի թիվ, հատ | D108: 319
...
