Workbook

Sheet Հավելված 1
F1: Հավելված N 1
F2: ՀՀ կառավարության 2024 թվականի N -Ն որոշման
A3: ՀԱՅԱՍՏԱՆԻ ՀԱՆՐԱՊԵՏՈՒԹՅԱՆ ԿԱՌԱՎԱՐՈՒԹՅԱՆ 2024 ԹՎԱԿԱՆԻ ԴԵԿՏԵՄԲԵՐԻ 27-Ի N 2060-Ն ՈՐՈՇՄԱՆ N 3 ԵՎ 4 ՀԱՎԵԼՎԱԾՆԵՐՈՒՄ ԿԱՏԱՐՎՈՂ ՓՈՓՈԽՈՒԹՅՈՒՆՆԵՐԸ ԵՎ ԼՐԱՑՈՒՄՆԵՐԸ
I4: հազար դրամներով
A5: Գործառական դասիչը | D5: Ծրագրային դասիչը | F5: Բյուջետային ծախսերի գործառական դասակարգման բաժինների, խմբերի և դասերի, բյուջետային ծրագրերի միջոցառումների, բյուջետային հատկացումների գլխավոր կարգադրիչների անվանումները | G5: Ցուցանիշների փոփոխությունը (ավելացումները նշված են դրական նշանով, իսկ նվազեցումները՝ փակագծերում)
A6: Բաժին | B6: Խումբ | C6: Դաս | D6: Ծրագիր | E6: Միջոցառում | G6: Առաջին եռամսյակ | H6: Առաջին կիսամյակ | I6: Ինն ամիս | J6: Տարի
F7: ԸՆԴԱՄԵՆԸ ԾԱԽՍԵՐ | G7: =G17 -> 0 | H7: =H17 -> 0 | I7: =I17 -> 0 | J7: =J17 -> 0
A8: 01 | F8: ԸՆԴՀԱՆՈՒՐ ԲՆՈՒՅԹԻ ՀԱՆՐԱՅԻՆ ԾԱՌԱՅՈՒԹՅՈՒՆՆԵՐ
F9: այդ թվում`
B10: 03 | F10: Ընդհանուր բնույթի ծառայություններ
F11: այդ թվում`
C12: 02 | F12: Ծրագրման և վիճակագրական ընդհանուր ծառայություններ
F13: այդ թվում`
F14: ՀՀ ԲԱՐՁՐ ՏԵԽՆՈԼՈԳԻԱԿԱՆ ԱՐԴՅՈՒՆԱԲԵՐՈՒԹՅԱՆ ՆԱԽԱՐԱՐՈՒԹՅՈՒՆ
D15: 1235 | F15: Թվային փոխակերպման գործընթացի իրականացում
F16: այդ թվում`
E17: 31001 | F17: Միասնական թվային միջավայրի ձևավորում | G17: =G19+G26 -> 0 | H17: =H19+H26 -> 0 | I17: =I19+I26 -> 0 | J17: =J19+J26 -> 0
F18: այդ թվում` ըստ կատարողների
F19: ՀՀ կառավարություն | G19: =G20 -> -73336.972 | H19: =H20 -> -73336.972 | I19: =I20 -> -73336.972 | J19: =J20 -> -73336.972
F20: այդ թվում` բյուջետային ծախսերի տնտեսագիտական դասակարգման հոդվածներ | G20: =G21 -> -73336.972 | H20: =H21 -> -73336.972 | I20: =I21 -> -73336.972 | J20: =J21 -> -73336.972
F21: ԸՆԴԱՄԵՆԸ ԾԱԽՍԵՐ | G21: =G22 -> -73336.972 | H21: =H22 -> -73336.972 | I21: =I22 -> -73336.972 | J21: =J22 -> -73336.972
F22: ՈՉ ՖԻՆԱՆՍԱԿԱՆ ԱԿՏԻՎՆԵՐԻ ԳԾՈՎ ԾԱԽՍԵՐ | G22: =G23 -> -73336.972 | H22: =H23 -> -73336.972 | I22: =I23 -> -73336.972 | J22: =J23 -> -73336.972
F23: ՀԻՄՆԱԿԱՆ ՄԻՋՈՑՆԵՐ | G23: =G24 -> -73336.972 | H23: =H24 -> -73336.972 | I23: =I24 -> -73336.972 | J23: =J24 -> -73336.972
F24: ԱՅԼ ՀԻՄՆԱԿԱՆ ՄԻՋՈՑՆԵՐ | G24: =G25 -> -73336.972 | H24: =H25 -> -73336.972 | I24: =I25 -> -73336.972 | J24: =J25 -> -73336.972
F25: - Ոչ նյութական հիմնական միջոցներ | G25: -73336.972 | H25: -73336.972 | I25: -73336.972 | J25: -73336.972
F26: ՀՀ կենտրոնական ընտրական հանձնաժողով | G26: =G28 -> 73336.972 | H26: =H28 -> 73336.972 | I26: =I28 -> 73336.972 | J26: =J28 -> 73336.972
F27: այդ թվում` բյուջետային ծախսերի տնտեսագիտական դասակարգման հոդվածներ
F28: ԸՆԴԱՄԵՆԸ ԾԱԽՍԵՐ | G28: =G29 -> 73336.972 | H28: =H29 -> 73336.972 | I28: =I29 -> 73336.972 | J28: =J29 -> 73336.972
F29: ՈՉ ՖԻՆԱՆՍԱԿԱՆ ԱԿՏԻՎՆԵՐԻ ԳԾՈՎ ԾԱԽՍԵՐ | G29: =G30 -> 73336.972 | H29: =H30 -> 73336.972 | I29: =I30 -> 73336.972 | J29: =J30 -> 73336.972
F30: ՀԻՄՆԱԿԱՆ ՄԻՋՈՑՆԵՐ | G30: =+G31 -> 73336.972 | H30: =+H31 -> 73336.972 | I30: =+I31 -> 73336.972 | J30: =+J31 -> 73336.972
F31: ՄԵՔԵՆԱՆԵՐ ԵՎ ՍԱՐՔԱՎՈՐՈՒՄՆԵՐ | G31: =G32 -> 73336.972 | H31: =H32 -> 73336.972 | I31: =I32 -> 73336.972 | J31: =J32 -> 73336.972
F32: - Վարչական սարքավորումներ | G32: 73336.972 | H32: 73336.972 | I32: 73336.972 | J32: 73336.972

Sheet Հավելված 2
C1: Հավելված N 2
C2: ՀՀ կառավարության 2025 թվականի N -Ն որոշման
A3: ՀԱՅԱՍՏԱՆԻ ՀԱՆՐԱՊԵՏՈՒԹՅԱՆ ԿԱՌԱՎԱՐՈՒԹՅԱՆ 2024 ԹՎԱԿԱՆԻ ԴԵԿՏԵՄԲԵՐԻ 27-Ի N 2060-Ն ՈՐՈՇՄԱՆ N 5 ՀԱՎԵԼՎԱԾԻ N2 ԱՂՅՈՒՍԱԿՈՒՄ ԿԱՏԱՐՎՈՂ ՓՈՓՈԽՈՒԹՅՈՒՆՆԵՐԸ ԵՎ ԼՐԱՑՈՒՄՆԵՐԸ
F4: հազար դրամներով
A5: Ծրագրային դասիչ | C5: Բյուջետային գլխավոր կարգադրիչների, ծրագրերի, միջոցառումների և ուղղությունների անվանումները | D5: (ավելացումները նշված են դրական նշանով, իսկ նվազեցումները՝ փակագծերում)
A6: Ծրագիր | B6: Միջոց առում | D6: Առաջին եռամսյակ | E6: Առաջին կիսամյակ | F6: Ինն ամիս | G6: Տարի
C7: ՀՀ բարձր տեխնոլոգիական արդյունաբերության նախարարություն | D7: =+D9 -> 0 | E7: =+E9 -> 0 | F7: =+F9 -> 0 | G7: =+G9 -> 0
C8: այդ թվում՛
A9: 1235 | B9: 31001 | C9: Միասնական թվային միջավայրի ձևավորում | D9: =+D11+D12 -> 0 | E9: =+E11+E12 -> 0 | F9: =+F11+F12 -> 0 | G9: =+G11+G12 -> 0
C10: այդ թվում` ըստ կատարողների
C11: ՀՀ կառավարություն | D11: ='Հավելված 1'!G25 -> -73336.972 | E11: ='Հավելված 1'!H25 -> -73336.972 | F11: ='Հավելված 1'!I25 -> -73336.972 | G11: ='Հավելված 1'!J25 -> -73336.972
C12: ՀՀ կենտրոնական ընտրական հանձնաժողով | D12: ='Հավելված 1'!G32 -> 73336.972 | E12: ='Հավելված 1'!H32 -> 73336.972 | F12: ='Հավելված 1'!I32 -> 73336.972 | G12: ='Հավելված 1'!J32 -> 73336.972

Sheet Հավելված 3
J1: Հավելված N 3
J2: ՀՀ կառավարության 2025 թվականի N -Ն որոշման
A3: ՀԱՅԱՍՏԱՆԻ ՀԱՆՐԱՊԵՏՈՒԹՅԱՆ ԿԱՌԱՎԱՐՈՒԹՅԱՆ 2024 ԹՎԱԿԱՆԻ ԴԵԿՏԵՄԲԵՐԻ 27-Ի N2060-Ն ՈՐՈՇՄԱՆ N 9.1 ՀԱՎԵԼՎԱԾՈՒՄ ԿԱՏԱՐՎՈՂ ՓՈՓՈԽՈՒԹՅՈՒՆՆԵՐԸ ԵՎ ԼՐԱՑՈՒՄՆԵՐԸ
L4: հազար դրամներով
A5: ԲՍԿ | B5: Ծրագիր | D5: Միջոցառում | H5: Իրականացնողը/ ակտիվն օգտագործողը/ շահառուի ընտրության չափորոշիչը | I5: Արդյունքային չափորոշիչը | J5: Ցուցանիշների փոփոխությունը (ավելացումները նշված են դրական նշանով, իսկ նվազեցումները նշված են փակագծերում)
B6: Դասիչը | C6: Անվանումը | D6: Դասիչը | E6: Անվանումը | F6: Նկարագրությունը | G6: Տեսակը | J6: Առաջին եռամսյակ | K6: Առաջին կիսամյակ | L6: Ինն ամիս | M6: Տարի
A7: ԸՆԴԱՄԵՆԸ | J7: =J8+J14 -> 0 | K7: =K8+K14 -> 0 | L7: =L8+L14 -> 0 | M7: =M8+M14 -> 0
A8: ՀՀ կառավարություն | J8: =J9 -> -73336.972 | K8: =K9 -> -73336.972 | L8: =L9 -> -73336.972 | M8: =M9 -> -73336.972
B9: 1235 | C9: Թվային փոխակերպման գործընթացի իրականացում | J9: =J10 -> -73336.972 | K9: =K10 -> -73336.972 | L9: =L10 -> -73336.972 | M9: =M10 -> -73336.972
D10: 1235 - 31001 | E10: Միասնական թվային միջավայրի ձևավորում | J10: =+'Հավելված 2'!D11 -> -73336.972 | K10: =+'Հավելված 2'!E11 -> -73336.972 | L10: =+'Հավելված 2'!F11 -> -73336.972 | M10: =+'Հավելված 2'!G11 -> -73336.972
F11: Թվային փոխակերպման գործընթացի շրջանակներում թվայնացման համակարգերի ներդրում և կայքերի արդիականացում
G12: Պետական մարմինների կողմից օգտագործվող ոչ ֆինանսական ակտիվների հետ գործառնություններ
H13: Ակտիվն օգտագործող կազմակերպության անվանումը` Հանրային իշխանության մարմիններ
A14: ՀՀ կենտրոնական ընտրական հանձնաժողով | J14: =J15 -> 73336.972 | K14: =K15 -> 73336.972 | L14: =L15 -> 73336.972 | M14: =M15 -> 73336.972
B15: 1235 | C15: Թվային փոխակերպման գործընթացի իրականացում | J15: =J16 -> 73336.972 | K15: =K16 -> 73336.972 | L15: =L16 -> 73336.972 | M15: =M16 -> 73336.972
D16: 1235 - 31001 | E16: Միասնական թվային միջավայրի ձևավորում | J16: =+'Հավելված 2'!D12 -> 73336.972 | K16: =+'Հավելված 2'!E12 -> 73336.972 | L16: =+'Հավելված 2'!F12 -> 73336.972 | M16: =+'Հավելված 2'!G12 -> 73336.972
F17: Թվային փոխակերպման գործընթացի շրջանակներում թվայնացման համակարգերի ներդրում և կայքերի արդիականացում
G18: Պետական մարմինների կողմից օգտագործվող ոչ ֆինանսական ակտիվների հետ գործառնություններ
H19: Ակտիվն օգտագործող կազմակերպության անվանումը` Հանրային իշխանության մարմիններ
I20: Անվտանգության ապահովման սարքեր | K20: 85 | M20: 85
I21: Ցանցային բաժանարար | K21: 1 | M21: 1

Sheet Հավելված 4
B1: Հավելված N 4
A2: ՀՀ կառավարության 2025 թվականի
A3: ______________ ի ___Ն որոշման
A4: ՀԱՅԱՍՏԱՆԻ ՀԱՆՐԱՊԵՏՈՒԹՅԱՆ ԿԱՌԱՎԱՐՈՒԹՅԱՆ 2024 ԹՎԱԿԱՆԻ ԴԵԿՏԵՄԲԵՐԻ 27-Ի N 2060-Ն ՈՐՈՇՄԱՆ N 10 ՀԱՎԵԼՎԱԾՈՒՄ ԿԱՏԱՐՎՈՂ ՓՈՓՈԽՈՒԹՅՈՒՆՆԵՐԸ ԵՎ ԼՐԱՑՈՒՄՆԵՐԸ
A5: Կոդը | B5: Անվանումը | C5: Գնման ձևը | D5: Չափման միավորը | E5: Միավորի գինը | F5: Ցուցանիշների փոփոխությունը (ավելացումները նշված են դրական նշանով)
F6: Քանակը | G6: Գումարը (հազար դրամով)
A7: ՀՀ կենտրոնական ընտրական հանձնաժողով | G7: =+G8 -> 73336.97
A8: Բաժին N 01 | B8: Խումբ N 03 | C8: Դաս N 02 | D8: Ծրագրման և վիճակագրական ընդհանուր ծառայություններ | G8: =+G11+G12 -> 73336.97
A9: 1235 31001 | B9: Միասնական թվային միջավայրի ձևավորում
B10: ՄԱՍ I. ԱՊՐԱՆՔՆԵՐ
A11: 32421300/501 | B11: Ցանցային բաժանարար | C11: ԷԱՃ | D11: հատ | E11: 4556772 | F11: 1 | G11: 4556.77
A12: 35111240/501 | B12: Անվտանգության ապահովման սարքեր | C12: ԳՀ | D12: հատ | E12: 68780200 | F12: 1 | G12: 68780.2
