Workbook
Name a: #REF!
Name a: #REF!
Name a: #REF!
Name AgencyCode: #REF!
Name AgencyCode: #REF!
Name AgencyCode: #REF!
Name AgencyCode: #REF!
Name AgencyCode: #REF!
Name AgencyCode: #REF!
Name AgencyName: #REF!
Name AgencyName: #REF!
Name AgencyName: #REF!
Name åû: #REF!
Name åû: #REF!
Name davit: #REF!
Name davit: #REF!
Name Functional1: #REF!
Name Functional1: #REF!
Name Functional1: #REF!
Name ggg: #REF!
Name ggg: #REF!
Name mas: #REF!
Name mas: #REF!
Name mass: #REF!
Name mass: #REF!
Name PANature: #REF!
Name PANature: #REF!
Name PANature: #REF!
Name PAType: #REF!
Name PAType: #REF!
Name PAType: #REF!
Name Performance2: #REF!
Name Performance2: #REF!
Name Performance2: #REF!
Name PerformanceType: #REF!
Name PerformanceType: #REF!
Name PerformanceType: #REF!
Name x: #REF!
Name x: #REF!
Name Հավելված: #REF!
Name Հավելված: #REF!
Name Հավելված10: #REF!
Name Հավելված10: #REF!
Name Հավելված11: #REF!
Name Հավելված11: #REF!
Name Հավելված20: #REF!
Name Հավելված20: #REF!
Name Հավելված9: #REF!
Name Հավելված9: #REF!
Name Մաս: #REF!
Name Մաս: #REF!
Name շախմատիստ: #REF!
Name շախմատիստ: #REF!

Sheet Հավելված N 1
F1: Հավելված N 1
F2: ՀՀ կառավարության 2025 թվականի
F3: ______________ ի ___Ն որոշման
A6: «ՀԱՅԱUՏԱՆԻ ՀԱՆՐԱՊԵՏՈՒԹՅԱՆ 2025 ԹՎԱԿԱՆԻ ՊԵՏԱԿԱՆ ԲՅՈՒՋԵԻ ՄԱUԻՆ» ՀԱՅԱUՏԱՆԻ ՀԱՆՐԱՊԵՏՈՒԹՅԱՆ OՐԵՆՔԻ N 1 ՀԱՎԵԼՎԱԾԻ N 2 ԱՂՅՈՒՍԱԿՈՒՄ ԿԱՏԱՐՎՈՂ ՎԵՐԱԲԱՇԽՈՒՄԸ ԵՎ ՀԱՅԱՍՏԱՆԻ ՀԱՆՐԱՊԵՏՈՒԹՅԱՆ ԿԱՌԱՎԱՐՈՒԹՅԱՆ 2024 ԹՎԱԿԱՆԻ ԴԵԿՏԵՄԲԵՐԻ 27-Ի N 2060-Ն ՈՐՈՇՄԱՆ N 5 ՀԱՎԵԼՎԱԾԻ N 1 ԱՂՅՈՒՍԱԿՈՒՄ ԿԱՏԱՐՎՈՂ ՓՈՓՈԽՈՒԹՅՈՒՆՆԵՐԸ ԵՎ ԼՐԱՑՈՒՄՆԵՐԸ
J9: հազ. դրամներով
A10: ԲԳԿ | B10: Ծրագրային դասիչը | D10: ԲԳԿ/Ծրագրի /միջոցառման անվանումը | E10: Ծրագրի նպատակը/Միջոցառման նկարագրությունը | F10: Վերջնական արդյունքի նկարագրությունը/Միջոցառման տեսակը | G10: Ցուցանիշների փոփոխությունը (ավելացումները նշված են դրական նշանով, իսկ նվազեցումները փակագծերում)
G11: Առաջին եռամսյակ | H11: Առաջին կիսամյակ | I11: Ինն ամիս | J11: Տարի
B12: Ծրագիր | C12: Միջոցառում
A13: ԸՆԴԱՄԵՆԸ | G13: =+G15 -> 3.6379788e-12 | H13: =+H15 -> 7.2759576e-12 | I13: =+I15 -> 7.2759576e-12 | J13: =+J15 -> 0
A14: այդ թվում՝
A15: ՀՀ ԿՐԹՈՒԹՅԱՆ, ԳԻՏՈՒԹՅԱՆ, ՄՇԱԿՈՒՅԹԻ ԵՎ ՍՊՈՐՏԻ ՆԱԽԱՐԱՐՈՒԹՅՈՒՆ | G15: =+G16+G18+G21 -> 3.6379788e-12 | H15: =+H16+H18+H21 -> 7.2759576e-12 | I15: =+I16+I18+I21 -> 7.2759576e-12 | J15: =+J16+J18+J21 -> 0
B16: 1163 | D16: Մասսայական սպորտ | E16: Բնակչության շրջանում առողջ ապրելակերպի արմատավորում, անհատի բազմակողմանի ու ներդաշնակ զարգացման գործում ֆիզիկական կուլտուրայի և սպորտի դերի բարձրացում | F16: Սպորտի նկատմամբ հետաքրքրվածության և մասնակցության ընդլայնում | G16: =+G17 -> -59245.7 | H16: =+H17 -> -59245.7 | I16: =+I17 -> -59245.7 | J16: =+J17 -> -97126.9
C17: 1163 - 12001 | D17: Աջակցություն համայնքներին մարզական հաստատությունների շենքային պայմանների բարելավման համար | E17: Համայնքային ենթակայության մարզական հաստատությունների վերանորոգում և կառուցում | F17: Տրանսֆերտների տրամադրում | G17: =+'Հավելված N 2'!G69 -> -59245.7 | H17: =+'Հավելված N 2'!H69 -> -59245.7 | I17: =+'Հավելված N 2'!I69 -> -59245.7 | J17: =+'Հավելված N 2'!J69 -> -97126.9
B18: 1183 | D18: Ապահով դպրոց | E18: Դպրոցներին սպառնացող աղետների ռիսկի կառավարման կարողությունների հզորացում, դպրոցի անձնակազմի և աշակերտների անվտանգության ապահովման մակարդակի բարձրացում՛ կիրառելով ներառական և երեխայակենտրոն մոտեցում | F18: Դպրոցական միջավայրի բարելավում | G18: =+G19+G20 -> 61442.3 | H18: =+H19+H20 -> 61442.3 | I18: =+I19+I20 -> 61442.3 | J18: =+J19+J20 -> 61442.3
C19: 1183 - 32007 | D19: Հանրակրթական կրթություն իրականացնող ուսումնական հաստատությունների նոր մարզադահլիճների կառուցում | E19: Հանրակրթական ուսուցում իրականացնող ուսումնական հաստատությունների նոր մարզադահլիճների կառուցման նախագծանախահաշվային փաստաթղթերի մշակում | F19: Այլ պետական կազմակերպությունների կողմից օգտագործվող ոչ ֆինանսական ակտիվների հետ գործառնություններ | G19: =+'Հավելված N 2'!G80 -> 5142.8 | H19: =+'Հավելված N 2'!H80 -> 5142.8 | I19: =+'Հավելված N 2'!I80 -> 5142.8 | J19: =+'Հավելված N 2'!J80 -> 5142.8
C20: 1183 - 32009 | D20: Հանրակրթական կրթություն իրականացնող ուսումնական հաստատությունների մարզադահլիճների վերակառուցում | E20: Հանրակրթական ուսուցում իրականացնող ուսումնական հաստատությունների մարզադահլիճների վերակառուցման նախագծանախահաշվային փաստաթղթերի մշակում | F20: Այլ պետական կազմակերպությունների կողմից օգտագործվող ոչ ֆինանսական ակտիվների հետ գործառնություններ | G20: =+'Հավելված N 2'!G89 -> 56299.5 | H20: =+'Հավելված N 2'!H89 -> 56299.5 | I20: =+'Հավելված N 2'!I89 -> 56299.5 | J20: =+'Հավելված N 2'!J89 -> 56299.5
B21: 1236 | D21: Հանրակրթական և նախադպրոցական հաստատությունների հիմնում, կառուցում, բարելավում | E21: Առնվազն 300 դպրոցի և 500 մանկապարտեզի կառուցման, վերակառուցման, հիմնանորոգման ծրագրերի իրականացում ՀՀ պետական բյուջեի միջոցների շրջանակներում | F21: Կրթական միջավայրի բարելավում | G21: =+G22+G23+G24 -> -2196.6 | H21: =+H22+H23+H24 -> -2196.6 | I21: =+I22+I23+I24 -> -2196.6 | J21: =+J22+J23+J24 -> 35684.6
C22: 1236 - 32001 | D22: Մանկապարտեզների նոր շենքերի կառուցում | E22: Նախադպրոցական կրթության հասանելիության ապահովման նպատակով՛ մանկապարտեզների հիմնում, նոր շենքերի (մասնաշենքերի), ներառյալ՛ ,Մոդուլայինե տիպի շենքերի կառուցում և նախագծում | F22: Այլ պետական կազմակերպությունների կողմից օգտագործվող ոչ ֆինանսական ակտիվների հետ գործառնություններ | G22: =+'Հավելված N 2'!G26 -> 35684.6 | H22: =+'Հավելված N 2'!H26 -> 35684.6 | I22: =+'Հավելված N 2'!I26 -> 35684.6 | J22: =+'Հավելված N 2'!J26 -> 35684.6
C23: 1236 - 32003 | D23: Հանրակրթական դպրոցների նոր շենքերի կառուցում | E23: ՀՀ մարզերում կրթական որակյալ ծառայությունների հասանելիության ապահովման ծրագրի շրջանակներում հանրակրթական և նախադպրոցական կրթության հասանելիության ապահովման նպատակով կրթական կենտրոնների կառուցում | F23: Այլ պետական կազմակերպությունների կողմից օգտագործվող ոչ ֆինանսական ակտիվների հետ գործառնություններ | G23: =+'Հավելված N 2'!G43 -> -4680.8 | H23: =+'Հավելված N 2'!H43 -> 0 | I23: =+'Հավելված N 2'!I43 -> 0 | J23: =+'Հավելված N 2'!J43 -> 0
C24: 1236 - 32004 | D24: Հանրակրթական դպրոցների շենքերի վերակառուցում, հիմնանորոգում | E24: Դպրոցական պարտադիր կրթության հասանելիության ապահովման նպատակով՛ հանրակրթական դպրոցների շենքերի (մասնաշենքերի), վերակառուցում, հիմնանորոգում և նախագծում | F24: Այլ պետական կազմակերպությունների կողմից օգտագործվող ոչ ֆինանսական ակտիվների հետ գործառնություններ | G24: =+'Հավելված N 2'!G52 -> -33200.4 | H24: =+'Հավելված N 2'!H52 -> -37881.2 | I24: =+'Հավելված N 2'!I52 -> -37881.2 | J24: =+'Հավելված N 2'!J52 -> 0

Sheet Հավելված N 2
F1: Հավելված N 2
F2: ՀՀ կառավարության 2025 թվականի
F3: ______________ ի ___Ն որոշման
A7: ՀԱՅԱՍՏԱՆԻ ՀԱՆՐԱՊԵՏՈՒԹՅԱՆ ԿԱՌԱՎԱՐՈՒԹՅԱՆ 2024 ԹՎԱԿԱՆԻ ԴԵԿՏԵՄԲԵՐԻ 27-Ի N 2060-Ն ՈՐՈՇՄԱՆ N 3 ԵՎ N 4 ՀԱՎԵԼՎԱԾՆԵՐՈՒՄ ԿԱՏԱՐՎՈՂ ՓՈՓՈԽՈՒԹՅՈՒՆՆԵՐԸ ԵՎ ԼՐԱՑՈՒՄՆԵՐԸ
J10: հազ. դրամներով
A11: Գործառական դասիչը | D11: Ծրագրային դասիչը | F11: Բյուջետային հատկացումների գլխավոր կարգադրիչների, ծրագրերի, միջոցառումների և միջոցառումները կատարող պետական մարմինների անվանումները | G11: Ցուցանիշների փոփոխությունը (ավելացումները նշված են դրական նշանով, իսկ նվազեցումները փակագծերում)
A12: Բաժին | B12: Խումբ | C12: Դաս | D12: Ծրագիր | E12: Միջոցառում | G12: Առաջին եռամսյակ | H12: Առաջին կիսամյակ | I12: Ինն ամիս | J12: Տարի
F13: ԸՆԴԱՄԵՆԸ | G13: =+G15 -> 7.2759576e-12 | H13: =+H15 -> 7.2759576e-12 | I13: =+I15 -> 7.2759576e-12 | J13: =+J15 -> 0
F14: այդ թվում՝
F15: ՀՀ ԿՐԹՈՒԹՅԱՆ, ԳԻՏՈՒԹՅԱՆ, ՄՇԱԿՈՒՅԹԻ ԵՎ ՍՊՈՐՏԻ ՆԱԽԱՐԱՐՈՒԹՅՈՒՆ | G15: =+G16 -> 7.2759576e-12 | H15: =+H16 -> 7.2759576e-12 | I15: =+I16 -> 7.2759576e-12 | J15: =+J16 -> 0
A16: 09 | F16: ԿՐԹՈՒԹՅՈՒՆ | G16: =+G18+G35+G61 -> 7.2759576e-12 | H16: =+H18+H35+H61 -> 7.2759576e-12 | I16: =+I18+I35+I61 -> 7.2759576e-12 | J16: =+J18+J35+J61 -> 0
F17: այդ թվում`
B18: 01 | F18: Նախադպրոցական և տարրական ընդհանուր կրթություն | G18: =+G20 -> 35684.6 | H18: =+H20 -> 35684.6 | I18: =+I20 -> 35684.6 | J18: =+J20 -> 35684.6
F19: այդ թվում`
C20: 01 | F20: Նախադպրոցական կրթություն | G20: =+G22 -> 35684.6 | H20: =+H22 -> 35684.6 | I20: =+I22 -> 35684.6 | J20: =+J22 -> 35684.6
F21: այդ թվում`
F22: ՀՀ կրթության, գիտության, մշակույթի և սպորտի նախարարություն | G22: =+G24 -> 35684.6 | H22: =+H24 -> 35684.6 | I22: =+I24 -> 35684.6 | J22: =+J24 -> 35684.6
F23: այդ թվում`
D24: 1236 | E24: Հանրակրթական և նախադպրոցական հաստատությունների հիմնում, կառուցում, բարելավում | G24: =+G26 -> 35684.6 | H24: =+H26 -> 35684.6 | I24: =+I26 -> 35684.6 | J24: =+J26 -> 35684.6
F25: այդ թվում`
E26: 32001 | F26: Մանկապարտեզների նոր շենքերի կառուցում | G26: =+G28 -> 35684.6 | H26: =+H28 -> 35684.6 | I26: =+I28 -> 35684.6 | J26: =+J28 -> 35684.6
F27: այդ թվում` ըստ կատարողների
F28: ՀՀ քաղաքաշինության կոմիտե | G28: =+G30 -> 35684.6 | H28: =+H30 -> 35684.6 | I28: =+I30 -> 35684.6 | J28: =+J30 -> 35684.6
F29: այդ թվում՝ բյուջետային ծախսերի տնտեսագիտական դասակարգման հոդվածներ
F30: ԸՆԴԱՄԵՆԸ ԾԱԽՍԵՐ | G30: =G31 -> 35684.6 | H30: =H31 -> 35684.6 | I30: =I31 -> 35684.6 | J30: =J31 -> 35684.6
F31: ՈՉ ՖԻՆԱՆՍԱԿԱՆ ԱԿՏԻՎՆԵՐԻ ԳԾՈՎ ԾԱԽՍԵՐ | G31: =+G32 -> 35684.6 | H31: =+H32 -> 35684.6 | I31: =+I32 -> 35684.6 | J31: =+J32 -> 35684.6
F32: ՀԻՄՆԱԿԱՆ ՄԻՋՈՑՆԵՐ | G32: =+G33 -> 35684.6 | H32: =+H33 -> 35684.6 | I32: =+I33 -> 35684.6 | J32: =+J33 -> 35684.6
F33: ՇԵՆՔԵՐ ԵՎ ՇԻՆՈՒԹՅՈՒՆՆԵՐ | G33: =+G34 -> 35684.6 | H33: =+H34 -> 35684.6 | I33: =+I34 -> 35684.6 | J33: =+J34 -> 35684.6
F34: - Շենքերի և շինությունների շինարարություն | G34: =+'Հավելված N 4'!E38 -> 35684.6 | H34: =+'Հավելված N 4'!F38 -> 35684.6 | I34: =+'Հավելված N 4'!G38 -> 35684.6 | J34: =+'Հավելված N 4'!H38 -> 35684.6
B35: 02 | F35: Միջնակարգ ընդհանուր կրթություն | G35: =+G37 -> -37881.2 | H35: =+H37 -> -37881.2 | I35: =+I37 -> -37881.2 | J35: =+J37 -> 0
F36: այդ թվում`
F37: Հիմնական ընդհանուր կրթություն | G37: =+G39 -> -37881.2 | H37: =+H39 -> -37881.2 | I37: =+I39 -> -37881.2 | J37: =+J39 -> 0
C38: 01 | F38: այդ թվում`
F39: ՀՀ կրթության, գիտության, մշակույթի և սպորտի նախարարություն | G39: =+G41 -> -37881.2 | H39: =+H41 -> -37881.2 | I39: =+I41 -> -37881.2 | J39: =+J41 -> 0
F40: այդ թվում`
D41: 1236 | E41: Հանրակրթական և նախադպրոցական հաստատությունների հիմնում, կառուցում, բարելավում | G41: =+G43+G52 -> -37881.2 | H41: =+H43+H52 -> -37881.2 | I41: =+I43+I52 -> -37881.2 | J41: =+J43+J52 -> 0
F42: այդ թվում`
E43: 32003 | F43: Հանրակրթական դպրոցների նոր շենքերի կառուցում | G43: =+G45 -> -4680.8 | H43: =+H45 -> 0 | I43: =+I45 -> 0 | J43: =+J45 -> 0
F44: այդ թվում` ըստ կատարողների
F45: ՀՀ քաղաքաշինության կոմիտե | G45: =+G47 -> -4680.8 | H45: =+H47 -> 0 | I45: =+I47 -> 0 | J45: =+J47 -> 0
F46: այդ թվում՝ բյուջետային ծախսերի տնտեսագիտական դասակարգման հոդվածներ
F47: ԸՆԴԱՄԵՆԸ ԾԱԽՍԵՐ | G47: =G48 -> -4680.8 | H47: =H48 -> 0 | I47: =I48 -> 0 | J47: =J48 -> 0
F48: ՈՉ ՖԻՆԱՆՍԱԿԱՆ ԱԿՏԻՎՆԵՐԻ ԳԾՈՎ ԾԱԽՍԵՐ | G48: =+G49 -> -4680.8 | H48: =+H49 -> 0 | I48: =+I49 -> 0 | J48: =+J49 -> 0
F49: ՀԻՄՆԱԿԱՆ ՄԻՋՈՑՆԵՐ | G49: =+G50 -> -4680.8 | H49: =+H50 -> 0 | I49: =+I50 -> 0 | J49: =+J50 -> 0
F50: ՇԵՆՔԵՐ ԵՎ ՇԻՆՈՒԹՅՈՒՆՆԵՐ | G50: =+G51 -> -4680.8 | H50: =+H51 -> 0 | I50: =+I51 -> 0 | J50: =+J51 -> 0
F51: - Շենքերի և շինությունների շինարարություն | G51: =+'Հավելված N 4'!E47 -> -4680.8 | H51: =+'Հավելված N 4'!F47 -> 0 | I51: =+'Հավելված N 4'!G47 -> 0 | J51: =+'Հավելված N 4'!H47 -> 0
E52: 32004 | F52: Հանրակրթական դպրոցների շենքերի վերակառուցում, հիմնանորոգում | G52: =+G54 -> -33200.4 | H52: =+H54 -> -37881.2 | I52: =+I54 -> -37881.2 | J52: =+J54 -> 0
F53: այդ թվում` ըստ կատարողների
F54: ՀՀ քաղաքաշինության կոմիտե | G54: =+G56 -> -33200.4 | H54: =+H56 -> -37881.2 | I54: =+I56 -> -37881.2 | J54: =+J56 -> 0
F55: այդ թվում՝ բյուջետային ծախսերի տնտեսագիտական դասակարգման հոդվածներ
F56: ԸՆԴԱՄԵՆԸ ԾԱԽՍԵՐ | G56: =G57 -> -33200.4 | H56: =H57 -> -37881.2 | I56: =I57 -> -37881.2 | J56: =J57 -> 0
F57: ՈՉ ՖԻՆԱՆՍԱԿԱՆ ԱԿՏԻՎՆԵՐԻ ԳԾՈՎ ԾԱԽՍԵՐ | G57: =+G58 -> -33200.4 | H57: =+H58 -> -37881.2 | I57: =+I58 -> -37881.2 | J57: =+J58 -> 0
F58: ՀԻՄՆԱԿԱՆ ՄԻՋՈՑՆԵՐ | G58: =+G59 -> -33200.4 | H58: =+H59 -> -37881.2 | I58: =+I59 -> -37881.2 | J58: =+J59 -> 0
F59: ՇԵՆՔԵՐ ԵՎ ՇԻՆՈՒԹՅՈՒՆՆԵՐ | G59: =+G60 -> -33200.4 | H59: =+H60 -> -37881.2 | I59: =+I60 -> -37881.2 | J59: =+J60 -> 0
F60: - Շենքերի և շինությունների կապիտալ վերանորոգում | G60: =+'Հավելված N 4'!E53 -> -33200.4 | H60: =+'Հավելված N 4'!F53 -> -37881.2 | I60: =+'Հավելված N 4'!G53 -> -37881.2 | J60: =+'Հավելված N 4'!H53 -> 0
B61: 06 | F61: Կրթությանը տրամադրվող օժանդակ ծառայություններ | G61: =+G63 -> 2196.6 | H61: =+H63 -> 2196.6 | I61: =+I63 -> 2196.6 | J61: =+J63 -> -35684.6
F62: այդ թվում`
C63: 01 | F63: Կրթությանը տրամադրվող օժանդակ ծառայություններ | G63: =+G65 -> 2196.6 | H63: =+H65 -> 2196.6 | I63: =+I65 -> 2196.6 | J63: =+J65 -> -35684.6
F64: այդ թվում`
F65: ՀՀ կրթության, գիտության, մշակույթի և սպորտի նախարարություն | G65: =+G67+G78 -> 2196.6 | H65: =+H67+H78 -> 2196.6 | I65: =+I67+I78 -> 2196.6 | J65: =+J67+J78 -> -35684.6
F66: այդ թվում`
D67: 1163 | E67: Մասսայական սպորտ | G67: =+G69 -> -59245.7 | H67: =+H69 -> -59245.7 | I67: =+I69 -> -59245.7 | J67: =+J69 -> -97126.9
F68: այդ թվում`
E69: 12001 | F69: Աջակցություն համայնքներին մարզական հաստատությունների շենքային պայմանների բարելավման համար | G69: =+G71 -> -59245.7 | H69: =+H71 -> -59245.7 | I69: =+I71 -> -59245.7 | J69: =+J71 -> -97126.9
F70: այդ թվում` ըստ կատարողների
F71: ՀՀ քաղաքաշինության կոմիտե | G71: =+G73 -> -59245.7 | H71: =+H73 -> -59245.7 | I71: =+I73 -> -59245.7 | J71: =+J73 -> -97126.9
F72: այդ թվում՝ բյուջետային ծախսերի տնտեսագիտական դասակարգման հոդվածներ
F73: ԸՆԴԱՄԵՆԸ ԾԱԽՍԵՐ | G73: =+G74 -> -59245.7 | H73: =+H74 -> -59245.7 | I73: =+I74 -> -59245.7 | J73: =+J74 -> -97126.9
F74: ՈՉ ՖԻՆԱՆՍԱԿԱՆ ԱԿՏԻՎՆԵՐԻ ԳԾՈՎ ԾԱԽՍԵՐ | G74: =+G75 -> -59245.7 | H74: =+H75 -> -59245.7 | I74: =+I75 -> -59245.7 | J74: =+J75 -> -97126.9
F75: ՀԻՄՆԱԿԱՆ ՄԻՋՈՑՆԵՐ | G75: =+G76 -> -59245.7 | H75: =+H76 -> -59245.7 | I75: =+I76 -> -59245.7 | J75: =+J76 -> -97126.9
F76: ՇԵՆՔԵՐ ԵՎ ՇԻՆՈՒԹՅՈՒՆՆԵՐ | G76: =+G77 -> -59245.7 | H76: =+H77 -> -59245.7 | I76: =+I77 -> -59245.7 | J76: =+J77 -> -97126.9
F77: - Շենքերի և շինությունների շինարարություն | G77: =+'Հավելված N 4'!E15 -> -59245.7 | H77: =+'Հավելված N 4'!F15 -> -59245.7 | I77: =+'Հավելված N 4'!G15 -> -59245.7 | J77: =+'Հավելված N 4'!H15 -> -97126.9
D78: 1183 | E78: Ապահով դպրոց | G78: =+G80+G89 -> 61442.3 | H78: =+H80+H89 -> 61442.3 | I78: =+I80+I89 -> 61442.3 | J78: =+J80+J89 -> 61442.3
F79: այդ թվում`
E80: 32007 | F80: Հանրակրթական կրթություն իրականացնող ուսումնական հաստատությունների նոր մարզադահլիճների կառուցում | G80: =+G82 -> 5142.8 | H80: =+H82 -> 5142.8 | I80: =+I82 -> 5142.8 | J80: =+J82 -> 5142.8
F81: այդ թվում` ըստ կատարողների
F82: ՀՀ քաղաքաշինության կոմիտե | G82: =+G84 -> 5142.8 | H82: =+H84 -> 5142.8 | I82: =+I84 -> 5142.8 | J82: =+J84 -> 5142.8
F83: այդ թվում՝ բյուջետային ծախսերի տնտեսագիտական դասակարգման հոդվածներ
F84: ԸՆԴԱՄԵՆԸ ԾԱԽՍԵՐ | G84: =+G85 -> 5142.8 | H84: =+H85 -> 5142.8 | I84: =+I85 -> 5142.8 | J84: =+J85 -> 5142.8
F85: ՈՉ ՖԻՆԱՆՍԱԿԱՆ ԱԿՏԻՎՆԵՐԻ ԳԾՈՎ ԾԱԽՍԵՐ | G85: =+G86 -> 5142.8 | H85: =+H86 -> 5142.8 | I85: =+I86 -> 5142.8 | J85: =+J86 -> 5142.8
F86: ՀԻՄՆԱԿԱՆ ՄԻՋՈՑՆԵՐ | G86: =+G87 -> 5142.8 | H86: =+H87 -> 5142.8 | I86: =+I87 -> 5142.8 | J86: =+J87 -> 5142.8
F87: ՇԵՆՔԵՐ ԵՎ ՇԻՆՈՒԹՅՈՒՆՆԵՐ | G87: =+G88 -> 5142.8 | H87: =+H88 -> 5142.8 | I87: =+I88 -> 5142.8 | J87: =+J88 -> 5142.8
F88: - Շենքերի և շինությունների շինարարություն | G88: =+'Հավելված N 4'!E21 -> 5142.8 | H88: =+'Հավելված N 4'!F21 -> 5142.8 | I88: =+'Հավելված N 4'!G21 -> 5142.8 | J88: =+'Հավելված N 4'!H21 -> 5142.8
E89: 32009 | F89: Հանրակրթական կրթություն իրականացնող ուսումնական հաստատությունների մարզադահլիճների վերակառուցում | G89: =+G91 -> 56299.5 | H89: =+H91 -> 56299.5 | I89: =+I91 -> 56299.5 | J89: =+J91 -> 56299.5
F90: այդ թվում` ըստ կատարողների
F91: ՀՀ քաղաքաշինության կոմիտե | G91: =+G93 -> 56299.5 | H91: =+H93 -> 56299.5 | I91: =+I93 -> 56299.5 | J91: =+J93 -> 56299.5
F92: այդ թվում՝ բյուջետային ծախսերի տնտեսագիտական դասակարգման հոդվածներ
F93: ԸՆԴԱՄԵՆԸ ԾԱԽՍԵՐ | G93: =+G94 -> 56299.5 | H93: =+H94 -> 56299.5 | I93: =+I94 -> 56299.5 | J93: =+J94 -> 56299.5
F94: ՈՉ ՖԻՆԱՆՍԱԿԱՆ ԱԿՏԻՎՆԵՐԻ ԳԾՈՎ ԾԱԽՍԵՐ | G94: =+G95 -> 56299.5 | H94: =+H95 -> 56299.5 | I94: =+I95 -> 56299.5 | J94: =+J95 -> 56299.5
F95: ՀԻՄՆԱԿԱՆ ՄԻՋՈՑՆԵՐ | G95: =+G96 -> 56299.5 | H95: =+H96 -> 56299.5 | I95: =+I96 -> 56299.5 | J95: =+J96 -> 56299.5
F96: ՇԵՆՔԵՐ ԵՎ ՇԻՆՈՒԹՅՈՒՆՆԵՐ | G96: =+G97 -> 56299.5 | H96: =+H97 -> 56299.5 | I96: =+I97 -> 56299.5 | J96: =+J97 -> 56299.5
F97: - Շենքերի և շինությունների կապիտալ վերանորոգում | G97: =+'Հավելված N 4'!E27 -> 56299.5 | H97: =+'Հավելված N 4'!F27 -> 56299.5 | I97: =+'Հավելված N 4'!G27 -> 56299.5 | J97: =+'Հավելված N 4'!H27 -> 56299.5

Sheet Հավելված N 3
F1: Հավելված N 3
F2: ՀՀ կառավարության 2025 թվականի
F3: ______________ ի ___Ն որոշման
A5: «ՀԱՅԱUՏԱՆԻ ՀԱՆՐԱՊԵՏՈՒԹՅԱՆ 2025 ԹՎԱԿԱՆԻ ՊԵՏԱԿԱՆ ԲՅՈՒՋԵԻ ՄԱUԻՆ» ՀԱՅԱUՏԱՆԻ ՀԱՆՐԱՊԵՏՈՒԹՅԱՆ OՐԵՆՔԻ N 1 ՀԱՎԵԼՎԱԾԻ N 3 ԱՂՅՈՒՍԱԿՈՒՄ ԿԱՏԱՐՎՈՂ ՓՈՓՈԽՈՒԹՅՈՒՆՆԵՐԸ ԵՎ ԼՐԱՑՈՒՄՆԵՐԸ
G8: հազ. դրամներով
A9: Ծրագրային դասիչ | C9: Բյուջետային գլխավոր կարգադրիչների, ծրագրերի, միջոցառումների, միջոցառումները կատարող պետական մարմինների և ուղղությունների անվանումները | D9: Ընդամենը | E9: Ցուցանիշների փոփոխությունը (ավելացումները նշված են դրական նշանով, իսկ նվազեցումները՝ փակագծերում)
A10: Ծրագիր | B10: Միջոցառում | E10: Կառուցման աշխատանքներ | F10: Վերակառուցման, վերանորոգման և վերականգնման աշխատանքներ | G10: Նախագծահե- տազոտական, գեոդեզիա- քարտեզագրա- կան աշխա- տանքներ | H10: Ոչ ֆինանսական այլ ակտիվների ձեռքբերում
C11: ԸՆԴԱՄԵՆԸ | D11: =SUM(E11:H11) -> -7.2759576e-12 | E11: =+E13 -> -56299.5 | F11: =+F13 -> 56299.5 | G11: =+G13 -> 0 | H11: =+H13 -> 0
C12: այդ թվում՝
C13: ՀՀ ԿՐԹՈՒԹՅԱՆ, ԳԻՏՈՒԹՅԱՆ, ՄՇԱԿՈՒՅԹԻ ԵՎ ՍՊՈՐՏԻ ՆԱԽԱՐԱՐՈՒԹՅՈՒՆ | D13: =SUM(E13:H13) -> -7.2759576e-12 | E13: =+E15+E19+E23+E32 -> -56299.5 | F13: =+F15+F19+F23+F32 -> 56299.5 | G13: =+G15+G19+G23+G32 -> 0 | H13: =+H15+H19+H23+H32 -> 0
C14: այդ թվում`
A15: 1163 | B15: 12001 | C15: Աջակցություն համայնքներին մարզական հաստատությունների շենքային պայմանների բարելավման համար | D15: =SUM(E15:H15) -> -97126.9 | E15: =+E17 -> -97126.9 | F15: =+F17 -> 0 | G15: =+G17 -> 0 | H15: =+H17 -> 0
C16: այդ թվում`
C17: ՀՀ Շիրակի մարզ | D17: =SUM(E17:H17) -> -97126.9 | E17: =+E18 -> -97126.9 | F17: =+F18 -> 0 | G17: =+G18 -> 0 | H17: =+H18 -> 0
C18: Արթուր Ալեքսանյանի անվան նոր սպորտային համալիր | D18: =+E18+F18+G18+H18 -> -97126.9 | E18: =+'Հավելված N 7'!I21+'Հավելված N 7'!I23+'Հավելված N 7'!I24 -> -97126.9
A19: 1183 | B19: 32007 | C19: Հանրակրթական կրթություն իրականացնող ուսումնական հաստատությունների նոր մարզադահլիճների կառուցում | D19: =SUM(E19:H19) -> 5142.8 | E19: =+E21 -> 5142.8 | F19: =+F21 -> 0 | G19: =+G21 -> 0 | H19: =+H21 -> 0
C20: այդ թվում`
C21: ՀՀ Արագածոտնի մարզ | D21: =SUM(E21:H21) -> 5142.8 | E21: =+E22 -> 5142.8 | F21: =+F22 -> 0 | G21: =+G22 -> 0 | H21: =+H22 -> 0
C22: «Թալինի ավագ դպրոց» ՊՈԱԿ | D22: =+E22+F22+G22+H22 -> 5142.8 | E22: =+'Հավելված N 7'!I27 -> 5142.8
A23: 1183 | B23: 32009 | C23: Հանրակրթական կրթություն իրականացնող ուսումնական հաստատությունների մարզադահլիճների վերակառուցում | D23: =SUM(E23:H23) -> 56299.5 | E23: =+E25+E27+E30 -> 0 | F23: =+F25+F27+F30 -> 56299.5 | G23: =+G25+G27+G30 -> 0 | H23: =+H25+H27+H30 -> 0
C24: այդ թվում`
C25: Երևան քաղաք | D25: =SUM(E25:H25) -> 6098.6 | E25: =+E26 -> 0 | F25: =+F26 -> 6098.6 | G25: =+G26 -> 0 | H25: =+H26 -> 0
C26: «Երևանի հ. 136 հիմնական դպրոց» ՊՈԱԿ | D26: =+E26+F26+G26+H26 -> 6098.6 | F26: =+'Հավելված N 7'!I30 -> 6098.6
C27: ՀՀ Արմավիրի մարզ | D27: =SUM(E27:H27) -> 33964 | E27: =+E28+E29 -> 0 | F27: =+F28+F29 -> 33964 | G27: =+G28+G29 -> 0 | H27: =+H28+H29 -> 0
C28: «Փշատավանի միջնակարգ դպրոց» ՊՈԱԿ | D28: =+E28+F28+G28+H28 -> 16090.3 | F28: =+'Հավելված N 7'!I31 -> 16090.3
C29: «Արմավիրի հ. 8 հիմնական դպրոց» ՊՈԱԿ | D29: =+E29+F29+G29+H29 -> 17873.7 | F29: =+'Հավելված N 7'!I32 -> 17873.7
C30: ՀՀ Վայոց Ձորի մարզ | D30: =SUM(E30:H30) -> 16236.9 | E30: =+E31 -> 0 | F30: =+F31 -> 16236.9 | G30: =+G31 -> 0 | H30: =+H31 -> 0
C31: «Շատինի միջնակարգ դպրոց» ՊՈԱԿ | D31: =+E31+F31+G31+H31 -> 16236.9 | F31: =+'Հավելված N 7'!I33 -> 16236.9
A32: 1236 | B32: 32001 | C32: Մանկապարտեզների նոր շենքերի կառուցում | D32: =SUM(E32:H32) -> 35684.6 | E32: =+E34 -> 35684.6 | F32: =+F34 -> 0 | G32: =+G34 -> 0 | H32: =+H34 -> 0
C33: այդ թվում`
C34: ՀՀ Արմավիրի մարզ | D34: =SUM(E34:H34) -> 35684.6 | E34: =+E35 -> 35684.6 | F34: =+F35 -> 0 | G34: =+G35 -> 0 | H34: =+H35 -> 0
C35: ՀՀ Արմավիրի մարզի Արևիկ համայնքում «Մոդուլային» տիպի 144 տեղ հզորությամբ մսուր-մանկապարտեզ | D35: =+E35+F35+G35+H35 -> 35684.6 | E35: =+'Հավելված N 7'!I17 -> 35684.6

Sheet Հավելված N 4
G1: Հավելված N 4
E2: ՀՀ կառավարության 2025 թվականի
G3: ______________ ի ___Ն որոշման
B6: ՀԱՅԱՍՏԱՆԻ ՀԱՆՐԱՊԵՏՈՒԹՅԱՆ ԿԱՌԱՎԱՐՈՒԹՅԱՆ 2024 ԹՎԱԿԱՆԻ ԴԵԿՏԵՄԲԵՐԻ 27-Ի N 2060-Ն ՈՐՈՇՄԱՆ N 5 ՀԱՎԵԼՎԱԾԻ N 2 ԱՂՅՈՒՍԱԿՈՒՄ ԿԱՏԱՐՎՈՂ ՓՈՓՈԽՈՒԹՅՈՒՆՆԵՐԸ ԵՎ ԼՐԱՑՈՒՄՆԵՐԸ
H8: հազ. դրամներով
B9: Ծրագրային դասիչ | D9: Բյուջետային գլխավոր կարգադրիչների, ծրագրերի, միջոցառումների, միջոցառումները կատարող պետական մարմինների և ուղղությունների անվանումները | E9: Ցուցանիշների փոփոխությունը (ավելացումները նշված են դրական նշանով, իսկ նվազեցումները՝ փակագծերում)
B10: Ծրագիր | C10: Միջոցառում | E10: Առաջին եռամսյակ | F10: Առաջին կիսամյակ | G10: Ինն ամիս | H10: Տարի
D11: ՀՀ ԿՐԹՈՒԹՅԱՆ, ԳԻՏՈՒԹՅԱՆ, ՄՇԱԿՈՒՅԹԻ ԵՎ ՍՊՈՐՏԻ ՆԱԽԱՐԱՐՈՒԹՅՈՒՆ | E11: =+E13+E19+E25+E36+E45+E51 -> 0 | F11: =+F13+F19+F25+F36+F45+F51 -> 0 | G11: =+G13+G19+G25+G36+G45+G51 -> 0 | H11: =+H13+H19+H25+H36+H45+H51 -> -7.2759576e-12
D12: այդ թվում՝
B13: 1163 | C13: 12001 | D13: Աջակցություն համայնքներին մարզական հաստատությունների շենքային պայմանների բարելավման համար | E13: =+E15 -> -59245.7 | F13: =+F15 -> -59245.7 | G13: =+G15 -> -59245.7 | H13: =+H15 -> -97126.9
D14: այդ թվում` ըստ կատարողների
D15: ՀՀ քաղաքաշինության կոմիտե | E15: =+E17 -> -59245.7 | F15: =+F17 -> -59245.7 | G15: =+G17 -> -59245.7 | H15: =+H17 -> -97126.9
D16: այդ թվում՝ ըստ ուղղությունների
D17: ՀՀ Շիրակի մարզ | E17: =+E18 -> -59245.7 | F17: =+F18 -> -59245.7 | G17: =+G18 -> -59245.7 | H17: =+H18 -> -97126.9
D18: =+'Հավելված N 3'!C18 -> Արթուր Ալեքսանյանի անվան նոր սպորտային համալիր | E18: -59245.7 | F18: -59245.7 | G18: -59245.7 | H18: =+'Հավելված N 3'!D18 -> -97126.9
B19: 1183 | C19: 32007 | D19: Հանրակրթական կրթություն իրականացնող ուսումնական հաստատությունների նոր մարզադահլիճների կառուցում | E19: =+E21 -> 5142.8 | F19: =+F21 -> 5142.8 | G19: =+G21 -> 5142.8 | H19: =+H21 -> 5142.8
D20: այդ թվում` ըստ կատարողների
D21: ՀՀ քաղաքաշինության կոմիտե | E21: =+E23 -> 5142.8 | F21: =+F23 -> 5142.8 | G21: =+G23 -> 5142.8 | H21: =+H23 -> 5142.8
D22: այդ թվում՝ ըստ ուղղությունների
D23: ՀՀ Արագածոտնի մարզ | E23: =+E24 -> 5142.8 | F23: =+F24 -> 5142.8 | G23: =+G24 -> 5142.8 | H23: =+H24 -> 5142.8
D24: =+'Հավելված N 3'!C22 -> «Թալինի ավագ դպրոց» ՊՈԱԿ | E24: =+H24 -> 5142.8 | F24: =+H24 -> 5142.8 | G24: =+H24 -> 5142.8 | H24: =+'Հավելված N 3'!D22 -> 5142.8
B25: 1183 | C25: 32009 | D25: Հանրակրթական կրթություն իրականացնող ուսումնական հաստատությունների մարզադահլիճների վերակառուցում | E25: =+E27 -> 56299.5 | F25: =+F27 -> 56299.5 | G25: =+G27 -> 56299.5 | H25: =+H27 -> 56299.5
D26: այդ թվում` ըստ կատարողների
D27: ՀՀ քաղաքաշինության կոմիտե | E27: =+E29+E31+E34 -> 56299.5 | F27: =+F29+F31+F34 -> 56299.5 | G27: =+G29+G31+G34 -> 56299.5 | H27: =+H29+H31+H34 -> 56299.5
D28: այդ թվում՝ ըստ ուղղությունների
D29: Երևան քաղաք | E29: =+E30 -> 6098.6 | F29: =+F30 -> 6098.6 | G29: =+G30 -> 6098.6 | H29: =+H30 -> 6098.6
D30: =+'Հավելված N 3'!C26 -> «Երևանի հ. 136 հիմնական դպրոց» ՊՈԱԿ | E30: =+H30 -> 6098.6 | F30: =+H30 -> 6098.6 | G30: =+H30 -> 6098.6 | H30: =+'Հավելված N 3'!D26 -> 6098.6
D31: ՀՀ Արմավիրի մարզ | E31: =+E32+E33 -> 33964 | F31: =+F32+F33 -> 33964 | G31: =+G32+G33 -> 33964 | H31: =+H32+H33 -> 33964
D32: =+'Հավելված N 3'!C28 -> «Փշատավանի միջնակարգ դպրոց» ՊՈԱԿ | E32: =+H32 -> 16090.3 | F32: =+H32 -> 16090.3 | G32: =+H32 -> 16090.3 | H32: =+'Հավելված N 3'!D28 -> 16090.3
D33: =+'Հավելված N 3'!C29 -> «Արմավիրի հ. 8 հիմնական դպրոց» ՊՈԱԿ | E33: =+H33 -> 17873.7 | F33: =+H33 -> 17873.7 | G33: =+H33 -> 17873.7 | H33: =+'Հավելված N 3'!D29 -> 17873.7
D34: ՀՀ Վայոց Ձորի մարզ | E34: =+E35 -> 16236.9 | F34: =+F35 -> 16236.9 | G34: =+G35 -> 16236.9 | H34: =+H35 -> 16236.9
D35: =+'Հավելված N 3'!C31 -> «Շատինի միջնակարգ դպրոց» ՊՈԱԿ | E35: =+H35 -> 16236.9 | F35: =+H35 -> 16236.9 | G35: =+H35 -> 16236.9 | H35: =+'Հավելված N 3'!D31 -> 16236.9
B36: 1236 | C36: 32001 | D36: Մանկապարտեզների նոր շենքերի կառուցում | E36: =+E38 -> 35684.6 | F36: =+F38 -> 35684.6 | G36: =+G38 -> 35684.6 | H36: =+H38 -> 35684.6
D37: այդ թվում` ըստ կատարողների
D38: ՀՀ քաղաքաշինության կոմիտե | E38: =+E40+E42 -> 35684.6 | F38: =+F40+F42 -> 35684.6 | G38: =+G40+G42 -> 35684.6 | H38: =+H40+H42 -> 35684.6
D39: այդ թվում՝ ըստ ուղղությունների
D40: ՀՀ Արմավիրի մարզ | E40: =SUM(E41:E41) -> 35684.6 | F40: =SUM(F41:F41) -> 35684.6 | G40: =SUM(G41:G41) -> 35684.6 | H40: =SUM(H41:H41) -> 35684.6
D41: =+'Հավելված N 3'!C35 -> ՀՀ Արմավիրի մարզի Արևիկ համայնքում «Մոդուլային» տիպի 144 տեղ հզորությամբ մսուր-մանկապարտեզ | E41: =+H41 -> 35684.6 | F41: =+H41 -> 35684.6 | G41: =+H41 -> 35684.6 | H41: =+'Հավելված N 3'!D35 -> 35684.6
D42: ՀՀ Վայոց Ձորի մարզ | E42: =+E43+E44 -> 0 | F42: =+F43+F44 -> 0 | G42: =+G43+G44 -> 0 | H42: =+H43+H44 -> 0
D43: ՀՀ Վայոց ձորի մարզի Եղեգիս համայնքի Շատին բնակավայրում «Մոդուլային» տիպի 144 տեղ հզորությամբ մսուր-մանկապարտեզ | E43: =-E44 -> 0 | F43: =-F44 -> -52557 | G43: =-G44 -> -105113.9 | H43: =-H44 -> -175189.9
D44: ՀՀ Վայոց ձորի մարզի Եղեգիս համայնքի Շատին բնակավայրում «Մոդուլային» տիպի 250 տեղ հզորությամբ մսուր-մանկապարտեզ | E44: 0 | F44: 52557 | G44: 105113.9 | H44: 175189.9
B45: 1236 | C45: 32003 | D45: Հանրակրթական դպրոցների նոր շենքերի կառուցում | E45: =+E47 -> -4680.8 | F45: =+F47 -> 0 | G45: =+G47 -> 0 | H45: =+H47 -> 0
D46: այդ թվում` ըստ կատարողների
D47: ՀՀ քաղաքաշինության կոմիտե | E47: =+E49 -> -4680.8 | F47: =+F49 -> 0 | G47: =+G49 -> 0 | H47: =+H49 -> 0
D48: այդ թվում՝ ըստ ուղղությունների
D49: ՀՀ Շիրակի մարզ | E49: =+E50 -> -4680.8 | F49: =+F50 -> 0 | G49: =+G50 -> 0 | H49: =+H50 -> 0
D50: «Բերդաշենի միջնակարգ դպրոց» ՊՈԱԿ | E50: =-4444.9-203.2-32.7 -> -4680.8 | F50: 0 | G50: 0 | H50: 0
B51: 1236 | C51: 32004 | D51: Հանրակրթական դպրոցների շենքերի վերակառուցում, հիմնանորոգում | E51: =+E53 -> -33200.4 | F51: =+F53 -> -37881.2 | G51: =+G53 -> -37881.2 | H51: =+H53 -> 0
D52: այդ թվում` ըստ կատարողների
D53: ՀՀ քաղաքաշինության կոմիտե | E53: =+E55 -> -33200.4 | F53: =+F55 -> -37881.2 | G53: =+G55 -> -37881.2 | H53: =+H55 -> 0
D54: այդ թվում՝ ըստ ուղղությունների
D55: Երևան քաղաք | E55: =+E56 -> -33200.4 | F55: =+F56 -> -37881.2 | G55: =+G56 -> -37881.2 | H55: =+H56 -> 0
D56: «Երևանի թիվ 22 հիմնական դպրոց» ՊՈԱԿ | E56: =-32655-253.9-291.5 -> -33200.4 | F56: =-37258.9-289.6-332.7 -> -37881.2 | G56: =-37258.9-289.6-332.7 -> -37881.2 | H56: 0

Sheet Հավելված N 5
K1: Հավելված N 5
K2: ՀՀ կառավարության 2025 թվականի
K3: ______________ ի ___Ն որոշման
A6: ՀԱՅԱՍՏԱՆԻ ՀԱՆՐԱՊԵՏՈՒԹՅԱՆ ԿԱՌԱՎԱՐՈՒԹՅԱՆ 2024 ԹՎԱԿԱՆԻ ԴԵԿՏԵՄԲԵՐԻ 27-Ի N 2060-Ն ՈՐՈՇՄԱՆ N 9 ՀԱՎԵԼՎԱԾՈՒՄ ԿԱՏԱՐՎՈՂ ՓՈՓՈԽՈՒԹՅՈՒՆՆԵՐԸ ԵՎ ԼՐԱՑՈՒՄՆԵՐԸ
A9: ԲԳԿ | B9: Ծրագիր | D9: Միջոցառում | H9: Իրականացնողը/ ակտիվն օգտագործողը/ շահառուի ընտրության չափորոշիչը | I9: Արդյունքային չափորոշիչը | J9: Ցուցանիշների փոփոխությունը (ավելացումները նշված են դրական նշանով, իսկ նվազեցումները՝ փակագծերում)
B10: Դասիչը | C10: Անվանումը | D10: Դասիչը | E10: Անվանումը | F10: Նկարագրությունը | G10: Տեսակը | J10: Առաջին եռամսյակ | K10: Առաջին կիսամյակ | L10: Ինն ամիս | M10: Տարի
A11: ԸՆԴԱՄԵՆԸ | J11: =+J13 -> 3.6379788e-12 | K11: =+K13 -> 7.2759576e-12 | L11: =+L13 -> 7.2759576e-12 | M11: =+M13 -> 0
A12: այդ թվում՝
A13: ՀՀ ԿՐԹՈՒԹՅԱՆ, ԳԻՏՈՒԹՅԱՆ, ՄՇԱԿՈԻՅԹԻ ԵՎ ՍՊՈՐՏԻ ՆԱԽԱՐԱՐՈՒԹՅՈՒՆ | J13: =+J14+J20+J32 -> 3.6379788e-12 | K13: =+K14+K20+K32 -> 7.2759576e-12 | L13: =+L14+L20+L32 -> 7.2759576e-12 | M13: =+M14+M20+M32 -> 0
B14: 1163 | C14: Մասսայական սպորտ | J14: =+J15 -> -59245.7 | K14: =+K15 -> -59245.7 | L14: =+L15 -> -59245.7 | M14: =+M15 -> -97126.9
D15: 1163 - 12001 | E15: Աջակցություն համայնքներին մարզական հաստատությունների շենքային պայմանների բարելավման համար | J15: =+'Հավելված N 1'!G17 -> -59245.7 | K15: =+'Հավելված N 1'!H17 -> -59245.7 | L15: =+'Հավելված N 1'!I17 -> -59245.7 | M15: =+'Հավելված N 1'!J17 -> -97126.9
F16: Համայնքային ենթակայության մարզական հաստատությունների վերանորոգում և կառուցում
G17: Տրանսֆերտների տրամադրում
H18: Շահառուների ընտրության չափորոշիչները` ՀՀ համայնքների ենթակայության մարզական հաստատությունների շենքային պայմանների բարելավման անհրաժեշտությունը
B20: 1183 | C20: Ապահով դպրոց | J20: =+J21+J26 -> 61442.3 | K20: =+K21+K26 -> 61442.3 | L20: =+L21+L26 -> 61442.3 | M20: =+M21+M26 -> 61442.3
D21: 1183 - 32007 | E21: Հանրակրթական կրթություն իրականացնող ուսումնական հաստատությունների նոր մարզադահլիճների կառուցում | J21: =+'Հավելված N 1'!G19 -> 5142.8 | K21: =+'Հավելված N 1'!H19 -> 5142.8 | L21: =+'Հավելված N 1'!I19 -> 5142.8 | M21: =+'Հավելված N 1'!J19 -> 5142.8
F22: Հանրակրթական ուսուցում իրականացնող ուսումնական հաստատությունների նոր մարզադահլիճների կառուցման նախագծանախահաշվային փաստաթղթերի մշակում
G23: Այլ պետական կազմակերպությունների կողմից օգտագործվող ոչ ֆինանսական ակտիվների հետ գործառնություններ
H24: Ակտիվն օգտագործող կազմակերպությունների անվանումները` Հանրակրթական դպրոցներ
I25: Ուսումնական հաստատությունների քանակ, որոնց մարզադահլիճների կառուցումն ավարտվել է 2024թ․–ին և կատարվում է պարտավորությունների մարում, հատ | K25: 1 | M25: 1
D26: 1183 - 32009 | E26: Հանրակրթական կրթություն իրականացնող ուսումնական հաստատությունների մարզադահլիճների վերակառուցում | J26: =+'Հավելված N 1'!G20 -> 56299.5 | K26: =+'Հավելված N 1'!H20 -> 56299.5 | L26: =+'Հավելված N 1'!I20 -> 56299.5 | M26: =+'Հավելված N 1'!J20 -> 56299.5
F27: Հանրակրթական ուսուցում իրականացնող ուսումնական հաստատությունների մարզադահլիճների վերակառուցման նախագծանախահաշվային փաստաթղթերի մշակում
G28: Այլ պետական կազմակերպությունների կողմից օգտագործվող ոչ ֆինանսական ակտիվների հետ գործառնություններ
H29: Ակտիվն օգտագործող կազմակերպությունների անվանումները` Հանրակրթական դպրոցներ
I30: Ուսումնական հաստատությունների քանակ, որոնց մարզադահլիճների վերակառուցումն ավարտվել է 2024թ․–ին և կատարվում է պարտավորությունների մարում, հատ | K30: 4 | M30: 4
B32: 1236 | C32: Հանրակրթական և նախադպրոցական հաստատությունների հիմնում, կառուցում, բարելավում | J32: =+J33+J38+J42 -> -2196.6 | K32: =+K33+K38+K42 -> -2196.6 | L32: =+L33+L38+L42 -> -2196.6 | M32: =+M33+M38+M42 -> 35684.6
D33: 1236 - 32001 | E33: Մանկապարտեզների նոր շենքերի կառուցում | J33: =+'Հավելված N 1'!G22 -> 35684.6 | K33: =+'Հավելված N 1'!H22 -> 35684.6 | L33: =+'Հավելված N 1'!I22 -> 35684.6 | M33: =+'Հավելված N 1'!J22 -> 35684.6
F34: Նախադպրոցական կրթության հասանելիության ապահովման նպատակով՛ մանկապարտեզների հիմնում, նոր շենքերի (մասնաշենքերի), ներառյալ՛ «Մոդուլային» տիպի շենքերի կառուցում և նախագծում
G35: Այլ պետական կազմակերպությունների կողմից օգտագործվող ոչ ֆինանսական ակտիվների հետ գործառնություններ
H36: Ակտիվն օգտագործող կազմակերպության անվանումը` Նախադպրոցական կրթություն իրականացնող ուսումնական հաստատություններ
I37: Մանկապարտեզների քանակ, որոնց կառուցումն ավարտվել է 2024թ․–ին և կատարվում է պարտավորությունների մարում, հատ | K37: 1 | M37: 1
D38: 1236 - 32003 | E38: Հանրակրթական դպրոցների նոր շենքերի կառուցում | J38: =+'Հավելված N 1'!G23 -> -4680.8 | K38: =+'Հավելված N 1'!H23 -> 0 | L38: =+'Հավելված N 1'!I23 -> 0 | M38: =+'Հավելված N 1'!J23 -> 0
F39: ՀՀ մարզերում կրթական որակյալ ծառայությունների հասանելիության ապահովման ծրագրի շրջանակներում հանրակրթական և նախադպրոցական կրթության հասանելիության ապահովման նպատակով կրթական կենտրոնների կառուցում
G40: Այլ պետական կազմակերպությունների կողմից օգտագործվող ոչ ֆինանսական ակտիվների հետ գործառնություններ
H41: Ակտիվն օգտագործող կազմակերպությունների անվանումները` Հանրակրթական դպրոցներ
D42: 1236 - 32004 | E42: Հանրակրթական դպրոցների շենքերի վերակառուցում, հիմնանորոգում | J42: =+'Հավելված N 1'!G24 -> -33200.4 | K42: =+'Հավելված N 1'!H24 -> -37881.2 | L42: =+'Հավելված N 1'!I24 -> -37881.2 | M42: =+'Հավելված N 1'!J24 -> 0
F43: Դպրոցական պարտադիր կրթության հասանելիության ապահովման նպատակով՛ հանրակրթական դպրոցների շենքերի (մասնաշենքերի), վերակառուցում, հիմնանորոգում և նախագծում
G44: Այլ պետական կազմակերպությունների կողմից օգտագործվող ոչ ֆինանսական ակտիվների հետ գործառնություններ
H45: Ակտիվն օգտագործող կազմակերպությունների անվանումները` Հանրակրթական դպրոցներ

Sheet Հավելված N 6
K1: Հավելված N 6
K2: ՀՀ կառավարության 2025 թվականի
K3: ______________ ի ___Ն որոշման
A6: ՀԱՅԱՍՏԱՆԻ ՀԱՆՐԱՊԵՏՈՒԹՅԱՆ ԿԱՌԱՎԱՐՈՒԹՅԱՆ 2024 ԹՎԱԿԱՆԻ ԴԵԿՏԵՄԲԵՐԻ 27-Ի N 2060-Ն ՈՐՈՇՄԱՆ N 9.1 ՀԱՎԵԼՎԱԾՈՒՄ ԿԱՏԱՐՎՈՂ ՓՈՓՈԽՈՒԹՅՈՒՆՆԵՐԸ ԵՎ ԼՐԱՑՈՒՄՆԵՐԸ
A9: ԲՍԿ | B9: Ծրագիր | D9: Միջոցառում | H9: Իրականացնողը/ ակտիվն օգտագործողը/ շահառուի ընտրության չափորոշիչը | I9: Արդյունքային չափորոշիչը | J9: Ցուցանիշների փոփոխությունը (ավելացումները նշված են դրական նշանով, իսկ նվազեցումները՝ փակագծերում)
B10: Դասիչը | C10: Անվանումը | D10: Դասիչը | E10: Անվանումը | F10: Նկարագրությունը | G10: Տեսակը | J10: Առաջին եռամսյակ | K10: Առաջին կիսամյակ | L10: Ինն ամիս | M10: Տարի
A11: ԸՆԴԱՄԵՆԸ | J11: =+J13 -> 3.6379788e-12 | K11: =+K13 -> 7.2759576e-12 | L11: =+L13 -> 7.2759576e-12 | M11: =+M13 -> 0
A12: այդ թվում՝
A13: ՀՀ ՔԱՂԱՔԱՇԻՆՈՒԹՅԱՆ ԿՈՄԻՏԵ | J13: =+J14+J20+J32 -> 3.6379788e-12 | K13: =+K14+K20+K32 -> 7.2759576e-12 | L13: =+L14+L20+L32 -> 7.2759576e-12 | M13: =+M14+M20+M32 -> 0
B14: 1163 | C14: Մասսայական սպորտ | J14: =+J15 -> -59245.7 | K14: =+K15 -> -59245.7 | L14: =+L15 -> -59245.7 | M14: =+M15 -> -97126.9
D15: 1163 - 12001 | E15: Աջակցություն համայնքներին մարզական հաստատությունների շենքային պայմանների բարելավման համար | J15: =+'Հավելված N 2'!G71 -> -59245.7 | K15: =+'Հավելված N 2'!H71 -> -59245.7 | L15: =+'Հավելված N 2'!I71 -> -59245.7 | M15: =+'Հավելված N 2'!J71 -> -97126.9
F16: Համայնքային ենթակայության մարզական հաստատությունների վերանորոգում և կառուցում
G17: Տրանսֆերտների տրամադրում
H18: Շահառուների ընտրության չափորոշիչները` ՀՀ համայնքների ենթակայության մարզական հաստատությունների շենքային պայմանների բարելավման անհրաժեշտությունը
B20: 1183 | C20: Ապահով դպրոց | J20: =+J21+J26 -> 61442.3 | K20: =+K21+K26 -> 61442.3 | L20: =+L21+L26 -> 61442.3 | M20: =+M21+M26 -> 61442.3
D21: 1183 - 32007 | E21: Հանրակրթական կրթություն իրականացնող ուսումնական հաստատությունների նոր մարզադահլիճների կառուցում | J21: =+'Հավելված N 2'!G82 -> 5142.8 | K21: =+'Հավելված N 2'!H82 -> 5142.8 | L21: =+'Հավելված N 2'!I82 -> 5142.8 | M21: =+'Հավելված N 2'!J82 -> 5142.8
F22: Հանրակրթական ուսուցում իրականացնող ուսումնական հաստատությունների նոր մարզադահլիճների կառուցման նախագծանախահաշվային փաստաթղթերի մշակում
G23: Այլ պետական կազմակերպությունների կողմից օգտագործվող ոչ ֆինանսական ակտիվների հետ գործառնություններ
H24: Ակտիվն օգտագործող կազմակերպությունների անվանումները` Հանրակրթական դպրոցներ
I25: Ուսումնական հաստատությունների քանակ, որոնց մարզադահլիճների կառուցումն ավարտվել է 2024թ․–ին և կատարվում է պարտավորությունների մարում, հատ | K25: 1 | M25: 1
D26: 1183 - 32009 | E26: Հանրակրթական կրթություն իրականացնող ուսումնական հաստատությունների մարզադահլիճների վերակառուցում | J26: =+'Հավելված N 2'!G91 -> 56299.5 | K26: =+'Հավելված N 2'!H91 -> 56299.5 | L26: =+'Հավելված N 2'!I91 -> 56299.5 | M26: =+'Հավելված N 2'!J91 -> 56299.5
F27: Հանրակրթական ուսուցում իրականացնող ուսումնական հաստատությունների մարզադահլիճների վերակառուցման նախագծանախահաշվային փաստաթղթերի մշակում
G28: Այլ պետական կազմակերպությունների կողմից օգտագործվող ոչ ֆինանսական ակտիվների հետ գործառնություններ
H29: Ակտիվն օգտագործող կազմակերպությունների անվանումները` Հանրակրթական դպրոցներ
I30: Ուսումնական հաստատությունների քանակ, որոնց մարզադահլիճների վերակառուցումն ավարտվել է 2024թ․–ին և կատարվում է պարտավորությունների մարում, հատ | K30: 4 | M30: 4
B32: 1236 | C32: Հանրակրթական և նախադպրոցական հաստատությունների հիմնում, կառուցում, բարելավում | J32: =+J33+J38+J42 -> -2196.6 | K32: =+K33+K38+K42 -> -2196.6 | L32: =+L33+L38+L42 -> -2196.6 | M32: =+M33+M38+M42 -> 35684.6
D33: 1236 - 32001 | E33: Մանկապարտեզների նոր շենքերի կառուցում | J33: =+'Հավելված N 2'!G28 -> 35684.6 | K33: =+'Հավելված N 2'!H28 -> 35684.6 | L33: =+'Հավելված N 2'!I28 -> 35684.6 | M33: =+'Հավելված N 2'!J28 -> 35684.6
F34: Նախադպրոցական կրթության հասանելիության ապահովման նպատակով՛ մանկապարտեզների հիմնում, նոր շենքերի (մասնաշենքերի), ներառյալ՛ «Մոդուլային» տիպի շենքերի կառուցում և նախագծում
G35: Այլ պետական կազմակերպությունների կողմից օգտագործվող ոչ ֆինանսական ակտիվների հետ գործառնություններ
H36: Ակտիվն օգտագործող կազմակերպության անվանումը` Նախադպրոցական կրթություն իրականացնող ուսումնական հաստատություններ
I37: Մանկապարտեզների քանակ, որոնց կառուցումն ավարտվել է 2024թ․–ին և կատարվում է պարտավորությունների մարում, հատ | K37: 1 | M37: 1
D38: 1236 - 32003 | E38: Հանրակրթական դպրոցների նոր շենքերի կառուցում | J38: =+'Հավելված N 2'!G45 -> -4680.8 | K38: =+'Հավելված N 2'!H45 -> 0 | L38: =+'Հավելված N 2'!I45 -> 0 | M38: =+'Հավելված N 2'!J45 -> 0
F39: ՀՀ մարզերում կրթական որակյալ ծառայությունների հասանելիության ապահովման ծրագրի շրջանակներում հանրակրթական և նախադպրոցական կրթության հասանելիության ապահովման նպատակով կրթական կենտրոնների կառուցում
G40: Այլ պետական կազմակերպությունների կողմից օգտագործվող ոչ ֆինանսական ակտիվների հետ գործառնություններ
H41: Ակտիվն օգտագործող կազմակերպությունների անվանումները` Հանրակրթական դպրոցներ
D42: 1236 - 32004 | E42: Հանրակրթական դպրոցների շենքերի վերակառուցում, հիմնանորոգում | J42: =+'Հավելված N 2'!G54 -> -33200.4 | K42: =+'Հավելված N 2'!H54 -> -37881.2 | L42: =+'Հավելված N 2'!I54 -> -37881.2 | M42: =+'Հավելված N 2'!J54 -> 0
F43: Դպրոցական պարտադիր կրթության հասանելիության ապահովման նպատակով՛ հանրակրթական դպրոցների շենքերի (մասնաշենքերի), վերակառուցում, հիմնանորոգում և նախագծում
G44: Այլ պետական կազմակերպությունների կողմից օգտագործվող ոչ ֆինանսական ակտիվների հետ գործառնություններ
H45: Ակտիվն օգտագործող կազմակերպությունների անվանումները` Հանրակրթական դպրոցներ

Sheet Հավելված N 7
H1: Հավելված N 7
H2: ՀՀ կառավարության 2025 թվականի
H3: ______________ ի ___Ն որոշման
A6: ՀԱՅԱՍՏԱՆԻ ՀԱՆՐԱՊԵՏՈՒԹՅԱՆ ԿԱՌԱՎԱՐՈՒԹՅԱՆ 2024 ԹՎԱԿԱՆԻ ԴԵԿՏԵՄԲԵՐԻ 27-Ի N 2060-Ն N 10 ՀԱՎԵԼՎԱԾՈՒՄ ԿԱՏԱՐՎՈՂ ՓՈՓՈԽՈՒԹՅՈՒՆՆԵՐԸ ԵՎ ԼՐԱՑՈՒՄՆԵՐԸ
A10: Կոդը | B10: Անվանումը | E10: Գնման ձևը | F10: Չափման միավորը | G10: Միավորի գինը | H10: Ցուցանիշների փոփոխությունը (ավելացումները նշված են դրական նշանով, իսկ նվազեցումները՝ փակագծերում)
H11: Քանակը | I11: Գումարը (հազար դրամ)
A12: 1 | B12: 2 | E12: 3 | F12: 4 | G12: 5 | H12: 6 | I12: 7
A13: ՀՀ քաղաքաշինության կոմիտե | I13: =+I14+I18 -> 0
A14: Բաժին N 09 | B14: Խումբ N 01 | C14: Դաս N 01 | D14: Նախադպրոցական կրթություն | I14: =+I15 -> 35684.6
A15: 1236-32001 | B15: Մանկապարտեզների նոր շենքերի կառուցում | I15: =+I16 -> 35684.6
B16: ՄԱՍ II. ԱՇԽԱՏԱՆՔՆԵՐ | I16: =+I17 -> 35684.6
A17: 45221142 | B17: ընդհանուր շինարարական աշխատանքներ | E17: ՀԲՄ | F17: դրամ | G17: 35684571 | H17: 1 | I17: =+ROUNDUP(H17*G17/1000,1) -> 35684.6
A18: Բաժին N 09 | B18: Խումբ N 06 | C18: Դաս N 01 | D18: Կրթությանը տրամադրվող օժանդակ ծառայություններ | I18: =+I19+I25+I28 -> -35684.6
A19: 1163-12001 | B19: Աջակցություն համայնքներին մարզական հաստատությունների շենքային պայմանների բարելավման համար | I19: =+I20+I22 -> -97126.9
B20: ՄԱՍ II. ԱՇԽԱՏԱՆՔՆԵՐ | I20: =+I21 -> -94931.5
A21: 45211131-1 | B21: մարզական օբյեկտների շինարարական աշխատանքներ | E21: ՀԲՄ | F21: դրամ | I21: -94931.5
B22: ՄԱՍ III. ԾԱՌԱՅՈՒԹՅՈՒՆՆԵՐ | I22: =SUM(I23:I24) -> -2195.4
A23: 71351540-1 | B23: տեխնիկական հսկողության ծառայություններ | E23: ԳՀ | F23: դրամ | I23: -1661.3
A24: 98111140-1 | B24: հեղինակային հսկողության ծառայություններ | E24: ՄԱ | F24: դրամ | I24: -534.1
A25: 1183-32007 | B25: Հանրակրթական կրթություն իրականացնող ուսումնական հաստատությունների նոր մարզադահլիճների կառուցում | I25: =+I26 -> 5142.8
B26: ՄԱՍ II. ԱՇԽԱՏԱՆՔՆԵՐ | I26: =+I27 -> 5142.8
A27: 45221142 | B27: ընդհանուր շինարարական աշխատանքներ | E27: ԲՄ | F27: դրամ | G27: 5142745 | H27: 1 | I27: =+ROUNDUP(H27*G27/1000,1) -> 5142.8
A28: 1183-32009 | B28: Հանրակրթական կրթություն իրականացնող ուսումնական հաստատությունների մարզադահլիճների վերակառուցում | I28: =+I29 -> 56299.5
B29: ՄԱՍ II. ԱՇԽԱՏԱՆՔՆԵՐ | I29: =SUM(I30:I33) -> 56299.5
A30: 45451700 | B30: վերակառուցման աշխատանքներ | E30: ԲՄ | F30: դրամ | G30: 6098574 | H30: 1 | I30: =+ROUNDUP(H30*G30/1000,1) -> 6098.6
A31: 45451700 | B31: վերակառուցման աշխատանքներ | E31: ԲՄ | F31: դրամ | G31: 16090243 | H31: 1 | I31: =+ROUNDUP(H31*G31/1000,1) -> 16090.3
A32: 45451700 | B32: վերակառուցման աշխատանքներ | E32: ԲՄ | F32: դրամ | G32: 17873634 | H32: 1 | I32: =+ROUNDUP(H32*G32/1000,1) -> 17873.7
A33: 45451700 | B33: վերակառուցման աշխատանքներ | E33: ԲՄ | F33: դրամ | G33: 16236848 | H33: 1 | I33: =+ROUNDUP(H33*G33/1000,1) -> 16236.9
