Workbook
Name a: #REF!
Name a: #REF!
Name a: #REF!
Name a: #REF!
Name a: #REF!
Name a: #REF!
Name AgencyCode: #REF!
Name AgencyCode: #REF!
Name AgencyCode: #REF!
Name AgencyCode: #REF!
Name AgencyCode: #REF!
Name AgencyCode: #REF!
Name AgencyCode: #REF!
Name AgencyCode: #REF!
Name AgencyCode: #REF!
Name AgencyName: #REF!
Name AgencyName: #REF!
Name AgencyName: #REF!
Name AgencyName: #REF!
Name AgencyName: #REF!
Name AgencyName: #REF!
Name åû: #REF!
Name åû: #REF!
Name davit: #REF!
Name davit: #REF!
Name davit: #REF!
Name davit: #REF!
Name davit: #REF!
Name Functional1: #REF!
Name Functional1: #REF!
Name Functional1: #REF!
Name Functional1: #REF!
Name Functional1: #REF!
Name Functional1: #REF!
Name ggg: #REF!
Name ggg: #REF!
Name ggg: #REF!
Name ggg: #REF!
Name ggg: #REF!
Name mas: #REF!
Name mas: #REF!
Name mass: #REF!
Name mass: #REF!
Name PANature: #REF!
Name PANature: #REF!
Name PANature: #REF!
Name PANature: #REF!
Name PANature: #REF!
Name PANature: #REF!
Name PAType: #REF!
Name PAType: #REF!
Name PAType: #REF!
Name PAType: #REF!
Name PAType: #REF!
Name PAType: #REF!
Name Performance2: #REF!
Name Performance2: #REF!
Name Performance2: #REF!
Name Performance2: #REF!
Name Performance2: #REF!

Sheet Հավելված N 1 
E1: Հավելված N 1
E2: ՀՀ կառավարության 2025 թվականի
E3: ______________ ի ___Ն որոշման
A5: «ՀԱՅԱՍՏԱՆԻ ՀԱՆՐԱՊԵՏՈՒԹՅԱՆ 2025 ԹՎԱԿԱՆԻ ՊԵՏԱԿԱՆ ԲՅՈՒՋԵԻ ՄԱՍԻՆ» ՕՐԵՆՔԻ 3-ՐԴ ՀՈԴՎԱԾԻ, N 3 ՀԱՎԵԼՎԱԾԻ N 1 ԱՂՅՈՒՍԱԿՈՒՄ ԵՎ ՀԱՅԱՍՏԱՆԻ ՀԱՆՐԱՊԵՏՈՒԹՅԱՆ ԿԱՌԱՎԱՐՈՒԹՅԱՆ 2024 ԹՎԱԿԱՆԻ ԴԵԿՏԵՄԲԵՐԻ 27-Ի N 2060-Ն ՈՐՈՇՄԱՆ N 1 ՀԱՎԵԼՎԱԾԻ N 1 ԱՂՅՈՒՍԱԿՈՒՄ ԿԱՏԱՐՎՈՂ ՓՈՓՈԽՈՒԹՅՈՒՆԸ
E7: հազ. դրամ
A8: Պետական բյուջեի դեֆիցիտի ֆինանսավորման աղբյուրներն ու դրանց տարրերի անվանումները | B8: Ցուցանիշների փոփոխությունը (ավելացումները նշված են դրական նշանով)
B9: Առաջին եռամսյակ | C9: Առաջին կիսամյակ | D9: Ինն ամիս | E9: Տարի
A10: ԸՆԴԱՄԵՆԸ | B10: =+B12 -> 397083.3 | C10: =+C12 -> 4153217.8 | D10: =+D12 -> 1948553.2 | E10: =+E12 -> 0
A11: այդ թվում՝
A12: Ա.Ներքին աղբյուրներ-ընդամենը | B12: =+B14 -> 397083.3 | C12: =+C14 -> 4153217.8 | D12: =+D14 -> 1948553.2 | E12: =+E14 -> 0
A13: այդ թվում՝
A14: 2. Ֆինանսական զուտ ակտիվներ | B14: =+B16 -> 397083.3 | C14: =+C16 -> 4153217.8 | D14: =+D16 -> 1948553.2 | E14: =+E16 -> 0
A15: այդ թվում՝
A16: 2.6.Այլ | B16: =+B18 -> 397083.3 | C16: =+C18 -> 4153217.8 | D16: =+D18 -> 1948553.2 | E16: =+E18 -> 0
A17: որից՝
A18: Ժամանակավորապես ազատ միջոցներ | B18: =+'Հավելված N 2'!G13 -> 397083.3 | C18: =+'Հավելված N 2'!H13 -> 4153217.8 | D18: =+'Հավելված N 2'!I13 -> 1948553.2 | E18: =+'Հավելված N 2'!J13 -> 0

Sheet Հավելված N 2
F1: Հավելված N 2
F2: ՀՀ կառավարության 2025 թվականի
F3: ______________ ի ___Ն որոշման
A6: «ՀԱՅԱUՏԱՆԻ ՀԱՆՐԱՊԵՏՈՒԹՅԱՆ 2025 ԹՎԱԿԱՆԻ ՊԵՏԱԿԱՆ ԲՅՈՒՋԵԻ ՄԱUԻՆ» ՀԱՅԱUՏԱՆԻ ՀԱՆՐԱՊԵՏՈՒԹՅԱՆ OՐԵՆՔԻ N 1 ՀԱՎԵԼՎԱԾԻ N 2 ԱՂՅՈՒՍԱԿՈՒՄ ԿԱՏԱՐՎՈՂ ՎԵՐԱԲԱՇԽՈՒՄԸ ԵՎ ՀԱՅԱՍՏԱՆԻ ՀԱՆՐԱՊԵՏՈՒԹՅԱՆ ԿԱՌԱՎԱՐՈՒԹՅԱՆ 2024 ԹՎԱԿԱՆԻ ԴԵԿՏԵՄԲԵՐԻ 27-Ի N 2060-Ն ՈՐՈՇՄԱՆ N 5 ՀԱՎԵԼՎԱԾԻ N 1 ԱՂՅՈՒՍԱԿՈՒՄ ԿԱՏԱՐՎՈՂ ՓՈՓՈԽՈՒԹՅՈՒՆՆԵՐԸ ԵՎ ԼՐԱՑՈՒՄՆԵՐԸ
J9: հազ. դրամներով
A10: ԲԳԿ | B10: Ծրագրային դասիչը | D10: ԲԳԿ/Ծրագրի /միջոցառման անվանումը | E10: Ծրագրի նպատակը/Միջոցառման նկարագրությունը | F10: Վերջնական արդյունքի նկարագրությունը/Միջոցառման տեսակը | G10: Ցուցանիշների փոփոխությունը (ավելացումները նշված են դրական նշանով, իսկ նվազեցումները փակագծերում)
G11: Առաջին եռամսյակ | H11: Առաջին կիսամյակ | I11: Ինն ամիս | J11: Տարի
B12: Ծրագիր | C12: Միջոցառում
A13: ԸՆԴԱՄԵՆԸ | G13: =+G15+G29 -> 397083.3 | H13: =+H15+H29 -> 4153217.8 | I13: =+I15+I29 -> 1948553.2 | J13: =+J15+J29 -> 0
A14: այդ թվում՝
A15: ՀՀ ԿՐԹՈՒԹՅԱՆ, ԳԻՏՈՒԹՅԱՆ, ՄՇԱԿՈՒՅԹԻ ԵՎ ՍՊՈՐՏԻ ՆԱԽԱՐԱՐՈՒԹՅՈՒՆ | G15: =+G16+G19+G21 -> 397083.3 | H15: =+H16+H19+H21 -> 4153217.8 | I15: =+I16+I19+I21 -> 1948553.2 | J15: =+J16+J19+J21 -> 0
B16: 1163 | D16: Մասսայական սպորտ | E16: Բնակչության շրջանում առողջ ապրելակերպի արմատավորում, անհատի բազմակողմանի ու ներդաշնակ զարգացման գործում ֆիզիկական կուլտուրայի և սպորտի դերի բարձրացում | F16: Սպորտի նկատմամբ հետաքրքրվածության և մասնակցության ընդլայնում | G16: =+G17+G18 -> 134230.1 | H16: =+H17+H18 -> 324237.3 | I16: =+I17+I18 -> 387573 | J16: =+J17+J18 -> 450908.9
C17: 1163 - 32001 | D17: Մարզական օբյեկտների շինարարություն | E17: Մարզական օբյեկտների շենքերի (մասնաշենքերի) կառուցում (համաշինարարական աշխատանքներ, ջեռուցման համակարգի իրականացում, ներքին հարդարում, տարածքի բարեկարգում) և նախագծում | F17: Այլ պետական կազմակերպությունների կողմից օգտագործվող ոչ ֆինանսական ակտիվների հետ գործառնություններ | G17: =+'Հավելված N 3'!G138 -> 0 | H17: =+'Հավելված N 3'!H138 -> 190007.2 | I17: =+'Հավելված N 3'!I138 -> 253342.9 | J17: =+'Հավելված N 3'!J138 -> 316678.8
C18: 1163 - 32005 | D18: «Վորքաութ» տեսակի մարզահրապարակների կառուցում | E18: Առողջ ապրելակերպի զարգացման նպատակով բնակելի շենքերի, դպրոցների բակերում և այլ հասարակական վայրերում «Վորքաութ» տեսակի մարզահրապարակների կառուցում, նախագծում | F18: Ծառայությունների մատուցում | G18: =+'Հավելված N 3'!G26 -> 134230.1 | H18: =+'Հավելված N 3'!H26 -> 134230.1 | I18: =+'Հավելված N 3'!I26 -> 134230.1 | J18: =+'Հավելված N 3'!J26 -> 134230.1
B19: 1189 | D19: Դպրոցների սեյսմիկ անվտանգության մակարդակի բարձրացման ծրագիր | E19: Նպաստել երկրի սեյսմակայունության ապահովմանը, անհատական և հասարակական անվտանգության մակարդակի բարձրացմանը | F19: Դպրոցական շենքերի սեյսմակայունության մակարդակի բարձրացում | G19: =+G20 -> 10000 | H19: =+H20 -> 10000 | I19: =+I20 -> 10000 | J19: =+J20 -> 10000
C20: 1189 - 11001 | D20: Ասիական զարգացման բանկի աջակցությամբ իրականացվող դպրոցների սեյսմիկ պաշտպանության ծրագրի կառավարում | E20: Դպրոցների սեյսմիկ պաշտպանության ծրագիր` ՀՀ դպրոցների սեյսմիկ անվտանգության բարելավման նպատակով | F20: Ծառայությունների մատուցում | G20: =+'Հավելված N 3'!G149 -> 10000 | H20: =+'Հավելված N 3'!H149 -> 10000 | I20: =+'Հավելված N 3'!I149 -> 10000 | J20: =+'Հավելված N 3'!J149 -> 10000
B21: 1236 | D21: Հանրակրթական և նախադպրոցական հաստատությունների հիմնում, կառուցում, բարելավում | E21: Առնվազն 300 դպրոցի և 500 մանկապարտեզի կառուցման, վերակառուցման, հիմնանորոգման ծրագրերի իրականացում ՀՀ պետական բյուջեի միջոցների շրջանակներում | F21: Կրթական միջավայրի բարելավում | G21: =+G22+G23+G24+G25+G26+G27 -> 252853.2 | H21: =+H22+H23+H24+H25+H26+H27 -> 3818980.5 | I21: =+I22+I23+I24+I25+I26+I27 -> 1550980.2 | J21: =+J22+J23+J24+J25+J26+J27 -> -460908.9
C22: 1236 - 11001 | D22: Հանրակրթական և նախադպրոցական հաստատությունների կառուցման, վերակառուցման, հիմնանորոգման ծրագրերի համակարգման և մոնիտորինգի ծառայություններ | E22: Հանրակրթական և նախադպրոցական հաստատություններիկառուցման, վերակառուցման, հիմնանորոգման ծրագրերիհամակարգման և մոնիտորինգի ծառայությունների ապահովում | F22: Ծառայությունների մատուցում | G22: =+'Հավելված N 3'!G87 -> 30000 | H22: =+'Հավելված N 3'!H87 -> 70000 | I22: =+'Հավելված N 3'!I87 -> 80000 | J22: =+'Հավելված N 3'!J87 -> 80000
C23: 1236 - 32001 | D23: Մանկապարտեզների նոր շենքերի կառուցում | E23: Նախադպրոցական կրթության հասանելիության ապահովման նպատակով՛ մանկապարտեզների հիմնում, նոր շենքերի (մասնաշենքերի), ներառյալ՛ ,Մոդուլայինե տիպի շենքերի կառուցում և նախագծում | F23: Այլ պետական կազմակերպությունների կողմից օգտագործվող ոչ ֆինանսական ակտիվների հետ գործառնություններ | G23: =+'Հավելված N 3'!G45 -> 329868.2 | H23: =+'Հավելված N 3'!H45 -> 828614.3 | I23: =+'Հավելված N 3'!I45 -> 34756.8 | J23: =+'Հավելված N 3'!J45 -> -444822
C24: 1236 - 32002 | D24: Մանկապարտեզների շենքերի վերակառուցում, հիմնանորոգում | E24: Նախադպրոցական կրթության հասանելիության ապահովման նպատակով՛ մանկապարտեզների շենքերի (մասնաշենքերի), վերակառուցում, հիմնանորոգում և նախագծում | F24: Այլ պետական կազմակերպությունների կողմից օգտագործվող ոչ ֆինանսական ակտիվների հետ գործառնություններ | G24: =+'Հավելված N 3'!G63 -> 122351.8 | H24: =+'Հավելված N 3'!H63 -> 122351.8 | I24: =+'Հավելված N 3'!I63 -> 122351.8 | J24: =+'Հավելված N 3'!J63 -> -15815.8
C25: 1236 - 32003 | D25: Հանրակրթական դպրոցների նոր շենքերի կառուցում | E25: ՀՀ մարզերում կրթական որակյալ ծառայությունների հասանելիության ապահովման ծրագրի շրջանակներում հանրակրթական և նախադպրոցական կրթության հասանելիության ապահովման նպատակով կրթական կենտրոնների կառուցում | F25: Այլ պետական կազմակերպությունների կողմից օգտագործվող ոչ ֆինանսական ակտիվների հետ գործառնություններ | G25: =+'Հավելված N 3'!G96 -> 1741068.6 | H25: =+'Հավելված N 3'!H96 -> 1938885.7 | I25: =+'Հավելված N 3'!I96 -> 969442.7 | J25: =+'Հավելված N 3'!J96 -> 0
C26: 1236 - 32004 | D26: Հանրակրթական դպրոցների շենքերի վերակառուցում, հիմնանորոգում | E26: Դպրոցական պարտադիր կրթության հասանելիության ապահովման նպատակով՛ հանրակրթական դպրոցների շենքերի (մասնաշենքերի), վերակառուցում, հիմնանորոգում և նախագծում | F26: Այլ պետական կազմակերպությունների կողմից օգտագործվող ոչ ֆինանսական ակտիվների հետ գործառնություններ | G26: =+'Հավելված N 3'!G105 -> 381989.5 | H26: =+'Հավելված N 3'!H105 -> 709780.9 | I26: =+'Հավելված N 3'!I105 -> 536979.8 | J26: =+'Հավելված N 3'!J105 -> 454178.7
C27: 1236 - 32005 | D27: Կրթահամալիրների կառուցում | E27: ՀՀ մարզերում կրթական որակյալ ծառայությունների հասանելիության ապահովման ծրագրի շրջանակներում հանրակրթական և նախադպրոցական կրթության հասանելիության ապահովման նպատակով կրթական կենտրոնների կառուցում | F27: Այլ պետական կազմակերպությունների կողմից օգտագործվող ոչ ֆինանսական ակտիվների հետ գործառնություններ | G27: =+'Հավելված N 3'!G121 -> -2352424.9 | H27: =+'Հավելված N 3'!H121 -> 149347.8 | I27: =+'Հավելված N 3'!I121 -> -192550.9 | J27: =+'Հավելված N 3'!J121 -> -534449.8
A29: ՀՀ ԿԱՌԱՎԱՐՈՒԹՅՈՒՆ | G29: =+G30+G33+G35 -> 0 | H29: =+H30+H33+H35 -> 0 | I29: =+I30+I33+I35 -> 0 | J29: =+J30+J33+J35 -> 0
B30: 1139 | D30: ՀՀ կառավարության պահուստային ֆոնդ | E30: Պետական բյուջեում չկանխատեսված, ինչպես նաեւ բյուջետային երաշխիքների ապահովման ծախսերի ֆինանսավորման ապահովում | F30: Պահուստային ֆոնդի կառավարման արդյունավետության և թափանցիկության ապահովում | G30: =+G31+G32 -> 0 | H30: =+H31+H32 -> 0 | I30: =+I31+I32 -> 0 | J30: =+J31+J32 -> 0
C31: 1139 - 11001 | D31: ՀՀ կառավարության պահուստային ֆոնդ | E31: ՀՀ պետական բյուջեում նախատեսված ելքերի լրացուցիչ ֆինանսավորման, պետական բյուջեում չկանխատեսված ելքերի, ինչպես նաև բյուջետային երաշխիքների ապահովման ելքերի ֆինանսավորման ապահովում | F31: Ծառայությունների մատուցում | G31: =+'Հավելված N 3'!G170 -> 134230.1 | H31: =+'Հավելված N 3'!H170 -> 134230.1 | I31: =+'Հավելված N 3'!I170 -> 134230.1 | J31: =+'Հավելված N 3'!J170 -> 134230.1
C32: 1139 - 11001 | D32: ՀՀ կառավարության պահուստային ֆոնդ | E32: ՀՀ պետական բյուջեում նախատեսված ելքերի լրացուցիչ ֆինանսավորման, պետական բյուջեում չկանխատեսված ելքերի, ինչպես նաև բյուջետային երաշխիքների ապահովման ելքերի ֆինանսավորման ապահովում | F32: Ծառայությունների մատուցում | G32: =+'Հավելված N 3'!G178 -> -134230.1 | H32: =+'Հավելված N 3'!H178 -> -134230.1 | I32: =+'Հավելված N 3'!I178 -> -134230.1 | J32: =+'Հավելված N 3'!J178 -> -134230.1

Sheet Հավելված N 3
F1: Հավելված N 3
F2: ՀՀ կառավարության 2025 թվականի
F3: ______________ ի ___Ն որոշման
A7: ՀԱՅԱՍՏԱՆԻ ՀԱՆՐԱՊԵՏՈՒԹՅԱՆ ԿԱՌԱՎԱՐՈՒԹՅԱՆ 2024 ԹՎԱԿԱՆԻ ԴԵԿՏԵՄԲԵՐԻ 27-Ի N 2060-Ն ՈՐՈՇՄԱՆ N 3 ԵՎ N 4 ՀԱՎԵԼՎԱԾՆԵՐՈՒՄ ԿԱՏԱՐՎՈՂ ՓՈՓՈԽՈՒԹՅՈՒՆՆԵՐԸ ԵՎ ԼՐԱՑՈՒՄՆԵՐԸ
J10: հազ. դրամներով
A11: Գործառական դասիչը | D11: Ծրագրային դասիչը | F11: Բյուջետային հատկացումների գլխավոր կարգադրիչների, ծրագրերի, միջոցառումների և միջոցառումները կատարող պետական մարմինների անվանումները | G11: Ցուցանիշների փոփոխությունը (ավելացումները նշված են դրական նշանով, իսկ նվազեցումները՝ փակագծերում)
A12: Բաժին | B12: Խումբ | C12: Դաս | D12: Ծրագիր | E12: Միջոցառում | G12: Առաջին եռամսյակ | H12: Առաջին կիսամյակ | I12: Ինն ամիս | J12: Տարի
F13: ԸՆԴԱՄԵՆԸ | G13: =+G15+G159 -> 397083.3 | H13: =+H15+H159 -> 4153217.8 | I13: =+I15+I159 -> 1948553.2 | J13: =+J15+J159 -> 0
F14: այդ թվում՝
F15: ՀՀ ԿՐԹՈՒԹՅԱՆ, ԳԻՏՈՒԹՅԱՆ, ՄՇԱԿՈՒՅԹԻ ԵՎ ՍՊՈՐՏԻ ՆԱԽԱՐԱՐՈՒԹՅՈՒՆ | G15: =+G16+G35 -> 397083.3 | H15: =+H16+H35 -> 4153217.8 | I15: =+I16+I35 -> 1948553.2 | J15: =+J16+J35 -> 0
A16: 08 | F16: ՀԱՆԳԻՍՏ, ՄՇԱԿՈՒՅԹ ԵՎ ԿՐՈՆ | G16: =+G18 -> 134230.1 | H16: =+H18 -> 134230.1 | I16: =+I18 -> 134230.1 | J16: =+J18 -> 134230.1
F17: այդ թվում`
B18: 01 | F18: Հանգստի և սպորտի ծառայություններ | G18: =+G20 -> 134230.1 | H18: =+H20 -> 134230.1 | I18: =+I20 -> 134230.1 | J18: =+J20 -> 134230.1
F19: այդ թվում`
C20: 01 | F20: Հանգստի և սպորտի ծառայություններ | G20: =+G22 -> 134230.1 | H20: =+H22 -> 134230.1 | I20: =+I22 -> 134230.1 | J20: =+J22 -> 134230.1
F21: այդ թվում`
F22: ՀՀ կրթության, գիտության, մշակույթի և սպորտի նախարարություն | G22: =+G24 -> 134230.1 | H22: =+H24 -> 134230.1 | I22: =+I24 -> 134230.1 | J22: =+J24 -> 134230.1
F23: այդ թվում`
D24: 1163 | E24: Մասսայական սպորտ | G24: =+G26 -> 134230.1 | H24: =+H26 -> 134230.1 | I24: =+I26 -> 134230.1 | J24: =+J26 -> 134230.1
F25: այդ թվում`
E26: 32005 | F26: «Վորքաութ» տեսակի մարզահրապարակների կառուցում | G26: =+G28 -> 134230.1 | H26: =+H28 -> 134230.1 | I26: =+I28 -> 134230.1 | J26: =+J28 -> 134230.1
F27: այդ թվում` ըստ կատարողների
F28: ՀՀ կրթության, գիտության, մշակույթի և սպորտի նախարարություն | G28: =+G30 -> 134230.1 | H28: =+H30 -> 134230.1 | I28: =+I30 -> 134230.1 | J28: =+J30 -> 134230.1
F29: այդ թվում՝ բյուջետային ծախսերի տնտեսագիտական դասակարգման հոդվածներ
F30: ԸՆԴԱՄԵՆԸ ԾԱԽՍԵՐ | G30: =+G31 -> 134230.1 | H30: =+H31 -> 134230.1 | I30: =+I31 -> 134230.1 | J30: =+J31 -> 134230.1
F31: ՈՉ ՖԻՆԱՆՍԱԿԱՆ ԱԿՏԻՎՆԵՐԻ ԳԾՈՎ ԾԱԽՍԵՐ | G31: =+G32 -> 134230.1 | H31: =+H32 -> 134230.1 | I31: =+I32 -> 134230.1 | J31: =+J32 -> 134230.1
F32: ՀԻՄՆԱԿԱՆ ՄԻՋՈՑՆԵՐ | G32: =+G33 -> 134230.1 | H32: =+H33 -> 134230.1 | I32: =+I33 -> 134230.1 | J32: =+J33 -> 134230.1
F33: ՇԵՆՔԵՐ ԵՎ ՇԻՆՈՒԹՅՈՒՆՆԵՐ | G33: =+G34 -> 134230.1 | H33: =+H34 -> 134230.1 | I33: =+I34 -> 134230.1 | J33: =+J34 -> 134230.1
F34: - Շենքերի և շինությունների շինարարություն | G34: =+'Հավելված N 5'!E21 -> 134230.1 | H34: =+'Հավելված N 5'!F21 -> 134230.1 | I34: =+'Հավելված N 5'!G21 -> 134230.1 | J34: =+'Հավելված N 5'!H21 -> 134230.1
A35: 09 | F35: ԿՐԹՈՒԹՅՈՒՆ | G35: =+G37+G79+G130 -> 262853.2 | H35: =+H37+H79+H130 -> 4018987.7 | I35: =+I37+I79+I130 -> 1814323.1 | J35: =+J37+J79+J130 -> -134230.1
F36: այդ թվում`
B37: 01 | F37: Նախադպրոցական և տարրական ընդհանուր կրթություն | G37: =+G39 -> 452220 | H37: =+H39 -> 950966.1 | I37: =+I39 -> 157108.6 | J37: =+J39 -> -460637.8
F38: այդ թվում`
C39: 01 | F39: Նախադպրոցական կրթություն | G39: =+G41 -> 452220 | H39: =+H41 -> 950966.1 | I39: =+I41 -> 157108.6 | J39: =+J41 -> -460637.8
F40: այդ թվում`
F41: ՀՀ կրթության, գիտության, մշակույթի և սպորտի նախարարություն | G41: =+G43 -> 452220 | H41: =+H43 -> 950966.1 | I41: =+I43 -> 157108.6 | J41: =+J43 -> -460637.8
F42: այդ թվում`
D43: 1236 | E43: Հանրակրթական և նախադպրոցական հաստատությունների հիմնում, կառուցում, բարելավում | G43: =+G45+G63 -> 452220 | H43: =+H45+H63 -> 950966.1 | I43: =+I45+I63 -> 157108.6 | J43: =+J45+J63 -> -460637.8
F44: այդ թվում`
E45: 32001 | F45: Մանկապարտեզների նոր շենքերի կառուցում | G45: =+G47+G56 -> 329868.2 | H45: =+H47+H56 -> 828614.3 | I45: =+I47+I56 -> 34756.8 | J45: =+J47+J56 -> -444822
F46: այդ թվում` ըստ կատարողների
F47: ՀՀ կրթության, գիտության, մշակույթի և սպորտի նախարարություն | G47: =+G49 -> 329868.2 | H47: =+H49 -> 1668614.3 | I47: =+I49 -> 1994756.8 | J47: =+J49 -> 2355178
F48: այդ թվում՝ բյուջետային ծախսերի տնտեսագիտական դասակարգման հոդվածներ
F49: ԸՆԴԱՄԵՆԸ ԾԱԽՍԵՐ | G49: =G50 -> 329868.2 | H49: =H50 -> 1668614.3 | I49: =I50 -> 1994756.8 | J49: =J50 -> 2355178
F50: ՈՉ ՖԻՆԱՆՍԱԿԱՆ ԱԿՏԻՎՆԵՐԻ ԳԾՈՎ ԾԱԽՍԵՐ | G50: =+G51 -> 329868.2 | H50: =+H51 -> 1668614.3 | I50: =+I51 -> 1994756.8 | J50: =+J51 -> 2355178
F51: ՀԻՄՆԱԿԱՆ ՄԻՋՈՑՆԵՐ | G51: =+G52+G54 -> 329868.2 | H51: =+H52+H54 -> 1668614.3 | I51: =+I52+I54 -> 1994756.8 | J51: =+J52+J54 -> 2355178
F52: ՇԵՆՔԵՐ ԵՎ ՇԻՆՈՒԹՅՈՒՆՆԵՐ | G52: =+G53 -> 319118.2 | H52: =+H53 -> 1657864.3 | I52: =+I53 -> 1984006.8 | J52: =+J53 -> 2344428
F53: - Շենքերի և շինությունների շինարարություն | G53: =+'Հավելված N 5'!E33-'Հավելված N 4'!G44 -> 319118.2 | H53: =+'Հավելված N 5'!F33-'Հավելված N 4'!G44 -> 1657864.3 | I53: =+'Հավելված N 5'!G33-'Հավելված N 4'!G44 -> 1984006.8 | J53: =+'Հավելված N 5'!H33-'Հավելված N 4'!G44 -> 2344428
F54: ԱՅԼ ՀԻՄՆԱԿԱՆ ՄԻՋՈՑՆԵՐ | G54: =+G55 -> 10750 | H54: =+H55 -> 10750 | I54: =+I55 -> 10750 | J54: =+J55 -> 10750
F55: - Նախագծահետազոտական ծախսեր | G55: =+'Հավելված N 4'!G44 -> 10750 | H55: =+G55 -> 10750 | I55: =+H55 -> 10750 | J55: =+I55 -> 10750
F56: ՀՀ կառավարություն | G56: =+G58 -> 0 | H56: =+H58 -> -840000 | I56: =+I58 -> -1960000 | J56: =+J58 -> -2800000
F57: այդ թվում՝ բյուջետային ծախսերի տնտեսագիտական դասակարգման հոդվածներ
F58: ԸՆԴԱՄԵՆԸ ԾԱԽՍԵՐ | G58: =G59 -> 0 | H58: =H59 -> -840000 | I58: =I59 -> -1960000 | J58: =J59 -> -2800000
F59: ՈՉ ՖԻՆԱՆՍԱԿԱՆ ԱԿՏԻՎՆԵՐԻ ԳԾՈՎ ԾԱԽՍԵՐ | G59: =+G60 -> 0 | H59: =+H60 -> -840000 | I59: =+I60 -> -1960000 | J59: =+J60 -> -2800000
F60: ՀԻՄՆԱԿԱՆ ՄԻՋՈՑՆԵՐ | G60: =+G61 -> 0 | H60: =+H61 -> -840000 | I60: =+I61 -> -1960000 | J60: =+J61 -> -2800000
F61: ՇԵՆՔԵՐ ԵՎ ՇԻՆՈՒԹՅՈՒՆՆԵՐ | G61: =+G62 -> 0 | H61: =+H62 -> -840000 | I61: =+I62 -> -1960000 | J61: =+J62 -> -2800000
F62: - Շենքերի և շինությունների շինարարություն | G62: =+'Հավելված N 5'!E51 -> 0 | H62: =+'Հավելված N 5'!F51 -> -840000 | I62: =+'Հավելված N 5'!G51 -> -1960000 | J62: =+'Հավելված N 5'!H51 -> -2800000
E63: 32002 | F63: Մանկապարտեզների շենքերի վերակառուցում, հիմնանորոգում | G63: =+G65+G72 -> 122351.8 | H63: =+H65+H72 -> 122351.8 | I63: =+I65+I72 -> 122351.8 | J63: =+J65+J72 -> -15815.8
F64: այդ թվում` ըստ կատարողների
F65: ՀՀ կրթության, գիտության, մշակույթի և սպորտի նախարարություն | G65: =+G67 -> 122351.8 | H65: =+H67 -> 122351.8 | I65: =+I67 -> 122351.8 | J65: =+J67 -> 122351.8
F66: այդ թվում՝ բյուջետային ծախսերի տնտեսագիտական դասակարգման հոդվածներ
F67: ԸՆԴԱՄԵՆԸ ԾԱԽՍԵՐ | G67: =G68 -> 122351.8 | H67: =H68 -> 122351.8 | I67: =I68 -> 122351.8 | J67: =J68 -> 122351.8
F68: ՈՉ ՖԻՆԱՆՍԱԿԱՆ ԱԿՏԻՎՆԵՐԻ ԳԾՈՎ ԾԱԽՍԵՐ | G68: =+G69 -> 122351.8 | H68: =+H69 -> 122351.8 | I68: =+I69 -> 122351.8 | J68: =+J69 -> 122351.8
F69: ՀԻՄՆԱԿԱՆ ՄԻՋՈՑՆԵՐ | G69: =+G70 -> 122351.8 | H69: =+H70 -> 122351.8 | I69: =+I70 -> 122351.8 | J69: =+J70 -> 122351.8
F70: ՇԵՆՔԵՐ ԵՎ ՇԻՆՈՒԹՅՈՒՆՆԵՐ | G70: =+G71 -> 122351.8 | H70: =+H71 -> 122351.8 | I70: =+I71 -> 122351.8 | J70: =+J71 -> 122351.8
F71: - Շենքերի և շինությունների կապիտալ վերանորոգում | G71: =+'Հավելված N 5'!E54 -> 122351.8 | H71: =+'Հավելված N 5'!F54 -> 122351.8 | I71: =+'Հավելված N 5'!G54 -> 122351.8 | J71: =+'Հավելված N 5'!H54 -> 122351.8
F72: ՀՀ կառավարություն | G72: =+G74 -> 0 | H72: =+H74 -> 0 | I72: =+I74 -> 0 | J72: =+J74 -> -138167.6
F73: այդ թվում՝ բյուջետային ծախսերի տնտեսագիտական դասակարգման հոդվածներ
F74: ԸՆԴԱՄԵՆԸ ԾԱԽՍԵՐ | G74: =G75 -> 0 | H74: =H75 -> 0 | I74: =I75 -> 0 | J74: =J75 -> -138167.6
F75: ՈՉ ՖԻՆԱՆՍԱԿԱՆ ԱԿՏԻՎՆԵՐԻ ԳԾՈՎ ԾԱԽՍԵՐ | G75: =+G76 -> 0 | H75: =+H76 -> 0 | I75: =+I76 -> 0 | J75: =+J76 -> -138167.6
F76: ՀԻՄՆԱԿԱՆ ՄԻՋՈՑՆԵՐ | G76: =+G77 -> 0 | H76: =+H77 -> 0 | I76: =+I77 -> 0 | J76: =+J77 -> -138167.6
F77: ՇԵՆՔԵՐ ԵՎ ՇԻՆՈՒԹՅՈՒՆՆԵՐ | G77: =+G78 -> 0 | H77: =+H78 -> 0 | I77: =+I78 -> 0 | J77: =+J78 -> -138167.6
F78: - Շենքերի և շինությունների կապիտալ վերանորոգում | G78: =+'Հավելված N 5'!E58 -> 0 | H78: =+'Հավելված N 5'!F58 -> 0 | I78: =+'Հավելված N 5'!G58 -> 0 | J78: =+'Հավելված N 5'!H58 -> -138167.6
B79: 02 | F79: Միջնակարգ ընդհանուր կրթություն | G79: =+G81 -> -199366.8 | H79: =+H81 -> 2868014.4 | I79: =+I81 -> 1393871.6 | J79: =+J81 -> -271.1
F80: այդ թվում`
F81: Հիմնական ընդհանուր կրթություն | G81: =+G83 -> -199366.8 | H81: =+H83 -> 2868014.4 | I81: =+I83 -> 1393871.6 | J81: =+J83 -> -271.1
C82: 01 | F82: այդ թվում`
F83: ՀՀ կրթության, գիտության, մշակույթի և սպորտի նախարարություն | G83: =+G85 -> -199366.8 | H83: =+H85 -> 2868014.4 | I83: =+I85 -> 1393871.6 | J83: =+J85 -> -271.1
F84: այդ թվում`
D85: 1236 | E85: Հանրակրթական և նախադպրոցական հաստատությունների հիմնում, կառուցում, բարելավում | G85: =+G87+G96+G105+G121 -> -199366.8 | H85: =+H87+H96+H105+H121 -> 2868014.4 | I85: =+I87+I96+I105+I121 -> 1393871.6 | J85: =+J87+J96+J105+J121 -> -271.1
F86: այդ թվում`
E87: 11001 | F87: Հանրակրթական և նախադպրոցական հաստատությունների կառուցման, վերակառուցման, հիմնանորոգման ծրագրերի համակարգման և մոնիտորինգի ծառայություններ | G87: =+G89 -> 30000 | H87: =+H89 -> 70000 | I87: =+I89 -> 80000 | J87: =+J89 -> 80000
F88: այդ թվում` ըստ կատարողների
F89: ՀՀ կրթության, գիտության, մշակույթի և սպորտի նախարարություն | G89: =+G91 -> 30000 | H89: =+H91 -> 70000 | I89: =+I91 -> 80000 | J89: =+J91 -> 80000
F90: այդ թվում՝ բյուջետային ծախսերի տնտեսագիտական դասակարգման հոդվածներ
F91: ԸՆԴԱՄԵՆԸ ԾԱԽՍԵՐ | G91: =G92 -> 30000 | H91: =H92 -> 70000 | I91: =I92 -> 80000 | J91: =J92 -> 80000
F92: ԸՆԹԱՑԻԿ ԾԱԽՍԵՐ | G92: =+G93 -> 30000 | H92: =+H93 -> 70000 | I92: =+I93 -> 80000 | J92: =+J93 -> 80000
F93: ԱՅԼ ԾԱԽՍԵՐ | G93: =+G94 -> 30000 | H93: =+H94 -> 70000 | I93: =+I94 -> 80000 | J93: =+J94 -> 80000
F94: ՀԱՐԿԵՐ, ՊԱՐՏԱԴԻՐ ՎՃԱՐՆԵՐ ԵՎ ՏՈՒՅԺԵՐ, ՈՐՈՆՔ ԿԱՌԱՎԱՐՄԱՆ ՏԱՐԲԵՐ ՄԱԿԱՐԴԱԿՆԵՐԻ ԿՈՂՄԻՑ ԿԻՐԱՌՎՈՒՄ ԵՆ ՄԻՄՅԱՆՑ ՆԿԱՏՄԱՄԲ | G94: =+G95 -> 30000 | H94: =+H95 -> 70000 | I94: =+I95 -> 80000 | J94: =+J95 -> 80000
F95: - Այլ հարկեր | G95: 30000 | H95: 70000 | I95: 80000 | J95: 80000
E96: 32003 | F96: Հանրակրթական դպրոցների նոր շենքերի կառուցում | G96: =+G98 -> 1741068.6 | H96: =+H98 -> 1938885.7 | I96: =+I98 -> 969442.7 | J96: =+J98 -> 0
F97: այդ թվում` ըստ կատարողների
F98: ՀՀ կրթության, գիտության, մշակույթի և սպորտի նախարարություն | G98: =+G100 -> 1741068.6 | H98: =+H100 -> 1938885.7 | I98: =+I100 -> 969442.7 | J98: =+J100 -> 0
F99: այդ թվում՝ բյուջետային ծախսերի տնտեսագիտական դասակարգման հոդվածներ
F100: ԸՆԴԱՄԵՆԸ ԾԱԽՍԵՐ | G100: =G101 -> 1741068.6 | H100: =H101 -> 1938885.7 | I100: =I101 -> 969442.7 | J100: =J101 -> 0
F101: ՈՉ ՖԻՆԱՆՍԱԿԱՆ ԱԿՏԻՎՆԵՐԻ ԳԾՈՎ ԾԱԽՍԵՐ | G101: =+G102 -> 1741068.6 | H101: =+H102 -> 1938885.7 | I101: =+I102 -> 969442.7 | J101: =+J102 -> 0
F102: ՀԻՄՆԱԿԱՆ ՄԻՋՈՑՆԵՐ | G102: =+G103 -> 1741068.6 | H102: =+H103 -> 1938885.7 | I102: =+I103 -> 969442.7 | J102: =+J103 -> 0
F103: ՇԵՆՔԵՐ ԵՎ ՇԻՆՈՒԹՅՈՒՆՆԵՐ | G103: =+G104 -> 1741068.6 | H103: =+H104 -> 1938885.7 | I103: =+I104 -> 969442.7 | J103: =+J104 -> 0
F104: - Շենքերի և շինությունների շինարարություն | G104: =+'Հավելված N 5'!E61 -> 1741068.6 | H104: =+'Հավելված N 5'!F61 -> 1938885.7 | I104: =+'Հավելված N 5'!G61 -> 969442.7 | J104: =+'Հավելված N 5'!H61 -> 0
E105: 32004 | F105: Հանրակրթական դպրոցների շենքերի վերակառուցում, հիմնանորոգում | G105: =+G107+G114 -> 381989.5 | H105: =+H107+H114 -> 709780.9 | I105: =+I107+I114 -> 536979.8 | J105: =+J107+J114 -> 454178.7
...

Sheet Հավելված N 4
F1: Հավելված N 4
F2: ՀՀ կառավարության 2025 թվականի
F3: ______________ ի ___Ն որոշման
A5: «ՀԱՅԱUՏԱՆԻ ՀԱՆՐԱՊԵՏՈՒԹՅԱՆ 2025 ԹՎԱԿԱՆԻ ՊԵՏԱԿԱՆ ԲՅՈՒՋԵԻ ՄԱUԻՆ» ՀԱՅԱUՏԱՆԻ ՀԱՆՐԱՊԵՏՈՒԹՅԱՆ OՐԵՆՔԻ N 1 ՀԱՎԵԼՎԱԾԻ N 3 ԱՂՅՈՒՍԱԿՈՒՄ ԿԱՏԱՐՎՈՂ ՓՈՓՈԽՈՒԹՅՈՒՆՆԵՐԸ ԵՎ ԼՐԱՑՈՒՄՆԵՐԸ
G8: հազ. դրամներով
A9: Ծրագրային դասիչ | C9: Բյուջետային գլխավոր կարգադրիչների, ծրագրերի, միջոցառումների, միջոցառումները կատարող պետական մարմինների և ուղղությունների անվանումները | D9: Ընդամենը | E9: Ցուցանիշների փոփոխությունը (ավելացումները նշված են դրական նշանով, իսկ նվազեցումները՝ փակագծերում)
A10: Ծրագիր | B10: Միջոցառում | E10: Կառուցման աշխատանքներ | F10: Վերակառուցման, վերանորոգման և վերականգնման աշխատանքներ | G10: Նախագծահե- տազոտական, գեոդեզիա- քարտեզագրա- կան աշխա- տանքներ | H10: Ոչ ֆինանսական այլ ակտիվների ձեռքբերում
C11: ԸՆԴԱՄԵՆԸ | D11: =SUM(E11:H11) -> -90000 | E11: =+E13 -> -539112.9 | F11: =+F13 -> 438362.9 | G11: =+G13 -> 10750 | H11: =+H13 -> 0
C12: այդ թվում՝
C13: ՀՀ ԿՐԹՈՒԹՅԱՆ, ԳԻՏՈՒԹՅԱՆ, ՄՇԱԿՈՒՅԹԻ ԵՎ ՍՊՈՐՏԻ ՆԱԽԱՐԱՐՈՒԹՅՈՒՆ | D13: =SUM(E13:H13) -> -90000 | E13: =+E15+E19+E29+E48+E53+E80 -> -539112.9 | F13: =+F15+F19+F29+F48+F53+F80 -> 438362.9 | G13: =+G15+G19+G29+G48+G53+G80 -> 10750 | H13: =+H15+H19+H29+H48+H53+H80 -> 0
C14: այդ թվում`
A15: 1163 | B15: 32001 | C15: Մարզական օբյեկտների շինարարություն | D15: =SUM(E15:H15) -> 316678.8 | E15: =+E17 -> 316678.8 | F15: =+F17 -> 0 | G15: =+G17 -> 0 | H15: =+H17 -> 0
C16: այդ թվում`
C17: ՀՀ Արմավիրի մարզ | D17: =SUM(E17:H17) -> 316678.8 | E17: =+E18 -> 316678.8 | F17: =+F18 -> 0 | G17: =+G18 -> 0 | H17: =+H18 -> 0
C18: Արմավիր համայնքի Մյասնիկյան բնակավայրի մարզադպրոց | D18: =+E18+F18+G18+H18 -> 316678.8 | E18: =+'Հավելված N 9'!I93+'Հավելված N 9'!I95+'Հավելված N 9'!I96 -> 316678.8
A19: 1163 | B19: 32005 | C19: «Վորքաութ» տեսակի մարզահրապարակների կառուցում | D19: =SUM(E19:H19) -> 134230.1 | E19: =+E21+E23+E25+E27 -> 134230.1 | F19: =+F21+F23+F25+F27 -> 0 | G19: =+G21+G23+G25+G27 -> 0 | H19: =+H21+H23+H25+H27 -> 0
C20: այդ թվում`
C21: ՀՀ Գեղարքունիքի մարզ | D21: =SUM(E21:H21) -> 23439.1 | E21: =+E22 -> 23439.1 | F21: =+F22 -> 0 | G21: =+G22 -> 0 | H21: =+H22 -> 0
C22: Ճամբարակ քաղաքի Տիգրան Մեծի փ. 18/5, Նադարյան փ. 3/4 շենքերի բակերում գտնվող տարածքներում «Վորքաութ» տեսակի մարզահրապարակներ | D22: =SUM(E22:H22) -> 23439.1 | E22: =+'Հավելված N 9'!I17+'Հավելված N 9'!I22+'Հավելված N 9'!I26 -> 23439.1
C23: ՀՀ Սյունիքի մարզ | D23: =SUM(E23:H23) -> 48055.4 | E23: =+E24 -> 48055.4 | F23: =+F24 -> 0 | G23: =+G24 -> 0 | H23: =+H24 -> 0
C24: Կապան քաղաքի Մանուկյան փ. 1-ին նրբ. թիվ 2 և 3 շենքերի, Թումանյան փ. թիվ 18, Շահումյան փ. թիվ 15 և 19 շենքերի բակերում գտնվող տարածքներում «Վորքաութ» տեսակի մարզահրապարակներ | D24: =SUM(E24:H24) -> 48055.4 | E24: =+'Հավելված N 9'!I18+'Հավելված N 9'!I23+'Հավելված N 9'!I27 -> 48055.4
C25: ՀՀ Վայոց Ձորի մարզ | D25: =SUM(E25:H25) -> 30725.3 | E25: =+E26 -> 30725.3 | F25: =+F26 -> 0 | G25: =+G26 -> 0 | H25: =+H26 -> 0
C26: Ջերմուկ քաղաքի Ս. Շահումյանի փ. թիվ 1 շենքի, Ջերմուկի կրթահամալիրի բակերում գտնվող տարածքներում «Վորքաութ» տեսակի մարզահրապարակներ | D26: =SUM(E26:H26) -> 30725.3 | E26: =+'Հավելված N 9'!I19+'Հավելված N 9'!I24+'Հավելված N 9'!I28 -> 30725.3
C27: ՀՀ Տավուշի մարզ | D27: =SUM(E27:H27) -> 32010.3 | E27: =+E28 -> 32010.3 | F27: =+F28 -> 0 | G27: =+G28 -> 0 | H27: =+H28 -> 0
C28: Բերդ քաղաքի Սայաթ-Նովա 1 շենքերի, թիվ 4 դպրոցի և թիվ 3 դպրոցի բակերում գտնվող տարածքներում «Վորքաութ» տեսակի մարզահրապարակներ | D28: =SUM(E28:H28) -> 32010.3 | E28: =+'Հավելված N 9'!I20+'Հավելված N 9'!I25+'Հավելված N 9'!I29 -> 32010.3
A29: 1236 | B29: 32001 | C29: Մանկապարտեզների նոր շենքերի կառուցում | D29: =SUM(E29:H29) -> -444822 | E29: =+E31+E32+E34+E38+E40+E42+E46 -> -455572 | F29: =+F31+F32+F34+F38+F40+F42+F46 -> 0 | G29: =+G31+G32+G34+G38+G40+G42+G46 -> 10750 | H29: =+H31+H32+H34+H38+H40+H42+H46 -> 0
C30: այդ թվում`
C31: Մանկապարտեզների նոր շենքերի կառուցում | D31: =SUM(E31:H31) -> -2800000 | E31: -2800000 | F31: =+F32 -> 0 | G31: =+G32 -> 0 | H31: =+H32 -> 0
C32: ՀՀ Արագածոտնի մարզ | D32: =SUM(E32:H32) -> 310068.8 | E32: =+E33 -> 310068.8 | F32: =+F33 -> 0 | G32: =+G33 -> 0 | H32: =+H33 -> 0
C33: Ծաղկահովիտ համայնքի Գեղադիր բնակավայրի մանկապարտեզ | D33: =+E33+F33+G33+H33 -> 310068.8 | E33: =+'Հավելված N 9'!I33+'Հավելված N 9'!I44 -> 310068.8
C34: ՀՀ Արմավիրի մարզ | D34: =SUM(E34:H34) -> 522879.8 | E34: =SUM(E35:E37) -> 522879.8 | F34: =SUM(F35:F37) -> 0 | G34: =SUM(G35:G37) -> 0 | H34: =SUM(H35:H37) -> 0
C35: Արաքս համայնքի Ակնաշեն բնակավայրի մանկապարտեզ | D35: =+E35+F35+G35+H35 -> 80248.7 | E35: =+'Հավելված N 9'!I34+'Հավելված N 9'!I53 -> 80248.7
C36: Խոյ համայնքի Ծաղկունք բնակավայրի մանկապարտեզ | D36: =+E36+F36+G36+H36 -> 132562.3 | E36: =+'Հավելված N 9'!I35+'Հավելված N 9'!I45+'Հավելված N 9'!I54 -> 132562.3
C37: Խոյ համայնքի Հովտամեջ բնակավայրի մանկապարտեզ | D37: =+E37+F37+G37+H37 -> 310068.8 | E37: =+'Հավելված N 9'!I36+'Հավելված N 9'!I46 -> 310068.8
C38: ՀՀ Գեղարքունիքի մարզ | D38: =SUM(E38:H38) -> 310068.8 | E38: =+E39 -> 310068.8 | F38: =+F39 -> 0 | G38: =+G39 -> 0 | H38: =+H39 -> 0
C39: Վարդենիս համայնքի Խաչաղբյուր բնակավայրի մանկապարտեզ | D39: =+E39+F39+G39+H39 -> 310068.8 | E39: =+'Հավելված N 9'!I37+'Հավելված N 9'!I47 -> 310068.8
C40: ՀՀ Կոտայքի մարզ | D40: =SUM(E40:H40) -> 310068.8 | E40: =+E41 -> 310068.8 | F40: =+F41 -> 0 | G40: =+G41 -> 0 | H40: =+H41 -> 0
C41: Ակունք համայնքի Զառ բնակավայրի մանկապարտեզ | D41: =+E41+F41+G41+H41 -> 310068.8 | E41: =+'Հավելված N 9'!I38+'Հավելված N 9'!I48 -> 310068.8
C42: ՀՀ Շիրակի մարզ | D42: =SUM(E42:H42) -> 632887.3 | E42: =SUM(E43:E45) -> 622137.3 | F42: =SUM(F43:F45) -> 0 | G42: =SUM(G43:G45) -> 10750 | H42: =SUM(H43:H45) -> 0
C43: Անի համայնքի Քարաբերդ բնակավայրի մանկապարտեզ | D43: =+E43+F43+G43+H43 -> 138171.5 | E43: =+'Հավելված N 9'!I39+'Հավելված N 9'!I49+'Հավելված N 9'!I55 -> 138171.5
C44: Անի համայնքի Մարալիկ բնակավայրի մանկապարտեզ | D44: =+E44+F44+G44+H44 -> 184647 | E44: =+'Հավելված N 9'!I40+'Հավելված N 9'!I50+'Հավելված N 9'!I56 -> 173897 | G44: =+'Հավելված N 9'!I57 -> 10750
C45: Աշոցք համայնքի Ղազանչի բնակավայրի մանկապարտեզ | D45: =+E45+F45+G45+H45 -> 310068.8 | E45: =+'Հավելված N 9'!I41+'Հավելված N 9'!I51 -> 310068.8
C46: ՀՀ Տավուշի մարզ | D46: =SUM(E46:H46) -> 269204.5 | E46: =+E47 -> 269204.5 | F46: =+F47 -> 0 | G46: =+G47 -> 0 | H46: =+H47 -> 0
C47: Նոյեմբերյան համայնքի Բաղանիս բնակավայրի մանկապարտեզ | D47: =+E47+F47+G47+H47 -> 269204.5 | E47: =+'Հավելված N 9'!I42+'Հավելված N 9'!I52 -> 269204.5
A48: 1236 | B48: 32002 | C48: Մանկապարտեզների շենքերի վերակառուցում, հիմնանորոգում | D48: =SUM(E48:H48) -> -15815.8 | E48: =+E50+E51 -> 0 | F48: =+F50+F51 -> -15815.8 | G48: =+G50+G51 -> 0 | H48: =+H50+H51 -> 0
C49: այդ թվում`
C50: Մանկապարտեզների շենքերի վերակառուցում, հիմնանորոգում | D50: =SUM(E50:H50) -> -138167.6 | E50: =+E51 -> 0 | F50: =-148067+9899.4 -> -138167.6 | G50: =+G51 -> 0 | H50: =+H51 -> 0
C51: ՀՀ Արագածոտնի մարզ | D51: =SUM(E51:H51) -> 122351.8 | E51: =+E52 -> 0 | F51: =+F52 -> 122351.8 | G51: =+G52 -> 0 | H51: =+H52 -> 0
C52: Աշտարակ համայնքի Ուշի բնակավայրի մանկապարտեզ | D52: =+E52+F52+G52+H52 -> 122351.8 | F52: =+'Հավելված N 9'!I60+'Հավելված N 9'!I62 -> 122351.8
A53: 1236 | B53: 32004 | C53: Հանրակրթական դպրոցների շենքերի վերակառուցում, հիմնանորոգում | D53: =SUM(E53:H53) -> 454178.7 | E53: =+E55+E56+E59+E61+E63+E70+E77 -> 0 | F53: =+F55+F56+F59+F61+F63+F70+F77 -> 454178.7 | G53: =+G55+G56+G59+G61+G63+G70+G77 -> 0 | H53: =+H55+H56+H59+H61+H63+H70+H77 -> 0
C54: այդ թվում`
C55: Հանրակրթական դպրոցների շենքերի վերակառուցում, հիմնանորոգում | D55: =SUM(E55:H55) -> -900000 | E55: =+E56 -> 0 | F55: -900000 | G55: =+G56 -> 0 | H55: =+H56 -> 0
C56: ՀՀ Արարատի մարզ | D56: =SUM(E56:H56) -> 5050 | E56: =+E57+E58 -> 0 | F56: =+F57+F58 -> 5050 | G56: =+G57+G58 -> 0 | H56: =+H57+H58 -> 0
C57: «Հնաբերդի միջնակարգ դպրոց» ՊՈԱԿ | D57: =+E57+F57+G57+H57 -> 5000 | F57: =+'Հավելված N 9'!I66 -> 5000
C58: «Վարդաշենի միջնակարգ դպրոց» ՊՈԱԿ | D58: =+E58+F58+G58+H58 -> 50 | F58: =+'Հավելված N 9'!I67 -> 50
C59: ՀՀ Արմավիրի մարզ | D59: =SUM(E59:H59) -> 98490 | E59: =+E60 -> 0 | F59: =+F60 -> 98490 | G59: =+G60 -> 0 | H59: =+H60 -> 0
C60: «Այգեկի Մուշեղ Մովսիսյանի անվան միջնակարգ դպրոց» ՊՈԱԿ | D60: =+E60+F60+G60+H60 -> 98490 | F60: =+'Հավելված N 9'!I68 -> 98490
C61: ՀՀ Գեղարքունիքի մարզ | D61: =SUM(E61:H61) -> 6 | E61: =+E62 -> 0 | F61: =+F62 -> 6 | G61: =+G62 -> 0 | H61: =+H62 -> 0
C62: «Վաղաշենի միջնակարգ դպրոց» ՊՈԱԿ | D62: =+E62+F62+G62+H62 -> 6 | F62: =+'Հավելված N 9'!I69 -> 6
C63: ՀՀ Լոռու մարզ | D63: =SUM(E63:H63) -> 112144.3 | E63: =SUM(E64:E69) -> 0 | F63: =SUM(F64:F69) -> 112144.3 | G63: =SUM(G64:G69) -> 0 | H63: =SUM(H64:H69) -> 0
C64: «Ստեփանավանի Ստ․ Շահումյանի անվան թիվ 1 հիմնական դպրոց» ՊՈԱԿ | D64: =+E64+F64+G64+H64 -> 50 | F64: =+'Հավելված N 9'!I70 -> 50
C65: «ք. Վանաձորի Ա.Մաթևոսյանի անվան թիվ 8 հիմնական դպրոց» ՊՈԱԿ | D65: =+E65+F65+G65+H65 -> 50 | F65: =+'Հավելված N 9'!I71 -> 50
C66: «ք. Վանաձորի Խ.Աբովյանի անվան թիվ 9 հիմնական դպրոց» ՊՈԱԿ | D66: =+E66+F66+G66+H66 -> 4244.3 | F66: =+'Հավելված N 9'!I72 -> 4244.3
C67: «Ագարակի միջնակարգ դպրոց» ՊՈԱԿ | D67: =+E67+F67+G67+H67 -> 5000 | F67: =+'Հավելված N 9'!I73 -> 5000
C68: «Ստեփանավանի Սուրբ Գրիգոր Լուսավորիչի անվան թիվ 2 հիմնական դպրոց» ՊՈԱԿ | D68: =+E68+F68+G68+H68 -> 5000 | F68: =+'Հավելված N 9'!I74 -> 5000
C69: «Վանաձորի ծովակալ Իսակովի անվան թիվ 23 հիմնական դպրոց» ՊՈԱԿ | D69: =+E69+F69+G69+H69 -> 97800 | F69: =+'Հավելված N 9'!I75 -> 97800
C70: ՀՀ Շիրակի մարզ | D70: =SUM(E70:H70) -> 997494.4 | E70: =+E71+E72+E73+E74+E75+E76 -> 0 | F70: =+F71+F72+F73+F74+F75+F76 -> 997494.4 | G70: =+G71+G72+G73+G74+G75+G76 -> 0 | H70: =+H71+H72+H73+H74+H75+H76 -> 0
C71: «ք․ Գյումրու թիվ 32 հիմնական դպրոց» ՊՈԱԿ | D71: =+E71+F71+G71+H71 -> 24500 | F71: =+'Հավելված N 9'!I76 -> 24500
C72: «ք․ Գյումրու թիվ 38 հիմնական դպրոց» ՊՈԱԿ | D72: =+E72+F72+G72+H72 -> 32000 | F72: =+'Հավելված N 9'!I77 -> 32000
C73: «ք․ Գյումրու թիվ 28 հիմնական դպրոց» ՊՈԱԿ | D73: =+E73+F73+G73+H73 -> 5000 | F73: =+'Հավելված N 9'!I78 -> 5000
C74: «Գյումրու թիվ 11 հիմնական դպրոց» ՊՈԱԿ | D74: =+E74+F74+G74+H74 -> 450000 | F74: =+'Հավելված N 9'!I79 -> 450000
C75: «Գյումրու թիվ 20 հիմնական դպրոց» ՊՈԱԿ | D75: =+E75+F75+G75+H75 -> 227680 | F75: =+'Հավելված N 9'!I80 -> 227680
C76: «Գյումրու թիվ 23 միջնակարգ դպրոց» ՊՈԱԿ | D76: =+E76+F76+G76+H76 -> 258314.4 | F76: =+'Հավելված N 9'!I81 -> 258314.4
C77: ՀՀ Տավուշի մարզ | D77: =SUM(E77:H77) -> 140994 | E77: =+E78+E79 -> 0 | F77: =+F78+F79 -> 140994 | G77: =+G78+G79 -> 0 | H77: =+H78+H79 -> 0
C78: «Մ. Սաղումյանի անվան Բերդի ավագ դպրոց» ՊՈԱԿ | D78: =+E78+F78+G78+H78 -> 96000 | F78: =+'Հավելված N 9'!I82 -> 96000
C79: «Կայանի Հովհաննես Հինդլյանի անվան միջնակարգ դպրոց» ՊՈԱԿ | D79: =+E79+F79+G79+H79 -> 44994 | F79: =+'Հավելված N 9'!I83 -> 44994
A80: 1236 | B80: 32005 | C80: Կրթահամալիրների կառուցում | D80: =SUM(E80:H80) -> -534449.8 | E80: =+E82+E84+E87 -> -534449.8 | F80: =+F82+F84+F87 -> 0 | G80: =+G82+G84+G87 -> 0 | H80: =+H82+H84+H87 -> 0
C81: այդ թվում`
C82: ՀՀ Շիրակի մարզ | D82: =SUM(E82:H82) -> 600000 | E82: =+E83 -> 600000 | F82: =+F83 -> 0 | G82: =+G83 -> 0 | H82: =+H83 -> 0
C83: գ․ Գետափի կրթահամալիր | D83: =+E83+F83+G83+H83 -> 600000 | E83: =+'Հավելված N 9'!I86 -> 600000
C84: ՀՀ Արմավիրի մարզ | D84: =SUM(E84:H84) -> 0 | E84: =+E85+E86 -> 0 | F84: =+F85+F86 -> 0 | G84: =+G85+G86 -> 0 | H84: =+H85+H86 -> 0
C85: գ. Երվանդաշատի կրթահամալիր | D85: =+E85+F85+G85+H85 -> -603974.1 | E85: -603974.1
C86: գ. Հայկավանի կրթահամալիր | D86: =+E86+F86+G86+H86 -> 603974.1 | E86: 603974.1
C87: ՀՀ Սյունիքի մարզ | D87: =SUM(E87:H87) -> -1134449.8 | E87: =+E88+E89 -> -1134449.8 | F87: =+F88+F89 -> 0 | G87: =+G88+G89 -> 0 | H87: =+H88+H89 -> 0
C88: Կապան համայնքի Աճանանի կրթահամալիր | D88: =+E88+F88+G88+H88 -> -534449.8 | E88: =+'Հավելված N 9'!I87 -> -534449.8
C89: Կապան համայնքի Եղվարդի կրթահամալիր | D89: =+E89+F89+G89+H89 -> -600000 | E89: -600000

Sheet Հավելված N 5
G1: Հավելված N 5
E2: ՀՀ կառավարության 2025 թվականի
G3: ______________ ի ___Ն որոշման
B6: ՀԱՅԱՍՏԱՆԻ ՀԱՆՐԱՊԵՏՈՒԹՅԱՆ ԿԱՌԱՎԱՐՈՒԹՅԱՆ 2024 ԹՎԱԿԱՆԻ ԴԵԿՏԵՄԲԵՐԻ 27-Ի N 2060-Ն ՈՐՈՇՄԱՆ N 5 ՀԱՎԵԼՎԱԾԻ N 2 ԱՂՅՈՒՍԱԿՈՒՄ ԿԱՏԱՐՎՈՂ ՓՈՓՈԽՈՒԹՅՈՒՆՆԵՐԸ ԵՎ ԼՐԱՑՈՒՄՆԵՐԸ
H8: հազ. դրամներով
B9: Ծրագրային դասիչ | D9: Բյուջետային գլխավոր կարգադրիչների, ծրագրերի, միջոցառումների, միջոցառումները կատարող պետական մարմինների և ուղղությունների անվանումները | E9: Ցուցանիշների փոփոխությունը (ավելացումները նշված են դրական նշանով, իսկ նվազեցումները՝ փակագծերում)
B10: Ծրագիր | C10: Միջոցառում | E10: Առաջին եռամսյակ | F10: Առաջին կիսամյակ | G10: Ինն ամիս | H10: Տարի
D11: ՀՀ ԿՐԹՈՒԹՅԱՆ, ԳԻՏՈՒԹՅԱՆ, ՄՇԱԿՈՒՅԹԻ ԵՎ ՍՊՈՐՏԻ ՆԱԽԱՐԱՐՈՒԹՅՈՒՆ | E11: =+E13+E19+E31+E52+E59+E90+E119 -> 357083.3 | F11: =+F13+F19+F31+F52+F59+F90+F119 -> 4073217.8 | G11: =+G13+G19+G31+G52+G59+G90+G119 -> 1858553.2 | H11: =+H13+H19+H31+H52+H59+H90+H119 -> -90000
D12: այդ թվում՝
B13: 1163 | C13: 32001 | D13: Մարզական օբյեկտների շինարարություն | E13: =+E15 -> 0 | F13: =+F15 -> 190007.2 | G13: =+G15 -> 253342.9 | H13: =+H15 -> 316678.8
D14: այդ թվում` ըստ կատարողների
D15: ՀՀ կրթության, գիտության, մշակույթի և սպորտի նախարարություն | E15: =+E17 -> 0 | F15: =+F17 -> 190007.2 | G15: =+G17 -> 253342.9 | H15: =+H17 -> 316678.8
D16: այդ թվում՝ ըստ ուղղությունների
D17: ՀՀ Արմավիրի մարզ | E17: =+E18 -> 0 | F17: =+F18 -> 190007.2 | G17: =+G18 -> 253342.9 | H17: =+H18 -> 316678.8
D18: =+'Հավելված N 4'!C18 -> Արմավիր համայնքի Մյասնիկյան բնակավայրի մարզադպրոց | E18: 0 | F18: =188558.9+337+1111.3 -> 190007.2 | G18: =251411.8+449.3+1481.8 -> 253342.9 | H18: =+'Հավելված N 4'!D18 -> 316678.8
B19: 1163 | C19: 32005 | D19: «Վորքաութ» տեսակի մարզահրապարակների կառուցում | E19: =+E21 -> 134230.1 | F19: =+F21 -> 134230.1 | G19: =+G21 -> 134230.1 | H19: =+H21 -> 134230.1
D20: այդ թվում` ըստ կատարողների
D21: ՀՀ կրթության, գիտության, մշակույթի և սպորտի նախարարություն | E21: =+E23+E25+E27+E29 -> 134230.1 | F21: =+F23+F25+F27+F29 -> 134230.1 | G21: =+G23+G25+G27+G29 -> 134230.1 | H21: =+H23+H25+H27+H29 -> 134230.1
D22: այդ թվում`ըստ ուղղությունների
D23: ՀՀ Գեղարքունիքի մարզ | E23: =+E24 -> 23439.1 | F23: =+F24 -> 23439.1 | G23: =+G24 -> 23439.1 | H23: =+H24 -> 23439.1
D24: =+'Հավելված N 4'!C22 -> Ճամբարակ քաղաքի Տիգրան Մեծի փ. 18/5, Նադարյան փ. 3/4 շենքերի բակերում գտնվող տարածքներում «Վորքաութ» տեսակի մարզահրապարակներ | E24: =+H24 -> 23439.1 | F24: =+H24 -> 23439.1 | G24: =+H24 -> 23439.1 | H24: =+'Հավելված N 4'!D22 -> 23439.1
D25: ՀՀ Սյունիքի մարզ | E25: =+E26 -> 48055.4 | F25: =+F26 -> 48055.4 | G25: =+G26 -> 48055.4 | H25: =+H26 -> 48055.4
D26: =+'Հավելված N 4'!C24 -> Կապան քաղաքի Մանուկյան փ. 1-ին նրբ. թիվ 2 և 3 շենքերի, Թումանյան փ. թիվ 18, Շահումյան փ. թիվ 15 և 19 շենքերի բակերում գտնվող տարածքներում «Վորքաութ» տեսակի մարզահրապարակներ | E26: =+H26 -> 48055.4 | F26: =+H26 -> 48055.4 | G26: =+H26 -> 48055.4 | H26: =+'Հավելված N 4'!D24 -> 48055.4
D27: ՀՀ Վայոց Ձորի մարզ | E27: =+E28 -> 30725.3 | F27: =+F28 -> 30725.3 | G27: =+G28 -> 30725.3 | H27: =+H28 -> 30725.3
D28: =+'Հավելված N 4'!C26 -> Ջերմուկ քաղաքի Ս. Շահումյանի փ. թիվ 1 շենքի, Ջերմուկի կրթահամալիրի բակերում գտնվող տարածքներում «Վորքաութ» տեսակի մարզահրապարակներ | E28: =+H28 -> 30725.3 | F28: =+H28 -> 30725.3 | G28: =+H28 -> 30725.3 | H28: =+'Հավելված N 4'!D26 -> 30725.3
D29: ՀՀ Տավուշի մարզ | E29: =+E30 -> 32010.3 | F29: =+F30 -> 32010.3 | G29: =+G30 -> 32010.3 | H29: =+H30 -> 32010.3
D30: =+'Հավելված N 4'!C28 -> Բերդ քաղաքի Սայաթ-Նովա 1 շենքերի, թիվ 4 դպրոցի և թիվ 3 դպրոցի բակերում գտնվող տարածքներում «Վորքաութ» տեսակի մարզահրապարակներ | E30: =+H30 -> 32010.3 | F30: =+H30 -> 32010.3 | G30: =+H30 -> 32010.3 | H30: =+'Հավելված N 4'!D28 -> 32010.3
B31: 1236 | C31: 32001 | D31: Մանկապարտեզների նոր շենքերի կառուցում | E31: =+E33+E51 -> 329868.2 | F31: =+F33+F51 -> 828614.3 | G31: =+G33+G51 -> 34756.8 | H31: =+H33+H51 -> -444822
D32: այդ թվում` ըստ կատարողների
D33: ՀՀ կրթության, գիտության, մշակույթի և սպորտի նախարարություն | E33: =+E35+E37+E41+E43+E45+E49 -> 329868.2 | F33: =+F35+F37+F41+F43+F45+F49 -> 1668614.3 | G33: =+G35+G37+G41+G43+G45+G49 -> 1994756.8 | H33: =+H35+H37+H41+H43+H45+H49 -> 2355178
D34: այդ թվում՝ ըստ ուղղությունների
D35: ՀՀ Արագածոտնի մարզ | E35: =+E36 -> 0 | F35: =+F36 -> 186386.1 | G35: =+G36 -> 248227.4 | H35: =+H36 -> 310068.8
D36: =+'Հավելված N 4'!C33 -> Ծաղկահովիտ համայնքի Գեղադիր բնակավայրի մանկապարտեզ | E36: 0 | F36: =185524.1+862 -> 186386.1 | G36: =247365.4+862 -> 248227.4 | H36: =+'Հավելված N 4'!D33 -> 310068.8
D37: ՀՀ Արմավիրի մարզ | E37: =SUM(E38:E40) -> 213469.8 | F37: =SUM(F38:F40) -> 439975 | G37: =SUM(G38:G40) -> 465851.9 | H37: =SUM(H38:H40) -> 522879.8
D38: =+'Հավելված N 4'!C35 -> Արաքս համայնքի Ակնաշեն բնակավայրի մանկապարտեզ | E38: =+H38 -> 80248.7 | F38: =+H38 -> 80248.7 | G38: =+H38 -> 80248.7 | H38: =+'Հավելված N 4'!D35 -> 80248.7
D39: =+'Հավելված N 4'!C36 -> Խոյ համայնքի Ծաղկունք բնակավայրի մանկապարտեզ | E39: =132048+262.8+910.3 -> 133221.1 | F39: =172296-225.6+1269.8 -> 173340.2 | G39: =137928-1694.4+1142.2 -> 137375.8 | H39: =+'Հավելված N 4'!D36 -> 132562.3
D40: =+'Հավելված N 4'!C37 -> Խոյ համայնքի Հովտամեջ բնակավայրի մանկապարտեզ | E40: 0 | F40: =185524.1+862 -> 186386.1 | G40: =247365.4+862 -> 248227.4 | H40: =+'Հավելված N 4'!D37 -> 310068.8
D41: ՀՀ Գեղարքունիքի մարզ | E41: =+E42 -> 0 | F41: =+F42 -> 186386.1 | G41: =+G42 -> 248227.4 | H41: =+H42 -> 310068.8
D42: =+'Հավելված N 4'!C39 -> Վարդենիս համայնքի Խաչաղբյուր բնակավայրի մանկապարտեզ | E42: 0 | F42: =185524.1+862 -> 186386.1 | G42: =247365.4+862 -> 248227.4 | H42: =+'Հավելված N 4'!D39 -> 310068.8
D43: ՀՀ Կոտայքի մարզ | E43: =+E44 -> 0 | F43: =+F44 -> 186386.1 | G43: =+G44 -> 248227.4 | H43: =+H44 -> 310068.8
D44: =+'Հավելված N 4'!C41 -> Ակունք համայնքի Զառ բնակավայրի մանկապարտեզ | E44: 0 | F44: =185524.1+862 -> 186386.1 | G44: =247365.4+862 -> 248227.4 | H44: =+'Հավելված N 4'!D41 -> 310068.8
D45: ՀՀ Շիրակի մարզ | E45: =SUM(E46:E48) -> 116398.4 | F45: =SUM(F46:F48) -> 507586.3 | G45: =SUM(G46:G48) -> 568673.1 | H45: =SUM(H46:H48) -> 632887.3
D46: =+'Հավելված N 4'!C43 -> Անի համայնքի Քարաբերդ բնակավայրի մանկապարտեզ | E46: =104712.3+315.6+620.5 -> 105648.4 | F46: =146424.6+233+863.1 -> 147520.7 | G46: =132232.8-859+772.8 -> 132146.6 | H46: =+'Հավելված N 4'!D43 -> 138171.5
D47: =+'Հավելված N 4'!C44 -> Անի համայնքի Մարալիկ բնակավայրի մանկապարտեզ | E47: =+'Հավելված N 4'!G44 -> 10750 | F47: =162849-796.5+877+'Հավելված N 4'!G44 -> 173679.5 | G47: =178058.4-1417.5+908.2+'Հավելված N 4'!G44 -> 188299.1 | H47: =+'Հավելված N 4'!D44 -> 184647
D48: =+'Հավելված N 4'!C45 -> Աշոցք համայնքի Ղազանչի բնակավայրի մանկապարտեզ | E48: 0 | F48: =185524.1+862 -> 186386.1 | G48: =247365.4+862 -> 248227.4 | H48: =+'Հավելված N 4'!D45 -> 310068.8
D49: ՀՀ Տավուշի մարզ | E49: =+E50 -> 0 | F49: =+F50 -> 161894.7 | G49: =+G50 -> 215549.6 | H49: =+H50 -> 269204.5
D50: =+'Հավելված N 4'!C47 -> Նոյեմբերյան համայնքի Բաղանիս բնակավայրի մանկապարտեզ | E50: 0 | F50: =160964.7+930 -> 161894.7 | G50: =214619.6+930 -> 215549.6 | H50: =+'Հավելված N 4'!D47 -> 269204.5
D51: ՀՀ կառավարություն | E51: 0 | F51: -840000 | G51: -1960000 | H51: =+'Հավելված N 4'!D31 -> -2800000
B52: 1236 | C52: 32002 | D52: Մանկապարտեզների շենքերի վերակառուցում, հիմնանորոգում | E52: =+E54+E58 -> 122351.8 | F52: =+F54+F58 -> 122351.8 | G52: =+G54+G58 -> 122351.8 | H52: =+H54+H58 -> -15815.8
D53: այդ թվում` ըստ կատարողների
D54: ՀՀ կրթության, գիտության, մշակույթի և սպորտի նախարարություն | E54: =+E56 -> 122351.8 | F54: =+F56 -> 122351.8 | G54: =+G56 -> 122351.8 | H54: =+H56 -> 122351.8
D55: այդ թվում՝ ըստ ուղղությունների
D56: ՀՀ Արագածոտնի մարզ | E56: =+E57 -> 122351.8 | F56: =+F57 -> 122351.8 | G56: =+G57 -> 122351.8 | H56: =+H57 -> 122351.8
D57: =+'Հավելված N 4'!C52 -> Աշտարակ համայնքի Ուշի բնակավայրի մանկապարտեզ | E57: =+H57 -> 122351.8 | F57: =+H57 -> 122351.8 | G57: =+H57 -> 122351.8 | H57: =+'Հավելված N 4'!D52 -> 122351.8
D58: ՀՀ կառավարություն | E58: 0 | F58: 0 | G58: 0 | H58: =+'Հավելված N 4'!D50 -> -138167.6
B59: 1236 | C59: 32003 | D59: Հանրակրթական դպրոցների նոր շենքերի կառուցում | E59: =+E61 -> 1741068.6 | F59: =+F61 -> 1938885.7 | G59: =+G61 -> 969442.7 | H59: =+H61 -> 0
D60: այդ թվում` ըստ կատարողների
D61: ՀՀ կրթության, գիտության, մշակույթի և սպորտի նախարարություն | E61: =+E63+E68+E72+E76+E78+E81+E83+E88 -> 1741068.6 | F61: =+F63+F68+F72+F76+F78+F81+F83+F88 -> 1938885.7 | G61: =+G63+G68+G72+G76+G78+G81+G83+G88 -> 969442.7 | H61: =+H63+H68+H72+H76+H78+H81+H83+H88 -> 0
D62: այդ թվում՝ ըստ ուղղությունների
D63: ՀՀ Արագածոտնի մարզ | E63: =SUM(E64:E67) -> 842000 | F63: =SUM(F64:F67) -> 591925.8 | G63: =SUM(G64:G67) -> 295962.9 | H63: =SUM(H64:H67) -> 0
D64: ք. Ապարանի միջնակարգ դպրոց (ք. Ապարանի Վ.Եղիազարյան անվ. թիվ 1 հիմնական դպրոցի տեղակայման վայրում) | E64: 300000 | F64: 197308.6 | G64: 98654.3 | H64: 0
D65: ք. Թալինի միջնակարգ դպրոց (ք. Թալինի թիվ 2 հիմնական դպրոցի տեղակայման վայրում) | E65: 300000 | F65: 197308.6 | G65: 98654.3 | H65: 0
D66: գ. Արագածավանի թիվ 2 միջնակարգ դպրոց | E66: 300000 | F66: 197308.6 | G66: 98654.3 | H66: 0
D67: ք. Աշտարակի Վ.Պետրոսյան անվ. հիմնական դպրոց | E67: -58000 | F67: 0 | G67: 0 | H67: 0
D68: ՀՀ Արարատի մարզ | E68: =SUM(E69:E71) -> 439068.6 | F68: =SUM(F69:F71) -> 343404.8 | G68: =SUM(G69:G71) -> 171702.4 | H68: =SUM(H69:H71) -> 0
D69: Գետազատ բնակավայրի միջնակարգ դպրոց | E69: -130931.4 | F69: 0 | G69: 0 | H69: 0
D70: Վերին Դվին բնակավայրի միջնակարգ դպրոց | E70: 270000 | F70: 171702.4 | G70: 85851.2 | H70: 0
D71: Այգեստան բնակավայրի միջնակարգ դպրոց | E71: 300000 | F71: 171702.4 | G71: 85851.2 | H71: 0
D72: ՀՀ Արմավիրի մարզ | E72: =SUM(E73:E75) -> 720000 | F72: =SUM(F73:F75) -> 590130 | G72: =SUM(G73:G75) -> 295064.9 | H72: =SUM(H73:H75) -> 0
D73: գ. Ջրառատի Թ.Խաչատրյանի անվ. միջնակարգ դպրոց | E73: 240000 | F73: 195453.1 | G73: 97726.5 | H73: 0
D74: գ. Վանանդի միջնակարգ դպրոց | E74: 240000 | F74: 197282.8 | G74: 98641.4 | H74: 0
D75: գ. Նոր Կեսարիայի միջնակարգ դպրոց | E75: 240000 | F75: 197394.1 | G75: 98697 | H75: 0
D76: ՀՀ Լոռու մարզ | E76: =+E77 -> -120000 | F76: =+F77 -> 0 | G76: =+G77 -> 0 | H76: =+H77 -> 0
D77: գ. Մեծավանի թիվ 2 միջնակարգ դպրոց | E77: -120000 | F77: 0 | G77: 0 | H77: 0
D78: ՀՀ Կոտայքի մարզ | E78: =SUM(E79:E80) -> 200000 | F78: =SUM(F79:F80) -> 179533.2 | G78: =SUM(G79:G80) -> 89766.6 | H78: =SUM(H79:H80) -> 0
D79: Կոտայք և Նոր Գյուղ բնակավայրերի միջնակարգ դպրոց | E79: -100000 | F79: 0 | G79: 0 | H79: 0
D80: Գողթ բնակավայրի միջնակարգ դպրոց | E80: 300000 | F80: 179533.2 | G80: 89766.6 | H80: 0
D81: ՀՀ Շիրակի մարզ | E81: =+E82 -> -100000 | F81: =+F82 -> 0 | G81: =+G82 -> 0 | H81: =+H82 -> 0
D82: գ․ Մայիսյանի միջնակարգ դպրոց | E82: -100000 | F82: 0 | G82: 0 | H82: 0
D83: ՀՀ Սյունիքի մարզ | E83: =SUM(E84:E87) -> -110000 | F83: =SUM(F84:F87) -> 233891.9 | G83: =SUM(G84:G87) -> 116945.9 | H83: =SUM(H84:H87) -> 0
D84: «ք. Գորիսի Ս. Խանզադյանի անվան թիվ 6 հիմնական դպրոց» ՊՈԱԿ | E84: -120000 | F84: 0 | G84: 0 | H84: 0
D85: «գ. Խնձորեսկի միջնակարգ դպրոց» ՊՈԱԿ | E85: 240000 | F85: 233891.9 | G85: 116945.9 | H85: 0
D86: գ. Շինուհայրի միջնակարգ դպրոց | E86: -120000 | F86: 0 | G86: 0 | H86: 0
D87: գ. Խոտի միջնակարգ դպրոց | E87: -110000 | F87: 0 | G87: 0 | H87: 0
D88: ՀՀ Վայոց Ձորի մարզ | E88: =+E89 -> -130000 | F88: =+F89 -> 0 | G88: =+G89 -> 0 | H88: =+H89 -> 0
D89: գ. Արենիի միջնակարգ դպրոց | E89: -130000 | F89: 0 | G89: 0 | H89: 0
B90: 1236 | C90: 32004 | D90: Հանրակրթական դպրոցների շենքերի վերակառուցում, հիմնանորոգում | E90: =+E92+E118 -> 381989.5 | F90: =+F92+F118 -> 709780.9 | G90: =+G92+G118 -> 536979.8 | H90: =+H92+H118 -> 454178.7
D91: այդ թվում` ըստ կատարողների
D92: ՀՀ կրթության, գիտության, մշակույթի և սպորտի նախարարություն | E92: =+E94+E97+E99+E101+E108+E115 -> 381989.5 | F92: =+F94+F97+F99+F101+F108+F115 -> 979780.9 | G92: =+G94+G97+G99+G101+G108+G115 -> 1166979.8 | H92: =+H94+H97+H99+H101+H108+H115 -> 1354178.7
D93: այդ թվում՝ ըստ ուղղությունների
D94: ՀՀ Արարատի մարզ | E94: =SUM(E95:E96) -> 0 | F94: =SUM(F95:F96) -> 5050 | G94: =SUM(G95:G96) -> 5050 | H94: =SUM(H95:H96) -> 5050
D95: =+'Հավելված N 4'!C57 -> «Հնաբերդի միջնակարգ դպրոց» ՊՈԱԿ | E95: 0 | F95: =+H95 -> 5000 | G95: =+H95 -> 5000 | H95: =+'Հավելված N 4'!D57 -> 5000
D96: =+'Հավելված N 4'!C58 -> «Վարդաշենի միջնակարգ դպրոց» ՊՈԱԿ | E96: 0 | F96: =+H96 -> 50 | G96: =+H96 -> 50 | H96: =+'Հավելված N 4'!D58 -> 50
D97: ՀՀ Արմավիրի մարզ | E97: =+E98 -> 29547 | F97: =+F98 -> 98490 | G97: =+G98 -> 98490 | H97: =+H98 -> 98490
D98: =+'Հավելված N 4'!C60 -> «Այգեկի Մուշեղ Մովսիսյանի անվան միջնակարգ դպրոց» ՊՈԱԿ | E98: 29547 | F98: =+H98 -> 98490 | G98: =+H98 -> 98490 | H98: =+'Հավելված N 4'!D60 -> 98490
D99: ՀՀ Գեղարքունիքի մարզ | E99: =+E100 -> 6 | F99: =+F100 -> 6 | G99: =+G100 -> 6 | H99: =+H100 -> 6
D100: =+'Հավելված N 4'!C62 -> «Վաղաշենի միջնակարգ դպրոց» ՊՈԱԿ | E100: =+H100 -> 6 | F100: =+H100 -> 6 | G100: =+H100 -> 6 | H100: =+'Հավելված N 4'!D62 -> 6
D101: ՀՀ Լոռու մարզ | E101: =SUM(E102:E107) -> 29340 | F101: =SUM(F102:F107) -> 112144.3 | G101: =SUM(G102:G107) -> 112144.3 | H101: =SUM(H102:H107) -> 112144.3
D102: =+'Հավելված N 4'!C64 -> «Ստեփանավանի Ստ․ Շահումյանի անվան թիվ 1 հիմնական դպրոց» ՊՈԱԿ | E102: 0 | F102: =+H102 -> 50 | G102: =+H102 -> 50 | H102: =+'Հավելված N 4'!D64 -> 50
D103: =+'Հավելված N 4'!C65 -> «ք. Վանաձորի Ա.Մաթևոսյանի անվան թիվ 8 հիմնական դպրոց» ՊՈԱԿ | E103: 0 | F103: =+H103 -> 50 | G103: =+H103 -> 50 | H103: =+'Հավելված N 4'!D65 -> 50
...

Sheet Հավելված N 6
N1: Հավելված N 6
L2: ՀՀ կառավարության 2025 թվականի
N3: ______________ ի ___Ն որոշման
A6: «ՀԱՅԱՍՏԱՆԻ ՀԱՆՐԱՊԵՏՈՒԹՅԱՆ 2025 ԹՎԱԿԱՆԻ ՊԵՏԱԿԱՆ ԲՅՈՒՋԵԻ ՄԱՍԻՆ» ՕՐԵՆՔԻ N 1 ՀԱՎԵԼՎԱԾԻ N 4 ԱՂՅՈՒՍԱԿՈՒՄ ԵՎ ՀԱՅԱՍՏԱՆԻ ՀԱՆՐԱՊԵՏՈՒԹՅԱՆ ԿԱՌԱՎԱՐՈՒԹՅԱՆ 2024 ԹՎԱԿԱՆԻ ԴԵԿՏԵՄԲԵՐԻ 27-Ի N 2060-Ն ՈՐՈՇՄԱՆ N 5 ՀԱՎԵԼՎԱԾԻ N 3 ԱՂՅՈՒՍԱԿՈՒՄ ԿԱՏԱՐՎՈՂ ԼՐԱՑՈՒՄԸ
O8: հազ. դրամներով
A9: Ծրագրային դասիչը | C9: Բյուջետային հատկացումների գլխավոր կարգադրիչների, ծրագրերի, միջոցառումների և միջոցառումները կատարող պետական մարմինների անվանումները | D9: Ցուցանիշների փոփոխությունը (ավելացումները նշված են դրական նշանով, իսկ նվազեցումները՝ փակագծերում)
D10: Առաջին եռամսյակ | G10: Կիսամյակ | J10: Ինն ամիս | M10: Տարի
D11: Ընդամենը | E11: այդ թվում` | G11: Ընդամենը | H11: այդ թվում` | J11: Ընդամենը | K11: այդ թվում` | M11: Ընդամենը | N11: այդ թվում`
A12: Ծրագիր | B12: Միջոցառում | E12: Վարկային միջոցներ | F12: Համաֆինան սավորում | H12: Վարկային միջոցներ | I12: Համաֆինան սավորում | K12: Վարկային միջոցներ | L12: Համաֆինան սավորում | N12: Վարկային միջոցներ | O12: Համաֆինան սավորում
C13: ԸՆԴԱՄԵՆԸ | D13: =+E13+F13 -> 10000 | E13: =+E15 -> 0 | F13: =+F15 -> 10000 | G13: =+H13+I13 -> 10000 | H13: =+H15 -> 0 | I13: =+I15 -> 10000 | J13: =+K13+L13 -> 10000 | K13: =+K15 -> 0 | L13: =+L15 -> 10000 | M13: =+N13+O13 -> 10000 | N13: =+N15 -> 0 | O13: =+O15 -> 10000
C14: այդ թվում`
C15: ՈՉ ՖԻՆԱՆՍԱԿԱՆ ԱԿՏԻՎՆԵՐԻ ԳԾՈՎ ԾԱԽՍԵՐ | D15: =+E15+F15 -> 10000 | E15: =+E16 -> 0 | F15: =+F16 -> 10000 | G15: =+H15+I15 -> 10000 | H15: =+H16 -> 0 | I15: =+I16 -> 10000 | J15: =+K15+L15 -> 10000 | K15: =+K16 -> 0 | L15: =+L16 -> 10000 | M15: =+N15+O15 -> 10000 | N15: =+N16 -> 0 | O15: =+O16 -> 10000
C16: ՀՀ կրթության, գիտության, մշակույթի և սպորտի նախարարություն | D16: =+E16+F16 -> 10000 | E16: =+E18 -> 0 | F16: =+F18 -> 10000 | G16: =+H16+I16 -> 10000 | H16: =+H18 -> 0 | I16: =+I18 -> 10000 | J16: =+K16+L16 -> 10000 | K16: =+K18 -> 0 | L16: =+L18 -> 10000 | M16: =+N16+O16 -> 10000 | N16: =+N18 -> 0 | O16: =+O18 -> 10000
C17: այդ թվում`
A18: 1189 | C18: Դպրոցների սեյսմիկ անվտանգության մակարդակի բարձրացման ծրագիր | D18: =+E18+F18 -> 10000 | E18: =+E20 -> 0 | F18: =+F20 -> 10000 | G18: =+H18+I18 -> 10000 | H18: =+H20 -> 0 | I18: =+I20 -> 10000 | J18: =+K18+L18 -> 10000 | K18: =+K20 -> 0 | L18: =+L20 -> 10000 | M18: =+N18+O18 -> 10000 | N18: =+N20 -> 0 | O18: =+O20 -> 10000
C19: այդ թվում`
B20: 11001 | C20: Ասիական զարգացման բանկի աջակցությամբ իրականացվող դպրոցների սեյսմիկ պաշտպանության ծրագրի կառավարում | D20: =+E20+F20 -> 10000 | E20: =+E22 -> 0 | F20: =+F22 -> 10000 | G20: =+H20+I20 -> 10000 | H20: =+H22 -> 0 | I20: =+I22 -> 10000 | J20: =+K20+L20 -> 10000 | K20: =+K22 -> 0 | L20: =+L22 -> 10000 | M20: =+N20+O20 -> 10000 | N20: =+N22 -> 0 | O20: =+O22 -> 10000
C21: այդ թվում` ըստ կատարողների
C22: ՀՀ տարածքային կառավարման և ենթակառուցվածքների նախարարություն | D22: =+E22+F22 -> 10000 | E22: =+E24 -> 0 | F22: =+F24 -> 10000 | G22: =+H22+I22 -> 10000 | H22: =+H24 -> 0 | I22: =+I24 -> 10000 | J22: =+K22+L22 -> 10000 | K22: =+K24 -> 0 | L22: =+L24 -> 10000 | M22: =+N22+O22 -> 10000 | N22: =+N24 -> 0 | O22: =+O24 -> 10000
C23: այդ թվում` բյուջետային ծախսերի տնտեսագիտական դասակարգման հոդվածներ
C24: ԸՆԴԱՄԵՆԸ ԾԱԽՍԵՐ | D24: =+E24+F24 -> 10000 | E24: =+E25 -> 0 | F24: =+F25 -> 10000 | G24: =+H24+I24 -> 10000 | H24: =+H25 -> 0 | I24: =+I25 -> 10000 | J24: =+K24+L24 -> 10000 | K24: =+K25 -> 0 | L24: =+L25 -> 10000 | M24: =+N24+O24 -> 10000 | N24: =+N25 -> 0 | O24: =+O25 -> 10000
C25: ԸՆԹԱՑԻԿ ԾԱԽՍԵՐ | D25: =+E25+F25 -> 10000 | E25: =+E26 -> 0 | F25: =+F26 -> 10000 | G25: =+H25+I25 -> 10000 | H25: =+H26 -> 0 | I25: =+I26 -> 10000 | J25: =+K25+L25 -> 10000 | K25: =+K26 -> 0 | L25: =+L26 -> 10000 | M25: =+N25+O25 -> 10000 | N25: =+N26 -> 0 | O25: =+O26 -> 10000
C26: ԱՅԼ ԾԱԽՍԵՐ | D26: =+E26+F26 -> 10000 | E26: =+E27 -> 0 | F26: =+F27 -> 10000 | G26: =+H26+I26 -> 10000 | H26: =+H27 -> 0 | I26: =+I27 -> 10000 | J26: =+K26+L26 -> 10000 | K26: =+K27 -> 0 | L26: =+L27 -> 10000 | M26: =+N26+O26 -> 10000 | N26: =+N27 -> 0 | O26: =+O27 -> 10000
C27: ՀԱՐԿԵՐ, ՊԱՐՏԱԴԻՐ ՎՃԱՐՆԵՐ ԵՎ ՏՈՒՅԺԵՐ, ՈՐՈՆՔ ԿԱՌԱՎԱՐՄԱՆ ՏԱՐԲԵՐ ՄԱԿԱՐԴԱԿՆԵՐԻ ԿՈՂՄԻՑ ԿԻՐԱՌՎՈՒՄ ԵՆ ՄԻՄՅԱՆՑ ՆԿԱՏՄԱՄԲ | D27: =+E27+F27 -> 10000 | E27: =+E28 -> 0 | F27: =+F28 -> 10000 | G27: =+H27+I27 -> 10000 | H27: =+H28 -> 0 | I27: =+I28 -> 10000 | J27: =+K27+L27 -> 10000 | K27: =+K28 -> 0 | L27: =+L28 -> 10000 | M27: =+N27+O27 -> 10000 | N27: =+N28 -> 0 | O27: =+O28 -> 10000
C28: - Այլ հարկեր | D28: =+E28+F28 -> 10000 | E28: 0 | F28: 10000 | G28: =+H28+I28 -> 10000 | I28: 10000 | J28: =+K28+L28 -> 10000 | L28: 10000 | M28: =+N28+O28 -> 10000 | O28: 10000

Sheet Հավելված N 7
K1: Հավելված N 7
K2: ՀՀ կառավարության 2025 թվականի
K3: ______________ ի ___Ն որոշման
A6: ՀԱՅԱՍՏԱՆԻ ՀԱՆՐԱՊԵՏՈՒԹՅԱՆ ԿԱՌԱՎԱՐՈՒԹՅԱՆ 2024 ԹՎԱԿԱՆԻ ԴԵԿՏԵՄԲԵՐԻ 27-Ի N 2060-Ն ՈՐՈՇՄԱՆ N 9 ՀԱՎԵԼՎԱԾՈՒՄ ԿԱՏԱՐՎՈՂ ՓՈՓՈԽՈՒԹՅՈՒՆՆԵՐԸ ԵՎ ԼՐԱՑՈՒՄՆԵՐԸ
A9: ԲԳԿ | B9: Ծրագիր | D9: Միջոցառում | H9: Իրականացնողը/ ակտիվն օգտագործողը/ շահառուի ընտրության չափորոշիչը | I9: Արդյունքային չափորոշիչը | J9: Ցուցանիշների փոփոխությունը (ավելացումները նշված են դրական նշանով, իսկ նվազեցումները՝ փակագծերում)
B10: Դասիչը | C10: Անվանումը | D10: Դասիչը | E10: Անվանումը | F10: Նկարագրությունը | G10: Տեսակը | J10: Առաջին եռամսյակ | K10: Առաջին կիսամյակ | L10: Ինն ամիս | M10: Տարի
A11: ԸՆԴԱՄԵՆԸ | J11: =+J13+J72 -> 397083.3 | K11: =+K13+K72 -> 4153217.8 | L11: =+L13+L72 -> 1948553.2 | M11: =+M13+M72 -> 0
A12: այդ թվում՝
A13: ՀՀ ԿՐԹՈՒԹՅԱՆ, ԳԻՏՈՒԹՅԱՆ, ՄՇԱԿՈԻՅԹԻ ԵՎ ՍՊՈՐՏԻ ՆԱԽԱՐԱՐՈՒԹՅՈՒՆ | J13: =+J14+J29+J35 -> 397083.3 | K13: =+K14+K29+K35 -> 4153217.8 | L13: =+L14+L29+L35 -> 1948553.2 | M13: =+M14+M29+M35 -> 0
B14: 1163 | C14: Մասսայական սպորտ | J14: =+J15+J20 -> 134230.1 | K14: =+K15+K20 -> 324237.3 | L14: =+L15+L20 -> 387573 | M14: =+M15+M20 -> 450908.9
D15: 1163 - 32001 | E15: Մարզական օբյեկտների շինարարություն | J15: =+'Հավելված N 2'!G17 -> 0 | K15: =+'Հավելված N 2'!H17 -> 190007.2 | L15: =+'Հավելված N 2'!I17 -> 253342.9 | M15: =+'Հավելված N 2'!J17 -> 316678.8
F16: Մարզական օբյեկտների շենքերի (մասնաշենքերի) կառուցում (համաշինարարական աշխատանքներ, ջեռուցման համակարգի իրականացում, ներքին հարդարում, տարածքի բարեկարգում) և նախագծում
G17: Այլ պետական կազմակերպությունների կողմից օգտագործվող ոչ ֆինանսական ակտիվների հետ գործառնություններ
H18: Ակտիվն օգտագործող կազմակերպության անվանումը` Մարզական հաստատություններ
I19: Կառուցման ենթակա օբյյեկտների թիվ, հատ | K19: 1 | M19: 1
D20: 1163 - 32005 | E20: «Վորքաութ» տեսակի մարզահրապարակների կառուցում | J20: =+'Հավելված N 2'!G18 -> 134230.1 | K20: =+'Հավելված N 2'!H18 -> 134230.1 | L20: =+'Հավելված N 2'!I18 -> 134230.1 | M20: =+'Հավելված N 2'!J18 -> 134230.1
F21: Առողջ ապրելակերպի զարգացման նպատակով բնակելի շենքերի, դպրոցների բակերում և այլ հասարակական վայրերում «Վորքաութ» տեսակի մարզահրապարակների կառուցում, նախագծում
G22: Ծառայությունների մատուցում
H23: Միջոցառումն իրականացնողի անվանումը` «Գնումների մասին» ՀՀ օրենքի համաձայն ընտրված կազմակերպություն
I24: ՀՀ Գեղարքունիքի մարզում կառուցվող «Վորքաութ» տեսակի մարզահրապարակների քանակ, հատ | K24: 2 | M24: 2
I25: ՀՀ Սյունիքի մարզում կառուցվող «Վորքաութ» տեսակի մարզահրապարակների քանակ, հատ | K25: 3 | M25: 3
I26: ՀՀ Վայոց Ձորի մարզում կառուցվող «Վորքաութ» տեսակի մարզահրապարակների քանակ, հատ | K26: 2 | M26: 2
I27: ՀՀ Տավուշի մարզում կառուցվող «Վորքաութ» տեսակի մարզահրապարակների քանակ, հատ | K27: 3 | M27: 3
B29: 1189 | C29: Դպրոցների սեյսմիկ անվտանգության մակարդակի բարձրացման ծրագիր | J29: =+J30 -> 10000 | K29: =+K30 -> 10000 | L29: =+L30 -> 10000 | M29: =+M30 -> 10000
D30: 1189 - 11001 | E30: Ասիական զարգացման բանկի աջակցությամբ իրականացվող դպրոցների սեյսմիկ պաշտպանության ծրագրի կառավարում | J30: =+'Հավելված N 2'!G20 -> 10000 | K30: =+'Հավելված N 2'!H20 -> 10000 | L30: =+'Հավելված N 2'!I20 -> 10000 | M30: =+'Հավելված N 2'!J20 -> 10000
F31: Դպրոցների սեյսմիկ պաշտպանության ծրագիր` ՀՀ դպրոցների սեյսմիկ անվտանգության բարելավման նպատակով
G32: Ծառայությունների մատուցում
H33: Միջոցառումն իրականացնողի անվանումը՝ Մասնագիտացված միավոր
B35: 1236 | C35: Հանրակրթական և նախադպրոցական հաստատությունների հիմնում, կառուցում, բարելավում | J35: =+J36+J40+J47+J53+J57+J65 -> 252853.2 | K35: =+K36+K40+K47+K53+K57+K65 -> 3818980.5 | L35: =+L36+L40+L47+L53+L57+L65 -> 1550980.2 | M35: =+M36+M40+M47+M53+M57+M65 -> -460908.9
D36: 1236 - 11001 | E36: Հանրակրթական և նախադպրոցական հաստատությունների կառուցման, վերակառուցման, հիմնանորոգման ծրագրերի համակարգման և մոնիտորինգի ծառայություններ | J36: =+'Հավելված N 2'!G22 -> 30000 | K36: =+'Հավելված N 2'!H22 -> 70000 | L36: =+'Հավելված N 2'!I22 -> 80000 | M36: =+'Հավելված N 2'!J22 -> 80000
F37: Հանրակրթական և նախադպրոցական հաստատություններիկառուցման, վերակառուցման, հիմնանորոգման ծրագրերիհամակարգման և մոնիտորինգի ծառայությունների ապահովում
G38: Ծառայությունների մատուցում
H39: Միջոցառումն իրականացնողի անվանումը՝ Մասնագիտացված միավոր
D40: 1236 - 32001 | E40: Մանկապարտեզների նոր շենքերի կառուցում | J40: =+'Հավելված N 2'!G23 -> 329868.2 | K40: =+'Հավելված N 2'!H23 -> 828614.3 | L40: =+'Հավելված N 2'!I23 -> 34756.8 | M40: =+'Հավելված N 2'!J23 -> -444822
F41: Նախադպրոցական կրթության հասանելիության ապահովման նպատակով՛ մանկապարտեզների հիմնում, նոր շենքերի (մասնաշենքերի), ներառյալ՛ «Մոդուլային» տիպի շենքերի կառուցում և նախագծում
G42: Այլ պետական կազմակերպությունների կողմից օգտագործվող ոչ ֆինանսական ակտիվների հետ գործառնություններ
H43: Ակտիվն օգտագործող կազմակերպության անվանումը` Նախադպրոցական կրթություն իրականացնող ուսումնական հաստատություններ
I44: Կառուցվող մանկապարտեզների քանակ, հատ | K44: 7 | M44: 7
I45: Հաստատությունների քանակ, որոնց շինարարական աշխատանքների ավարտվածության աստիճանը 100 տոկոս է | K45: 1 | M45: 9
I46: Նախագծանահաշվային փաստաթղթերի քանակ, հատ | K46: 1 | M46: 1
D47: 1236 - 32002 | E47: Մանկապարտեզների շենքերի վերակառուցում, հիմնանորոգում | J47: =+'Հավելված N 2'!G24 -> 122351.8 | K47: =+'Հավելված N 2'!H24 -> 122351.8 | L47: =+'Հավելված N 2'!I24 -> 122351.8 | M47: =+'Հավելված N 2'!J24 -> -15815.8
F48: Նախադպրոցական կրթության հասանելիության ապահովման նպատակով՛ մանկապարտեզների շենքերի (մասնաշենքերի), վերակառուցում, հիմնանորոգում և նախագծում
G49: Այլ պետական կազմակերպությունների կողմից օգտագործվող ոչ ֆինանսական ակտիվների հետ գործառնություններ
H50: Ակտիվն օգտագործող կազմակերպության անվանումը` Նախադպրոցական կրթություն իրականացնող ուսումնական հաստատություններ
I51: Վերակառուցվող մանկապարտեզների քանակ, հատ | K51: 1 | M51: 1
I52: Հաստատությունների քանակ, որոնց շինարարական աշխատանքների ավարտվածության աստիճանը 100% է, հատ | K52: 1 | M52: 1
D53: 1236 - 32003 | E53: Հանրակրթական դպրոցների նոր շենքերի կառուցում | J53: =+'Հավելված N 2'!G25 -> 1741068.6 | K53: =+'Հավելված N 2'!H25 -> 1938885.7 | L53: =+'Հավելված N 2'!I25 -> 969442.7 | M53: =+'Հավելված N 2'!J25 -> 0
F54: ՀՀ մարզերում կրթական որակյալ ծառայությունների հասանելիության ապահովման ծրագրի շրջանակներում հանրակրթական և նախադպրոցական կրթության հասանելիության ապահովման նպատակով կրթական կենտրոնների կառուցում
G55: Այլ պետական կազմակերպությունների կողմից օգտագործվող ոչ ֆինանսական ակտիվների հետ գործառնություններ
H56: Ակտիվն օգտագործող կազմակերպությունների անվանումները` Հանրակրթական դպրոցներ
D57: 1236 - 32004 | E57: Հանրակրթական դպրոցների շենքերի վերակառուցում, հիմնանորոգում | J57: =+'Հավելված N 2'!G26 -> 381989.5 | K57: =+'Հավելված N 2'!H26 -> 709780.9 | L57: =+'Հավելված N 2'!I26 -> 536979.8 | M57: =+'Հավելված N 2'!J26 -> 454178.7
F58: Դպրոցական պարտադիր կրթության հասանելիության ապահովման նպատակով՛ հանրակրթական դպրոցների շենքերի (մասնաշենքերի), վերակառուցում, հիմնանորոգում և նախագծում
G59: Այլ պետական կազմակերպությունների կողմից օգտագործվող ոչ ֆինանսական ակտիվների հետ գործառնություններ
H60: Ակտիվն օգտագործող կազմակերպությունների անվանումները` Հանրակրթական դպրոցներ
I61: ՀՀ-ում կրթական որակյալ ծառայությունների հասանելիության ապահովման ծրագրի շրջանակներում հիմնանորոգվող / վերանորոգվող դպրոցների թիվը | K61: 7 | M61: 7
I62: ՀՀ-ում կրթական որակյալ ծառայությունների հասանելիության ապահովման ծրագրի շրջանակներում հիմնանորոգվող / վերանորոգվող դպրոցների թիվը , որոնց շինարարական աշխատանքների ավարտվածության աստիճանը 100 տոկոս է, հատ | K62: 4 | M62: 7
I63: Տարվա ընթացքում վերակառուցումն ավարտված դպրոցների ընդհանուր հզորությունը (շահառուների թիվը), մարդ | K63: -4292 | M63: -6712
I64: Տարվա ընթացքում հիմնանորոգումն/վերանորոգումն ավարտված դպրոցների ընդհանուր հզորությունը (շահառուների թիվը), մարդ | K64: =4292+1353 -> 5645 | M64: =6712+5073 -> 11785
D65: 1236 - 32005 | E65: Կրթահամալիրների կառուցում | J65: =+'Հավելված N 2'!G27 -> -2352424.9 | K65: =+'Հավելված N 2'!H27 -> 149347.8 | L65: =+'Հավելված N 2'!I27 -> -192550.9 | M65: =+'Հավելված N 2'!J27 -> -534449.8
F66: ՀՀ մարզերում կրթական որակյալ ծառայությունների հասանելիության ապահովման ծրագրի շրջանակներում հանրակրթական և նախադպրոցական կրթության հասանելիության ապահովման նպատակով կրթական կենտրոնների կառուցում
G67: Այլ պետական կազմակերպությունների կողմից օգտագործվող ոչ ֆինանսական ակտիվների հետ գործառնություններ
H68: Ակտիվն օգտագործող կազմակերպությունների անվանումները` Ստեղծվող կրթահամալիրներ
I69: Շիրակի մարզում ՀՀ-ում կրթական որակյալ ծառայությունների հասանելիության ապահովման ծրագրի շրջանակներում կառուցվող կրթահամալիրների (կրթական կենտրոնների) քանակ, հատ | K69: 1 | M69: 1
I70: Սյունիքի մարզում ՀՀ-ում կրթական որակյալ ծառայությունների հասանելիության ապահովման ծրագրի շրջանակներում կառուցվող կրթահամալիրների (կրթական կենտրոնների) քանակ, հատ | K70: -2 | M70: -2
A72: ՀՀ ԿԱՌԱՎԱՐՈՒԹՅՈՒՆ | J72: =+J73+J87+J93 -> 0 | K72: =+K73+K87+K93 -> 0 | L72: =+L73+L87+L93 -> 0 | M72: =+M73+M87+M93 -> 0
B73: 1139 | C73: ՀՀ կառավարության պահուստային ֆոնդ | J73: =+J74+J78 -> 0 | K73: =+K74+K78 -> 0 | L73: =+L74+L78 -> 0 | M73: =+M74+M78 -> 0
D74: 1139 - 11001 | E74: ՀՀ կառավարության պահուստային ֆոնդ | J74: =+'Հավելված N 2'!G31 -> 134230.1 | K74: =+'Հավելված N 2'!H31 -> 134230.1 | L74: =+'Հավելված N 2'!I31 -> 134230.1 | M74: =+'Հավելված N 2'!J31 -> 134230.1
F75: ՀՀ պետական բյուջեում նախատեսված ելքերի լրացուցիչ ֆինանսավորման, պետական բյուջեում չկանխատեսված ելքերի, ինչպես նաև բյուջետային երաշխիքների ապահովման ելքերի ֆինանսավորման ապահովում
G76: Ծառայությունների մատուցում
H77: Ծառայությունը մատուցողի անվանումը` ՀՀ կառավարություն
D78: 1139 - 11001 | E78: ՀՀ կառավարության պահուստային ֆոնդ | J78: =+'Հավելված N 2'!G32 -> -134230.1 | K78: =+'Հավելված N 2'!H32 -> -134230.1 | L78: =+'Հավելված N 2'!I32 -> -134230.1 | M78: =+'Հավելված N 2'!J32 -> -134230.1
F79: ՀՀ պետական բյուջեում նախատեսված ելքերի լրացուցիչ ֆինանսավորման, պետական բյուջեում չկանխատեսված ելքերի, ինչպես նաև բյուջետային երաշխիքների ապահովման ելքերի ֆինանսավորման ապահովում
G80: Ծառայությունների մատուցում
H81: Ծառայությունը մատուցողի անվանումը` ՀՀ կառավարություն

Sheet Հավելված N 8
K1: Հավելված N 8
K2: ՀՀ կառավարության 2025 թվականի
K3: ______________ ի ___Ն որոշման
A6: ՀԱՅԱՍՏԱՆԻ ՀԱՆՐԱՊԵՏՈՒԹՅԱՆ ԿԱՌԱՎԱՐՈՒԹՅԱՆ 2024 ԹՎԱԿԱՆԻ ԴԵԿՏԵՄԲԵՐԻ 27-Ի N 2060-Ն ՈՐՈՇՄԱՆ N 9.1 ՀԱՎԵԼՎԱԾՈՒՄ ԿԱՏԱՐՎՈՂ ՓՈՓՈԽՈՒԹՅՈՒՆՆԵՐԸ ԵՎ ԼՐԱՑՈՒՄՆԵՐԸ
A9: ԲՍԿ | B9: Ծրագիր | D9: Միջոցառում | H9: Իրականացնողը/ ակտիվն օգտագործողը/ շահառուի ընտրության չափորոշիչը | I9: Արդյունքային չափորոշիչը | J9: Ցուցանիշների փոփոխությունը (ավելացումները նշված են դրական նշանով, իսկ նվազեցումները՝ փակագծերում)
B10: Դասիչը | C10: Անվանումը | D10: Դասիչը | E10: Անվանումը | F10: Նկարագրությունը | G10: Տեսակը | J10: Առաջին եռամսյակ | K10: Առաջին կիսամյակ | L10: Ինն ամիս | M10: Տարի
A11: ԸՆԴԱՄԵՆԸ | J11: =+J13+J66+J73 -> 397083.3 | K11: =+K13+K66+K73 -> 4153217.8 | L11: =+L13+L66+L73 -> 1948553.2 | M11: =+M13+M66+M73 -> 0
A12: այդ թվում՝
A13: ՀՀ ԿՐԹՈՒԹՅԱՆ, ԳԻՏՈՒԹՅԱՆ, ՄՇԱԿՈԻՅԹԻ ԵՎ ՍՊՈՐՏԻ ՆԱԽԱՐԱՐՈՒԹՅՈՒՆ | J13: =+J14+J29 -> 387083.3 | K13: =+K14+K29 -> 5253217.8 | L13: =+L14+L29 -> 4528553.2 | M13: =+M14+M29 -> 3828167.6
B14: 1163 | C14: Մասսայական սպորտ | J14: =+J15+J20 -> 134230.1 | K14: =+K15+K20 -> 324237.3 | L14: =+L15+L20 -> 387573 | M14: =+M15+M20 -> 450908.9
D15: 1163 - 32001 | E15: Մարզական օբյեկտների շինարարություն | J15: =+'Հավելված N 3'!G140 -> 0 | K15: =+'Հավելված N 3'!H140 -> 190007.2 | L15: =+'Հավելված N 3'!I140 -> 253342.9 | M15: =+'Հավելված N 3'!J140 -> 316678.8
F16: Մարզական օբյեկտների շենքերի (մասնաշենքերի) կառուցում (համաշինարարական աշխատանքներ, ջեռուցման համակարգի իրականացում, ներքին հարդարում, տարածքի բարեկարգում) և նախագծում
G17: Այլ պետական կազմակերպությունների կողմից օգտագործվող ոչ ֆինանսական ակտիվների հետ գործառնություններ
H18: Ակտիվն օգտագործող կազմակերպության անվանումը` Մարզական հաստատություններ
I19: Կառուցման ենթակա օբյյեկտների թիվ, հատ | K19: 1 | M19: 1
D20: 1163 - 32005 | E20: «Վորքաութ» տեսակի մարզահրապարակների կառուցում | J20: =+'Հավելված N 3'!G28 -> 134230.1 | K20: =+'Հավելված N 3'!H28 -> 134230.1 | L20: =+'Հավելված N 3'!I28 -> 134230.1 | M20: =+'Հավելված N 3'!J28 -> 134230.1
F21: Առողջ ապրելակերպի զարգացման նպատակով բնակելի շենքերի, դպրոցների բակերում և այլ հասարակական վայրերում «Վորքաութ» տեսակի մարզահրապարակների կառուցում, նախագծում
G22: Ծառայությունների մատուցում
H23: Միջոցառումն իրականացնողի անվանումը` «Գնումների մասին» ՀՀ օրենքի համաձայն ընտրված կազմակերպություն
I24: ՀՀ Գեղարքունիքի մարզում կառուցվող «Վորքաութ» տեսակի մարզահրապարակների քանակ, հատ | K24: 2 | M24: 2
I25: ՀՀ Սյունիքի մարզում կառուցվող «Վորքաութ» տեսակի մարզահրապարակների քանակ, հատ | K25: 3 | M25: 3
I26: ՀՀ Վայոց Ձորի մարզում կառուցվող «Վորքաութ» տեսակի մարզահրապարակների քանակ, հատ | K26: 2 | M26: 2
I27: ՀՀ Տավուշի մարզում կառուցվող «Վորքաութ» տեսակի մարզահրապարակների քանակ, հատ | K27: 3 | M27: 3
B29: 1236 | C29: Հանրակրթական և նախադպրոցական հաստատությունների հիմնում, կառուցում, բարելավում | J29: =+J30+J34+J41+J47+J51+J59 -> 252853.2 | K29: =+K30+K34+K41+K47+K51+K59 -> 4928980.5 | L29: =+L30+L34+L41+L47+L51+L59 -> 4140980.2 | M29: =+M30+M34+M41+M47+M51+M59 -> 3377258.7
D30: 1236 - 11001 | E30: Հանրակրթական և նախադպրոցական հաստատությունների կառուցման, վերակառուցման, հիմնանորոգման ծրագրերի համակարգման և մոնիտորինգի ծառայություններ | J30: =+'Հավելված N 3'!G89 -> 30000 | K30: =+'Հավելված N 3'!H89 -> 70000 | L30: =+'Հավելված N 3'!I89 -> 80000 | M30: =+'Հավելված N 3'!J89 -> 80000
F31: Հանրակրթական և նախադպրոցական հաստատություններիկառուցման, վերակառուցման, հիմնանորոգման ծրագրերիհամակարգման և մոնիտորինգի ծառայությունների ապահովում
G32: Ծառայությունների մատուցում
H33: Միջոցառումն իրականացնողի անվանումը՝ Մասնագիտացված միավոր
D34: 1236 - 32001 | E34: Մանկապարտեզների նոր շենքերի կառուցում | J34: =+'Հավելված N 3'!G47 -> 329868.2 | K34: =+'Հավելված N 3'!H47 -> 1668614.3 | L34: =+'Հավելված N 3'!I47 -> 1994756.8 | M34: =+'Հավելված N 3'!J47 -> 2355178
F35: Նախադպրոցական կրթության հասանելիության ապահովման նպատակով՛ մանկապարտեզների հիմնում, նոր շենքերի (մասնաշենքերի), ներառյալ՛ «Մոդուլային» տիպի շենքերի կառուցում և նախագծում
G36: Այլ պետական կազմակերպությունների կողմից օգտագործվող ոչ ֆինանսական ակտիվների հետ գործառնություններ
H37: Ակտիվն օգտագործող կազմակերպության անվանումը` Նախադպրոցական կրթություն իրականացնող ուսումնական հաստատություններ
I38: Կառուցվող մանկապարտեզների քանակ, հատ | K38: 7 | M38: 7
I39: Հաստատությունների քանակ, որոնց շինարարական աշխատանքների ավարտվածության աստիճանը 100 տոկոս է | K39: 1 | M39: 9
I40: Նախագծանահաշվային փաստաթղթերի քանակ, հատ | K40: 1 | M40: 1
D41: 1236 - 32002 | E41: Մանկապարտեզների շենքերի վերակառուցում, հիմնանորոգում | J41: =+'Հավելված N 3'!G65 -> 122351.8 | K41: =+'Հավելված N 3'!H65 -> 122351.8 | L41: =+'Հավելված N 3'!I65 -> 122351.8 | M41: =+'Հավելված N 3'!J65 -> 122351.8
F42: Նախադպրոցական կրթության հասանելիության ապահովման նպատակով՛ մանկապարտեզների շենքերի (մասնաշենքերի), վերակառուցում, հիմնանորոգում և նախագծում
G43: Այլ պետական կազմակերպությունների կողմից օգտագործվող ոչ ֆինանսական ակտիվների հետ գործառնություններ
H44: Ակտիվն օգտագործող կազմակերպության անվանումը` Նախադպրոցական կրթություն իրականացնող ուսումնական հաստատություններ
I45: Վերակառուցվող մանկապարտեզների քանակ, հատ | K45: 1 | M45: 1
I46: Հաստատությունների քանակ, որոնց շինարարական աշխատանքների ավարտվածության աստիճանը 100% է, հատ | K46: 1 | M46: 1
D47: 1236 - 32003 | E47: Հանրակրթական դպրոցների նոր շենքերի կառուցում | J47: =+'Հավելված N 3'!G98 -> 1741068.6 | K47: =+'Հավելված N 3'!H98 -> 1938885.7 | L47: =+'Հավելված N 3'!I98 -> 969442.7 | M47: =+'Հավելված N 3'!J98 -> 0
F48: ՀՀ մարզերում կրթական որակյալ ծառայությունների հասանելիության ապահովման ծրագրի շրջանակներում հանրակրթական և նախադպրոցական կրթության հասանելիության ապահովման նպատակով կրթական կենտրոնների կառուցում
G49: Այլ պետական կազմակերպությունների կողմից օգտագործվող ոչ ֆինանսական ակտիվների հետ գործառնություններ
H50: Ակտիվն օգտագործող կազմակերպությունների անվանումները` Հանրակրթական դպրոցներ
D51: 1236 - 32004 | E51: Հանրակրթական դպրոցների շենքերի վերակառուցում, հիմնանորոգում | J51: =+'Հավելված N 3'!G107 -> 381989.5 | K51: =+'Հավելված N 3'!H107 -> 979780.9 | L51: =+'Հավելված N 3'!I107 -> 1166979.8 | M51: =+'Հավելված N 3'!J107 -> 1354178.7
F52: Դպրոցական պարտադիր կրթության հասանելիության ապահովման նպատակով՛ հանրակրթական դպրոցների շենքերի (մասնաշենքերի), վերակառուցում, հիմնանորոգում և նախագծում
G53: Այլ պետական կազմակերպությունների կողմից օգտագործվող ոչ ֆինանսական ակտիվների հետ գործառնություններ
H54: Ակտիվն օգտագործող կազմակերպությունների անվանումները` Հանրակրթական դպրոցներ
I55: ՀՀ-ում կրթական որակյալ ծառայությունների հասանելիության ապահովման ծրագրի շրջանակներում հիմնանորոգվող / վերանորոգվող դպրոցների թիվը | K55: 7 | M55: 7
I56: ՀՀ-ում կրթական որակյալ ծառայությունների հասանելիության ապահովման ծրագրի շրջանակներում հիմնանորոգվող / վերանորոգվող դպրոցների թիվը , որոնց շինարարական աշխատանքների ավարտվածության աստիճանը 100 տոկոս է, հատ | K56: 4 | M56: 7
I57: Տարվա ընթացքում վերակառուցումն ավարտված դպրոցների ընդհանուր հզորությունը (շահառուների թիվը), մարդ | K57: -4292 | M57: -6712
I58: Տարվա ընթացքում հիմնանորոգումն/վերանորոգումն ավարտված դպրոցների ընդհանուր հզորությունը (շահառուների թիվը), մարդ | K58: =4292+1353 -> 5645 | M58: =6712+5073 -> 11785
D59: 1236 - 32005 | E59: Կրթահամալիրների կառուցում | J59: =+'Հավելված N 3'!G123 -> -2352424.9 | K59: =+'Հավելված N 3'!H123 -> 149347.8 | L59: =+'Հավելված N 3'!I123 -> -192550.9 | M59: =+'Հավելված N 3'!J123 -> -534449.8
F60: ՀՀ մարզերում կրթական որակյալ ծառայությունների հասանելիության ապահովման ծրագրի շրջանակներում հանրակրթական և նախադպրոցական կրթության հասանելիության ապահովման նպատակով կրթական կենտրոնների կառուցում
G61: Այլ պետական կազմակերպությունների կողմից օգտագործվող ոչ ֆինանսական ակտիվների հետ գործառնություններ
H62: Ակտիվն օգտագործող կազմակերպությունների անվանումները` Ստեղծվող կրթահամալիրներ
I63: Շիրակի մարզում ՀՀ-ում կրթական որակյալ ծառայությունների հասանելիության ապահովման ծրագրի շրջանակներում կառուցվող կրթահամալիրների (կրթական կենտրոնների) քանակ, հատ | K63: 1 | M63: 1
I64: Սյունիքի մարզում ՀՀ-ում կրթական որակյալ ծառայությունների հասանելիության ապահովման ծրագրի շրջանակներում կառուցվող կրթահամալիրների (կրթական կենտրոնների) քանակ, հատ | K64: -2 | M64: -2
A66: ՀՀ ՏԱՐԱԾՔԱՅԻՆ ԿԱՌԱՎԱՐՄԱՆ ԵՎ ԵՆԹԱԿԱՌՈՒՑՎԱԾՔՆԵՐԻ ՆԱԽԱՐԱՐՈՒԹՅՈՒՆ | J66: =+J67 -> 10000 | K66: =+K67 -> 10000 | L66: =+L67 -> 10000 | M66: =+M67 -> 10000
B67: 1189 | C67: Դպրոցների սեյսմիկ անվտանգության մակարդակի բարձրացման ծրագիր | J67: =+J68 -> 10000 | K67: =+K68 -> 10000 | L67: =+L68 -> 10000 | M67: =+M68 -> 10000
D68: 1189 - 11001 | E68: Ասիական զարգացման բանկի աջակցությամբ իրականացվող դպրոցների սեյսմիկ պաշտպանության ծրագրի կառավարում | J68: =+'Հավելված N 3'!G151 -> 10000 | K68: =+'Հավելված N 3'!H151 -> 10000 | L68: =+'Հավելված N 3'!I151 -> 10000 | M68: =+'Հավելված N 3'!J151 -> 10000
F69: Դպրոցների սեյսմիկ պաշտպանության ծրագիր` ՀՀ դպրոցների սեյսմիկ անվտանգության բարելավման նպատակով
G70: Ծառայությունների մատուցում
H71: Միջոցառումն իրականացնողի անվանումը՝ Մասնագիտացված միավոր
A73: ՀՀ ԿԱՌԱՎԱՐՈՒԹՅՈՒՆ | J73: =+J74+J84 -> 0 | K73: =+K74+K84 -> -1110000 | L73: =+L74+L84 -> -2590000 | M73: =+M74+M84 -> -3838167.6
B74: 1139 | C74: ՀՀ կառավարության պահուստային ֆոնդ | J74: =+J75+J79 -> 0 | K74: =+K75+K79 -> 0 | L74: =+L75+L79 -> 0 | M74: =+M75+M79 -> 0
D75: 1139 - 11001 | E75: ՀՀ կառավարության պահուստային ֆոնդ | J75: =+'Հավելված N 3'!G172 -> 134230.1 | K75: =+'Հավելված N 3'!H172 -> 134230.1 | L75: =+'Հավելված N 3'!I172 -> 134230.1 | M75: =+'Հավելված N 3'!J172 -> 134230.1
F76: ՀՀ պետական բյուջեում նախատեսված ելքերի լրացուցիչ ֆինանսավորման, պետական բյուջեում չկանխատեսված ելքերի, ինչպես նաև բյուջետային երաշխիքների ապահովման ելքերի ֆինանսավորման ապահովում
G77: Ծառայությունների մատուցում
H78: Ծառայությունը մատուցողի անվանումը` ՀՀ կառավարություն
D79: 1139 - 11001 | E79: ՀՀ կառավարության պահուստային ֆոնդ | J79: =+'Հավելված N 3'!G180 -> -134230.1 | K79: =+'Հավելված N 3'!H180 -> -134230.1 | L79: =+'Հավելված N 3'!I180 -> -134230.1 | M79: =+'Հավելված N 3'!J180 -> -134230.1
F80: ՀՀ պետական բյուջեում նախատեսված ելքերի լրացուցիչ ֆինանսավորման, պետական բյուջեում չկանխատեսված ելքերի, ինչպես նաև բյուջետային երաշխիքների ապահովման ելքերի ֆինանսավորման ապահովում
G81: Ծառայությունների մատուցում
H82: Ծառայությունը մատուցողի անվանումը` ՀՀ կառավարություն
B84: 1236 | C84: Հանրակրթական և նախադպրոցական հաստատությունների հիմնում, կառուցում, բարելավում | J84: =+J85+J89+J93 -> 0 | K84: =+K85+K89+K93 -> -1110000 | L84: =+L85+L89+L93 -> -2590000 | M84: =+M85+M89+M93 -> -3838167.6
D85: 1236 - 32001 | E85: Մանկապարտեզների նոր շենքերի կառուցում | J85: =+'Հավելված N 3'!G56 -> 0 | K85: =+'Հավելված N 3'!H56 -> -840000 | L85: =+'Հավելված N 3'!I56 -> -1960000 | M85: =+'Հավելված N 3'!J56 -> -2800000
F86: Նախադպրոցական կրթության հասանելիության ապահովման նպատակով՛ մանկապարտեզների հիմնում, նոր շենքերի (մասնաշենքերի), ներառյալ՛ «Մոդուլային» տիպի շենքերի կառուցում և նախագծում
G87: Այլ պետական կազմակերպությունների կողմից օգտագործվող ոչ ֆինանսական ակտիվների հետ գործառնություններ
H88: Ակտիվն օգտագործող կազմակերպության անվանումը` Նախադպրոցական կրթություն իրականացնող ուսումնական հաստատություններ
D89: 1236 - 32004 | E89: Մանկապարտեզների նոր շենքերի կառուցում | J89: =+'Հավելված N 3'!G114 -> 0 | K89: =+'Հավելված N 3'!H114 -> -270000 | L89: =+'Հավելված N 3'!I114 -> -630000 | M89: =+'Հավելված N 3'!J114 -> -900000
F90: Նախադպրոցական կրթության հասանելիության ապահովման նպատակով՛ մանկապարտեզների հիմնում, նոր շենքերի (մասնաշենքերի), ներառյալ՛ «Մոդուլային» տիպի շենքերի կառուցում և նախագծում
G91: Այլ պետական կազմակերպությունների կողմից օգտագործվող ոչ ֆինանսական ակտիվների հետ գործառնություններ
H92: Ակտիվն օգտագործող կազմակերպության անվանումը` Նախադպրոցական կրթություն իրականացնող ուսումնական հաստատություններ
D93: 1236 - 32002 | E93: Մանկապարտեզների շենքերի վերակառուցում, հիմնանորոգում | J93: =+'Հավելված N 3'!G72 -> 0 | K93: =+'Հավելված N 3'!H72 -> 0 | L93: =+'Հավելված N 3'!I72 -> 0 | M93: =+'Հավելված N 3'!J72 -> -138167.6
F94: Նախադպրոցական կրթության հասանելիության ապահովման նպատակով՛ մանկապարտեզների շենքերի (մասնաշենքերի), վերակառուցում, հիմնանորոգում և նախագծում
G95: Այլ պետական կազմակերպությունների կողմից օգտագործվող ոչ ֆինանսական ակտիվների հետ գործառնություններ
H96: Ակտիվն օգտագործող կազմակերպության անվանումը` Նախադպրոցական կրթություն իրականացնող ուսումնական հաստատություններ

Sheet Հավելված N 9
H1: Հավելված N 9
H2: ՀՀ կառավարության 2025 թվականի
H3: ______________ ի ___Ն որոշման
A6: ՀԱՅԱՍՏԱՆԻ ՀԱՆՐԱՊԵՏՈՒԹՅԱՆ ԿԱՌԱՎԱՐՈՒԹՅԱՆ 2024 ԹՎԱԿԱՆԻ ԴԵԿՏԵՄԲԵՐԻ 27-Ի N 2060-Ն N 10 ՀԱՎԵԼՎԱԾՈՒՄ ԿԱՏԱՐՎՈՂ ՓՈՓՈԽՈՒԹՅՈՒՆՆԵՐԸ ԵՎ ԼՐԱՑՈՒՄՆԵՐԸ
A10: Կոդը | B10: Անվանումը | E10: Գնման ձևը | F10: Չափման միավորը | G10: Միավորի գինը | H10: Ցուցանիշների փոփոխությունը (ավելացումները նշված են դրական նշանով, իսկ նվազեցումները՝ փակագծերում)
H11: Քանակը | I11: Գումարը (հազար դրամ)
A12: 1 | B12: 2 | E12: 3 | F12: 4 | G12: 5 | H12: 6 | I12: 7
A13: ՀՀ կրթության, գիտության, մշակույթի և սպորտի նախարարություն | I13: =+I14+I30+I63+I90 -> 4343252.6
A14: Բաժին N 08 | B14: Խումբ N 01 | C14: Դաս N 01 | D14: Հանգստի և սպորտի ծառայություններ | I14: =+I15 -> 134230.1
A15: 1163-32005 | B15: «Վորքաութ» տեսակի մարզահրապարակների կառուցում | I15: =+I16+I21 -> 134230.1
B16: ՄԱՍ II. ԱՇԽԱՏԱՆՔՆԵՐ | I16: =SUM(I17:I20) -> 129999.9
A17: 45211137 | B17: մարզական հրապարակների հետ կապված կառույցների կառուցման աշխատանքներ | E17: ԳՀ | F17: դրամ | G17: 22578091 | H17: 1 | I17: =+ROUNDUP(H17*G17/1000,1) -> 22578.1
A18: 45211137 | B18: մարզական հրապարակների հետ կապված կառույցների կառուցման աշխատանքներ | E18: ԳՀ | F18: դրամ | G18: 46751640 | H18: 1 | I18: =+ROUNDUP(H18*G18/1000,1) -> 46751.7
A19: 45211137 | B19: մարզական հրապարակների հետ կապված կառույցների կառուցման աշխատանքներ | E19: ԳՀ | F19: դրամ | G19: 29838840 | H19: 1 | I19: =+ROUNDUP(H19*G19/1000,1) -> 29838.9
A20: 45211137 | B20: մարզական հրապարակների հետ կապված կառույցների կառուցման աշխատանքներ | E20: ԳՀ | F20: դրամ | G20: 30831180 | H20: 1 | I20: =+ROUNDUP(H20*G20/1000,1) -> 30831.2
B21: ՄԱՍ III. ԾԱՌԱՅՈՒԹՅՈՒՆՆԵՐ | I21: =SUM(I22:I29) -> 4230.2
A22: 71351540 | B22: տեխնիկական հսկողության ծառայություններ | E22: ՀԲՄ | F22: դրամ | G22: 650984 | H22: 1 | I22: =+ROUNDUP(H22*G22/1000,1) -> 651
A23: 71351540 | B23: տեխնիկական հսկողության ծառայություններ | E23: ՀԲՄ | F23: դրամ | G23: 973694 | H23: 1 | I23: =+ROUNDUP(H23*G23/1000,1) -> 973.7
A24: 71351540 | B24: տեխնիկական հսկողության ծառայություններ | E24: ՀԲՄ | F24: դրամ | G24: 676306 | H24: 1 | I24: =+ROUNDUP(H24*G24/1000,1) -> 676.4
A25: 71351540 | B25: տեխնիկական հսկողության ծառայություններ | E25: ՀԲՄ | F25: դրամ | G25: 889016 | H25: 1 | I25: =+ROUNDUP(H25*G25/1000,1) -> 889.1
A26: 98111140 | B26: հեղինակային հսկողության ծառայություններ | E26: ՄԱ | F26: դրամ | G26: 210000 | H26: 1 | I26: =+ROUND(H26*G26/1000,1) -> 210
A27: 98111140 | B27: հեղինակային հսկողության ծառայություններ | E27: ՄԱ | F27: դրամ | G27: 330000 | H27: 1 | I27: =+ROUND(H27*G27/1000,1) -> 330
A28: 98111140 | B28: հեղինակային հսկողության ծառայություններ | E28: ՄԱ | F28: դրամ | G28: 210000 | H28: 1 | I28: =+ROUND(H28*G28/1000,1) -> 210
A29: 98111140 | B29: հեղինակային հսկողության ծառայություններ | E29: ՄԱ | F29: դրամ | G29: 290000 | H29: 1 | I29: =+ROUND(H29*G29/1000,1) -> 290
A30: Բաժին N 09 | B30: Խումբ N 01 | C30: Դաս N 01 | D30: Նախադպրոցական կրթություն | I30: =+I31+I58 -> 2477529.8
A31: 1236-32001 | B31: Մանկապարտեզների նոր շենքերի կառուցում | I31: =+I32+I43 -> 2355178
B32: ՄԱՍ II. ԱՇԽԱՏԱՆՔՆԵՐ | I32: =SUM(I33:I42) -> 2342455.9
A33: 45211228 | B33: շինարարական աշխատանքներ մանկապարտեզների համար | E33: ԲՄ | F33: դրամ | G33: 309206800 | H33: 1 | I33: =+ROUNDUP(H33*G33/1000,1) -> 309206.8
A34: 45211228 | B34: շինարարական աշխատանքներ մանկապարտեզների համար | E34: ԲՄ | F34: դրամ | G34: 79248397 | H34: 1 | I34: =+ROUNDUP(H34*G34/1000,1) -> 79248.4
A35: 45211228-1 | B35: շինարարական աշխատանքներ մանկապարտեզների համար | E35: ԲՄ | F35: դրամ | I35: 134160
A36: 45211228 | B36: շինարարական աշխատանքներ մանկապարտեզների համար | E36: ԲՄ | F36: դրամ | G36: 309206800 | H36: 1 | I36: =+ROUNDUP(H36*G36/1000,1) -> 309206.8
A37: 45211228 | B37: շինարարական աշխատանքներ մանկապարտեզների համար | E37: ԲՄ | F37: դրամ | G37: 309206800 | H37: 1 | I37: =+ROUNDUP(H37*G37/1000,1) -> 309206.8
A38: 45211228 | B38: շինարարական աշխատանքներ մանկապարտեզների համար | E38: ԲՄ | F38: դրամ | G38: 309206800 | H38: 1 | I38: =+ROUNDUP(H38*G38/1000,1) -> 309206.8
A39: 45211228-2 | B39: շինարարական աշխատանքներ մանկապարտեզների համար | E39: ԲՄ | F39: դրամ | I39: 139041
A40: 45211228-3 | B40: շինարարական աշխատանքներ մանկապարտեզների համար | E40: ԲՄ | F40: դրամ | I40: 175698
A41: 45211228 | B41: շինարարական աշխատանքներ մանկապարտեզների համար | E41: ԲՄ | F41: դրամ | G41: 309206800 | H41: 1 | I41: =+ROUNDUP(H41*G41/1000,1) -> 309206.8
A42: 45211228 | B42: շինարարական աշխատանքներ մանկապարտեզների համար | E42: ԲՄ | F42: դրամ | G42: 268274500 | H42: 1 | I42: =+ROUNDUP(H42*G42/1000,1) -> 268274.5
B43: ՄԱՍ III. ԾԱՌԱՅՈՒԹՅՈՒՆՆԵՐ | I43: =SUM(I44:I57) -> 12722.1
A44: 71351540 | B44: տեխնիկական հսկողության ծառայություններ | E44: ՀԲՄ | F44: դրամ | G44: 862000 | H44: 1 | I44: =+ROUNDUP(H44*G44/1000,1) -> 862
A45: 71351540-1 | B45: տեխնիկական հսկողության ծառայություններ | E45: ՀԲՄ | F45: դրամ | I45: -2796
A46: 71351540 | B46: տեխնիկական հսկողության ծառայություններ | E46: ՀԲՄ | F46: դրամ | G46: 862000 | H46: 1 | I46: =+ROUNDUP(H46*G46/1000,1) -> 862
A47: 71351540 | B47: տեխնիկական հսկողության ծառայություններ | E47: ՀԲՄ | F47: դրամ | G47: 862000 | H47: 1 | I47: =+ROUNDUP(H47*G47/1000,1) -> 862
A48: 71351540 | B48: տեխնիկական հսկողության ծառայություններ | E48: ՀԲՄ | F48: դրամ | G48: 862000 | H48: 1 | I48: =+ROUNDUP(H48*G48/1000,1) -> 862
A49: 71351540-2 | B49: տեխնիկական հսկողության ծառայություններ | E49: ՀԲՄ | F49: դրամ | I49: -1678
A50: 71351540-3 | B50: տեխնիկական հսկողության ծառայություններ | E50: ՀԲՄ | F50: դրամ | I50: -2655
A51: 71351540 | B51: տեխնիկական հսկողության ծառայություններ | E51: ՀԲՄ | F51: դրամ | G51: 862000 | H51: 1 | I51: =+ROUNDUP(H51*G51/1000,1) -> 862
A52: 71351540 | B52: տեխնիկական հսկողության ծառայություններ | E52: ՀԲՄ | F52: դրամ | G52: 930000 | H52: 1 | I52: =+ROUNDUP(H52*G52/1000,1) -> 930
A53: 98111140 | B53: հեղինակային հսկողության ծառայություններ | E53: ՄԱ | F53: դրամ | G53: 1000270 | H53: 1 | I53: =+ROUNDUP(H53*G53/1000,1) -> 1000.3
A54: 98111140-1 | B54: հեղինակային հսկողության ծառայություններ | E54: ՄԱ | F54: դրամ | I54: 1198.3
A55: 98111140-2 | B55: հեղինակային հսկողության ծառայություններ | E55: ՄԱ | F55: դրամ | I55: 808.5
A56: 98111140-3 | B56: հեղինակային հսկողության ծառայություններ | E56: ՄԱ | F56: դրամ | I56: 854
A57: 71241200 | B57: նախագծերի պատրաստում, ծախսերի գնահատում | E57: ԳՀ | F57: դրամ | G57: 10750000 | H57: 1 | I57: =+ROUND(H57*G57/1000,1) -> 10750
A58: 1236-32002 | B58: Մանկապարտեզների շենքերի վերակառուցում, հիմնանորոգում | I58: =+I59+I61 -> 122351.8
B59: ՄԱՍ II. ԱՇԽԱՏԱՆՔՆԵՐ | I59: =+I60 -> 120967.6
A60: 45211228 | B60: շինարարական աշխատանքներ մանկապարտեզների համար | E60: ԲՄ | F60: դրամ | G60: =44103809+76863715.7 -> 1.2096752e+08 | H60: 1 | I60: =+ROUNDUP(H60*G60/1000,1) -> 120967.6
B61: ՄԱՍ III. ԾԱՌԱՅՈՒԹՅՈՒՆՆԵՐ | I61: =+I62 -> 1384.2
A62: 98111140 | B62: հեղինակային հսկողության ծառայություններ | E62: ՄԱ | F62: դրամ | G62: 1384130 | H62: 1 | I62: =+ROUNDUP(H62*G62/1000,1) -> 1384.2
A63: Բաժին N 09 | B63: Խումբ N 02 | C63: Դաս N 01 | D63: Հիմնական ընդհանուր կրթություն | I63: =+I64+I84 -> 1414813.9
A64: 1236-32004 | B64: Հանրակրթական դպրոցների շենքերի վերակառուցում, հիմնանորոգում | I64: =+I65 -> 1354178.7
B65: ՄԱՍ II. ԱՇԽԱՏԱՆՔՆԵՐ | I65: =SUM(I66:I83) -> 1354178.7
A66: 45211229-174 | B66: շինարարական աշխատանքներ դպրոցների համար | E66: ՀԲՄ | F66: դրամ | I66: 5000
A67: 45211229-175 | B67: շինարարական աշխատանքներ դպրոցների համար | E67: ՀԲՄ | F67: դրամ | I67: 50
A68: 45211229-664 | B68: շինարարական աշխատանքներ դպրոցների համար | E68: ՀԲՄ | F68: դրամ | G68: 98490000 | H68: 1 | I68: =+ROUND(H68*G68/1000,1) -> 98490
A69: 45211229-176 | B69: շինարարական աշխատանքներ դպրոցների համար | E69: ՀԲՄ | F69: դրամ | I69: 6
A70: 45211229-177 | B70: շինարարական աշխատանքներ դպրոցների համար | E70: ՀԲՄ | F70: դրամ | I70: 50
A71: 45211229-178 | B71: շինարարական աշխատանքներ դպրոցների համար | E71: ՀԲՄ | F71: դրամ | I71: 50
A72: 45211229-179 | B72: շինարարական աշխատանքներ դպրոցների համար | E72: ՀԲՄ | F72: դրամ | I72: 4244.3
A73: 45211229-180 | B73: շինարարական աշխատանքներ դպրոցների համար | E73: ՀԲՄ | F73: դրամ | I73: 5000
A74: 45211229-181 | B74: շինարարական աշխատանքներ դպրոցների համար | E74: ՀԲՄ | F74: դրամ | I74: 5000
A75: 45211229-666 | B75: շինարարական աշխատանքներ դպրոցների համար | E75: ՀԲՄ | F75: դրամ | G75: 97800000 | H75: 1 | I75: =+ROUND(H75*G75/1000,1) -> 97800
A76: 45211229-182 | B76: շինարարական աշխատանքներ դպրոցների համար | E76: ՀԲՄ | F76: դրամ | I76: 24500
A77: 45211229-183 | B77: շինարարական աշխատանքներ դպրոցների համար | E77: ՀԲՄ | F77: դրամ | I77: 32000
A78: 45211229-185 | B78: շինարարական աշխատանքներ դպրոցների համար | E78: ՀԲՄ | F78: դրամ | I78: 5000
A79: 45211229 | B79: շինարարական աշխատանքներ դպրոցների համար | E79: ՀԲՄ | F79: դրամ | G79: 450000000 | H79: 1 | I79: =+ROUND(H79*G79/1000,1) -> 450000
A80: 45211229-501 | B80: շինարարական աշխատանքներ դպրոցների համար | E80: ՀԲՄ | F80: դրամ | G80: 227680000 | H80: 1 | I80: =+ROUND(H80*G80/1000,1) -> 227680
A81: 45211229-502 | B81: շինարարական աշխատանքներ դպրոցների համար | E81: ՀԲՄ | F81: դրամ | G81: 258314400 | H81: 1 | I81: =+ROUND(H81*G81/1000,1) -> 258314.4
A82: 45211229-652 | B82: շինարարական աշխատանքներ դպրոցների համար | E82: ՀԲՄ | F82: դրամ | G82: 96000000 | H82: 1 | I82: =+ROUND(H82*G82/1000,1) -> 96000
A83: 45211229-655 | B83: շինարարական աշխատանքներ դպրոցների համար | E83: ՀԲՄ | F83: դրամ | G83: 44994000 | H83: 1 | I83: =+ROUND(H83*G83/1000,1) -> 44994
A84: 1236-32005 | B84: Կրթահամալիրների կառուցում | I84: =+I85+I88 -> 60635.2
B85: ՄԱՍ II. ԱՇԽԱՏԱՆՔՆԵՐ | I85: =SUM(I86:I87) -> 65550.2
A86: 45211229 | B86: շինարարական աշխատանքներ դպրոցների համար | E86: ՀԲՄ | F86: դրամ | G86: 600000000 | H86: 1 | I86: =+ROUND(H86*G86/1000,1) -> 600000
A87: 45211229-163 | B87: ընդհանուր շինարարական աշխատանքներ | E87: ՀԲՄ | F87: դրամ | G87: 534449800 | H87: -1 | I87: =+ROUND(H87*G87/1000,1) -> -534449.8
B88: ՄԱՍ III. ԾԱՌԱՅՈՒԹՅՈՒՆՆԵՐ | I88: =+I89 -> -4915
A89: 71351540-148 | B89: տեխնիկական հսկողության ծառայություններ | E89: ՀԲՄ | F89: դրամ | G89: 4915000 | H89: -1 | I89: =+ROUND(H89*G89/1000,1) -> -4915
A90: Բաժին N 09 | B90: Խումբ N 06 | C90: Դաս N 01 | D90: Կրթությանը տրամադրվող օժանդակ ծառայություններ | I90: =+I91 -> 316678.8
A91: 1163-32001 | B91: Մարզական օբյեկտների շինարարություն | I91: =+I92+I94 -> 316678.8
B92: ՄԱՍ II. ԱՇԽԱՏԱՆՔՆԵՐ | I92: =SUM(I93:I93) -> 314264.8
A93: 45211131 | B93: մարզական օբյեկտների շինարարական աշխատանքներ | E93: ԲՄ | F93: դրամ | G93: 314264796 | H93: 1 | I93: =+ROUNDUP(H93*G93/1000,1) -> 314264.8
B94: ՄԱՍ III. ԾԱՌԱՅՈՒԹՅՈՒՆՆԵՐ | I94: =SUM(I95:I96) -> 2414
A95: 71351540-646 | B95: տեխնիկական հսկողության ծառայություններ | E95: ԳՀ | F95: դրամ | G95: 561661 | H95: 1 | I95: =+ROUNDUP(H95*G95/1000,1) -> 561.7
A96: 98111140 | B96: հեղինակային հսկողության ծառայություններ | E96: ՄԱ | F96: դրամ | G96: 1852205 | H96: 1 | I96: =+ROUNDUP(H96*G96/1000,1) -> 1852.3

Sheet Հավելված N 10
F1: Հավելված N 10
J2: ՀՀ կառավարության 2025 թվականի
J3: ______________ ի ___Ն որոշման
A6: ՀԱՅԱՍՏԱՆԻ ՀԱՆՐԱՊԵՏՈՒԹՅԱՆ 2025 ԹՎԱԿԱՆԻ ՊԵՏԱԿԱՆ ԲՅՈՒՋԵՈՎ ՆԱԽԱՏԵՍՎԱԾ՝ ՀԱՅԱՍՏԱՆԻ ՀԱՆՐԱՊԵՏՈՒԹՅԱՆ ԿԱՌԱՎԱՐՈՒԹՅԱՆ ՊԱՀՈՒՍՏԱՅԻՆ ՖՈՆԴԻՑ ՀԱՏԿԱՑՈՒՄՆԵՐ ԿԱՏԱՐԵԼՈՒ ՎԵՐԱԲԵՐՅԱԼ
A9: Գործառական դասիչը | D9: Ծրագրային դասիչը | F9: Բյուջետային հատկացումների գլխավոր կարգադրիչների, ծրագրերի, միջոցառումների և միջոցառումները կատարող պետական մարմինների անվանումները | G9: Ցուցանիշների փոփոխությունը (ավելացումները նշված են դրական նշանով, իսկ նվազեցումները` փակագծերում)
A10: Բաժին | B10: Խումբ | C10: Դաս | D10: Ծրագիր | E10: Միջոցառում | G10: Տարի | H10: Տարի | I10: Տարի | J10: Տարի
F11: ԸՆԴԱՄԵՆԸ | G11: =+G13+G33 -> 0 | H11: =+H13+H33 -> 0 | I11: =+I13+I33 -> 0 | J11: =+J13+J33 -> 0
F12: այդ թվում
F13: ՀՀ ԿԱՌԱՎԱՐՈՒԹՅՈՒՆ | G13: =+G14 -> -134230.1 | H13: =+H14 -> -134230.1 | I13: =+I14 -> -134230.1 | J13: =+J14 -> -134230.1
A14: 11 | F14: ՀԻՄՆԱԿԱՆ ԲԱԺԻՆՆԵՐԻՆ ՉԴԱՍՎՈՂ ՊԱՀՈՒՍՏԱՅԻՆ ՖՈՆԴԵՐ | G14: =+G16 -> -134230.1 | H14: =+H16 -> -134230.1 | I14: =+I16 -> -134230.1 | J14: =+J16 -> -134230.1
F15: այդ թվում`
B16: 01 | F16: ՀՀ կառավարության և համայնքների պահուստային ֆոնդ | G16: =+G18 -> -134230.1 | H16: =+H18 -> -134230.1 | I16: =+I18 -> -134230.1 | J16: =+J18 -> -134230.1
F17: այդ թվում`
C18: 01 | F18: ՀՀ կառավարության պահուստային ֆոնդ | G18: =+G20 -> -134230.1 | H18: =+H20 -> -134230.1 | I18: =+I20 -> -134230.1 | J18: =+J20 -> -134230.1
F19: այդ թվում`
F20: ՀՀ կառավարություն | G20: =+G22 -> -134230.1 | H20: =+H22 -> -134230.1 | I20: =+I22 -> -134230.1 | J20: =+J22 -> -134230.1
F21: այդ թվում`
D22: 1139 | E22: ՀՀ կառավարության պահուստային ֆոնդ | F22: ՀՀ կառավարության պահուստային ֆոնդ | G22: =+G24 -> -134230.1 | H22: =+H24 -> -134230.1 | I22: =+I24 -> -134230.1 | J22: =+J24 -> -134230.1
F23: այդ թվում`
E24: 11001 | F24: ՀՀ կառավարության պահուստային ֆոնդ | G24: =+G26 -> -134230.1 | H24: =+H26 -> -134230.1 | I24: =+I26 -> -134230.1 | J24: =+J26 -> -134230.1
F25: այդ թվում` ըստ կատարողների
F26: ՀՀ կառավարություն | G26: =+G28 -> -134230.1 | H26: =+H28 -> -134230.1 | I26: =+I28 -> -134230.1 | J26: =+J28 -> -134230.1
F27: այդ թվում՝ բյուջետային ծախսերի տնտեսագիտական դասակարգման հոդվածներ
F28: ԸՆԴԱՄԵՆԸ ԾԱԽՍԵՐ | G28: =+G29 -> -134230.1 | H28: =+H29 -> -134230.1 | I28: =+I29 -> -134230.1 | J28: =+J29 -> -134230.1
F29: ԸՆԹԱՑԻԿ ԾԱԽՍԵՐ | G29: =+G30 -> -134230.1 | H29: =+H30 -> -134230.1 | I29: =+I30 -> -134230.1 | J29: =+J30 -> -134230.1
F30: ԱՅԼ ԾԱԽՍԵՐ | G30: =+G31 -> -134230.1 | H30: =+H31 -> -134230.1 | I30: =+I31 -> -134230.1 | J30: =+J31 -> -134230.1
F31: - Պահուստային միջոցներ | G31: =+'Հավելված N 3'!G185 -> -134230.1 | H31: =+'Հավելված N 3'!H185 -> -134230.1 | I31: =+'Հավելված N 3'!I185 -> -134230.1 | J31: =+'Հավելված N 3'!J185 -> -134230.1
F33: ՀՀ ԿՐԹՈՒԹՅԱՆ, ԳԻՏՈՒԹՅԱՆ, ՄՇԱԿՈՒՅԹԻ ԵՎ ՍՊՈՐՏԻ ՆԱԽԱՐԱՐՈՒԹՅՈՒՆ | G33: =+G34 -> 134230.1 | H33: =+H34 -> 134230.1 | I33: =+I34 -> 134230.1 | J33: =+J34 -> 134230.1
A34: 08 | F34: ՀԱՆԳԻՍՏ, ՄՇԱԿՈՒՅԹ ԵՎ ԿՐՈՆ | G34: =+G36 -> 134230.1 | H34: =+H36 -> 134230.1 | I34: =+I36 -> 134230.1 | J34: =+J36 -> 134230.1
F35: այդ թվում`
B36: 01 | F36: Հանգստի և սպորտի ծառայություններ | G36: =+G38 -> 134230.1 | H36: =+H38 -> 134230.1 | I36: =+I38 -> 134230.1 | J36: =+J38 -> 134230.1
F37: այդ թվում`
C38: 01 | F38: Հանգստի և սպորտի ծառայություններ | G38: =+G40 -> 134230.1 | H38: =+H40 -> 134230.1 | I38: =+I40 -> 134230.1 | J38: =+J40 -> 134230.1
F39: այդ թվում`
F40: ՀՀ կրթության, գիտության, մշակույթի և սպորտի նախարարություն | G40: =+G42 -> 134230.1 | H40: =+H42 -> 134230.1 | I40: =+I42 -> 134230.1 | J40: =+J42 -> 134230.1
F41: այդ թվում`
D42: 1163 | E42: Մասսայական սպորտ | G42: =+G44 -> 134230.1 | H42: =+H44 -> 134230.1 | I42: =+I44 -> 134230.1 | J42: =+J44 -> 134230.1
F43: այդ թվում`
E44: 32005 | F44: «Վորքաութ» տեսակի մարզահրապարակների կառուցում | G44: =+G46 -> 134230.1 | H44: =+H46 -> 134230.1 | I44: =+I46 -> 134230.1 | J44: =+J46 -> 134230.1
F45: այդ թվում` ըստ կատարողների
F46: ՀՀ կրթության, գիտության, մշակույթի և սպորտի նախարարություն | G46: =+G48 -> 134230.1 | H46: =+H48 -> 134230.1 | I46: =+I48 -> 134230.1 | J46: =+J48 -> 134230.1
F47: այդ թվում՝ բյուջետային ծախսերի տնտեսագիտական դասակարգման հոդվածներ
F48: ԸՆԴԱՄԵՆԸ ԾԱԽՍԵՐ | G48: =+G49 -> 134230.1 | H48: =+H49 -> 134230.1 | I48: =+I49 -> 134230.1 | J48: =+J49 -> 134230.1
F49: ՈՉ ՖԻՆԱՆՍԱԿԱՆ ԱԿՏԻՎՆԵՐԻ ԳԾՈՎ ԾԱԽՍԵՐ | G49: =+G50 -> 134230.1 | H49: =+H50 -> 134230.1 | I49: =+I50 -> 134230.1 | J49: =+J50 -> 134230.1
F50: ՀԻՄՆԱԿԱՆ ՄԻՋՈՑՆԵՐ | G50: =+G51 -> 134230.1 | H50: =+H51 -> 134230.1 | I50: =+I51 -> 134230.1 | J50: =+J51 -> 134230.1
F51: ՇԵՆՔԵՐ ԵՎ ՇԻՆՈՒԹՅՈՒՆՆԵՐ | G51: =+G52 -> 134230.1 | H51: =+H52 -> 134230.1 | I51: =+I52 -> 134230.1 | J51: =+J52 -> 134230.1
F52: - Շենքերի և շինությունների շինարարություն | G52: =+'Հավելված N 3'!G34 -> 134230.1 | H52: =+'Հավելված N 3'!H34 -> 134230.1 | I52: =+'Հավելված N 3'!I34 -> 134230.1 | J52: =+'Հավելված N 3'!J34 -> 134230.1
