Workbook
Name a: #REF!
Name a: #REF!
Name a: #REF!
Name a: #REF!
Name a: #REF!
Name a: #REF!
Name AgencyCode: #REF!
Name AgencyCode: #REF!
Name AgencyCode: #REF!
Name AgencyCode: #REF!
Name AgencyCode: #REF!
Name AgencyCode: #REF!
Name AgencyCode: #REF!
Name AgencyCode: #REF!
Name AgencyCode: #REF!
Name AgencyName: #REF!
Name AgencyName: #REF!
Name AgencyName: #REF!
Name AgencyName: #REF!
Name AgencyName: #REF!
Name AgencyName: #REF!
Name åû: #REF!
Name åû: #REF!
Name davit: #REF!
Name davit: #REF!
Name davit: #REF!
Name davit: #REF!
Name davit: #REF!
Name Functional1: #REF!
Name Functional1: #REF!
Name Functional1: #REF!
Name Functional1: #REF!
Name Functional1: #REF!
Name Functional1: #REF!
Name ggg: #REF!
Name ggg: #REF!
Name ggg: #REF!
Name ggg: #REF!
Name ggg: #REF!
Name mas: #REF!
Name mas: #REF!
Name mass: #REF!
Name mass: #REF!
Name PANature: #REF!
Name PANature: #REF!
Name PANature: #REF!
Name PANature: #REF!
Name PANature: #REF!
Name PANature: #REF!
Name PAType: #REF!
Name PAType: #REF!
Name PAType: #REF!
Name PAType: #REF!
Name PAType: #REF!
Name PAType: #REF!
Name Performance2: #REF!
Name Performance2: #REF!
Name Performance2: #REF!
Name Performance2: #REF!
Name Performance2: #REF!

Sheet Հավելված N 1 
E1: Հավելված N 1
E2: ՀՀ կառավարության 2025 թվականի
E3: ______________ ի ___Ն որոշման
A5: «ՀԱՅԱՍՏԱՆԻ ՀԱՆՐԱՊԵՏՈՒԹՅԱՆ 2025 ԹՎԱԿԱՆԻ ՊԵՏԱԿԱՆ ԲՅՈՒՋԵԻ ՄԱՍԻՆ» ՕՐԵՆՔԻ 3-ՐԴ ՀՈԴՎԱԾԻ, N 3 ՀԱՎԵԼՎԱԾԻ N 1 ԱՂՅՈՒՍԱԿՈՒՄ ԵՎ ՀԱՅԱՍՏԱՆԻ ՀԱՆՐԱՊԵՏՈՒԹՅԱՆ ԿԱՌԱՎԱՐՈՒԹՅԱՆ 2024 ԹՎԱԿԱՆԻ ԴԵԿՏԵՄԲԵՐԻ 27-Ի N 2060-Ն ՈՐՈՇՄԱՆ N 1 ՀԱՎԵԼՎԱԾԻ N 1 ԱՂՅՈՒՍԱԿՈՒՄ ԿԱՏԱՐՎՈՂ ՓՈՓՈԽՈՒԹՅՈՒՆԸ
E7: հազ. դրամ
A8: Պետական բյուջեի դեֆիցիտի ֆինանսավորման աղբյուրներն ու դրանց տարրերի անվանումները | B8: Ցուցանիշների փոփոխությունը (ավելացումները նշված են դրական նշանով)
B9: Առաջին եռամսյակ | C9: Առաջին կիսամյակ | D9: Ինն ամիս | E9: Տարի
A10: ԸՆԴԱՄԵՆԸ | B10: =+B12 -> 397083.3 | C10: =+C12 -> 4153217.8 | D10: =+D12 -> 1948553.2 | E10: =+E12 -> 0
A11: այդ թվում՝
A12: Ա.Ներքին աղբյուրներ-ընդամենը | B12: =+B14 -> 397083.3 | C12: =+C14 -> 4153217.8 | D12: =+D14 -> 1948553.2 | E12: =+E14 -> 0
A13: այդ թվում՝
A14: 2. Ֆինանսական զուտ ակտիվներ | B14: =+B16 -> 397083.3 | C14: =+C16 -> 4153217.8 | D14: =+D16 -> 1948553.2 | E14: =+E16 -> 0
A15: այդ թվում՝
A16: 2.6.Այլ | B16: =+B18 -> 397083.3 | C16: =+C18 -> 4153217.8 | D16: =+D18 -> 1948553.2 | E16: =+E18 -> 0
A17: որից՝
A18: Ժամանակավորապես ազատ միջոցներ | B18: =+'Հավելված N 2'!G13 -> 397083.3 | C18: =+'Հավելված N 2'!H13 -> 4153217.8 | D18: =+'Հավելված N 2'!I13 -> 1948553.2 | E18: =+'Հավելված N 2'!J13 -> 0

Sheet Հավելված N 2
F1: Հավելված N 2
F2: ՀՀ կառավարության 2025 թվականի
F3: ______________ ի ___Ն որոշման
A6: «ՀԱՅԱUՏԱՆԻ ՀԱՆՐԱՊԵՏՈՒԹՅԱՆ 2025 ԹՎԱԿԱՆԻ ՊԵՏԱԿԱՆ ԲՅՈՒՋԵԻ ՄԱUԻՆ» ՀԱՅԱUՏԱՆԻ ՀԱՆՐԱՊԵՏՈՒԹՅԱՆ OՐԵՆՔԻ N 1 ՀԱՎԵԼՎԱԾԻ N 2 ԱՂՅՈՒՍԱԿՈՒՄ ԿԱՏԱՐՎՈՂ ՎԵՐԱԲԱՇԽՈՒՄԸ ԵՎ ՀԱՅԱՍՏԱՆԻ ՀԱՆՐԱՊԵՏՈՒԹՅԱՆ ԿԱՌԱՎԱՐՈՒԹՅԱՆ 2024 ԹՎԱԿԱՆԻ ԴԵԿՏԵՄԲԵՐԻ 27-Ի N 2060-Ն ՈՐՈՇՄԱՆ N 5 ՀԱՎԵԼՎԱԾԻ N 1 ԱՂՅՈՒՍԱԿՈՒՄ ԿԱՏԱՐՎՈՂ ՓՈՓՈԽՈՒԹՅՈՒՆՆԵՐԸ ԵՎ ԼՐԱՑՈՒՄՆԵՐԸ
J9: հազ. դրամներով
A10: ԲԳԿ | B10: Ծրագրային դասիչը | D10: ԲԳԿ/Ծրագրի /միջոցառման անվանումը | E10: Ծրագրի նպատակը/Միջոցառման նկարագրությունը | F10: Վերջնական արդյունքի նկարագրությունը/Միջոցառման տեսակը | G10: Ցուցանիշների փոփոխությունը (ավելացումները նշված են դրական նշանով, իսկ նվազեցումները փակագծերում)
G11: Առաջին եռամսյակ | H11: Առաջին կիսամյակ | I11: Ինն ամիս | J11: Տարի
B12: Ծրագիր | C12: Միջոցառում
A13: ԸՆԴԱՄԵՆԸ | G13: =+G15+G29 -> 397083.3 | H13: =+H15+H29 -> 4153217.8 | I13: =+I15+I29 -> 1948553.2 | J13: =+J15+J29 -> 0
A14: այդ թվում՝
A15: ՀՀ ԿՐԹՈՒԹՅԱՆ, ԳԻՏՈՒԹՅԱՆ, ՄՇԱԿՈՒՅԹԻ ԵՎ ՍՊՈՐՏԻ ՆԱԽԱՐԱՐՈՒԹՅՈՒՆ | G15: =+G16+G19+G21 -> 397083.3 | H15: =+H16+H19+H21 -> 4153217.8 | I15: =+I16+I19+I21 -> 1948553.2 | J15: =+J16+J19+J21 -> 0
B16: 1163 | D16: Մասսայական սպորտ | E16: Բնակչության շրջանում առողջ ապրելակերպի արմատավորում, անհատի բազմակողմանի ու ներդաշնակ զարգացման գործում ֆիզիկական կուլտուրայի և սպորտի դերի բարձրացում | F16: Սպորտի նկատմամբ հետաքրքրվածության և մասնակցության ընդլայնում | G16: =+G17+G18 -> 134230.1 | H16: =+H17+H18 -> 324237.3 | I16: =+I17+I18 -> 387573 | J16: =+J17+J18 -> 450908.9
C17: 1163 - 32001 | D17: Մարզական օբյեկտների շինարարություն | E17: Մարզական օբյեկտների շենքերի (մասնաշենքերի) կառուցում (համաշինարարական աշխատանքներ, ջեռուցման համակարգի իրականացում, ներքին հարդարում, տարածքի բարեկարգում) և նախագծում | F17: Այլ պետական կազմակերպությունների կողմից օգտագործվող ոչ ֆինանսական ակտիվների հետ գործառնություններ | G17: =+'Հավելված N 3'!G138 -> 0 | H17: =+'Հավելված N 3'!H138 -> 190007.2 | I17: =+'Հավելված N 3'!I138 -> 253342.9 | J17: =+'Հավելված N 3'!J138 -> 316678.8
C18: 1163 - 32005 | D18: «Վորքաութ» տեսակի մարզահրապարակների կառուցում | E18: Առողջ ապրելակերպի զարգացման նպատակով բնակելի շենքերի, դպրոցների բակերում և այլ հասարակական վայրերում «Վորքաութ» տեսակի մարզահրապարակների կառուցում, նախագծում | F18: Ծառայությունների մատուցում | G18: =+'Հավելված N 3'!G26 -> 134230.1 | H18: =+'Հավելված N 3'!H26 -> 134230.1 | I18: =+'Հավելված N 3'!I26 -> 134230.1 | J18: =+'Հավելված N 3'!J26 -> 134230.1
B19: 1189 | D19: Դպրոցների սեյսմիկ անվտանգության մակարդակի բարձրացման ծրագիր | E19: Նպաստել երկրի սեյսմակայունության ապահովմանը, անհատական և հասարակական անվտանգության մակարդակի բարձրացմանը | F19: Դպրոցական շենքերի սեյսմակայունության մակարդակի բարձրացում | G19: =+G20 -> 10000 | H19: =+H20 -> 10000 | I19: =+I20 -> 10000 | J19: =+J20 -> 10000
C20: 1189 - 11001 | D20: Ասիական զարգացման բանկի աջակցությամբ իրականացվող դպրոցների սեյսմիկ պաշտպանության ծրագրի կառավարում | E20: Դպրոցների սեյսմիկ պաշտպանության ծրագիր` ՀՀ դպրոցների սեյսմիկ անվտանգության բարելավման նպատակով | F20: Ծառայությունների մատուցում | G20: =+'Հավելված N 3'!G149 -> 10000 | H20: =+'Հավելված N 3'!H149 -> 10000 | I20: =+'Հավելված N 3'!I149 -> 10000 | J20: =+'Հավելված N 3'!J149 -> 10000
B21: 1236 | D21: Հանրակրթական և նախադպրոցական հաստատությունների հիմնում, կառուցում, բարելավում | E21: Առնվազն 300 դպրոցի և 500 մանկապարտեզի կառուցման, վերակառուցման, հիմնանորոգման ծրագրերի իրականացում ՀՀ պետական բյուջեի միջոցների շրջանակներում | F21: Կրթական միջավայրի բարելավում | G21: =+G22+G23+G24+G25+G26+G27 -> 252853.2 | H21: =+H22+H23+H24+H25+H26+H27 -> 3818980.5 | I21: =+I22+I23+I24+I25+I26+I27 -> 1550980.2 | J21: =+J22+J23+J24+J25+J26+J27 -> -460908.9
C22: 1236 - 11001 | D22: Հանրակրթական և նախադպրոցական հաստատությունների կառուցման, վերակառուցման, հիմնանորոգման ծրագրերի համակարգման և մոնիտորինգի ծառայություններ | E22: Հանրակրթական և նախադպրոցական հաստատություններիկառուցման, վերակառուցման, հիմնանորոգման ծրագրերիհամակարգման և մոնիտորինգի ծառայությունների ապահովում | F22: Ծառայությունների մատուցում | G22: =+'Հավելված N 3'!G87 -> 30000 | H22: =+'Հավելված N 3'!H87 -> 70000 | I22: =+'Հավելված N 3'!I87 -> 80000 | J22: =+'Հավելված N 3'!J87 -> 80000
C23: 1236 - 32001 | D23: Մանկապարտեզների նոր շենքերի կառուցում | E23: Նախադպրոցական կրթության հասանելիության ապահովման նպատակով՛ մանկապարտեզների հիմնում, նոր շենքերի (մասնաշենքերի), ներառյալ՛ ,Մոդուլայինե տիպի շենքերի կառուցում և նախագծում | F23: Այլ պետական կազմակերպությունների կողմից օգտագործվող ոչ ֆինանսական ակտիվների հետ գործառնություններ | G23: =+'Հավելված N 3'!G45 -> 329868.2 | H23: =+'Հավելված N 3'!H45 -> 828614.3 | I23: =+'Հավելված N 3'!I45 -> 34756.8 | J23: =+'Հավելված N 3'!J45 -> -444822
C24: 1236 - 32002 | D24: Մանկապարտեզների շենքերի վերակառուցում, հիմնանորոգում | E24: Նախադպրոցական կրթության հասանելիության ապահովման նպատակով՛ մանկապարտեզների շենքերի (մասնաշենքերի), վերակառուցում, հիմնանորոգում և նախագծում | F24: Այլ պետական կազմակերպությունների կողմից օգտագործվող ոչ ֆինանսական ակտիվների հետ գործառնություններ | G24: =+'Հավելված N 3'!G63 -> 122351.8 | H24: =+'Հավելված N 3'!H63 -> 122351.8 | I24: =+'Հավելված N 3'!I63 -> 122351.8 | J24: =+'Հավելված N 3'!J63 -> -15815.8
C25: 1236 - 32003 | D25: Հանրակրթական դպրոցների նոր շենքերի կառուցում | E25: ՀՀ մարզերում կրթական որակյալ ծառայությունների հասանելիության ապահովման ծրագրի շրջանակներում հանրակրթական և նախադպրոցական կրթության հասանելիության ապահովման նպատակով կրթական կենտրոնների կառուցում | F25: Այլ պետական կազմակերպությունների կողմից օգտագործվող ոչ ֆինանսական ակտիվների հետ գործառնություններ | G25: =+'Հավելված N 3'!G96 -> 1741068.6 | H25: =+'Հավելված N 3'!H96 -> 1938885.7 | I25: =+'Հավելված N 3'!I96 -> 969442.7 | J25: =+'Հավելված N 3'!J96 -> 0
C26: 1236 - 32004 | D26: Հանրակրթական դպրոցների շենքերի վերակառուցում, հիմնանորոգում | E26: Դպրոցական պարտադիր կրթության հասանելիության ապահովման նպատակով՛ հանրակրթական դպրոցների շենքերի (մասնաշենքերի), վերակառուցում, հիմնանորոգում և նախագծում | F26: Այլ պետական կազմակերպությունների կողմից օգտագործվող ոչ ֆինանսական ակտիվների հետ գործառնություններ | G26: =+'Հավելված N 3'!G105 -> 381989.5 | H26: =+'Հավելված N 3'!H105 -> 709780.9 | I26: =+'Հավելված N 3'!I105 -> 536979.8 | J26: =+'Հավելված N 3'!J105 -> 454178.7
C27: 1236 - 32005 | D27: Կրթահամալիրների կառուցում | E27: ՀՀ մարզերում կրթական որակյալ ծառայությունների հասանելիության ապահովման ծրագրի շրջանակներում հանրակրթական և նախադպրոցական կրթության հասանելիության ապահովման նպատակով կրթական կենտրոնների կառուցում | F27: Այլ պետական կազմակերպությունների կողմից օգտագործվող ոչ ֆինանսական ակտիվների հետ գործառնություններ | G27: =+'Հավելված N 3'!G121 -> -2352424.9 | H27: =+'Հավելված N 3'!H121 -> 149347.8 | I27: =+'Հավելված N 3'!I121 -> -192550.9 | J27: =+'Հավելված N 3'!J121 -> -534449.8
A29: ՀՀ ԿԱՌԱՎԱՐՈՒԹՅՈՒՆ | G29: =+G30+G33+G35 -> 0 | H29: =+H30+H33+H35 -> 0 | I29: =+I30+I33+I35 -> 0 | J29: =+J30+J33+J35 -> 0
B30: 1139 | D30: ՀՀ կառավարության պահուստային ֆոնդ | E30: Պետական բյուջեում չկանխատեսված, ինչպես նաեւ բյուջետային երաշխիքների ապահովման ծախսերի ֆինանսավորման ապահովում | F30: Պահուստային ֆոնդի կառավարման արդյունավետության և թափանցիկության ապահովում | G30: =+G31+G32 -> 0 | H30: =+H31+H32 -> 0 | I30: =+I31+I32 -> 0 | J30: =+J31+J32 -> 0
C31: 1139 - 11001 | D31: ՀՀ կառավարության պահուստային ֆոնդ | E31: ՀՀ պետական բյուջեում նախատեսված ելքերի լրացուցիչ ֆինանսավորման, պետական բյուջեում չկանխատեսված ելքերի, ինչպես նաև բյուջետային երաշխիքների ապահովման ելքերի ֆինանսավորման ապահովում | F31: Ծառայությունների մատուցում | G31: =+'Հավելված N 3'!G170 -> 134230.1 | H31: =+'Հավելված N 3'!H170 -> 134230.1 | I31: =+'Հավելված N 3'!I170 -> 134230.1 | J31: =+'Հավելված N 3'!J170 -> 134230.1
C32: 1139 - 11001 | D32: ՀՀ կառավարության պահուստային ֆոնդ | E32: ՀՀ պետական բյուջեում նախատեսված ելքերի լրացուցիչ ֆինանսավորման, պետական բյուջեում չկանխատեսված ելքերի, ինչպես նաև բյուջետային երաշխիքների ապահովման ելքերի ֆինանսավորման ապահովում | F32: Ծառայությունների մատուցում | G32: =+'Հավելված N 3'!G178 -> -134230.1 | H32: =+'Հավելված N 3'!H178 -> -134230.1 | I32: =+'Հավելված N 3'!I178 -> -134230.1 | J32: =+'Հավելված N 3'!J178 -> -134230.1

Sheet Հավելված N 3
F1: Հավելված N 3
F2: ՀՀ կառավարության 2025 թվականի
F3: ______________ ի ___Ն որոշման
A7: ՀԱՅԱՍՏԱՆԻ ՀԱՆՐԱՊԵՏՈՒԹՅԱՆ ԿԱՌԱՎԱՐՈՒԹՅԱՆ 2024 ԹՎԱԿԱՆԻ ԴԵԿՏԵՄԲԵՐԻ 27-Ի N 2060-Ն ՈՐՈՇՄԱՆ N 3 ԵՎ N 4 ՀԱՎԵԼՎԱԾՆԵՐՈՒՄ ԿԱՏԱՐՎՈՂ ՓՈՓՈԽՈՒԹՅՈՒՆՆԵՐԸ ԵՎ ԼՐԱՑՈՒՄՆԵՐԸ
J10: հազ. դրամներով
A11: Գործառական դասիչը | D11: Ծրագրային դասիչը | F11: Բյուջետային հատկացումների գլխավոր կարգադրիչների, ծրագրերի, միջոցառումների և միջոցառումները կատարող պետական մարմինների անվանումները | G11: Ցուցանիշների փոփոխությունը (ավելացումները նշված են դրական նշանով, իսկ նվազեցումները՝ փակագծերում)
A12: Բաժին | B12: Խումբ | C12: Դաս | D12: Ծրագիր | E12: Միջոցառում | G12: Առաջին եռամսյակ | H12: Առաջին կիսամյակ | I12: Ինն ամիս | J12: Տարի
F13: ԸՆԴԱՄԵՆԸ | G13: =+G15+G159 -> 397083.3 | H13: =+H15+H159 -> 4153217.8 | I13: =+I15+I159 -> 1948553.2 | J13: =+J15+J159 -> 0
F14: այդ թվում՝
F15: ՀՀ ԿՐԹՈՒԹՅԱՆ, ԳԻՏՈՒԹՅԱՆ, ՄՇԱԿՈՒՅԹԻ ԵՎ ՍՊՈՐՏԻ ՆԱԽԱՐԱՐՈՒԹՅՈՒՆ | G15: =+G16+G35 -> 397083.3 | H15: =+H16+H35 -> 4153217.8 | I15: =+I16+I35 -> 1948553.2 | J15: =+J16+J35 -> 0
A16: 08 | F16: ՀԱՆԳԻՍՏ, ՄՇԱԿՈՒՅԹ ԵՎ ԿՐՈՆ | G16: =+G18 -> 134230.1 | H16: =+H18 -> 134230.1 | I16: =+I18 -> 134230.1 | J16: =+J18 -> 134230.1
F17: այդ թվում`
B18: 01 | F18: Հանգստի և սպորտի ծառայություններ | G18: =+G20 -> 134230.1 | H18: =+H20 -> 134230.1 | I18: =+I20 -> 134230.1 | J18: =+J20 -> 134230.1
F19: այդ թվում`
C20: 01 | F20: Հանգստի և սպորտի ծառայություններ | G20: =+G22 -> 134230.1 | H20: =+H22 -> 134230.1 | I20: =+I22 -> 134230.1 | J20: =+J22 -> 134230.1
F21: այդ թվում`
F22: ՀՀ կրթության, գիտության, մշակույթի և սպորտի նախարարություն | G22: =+G24 -> 134230.1 | H22: =+H24 -> 134230.1 | I22: =+I24 -> 134230.1 | J22: =+J24 -> 134230.1
F23: այդ թվում`
D24: 1163 | E24: Մասսայական սպորտ | G24: =+G26 -> 134230.1 | H24: =+H26 -> 134230.1 | I24: =+I26 -> 134230.1 | J24: =+J26 -> 134230.1
F25: այդ թվում`
E26: 32005 | F26: «Վորքաութ» տեսակի մարզահրապարակների կառուցում | G26: =+G28 -> 134230.1 | H26: =+H28 -> 134230.1 | I26: =+I28 -> 134230.1 | J26: =+J28 -> 134230.1
F27: այդ թվում` ըստ կատարողների
F28: ՀՀ կրթության, գիտության, մշակույթի և սպորտի նախարարություն | G28: =+G30 -> 134230.1 | H28: =+H30 -> 134230.1 | I28: =+I30 -> 134230.1 | J28: =+J30 -> 134230.1
F29: այդ թվում՝ բյուջետային ծախսերի տնտեսագիտական դասակարգման հոդվածներ
F30: ԸՆԴԱՄԵՆԸ ԾԱԽՍԵՐ | G30: =+G31 -> 134230.1 | H30: =+H31 -> 134230.1 | I30: =+I31 -> 134230.1 | J30: =+J31 -> 134230.1
F31: ՈՉ ՖԻՆԱՆՍԱԿԱՆ ԱԿՏԻՎՆԵՐԻ ԳԾՈՎ ԾԱԽՍԵՐ | G31: =+G32 -> 134230.1 | H31: =+H32 -> 134230.1 | I31: =+I32 -> 134230.1 | J31: =+J32 -> 134230.1
F32: ՀԻՄՆԱԿԱՆ ՄԻՋՈՑՆԵՐ | G32: =+G33 -> 134230.1 | H32: =+H33 -> 134230.1 | I32: =+I33 -> 134230.1 | J32: =+J33 -> 134230.1
F33: ՇԵՆՔԵՐ ԵՎ ՇԻՆՈՒԹՅՈՒՆՆԵՐ | G33: =+G34 -> 134230.1 | H33: =+H34 -> 134230.1 | I33: =+I34 -> 134230.1 | J33: =+J34 -> 134230.1
F34: - Շենքերի և շինությունների շինարարություն | G34: =+'Հավելված N 5'!E21 -> 134230.1 | H34: =+'Հավելված N 5'!F21 -> 134230.1 | I34: =+'Հավելված N 5'!G21 -> 134230.1 | J34: =+'Հավելված N 5'!H21 -> 134230.1
A35: 09 | F35: ԿՐԹՈՒԹՅՈՒՆ | G35: =+G37+G79+G130 -> 262853.2 | H35: =+H37+H79+H130 -> 4018987.7 | I35: =+I37+I79+I130 -> 1814323.1 | J35: =+J37+J79+J130 -> -134230.1
F36: այդ թվում`
B37: 01 | F37: Նախադպրոցական և տարրական ընդհանուր կրթություն | G37: =+G39 -> 452220 | H37: =+H39 -> 950966.1 | I37: =+I39 -> 157108.6 | J37: =+J39 -> -460637.8
F38: այդ թվում`
C39: 01 | F39: Նախադպրոցական կրթություն | G39: =+G41 -> 452220 | H39: =+H41 -> 950966.1 | I39: =+I41 -> 157108.6 | J39: =+J41 -> -460637.8
F40: այդ թվում`
F41: ՀՀ կրթության, գիտության, մշակույթի և սպորտի նախարարություն | G41: =+G43 -> 452220 | H41: =+H43 -> 950966.1 | I41: =+I43 -> 157108.6 | J41: =+J43 -> -460637.8
F42: այդ թվում`
D43: 1236 | E43: Հանրակրթական և նախադպրոցական հաստատությունների հիմնում, կառուցում, բարելավում | G43: =+G45+G63 -> 452220 | H43: =+H45+H63 -> 950966.1 | I43: =+I45+I63 -> 157108.6 | J43: =+J45+J63 -> -460637.8
F44: այդ թվում`
E45: 32001 | F45: Մանկապարտեզների նոր շենքերի կառուցում | G45: =+G47+G56 -> 329868.2 | H45: =+H47+H56 -> 828614.3 | I45: =+I47+I56 -> 34756.8 | J45: =+J47+J56 -> -444822
...

Sheet Հավելված N 4
F1: Հավելված N 4
F2: ՀՀ կառավարության 2025 թվականի
F3: ______________ ի ___Ն որոշման
A5: «ՀԱՅԱUՏԱՆԻ ՀԱՆՐԱՊԵՏՈՒԹՅԱՆ 2025 ԹՎԱԿԱՆԻ ՊԵՏԱԿԱՆ ԲՅՈՒՋԵԻ ՄԱUԻՆ» ՀԱՅԱUՏԱՆԻ ՀԱՆՐԱՊԵՏՈՒԹՅԱՆ OՐԵՆՔԻ N 1 ՀԱՎԵԼՎԱԾԻ N 3 ԱՂՅՈՒՍԱԿՈՒՄ ԿԱՏԱՐՎՈՂ ՓՈՓՈԽՈՒԹՅՈՒՆՆԵՐԸ ԵՎ ԼՐԱՑՈՒՄՆԵՐԸ
G8: հազ. դրամներով
A9: Ծրագրային դասիչ | C9: Բյուջետային գլխավոր կարգադրիչների, ծրագրերի, միջոցառումների, միջոցառումները կատարող պետական մարմինների և ուղղությունների անվանումները | D9: Ընդամենը | E9: Ցուցանիշների փոփոխությունը (ավելացումները նշված են դրական նշանով, իսկ նվազեցումները՝ փակագծերում)
A10: Ծրագիր | B10: Միջոցառում | E10: Կառուցման աշխատանքներ | F10: Վերակառուցման, վերանորոգման և վերականգնման աշխատանքներ | G10: Նախագծահե- տազոտական, գեոդեզիա- քարտեզագրա- կան աշխա- տանքներ | H10: Ոչ ֆինանսական այլ ակտիվների ձեռքբերում
C11: ԸՆԴԱՄԵՆԸ | D11: =SUM(E11:H11) -> -90000 | E11: =+E13 -> -539112.9 | F11: =+F13 -> 438362.9 | G11: =+G13 -> 10750 | H11: =+H13 -> 0
C12: այդ թվում՝
C13: ՀՀ ԿՐԹՈՒԹՅԱՆ, ԳԻՏՈՒԹՅԱՆ, ՄՇԱԿՈՒՅԹԻ ԵՎ ՍՊՈՐՏԻ ՆԱԽԱՐԱՐՈՒԹՅՈՒՆ | D13: =SUM(E13:H13) -> -90000 | E13: =+E15+E19+E29+E48+E53+E80 -> -539112.9 | F13: =+F15+F19+F29+F48+F53+F80 -> 438362.9 | G13: =+G15+G19+G29+G48+G53+G80 -> 10750 | H13: =+H15+H19+H29+H48+H53+H80 -> 0
C14: այդ թվում`
A15: 1163 | B15: 32001 | C15: Մարզական օբյեկտների շինարարություն | D15: =SUM(E15:H15) -> 316678.8 | E15: =+E17 -> 316678.8 | F15: =+F17 -> 0 | G15: =+G17 -> 0 | H15: =+H17 -> 0
C16: այդ թվում`
C17: ՀՀ Արմավիրի մարզ | D17: =SUM(E17:H17) -> 316678.8 | E17: =+E18 -> 316678.8 | F17: =+F18 -> 0 | G17: =+G18 -> 0 | H17: =+H18 -> 0
C18: Արմավիր համայնքի Մյասնիկյան բնակավայրի մարզադպրոց | D18: =+E18+F18+G18+H18 -> 316678.8 | E18: =+'Հավելված N 9'!I93+'Հավելված N 9'!I95+'Հավելված N 9'!I96 -> 316678.8
A19: 1163 | B19: 32005 | C19: «Վորքաութ» տեսակի մարզահրապարակների կառուցում | D19: =SUM(E19:H19) -> 134230.1 | E19: =+E21+E23+E25+E27 -> 134230.1 | F19: =+F21+F23+F25+F27 -> 0 | G19: =+G21+G23+G25+G27 -> 0 | H19: =+H21+H23+H25+H27 -> 0
C20: այդ թվում`
C21: ՀՀ Գեղարքունիքի մարզ | D21: =SUM(E21:H21) -> 23439.1 | E21: =+E22 -> 23439.1 | F21: =+F22 -> 0 | G21: =+G22 -> 0 | H21: =+H22 -> 0
C22: Ճամբարակ քաղաքի Տիգրան Մեծի փ. 18/5, Նադարյան փ. 3/4 շենքերի բակերում գտնվող տարածքներում «Վորքաութ» տեսակի մարզահրապարակներ | D22: =SUM(E22:H22) -> 23439.1 | E22: =+'Հավելված N 9'!I17+'Հավելված N 9'!I22+'Հավելված N 9'!I26 -> 23439.1
C23: ՀՀ Սյունիքի մարզ | D23: =SUM(E23:H23) -> 48055.4 | E23: =+E24 -> 48055.4 | F23: =+F24 -> 0 | G23: =+G24 -> 0 | H23: =+H24 -> 0
C24: Կապան քաղաքի Մանուկյան փ. 1-ին նրբ. թիվ 2 և 3 շենքերի, Թումանյան փ. թիվ 18, Շահումյան փ. թիվ 15 և 19 շենքերի բակերում գտնվող տարածքներում «Վորքաութ» տեսակի մարզահրապարակներ | D24: =SUM(E24:H24) -> 48055.4 | E24: =+'Հավելված N 9'!I18+'Հավելված N 9'!I23+'Հավելված N 9'!I27 -> 48055.4
C25: ՀՀ Վայոց Ձորի մարզ | D25: =SUM(E25:H25) -> 30725.3 | E25: =+E26 -> 30725.3 | F25: =+F26 -> 0 | G25: =+G26 -> 0 | H25: =+H26 -> 0
C26: Ջերմուկ քաղաքի Ս. Շահումյանի փ. թիվ 1 շենքի, Ջերմուկի կրթահամալիրի բակերում գտնվող տարածքներում «Վորքաութ» տեսակի մարզահրապարակներ | D26: =SUM(E26:H26) -> 30725.3 | E26: =+'Հավելված N 9'!I19+'Հավելված N 9'!I24+'Հավելված N 9'!I28 -> 30725.3
C27: ՀՀ Տավուշի մարզ | D27: =SUM(E27:H27) -> 32010.3 | E27: =+E28 -> 32010.3 | F27: =+F28 -> 0 | G27: =+G28 -> 0 | H27: =+H28 -> 0
C28: Բերդ քաղաքի Սայաթ-Նովա 1 շենքերի, թիվ 4 դպրոցի և թիվ 3 դպրոցի բակերում գտնվող տարածքներում «Վորքաութ» տեսակի մարզահրապարակներ | D28: =SUM(E28:H28) -> 32010.3 | E28: =+'Հավելված N 9'!I20+'Հավելված N 9'!I25+'Հավելված N 9'!I29 -> 32010.3
A29: 1236 | B29: 32001 | C29: Մանկապարտեզների նոր շենքերի կառուցում | D29: =SUM(E29:H29) -> -444822 | E29: =+E31+E32+E34+E38+E40+E42+E46 -> -455572 | F29: =+F31+F32+F34+F38+F40+F42+F46 -> 0 | G29: =+G31+G32+G34+G38+G40+G42+G46 -> 10750 | H29: =+H31+H32+H34+H38+H40+H42+H46 -> 0
C30: այդ թվում`
C31: Մանկապարտեզների նոր շենքերի կառուցում | D31: =SUM(E31:H31) -> -2800000 | E31: -2800000 | F31: =+F32 -> 0 | G31: =+G32 -> 0 | H31: =+H32 -> 0
C32: ՀՀ Արագածոտնի մարզ | D32: =SUM(E32:H32) -> 310068.8 | E32: =+E33 -> 310068.8 | F32: =+F33 -> 0 | G32: =+G33 -> 0 | H32: =+H33 -> 0
C33: Ծաղկահովիտ համայնքի Գեղադիր բնակավայրի մանկապարտեզ | D33: =+E33+F33+G33+H33 -> 310068.8 | E33: =+'Հավելված N 9'!I33+'Հավելված N 9'!I44 -> 310068.8
C34: ՀՀ Արմավիրի մարզ | D34: =SUM(E34:H34) -> 522879.8 | E34: =SUM(E35:E37) -> 522879.8 | F34: =SUM(F35:F37) -> 0 | G34: =SUM(G35:G37) -> 0 | H34: =SUM(H35:H37) -> 0
C35: Արաքս համայնքի Ակնաշեն բնակավայրի մանկապարտեզ | D35: =+E35+F35+G35+H35 -> 80248.7 | E35: =+'Հավելված N 9'!I34+'Հավելված N 9'!I53 -> 80248.7
C36: Խոյ համայնքի Ծաղկունք բնակավայրի մանկապարտեզ | D36: =+E36+F36+G36+H36 -> 132562.3 | E36: =+'Հավելված N 9'!I35+'Հավելված N 9'!I45+'Հավելված N 9'!I54 -> 132562.3
C37: Խոյ համայնքի Հովտամեջ բնակավայրի մանկապարտեզ | D37: =+E37+F37+G37+H37 -> 310068.8 | E37: =+'Հավելված N 9'!I36+'Հավելված N 9'!I46 -> 310068.8
C38: ՀՀ Գեղարքունիքի մարզ | D38: =SUM(E38:H38) -> 310068.8 | E38: =+E39 -> 310068.8 | F38: =+F39 -> 0 | G38: =+G39 -> 0 | H38: =+H39 -> 0
C39: Վարդենիս համայնքի Խաչաղբյուր բնակավայրի մանկապարտեզ | D39: =+E39+F39+G39+H39 -> 310068.8 | E39: =+'Հավելված N 9'!I37+'Հավելված N 9'!I47 -> 310068.8
C40: ՀՀ Կոտայքի մարզ | D40: =SUM(E40:H40) -> 310068.8 | E40: =+E41 -> 310068.8 | F40: =+F41 -> 0 | G40: =+G41 -> 0 | H40: =+H41 -> 0
C41: Ակունք համայնքի Զառ բնակավայրի մանկապարտեզ | D41: =+E41+F41+G41+H41 -> 310068.8 | E41: =+'Հավելված N 9'!I38+'Հավելված N 9'!I48 -> 310068.8
C42: ՀՀ Շիրակի մարզ | D42: =SUM(E42:H42) -> 632887.3 | E42: =SUM(E43:E45) -> 622137.3 | F42: =SUM(F43:F45) -> 0 | G42: =SUM(G43:G45) -> 10750 | H42: =SUM(H43:H45) -> 0
C43: Անի համայնքի Քարաբերդ բնակավայրի մանկապարտեզ | D43: =+E43+F43+G43+H43 -> 138171.5 | E43: =+'Հավելված N 9'!I39+'Հավելված N 9'!I49+'Հավելված N 9'!I55 -> 138171.5
...

Sheet Հավելված N 5
G1: Հավելված N 5
E2: ՀՀ կառավարության 2025 թվականի
G3: ______________ ի ___Ն որոշման
B6: ՀԱՅԱՍՏԱՆԻ ՀԱՆՐԱՊԵՏՈՒԹՅԱՆ ԿԱՌԱՎԱՐՈՒԹՅԱՆ 2024 ԹՎԱԿԱՆԻ ԴԵԿՏԵՄԲԵՐԻ 27-Ի N 2060-Ն ՈՐՈՇՄԱՆ N 5 ՀԱՎԵԼՎԱԾԻ N 2 ԱՂՅՈՒՍԱԿՈՒՄ ԿԱՏԱՐՎՈՂ ՓՈՓՈԽՈՒԹՅՈՒՆՆԵՐԸ ԵՎ ԼՐԱՑՈՒՄՆԵՐԸ
H8: հազ. դրամներով
B9: Ծրագրային դասիչ | D9: Բյուջետային գլխավոր կարգադրիչների, ծրագրերի, միջոցառումների, միջոցառումները կատարող պետական մարմինների և ուղղությունների անվանումները | E9: Ցուցանիշների փոփոխությունը (ավելացումները նշված են դրական նշանով, իսկ նվազեցումները՝ փակագծերում)
B10: Ծրագիր | C10: Միջոցառում | E10: Առաջին եռամսյակ | F10: Առաջին կիսամյակ | G10: Ինն ամիս | H10: Տարի
D11: ՀՀ ԿՐԹՈՒԹՅԱՆ, ԳԻՏՈՒԹՅԱՆ, ՄՇԱԿՈՒՅԹԻ ԵՎ ՍՊՈՐՏԻ ՆԱԽԱՐԱՐՈՒԹՅՈՒՆ | E11: =+E13+E19+E31+E52+E59+E90+E119 -> 357083.3 | F11: =+F13+F19+F31+F52+F59+F90+F119 -> 4073217.8 | G11: =+G13+G19+G31+G52+G59+G90+G119 -> 1858553.2 | H11: =+H13+H19+H31+H52+H59+H90+H119 -> -90000
D12: այդ թվում՝
B13: 1163 | C13: 32001 | D13: Մարզական օբյեկտների շինարարություն | E13: =+E15 -> 0 | F13: =+F15 -> 190007.2 | G13: =+G15 -> 253342.9 | H13: =+H15 -> 316678.8
D14: այդ թվում` ըստ կատարողների
D15: ՀՀ կրթության, գիտության, մշակույթի և սպորտի նախարարություն | E15: =+E17 -> 0 | F15: =+F17 -> 190007.2 | G15: =+G17 -> 253342.9 | H15: =+H17 -> 316678.8
D16: այդ թվում՝ ըստ ուղղությունների
D17: ՀՀ Արմավիրի մարզ | E17: =+E18 -> 0 | F17: =+F18 -> 190007.2 | G17: =+G18 -> 253342.9 | H17: =+H18 -> 316678.8
D18: =+'Հավելված N 4'!C18 -> Արմավիր համայնքի Մյասնիկյան բնակավայրի մարզադպրոց | E18: 0 | F18: =188558.9+337+1111.3 -> 190007.2 | G18: =251411.8+449.3+1481.8 -> 253342.9 | H18: =+'Հավելված N 4'!D18 -> 316678.8
B19: 1163 | C19: 32005 | D19: «Վորքաութ» տեսակի մարզահրապարակների կառուցում | E19: =+E21 -> 134230.1 | F19: =+F21 -> 134230.1 | G19: =+G21 -> 134230.1 | H19: =+H21 -> 134230.1
D20: այդ թվում` ըստ կատարողների
D21: ՀՀ կրթության, գիտության, մշակույթի և սպորտի նախարարություն | E21: =+E23+E25+E27+E29 -> 134230.1 | F21: =+F23+F25+F27+F29 -> 134230.1 | G21: =+G23+G25+G27+G29 -> 134230.1 | H21: =+H23+H25+H27+H29 -> 134230.1
D22: այդ թվում`ըստ ուղղությունների
D23: ՀՀ Գեղարքունիքի մարզ | E23: =+E24 -> 23439.1 | F23: =+F24 -> 23439.1 | G23: =+G24 -> 23439.1 | H23: =+H24 -> 23439.1
D24: =+'Հավելված N 4'!C22 -> Ճամբարակ քաղաքի Տիգրան Մեծի փ. 18/5, Նադարյան փ. 3/4 շենքերի բակերում գտնվող տարածքներում «Վորքաութ» տեսակի մարզահրապարակներ | E24: =+H24 -> 23439.1 | F24: =+H24 -> 23439.1 | G24: =+H24 -> 23439.1 | H24: =+'Հավելված N 4'!D22 -> 23439.1
D25: ՀՀ Սյունիքի մարզ | E25: =+E26 -> 48055.4 | F25: =+F26 -> 48055.4 | G25: =+G26 -> 48055.4 | H25: =+H26 -> 48055.4
D26: =+'Հավելված N 4'!C24 -> Կապան քաղաքի Մանուկյան փ. 1-ին նրբ. թիվ 2 և 3 շենքերի, Թումանյան փ. թիվ 18, Շահումյան փ. թիվ 15 և 19 շենքերի բակերում գտնվող տարածքներում «Վորքաութ» տեսակի մարզահրապարակներ | E26: =+H26 -> 48055.4 | F26: =+H26 -> 48055.4 | G26: =+H26 -> 48055.4 | H26: =+'Հավելված N 4'!D24 -> 48055.4
D27: ՀՀ Վայոց Ձորի մարզ | E27: =+E28 -> 30725.3 | F27: =+F28 -> 30725.3 | G27: =+G28 -> 30725.3 | H27: =+H28 -> 30725.3
D28: =+'Հավելված N 4'!C26 -> Ջերմուկ քաղաքի Ս. Շահումյանի փ. թիվ 1 շենքի, Ջերմուկի կրթահամալիրի բակերում գտնվող տարածքներում «Վորքաութ» տեսակի մարզահրապարակներ | E28: =+H28 -> 30725.3 | F28: =+H28 -> 30725.3 | G28: =+H28 -> 30725.3 | H28: =+'Հավելված N 4'!D26 -> 30725.3
D29: ՀՀ Տավուշի մարզ | E29: =+E30 -> 32010.3 | F29: =+F30 -> 32010.3 | G29: =+G30 -> 32010.3 | H29: =+H30 -> 32010.3
D30: =+'Հավելված N 4'!C28 -> Բերդ քաղաքի Սայաթ-Նովա 1 շենքերի, թիվ 4 դպրոցի և թիվ 3 դպրոցի բակերում գտնվող տարածքներում «Վորքաութ» տեսակի մարզահրապարակներ | E30: =+H30 -> 32010.3 | F30: =+H30 -> 32010.3 | G30: =+H30 -> 32010.3 | H30: =+'Հավելված N 4'!D28 -> 32010.3
B31: 1236 | C31: 32001 | D31: Մանկապարտեզների նոր շենքերի կառուցում | E31: =+E33+E51 -> 329868.2 | F31: =+F33+F51 -> 828614.3 | G31: =+G33+G51 -> 34756.8 | H31: =+H33+H51 -> -444822
D32: այդ թվում` ըստ կատարողների
D33: ՀՀ կրթության, գիտության, մշակույթի և սպորտի նախարարություն | E33: =+E35+E37+E41+E43+E45+E49 -> 329868.2 | F33: =+F35+F37+F41+F43+F45+F49 -> 1668614.3 | G33: =+G35+G37+G41+G43+G45+G49 -> 1994756.8 | H33: =+H35+H37+H41+H43+H45+H49 -> 2355178
D34: այդ թվում՝ ըստ ուղղությունների
D35: ՀՀ Արագածոտնի մարզ | E35: =+E36 -> 0 | F35: =+F36 -> 186386.1 | G35: =+G36 -> 248227.4 | H35: =+H36 -> 310068.8
D36: =+'Հավելված N 4'!C33 -> Ծաղկահովիտ համայնքի Գեղադիր բնակավայրի մանկապարտեզ | E36: 0 | F36: =185524.1+862 -> 186386.1 | G36: =247365.4+862 -> 248227.4 | H36: =+'Հավելված N 4'!D33 -> 310068.8
D37: ՀՀ Արմավիրի մարզ | E37: =SUM(E38:E40) -> 213469.8 | F37: =SUM(F38:F40) -> 439975 | G37: =SUM(G38:G40) -> 465851.9 | H37: =SUM(H38:H40) -> 522879.8
D38: =+'Հավելված N 4'!C35 -> Արաքս համայնքի Ակնաշեն բնակավայրի մանկապարտեզ | E38: =+H38 -> 80248.7 | F38: =+H38 -> 80248.7 | G38: =+H38 -> 80248.7 | H38: =+'Հավելված N 4'!D35 -> 80248.7
D39: =+'Հավելված N 4'!C36 -> Խոյ համայնքի Ծաղկունք բնակավայրի մանկապարտեզ | E39: =132048+262.8+910.3 -> 133221.1 | F39: =172296-225.6+1269.8 -> 173340.2 | G39: =137928-1694.4+1142.2 -> 137375.8 | H39: =+'Հավելված N 4'!D36 -> 132562.3
D40: =+'Հավելված N 4'!C37 -> Խոյ համայնքի Հովտամեջ բնակավայրի մանկապարտեզ | E40: 0 | F40: =185524.1+862 -> 186386.1 | G40: =247365.4+862 -> 248227.4 | H40: =+'Հավելված N 4'!D37 -> 310068.8
D41: ՀՀ Գեղարքունիքի մարզ | E41: =+E42 -> 0 | F41: =+F42 -> 186386.1 | G41: =+G42 -> 248227.4 | H41: =+H42 -> 310068.8
D42: =+'Հավելված N 4'!C39 -> Վարդենիս համայնքի Խաչաղբյուր բնակավայրի մանկապարտեզ | E42: 0 | F42: =185524.1+862 -> 186386.1 | G42: =247365.4+862 -> 248227.4 | H42: =+'Հավելված N 4'!D39 -> 310068.8
D43: ՀՀ Կոտայքի մարզ | E43: =+E44 -> 0 | F43: =+F44 -> 186386.1 | G43: =+G44 -> 248227.4 | H43: =+H44 -> 310068.8
...

Sheet Հավելված N 6
N1: Հավելված N 6
L2: ՀՀ կառավարության 2025 թվականի
N3: ______________ ի ___Ն որոշման
A6: «ՀԱՅԱՍՏԱՆԻ ՀԱՆՐԱՊԵՏՈՒԹՅԱՆ 2025 ԹՎԱԿԱՆԻ ՊԵՏԱԿԱՆ ԲՅՈՒՋԵԻ ՄԱՍԻՆ» ՕՐԵՆՔԻ N 1 ՀԱՎԵԼՎԱԾԻ N 4 ԱՂՅՈՒՍԱԿՈՒՄ ԵՎ ՀԱՅԱՍՏԱՆԻ ՀԱՆՐԱՊԵՏՈՒԹՅԱՆ ԿԱՌԱՎԱՐՈՒԹՅԱՆ 2024 ԹՎԱԿԱՆԻ ԴԵԿՏԵՄԲԵՐԻ 27-Ի N 2060-Ն ՈՐՈՇՄԱՆ N 5 ՀԱՎԵԼՎԱԾԻ N 3 ԱՂՅՈՒՍԱԿՈՒՄ ԿԱՏԱՐՎՈՂ ԼՐԱՑՈՒՄԸ
O8: հազ. դրամներով
A9: Ծրագրային դասիչը | C9: Բյուջետային հատկացումների գլխավոր կարգադրիչների, ծրագրերի, միջոցառումների և միջոցառումները կատարող պետական մարմինների անվանումները | D9: Ցուցանիշների փոփոխությունը (ավելացումները նշված են դրական նշանով, իսկ նվազեցումները՝ փակագծերում)
D10: Առաջին եռամսյակ | G10: Կիսամյակ | J10: Ինն ամիս | M10: Տարի
D11: Ընդամենը | E11: այդ թվում` | G11: Ընդամենը | H11: այդ թվում` | J11: Ընդամենը | K11: այդ թվում` | M11: Ընդամենը | N11: այդ թվում`
A12: Ծրագիր | B12: Միջոցառում | E12: Վարկային միջոցներ | F12: Համաֆինան սավորում | H12: Վարկային միջոցներ | I12: Համաֆինան սավորում | K12: Վարկային միջոցներ | L12: Համաֆինան սավորում | N12: Վարկային միջոցներ | O12: Համաֆինան սավորում
C13: ԸՆԴԱՄԵՆԸ | D13: =+E13+F13 -> 10000 | E13: =+E15 -> 0 | F13: =+F15 -> 10000 | G13: =+H13+I13 -> 10000 | H13: =+H15 -> 0 | I13: =+I15 -> 10000 | J13: =+K13+L13 -> 10000 | K13: =+K15 -> 0 | L13: =+L15 -> 10000 | M13: =+N13+O13 -> 10000 | N13: =+N15 -> 0 | O13: =+O15 -> 10000
C14: այդ թվում`
C15: ՈՉ ՖԻՆԱՆՍԱԿԱՆ ԱԿՏԻՎՆԵՐԻ ԳԾՈՎ ԾԱԽՍԵՐ | D15: =+E15+F15 -> 10000 | E15: =+E16 -> 0 | F15: =+F16 -> 10000 | G15: =+H15+I15 -> 10000 | H15: =+H16 -> 0 | I15: =+I16 -> 10000 | J15: =+K15+L15 -> 10000 | K15: =+K16 -> 0 | L15: =+L16 -> 10000 | M15: =+N15+O15 -> 10000 | N15: =+N16 -> 0 | O15: =+O16 -> 10000
C16: ՀՀ կրթության, գիտության, մշակույթի և սպորտի նախարարություն | D16: =+E16+F16 -> 10000 | E16: =+E18 -> 0 | F16: =+F18 -> 10000 | G16: =+H16+I16 -> 10000 | H16: =+H18 -> 0 | I16: =+I18 -> 10000 | J16: =+K16+L16 -> 10000 | K16: =+K18 -> 0 | L16: =+L18 -> 10000 | M16: =+N16+O16 -> 10000 | N16: =+N18 -> 0 | O16: =+O18 -> 10000
C17: այդ թվում`
A18: 1189 | C18: Դպրոցների սեյսմիկ անվտանգության մակարդակի բարձրացման ծրագիր | D18: =+E18+F18 -> 10000 | E18: =+E20 -> 0 | F18: =+F20 -> 10000 | G18: =+H18+I18 -> 10000 | H18: =+H20 -> 0 | I18: =+I20 -> 10000 | J18: =+K18+L18 -> 10000 | K18: =+K20 -> 0 | L18: =+L20 -> 10000 | M18: =+N18+O18 -> 10000 | N18: =+N20 -> 0 | O18: =+O20 -> 10000
C19: այդ թվում`
B20: 11001 | C20: Ասիական զարգացման բանկի աջակցությամբ իրականացվող դպրոցների սեյսմիկ պաշտպանության ծրագրի կառավարում | D20: =+E20+F20 -> 10000 | E20: =+E22 -> 0 | F20: =+F22 -> 10000 | G20: =+H20+I20 -> 10000 | H20: =+H22 -> 0 | I20: =+I22 -> 10000 | J20: =+K20+L20 -> 10000 | K20: =+K22 -> 0 | L20: =+L22 -> 10000 | M20: =+N20+O20 -> 10000 | N20: =+N22 -> 0 | O20: =+O22 -> 10000
C21: այդ թվում` ըստ կատարողների
C22: ՀՀ տարածքային կառավարման և ենթակառուցվածքների նախարարություն | D22: =+E22+F22 -> 10000 | E22: =+E24 -> 0 | F22: =+F24 -> 10000 | G22: =+H22+I22 -> 10000 | H22: =+H24 -> 0 | I22: =+I24 -> 10000 | J22: =+K22+L22 -> 10000 | K22: =+K24 -> 0 | L22: =+L24 -> 10000 | M22: =+N22+O22 -> 10000 | N22: =+N24 -> 0 | O22: =+O24 -> 10000
C23: այդ թվում` բյուջետային ծախսերի տնտեսագիտական դասակարգման հոդվածներ
C24: ԸՆԴԱՄԵՆԸ ԾԱԽՍԵՐ | D24: =+E24+F24 -> 10000 | E24: =+E25 -> 0 | F24: =+F25 -> 10000 | G24: =+H24+I24 -> 10000 | H24: =+H25 -> 0 | I24: =+I25 -> 10000 | J24: =+K24+L24 -> 10000 | K24: =+K25 -> 0 | L24: =+L25 -> 10000 | M24: =+N24+O24 -> 10000 | N24: =+N25 -> 0 | O24: =+O25 -> 10000
C25: ԸՆԹԱՑԻԿ ԾԱԽՍԵՐ | D25: =+E25+F25 -> 10000 | E25: =+E26 -> 0 | F25: =+F26 -> 10000 | G25: =+H25+I25 -> 10000 | H25: =+H26 -> 0 | I25: =+I26 -> 10000 | J25: =+K25+L25 -> 10000 | K25: =+K26 -> 0 | L25: =+L26 -> 10000 | M25: =+N25+O25 -> 10000 | N25: =+N26 -> 0 | O25: =+O26 -> 10000
C26: ԱՅԼ ԾԱԽՍԵՐ | D26: =+E26+F26 -> 10000 | E26: =+E27 -> 0 | F26: =+F27 -> 10000 | G26: =+H26+I26 -> 10000 | H26: =+H27 -> 0 | I26: =+I27 -> 10000 | J26: =+K26+L26 -> 10000 | K26: =+K27 -> 0 | L26: =+L27 -> 10000 | M26: =+N26+O26 -> 10000 | N26: =+N27 -> 0 | O26: =+O27 -> 10000
C27: ՀԱՐԿԵՐ, ՊԱՐՏԱԴԻՐ ՎՃԱՐՆԵՐ ԵՎ ՏՈՒՅԺԵՐ, ՈՐՈՆՔ ԿԱՌԱՎԱՐՄԱՆ ՏԱՐԲԵՐ ՄԱԿԱՐԴԱԿՆԵՐԻ ԿՈՂՄԻՑ ԿԻՐԱՌՎՈՒՄ ԵՆ ՄԻՄՅԱՆՑ ՆԿԱՏՄԱՄԲ | D27: =+E27+F27 -> 10000 | E27: =+E28 -> 0 | F27: =+F28 -> 10000 | G27: =+H27+I27 -> 10000 | H27: =+H28 -> 0 | I27: =+I28 -> 10000 | J27: =+K27+L27 -> 10000 | K27: =+K28 -> 0 | L27: =+L28 -> 10000 | M27: =+N27+O27 -> 10000 | N27: =+N28 -> 0 | O27: =+O28 -> 10000
C28: - Այլ հարկեր | D28: =+E28+F28 -> 10000 | E28: 0 | F28: 10000 | G28: =+H28+I28 -> 10000 | I28: 10000 | J28: =+K28+L28 -> 10000 | L28: 10000 | M28: =+N28+O28 -> 10000 | O28: 10000

Sheet Հավելված N 7
K1: Հավելված N 7
K2: ՀՀ կառավարության 2025 թվականի
K3: ______________ ի ___Ն որոշման
A6: ՀԱՅԱՍՏԱՆԻ ՀԱՆՐԱՊԵՏՈՒԹՅԱՆ ԿԱՌԱՎԱՐՈՒԹՅԱՆ 2024 ԹՎԱԿԱՆԻ ԴԵԿՏԵՄԲԵՐԻ 27-Ի N 2060-Ն ՈՐՈՇՄԱՆ N 9 ՀԱՎԵԼՎԱԾՈՒՄ ԿԱՏԱՐՎՈՂ ՓՈՓՈԽՈՒԹՅՈՒՆՆԵՐԸ ԵՎ ԼՐԱՑՈՒՄՆԵՐԸ
A9: ԲԳԿ | B9: Ծրագիր | D9: Միջոցառում | H9: Իրականացնողը/ ակտիվն օգտագործողը/ շահառուի ընտրության չափորոշիչը | I9: Արդյունքային չափորոշիչը | J9: Ցուցանիշների փոփոխությունը (ավելացումները նշված են դրական նշանով, իսկ նվազեցումները՝ փակագծերում)
B10: Դասիչը | C10: Անվանումը | D10: Դասիչը | E10: Անվանումը | F10: Նկարագրությունը | G10: Տեսակը | J10: Առաջին եռամսյակ | K10: Առաջին կիսամյակ | L10: Ինն ամիս | M10: Տարի
A11: ԸՆԴԱՄԵՆԸ | J11: =+J13+J72 -> 397083.3 | K11: =+K13+K72 -> 4153217.8 | L11: =+L13+L72 -> 1948553.2 | M11: =+M13+M72 -> 0
A12: այդ թվում՝
A13: ՀՀ ԿՐԹՈՒԹՅԱՆ, ԳԻՏՈՒԹՅԱՆ, ՄՇԱԿՈԻՅԹԻ ԵՎ ՍՊՈՐՏԻ ՆԱԽԱՐԱՐՈՒԹՅՈՒՆ | J13: =+J14+J29+J35 -> 397083.3 | K13: =+K14+K29+K35 -> 4153217.8 | L13: =+L14+L29+L35 -> 1948553.2 | M13: =+M14+M29+M35 -> 0
B14: 1163 | C14: Մասսայական սպորտ | J14: =+J15+J20 -> 134230.1 | K14: =+K15+K20 -> 324237.3 | L14: =+L15+L20 -> 387573 | M14: =+M15+M20 -> 450908.9
D15: 1163 - 32001 | E15: Մարզական օբյեկտների շինարարություն | J15: =+'Հավելված N 2'!G17 -> 0 | K15: =+'Հավելված N 2'!H17 -> 190007.2 | L15: =+'Հավելված N 2'!I17 -> 253342.9 | M15: =+'Հավելված N 2'!J17 -> 316678.8
F16: Մարզական օբյեկտների շենքերի (մասնաշենքերի) կառուցում (համաշինարարական աշխատանքներ, ջեռուցման համակարգի իրականացում, ներքին հարդարում, տարածքի բարեկարգում) և նախագծում
G17: Այլ պետական կազմակերպությունների կողմից օգտագործվող ոչ ֆինանսական ակտիվների հետ գործառնություններ
H18: Ակտիվն օգտագործող կազմակերպության անվանումը` Մարզական հաստատություններ
I19: Կառուցման ենթակա օբյյեկտների թիվ, հատ | K19: 1 | M19: 1
D20: 1163 - 32005 | E20: «Վորքաութ» տեսակի մարզահրապարակների կառուցում | J20: =+'Հավելված N 2'!G18 -> 134230.1 | K20: =+'Հավելված N 2'!H18 -> 134230.1 | L20: =+'Հավելված N 2'!I18 -> 134230.1 | M20: =+'Հավելված N 2'!J18 -> 134230.1
F21: Առողջ ապրելակերպի զարգացման նպատակով բնակելի շենքերի, դպրոցների բակերում և այլ հասարակական վայրերում «Վորքաութ» տեսակի մարզահրապարակների կառուցում, նախագծում
G22: Ծառայությունների մատուցում
H23: Միջոցառումն իրականացնողի անվանումը` «Գնումների մասին» ՀՀ օրենքի համաձայն ընտրված կազմակերպություն
I24: ՀՀ Գեղարքունիքի մարզում կառուցվող «Վորքաութ» տեսակի մարզահրապարակների քանակ, հատ | K24: 2 | M24: 2
I25: ՀՀ Սյունիքի մարզում կառուցվող «Վորքաութ» տեսակի մարզահրապարակների քանակ, հատ | K25: 3 | M25: 3
I26: ՀՀ Վայոց Ձորի մարզում կառուցվող «Վորքաութ» տեսակի մարզահրապարակների քանակ, հատ | K26: 2 | M26: 2
I27: ՀՀ Տավուշի մարզում կառուցվող «Վորքաութ» տեսակի մարզահրապարակների քանակ, հատ | K27: 3 | M27: 3
B29: 1189 | C29: Դպրոցների սեյսմիկ անվտանգության մակարդակի բարձրացման ծրագիր | J29: =+J30 -> 10000 | K29: =+K30 -> 10000 | L29: =+L30 -> 10000 | M29: =+M30 -> 10000
D30: 1189 - 11001 | E30: Ասիական զարգացման բանկի աջակցությամբ իրականացվող դպրոցների սեյսմիկ պաշտպանության ծրագրի կառավարում | J30: =+'Հավելված N 2'!G20 -> 10000 | K30: =+'Հավելված N 2'!H20 -> 10000 | L30: =+'Հավելված N 2'!I20 -> 10000 | M30: =+'Հավելված N 2'!J20 -> 10000
F31: Դպրոցների սեյսմիկ պաշտպանության ծրագիր` ՀՀ դպրոցների սեյսմիկ անվտանգության բարելավման նպատակով
G32: Ծառայությունների մատուցում
H33: Միջոցառումն իրականացնողի անվանումը՝ Մասնագիտացված միավոր
B35: 1236 | C35: Հանրակրթական և նախադպրոցական հաստատությունների հիմնում, կառուցում, բարելավում | J35: =+J36+J40+J47+J53+J57+J65 -> 252853.2 | K35: =+K36+K40+K47+K53+K57+K65 -> 3818980.5 | L35: =+L36+L40+L47+L53+L57+L65 -> 1550980.2 | M35: =+M36+M40+M47+M53+M57+M65 -> -460908.9
D36: 1236 - 11001 | E36: Հանրակրթական և նախադպրոցական հաստատությունների կառուցման, վերակառուցման, հիմնանորոգման ծրագրերի համակարգման և մոնիտորինգի ծառայություններ | J36: =+'Հավելված N 2'!G22 -> 30000 | K36: =+'Հավելված N 2'!H22 -> 70000 | L36: =+'Հավելված N 2'!I22 -> 80000 | M36: =+'Հավելված N 2'!J22 -> 80000
F37: Հանրակրթական և նախադպրոցական հաստատություններիկառուցման, վերակառուցման, հիմնանորոգման ծրագրերիհամակարգման և մոնիտորինգի ծառայությունների ապահովում
G38: Ծառայությունների մատուցում
H39: Միջոցառումն իրականացնողի անվանումը՝ Մասնագիտացված միավոր
D40: 1236 - 32001 | E40: Մանկապարտեզների նոր շենքերի կառուցում | J40: =+'Հավելված N 2'!G23 -> 329868.2 | K40: =+'Հավելված N 2'!H23 -> 828614.3 | L40: =+'Հավելված N 2'!I23 -> 34756.8 | M40: =+'Հավելված N 2'!J23 -> -444822
F41: Նախադպրոցական կրթության հասանելիության ապահովման նպատակով՛ մանկապարտեզների հիմնում, նոր շենքերի (մասնաշենքերի), ներառյալ՛ «Մոդուլային» տիպի շենքերի կառուցում և նախագծում
G42: Այլ պետական կազմակերպությունների կողմից օգտագործվող ոչ ֆինանսական ակտիվների հետ գործառնություններ
H43: Ակտիվն օգտագործող կազմակերպության անվանումը` Նախադպրոցական կրթություն իրականացնող ուսումնական հաստատություններ
I44: Կառուցվող մանկապարտեզների քանակ, հատ | K44: 7 | M44: 7
I45: Հաստատությունների քանակ, որոնց շինարարական աշխատանքների ավարտվածության աստիճանը 100 տոկոս է | K45: 1 | M45: 9
I46: Նախագծանահաշվային փաստաթղթերի քանակ, հատ | K46: 1 | M46: 1
...

Sheet Հավելված N 8
K1: Հավելված N 8
K2: ՀՀ կառավարության 2025 թվականի
K3: ______________ ի ___Ն որոշման
A6: ՀԱՅԱՍՏԱՆԻ ՀԱՆՐԱՊԵՏՈՒԹՅԱՆ ԿԱՌԱՎԱՐՈՒԹՅԱՆ 2024 ԹՎԱԿԱՆԻ ԴԵԿՏԵՄԲԵՐԻ 27-Ի N 2060-Ն ՈՐՈՇՄԱՆ N 9.1 ՀԱՎԵԼՎԱԾՈՒՄ ԿԱՏԱՐՎՈՂ ՓՈՓՈԽՈՒԹՅՈՒՆՆԵՐԸ ԵՎ ԼՐԱՑՈՒՄՆԵՐԸ
A9: ԲՍԿ | B9: Ծրագիր | D9: Միջոցառում | H9: Իրականացնողը/ ակտիվն օգտագործողը/ շահառուի ընտրության չափորոշիչը | I9: Արդյունքային չափորոշիչը | J9: Ցուցանիշների փոփոխությունը (ավելացումները նշված են դրական նշանով, իսկ նվազեցումները՝ փակագծերում)
B10: Դասիչը | C10: Անվանումը | D10: Դասիչը | E10: Անվանումը | F10: Նկարագրությունը | G10: Տեսակը | J10: Առաջին եռամսյակ | K10: Առաջին կիսամյակ | L10: Ինն ամիս | M10: Տարի
A11: ԸՆԴԱՄԵՆԸ | J11: =+J13+J66+J73 -> 397083.3 | K11: =+K13+K66+K73 -> 4153217.8 | L11: =+L13+L66+L73 -> 1948553.2 | M11: =+M13+M66+M73 -> 0
A12: այդ թվում՝
A13: ՀՀ ԿՐԹՈՒԹՅԱՆ, ԳԻՏՈՒԹՅԱՆ, ՄՇԱԿՈԻՅԹԻ ԵՎ ՍՊՈՐՏԻ ՆԱԽԱՐԱՐՈՒԹՅՈՒՆ | J13: =+J14+J29 -> 387083.3 | K13: =+K14+K29 -> 5253217.8 | L13: =+L14+L29 -> 4528553.2 | M13: =+M14+M29 -> 3828167.6
B14: 1163 | C14: Մասսայական սպորտ | J14: =+J15+J20 -> 134230.1 | K14: =+K15+K20 -> 324237.3 | L14: =+L15+L20 -> 387573 | M14: =+M15+M20 -> 450908.9
D15: 1163 - 32001 | E15: Մարզական օբյեկտների շինարարություն | J15: =+'Հավելված N 3'!G140 -> 0 | K15: =+'Հավելված N 3'!H140 -> 190007.2 | L15: =+'Հավելված N 3'!I140 -> 253342.9 | M15: =+'Հավելված N 3'!J140 -> 316678.8
F16: Մարզական օբյեկտների շենքերի (մասնաշենքերի) կառուցում (համաշինարարական աշխատանքներ, ջեռուցման համակարգի իրականացում, ներքին հարդարում, տարածքի բարեկարգում) և նախագծում
G17: Այլ պետական կազմակերպությունների կողմից օգտագործվող ոչ ֆինանսական ակտիվների հետ գործառնություններ
H18: Ակտիվն օգտագործող կազմակերպության անվանումը` Մարզական հաստատություններ
I19: Կառուցման ենթակա օբյյեկտների թիվ, հատ | K19: 1 | M19: 1
D20: 1163 - 32005 | E20: «Վորքաութ» տեսակի մարզահրապարակների կառուցում | J20: =+'Հավելված N 3'!G28 -> 134230.1 | K20: =+'Հավելված N 3'!H28 -> 134230.1 | L20: =+'Հավելված N 3'!I28 -> 134230.1 | M20: =+'Հավելված N 3'!J28 -> 134230.1
F21: Առողջ ապրելակերպի զարգացման նպատակով բնակելի շենքերի, դպրոցների բակերում և այլ հասարակական վայրերում «Վորքաութ» տեսակի մարզահրապարակների կառուցում, նախագծում
G22: Ծառայությունների մատուցում
H23: Միջոցառումն իրականացնողի անվանումը` «Գնումների մասին» ՀՀ օրենքի համաձայն ընտրված կազմակերպություն
I24: ՀՀ Գեղարքունիքի մարզում կառուցվող «Վորքաութ» տեսակի մարզահրապարակների քանակ, հատ | K24: 2 | M24: 2
I25: ՀՀ Սյունիքի մարզում կառուցվող «Վորքաութ» տեսակի մարզահրապարակների քանակ, հատ | K25: 3 | M25: 3
I26: ՀՀ Վայոց Ձորի մարզում կառուցվող «Վորքաութ» տեսակի մարզահրապարակների քանակ, հատ | K26: 2 | M26: 2
I27: ՀՀ Տավուշի մարզում կառուցվող «Վորքաութ» տեսակի մարզահրապարակների քանակ, հատ | K27: 3 | M27: 3
B29: 1236 | C29: Հանրակրթական և նախադպրոցական հաստատությունների հիմնում, կառուցում, բարելավում | J29: =+J30+J34+J41+J47+J51+J59 -> 252853.2 | K29: =+K30+K34+K41+K47+K51+K59 -> 4928980.5 | L29: =+L30+L34+L41+L47+L51+L59 -> 4140980.2 | M29: =+M30+M34+M41+M47+M51+M59 -> 3377258.7
D30: 1236 - 11001 | E30: Հանրակրթական և նախադպրոցական հաստատությունների կառուցման, վերակառուցման, հիմնանորոգման ծրագրերի համակարգման և մոնիտորինգի ծառայություններ | J30: =+'Հավելված N 3'!G89 -> 30000 | K30: =+'Հավելված N 3'!H89 -> 70000 | L30: =+'Հավելված N 3'!I89 -> 80000 | M30: =+'Հավելված N 3'!J89 -> 80000
F31: Հանրակրթական և նախադպրոցական հաստատություններիկառուցման, վերակառուցման, հիմնանորոգման ծրագրերիհամակարգման և մոնիտորինգի ծառայությունների ապահովում
G32: Ծառայությունների մատուցում
H33: Միջոցառումն իրականացնողի անվանումը՝ Մասնագիտացված միավոր
D34: 1236 - 32001 | E34: Մանկապարտեզների նոր շենքերի կառուցում | J34: =+'Հավելված N 3'!G47 -> 329868.2 | K34: =+'Հավելված N 3'!H47 -> 1668614.3 | L34: =+'Հավելված N 3'!I47 -> 1994756.8 | M34: =+'Հավելված N 3'!J47 -> 2355178
F35: Նախադպրոցական կրթության հասանելիության ապահովման նպատակով՛ մանկապարտեզների հիմնում, նոր շենքերի (մասնաշենքերի), ներառյալ՛ «Մոդուլային» տիպի շենքերի կառուցում և նախագծում
G36: Այլ պետական կազմակերպությունների կողմից օգտագործվող ոչ ֆինանսական ակտիվների հետ գործառնություններ
H37: Ակտիվն օգտագործող կազմակերպության անվանումը` Նախադպրոցական կրթություն իրականացնող ուսումնական հաստատություններ
I38: Կառուցվող մանկապարտեզների քանակ, հատ | K38: 7 | M38: 7
I39: Հաստատությունների քանակ, որոնց շինարարական աշխատանքների ավարտվածության աստիճանը 100 տոկոս է | K39: 1 | M39: 9
I40: Նախագծանահաշվային փաստաթղթերի քանակ, հատ | K40: 1 | M40: 1
D41: 1236 - 32002 | E41: Մանկապարտեզների շենքերի վերակառուցում, հիմնանորոգում | J41: =+'Հավելված N 3'!G65 -> 122351.8 | K41: =+'Հավելված N 3'!H65 -> 122351.8 | L41: =+'Հավելված N 3'!I65 -> 122351.8 | M41: =+'Հավելված N 3'!J65 -> 122351.8
F42: Նախադպրոցական կրթության հասանելիության ապահովման նպատակով՛ մանկապարտեզների շենքերի (մասնաշենքերի), վերակառուցում, հիմնանորոգում և նախագծում
G43: Այլ պետական կազմակերպությունների կողմից օգտագործվող ոչ ֆինանսական ակտիվների հետ գործառնություններ
H44: Ակտիվն օգտագործող կազմակերպության անվանումը` Նախադպրոցական կրթություն իրականացնող ուսումնական հաստատություններ
I45: Վերակառուցվող մանկապարտեզների քանակ, հատ | K45: 1 | M45: 1
...

Sheet Հավելված N 9
H1: Հավելված N 9
H2: ՀՀ կառավարության 2025 թվականի
H3: ______________ ի ___Ն որոշման
A6: ՀԱՅԱՍՏԱՆԻ ՀԱՆՐԱՊԵՏՈՒԹՅԱՆ ԿԱՌԱՎԱՐՈՒԹՅԱՆ 2024 ԹՎԱԿԱՆԻ ԴԵԿՏԵՄԲԵՐԻ 27-Ի N 2060-Ն N 10 ՀԱՎԵԼՎԱԾՈՒՄ ԿԱՏԱՐՎՈՂ ՓՈՓՈԽՈՒԹՅՈՒՆՆԵՐԸ ԵՎ ԼՐԱՑՈՒՄՆԵՐԸ
A10: Կոդը | B10: Անվանումը | E10: Գնման ձևը | F10: Չափման միավորը | G10: Միավորի գինը | H10: Ցուցանիշների փոփոխությունը (ավելացումները նշված են դրական նշանով, իսկ նվազեցումները՝ փակագծերում)
H11: Քանակը | I11: Գումարը (հազար դրամ)
A12: 1 | B12: 2 | E12: 3 | F12: 4 | G12: 5 | H12: 6 | I12: 7
A13: ՀՀ կրթության, գիտության, մշակույթի և սպորտի նախարարություն | I13: =+I14+I30+I63+I90 -> 4343252.6
A14: Բաժին N 08 | B14: Խումբ N 01 | C14: Դաս N 01 | D14: Հանգստի և սպորտի ծառայություններ | I14: =+I15 -> 134230.1
A15: 1163-32005 | B15: «Վորքաութ» տեսակի մարզահրապարակների կառուցում | I15: =+I16+I21 -> 134230.1
B16: ՄԱՍ II. ԱՇԽԱՏԱՆՔՆԵՐ | I16: =SUM(I17:I20) -> 129999.9
A17: 45211137 | B17: մարզական հրապարակների հետ կապված կառույցների կառուցման աշխատանքներ | E17: ԳՀ | F17: դրամ | G17: 22578091 | H17: 1 | I17: =+ROUNDUP(H17*G17/1000,1) -> 22578.1
A18: 45211137 | B18: մարզական հրապարակների հետ կապված կառույցների կառուցման աշխատանքներ | E18: ԳՀ | F18: դրամ | G18: 46751640 | H18: 1 | I18: =+ROUNDUP(H18*G18/1000,1) -> 46751.7
A19: 45211137 | B19: մարզական հրապարակների հետ կապված կառույցների կառուցման աշխատանքներ | E19: ԳՀ | F19: դրամ | G19: 29838840 | H19: 1 | I19: =+ROUNDUP(H19*G19/1000,1) -> 29838.9
A20: 45211137 | B20: մարզական հրապարակների հետ կապված կառույցների կառուցման աշխատանքներ | E20: ԳՀ | F20: դրամ | G20: 30831180 | H20: 1 | I20: =+ROUNDUP(H20*G20/1000,1) -> 30831.2
B21: ՄԱՍ III. ԾԱՌԱՅՈՒԹՅՈՒՆՆԵՐ | I21: =SUM(I22:I29) -> 4230.2
A22: 71351540 | B22: տեխնիկական հսկողության ծառայություններ | E22: ՀԲՄ | F22: դրամ | G22: 650984 | H22: 1 | I22: =+ROUNDUP(H22*G22/1000,1) -> 651
A23: 71351540 | B23: տեխնիկական հսկողության ծառայություններ | E23: ՀԲՄ | F23: դրամ | G23: 973694 | H23: 1 | I23: =+ROUNDUP(H23*G23/1000,1) -> 973.7
A24: 71351540 | B24: տեխնիկական հսկողության ծառայություններ | E24: ՀԲՄ | F24: դրամ | G24: 676306 | H24: 1 | I24: =+ROUNDUP(H24*G24/1000,1) -> 676.4
A25: 71351540 | B25: տեխնիկական հսկողության ծառայություններ | E25: ՀԲՄ | F25: դրամ | G25: 889016 | H25: 1 | I25: =+ROUNDUP(H25*G25/1000,1) -> 889.1
A26: 98111140 | B26: հեղինակային հսկողության ծառայություններ | E26: ՄԱ | F26: դրամ | G26: 210000 | H26: 1 | I26: =+ROUND(H26*G26/1000,1) -> 210
A27: 98111140 | B27: հեղինակային հսկողության ծառայություններ | E27: ՄԱ | F27: դրամ | G27: 330000 | H27: 1 | I27: =+ROUND(H27*G27/1000,1) -> 330
A28: 98111140 | B28: հեղինակային հսկողության ծառայություններ | E28: ՄԱ | F28: դրամ | G28: 210000 | H28: 1 | I28: =+ROUND(H28*G28/1000,1) -> 210
A29: 98111140 | B29: հեղինակային հսկողության ծառայություններ | E29: ՄԱ | F29: դրամ | G29: 290000 | H29: 1 | I29: =+ROUND(H29*G29/1000,1) -> 290
A30: Բաժին N 09 | B30: Խումբ N 01 | C30: Դաս N 01 | D30: Նախադպրոցական կրթություն | I30: =+I31+I58 -> 2477529.8
A31: 1236-32001 | B31: Մանկապարտեզների նոր շենքերի կառուցում | I31: =+I32+I43 -> 2355178
B32: ՄԱՍ II. ԱՇԽԱՏԱՆՔՆԵՐ | I32: =SUM(I33:I42) -> 2342455.9
A33: 45211228 | B33: շինարարական աշխատանքներ մանկապարտեզների համար | E33: ԲՄ | F33: դրամ | G33: 309206800 | H33: 1 | I33: =+ROUNDUP(H33*G33/1000,1) -> 309206.8
A34: 45211228 | B34: շինարարական աշխատանքներ մանկապարտեզների համար | E34: ԲՄ | F34: դրամ | G34: 79248397 | H34: 1 | I34: =+ROUNDUP(H34*G34/1000,1) -> 79248.4
A35: 45211228-1 | B35: շինարարական աշխատանքներ մանկապարտեզների համար | E35: ԲՄ | F35: դրամ | I35: 134160
A36: 45211228 | B36: շինարարական աշխատանքներ մանկապարտեզների համար | E36: ԲՄ | F36: դրամ | G36: 309206800 | H36: 1 | I36: =+ROUNDUP(H36*G36/1000,1) -> 309206.8
A37: 45211228 | B37: շինարարական աշխատանքներ մանկապարտեզների համար | E37: ԲՄ | F37: դրամ | G37: 309206800 | H37: 1 | I37: =+ROUNDUP(H37*G37/1000,1) -> 309206.8
A38: 45211228 | B38: շինարարական աշխատանքներ մանկապարտեզների համար | E38: ԲՄ | F38: դրամ | G38: 309206800 | H38: 1 | I38: =+ROUNDUP(H38*G38/1000,1) -> 309206.8
A39: 45211228-2 | B39: շինարարական աշխատանքներ մանկապարտեզների համար | E39: ԲՄ | F39: դրամ | I39: 139041
A40: 45211228-3 | B40: շինարարական աշխատանքներ մանկապարտեզների համար | E40: ԲՄ | F40: դրամ | I40: 175698
A41: 45211228 | B41: շինարարական աշխատանքներ մանկապարտեզների համար | E41: ԲՄ | F41: դրամ | G41: 309206800 | H41: 1 | I41: =+ROUNDUP(H41*G41/1000,1) -> 309206.8
A42: 45211228 | B42: շինարարական աշխատանքներ մանկապարտեզների համար | E42: ԲՄ | F42: դրամ | G42: 268274500 | H42: 1 | I42: =+ROUNDUP(H42*G42/1000,1) -> 268274.5
B43: ՄԱՍ III. ԾԱՌԱՅՈՒԹՅՈՒՆՆԵՐ | I43: =SUM(I44:I57) -> 12722.1
A44: 71351540 | B44: տեխնիկական հսկողության ծառայություններ | E44: ՀԲՄ | F44: դրամ | G44: 862000 | H44: 1 | I44: =+ROUNDUP(H44*G44/1000,1) -> 862
A45: 71351540-1 | B45: տեխնիկական հսկողության ծառայություններ | E45: ՀԲՄ | F45: դրամ | I45: -2796
...

Sheet Հավելված N 10
F1: Հավելված N 10
J2: ՀՀ կառավարության 2025 թվականի
J3: ______________ ի ___Ն որոշման
A6: ՀԱՅԱՍՏԱՆԻ ՀԱՆՐԱՊԵՏՈՒԹՅԱՆ 2025 ԹՎԱԿԱՆԻ ՊԵՏԱԿԱՆ ԲՅՈՒՋԵՈՎ ՆԱԽԱՏԵՍՎԱԾ՝ ՀԱՅԱՍՏԱՆԻ ՀԱՆՐԱՊԵՏՈՒԹՅԱՆ ԿԱՌԱՎԱՐՈՒԹՅԱՆ ՊԱՀՈՒՍՏԱՅԻՆ ՖՈՆԴԻՑ ՀԱՏԿԱՑՈՒՄՆԵՐ ԿԱՏԱՐԵԼՈՒ ՎԵՐԱԲԵՐՅԱԼ
A9: Գործառական դասիչը | D9: Ծրագրային դասիչը | F9: Բյուջետային հատկացումների գլխավոր կարգադրիչների, ծրագրերի, միջոցառումների և միջոցառումները կատարող պետական մարմինների անվանումները | G9: Ցուցանիշների փոփոխությունը (ավելացումները նշված են դրական նշանով, իսկ նվազեցումները` փակագծերում)
A10: Բաժին | B10: Խումբ | C10: Դաս | D10: Ծրագիր | E10: Միջոցառում | G10: Տարի | H10: Տարի | I10: Տարի | J10: Տարի
F11: ԸՆԴԱՄԵՆԸ | G11: =+G13+G33 -> 0 | H11: =+H13+H33 -> 0 | I11: =+I13+I33 -> 0 | J11: =+J13+J33 -> 0
F12: այդ թվում
F13: ՀՀ ԿԱՌԱՎԱՐՈՒԹՅՈՒՆ | G13: =+G14 -> -134230.1 | H13: =+H14 -> -134230.1 | I13: =+I14 -> -134230.1 | J13: =+J14 -> -134230.1
A14: 11 | F14: ՀԻՄՆԱԿԱՆ ԲԱԺԻՆՆԵՐԻՆ ՉԴԱՍՎՈՂ ՊԱՀՈՒՍՏԱՅԻՆ ՖՈՆԴԵՐ | G14: =+G16 -> -134230.1 | H14: =+H16 -> -134230.1 | I14: =+I16 -> -134230.1 | J14: =+J16 -> -134230.1
F15: այդ թվում`
B16: 01 | F16: ՀՀ կառավարության և համայնքների պահուստային ֆոնդ | G16: =+G18 -> -134230.1 | H16: =+H18 -> -134230.1 | I16: =+I18 -> -134230.1 | J16: =+J18 -> -134230.1
F17: այդ թվում`
C18: 01 | F18: ՀՀ կառավարության պահուստային ֆոնդ | G18: =+G20 -> -134230.1 | H18: =+H20 -> -134230.1 | I18: =+I20 -> -134230.1 | J18: =+J20 -> -134230.1
F19: այդ թվում`
F20: ՀՀ կառավարություն | G20: =+G22 -> -134230.1 | H20: =+H22 -> -134230.1 | I20: =+I22 -> -134230.1 | J20: =+J22 -> -134230.1
F21: այդ թվում`
D22: 1139 | E22: ՀՀ կառավարության պահուստային ֆոնդ | F22: ՀՀ կառավարության պահուստային ֆոնդ | G22: =+G24 -> -134230.1 | H22: =+H24 -> -134230.1 | I22: =+I24 -> -134230.1 | J22: =+J24 -> -134230.1
F23: այդ թվում`
E24: 11001 | F24: ՀՀ կառավարության պահուստային ֆոնդ | G24: =+G26 -> -134230.1 | H24: =+H26 -> -134230.1 | I24: =+I26 -> -134230.1 | J24: =+J26 -> -134230.1
F25: այդ թվում` ըստ կատարողների
F26: ՀՀ կառավարություն | G26: =+G28 -> -134230.1 | H26: =+H28 -> -134230.1 | I26: =+I28 -> -134230.1 | J26: =+J28 -> -134230.1
F27: այդ թվում՝ բյուջետային ծախսերի տնտեսագիտական դասակարգման հոդվածներ
F28: ԸՆԴԱՄԵՆԸ ԾԱԽՍԵՐ | G28: =+G29 -> -134230.1 | H28: =+H29 -> -134230.1 | I28: =+I29 -> -134230.1 | J28: =+J29 -> -134230.1
F29: ԸՆԹԱՑԻԿ ԾԱԽՍԵՐ | G29: =+G30 -> -134230.1 | H29: =+H30 -> -134230.1 | I29: =+I30 -> -134230.1 | J29: =+J30 -> -134230.1
F30: ԱՅԼ ԾԱԽՍԵՐ | G30: =+G31 -> -134230.1 | H30: =+H31 -> -134230.1 | I30: =+I31 -> -134230.1 | J30: =+J31 -> -134230.1
F31: - Պահուստային միջոցներ | G31: =+'Հավելված N 3'!G185 -> -134230.1 | H31: =+'Հավելված N 3'!H185 -> -134230.1 | I31: =+'Հավելված N 3'!I185 -> -134230.1 | J31: =+'Հավելված N 3'!J185 -> -134230.1
F33: ՀՀ ԿՐԹՈՒԹՅԱՆ, ԳԻՏՈՒԹՅԱՆ, ՄՇԱԿՈՒՅԹԻ ԵՎ ՍՊՈՐՏԻ ՆԱԽԱՐԱՐՈՒԹՅՈՒՆ | G33: =+G34 -> 134230.1 | H33: =+H34 -> 134230.1 | I33: =+I34 -> 134230.1 | J33: =+J34 -> 134230.1
A34: 08 | F34: ՀԱՆԳԻՍՏ, ՄՇԱԿՈՒՅԹ ԵՎ ԿՐՈՆ | G34: =+G36 -> 134230.1 | H34: =+H36 -> 134230.1 | I34: =+I36 -> 134230.1 | J34: =+J36 -> 134230.1
F35: այդ թվում`
B36: 01 | F36: Հանգստի և սպորտի ծառայություններ | G36: =+G38 -> 134230.1 | H36: =+H38 -> 134230.1 | I36: =+I38 -> 134230.1 | J36: =+J38 -> 134230.1
F37: այդ թվում`
C38: 01 | F38: Հանգստի և սպորտի ծառայություններ | G38: =+G40 -> 134230.1 | H38: =+H40 -> 134230.1 | I38: =+I40 -> 134230.1 | J38: =+J40 -> 134230.1
F39: այդ թվում`
F40: ՀՀ կրթության, գիտության, մշակույթի և սպորտի նախարարություն | G40: =+G42 -> 134230.1 | H40: =+H42 -> 134230.1 | I40: =+I42 -> 134230.1 | J40: =+J42 -> 134230.1
F41: այդ թվում`
D42: 1163 | E42: Մասսայական սպորտ | G42: =+G44 -> 134230.1 | H42: =+H44 -> 134230.1 | I42: =+I44 -> 134230.1 | J42: =+J44 -> 134230.1
F43: այդ թվում`
E44: 32005 | F44: «Վորքաութ» տեսակի մարզահրապարակների կառուցում | G44: =+G46 -> 134230.1 | H44: =+H46 -> 134230.1 | I44: =+I46 -> 134230.1 | J44: =+J46 -> 134230.1
F45: այդ թվում` ըստ կատարողների
...
