Workbook
Name a: #REF!
Name a: #REF!
Name a: #REF!
Name a: #REF!
Name a: #REF!
Name AgencyCode: #REF!
Name AgencyCode: #REF!
Name AgencyCode: #REF!
Name AgencyCode: #REF!
Name AgencyCode: #REF!
Name AgencyCode: #REF!
Name AgencyCode: #REF!
Name AgencyCode: #REF!
Name AgencyCode: #REF!
Name AgencyCode: #REF!
Name AgencyName: #REF!
Name AgencyName: #REF!
Name AgencyName: #REF!
Name AgencyName: #REF!
Name AgencyName: #REF!
Name AgencyName: #REF!
Name åû: #REF!
Name åû: #REF!
Name davit: #REF!
Name davit: #REF!
Name davit: #REF!
Name davit: #REF!
Name davit: #REF!
Name Functional1: #REF!
Name Functional1: #REF!
Name Functional1: #REF!
Name Functional1: #REF!
Name Functional1: #REF!
Name Functional1: #REF!
Name ggg: #REF!
Name ggg: #REF!
Name ggg: #REF!
Name ggg: #REF!
Name ggg: #REF!
Name mas: #REF!
Name mas: #REF!
Name mass: #REF!
Name mass: #REF!
Name PANature: #REF!
Name PANature: #REF!
Name PANature: #REF!
Name PANature: #REF!
Name PANature: #REF!
Name PANature: #REF!
Name PAType: #REF!
Name PAType: #REF!
Name PAType: #REF!
Name PAType: #REF!
Name PAType: #REF!
Name PAType: #REF!
Name Performance2: #REF!
Name Performance2: #REF!
Name Performance2: #REF!
Name Performance2: #REF!
Name Performance2: #REF!

Sheet Հավելված N 1
F1: Հավելված N 1
F2: ՀՀ կառավարության 2025 թվականի
F3: ______________ ի ___Ն որոշման
A6: «ՀԱՅԱUՏԱՆԻ ՀԱՆՐԱՊԵՏՈՒԹՅԱՆ 2025 ԹՎԱԿԱՆԻ ՊԵՏԱԿԱՆ ԲՅՈՒՋԵԻ ՄԱUԻՆ» ՀԱՅԱUՏԱՆԻ ՀԱՆՐԱՊԵՏՈՒԹՅԱՆ OՐԵՆՔԻ N 1 ՀԱՎԵԼՎԱԾԻ N 2 ԱՂՅՈՒՍԱԿՈՒՄ ԿԱՏԱՐՎՈՂ ՎԵՐԱԲԱՇԽՈՒՄԸ ԵՎ ՀԱՅԱՍՏԱՆԻ ՀԱՆՐԱՊԵՏՈՒԹՅԱՆ ԿԱՌԱՎԱՐՈՒԹՅԱՆ 2024 ԹՎԱԿԱՆԻ ԴԵԿՏԵՄԲԵՐԻ 27-Ի N 2060-Ն ՈՐՈՇՄԱՆ N 5 ՀԱՎԵԼՎԱԾԻ N 1 ԱՂՅՈՒՍԱԿՈՒՄ ԿԱՏԱՐՎՈՂ ՓՈՓՈԽՈՒԹՅՈՒՆՆԵՐԸ ԵՎ ԼՐԱՑՈՒՄՆԵՐԸ
J9: հազ. դրամներով
A10: ԲԳԿ | B10: Ծրագրային դասիչը | D10: ԲԳԿ/Ծրագրի /միջոցառման անվանումը | E10: Ծրագրի նպատակը/Միջոցառման նկարագրությունը | F10: Վերջնական արդյունքի նկարագրությունը/Միջոցառման տեսակը | G10: Ցուցանիշների փոփոխությունը (ավելացումները նշված են դրական նշանով, իսկ նվազեցումները փակագծերում)
G11: Առաջին եռամսյակ | H11: Առաջին կիսամյակ | I11: Ինն ամիս | J11: Տարի
B12: Ծրագիր | C12: Միջոցառում
A13: ԸՆԴԱՄԵՆԸ | G13: =+G15+G34 -> 0 | H13: =+H15+H34 -> 2.5465852e-11 | I13: =+I15+I34 -> 0 | J13: =+J15+J34 -> 0
A14: այդ թվում՝
A15: ՀՀ ԿՐԹՈՒԹՅԱՆ, ԳԻՏՈՒԹՅԱՆ, ՄՇԱԿՈՒՅԹԻ ԵՎ ՍՊՈՐՏԻ ՆԱԽԱՐԱՐՈՒԹՅՈՒՆ | G15: =+G16+G19+G24+G27+G30 -> 0 | H15: =+H16+H19+H24+H27+H30 -> 2.5465852e-11 | I15: =+I16+I19+I24+I27+I30 -> 0 | J15: =+J16+J19+J24+J27+J30 -> 0
B16: 1045 | D16: Մասնագիտական կրթության և ուսուցման ծրագիր | E16: Աշխատաշուկայի արդի պահանջներին համապատասխան արհեստագործական և միջին մասնագիտական կրթության որակավորում ունեցող մասնագետների պատրաստում, կրթության մատչելիության ապահովում: | F16: Արհեստագործական և միջին մասնագիտական կրթության գրավչության բարձրացում, մատչելի և մրցունակ արհեստագործական և միջին մասնագիտական կրթության ապահովում | G16: =+G17+G18 -> 4937 | H16: =+H17+H18 -> -56207.1 | I16: =+I17+I18 -> -31203 | J16: =+J17+J18 -> -10108.2
C17: 1045 - 32001 | D17: Մասնագիտական ուսումնական հաստատությունների շենքային պայմանների բարելավում | E17: Մասնագիտական ուսումնական հաստատությունների շենքերի հիմնանորոգման և նախագծման (շինարարական աշխատանքներ, ջեռուցման համակարգի ստեղծում, ներքին հարդարում, տարածքի բարեկարգում) աշխատանքների իրականացում | F17: Այլ պետական կազմակերպությունների կողմից օգտագործվող ոչ ֆինանսական ակտիվների հետ գործառնություններ | G17: =+'Հավելված N 2'!G136 -> 4937 | H17: =+'Հավելված N 2'!H136 -> -56207.1 | I17: =+'Հավելված N 2'!I136 -> -31203 | J17: =+'Հավելված N 2'!J136 -> -50850.3
C18: 1045 - 32005 | D18: Մասնագիտական ուսումնական հաստատությունների շենքերի կառուցում | E18: Մասնագիտական ուսումնական հաստատությունների շենքերի (մասնաշենքերի) կառուցման և նախագծման աշխատանքների իրականացում | F18: Այլ պետական կազմակերպությունների կողմից օգտագործվող ոչ ֆինանսական ակտիվների հետ գործառնություններ | G18: =+'Հավելված N 2'!G147 -> 0 | H18: =+'Հավելված N 2'!H147 -> 0 | I18: =+'Հավելված N 2'!I147 -> 0 | J18: =+'Հավելված N 2'!J147 -> 40742.1
B19: 1075 | D19: Մշակութային ժառանգության ծրագիր | E19: Մշակութային ժառանգության պահպանում, օգտագործում, համալրում և հանրահռչակում | F19: Մշակութային ժառանգության շարունակական պահպանում, մշակութային զբոսաշրջության զարգացում և խթանում | G19: =+G20+G21+G22+G23 -> 31319.5 | H19: =+H20+H21+H22+H23 -> 60736.4 | I19: =+I20+I21+I22+I23 -> -64131.5 | J19: =+J20+J21+J22+J23 -> -74422
C20: 1075 - 21001 | D20: Հուշարձանների ամրակայում, նորոգում և վերականգնում | E20: Հուշարձանների գիտանախագծային փաստաթղթերի կազմում, հրատապ ուսումնասիրում, վավերագրման և ուսումնասիրման աշխատանքներ, հետախուզում և հնագիտական պեղում, ամրակայում, նորոգում և վերականգնում | F20: Հանրության կողմից անմիջականորեն օգտագործվող ակտիվների հետ կապված միջոցառումներ | G20: =+'Հավելված N 2'!G66 -> -13862.6 | H20: =+'Հավելված N 2'!H66 -> 12790.6 | I20: =+'Հավելված N 2'!I66 -> 1120.6 | J20: =+'Հավելված N 2'!J66 -> -9170
C21: 1075 - 32001 | D21: Ներդրումներ թանգարանների և պատկերասրահների հիմնանորոգման համար | E21: Թանգարանների և պատկերասրահների շենքերի, մասնաշենքերի հիմնանորոգում, համաշինարարական աշխատանքներ, ջեռուցման համակարգի իրականացում, ներքին հարդարում, տարածքի բարեկարգում և նախագծում | F21: Այլ պետական կազմակերպությունների կողմից օգտագործվող ոչ ֆինանսական ակտիվների հետ գործառնություններ | G21: =+'Հավելված N 2'!G26 -> 4012.1 | H21: =+'Հավելված N 2'!H26 -> -63224.2 | I21: =+'Հավելված N 2'!I26 -> -176422.1 | J21: =+'Հավելված N 2'!J26 -> -261320.5
C22: 1075 - 32008 | D22: Թանգարանների և պատկերասրահների գույքային և տեխնիկական հագեցվածության բարելավում | E22: Թանգարանների և պատկերասրահների համար անհրաժեշտ գույքի, տեխնիկայի և սարքավորումների ձեռքբերում | F22: Այլ պետական կազմակերպությունների կողմից օգտագործվող ոչ ֆինանսական ակտիվների հետ գործառնություններ | G22: =+'Հավելված N 2'!G39 -> 9170 | H22: =+'Հավելված N 2'!H39 -> 9170 | I22: =+'Հավելված N 2'!I39 -> 9170 | J22: =+'Հավելված N 2'!J39 -> 9170
C23: 1075 - 32012 | D23: Թանգարանների համար նոր շենքերի կառուցում | E23: Թանգարանների շենքերի, մասնաշենքերի կառուցում և նախագծում, նորաստեղծ թանգարանների նորակառույց շենքերով ապահովում | F23: Այլ պետական կազմակերպությունների կողմից օգտագործվող ոչ ֆինանսական ակտիվների հետ գործառնություններ | G23: =+'Հավելված N 2'!G48 -> 32000 | H23: =+'Հավելված N 2'!H48 -> 102000 | I23: =+'Հավելված N 2'!I48 -> 102000 | J23: =+'Հավելված N 2'!J48 -> 186898.5
B24: 1183 | D24: Ապահով դպրոց | E24: Դպրոցներին սպառնացող աղետների ռիսկի կառավարման կարողությունների հզորացում, դպրոցի անձնակազմի և աշակերտների անվտանգության ապահովման մակարդակի բարձրացում՛ կիրառելով ներառական և երեխայակենտրոն մոտեցում | F24: Դպրոցական միջավայրի բարելավում | G24: =+G25+G26 -> 1410.6 | H24: =+H25+H26 -> 1410.6 | I24: =+I25+I26 -> 16822.6 | J24: =+J25+J26 -> 16822.6
C25: 1183 - 32002 | D25: Կրթական օբյեկտների շենքային ապահովվածության բարելավում | E25: Կրթական օբյեկտների շենքերի (մասնաշենքերի) կառուցում (համաշինարարական աշխատանքներ, ջեռուցման համակարգի իրականացում, ներքին հարդարում, տարածքի բարեկարգում) և նախագծում | F25: Այլ պետական կազմակերպությունների կողմից օգտագործվող ոչ ֆինանսական ակտիվների հետ գործառնություններ | G25: =+'Հավելված N 2'!G158 -> 0 | H25: =+'Հավելված N 2'!H158 -> 0 | I25: =+'Հավելված N 2'!I158 -> 15412 | J25: =+'Հավելված N 2'!J158 -> 15412
C26: 1183 - 32004 | D26: Ավագ մակարդակի կրթություն իրականացնող ուսումնական հաստատությունների շենքային պայմանների բարելավում | E26: Ավագ դպրոցների շենքային պայմանների բարելավում | F26: Այլ պետական կազմակերպությունների կողմից օգտագործվող ոչ ֆինանսական ակտիվների հետ գործառնություններ | G26: =+'Հավելված N 2'!G167 -> 1410.6 | H26: =+'Հավելված N 2'!H167 -> 1410.6 | I26: =+'Հավելված N 2'!I167 -> 1410.6 | J26: =+'Հավելված N 2'!J167 -> 1410.6
B27: 1192 | D27: Կրթության որակի ապահովում | E27: Ընթացիկ աշխատանքների, բարեփոխումների և նոր նախաձեռնությունների միջոցով ֆորմալ և ոչ-ֆորմալ կրթության ոլորտում իրականացվող միջոցառումների, մատուցվող ծառայությունների բովանդակության և կազմակերպման որակի շարունակական բարելավում | F27: Նախադպրոցականից մինչև հետբուհական կրթության որակի, այն է սովորողների, միջավայրի, ծրագրերի և ուսումնական նյութերի բովանդակության, գործընթացների, ինչպես նաև վերջնարդյունքների որակի բարելավում ըստ ներպետական և միջազգային ցուցիչների | G27: =+G28+G29 -> 0 | H27: =+H28+H29 -> 0 | I27: =+I28+I29 -> 0 | J27: =+J28+J29 -> 0
C28: 1192 - 11024 | D28: ՀՀ պետական դպրոցների ԳՏՃՄ առարկաներ դասավանդող ուսուցիչների վերապատրաստում` նոր ստանդարտներին համապատասխան | E28: Աջակցություն ԳՏՃՄ առարկաների դասավանդման և ուսուցման որակը բարելավելու համար | F28: Ծառայությունների մատուցում | G28: =+'Հավելված N 2'!G91 -> 0 | H28: =+'Հավելված N 2'!H91 -> 112092.2 | I28: =+'Հավելված N 2'!I91 -> 112092.2 | J28: =+'Հավելված N 2'!J91 -> 112092.2
C29: 1192 - 32007 | D29: ՀՀ պետական դպրոցների` ԳՏՃՄ լաբորատորիաներով ապահովում | E29: ՀՀ պետական դպրոցների համար ԳՏՃՄ առարկաների լաբորատոր սարքավարումների և կահույքի ձեռքբերում | F29: Այլ պետական կազմակերպությունների կողմից օգտագործվող ոչ ֆինանսական ակտիվների հետ գործառնություններ | G29: =+'Հավելված N 2'!G99 -> 0 | H29: =+'Հավելված N 2'!H99 -> -112092.2 | I29: =+'Հավելված N 2'!I99 -> -112092.2 | J29: =+'Հավելված N 2'!J99 -> -112092.2
B30: 1236 | D30: Հանրակրթական և նախադպրոցական հաստատությունների հիմնում, կառուցում, բարելավում | E30: Առնվազն 300 դպրոցի և 500 մանկապարտեզի կառուցման, վերակառուցման, հիմնանորոգման ծրագրերի իրականացում ՀՀ պետական բյուջեի միջոցների շրջանակներում | F30: Կրթական միջավայրի բարելավում | G30: =+G31+G32 -> -37667.1 | H30: =+H31+H32 -> -5939.9 | I30: =+I31+I32 -> 78511.9 | J30: =+J31+J32 -> 67707.6
C31: 1236 - 32004 | D31: Հանրակրթական դպրոցների շենքերի վերակառուցում, հիմնանորոգում | E31: Դպրոցական պարտադիր կրթության հասանելիության ապահովման նպատակով՛ հանրակրթական դպրոցների շենքերի (մասնաշենքերի), վերակառուցում, հիմնանորոգում և նախագծում | F31: Այլ պետական կազմակերպությունների կողմից օգտագործվող ոչ ֆինանսական ակտիվների հետ գործառնություններ | G31: =+'Հավելված N 2'!G110 -> 0 | H31: =+'Հավելված N 2'!H110 -> 5703.9 | I31: =+'Հավելված N 2'!I110 -> 5703.9 | J31: =+'Հավելված N 2'!J110 -> 5703.9
C32: 1236 - 32006 | D32: Հանրակրթական դպրոցների, մանկապարտեզների և կրթահամալիրների գույքով և տեխնիկայով ապահովում | E32: Կրթական ժամանակակից նորմերին և կրթական չափորոշիչներին համապատասխան ուսուցման ծրագրերն իրականացնելու նպատակով հանրակրթական և նախադպրոցական հաստատությունների համար գույքի և տեխնիկայի ձեռքբերում | F32: Այլ պետական կազմակերպությունների կողմից օգտագործվող ոչ ֆինանսական ակտիվների հետ գործառնություններ | G32: =+'Հավելված N 2'!G119 -> -37667.1 | H32: =+'Հավելված N 2'!H119 -> -11643.8 | I32: =+'Հավելված N 2'!I119 -> 72808 | J32: =+'Հավելված N 2'!J119 -> 62003.7
A34: ՀՀ ԿԱՌԱՎԱՐՈՒԹՅՈՒՆ | G34: =+G35+G38+G40 -> 0 | H34: =+H35+H38+H40 -> 0 | I34: =+I35+I38+I40 -> 0 | J34: =+J35+J38+J40 -> 0
B35: 1139 | D35: ՀՀ կառավարության պահուստային ֆոնդ | E35: Պետական բյուջեում չկանխատեսված, ինչպես նաեւ բյուջետային երաշխիքների ապահովման ծախսերի ֆինանսավորման ապահովում | F35: Պահուստային ֆոնդի կառավարման արդյունավետության և թափանցիկության ապահովում | G35: =+G36+G37 -> 0 | H35: =+H36+H37 -> 0 | I35: =+I36+I37 -> 0 | J35: =+J36+J37 -> 0
C36: 1139 - 11001 | D36: ՀՀ կառավարության պահուստային ֆոնդ | E36: ՀՀ պետական բյուջեում նախատեսված ելքերի լրացուցիչ ֆինանսավորման, պետական բյուջեում չկանխատեսված ելքերի, ինչպես նաև բյուջետային երաշխիքների ապահովման ելքերի ֆինանսավորման ապահովում | F36: Ծառայությունների մատուցում | G36: =+'Հավելված N 2'!G188 -> 32000 | H36: =+'Հավելված N 2'!H188 -> 102000 | I36: =+'Հավելված N 2'!I188 -> 102000 | J36: =+'Հավելված N 2'!J188 -> 186898.5
C37: 1139 - 11001 | D37: ՀՀ կառավարության պահուստային ֆոնդ | E37: ՀՀ պետական բյուջեում նախատեսված ելքերի լրացուցիչ ֆինանսավորման, պետական բյուջեում չկանխատեսված ելքերի, ինչպես նաև բյուջետային երաշխիքների ապահովման ելքերի ֆինանսավորման ապահովում | F37: Ծառայությունների մատուցում | G37: =+'Հավելված N 2'!G196 -> -32000 | H37: =+'Հավելված N 2'!H196 -> -102000 | I37: =+'Հավելված N 2'!I196 -> -102000 | J37: =+'Հավելված N 2'!J196 -> -186898.5

Sheet Հավելված N 2
F1: Հավելված N 2
F2: ՀՀ կառավարության 2025 թվականի
F3: ______________ ի ___Ն որոշման
A7: ՀԱՅԱՍՏԱՆԻ ՀԱՆՐԱՊԵՏՈՒԹՅԱՆ ԿԱՌԱՎԱՐՈՒԹՅԱՆ 2024 ԹՎԱԿԱՆԻ ԴԵԿՏԵՄԲԵՐԻ 27-Ի N 2060-Ն ՈՐՈՇՄԱՆ N 3 ԵՎ N 4 ՀԱՎԵԼՎԱԾՆԵՐՈՒՄ ԿԱՏԱՐՎՈՂ ՓՈՓՈԽՈՒԹՅՈՒՆՆԵՐԸ ԵՎ ԼՐԱՑՈՒՄՆԵՐԸ
J10: հազ. դրամներով
A11: Գործառական դասիչը | D11: Ծրագրային դասիչը | F11: Բյուջետային հատկացումների գլխավոր կարգադրիչների, ծրագրերի, միջոցառումների և միջոցառումները կատարող պետական մարմինների անվանումները | G11: Ցուցանիշների փոփոխությունը (ավելացումները նշված են դրական նշանով, իսկ նվազեցումները փակագծերում)
A12: Բաժին | B12: Խումբ | C12: Դաս | D12: Ծրագիր | E12: Միջոցառում | G12: Առաջին եռամսյակ | H12: Առաջին կիսամյակ | I12: Ինն ամիս | J12: Տարի
F13: ԸՆԴԱՄԵՆԸ | G13: =+G15+G177 -> 0 | H13: =+H15+H177 -> 0 | I13: =+I15+I177 -> 0 | J13: =+J15+J177 -> 0
F14: այդ թվում՝
F15: ՀՀ ԿՐԹՈՒԹՅԱՆ, ԳԻՏՈՒԹՅԱՆ, ՄՇԱԿՈՒՅԹԻ ԵՎ ՍՊՈՐՏԻ ՆԱԽԱՐԱՐՈՒԹՅՈՒՆ | G15: =+G16+G81 -> 0 | H15: =+H16+H81 -> 0 | I15: =+ROUND(I16+I81,1) -> 0 | J15: =+J16+J81 -> 0
A16: 08 | F16: ՀԱՆԳԻՍՏ, ՄՇԱԿՈՒՅԹ ԵՎ ԿՐՈՆ | G16: =+G18 -> 31319.5 | H16: =+H18 -> 60736.4 | I16: =+I18 -> -64131.5 | J16: =+J18 -> -74422
F17: այդ թվում`
B18: 02 | F18: Մշակութային ծառայություններ | G18: =+G20+G60 -> 31319.5 | H18: =+H20+H60 -> 60736.4 | I18: =+I20+I60 -> -64131.5 | J18: =+J20+J60 -> -74422
F19: այդ թվում`
C20: 02 | F20: Թանգարաններ և ցուցասրահներ | G20: =+G22 -> 45182.1 | H20: =+H22 -> 47945.8 | I20: =+I22 -> -65252.1 | J20: =+J22 -> -65252
F21: այդ թվում`
F22: ՀՀ կրթության, գիտության, մշակույթի և սպորտի նախարարություն | G22: =+G24 -> 45182.1 | H22: =+H24 -> 47945.8 | I22: =+I24 -> -65252.1 | J22: =+J24 -> -65252
F23: այդ թվում`
D24: 1075 | E24: Մշակութային ժառանգության ծրագիր | G24: =+G26+G39+G48 -> 45182.1 | H24: =+H26+H39+H48 -> 47945.8 | I24: =+I26+I39+I48 -> -65252.1 | J24: =+J26+J39+J48 -> -65252
F25: այդ թվում`
E26: 32001 | F26: Ներդրումներ թանգարանների և պատկերասրահների հիմնանորոգման համար | G26: =+G28 -> 4012.1 | H26: =+H28 -> -63224.2 | I26: =+I28 -> -176422.1 | J26: =+J28 -> -261320.5
F27: այդ թվում` ըստ կատարողների
F28: ՀՀ կրթության, գիտության, մշակույթի և սպորտի նախարարություն | G28: =+G30 -> 4012.1 | H28: =+H30 -> -63224.2 | I28: =+I30 -> -176422.1 | J28: =+J30 -> -261320.5
F29: այդ թվում՝ բյուջետային ծախսերի տնտեսագիտական դասակարգման հոդվածներ
F30: ԸՆԴԱՄԵՆԸ ԾԱԽՍԵՐ | G30: =+G31+G35 -> 4012.1 | H30: =+H31+H35 -> -63224.2 | I30: =+I31+I35 -> -176422.1 | J30: =+J31+J35 -> -261320.5
F31: ԸՆԹԱՑԻԿ ԾԱԽՍԵՐ | G31: =+G32 -> 3888.3 | H31: =+H32 -> 3888.3 | I31: =+I32 -> 3888.3 | J31: =+J32 -> 3888.3
F32: ԴՐԱՄԱՇՆՈՐՀՆԵՐ | G32: =+G33 -> 3888.3 | H32: =+H33 -> 3888.3 | I32: =+I33 -> 3888.3 | J32: =+J33 -> 3888.3
F33: ԿԱՊԻՏԱԼ ԴՐԱՄԱՇՆՈՐՀՆԵՐ ՊԵՏԱԿԱՆ ՀԱՏՎԱԾԻ ԱՅԼ ՄԱԿԱՐԴԱԿՆԵՐԻՆ | G33: =+G34 -> 3888.3 | H33: =+H34 -> 3888.3 | I33: =+I34 -> 3888.3 | J33: =+J34 -> 3888.3
F34: - Կապիտալ դրամաշնորհներ պետական և համայնքային ոչ առևտրային կազմակերպություններին | G34: =+J34 -> 3888.3 | H34: =+J34 -> 3888.3 | I34: =+J34 -> 3888.3 | J34: =+'Հավելված N 5'!G18 -> 3888.3
F35: ՈՉ ՖԻՆԱՆՍԱԿԱՆ ԱԿՏԻՎՆԵՐԻ ԳԾՈՎ ԾԱԽՍԵՐ | G35: =+G36 -> 123.8 | H35: =+H36 -> -67112.5 | I35: =+I36 -> -180310.4 | J35: =+J36 -> -265208.8
F36: ՀԻՄՆԱԿԱՆ ՄԻՋՈՑՆԵՐ | G36: =+G37 -> 123.8 | H36: =+H37 -> -67112.5 | I36: =+I37 -> -180310.4 | J36: =+J37 -> -265208.8
F37: ՇԵՆՔԵՐ ԵՎ ՇԻՆՈՒԹՅՈՒՆՆԵՐ | G37: =+G38 -> 123.8 | H37: =+H38 -> -67112.5 | I37: =+I38 -> -180310.4 | J37: =+J38 -> -265208.8
F38: - Շենքերի և շինությունների կապիտալ վերանորոգում | G38: =+'Հավելված N 4'!E67 -> 123.8 | H38: =+'Հավելված N 4'!F67 -> -67112.5 | I38: =+'Հավելված N 4'!G67 -> -180310.4 | J38: =+'Հավելված N 4'!H67 -> -265208.8
E39: 32008 | F39: Թանգարանների և պատկերասրահների գույքային և տեխնիկական հագեցվածության բարելավում | G39: =+G41 -> 9170 | H39: =+H41 -> 9170 | I39: =+I41 -> 9170 | J39: =+J41 -> 9170
F40: այդ թվում` ըստ կատարողների
F41: ՀՀ կրթության, գիտության, մշակույթի և սպորտի նախարարություն | G41: =+G43 -> 9170 | H41: =+H43 -> 9170 | I41: =+I43 -> 9170 | J41: =+J43 -> 9170
F42: այդ թվում՝ բյուջետային ծախսերի տնտեսագիտական դասակարգման հոդվածներ
F43: ԸՆԴԱՄԵՆԸ ԾԱԽՍԵՐ | G43: =+G44 -> 9170 | H43: =+H44 -> 9170 | I43: =+I44 -> 9170 | J43: =+J44 -> 9170
F44: ԸՆԹԱՑԻԿ ԾԱԽՍԵՐ | G44: =+G45 -> 9170 | H44: =+H45 -> 9170 | I44: =+I45 -> 9170 | J44: =+J45 -> 9170
F45: ԴՐԱՄԱՇՆՈՐՀՆԵՐ | G45: =+G46 -> 9170 | H45: =+H46 -> 9170 | I45: =+I46 -> 9170 | J45: =+J46 -> 9170
F46: ԿԱՊԻՏԱԼ ԴՐԱՄԱՇՆՈՐՀՆԵՐ ՊԵՏԱԿԱՆ ՀԱՏՎԱԾԻ ԱՅԼ ՄԱԿԱՐԴԱԿՆԵՐԻՆ | G46: =+G47 -> 9170 | H46: =+H47 -> 9170 | I46: =+I47 -> 9170 | J46: =+J47 -> 9170
F47: - Կապիտալ դրամաշնորհներ պետական և համայնքային ոչ առևտրային կազմակերպություններին | G47: =+J47 -> 9170 | H47: =+J47 -> 9170 | I47: =+J47 -> 9170 | J47: =+'Հավելված N 5'!G20 -> 9170
E48: 32012 | F48: Թանգարանների համար նոր շենքերի կառուցում | G48: =+G50 -> 32000 | H48: =+H50 -> 102000 | I48: =+I50 -> 102000 | J48: =+J50 -> 186898.5
F49: այդ թվում` ըստ կատարողների
F50: ՀՀ կրթության, գիտության, մշակույթի և սպորտի նախարարություն | G50: =+G52 -> 32000 | H50: =+H52 -> 102000 | I50: =+I52 -> 102000 | J50: =+J52 -> 186898.5
F51: այդ թվում՝ բյուջետային ծախսերի տնտեսագիտական դասակարգման հոդվածներ
F52: ԸՆԴԱՄԵՆԸ ԾԱԽՍԵՐ | G52: =+G53+G56 -> 32000 | H52: =+H53+H56 -> 102000 | I52: =+I53+I56 -> 102000 | J52: =+J53+J56 -> 186898.5
F53: ԸՆԹԱՑԻԿ ԾԱԽՍԵՐ | G53: =+G54 -> 32000 | H53: =+H54 -> 102000 | I53: =+I54 -> 102000 | J53: =+J54 -> 102000
F54: ԱՅԼ ԾԱԽՍԵՐ | G54: =+G55 -> 32000 | H54: =+H55 -> 102000 | I54: =+I55 -> 102000 | J54: =+J55 -> 102000
F55: Հարկեր, պարտադիր վճարներ և տույժեր, որոնք կառավարման տարբեր մակարդակների կողմից կիրառվում են միմյանց նկատմամբ | G55: 32000 | H55: =32000+70000 -> 102000 | I55: =32000+70000 -> 102000 | J55: =32000+70000 -> 102000
F56: ՈՉ ՖԻՆԱՆՍԱԿԱՆ ԱԿՏԻՎՆԵՐԻ ԳԾՈՎ ԾԱԽՍԵՐ | G56: =+G57 -> 0 | H56: =+H57 -> 0 | I56: =+I57 -> 0 | J56: =+J57 -> 84898.5
F57: ՀԻՄՆԱԿԱՆ ՄԻՋՈՑՆԵՐ | G57: =+G58 -> 0 | H57: =+H58 -> 0 | I57: =+I58 -> 0 | J57: =+J58 -> 84898.5
F58: ՇԵՆՔԵՐ ԵՎ ՇԻՆՈՒԹՅՈՒՆՆԵՐ | G58: =+G59 -> 0 | H58: =+H59 -> 0 | I58: =+I59 -> 0 | J58: =+J59 -> 84898.5
F59: - Շենքերի և շինությունների շինարարություն | G59: =+'Հավելված N 4'!E74 -> 0 | H59: =+'Հավելված N 4'!F74 -> 0 | I59: =+'Հավելված N 4'!G74 -> 0 | J59: =+'Հավելված N 4'!H74 -> 84898.5
C60: 07 | F60: Հուշարձանների և մշակութային արժեքների վերականգնում և պահպանում | G60: =+G62 -> -13862.6 | H60: =+H62 -> 12790.6 | I60: =+I62 -> 1120.6 | J60: =+J62 -> -9170
F61: այդ թվում`
F62: ՀՀ կրթության, գիտության, մշակույթի և սպորտի նախարարություն | G62: =+G64 -> -13862.6 | H62: =+H64 -> 12790.6 | I62: =+I64 -> 1120.6 | J62: =+J64 -> -9170
F63: այդ թվում`
D64: 1075 | E64: Մշակութային ժառանգության ծրագիր | G64: =+G66 -> -13862.6 | H64: =+H66 -> 12790.6 | I64: =+I66 -> 1120.6 | J64: =+J66 -> -9170
F65: այդ թվում`
E66: 21001 | F66: Հուշարձանների ամրակայում, նորոգում և վերականգնում | G66: =+G68 -> -13862.6 | H66: =+H68 -> 12790.6 | I66: =+I68 -> 1120.6 | J66: =+J68 -> -9170
F67: այդ թվում` ըստ կատարողների
F68: ՀՀ կրթության, գիտության, մշակույթի և սպորտի նախարարություն | G68: =+G70 -> -13862.6 | H68: =+H70 -> 12790.6 | I68: =+I70 -> 1120.6 | J68: =+J70 -> -9170
F69: այդ թվում՝ բյուջետային ծախսերի տնտեսագիտական դասակարգման հոդվածներ
F70: ԸՆԴԱՄԵՆԸ ԾԱԽՍԵՐ | G70: =+G71+G75 -> -13862.6 | H70: =+H71+H75 -> 12790.6 | I70: =+I71+I75 -> 1120.6 | J70: =+J71+J75 -> -9170
F71: ԸՆԹԱՑԻԿ ԾԱԽՍԵՐ | G71: =+G72 -> 49720 | H71: =+H72 -> 49720 | I71: =+I72 -> 49720 | J71: =+J72 -> 49720
F72: ԴՐԱՄԱՇՆՈՐՀՆԵՐ | G72: =+G73 -> 49720 | H72: =+H73 -> 49720 | I72: =+I73 -> 49720 | J72: =+J73 -> 49720
F73: ԿԱՊԻՏԱԼ ԴՐԱՄԱՇՆՈՐՀՆԵՐ ՊԵՏԱԿԱՆ ՀԱՏՎԱԾԻ ԱՅԼ ՄԱԿԱՐԴԱԿՆԵՐԻՆ | G73: =+G74 -> 49720 | H73: =+H74 -> 49720 | I73: =+I74 -> 49720 | J73: =+J74 -> 49720
F74: - Կապիտալ դրամաշնորհներ պետական և համայնքային ոչ առևտրային կազմակերպություններին | G74: =+J74 -> 49720 | H74: =+J74 -> 49720 | I74: =+J74 -> 49720 | J74: =+'Հավելված N 5'!G12 -> 49720
F75: ՈՉ ՖԻՆԱՆՍԱԿԱՆ ԱԿՏԻՎՆԵՐԻ ԳԾՈՎ ԾԱԽՍԵՐ | G75: =+G76 -> -63582.6 | H75: =+H76 -> -36929.4 | I75: =+I76 -> -48599.4 | J75: =+J76 -> -58890
F76: ՀԻՄՆԱԿԱՆ ՄԻՋՈՑՆԵՐ | G76: =+G77+G79 -> -63582.6 | H76: =+H77+H79 -> -36929.4 | I76: =+I77+I79 -> -48599.4 | J76: =+J77+J79 -> -58890
F77: ՇԵՆՔԵՐ ԵՎ ՇԻՆՈՒԹՅՈՒՆՆԵՐ | G77: =+G78 -> -66122.6 | H77: =+H78 -> -39469.4 | I77: =+I78 -> -51139.4 | J77: =+J78 -> -61430
F78: - Շենքերի և շինությունների կապիտալ վերանորոգում | G78: =+'Հավելված N 4'!E39 -> -66122.6 | H78: =+'Հավելված N 4'!F39 -> -39469.4 | I78: =+'Հավելված N 4'!G39 -> -51139.4 | J78: =+'Հավելված N 4'!H39 -> -61430
F79: ԱՅԼ ՀԻՄՆԱԿԱՆ ՄԻՋՈՑՆԵՐ | G79: =+G80 -> 2540 | H79: =+H80 -> 2540 | I79: =+I80 -> 2540 | J79: =+J80 -> 2540
F80: - Նախագծահետազոտական ծախսեր | G80: =+'Հավելված N 4'!E54 -> 2540 | H80: =+'Հավելված N 4'!F54 -> 2540 | I80: =+'Հավելված N 4'!G54 -> 2540 | J80: =+'Հավելված N 4'!H54 -> 2540
A81: 09 | F81: ԿՐԹՈՒԹՅՈՒՆ | G81: =+G83+G128 -> -31319.5 | H81: =+H83+H128 -> -60736.4 | I81: =+I83+I128 -> 64131.5 | J81: =+J83+J128 -> 74422
F82: այդ թվում`
B83: 02 | F83: Միջնակարգ ընդհանուր կրթություն | G83: =+G85 -> -37667.1 | H83: =+H85 -> -5939.9 | I83: =+I85 -> 78511.9 | J83: =+J85 -> 67707.6
F84: այդ թվում`
C85: 01 | F85: Հիմնական ընդհանուր կրթություն | G85: =+G87 -> -37667.1 | H85: =+H87 -> -5939.9 | I85: =+I87 -> 78511.9 | J85: =+J87 -> 67707.6
F86: այդ թվում`
F87: ՀՀ կրթության, գիտության, մշակույթի և սպորտի նախարարություն | G87: =+G89+G108 -> -37667.1 | H87: =+H89+H108 -> -5939.9 | I87: =+I89+I108 -> 78511.9 | J87: =+J89+J108 -> 67707.6
F88: այդ թվում`
D89: 1192 | E89: Կրթության որակի ապահովում | G89: =+G91+G99 -> 0 | H89: =+H91+H99 -> 0 | I89: =+I91+I99 -> 0 | J89: =+J91+J99 -> 0
F90: այդ թվում`
E91: 11024 | F91: ՀՀ մարզերում տեղակայված պետական դպրոցների՝ ԳՏՃՄ առարկաներ դասավանդող ուսուցիչների վերապատրաստում նոր ստանդարտներին համապատասխան | G91: =+G93 -> 0 | H91: =+H93 -> 112092.2 | I91: =+I93 -> 112092.2 | J91: =+J93 -> 112092.2
F92: այդ թվում` ըստ կատարողների
F93: ՀՀ կրթության, գիտության, մշակույթի և սպորտի նախարարություն | G93: =+G95 -> 0 | H93: =+H95 -> 112092.2 | I93: =+I95 -> 112092.2 | J93: =+J95 -> 112092.2
F94: այդ թվում՝ բյուջետային ծախսերի տնտեսագիտական դասակարգման հոդվածներ
F95: ԸՆԴԱՄԵՆԸ ԾԱԽՍԵՐ | G95: =G96 -> 0 | H95: =H96 -> 112092.2 | I95: =I96 -> 112092.2 | J95: =J96 -> 112092.2
F96: ԸՆԹԱՑԻԿ ԾԱԽՍԵՐ | G96: =+G97 -> 0 | H96: =+H97 -> 112092.2 | I96: =+I97 -> 112092.2 | J96: =+J97 -> 112092.2
F97: ԱՅԼ ԾԱԽՍԵՐ | G97: =+G98 -> 0 | H97: =+H98 -> 112092.2 | I97: =+I98 -> 112092.2 | J97: =+J98 -> 112092.2
F98: Այլ ծախսեր | G98: 0 | H98: 112092.2 | I98: 112092.2 | J98: 112092.2
E99: 32007 | F99: ՀՀ պետական դպրոցների՝ ԳՏՃՄ լաբորատորիաներով ապահովում | G99: =+G101 -> 0 | H99: =+H101 -> -112092.2 | I99: =+I101 -> -112092.2 | J99: =+J101 -> -112092.2
F100: այդ թվում` ըստ կատարողների
F101: ՀՀ կրթության, գիտության, մշակույթի և սպորտի նախարարություն | G101: =+G103 -> 0 | H101: =+H103 -> -112092.2 | I101: =+I103 -> -112092.2 | J101: =+J103 -> -112092.2
F102: այդ թվում՝ բյուջետային ծախսերի տնտեսագիտական դասակարգման հոդվածներ
F103: ԸՆԴԱՄԵՆԸ ԾԱԽՍԵՐ | G103: =G104 -> 0 | H103: =H104 -> -112092.2 | I103: =I104 -> -112092.2 | J103: =J104 -> -112092.2
F104: ՈՉ ՖԻՆԱՆՍԱԿԱՆ ԱԿՏԻՎՆԵՐԻ ԳԾՈՎ ԾԱԽՍԵՐ | G104: =+G105 -> 0 | H104: =+H105 -> -112092.2 | I104: =+I105 -> -112092.2 | J104: =+J105 -> -112092.2
F105: ՀԻՄՆԱԿԱՆ ՄԻՋՈՑՆԵՐ | G105: =+G106 -> 0 | H105: =+H106 -> -112092.2 | I105: =+I106 -> -112092.2 | J105: =+J106 -> -112092.2
...

Sheet Հավելված N 3
F1: Հավելված N 3
F2: ՀՀ կառավարության 2025 թվականի
F3: ______________ ի ___Ն որոշման
A5: «ՀԱՅԱUՏԱՆԻ ՀԱՆՐԱՊԵՏՈՒԹՅԱՆ 2025 ԹՎԱԿԱՆԻ ՊԵՏԱԿԱՆ ԲՅՈՒՋԵԻ ՄԱUԻՆ» ՀԱՅԱUՏԱՆԻ ՀԱՆՐԱՊԵՏՈՒԹՅԱՆ OՐԵՆՔԻ N 1 ՀԱՎԵԼՎԱԾԻ N 3 ԱՂՅՈՒՍԱԿՈՒՄ ԿԱՏԱՐՎՈՂ ՓՈՓՈԽՈՒԹՅՈՒՆՆԵՐԸ ԵՎ ԼՐԱՑՈՒՄՆԵՐԸ
G8: հազ. դրամներով
A9: Ծրագրային դասիչ | C9: Բյուջետային գլխավոր կարգադրիչների, ծրագրերի, միջոցառումների, միջոցառումները կատարող պետական մարմինների և ուղղությունների անվանումները | D9: Ընդամենը | E9: Ցուցանիշների փոփոխությունը (ավելացումները նշված են դրական նշանով, իսկ նվազեցումները՝ փակագծերում)
A10: Ծրագիր | B10: Միջոցառում | E10: Կառուցման աշխատանքներ | F10: Վերակառուցման, վերանորոգման և վերականգնման աշխատանքներ | G10: Նախագծահե- տազոտական, գեոդեզիա- քարտեզագրա- կան աշխա- տանքներ | H10: Ոչ ֆինանսական այլ ակտիվների ձեռքբերում
C11: ԸՆԴԱՄԵՆԸ | D11: =SUM(E11:H11) -> -276870.5 | E11: =+E13 -> 100310.5 | F11: =+F13 -> -388093.1 | G11: =+G13 -> 61000.6 | H11: =+H13 -> -50088.5
C12: այդ թվում՝
C13: ՀՀ ԿՐԹՈՒԹՅԱՆ, ԳԻՏՈՒԹՅԱՆ, ՄՇԱԿՈՒՅԹԻ ԵՎ ՍՊՈՐՏԻ ՆԱԽԱՐԱՐՈՒԹՅՈՒՆ | D13: =SUM(E13:H13) -> -276870.5 | E13: =+E15+E29+E33+E59+E64+E68+E72+E76+E77+E81 -> 100310.5 | F13: =+F15+F29+F33+F59+F64+F68+F72+F76+F77+F81 -> -388093.1 | G13: =+G15+G29+G33+G59+G64+G68+G72+G76+G77+G81 -> 61000.6 | H13: =+H15+H29+H33+H59+H64+H68+H72+H76+H77+H81 -> -50088.5
C14: այդ թվում`
A15: 1045 | B15: 32001 | C15: Մասնագիտական ուսումնական հաստատությունների շենքային պայմանների բարելավում | D15: =SUM(E15:H15) -> -50850.3 | E15: =+E17+E22+E24+E27 -> 0 | F15: =+F17+F22+F24+F27 -> -68568.8 | G15: =+G17+G22+G24+G27 -> 17718.5 | H15: =+H17+H22+H24+H27 -> 0
C16: այդ թվում`
C17: Երևան քաղաք | D17: =SUM(E17:H17) -> -80118.1 | E17: =+E18+E19+E20+E21 -> 0 | F17: =+F18+F19+F20+F21 -> -68568.8 | G17: =+G18+G19+G20+G21 -> -11549.3 | H17: =+H18+H19+H20+H21 -> 0
C18: «Երևանի հ․8 արհեստագործական պետական ուսումնարան» ՊՈԱԿ | D18: =+E18+F18+G18+H18 -> 87072 | F18: =+'Հավելված N 8'!I54+'Հավելված N 8'!I57+'Հավելված N 8'!I59 -> 86885 | G18: 187
C19: «Երևանի Շառլ Ազնավուրի անվան մշակույթի և արվեստի պետական քոլեջ» ՊՈԱԿ | D19: =+E19+F19+G19+H19 -> -17317 | G19: =+'Հավելված N 8'!I62+'Հավելված N 8'!I67 -> -17317
C20: «Երևանի զարդարվեստի պետական արհեստագործական ուսումնարան» ՊՈԱԿ | D20: =+E20+F20+G20+H20 -> -150703.8 | F20: =+'Հավելված N 8'!I55+'Հավելված N 8'!I58+'Հավելված N 8'!I60 -> -155453.8 | G20: =+'Հավելված N 8'!I61 -> 4750
C21: «Երևանի պարարվեստի պետական քոլեջ» ՊՈԱԿ | D21: =+E21+F21+G21+H21 -> 830.7 | G21: =+'Հավելված N 8'!I66+49 -> 830.7
C22: ՀՀ Կոտայքի մարզ | D22: =SUM(E22:H22) -> 711.6 | E22: =+E23 -> 0 | F22: =+F23 -> 0 | G22: =+G23 -> 711.6 | H22: =+H23 -> 0
C23: «Աբովյանի բազմագործառութային պետական քոլեջ» ՊՈԱԿ | D23: =+E23+F23+G23+H23 -> 711.6 | G23: 711.6
C24: ՀՀ Շիրակի մարզ | D24: =SUM(E24:H24) -> 17112.8 | E24: =+E25+E26 -> 0 | F24: =+F25+F26 -> 0 | G24: =+G25+G26 -> 17112.8 | H24: =+H25+H26 -> 0
C25: «Արթիկի պետական քոլեջ» ՊՈԱԿ | D25: =+E25+F25+G25+H25 -> 1822.4 | G25: 1822.4
C26: «Գյումրու պետական բժշկական քոլեջ» ՊՈԱԿ | D26: =+E26+F26+G26+H26 -> 15290.4 | G26: =+'Հավելված N 8'!I64+'Հավելված N 8'!I70 -> 15290.4
C27: ՀՀ Տավուշի մարզ | D27: =SUM(E27:H27) -> 11443.4 | E27: =+E28 -> 0 | F27: =+F28 -> 0 | G27: =+G28 -> 11443.4 | H27: =+H28 -> 0
C28: «Դիլիջանի բազմագործառութային պետական քոլեջ» ՊՈԱԿ | D28: =+E28+F28+G28+H28 -> 11443.4 | G28: =+'Հավելված N 8'!I65 -> 11443.4
A29: 1045 | B29: 32005 | C29: Մասնագիտական ուսումնական հաստատությունների շենքերի կառուցում | D29: =SUM(E29:H29) -> 40742.1 | E29: =+E31 -> 0 | F29: =+F31 -> 0 | G29: =+G31 -> 40742.1 | H29: =+H31 -> 0
C30: այդ թվում`
C31: Երևան քաղաք | D31: =SUM(E31:H31) -> 40742.1 | E31: =+E32 -> 0 | F31: =+F32 -> 0 | G31: =+G32 -> 40742.1 | H31: =+H32 -> 0
C32: «Երևանի զարդարվեստի պետական արհեստագործական ուսումնարան» ՊՈԱԿ | D32: =+E32+F32+G32+H32 -> 40742.1 | G32: =+'Հավելված N 8'!I73+'Հավելված N 8'!I74 -> 40742.1
A33: 1075 | B33: 21001 | C33: Հուշարձանների ամրակայում, նորոգում և վերականգնում | D33: =SUM(E33:H33) -> -58890 | E33: =+E35+E48 -> 0 | F33: =+F35+F48 -> -61430 | G33: =+G35+G48 -> 2540 | H33: =+H35+H48 -> 0
C34: այդ թվում`
C35: 1. Վերականգնողական աշխատանքներ | D35: =SUM(E35:H35) -> -61430 | E35: =+E37+E39+E41+E43+E45 -> 0 | F35: =+F37+F39+F41+F43+F45 -> -61430 | G35: =+G37+G39+G41+G43+G45 -> 0 | H35: =+H37+H39+H41+H43+H45 -> 0
C36: որից`
C37: ՀՀ Արագածոտնի մարզ | D37: =SUM(E37:H37) -> -25000 | E37: =+E38 -> 0 | F37: =+F38 -> -25000 | G37: =+G38 -> 0 | H37: =+H38 -> 0
C38: Ամբերդ ամրոցի հրատապ ամրակայման ենթակա հատվածների նորոգում և վերականգնում | D38: =+E38+F38+G38+H38 -> -25000 | F38: =+'Հավելված N 8'!I31 -> -25000
C39: ՀՀ Լոռու մարզ | D39: =SUM(E39:H39) -> 4633.2 | E39: =+E40 -> 0 | F39: =+F40 -> 4633.2 | G39: =+G40 -> 0 | H39: =+H40 -> 0
C40: Քոբայրավանք համալիրի գլխավոր եկեղեցու, նրան կից եկեղեցու և Մարիամաշեն եկեղեցու տանիքների վերականգնում | D40: =+E40+F40+G40+H40 -> 4633.2 | F40: =+'Հավելված N 8'!I30+'Հավելված N 8'!I37+'Հավելված N 8'!I38 -> 4633.2
C41: ՀՀ Կոտայքի մարզ | D41: =SUM(E41:H41) -> -20000 | E41: =+E42 -> 0 | F41: =+F42 -> -20000 | G41: =+G42 -> 0 | H41: =+H42 -> 0
C42: Պտղնու տաճարի նորոգում, ամրակայում և մասնակի վերականգնում | D42: =+E42+F42+G42+H42 -> -20000 | F42: =+'Հավելված N 8'!I35 -> -20000
C43: ՀՀ Շիրակի մարզ | D43: =SUM(E43:H43) -> -10000 | E43: =+E44 -> 0 | F43: =+F44 -> -10000 | G43: =+G44 -> 0 | H43: =+H44 -> 0
C44: Երերույքի տաճարի և փոքր դամբարանի թաղերի ամրակայում, Անիպեմզայի մշակույթի տան վերականգնում և փոքրիկ թանգարանի ստեղծում | D44: =+E44+F44+G44+H44 -> -10000 | F44: =+'Հավելված N 8'!I32 -> -10000
C45: ՀՀ Տավուշի մարզ | D45: =SUM(E45:H45) -> -11063.2 | E45: =+E46+E47 -> 0 | F45: =+F46+F47 -> -11063.2 | G45: =+G46+G47 -> 0 | H45: =+H46+H47 -> 0
C46: Կիրանց գյուղի Սուրբ Երրորդություն եկեղեցու վերականգնում | D46: =+E46+F46+G46+H46 -> 5487.2 | F46: =+'Հավելված N 8'!I34 -> 5487.2
C47: Տավուշի մարզի «Տավուշ» ամրոցի պարիսպների, կից կառույցների, եկեղեցու ամրակայում, վերականգնում և տարածքի բարեկարգում | D47: =+E47+F47+G47+H47 -> -16550.4 | F47: =+'Հավելված N 8'!I33 -> -16550.4
C48: 2. Վավերագրման և ուսումնասիրման աշխատանքներ, (այդ թվում՝ հետախուզումև պեղում), գիտանախագծային փաստաթղթերի կազմում և փորձաքննում | D48: =SUM(E48:H48) -> 2540 | E48: =+E50+E52+E54+E56 -> 0 | F48: =+F50+F52+F54+F56 -> 0 | G48: =+G50+G52+G54+G56 -> 2540 | H48: =+H50+H52+H54+H56 -> 0
C49: որից`
C50: ՀՀ Արմավիրի մարզ | D50: =SUM(E50:H50) -> 460 | E50: =+E51 -> 0 | F50: =+F51 -> 0 | G50: =+G51 -> 460 | H50: =+H51 -> 0
C51: Բագարանի Սբ․ Շուշանիկ եկեղեցու վերականգնման գիտանախագծային փաստաթղթեր | D51: =+E51+F51+G51+H51 -> 460 | G51: =+'Հավելված N 8'!I39 -> 460
C52: ՀՀ Գեղարքունիքի մարզ | D52: =SUM(E52:H52) -> 680 | E52: =+E53 -> 0 | F52: =+F53 -> 0 | G52: =+G53 -> 680 | H52: =+H53 -> 0
C53: Բերդկունքի Սպիտակ բերդի նորոգման, ամրակայման և վերականգնման գիտանախագծային փաստաթղթեր | D53: =+E53+F53+G53+H53 -> 680 | G53: =+'Հավելված N 8'!I40 -> 680
C54: ՀՀ Լոռու մարզ | D54: =SUM(E54:H54) -> 400 | E54: =+E55 -> 0 | F54: =+F55 -> 0 | G54: =+G55 -> 400 | H54: =+H55 -> 0
C55: Ալավերդի համայնքի Կաճաճկուտ բնակավայրի Սեդվի վանական համալիրի փլուզված եռահարկ աշտարակի նորոգման, ամրակայման, վերականգնման և տարածքի բարեկարգման գիտանախագծային փաստաթղթեր | D55: =+E55+F55+G55+H55 -> 400 | G55: =+'Հավելված N 8'!I41 -> 400
C56: ՀՀ Վայոց Ձորի մարզ | D56: =SUM(E56:H56) -> 1000 | E56: =+E57+E58 -> 0 | F56: =+F57+F58 -> 0 | G56: =+G57+G58 -> 1000 | H56: =+H57+H58 -> 0
C57: Հորսի իշխան Չեսար Օրբելյանի ապարանքի ամրակայման, նորոգման, վերականգնման գիտանախագծային փաստաթղթեր | D57: =+E57+F57+G57+H57 -> 500 | G57: =+'Հավելված N 8'!I42 -> 500
C58: Աղնջաձորի Օրբելյանների քարավանատան (Սելիմի) ամրակայման, նորոգման, վերականգնման և տարածքի բարեկարգման գիտանախագծային փաստաթղթերի կազմում | D58: =+E58+F58+G58+H58 -> 500 | G58: =+'Հավելված N 8'!I43 -> 500
A59: 1075 | B59: 32001 | C59: Ներդրումներ թանգարանների և պատկերասրահների հիմնանորոգման համար | D59: =SUM(E59:H59) -> -265208.8 | E59: =+E61 -> 0 | F59: =+F61 -> -265208.8 | G59: =+G61 -> 0 | H59: =+H61 -> 0
C60: այդ թվում`
C61: Երևան քաղաք | D61: =SUM(E61:H61) -> -265208.8 | E61: =+E62+E63 -> 0 | F61: =+F62+F63 -> -265208.8 | G61: =+G62+G63 -> 0 | H61: =+H62+H63 -> 0
C62: «Հ. Թումանյանի թանգարան» ՊՈԱԿ | D62: =+E62+F62+G62+H62 -> -265332.6 | F62: =+'Հավելված N 8'!I17+'Հավելված N 8'!I19+'Հավելված N 8'!I20 -> -265332.6
C63: «Հայաստանի ազգային պատկերասրահ» ՊՈԱԿ | D63: =+E63+F63+G63+H63 -> 123.8 | F63: 123.8
A64: 1075 | B64: 32012 | C64: Թանգարանների համար նոր շենքերի կառուցում | D64: =SUM(E64:H64) -> 84898.5 | E64: =+E66 -> 84898.5 | F64: =+F66 -> 0 | G64: =+G66 -> 0 | H64: =+H66 -> 0
C65: այդ թվում`
C66: Երևան քաղաք | D66: =SUM(E66:H66) -> 84898.5 | E66: =+E67 -> 84898.5 | F66: =+F67 -> 0 | G66: =+G67 -> 0 | H66: =+H67 -> 0
C67: «Հ. Թումանյանի թանգարան» ՊՈԱԿ | D67: =+E67+F67+G67+H67 -> 84898.5 | E67: =+'Հավելված N 8'!I23+'Հավելված N 8'!I25+'Հավելված N 8'!I26 -> 84898.5
A68: 1183 | B68: 32002 | C68: Կրթական օբյեկտների շենքային ապահովվածության բարելավում | D68: =SUM(E68:H68) -> 15412 | E68: =+E70 -> 15412 | F68: =+F70 -> 0 | G68: =+G70 -> 0 | H68: =+H70 -> 0
C69: այդ թվում`
C70: Երևան քաղաք | D70: =SUM(E70:H70) -> 15412 | E70: =+E71 -> 15412 | F70: =+F71 -> 0 | G70: =+G71 -> 0 | H70: =+H71 -> 0
C71: «Երևանի թիվ 54 ավագ դպրոց» ՊՈԱԿ | D71: =+E71+F71+G71+H71 -> 15412 | E71: =+'Հավելված N 8'!I77 -> 15412
A72: 1183 | B72: 32004 | C72: Ավագ մակարդակի կրթություն իրականացնող ուսումնական հաստատությունների շենքային պայմանների բարելավում | D72: =SUM(E72:H72) -> 1410.6 | E72: =+E74 -> 0 | F72: =+F74 -> 1410.6 | G72: =+G74 -> 0 | H72: =+H74 -> 0
C73: այդ թվում`
C74: ՀՀ Շիրակի մարզ | D74: =SUM(E74:H74) -> 1410.6 | E74: =+E75 -> 0 | F74: =+F75 -> 1410.6 | G74: =+G75 -> 0 | H74: =+H75 -> 0
C75: «Գյումրու «Ֆոտոն» վարժարան» ՊՈԱԿ | D75: =+E75+F75+G75+H75 -> 1410.6 | E75: =+'Հավելված N 8'!I81 -> 0 | F75: 1410.6
A76: 1192 | B76: 32007 | C76: ՀՀ պետական դպրոցների՝ ԳՏՃՄ լաբորատորիաներով ապահովում | D76: =SUM(E76:H76) -> -112092.2 | E76: 0 | F76: 0 | G76: 0 | H76: -112092.2
A77: 1236 | B77: 32004 | C77: Հանրակրթական դպրոցների շենքերի վերակառուցում, հիմնանորոգում | D77: =SUM(E77:H77) -> 5703.9 | E77: =+E79 -> 0 | F77: =+F79 -> 5703.9 | G77: =+G79 -> 0 | H77: =+H79 -> 0
C78: այդ թվում`
C79: ՀՀ Արարատի մարզ | D79: =SUM(E79:H79) -> 5703.9 | E79: =+E80 -> 0 | F79: =+F80 -> 5703.9 | G79: =+G80 -> 0 | H79: =+H80 -> 0
C80: «Արտաշատի ավագ դպրոց» ՊՈԱԿ | D80: =+E80+F80+G80+H80 -> 5703.9 | E80: =+'Հավելված N 8'!I85 -> 0 | F80: =+'Հավելված N 8'!I47+'Հավելված N 8'!I49+'Հավելված N 8'!I50 -> 5703.9
A81: 1236 | B81: 32006 | C81: Հանրակրթական դպրոցների, մանկապարտեզների և կրթահամալիրների գույքով և տեխնիկայով ապահովում | D81: =SUM(E81:H81) -> 62003.7 | E81: 0 | F81: 0 | G81: 0 | H81: 62003.7

Sheet Հավելված N 4
G1: Հավելված N 4
E2: ՀՀ կառավարության 2025 թվականի
G3: ______________ ի ___Ն որոշման
B6: ՀԱՅԱՍՏԱՆԻ ՀԱՆՐԱՊԵՏՈՒԹՅԱՆ ԿԱՌԱՎԱՐՈՒԹՅԱՆ 2024 ԹՎԱԿԱՆԻ ԴԵԿՏԵՄԲԵՐԻ 27-Ի N 2060-Ն ՈՐՈՇՄԱՆ N 5 ՀԱՎԵԼՎԱԾԻ N 2 ԱՂՅՈՒՍԱԿՈՒՄ ԿԱՏԱՐՎՈՂ ՓՈՓՈԽՈՒԹՅՈՒՆՆԵՐԸ ԵՎ ԼՐԱՑՈՒՄՆԵՐԸ
H8: հազ. դրամներով
B9: Ծրագրային դասիչ | D9: Բյուջետային գլխավոր կարգադրիչների, ծրագրերի, միջոցառումների, միջոցառումները կատարող պետական մարմինների և ուղղությունների անվանումները | E9: Ցուցանիշների փոփոխությունը (ավելացումները նշված են դրական նշանով, իսկ նվազեցումները՝ փակագծերում)
B10: Ծրագիր | C10: Միջոցառում | E10: Առաջին եռամսյակ | F10: Առաջին կիսամյակ | G10: Ինն ամիս | H10: Տարի
D11: ՀՀ ԿՐԹՈՒԹՅԱՆ, ԳԻՏՈՒԹՅԱՆ, ՄՇԱԿՈՒՅԹԻ ԵՎ ՍՊՈՐՏԻ ՆԱԽԱՐԱՐՈՒԹՅՈՒՆ | E11: =+E13+E29+E35+E65+E72+E78+E84+E90+E93+E99 -> -94778.3 | F11: =+F13+F29+F35+F65+F72+F78+F84+F90+F93+F99 -> -276870.5 | G11: =+G13+G29+G35+G65+G72+G78+G84+G90+G93+G99 -> -276870.5 | H11: =+H13+H29+H35+H65+H72+H78+H84+H90+H93+H99 -> -276870.5
D12: այդ թվում՝
B13: 1045 | C13: 32001 | D13: Մասնագիտական ուսումնական հաստատությունների շենքային պայմանների բարելավում | E13: =+E15 -> 4937 | F13: =+F15 -> -56207.1 | G13: =+G15 -> -31203 | H13: =+H15 -> -50850.3
D14: այդ թվում` ըստ կատարողների
D15: ՀՀ կրթության, գիտության, մշակույթի և սպորտի նախարարություն | E15: =+E17+E22+E24+E27 -> 4937 | F15: =+F17+F22+F24+F27 -> -56207.1 | G15: =+G17+G22+G24+G27 -> -31203 | H15: =+H17+H22+H24+H27 -> -50850.3
D16: այդ թվում`ըստ ուղղությունների
D17: Երևան քաղաք | E17: =+E18+E19+E20+E21 -> 4937 | F17: =+F18+F19+F20+F21 -> -40868.5 | G17: =+G18+G19+G20+G21 -> -49027.4 | H17: =+H18+H19+H20+H21 -> -80118.1
D18: =+'Հավելված N 3'!C18 -> «Երևանի հ․8 արհեստագործական պետական ուսումնարան» ՊՈԱԿ | E18: =+F18 -> 187 | F18: =+'Հավելված N 3'!G18 -> 187 | G18: =+H18 -> 87072 | H18: =+'Հավելված N 3'!D18 -> 87072
D19: =+'Հավելված N 3'!C19 -> «Երևանի Շառլ Ազնավուրի անվան մշակույթի և արվեստի պետական քոլեջ» ՊՈԱԿ | E19: 0 | F19: 0 | G19: =+H19 -> -17317 | H19: =+'Հավելված N 3'!D19 -> -17317
D20: =+'Հավելված N 3'!C20 -> «Երևանի զարդարվեստի պետական արհեստագործական ուսումնարան» ՊՈԱԿ | E20: 4750 | F20: =-46636.2+4750 -> -41886.2 | G20: =-124363.1+4750 -> -119613.1 | H20: =+'Հավելված N 3'!D20 -> -150703.8
D21: =+'Հավելված N 3'!C21 -> «Երևանի պարարվեստի պետական քոլեջ» ՊՈԱԿ | E21: 0 | F21: =+H21 -> 830.7 | G21: =+H21 -> 830.7 | H21: =+'Հավելված N 3'!D21 -> 830.7
D22: ՀՀ Կոտայքի մարզ | E22: =+E23 -> 0 | F22: =+F23 -> 711.6 | G22: =+G23 -> 711.6 | H22: =+H23 -> 711.6
D23: =+'Հավելված N 3'!C23 -> «Աբովյանի բազմագործառութային պետական քոլեջ» ՊՈԱԿ | F23: =+H23 -> 711.6 | G23: =+H23 -> 711.6 | H23: =+'Հավելված N 3'!D23 -> 711.6
D24: ՀՀ Շիրակի մարզ | E24: =+E25+E26 -> 0 | F24: =+F25+F26 -> -16050.2 | G24: =+G25+G26 -> 17112.8 | H24: =+H25+H26 -> 17112.8
D25: =+'Հավելված N 3'!C25 -> «Արթիկի պետական քոլեջ» ՊՈԱԿ | E25: 0 | F25: 0 | G25: =+H25 -> 1822.4 | H25: =+'Հավելված N 3'!D25 -> 1822.4
D26: =+'Հավելված N 3'!C26 -> «Գյումրու պետական բժշկական քոլեջ» ՊՈԱԿ | E26: 0 | F26: =+H26-31340.6 -> -16050.2 | G26: =+H26 -> 15290.4 | H26: =+'Հավելված N 3'!D26 -> 15290.4
D27: ՀՀ Տավուշի մարզ | E27: =+E28 -> 0 | F27: =+F28 -> 0 | G27: =+G28 -> 0 | H27: =+H28 -> 11443.4
D28: =+'Հավելված N 3'!C28 -> «Դիլիջանի բազմագործառութային պետական քոլեջ» ՊՈԱԿ | E28: 0 | F28: 0 | G28: 0 | H28: =+'Հավելված N 3'!D28 -> 11443.4
B29: 1045 | C29: 32005 | D29: Մասնագիտական ուսումնական հաստատությունների շենքերի կառուցում | E29: =+E31 -> 0 | F29: =+F31 -> 0 | G29: =+G31 -> 0 | H29: =+H31 -> 40742.1
D30: այդ թվում` ըստ կատարողների
D31: ՀՀ կրթության, գիտության, մշակույթի և սպորտի նախարարություն | E31: =+E33 -> 0 | F31: =+F33 -> 0 | G31: =+G33 -> 0 | H31: =+H33 -> 40742.1
D32: այդ թվում`ըստ ուղղությունների
D33: Երևան քաղաք | E33: =+E34 -> 0 | F33: =+F34 -> 0 | G33: =+G34 -> 0 | H33: =+H34 -> 40742.1
D34: =+'Հավելված N 3'!C32 -> «Երևանի զարդարվեստի պետական արհեստագործական ուսումնարան» ՊՈԱԿ | E34: 0 | F34: 0 | G34: 0 | H34: =+'Հավելված N 3'!D32 -> 40742.1
B35: 1075 | C35: 21001 | D35: Հուշարձանների ամրակայում, նորոգում և վերականգնում | E35: =+E37 -> -63582.6 | F35: =+F37 -> -36929.4 | G35: =+G37 -> -48599.4 | H35: =+H37 -> -58890
D36: այդ թվում` ըստ կատարողների
D37: ՀՀ կրթության, գիտության, մշակույթի և սպորտի նախարարություն | E37: =+E39+E54 -> -63582.6 | F37: =+F39+F54 -> -36929.4 | G37: =+G39+G54 -> -48599.4 | H37: =+H39+H54 -> -58890
D38: այդ թվում՝ ըստ ուղղությունների
D39: 1. Վերականգնողական աշխատանքներ | E39: =+E41+E43+E45+E47+E49+E51 -> -66122.6 | F39: =+F41+F43+F45+F47+F49+F51 -> -39469.4 | G39: =+G41+G43+G45+G47+G49+G51 -> -51139.4 | H39: =+H41+H43+H45+H47+H49+H51 -> -61430
D40: որից`
D41: Երևան քաղաք | E41: =+E42 -> -76243 | F41: =+F42 -> 0 | G41: =+G42 -> 0 | H41: =+H42 -> 0
D42: Հայոց ցեղասպանության հուշահամալիրի և թանգարանի հիմնանորոգում և բարեկարգում | E42: -76243 | F42: 0 | G42: 0 | H42: 0
D43: ՀՀ Արագածոտնի մարզ | E43: =SUM(E44:E44) -> 0 | F43: =SUM(F44:F44) -> -25000 | G43: =SUM(G44:G44) -> -25000 | H43: =SUM(H44:H44) -> -25000
D44: =+'Հավելված N 3'!C38 -> Ամբերդ ամրոցի հրատապ ամրակայման ենթակա հատվածների նորոգում և վերականգնում | E44: 0 | F44: =+H44 -> -25000 | G44: =+H44 -> -25000 | H44: =+'Հավելված N 3'!D38 -> -25000
D45: ՀՀ Լոռու մարզ | E45: =SUM(E46:E46) -> 4633.2 | F45: =SUM(F46:F46) -> 4633.2 | G45: =SUM(G46:G46) -> 4633.2 | H45: =SUM(H46:H46) -> 4633.2
D46: =+'Հավելված N 3'!C40 -> Քոբայրավանք համալիրի գլխավոր եկեղեցու, նրան կից եկեղեցու և Մարիամաշեն եկեղեցու տանիքների վերականգնում | E46: =+H46 -> 4633.2 | F46: =+H46 -> 4633.2 | G46: =+H46 -> 4633.2 | H46: =+'Հավելված N 3'!D40 -> 4633.2
D47: ՀՀ Կոտայքի մարզ | E47: =SUM(E48:E48) -> 0 | F47: =SUM(F48:F48) -> -8330 | G47: =SUM(G48:G48) -> -20000 | H47: =SUM(H48:H48) -> -20000
D48: =+'Հավելված N 3'!C42 -> Պտղնու տաճարի նորոգում, ամրակայում և մասնակի վերականգնում | E48: 0 | F48: -8330 | G48: =+H48 -> -20000 | H48: =+'Հավելված N 3'!D42 -> -20000
D49: ՀՀ Շիրակի մարզ | E49: =SUM(E50:E50) -> 0 | F49: =SUM(F50:F50) -> -10000 | G49: =SUM(G50:G50) -> -10000 | H49: =SUM(H50:H50) -> -10000
D50: =+'Հավելված N 3'!C44 -> Երերույքի տաճարի և փոքր դամբարանի թաղերի ամրակայում, Անիպեմզայի մշակույթի տան վերականգնում և փոքրիկ թանգարանի ստեղծում | E50: 0 | F50: =+H50 -> -10000 | G50: =+H50 -> -10000 | H50: =+'Հավելված N 3'!D44 -> -10000
D51: ՀՀ Տավուշի մարզ | E51: =+E52+E53 -> 5487.2 | F51: =+F52+F53 -> -772.6 | G51: =+G52+G53 -> -772.6 | H51: =+H52+H53 -> -11063.2
D52: =+'Հավելված N 3'!C46 -> Կիրանց գյուղի Սուրբ Երրորդություն եկեղեցու վերականգնում | E52: =+H52 -> 5487.2 | F52: =+H52 -> 5487.2 | G52: =+H52 -> 5487.2 | H52: =+'Հավելված N 3'!D46 -> 5487.2
D53: =+'Հավելված N 3'!C47 -> Տավուշի մարզի «Տավուշ» ամրոցի պարիսպների, կից կառույցների, եկեղեցու ամրակայում, վերականգնում և տարածքի բարեկարգում | E53: 0 | F53: -6259.8 | G53: -6259.8 | H53: =+'Հավելված N 3'!D47 -> -16550.4
D54: 2. Վավերագրման և ուսումնասիրման աշխատանքներ, (այդ թվում՝ հետախուզումև պեղում), գիտանախագծային փաստաթղթերի կազմում և փորձաքննում | E54: =+E56+E58+E60+E62 -> 2540 | F54: =+F56+F58+F60+F62 -> 2540 | G54: =+G56+G58+G60+G62 -> 2540 | H54: =+H56+H58+H60+H62 -> 2540
D55: որից`
D56: ՀՀ Արմավիրի մարզ | E56: =+E57 -> 460 | F56: =+F57 -> 460 | G56: =+G57 -> 460 | H56: =+H57 -> 460
D57: =+'Հավելված N 3'!C51 -> Բագարանի Սբ․ Շուշանիկ եկեղեցու վերականգնման գիտանախագծային փաստաթղթեր | E57: =+H57 -> 460 | F57: =+H57 -> 460 | G57: =+H57 -> 460 | H57: =+'Հավելված N 3'!D51 -> 460
D58: ՀՀ Գեղարքունիքի մարզ | E58: =+E59 -> 680 | F58: =+F59 -> 680 | G58: =+G59 -> 680 | H58: =+H59 -> 680
D59: =+'Հավելված N 3'!C53 -> Բերդկունքի Սպիտակ բերդի նորոգման, ամրակայման և վերականգնման գիտանախագծային փաստաթղթեր | E59: =+H59 -> 680 | F59: =+H59 -> 680 | G59: =+H59 -> 680 | H59: =+'Հավելված N 3'!D53 -> 680
D60: ՀՀ Լոռու մարզ | E60: =+E61 -> 400 | F60: =+F61 -> 400 | G60: =+G61 -> 400 | H60: =+H61 -> 400
D61: =+'Հավելված N 3'!C55 -> Ալավերդի համայնքի Կաճաճկուտ բնակավայրի Սեդվի վանական համալիրի փլուզված եռահարկ աշտարակի նորոգման, ամրակայման, վերականգնման և տարածքի բարեկարգման գիտանախագծային փաստաթղթեր | E61: =+H61 -> 400 | F61: =+H61 -> 400 | G61: =+H61 -> 400 | H61: =+'Հավելված N 3'!D55 -> 400
D62: ՀՀ Վայոց Ձորի մարզ | E62: =+E63+E64 -> 1000 | F62: =+F63+F64 -> 1000 | G62: =+G63+G64 -> 1000 | H62: =+H63+H64 -> 1000
D63: =+'Հավելված N 3'!C57 -> Հորսի իշխան Չեսար Օրբելյանի ապարանքի ամրակայման, նորոգման, վերականգնման գիտանախագծային փաստաթղթեր | E63: =+H63 -> 500 | F63: =+H63 -> 500 | G63: =+H63 -> 500 | H63: =+'Հավելված N 3'!D57 -> 500
D64: =+'Հավելված N 3'!C58 -> Աղնջաձորի Օրբելյանների քարավանատան (Սելիմի) ամրակայման, նորոգման, վերականգնման և տարածքի բարեկարգման գիտանախագծային փաստաթղթերի կազմում | E64: =+H64 -> 500 | F64: =+H64 -> 500 | G64: =+H64 -> 500 | H64: =+'Հավելված N 3'!D58 -> 500
B65: 1075 | C65: 32001 | D65: Ներդրումներ թանգարանների և պատկերասրահների հիմնանորոգման համար | E65: =+E67 -> 123.8 | F65: =+F67 -> -67112.5 | G65: =+G67 -> -180310.4 | H65: =+H67 -> -265208.8
D66: այդ թվում` ըստ կատարողների
D67: ՀՀ կրթության, գիտության, մշակույթի և սպորտի նախարարություն | E67: =+E69 -> 123.8 | F67: =+F69 -> -67112.5 | G67: =+G69 -> -180310.4 | H67: =+H69 -> -265208.8
D68: այդ թվում`ըստ ուղղությունների
D69: Երևան քաղաք | E69: =+E70+E71 -> 123.8 | F69: =+F70+F71 -> -67112.5 | G69: =+G70+G71 -> -180310.4 | H69: =+H70+H71 -> -265208.8
D70: =+'Հավելված N 3'!C62 -> «Հ. Թումանյանի թանգարան» ՊՈԱԿ | E70: 0 | F70: =-84898.4+17662.1 -> -67236.3 | G70: =-198096.3+17662.1 -> -180434.2 | H70: =+'Հավելված N 3'!D62 -> -265332.6
D71: =+'Հավելված N 3'!C63 -> «Հայաստանի ազգային պատկերասրահ» ՊՈԱԿ | E71: =+H71 -> 123.8 | F71: =+H71 -> 123.8 | G71: =+H71 -> 123.8 | H71: =+'Հավելված N 3'!D63 -> 123.8
B72: 1075 | C72: 32012 | D72: Թանգարանների համար նոր շենքերի կառուցում | E72: =+E74 -> 0 | F72: =+F74 -> 0 | G72: =+G74 -> 0 | H72: =+H74 -> 84898.5
D73: այդ թվում` ըստ կատարողների
D74: ՀՀ կրթության, գիտության, մշակույթի և սպորտի նախարարություն | E74: =+E76 -> 0 | F74: =+F76 -> 0 | G74: =+G76 -> 0 | H74: =+H76 -> 84898.5
D75: այդ թվում`ըստ ուղղությունների
D76: Երևան քաղաք | E76: =+E77 -> 0 | F76: =+F77 -> 0 | G76: =+G77 -> 0 | H76: =+H77 -> 84898.5
D77: =+'Հավելված N 3'!C67 -> «Հ. Թումանյանի թանգարան» ՊՈԱԿ | E77: 0 | F77: 0 | G77: 0 | H77: =+'Հավելված N 3'!D67 -> 84898.5
B78: 1183 | C78: 32002 | D78: Կրթական օբյեկտների շենքային ապահովվածության բարելավում | E78: =+E80 -> 0 | F78: =+F80 -> 0 | G78: =+G80 -> 15412 | H78: =+H80 -> 15412
D79: այդ թվում` ըստ կատարողների
D80: ՀՀ կրթության, գիտության, մշակույթի և սպորտի նախարարություն | E80: =+E82 -> 0 | F80: =+F82 -> 0 | G80: =+G82 -> 15412 | H80: =+H82 -> 15412
D81: այդ թվում`ըստ ուղղությունների
D82: Երևան քաղաք | E82: =+E83 -> 0 | F82: =+F83 -> 0 | G82: =+G83 -> 15412 | H82: =+H83 -> 15412
D83: =+'Հավելված N 3'!C71 -> «Երևանի թիվ 54 ավագ դպրոց» ՊՈԱԿ | E83: 0 | F83: 0 | G83: =+H83 -> 15412 | H83: =+'Հավելված N 3'!D71 -> 15412
B84: 1183 | C84: 32004 | D84: Ավագ մակարդակի կրթություն իրականացնող ուսումնական հաստատությունների շենքային պայմանների բարելավում | E84: =+E86 -> 1410.6 | F84: =+F86 -> 1410.6 | G84: =+G86 -> 1410.6 | H84: =+H86 -> 1410.6
D85: այդ թվում` ըստ կատարողների
D86: ՀՀ կրթության, գիտության, մշակույթի և սպորտի նախարարություն | E86: =+E88 -> 1410.6 | F86: =+F88 -> 1410.6 | G86: =+G88 -> 1410.6 | H86: =+H88 -> 1410.6
D87: այդ թվում`ըստ ուղղությունների
D88: ՀՀ Շիրակի մարզ | E88: =+E89 -> 1410.6 | F88: =+F89 -> 1410.6 | G88: =+G89 -> 1410.6 | H88: =+H89 -> 1410.6
D89: =+'Հավելված N 3'!C75 -> «Գյումրու «Ֆոտոն» վարժարան» ՊՈԱԿ | E89: =+H89 -> 1410.6 | F89: =+H89 -> 1410.6 | G89: =+H89 -> 1410.6 | H89: =+'Հավելված N 3'!D75 -> 1410.6
B90: 1192 | C90: 32007 | D90: ՀՀ պետական դպրոցների՝ ԳՏՃՄ լաբորատորիաներով ապահովում | E90: =+E92 -> 0 | F90: =+F92 -> -112092.2 | G90: =+G92 -> -112092.2 | H90: =+H92 -> -112092.2
D91: այդ թվում` ըստ կատարողների
D92: ՀՀ կրթության, գիտության, մշակույթի և սպորտի նախարարություն | E92: 0 | F92: =+H92 -> -112092.2 | G92: =+H92 -> -112092.2 | H92: =+'Հավելված N 3'!D76 -> -112092.2
B93: 1236 | C93: 32004 | D93: Հանրակրթական դպրոցների շենքերի վերակառուցում, հիմնանորոգում | E93: =+E95 -> 0 | F93: =+F95 -> 5703.9 | G93: =+G95 -> 5703.9 | H93: =+H95 -> 5703.9
D94: այդ թվում` ըստ կատարողների
D95: ՀՀ կրթության, գիտության, մշակույթի և սպորտի նախարարություն | E95: =+E97 -> 0 | F95: =+F97 -> 5703.9 | G95: =+G97 -> 5703.9 | H95: =+H97 -> 5703.9
D96: այդ թվում`ըստ ուղղությունների
D97: ՀՀ Արարատի մարզ | E97: =+E98 -> 0 | F97: =+F98 -> 5703.9 | G97: =+G98 -> 5703.9 | H97: =+H98 -> 5703.9
D98: =+'Հավելված N 3'!C80 -> «Արտաշատի ավագ դպրոց» ՊՈԱԿ | E98: 0 | F98: =+H98 -> 5703.9 | G98: =+H98 -> 5703.9 | H98: =+'Հավելված N 3'!D80 -> 5703.9
B99: 1236 | C99: 32006 | D99: Հանրակրթական դպրոցների, մանկապարտեզների և կրթահամալիրների գույքով և տեխնիկայով ապահովում | E99: =+E101 -> -37667.1 | F99: =+F101 -> -11643.8 | G99: =+G101 -> 72808 | H99: =+H101 -> 62003.7
D100: այդ թվում` ըստ կատարողների
D101: ՀՀ կրթության, գիտության, մշակույթի և սպորտի նախարարություն | E101: =-730.1-32000-4937 -> -37667.1 | F101: =-21023.8+31340.6-21960.6 -> -11643.8 | G101: =136071.2-52972.6-10290.6 -> 72808 | H101: =+'Հավելված N 3'!D81 -> 62003.7

Sheet Հավելված N 5
F1: Հավելված 5
F2: ՀՀ կառավարության 2025 թվականի
F3: ______________ ի ___Ն որոշման
A6: ՀԱՅԱՍՏԱՆԻ ՀԱՆՐԱՊԵՏՈՒԹՅԱՆ ԿԱՌԱՎԱՐՈՒԹՅԱՆ 2024 ԹՎԱԿԱՆԻ ԴԵԿՏԵՄԲԵՐԻ 27-Ի N 2060-Ն ՈՐՈՇՄԱՆ N 5 ՀԱՎԵԼՎԱԾԻ N 7 ԱՂՅՈՒՍԱԿՈՒՄ ԿԱՏԱՐՎՈՂ ԼՐԱՑՈՒՄՆԵՐԸ
A7: հազար դրամ
A8: Ծրագրային դասիչը | D8: Բյուջետային հատկացումների գլխավոր կարգադրիչների, ծրագրերի, միջոցառումների և միջոցառումները կատարող պետական մարմինների անվանումները | F8: Միջոցառումները կատարող պետական մարմինների և դրամաշնորհ ստացող տնտեսվարող սուբյեկտների անվանումները | G8: Ցուցանիշների փոփոխությունը (ավելացումները նշված են դրական նշանով)
A9: Ծրագիր | B9: Միջոցառում | G9: Տարի
A10: ՀՀ կրթության, գիտության, մշակույթի և սպորտի նախարարություն | G10: =+G11 -> 62778.3
A11: 1075 | B11: Մշակութային ժառանգության ծրագիր | G11: =+G12+G18+G20 -> 62778.3
B12: 21001 | C12: Հուշարձանների ամրակայում, նորոգում և վերականգնում | F12: ՀՀ կրթության, գիտության, մշակույթի և սպորտի նախարարություն | G12: =+G14 -> 49720
D13: այդ թվում՝ ըստ ուղղությունների և միջոցառումների անվանումների
E14: Վավերագրման և ուսումնասիրման աշխատանքներ, (այդ թվում՝ հետախուզումև պեղում), գիտանախագծային փաստաթղթերի կազմում և փորձաքննում | G14: =+G15+G16+G17 -> 49720
E15: ՀՀ Լոռու մարզի Քոբայրավանքի պարիսպների և կից եկեղեցու պեղումներ | F15: «Պատմամշակութային ժառանգության գիտահետազոտական կենտրոն» ՊՈԱԿ | G15: =14500*1.2 -> 17400
E16: ՀՀ Լոռու մարզի Կայանբերդ ամրոցի պեղումներ | F16: «Պատմամշակութային արգելոց-թանգարանների և պատմական միջավայրի պահպանության ծառայություն» ՊՈԱԿ | G16: =14600*1.2 -> 17520
E17: ՀՀ Վայոց Ձորի մարզի Շատիվանքի վանական համալիրի պեղումներ | F17: ՀՀ ԳԱԱ «Հնագիտության և ազգագրության ինստիտուտ» ՊՈԱԿ | G17: =14800 -> 14800
B18: 32001 | C18: Ներդրումներ թանգարանների և պատկերասրահների հիմնանորոգման համար | F18: ՀՀ կրթության, գիտության, մշակույթի և սպորտի նախարարություն | G18: =+G19 -> 3888.3
F19: «Ռուսական արվեստի թանգարան (պրոֆեսոր Ա. Աբրահամյանի հավաքածու)» ՊՈԱԿ | G19: =1988.3+1900 -> 3888.3
B20: 32008 | C20: Թանգարանների և պատկերասրահների գույքային և տեխնիկական հագեցվածության բարելավում | F20: ՀՀ կրթության, գիտության, մշակույթի և սպորտի նախարարություն | G20: =SUM(G21:G34) -> 9170
F21: «Պատմամշակութային արգելոց-թանգարանների և պատմական միջավայրի պահպանության ծառայություն» ՊՈԱԿ | G21: 9170

Sheet Հավելված N 6
K1: Հավելված N 6
K2: ՀՀ կառավարության 2025 թվականի
K3: ______________ ի ___Ն որոշման
A6: ՀԱՅԱՍՏԱՆԻ ՀԱՆՐԱՊԵՏՈՒԹՅԱՆ ԿԱՌԱՎԱՐՈՒԹՅԱՆ 2024 ԹՎԱԿԱՆԻ ԴԵԿՏԵՄԲԵՐԻ 27-Ի N 2060-Ն ՈՐՈՇՄԱՆ N 9 ՀԱՎԵԼՎԱԾՈՒՄ ԿԱՏԱՐՎՈՂ ՓՈՓՈԽՈՒԹՅՈՒՆՆԵՐԸ ԵՎ ԼՐԱՑՈՒՄՆԵՐԸ
A9: ԲԳԿ | B9: Ծրագիր | D9: Միջոցառում | H9: Իրականացնողը/ ակտիվն օգտագործողը/ շահառուի ընտրության չափորոշիչը | I9: Արդյունքային չափորոշիչը | J9: Ցուցանիշների փոփոխությունը (ավելացումները նշված են դրական նշանով, իսկ նվազեցումները՝ փակագծերում)
B10: Դասիչը | C10: Անվանումը | D10: Դասիչը | E10: Անվանումը | F10: Նկարագրությունը | G10: Տեսակը | J10: Առաջին եռամսյակ | K10: Առաջին կիսամյակ | L10: Ինն ամիս | M10: Տարի
A11: ԸՆԴԱՄԵՆԸ | J11: =+J13+J80 -> 0 | K11: =+K13+K80 -> 2.5465852e-11 | L11: =+L13+L80 -> 0 | M11: =+M13+M80 -> 0
A12: այդ թվում՝
A13: ՀՀ ԿՐԹՈՒԹՅԱՆ, ԳԻՏՈՒԹՅԱՆ, ՄՇԱԿՈԻՅԹԻ ԵՎ ՍՊՈՐՏԻ ՆԱԽԱՐԱՐՈՒԹՅՈՒՆ | J13: =+J14+J26+J50+J60+J70 -> 0 | K13: =+K14+K26+K50+K60+K70 -> 2.5465852e-11 | L13: =+L14+L26+L50+L60+L70 -> 0 | M13: =+M14+M26+M50+M60+M70 -> 0
B14: 1045 | C14: Մասնագիտական կրթության և ուսուցման ծրագիր | J14: =+J15+J20 -> 4937 | K14: =+K15+K20 -> -56207.1 | L14: =+L15+L20 -> -31203 | M14: =+M15+M20 -> -10108.2
D15: 1045 - 32001 | E15: Մասնագիտական ուսումնական հաստատությունների շենքային պայմանների բարելավում | J15: =+'Հավելված N 1'!G17 -> 4937 | K15: =+'Հավելված N 1'!H17 -> -56207.1 | L15: =+'Հավելված N 1'!I17 -> -31203 | M15: =+'Հավելված N 1'!J17 -> -50850.3
F16: Մասնագիտական ուսումնական հաստատությունների շենքերի հիմնանորոգման և նախագծման (շինարարական աշխատանքներ, ջեռուցման համակարգի ստեղծում, ներքին հարդարում, տարածքի բարեկարգում) աշխատանքների իրականացում
G17: Այլ պետական կազմակերպությունների կողմից օգտագործվող ոչ ֆինանսական ակտիվների հետ գործառնություններ
H18: Ակտիվն օգտագործող կազմակերպությունների անվանումները` Մասնագիտական ուսումնական հաստատություններ
I19: Հիմնանորոգվող մասնագիտական ուսումնական հաստատությունների քանակ, հատ | K19: -1 | M19: -1
D20: 1045 - 32005 | E20: Մասնագիտական ուսումնական հաստատությունների շենքերի կառուցում | J20: =+'Հավելված N 1'!G18 -> 0 | K20: =+'Հավելված N 1'!H18 -> 0 | L20: =+'Հավելված N 1'!I18 -> 0 | M20: =+'Հավելված N 1'!J18 -> 40742.1
F21: Մասնագիտական ուսումնական հաստատությունների շենքերի (մասնաշենքերի) կառուցման և նախագծման աշխատանքների իրականացում
G22: Այլ պետական կազմակերպությունների կողմից օգտագործվող ոչ ֆինանսական ակտիվների հետ գործառնություններ
H23: Ակտիվն օգտագործող կազմակերպությունների անվանումները` Մասնագիտական ուսումնական հաստատություններ
I24: Նախագծանախահաշվային փաստաթղթերի քանակ, հատ | M24: 1
B26: 1075 | C26: Մշակութային ժառանգության ծրագիր | J26: =+J27+J34+J39+J44 -> 31319.5 | K26: =+K27+K34+K39+K44 -> 60736.4 | L26: =+L27+L34+L39+L44 -> -64131.5 | M26: =+M27+M34+M39+M44 -> -74422
D27: 1075 - 21001 | E27: Հուշարձանների ամրակայում, նորոգում և վերականգնում | J27: =+'Հավելված N 1'!G20 -> -13862.6 | K27: =+'Հավելված N 1'!H20 -> 12790.6 | L27: =+'Հավելված N 1'!I20 -> 1120.6 | M27: =+'Հավելված N 1'!J20 -> -9170
F28: Հուշարձանների գիտանախագծային փաստաթղթերի կազմում, հրատապ ուսումնասիրում, վավերագրման և ուսումնասիրման աշխատանքներ, հետախուզում և հնագիտական պեղում, ամրակայում, նորոգում և վերականգնում
G29: Հանրության կողմից անմիջականորեն օգտագործվող ակտիվների հետ կապված միջոցառումներ
H30: Ծառայությունը մատուցող կազմակերպության անվանումը` Մասնագիտացված կազմակերպություններ
I31: Հուշարձանների ամրակայման, նորոգման և վերականգնման աշխատանքներ, քանակ | K31: 1 | M31: 1
I32: Հուշարձանների նախագծման, փորձաքննության աշխատանքներ, քանակ | K32: 5 | M32: 5
I33: Հուշարձանների ուսումնասիրման, հետախուզումների և պեղումների աշխատանքներ, քանակ | K33: 3 | M33: 3
D34: 1075 - 32001 | E34: Ներդրումներ թանգարանների և պատկերասրահների հիմնանորոգման համար | J34: =+'Հավելված N 1'!G21 -> 4012.1 | K34: =+'Հավելված N 1'!H21 -> -63224.2 | L34: =+'Հավելված N 1'!I21 -> -176422.1 | M34: =+'Հավելված N 1'!J21 -> -261320.5
F35: Թանգարանների և պատկերասրահների շենքերի, մասնաշենքերի հիմնանորոգում, համաշինարարական աշխատանքներ, ջեռուցման համակարգի իրականացում, ներքին հարդարում, տարածքի բարեկարգում և նախագծում
G36: Այլ պետական կազմակերպությունների կողմից օգտագործվող ոչ ֆինանսական ակտիվների հետ գործառնություններ
H37: Ակտիվն օգտագործող կազմակերպության անվանումը` Թանգարաններ և պատկերասրահներ
I38: Հիմնանորոգվող Թանգարաններ և պատկերասրահներ քանակ, հատ | K38: -1 | M38: -1
D39: 1075 - 32008 | E39: Թանգարանների և պատկերասրահների գույքային և տեխնիկական հագեցվածության բարելավում | J39: =+'Հավելված N 1'!G22 -> 9170 | K39: =+'Հավելված N 1'!H22 -> 9170 | L39: =+'Հավելված N 1'!I22 -> 9170 | M39: =+'Հավելված N 1'!J22 -> 9170
F40: Թանգարանների և պատկերասրահների համար անհրաժեշտ գույքի, տեխնիկայի և սարքավորումների ձեռքբերում
G41: Այլ պետական կազմակերպությունների կողմից օգտագործվող ոչ ֆինանսական ակտիվների հետ գործառնություններ
H42: Ակտիվն օգտագործող կազմակերպության անվանումը` Թանգարաններ և պատկերասրահներ
I43: Կազմակերպությունների թիվը, որտեղ կատարվում են ներդրումները | K43: 1 | M43: 1
D44: 1075 - 32012 | E44: Թանգարանների համար նոր շենքերի կառուցում | J44: =+'Հավելված N 1'!G23 -> 32000 | K44: =+'Հավելված N 1'!H23 -> 102000 | L44: =+'Հավելված N 1'!I23 -> 102000 | M44: =+'Հավելված N 1'!J23 -> 186898.5
F45: Թանգարանների շենքերի, մասնաշենքերի կառուցում և նախագծում, նորաստեղծ թանգարանների նորակառույց շենքերով ապահովում
G46: Այլ պետական կազմակերպությունների կողմից օգտագործվող ոչ ֆինանսական ակտիվների հետ գործառնություններ
H47: Ակտիվն օգտագործող կազմակերպության անվանումը` Թանգարաններ
I48: Կառուցվող թանգարաններ քանակ, հատ | M48: 1
B50: 1183 | C50: Ապահով դպրոց | J50: =+J51+J55 -> 1410.6 | K50: =+K51+K55 -> 1410.6 | L50: =+L51+L55 -> 16822.6 | M50: =+M51+M55 -> 16822.6
D51: 1183 - 32002 | E51: Կրթական օբյեկտների շենքային ապահովվածության բարելավում | J51: =+'Հավելված N 1'!G25 -> 0 | K51: =+'Հավելված N 1'!H25 -> 0 | L51: =+'Հավելված N 1'!I25 -> 15412 | M51: =+'Հավելված N 1'!J25 -> 15412
F52: Կրթական օբյեկտների շենքերի (մասնաշենքերի) կառուցում (համաշինարարական աշխատանքներ, ջեռուցման համակարգի իրականացում, ներքին հարդարում, տարածքի բարեկարգում) և նախագծում
G53: Այլ պետական կազմակերպությունների կողմից օգտագործվող ոչ ֆինանսական ակտիվների հետ գործառնություններ
H54: Ակտիվն օգտագործող կազմակերպությունների անվանումները` Հանրակրթական դպրոցներ
D55: 1183 - 32004 | E55: Ավագ մակարդակի կրթություն իրականացնող ուսումնական հաստատությունների շենքային պայմանների բարելավում | J55: =+'Հավելված N 1'!G26 -> 1410.6 | K55: =+'Հավելված N 1'!H26 -> 1410.6 | L55: =+'Հավելված N 1'!I26 -> 1410.6 | M55: =+'Հավելված N 1'!J26 -> 1410.6
F56: Ավագ դպրոցների շենքային պայմանների բարելավում
G57: Այլ պետական կազմակերպությունների կողմից օգտագործվող ոչ ֆինանսական ակտիվների հետ գործառնություններ
H58: Ակտիվն օգտագործող կազմակերպությունների անվանումները` Ավագ դպրոցներ
B60: 1192 | C60: Կրթության որակի ապահովում | J60: =+J61+J65 -> 0 | K60: =+K61+K65 -> 0 | L60: =+L61+L65 -> 0 | M60: =+M61+M65 -> 0
D61: 1192 - 11024 | E61: ՀՀ պետական դպրոցների ԳՏՃՄ առարկաներ դասավանդող ուսուցիչների վերապատրաստում` նոր ստանդարտներին համապատասխան | J61: =+'Հավելված N 1'!G28 -> 0 | K61: =+'Հավելված N 1'!H28 -> 112092.2 | L61: =+'Հավելված N 1'!I28 -> 112092.2 | M61: =+'Հավելված N 1'!J28 -> 112092.2
F62: Աջակցություն ԳՏՃՄ առարկաների դասավանդման և ուսուցման որակը բարելավելու համար
G63: Ծառայությունների մատուցում
H64: Ծառայությունը մատուցողի անվանումը` Մասնագիտացված կազմակերպություն
D65: 1192 - 32007 | E65: ՀՀ պետական դպրոցների` ԳՏՃՄ լաբորատորիաներով ապահովում | J65: =+'Հավելված N 1'!G29 -> 0 | K65: =+'Հավելված N 1'!H29 -> -112092.2 | L65: =+'Հավելված N 1'!I29 -> -112092.2 | M65: =+'Հավելված N 1'!J29 -> -112092.2
F66: ՀՀ պետական դպրոցների համար ԳՏՃՄ առարկաների լաբորատոր սարքավարումների և կահույքի ձեռքբերում
G67: Այլ պետական կազմակերպությունների կողմից օգտագործվող ոչ ֆինանսական ակտիվների հետ գործառնություններ
H68: Ակտիվն օգտագործող կազմակերպության անվանումը` Հանրակրթական ուսումնական հաստատություններ
B70: 1236 | C70: Հանրակրթական և նախադպրոցական հաստատությունների հիմնում, կառուցում, բարելավում | J70: =+J71+J75 -> -37667.1 | K70: =+K71+K75 -> -5939.9 | L70: =+L71+L75 -> 78511.9 | M70: =+M71+M75 -> 67707.6
D71: 1236 - 32004 | E71: Հանրակրթական դպրոցների շենքերի վերակառուցում, հիմնանորոգում | J71: =+'Հավելված N 1'!G31 -> 0 | K71: =+'Հավելված N 1'!H31 -> 5703.9 | L71: =+'Հավելված N 1'!I31 -> 5703.9 | M71: =+'Հավելված N 1'!J31 -> 5703.9
F72: Դպրոցական պարտադիր կրթության հասանելիության ապահովման նպատակով՛ հանրակրթական դպրոցների շենքերի (մասնաշենքերի), վերակառուցում, հիմնանորոգում և նախագծում
G73: Այլ պետական կազմակերպությունների կողմից օգտագործվող ոչ ֆինանսական ակտիվների հետ գործառնություններ
H74: Ակտիվն օգտագործող կազմակերպությունների անվանումները` Հանրակրթական դպրոցներ
D75: 1236 - 32006 | E75: Հանրակրթական դպրոցների, մանկապարտեզների և կրթահամալիրների գույքով և տեխնիկայով ապահովում | J75: =+'Հավելված N 1'!G32 -> -37667.1 | K75: =+'Հավելված N 1'!H32 -> -11643.8 | L75: =+'Հավելված N 1'!I32 -> 72808 | M75: =+'Հավելված N 1'!J32 -> 62003.7
F76: Կրթական ժամանակակից նորմերին և կրթական չափորոշիչներին համապատասխան ուսուցման ծրագրերն իրականացնելու նպատակով հանրակրթական և նախադպրոցական հաստատությունների համար գույքի և տեխնիկայի ձեռքբերում
G77: Այլ պետական կազմակերպությունների կողմից օգտագործվող ոչ ֆինանսական ակտիվների հետ գործառնություններ
H78: Ակտիվն օգտագործող կազմակերպությունների անվանումները` Հանրակրթական դպրոցներ, մանկապարտեզներ և կրթահամալիրներ
A80: ՀՀ ԿԱՌԱՎԱՐՈՒԹՅՈՒՆ | J80: =+J81+J95+J101 -> 0 | K80: =+K81+K95+K101 -> 0 | L80: =+L81+L95+L101 -> 0 | M80: =+M81+M95+M101 -> 0
B81: 1139 | C81: ՀՀ կառավարության պահուստային ֆոնդ | J81: =+J82+J86 -> 0 | K81: =+K82+K86 -> 0 | L81: =+L82+L86 -> 0 | M81: =+M82+M86 -> 0
D82: 1139 - 11001 | E82: ՀՀ կառավարության պահուստային ֆոնդ | J82: =+'Հավելված N 1'!G36 -> 32000 | K82: =+'Հավելված N 1'!H36 -> 102000 | L82: =+'Հավելված N 1'!I36 -> 102000 | M82: =+'Հավելված N 1'!J36 -> 186898.5
F83: ՀՀ պետական բյուջեում նախատեսված ելքերի լրացուցիչ ֆինանսավորման, պետական բյուջեում չկանխատեսված ելքերի, ինչպես նաև բյուջետային երաշխիքների ապահովման ելքերի ֆինանսավորման ապահովում
G84: Ծառայությունների մատուցում
H85: Ծառայությունը մատուցողի անվանումը` ՀՀ կառավարություն
D86: 1139 - 11001 | E86: ՀՀ կառավարության պահուստային ֆոնդ | J86: =+'Հավելված N 1'!G37 -> -32000 | K86: =+'Հավելված N 1'!H37 -> -102000 | L86: =+'Հավելված N 1'!I37 -> -102000 | M86: =+'Հավելված N 1'!J37 -> -186898.5
F87: ՀՀ պետական բյուջեում նախատեսված ելքերի լրացուցիչ ֆինանսավորման, պետական բյուջեում չկանխատեսված ելքերի, ինչպես նաև բյուջետային երաշխիքների ապահովման ելքերի ֆինանսավորման ապահովում
G88: Ծառայությունների մատուցում
H89: Ծառայությունը մատուցողի անվանումը` ՀՀ կառավարություն

Sheet Հավելված N 7
K1: Հավելված N 7
K2: ՀՀ կառավարության 2025 թվականի
K3: ______________ ի ___Ն որոշման
A6: ՀԱՅԱՍՏԱՆԻ ՀԱՆՐԱՊԵՏՈՒԹՅԱՆ ԿԱՌԱՎԱՐՈՒԹՅԱՆ 2024 ԹՎԱԿԱՆԻ ԴԵԿՏԵՄԲԵՐԻ 27-Ի N 2060-Ն ՈՐՈՇՄԱՆ N 9.1 ՀԱՎԵԼՎԱԾՈՒՄ ԿԱՏԱՐՎՈՂ ՓՈՓՈԽՈՒԹՅՈՒՆՆԵՐԸ ԵՎ ԼՐԱՑՈՒՄՆԵՐԸ
A9: ԲՍԿ | B9: Ծրագիր | D9: Միջոցառում | H9: Իրականացնողը/ ակտիվն օգտագործողը/ շահառուի ընտրության չափորոշիչը | I9: Արդյունքային չափորոշիչը | J9: Ցուցանիշների փոփոխությունը (ավելացումները նշված են դրական նշանով, իսկ նվազեցումները՝ փակագծերում)
B10: Դասիչը | C10: Անվանումը | D10: Դասիչը | E10: Անվանումը | F10: Նկարագրությունը | G10: Տեսակը | J10: Առաջին եռամսյակ | K10: Առաջին կիսամյակ | L10: Ինն ամիս | M10: Տարի
A11: ԸՆԴԱՄԵՆԸ | J11: =+J13+J80 -> 0 | K11: =+K13+K80 -> 2.5465852e-11 | L11: =+L13+L80 -> 0 | M11: =+M13+M80 -> 0
A12: այդ թվում՝
A13: ՀՀ ԿՐԹՈՒԹՅԱՆ, ԳԻՏՈՒԹՅԱՆ, ՄՇԱԿՈԻՅԹԻ ԵՎ ՍՊՈՐՏԻ ՆԱԽԱՐԱՐՈՒԹՅՈՒՆ | J13: =+J14+J26+J50+J60+J70 -> 0 | K13: =+K14+K26+K50+K60+K70 -> 2.5465852e-11 | L13: =+L14+L26+L50+L60+L70 -> 0 | M13: =+M14+M26+M50+M60+M70 -> 0
B14: 1045 | C14: Մասնագիտական կրթության և ուսուցման ծրագիր | J14: =+J15+J20 -> 4937 | K14: =+K15+K20 -> -56207.1 | L14: =+L15+L20 -> -31203 | M14: =+M15+M20 -> -10108.2
D15: 1045 - 32001 | E15: Մասնագիտական ուսումնական հաստատությունների շենքային պայմանների բարելավում | J15: =+'Հավելված N 2'!G138 -> 4937 | K15: =+'Հավելված N 2'!H138 -> -56207.1 | L15: =+'Հավելված N 2'!I138 -> -31203 | M15: =+'Հավելված N 2'!J138 -> -50850.3
F16: Մասնագիտական ուսումնական հաստատությունների շենքերի հիմնանորոգման և նախագծման (շինարարական աշխատանքներ, ջեռուցման համակարգի ստեղծում, ներքին հարդարում, տարածքի բարեկարգում) աշխատանքների իրականացում
G17: Այլ պետական կազմակերպությունների կողմից օգտագործվող ոչ ֆինանսական ակտիվների հետ գործառնություններ
H18: Ակտիվն օգտագործող կազմակերպությունների անվանումները` Մասնագիտական ուսումնական հաստատություններ
I19: Հիմնանորոգվող մասնագիտական ուսումնական հաստատությունների քանակ, հատ | K19: -1 | M19: -1
D20: 1045 - 32005 | E20: Մասնագիտական ուսումնական հաստատությունների շենքերի կառուցում | J20: =+'Հավելված N 2'!G149 -> 0 | K20: =+'Հավելված N 2'!H149 -> 0 | L20: =+'Հավելված N 2'!I149 -> 0 | M20: =+'Հավելված N 2'!J149 -> 40742.1
F21: Մասնագիտական ուսումնական հաստատությունների շենքերի (մասնաշենքերի) կառուցման և նախագծման աշխատանքների իրականացում
G22: Այլ պետական կազմակերպությունների կողմից օգտագործվող ոչ ֆինանսական ակտիվների հետ գործառնություններ
H23: Ակտիվն օգտագործող կազմակերպությունների անվանումները` Մասնագիտական ուսումնական հաստատություններ
I24: Նախագծանախահաշվային փաստաթղթերի քանակ, հատ | M24: 1
B26: 1075 | C26: Մշակութային ժառանգության ծրագիր | J26: =+J27+J34+J39+J44 -> 31319.5 | K26: =+K27+K34+K39+K44 -> 60736.4 | L26: =+L27+L34+L39+L44 -> -64131.5 | M26: =+M27+M34+M39+M44 -> -74422
D27: 1075 - 21001 | E27: Հուշարձանների ամրակայում, նորոգում և վերականգնում | J27: =+'Հավելված N 2'!G68 -> -13862.6 | K27: =+'Հավելված N 2'!H68 -> 12790.6 | L27: =+'Հավելված N 2'!I68 -> 1120.6 | M27: =+'Հավելված N 2'!J68 -> -9170
F28: Հուշարձանների գիտանախագծային փաստաթղթերի կազմում, հրատապ ուսումնասիրում, վավերագրման և ուսումնասիրման աշխատանքներ, հետախուզում և հնագիտական պեղում, ամրակայում, նորոգում և վերականգնում
G29: Հանրության կողմից անմիջականորեն օգտագործվող ակտիվների հետ կապված միջոցառումներ
H30: Ծառայությունը մատուցող կազմակերպության անվանումը` Մասնագիտացված կազմակերպություններ
I31: Հուշարձանների ամրակայման, նորոգման և վերականգնման աշխատանքներ, քանակ | K31: 1 | M31: 1
I32: Հուշարձանների նախագծման, փորձաքննության աշխատանքներ, քանակ | K32: 5 | M32: 5
I33: Հուշարձանների ուսումնասիրման, հետախուզումների և պեղումների աշխատանքներ, քանակ | K33: 3 | M33: 3
D34: 1075 - 32001 | E34: Ներդրումներ թանգարանների և պատկերասրահների հիմնանորոգման համար | J34: =+'Հավելված N 2'!G28 -> 4012.1 | K34: =+'Հավելված N 2'!H28 -> -63224.2 | L34: =+'Հավելված N 2'!I28 -> -176422.1 | M34: =+'Հավելված N 2'!J28 -> -261320.5
F35: Թանգարանների և պատկերասրահների շենքերի, մասնաշենքերի հիմնանորոգում, համաշինարարական աշխատանքներ, ջեռուցման համակարգի իրականացում, ներքին հարդարում, տարածքի բարեկարգում և նախագծում
G36: Այլ պետական կազմակերպությունների կողմից օգտագործվող ոչ ֆինանսական ակտիվների հետ գործառնություններ
H37: Ակտիվն օգտագործող կազմակերպության անվանումը` Թանգարաններ և պատկերասրահներ
I38: Հիմնանորոգվող Թանգարաններ և պատկերասրահներ քանակ, հատ | K38: -1 | M38: -1
D39: 1075 - 32008 | E39: Թանգարանների և պատկերասրահների գույքային և տեխնիկական հագեցվածության բարելավում | J39: =+'Հավելված N 2'!G41 -> 9170 | K39: =+'Հավելված N 2'!H41 -> 9170 | L39: =+'Հավելված N 2'!I41 -> 9170 | M39: =+'Հավելված N 2'!J41 -> 9170
F40: Թանգարանների և պատկերասրահների համար անհրաժեշտ գույքի, տեխնիկայի և սարքավորումների ձեռքբերում
G41: Այլ պետական կազմակերպությունների կողմից օգտագործվող ոչ ֆինանսական ակտիվների հետ գործառնություններ
H42: Ակտիվն օգտագործող կազմակերպության անվանումը` Թանգարաններ և պատկերասրահներ
I43: Կազմակերպությունների թիվը, որտեղ կատարվում են ներդրումները | K43: 1 | M43: 1
D44: 1075 - 32012 | E44: Թանգարանների համար նոր շենքերի կառուցում | J44: =+'Հավելված N 2'!G50 -> 32000 | K44: =+'Հավելված N 2'!H50 -> 102000 | L44: =+'Հավելված N 2'!I50 -> 102000 | M44: =+'Հավելված N 2'!J50 -> 186898.5
F45: Թանգարանների շենքերի, մասնաշենքերի կառուցում և նախագծում, նորաստեղծ թանգարանների նորակառույց շենքերով ապահովում
G46: Այլ պետական կազմակերպությունների կողմից օգտագործվող ոչ ֆինանսական ակտիվների հետ գործառնություններ
H47: Ակտիվն օգտագործող կազմակերպության անվանումը` Թանգարաններ
I48: Կառուցվող թանգարաններ քանակ, հատ | M48: 1
B50: 1183 | C50: Ապահով դպրոց | J50: =+J51+J55 -> 1410.6 | K50: =+K51+K55 -> 1410.6 | L50: =+L51+L55 -> 16822.6 | M50: =+M51+M55 -> 16822.6
D51: 1183 - 32002 | E51: Կրթական օբյեկտների շենքային ապահովվածության բարելավում | J51: =+'Հավելված N 2'!G160 -> 0 | K51: =+'Հավելված N 2'!H160 -> 0 | L51: =+'Հավելված N 2'!I160 -> 15412 | M51: =+'Հավելված N 2'!J160 -> 15412
F52: Կրթական օբյեկտների շենքերի (մասնաշենքերի) կառուցում (համաշինարարական աշխատանքներ, ջեռուցման համակարգի իրականացում, ներքին հարդարում, տարածքի բարեկարգում) և նախագծում
G53: Այլ պետական կազմակերպությունների կողմից օգտագործվող ոչ ֆինանսական ակտիվների հետ գործառնություններ
H54: Ակտիվն օգտագործող կազմակերպությունների անվանումները` Հանրակրթական դպրոցներ
D55: 1183 - 32004 | E55: Ավագ մակարդակի կրթություն իրականացնող ուսումնական հաստատությունների շենքային պայմանների բարելավում | J55: =+'Հավելված N 2'!G169 -> 1410.6 | K55: =+'Հավելված N 2'!H169 -> 1410.6 | L55: =+'Հավելված N 2'!I169 -> 1410.6 | M55: =+'Հավելված N 2'!J169 -> 1410.6
F56: Ավագ դպրոցների շենքային պայմանների բարելավում
G57: Այլ պետական կազմակերպությունների կողմից օգտագործվող ոչ ֆինանսական ակտիվների հետ գործառնություններ
H58: Ակտիվն օգտագործող կազմակերպությունների անվանումները` Ավագ դպրոցներ
B60: 1192 | C60: Կրթության որակի ապահովում | J60: =+J61+J65 -> 0 | K60: =+K61+K65 -> 0 | L60: =+L61+L65 -> 0 | M60: =+M61+M65 -> 0
D61: 1192 - 11024 | E61: ՀՀ պետական դպրոցների ԳՏՃՄ առարկաներ դասավանդող ուսուցիչների վերապատրաստում` նոր ստանդարտներին համապատասխան | J61: =+'Հավելված N 2'!G93 -> 0 | K61: =+'Հավելված N 2'!H93 -> 112092.2 | L61: =+'Հավելված N 2'!I93 -> 112092.2 | M61: =+'Հավելված N 2'!J93 -> 112092.2
F62: Աջակցություն ԳՏՃՄ առարկաների դասավանդման և ուսուցման որակը բարելավելու համար
G63: Ծառայությունների մատուցում
H64: Ծառայությունը մատուցողի անվանումը` Մասնագիտացված կազմակերպություն
D65: 1192 - 32007 | E65: ՀՀ պետական դպրոցների` ԳՏՃՄ լաբորատորիաներով ապահովում | J65: =+'Հավելված N 2'!G101 -> 0 | K65: =+'Հավելված N 2'!H101 -> -112092.2 | L65: =+'Հավելված N 2'!I101 -> -112092.2 | M65: =+'Հավելված N 2'!J101 -> -112092.2
F66: ՀՀ պետական դպրոցների համար ԳՏՃՄ առարկաների լաբորատոր սարքավարումների և կահույքի ձեռքբերում
G67: Այլ պետական կազմակերպությունների կողմից օգտագործվող ոչ ֆինանսական ակտիվների հետ գործառնություններ
H68: Ակտիվն օգտագործող կազմակերպության անվանումը` Հանրակրթական ուսումնական հաստատություններ
B70: 1236 | C70: Հանրակրթական և նախադպրոցական հաստատությունների հիմնում, կառուցում, բարելավում | J70: =+J71+J75 -> -37667.1 | K70: =+K71+K75 -> -5939.9 | L70: =+L71+L75 -> 78511.9 | M70: =+M71+M75 -> 67707.6
D71: 1236 - 32004 | E71: Հանրակրթական դպրոցների շենքերի վերակառուցում, հիմնանորոգում | J71: =+'Հավելված N 2'!G112 -> 0 | K71: =+'Հավելված N 2'!H112 -> 5703.9 | L71: =+'Հավելված N 2'!I112 -> 5703.9 | M71: =+'Հավելված N 2'!J112 -> 5703.9
F72: Դպրոցական պարտադիր կրթության հասանելիության ապահովման նպատակով՛ հանրակրթական դպրոցների շենքերի (մասնաշենքերի), վերակառուցում, հիմնանորոգում և նախագծում
G73: Այլ պետական կազմակերպությունների կողմից օգտագործվող ոչ ֆինանսական ակտիվների հետ գործառնություններ
H74: Ակտիվն օգտագործող կազմակերպությունների անվանումները` Հանրակրթական դպրոցներ
D75: 1236 - 32006 | E75: Հանրակրթական դպրոցների, մանկապարտեզների և կրթահամալիրների գույքով և տեխնիկայով ապահովում | J75: =+'Հավելված N 2'!G121 -> -37667.1 | K75: =+'Հավելված N 2'!H121 -> -11643.8 | L75: =+'Հավելված N 2'!I121 -> 72808 | M75: =+'Հավելված N 2'!J121 -> 62003.7
F76: Կրթական ժամանակակից նորմերին և կրթական չափորոշիչներին համապատասխան ուսուցման ծրագրերն իրականացնելու նպատակով հանրակրթական և նախադպրոցական հաստատությունների համար գույքի և տեխնիկայի ձեռքբերում
G77: Այլ պետական կազմակերպությունների կողմից օգտագործվող ոչ ֆինանսական ակտիվների հետ գործառնություններ
H78: Ակտիվն օգտագործող կազմակերպությունների անվանումները` Հանրակրթական դպրոցներ, մանկապարտեզներ և կրթահամալիրներ
A80: ՀՀ ԿԱՌԱՎԱՐՈՒԹՅՈՒՆ | J80: =+J81+J95+J101 -> 0 | K80: =+K81+K95+K101 -> 0 | L80: =+L81+L95+L101 -> 0 | M80: =+M81+M95+M101 -> 0
B81: 1139 | C81: ՀՀ կառավարության պահուստային ֆոնդ | J81: =+J82+J86 -> 0 | K81: =+K82+K86 -> 0 | L81: =+L82+L86 -> 0 | M81: =+M82+M86 -> 0
D82: 1139 - 11001 | E82: ՀՀ կառավարության պահուստային ֆոնդ | J82: =+'Հավելված N 2'!G190 -> 32000 | K82: =+'Հավելված N 2'!H190 -> 102000 | L82: =+'Հավելված N 2'!I190 -> 102000 | M82: =+'Հավելված N 2'!J190 -> 186898.5
F83: ՀՀ պետական բյուջեում նախատեսված ելքերի լրացուցիչ ֆինանսավորման, պետական բյուջեում չկանխատեսված ելքերի, ինչպես նաև բյուջետային երաշխիքների ապահովման ելքերի ֆինանսավորման ապահովում
G84: Ծառայությունների մատուցում
H85: Ծառայությունը մատուցողի անվանումը` ՀՀ կառավարություն
D86: 1139 - 11001 | E86: ՀՀ կառավարության պահուստային ֆոնդ | J86: =+'Հավելված N 2'!G198 -> -32000 | K86: =+'Հավելված N 2'!H198 -> -102000 | L86: =+'Հավելված N 2'!I198 -> -102000 | M86: =+'Հավելված N 2'!J198 -> -186898.5
F87: ՀՀ պետական բյուջեում նախատեսված ելքերի լրացուցիչ ֆինանսավորման, պետական բյուջեում չկանխատեսված ելքերի, ինչպես նաև բյուջետային երաշխիքների ապահովման ելքերի ֆինանսավորման ապահովում
G88: Ծառայությունների մատուցում
H89: Ծառայությունը մատուցողի անվանումը` ՀՀ կառավարություն

Sheet Հավելված N 8
H1: Հավելված N 8
H2: ՀՀ կառավարության 2025 թվականի
H3: ______________ ի ___Ն որոշման
A6: ՀԱՅԱՍՏԱՆԻ ՀԱՆՐԱՊԵՏՈՒԹՅԱՆ ԿԱՌԱՎԱՐՈՒԹՅԱՆ 2024 ԹՎԱԿԱՆԻ ԴԵԿՏԵՄԲԵՐԻ 27-Ի N 2060-Ն N 10 ՀԱՎԵԼՎԱԾՈՒՄ ԿԱՏԱՐՎՈՂ ՓՈՓՈԽՈՒԹՅՈՒՆՆԵՐԸ ԵՎ ԼՐԱՑՈՒՄՆԵՐԸ
A10: Կոդը | B10: Անվանումը | E10: Գնման ձևը | F10: Չափման միավորը | G10: Միավորի գինը | H10: Ցուցանիշների փոփոխությունը (ավելացումները նշված են դրական նշանով, իսկ նվազեցումները՝ փակագծերում)
H11: Քանակը | I11: Գումարը (հազար դրամ)
A12: 1 | B12: 2 | E12: 3 | F12: 4 | G12: 5 | H12: 6 | I12: 7
A13: ՀՀ կրթության, գիտության, մշակույթի և սպորտի նախարարություն | I13: =+I14+I27+I44+I51 -> -228316.2
A14: Բաժին N 08 | B14: Խումբ N 02 | C14: Դաս N 02 | D14: Թանգարաններ և ցուցասրահներ | I14: =+I15+I21 -> -180434.1
A15: 1075-32001 | B15: Ներդրումներ թանգարանների և պատկերասրահների հիմնանորոգման համար | I15: =+I16+I18 -> -265332.6
B16: ՄԱՍ II. ԱՇԽԱՏԱՆՔՆԵՐ | I16: =+I17 -> -263042.3
A17: 45611200-1 | B17: մշակութային օբյեկտների հիմնանորոգում | E17: ԲՄ | F17: դրամ | I17: -263042.3
B18: ՄԱՍ III. ԾԱՌԱՅՈՒԹՅՈՒՆՆԵՐ | I18: =SUM(I19:I20) -> -2290.3
A19: 71351540-1 | B19: տեխնիկական հսկողության ծառայություններ | E19: ԳՀ | F19: դրամ | G19: 589100 | H19: -1 | I19: =+ROUNDDOWN(H19*G19/1000,1) -> -589.1
A20: 98111140-1 | B20: հեղինակային հսկողության ծառայություններ | E20: ՄԱ | F20: դրամ | G20: 1701234 | H20: -1 | I20: =+ROUNDDOWN(H20*G20/1000,1) -> -1701.2
A21: 1075-32012 | B21: Թանգարանների համար նոր շենքերի կառուցում | I21: =+I22+I24 -> 84898.5
B22: ՄԱՍ II. ԱՇԽԱՏԱՆՔՆԵՐ | I22: =+I23 -> 84211.3
A23: 45221142 | B23: ընդհանուր շինարարական աշխատանքներ | E23: ԲՄ | F23: դրամ | G23: 84211290 | H23: 1 | I23: =+ROUNDUP(H23*G23/1000,1) -> 84211.3
B24: ՄԱՍ III. ԾԱՌԱՅՈՒԹՅՈՒՆՆԵՐ | I24: =SUM(I25:I26) -> 687.2
A25: 71351540-1 | B25: տեխնիկական հսկողության ծառայություններ | E25: ԳՀ | F25: դրամ | G25: 176730 | H25: 1 | I25: =+ROUNDUP(H25*G25/1000,1) -> 176.8
A26: 98111140-1 | B26: հեղինակային հսկողության ծառայություններ | E26: ՄԱ | F26: դրամ | G26: 510370 | H26: 1 | I26: =+ROUNDUP(H26*G26/1000,1) -> 510.4
A27: Բաժին N 08 | B27: Խումբ N 02 | C27: Դաս N 07 | D27: Հուշարձանների և մշակութային արժեքների վերականգնում և պահպանում | I27: =+I28 -> -58890
A28: 1075-21001 | B28: Հուշարձանների ամրակայում, նորոգում և վերականգնում | I28: =+I29+I36 -> -58890
B29: ՄԱՍ II. ԱՇԽԱՏԱՆՔՆԵՐ | I29: =SUM(I30:I35) -> -61568.6
A30: 45451600 | B30: վերականգնողական աշխատանքներ | E30: ԳՀ | F30: դրամ | G30: 4494533 | H30: 1 | I30: =+ROUNDUP(H30*G30/1000,1) -> 4494.6
A31: 45451600-2 | B31: վերականգնողական աշխատանքներ | E31: ԲՄ | F31: դրամ | I31: -25000
A32: 45451600-12 | B32: վերականգնողական աշխատանքներ | E32: ԲՄ | F32: դրամ | I32: -10000
A33: 45451600-17 | B33: վերականգնողական աշխատանքներ | E33: ԲՄ | F33: դրամ | I33: -16550.4
A34: 45451600-18 | B34: վերականգնողական աշխատանքներ | E34: ԳՀ | F34: դրամ | G34: 5487164 | H34: 1 | I34: =+ROUNDUP(H34*G34/1000,1) -> 5487.2
A35: 45451600-19 | B35: վերականգնողական աշխատանքներ | E35: ԲՄ | F35: դրամ | I35: -20000
B36: ՄԱՍ III. ԾԱՌԱՅՈՒԹՅՈՒՆՆԵՐ | I36: =SUM(I37:I43) -> 2678.6
A37: 71351540 | B37: տեխնիկական հսկողության ծառայություններ | E37: ԳՀ | F37: դրամ | G37: 78000 | H37: 1 | I37: =+ROUNDUP(H37*G37/1000,1) -> 78
A38: 98111140 | B38: հեղինակային հսկողության ծառայություններ | E38: ՄԱ | F38: դրամ | G38: 60590 | H38: 1 | I38: =+ROUNDUP(H38*G38/1000,1) -> 60.6
A39: 50531140 | B39: փորձաքննության ծառայություններ | E39: ԳՀ | F39: դրամ | G39: 460000 | H39: 1 | I39: =+ROUND(H39*G39/1000,1) -> 460
A40: 50531140 | B40: փորձաքննության ծառայություններ | E40: ԳՀ | F40: դրամ | G40: 680000 | H40: 1 | I40: =+ROUND(H40*G40/1000,1) -> 680
A41: 50531140 | B41: փորձաքննության ծառայություններ | E41: ԳՀ | F41: դրամ | G41: 400000 | H41: 1 | I41: =+ROUND(H41*G41/1000,1) -> 400
A42: 50531140 | B42: փորձաքննության ծառայություններ | E42: ԳՀ | F42: դրամ | G42: 500000 | H42: 1 | I42: =+ROUND(H42*G42/1000,1) -> 500
A43: 50531140 | B43: փորձաքննության ծառայություններ | E43: ԳՀ | F43: դրամ | G43: 500000 | H43: 1 | I43: =+ROUND(H43*G43/1000,1) -> 500
A44: Բաժին N 09 | B44: Խումբ N 02 | C44: Դաս N 01 | D44: Հիմնական ընդհանուր կրթություն | I44: =+I45 -> 5703.9
A45: 1236-32004 | B45: Հանրակրթական դպրոցների շենքերի վերակառուցում, հիմնանորոգում | I45: =+I46+I48 -> 5703.9
B46: ՄԱՍ II. ԱՇԽԱՏԱՆՔՆԵՐ | I46: =+I47 -> 4992
A47: 45111100 | B47: քանդման աշխատանքներ | E47: ԳՀ | F47: դրամ | G47: 4992000 | H47: 1 | I47: =+ROUNDUP(H47*G47/1000,1) -> 4992
B48: ՄԱՍ III. ԾԱՌԱՅՈՒԹՅՈՒՆՆԵՐ | I48: =SUM(I49:I50) -> 711.9
A49: 71351540 | B49: տեխնիկական հսկողության ծառայություններ | E49: ՀՄԱ | F49: դրամ | G49: 540000 | H49: 1 | I49: =+ROUNDUP(H49*G49/1000,1) -> 540
A50: 98111140 | B50: հեղինակային հսկողության ծառայություններ | E50: ՄԱ | F50: դրամ | G50: 171810 | H50: 1 | I50: =+ROUNDUP(H50*G50/1000,1) -> 171.9
A51: Բաժին N 09 | B51: Խումբ N 06 | C51: Դաս N 01 | D51: Կրթությանը տրամադրվող օժանդակ ծառայություններ | I51: =+I52+I71+I75 -> 5304
A52: 1045-32001 | B52: Մասնագիտական ուսումնական հաստատությունների շենքային պայմանների բարելավում | I52: =+I53+I56 -> -50850.1
B53: ՄԱՍ II. ԱՇԽԱՏԱՆՔՆԵՐ | I53: =SUM(I54:I55) -> -64377.3
A54: 45611100-1 | B54: կրթական օբյեկտների հիմնանորոգում | E54: ԲՄ | F54: դրամ | I54: 85622.7
A55: 45611100-2 | B55: կրթական օբյեկտների հիմնանորոգում | E55: ԲՄ | F55: դրամ | G55: 150000000 | H55: -1 | I55: =+ROUNDDOWN(G55*H55/1000,1) -> -150000
B56: ՄԱՍ III. ԾԱՌԱՅՈՒԹՅՈՒՆՆԵՐ | I56: =SUM(I57:I70) -> 13527.2
A57: 71351540-1 | B57: տեխնիկական հսկողության ծառայություններ | E57: ԳՀ | F57: դրամ | I57: 919.6
A58: 71351540-2 | B58: տեխնիկական հսկողության ծառայություններ | E58: ԳՀ | F58: դրամ | G58: 4500000 | H58: -1 | I58: =+ROUNDDOWN(G58*H58/1000,1) -> -4500
A59: 98111140-1 | B59: հեղինակային հսկողության ծառայություններ | E59: ՄԱ | F59: դրամ | I59: 342.7
A60: 98111140-2 | B60: հեղինակային հսկողության ծառայություններ | E60: ՄԱ | F60: դրամ | G60: 953866 | H60: -1 | I60: =+ROUNDDOWN(G60*H60/1000,1) -> -953.8
A61: 71241200 | B61: նախագծերի պատրաստում, ծախսերի գնահատում | E61: ԳՀ | F61: դրամ | G61: 4750000 | H61: 1 | I61: =+ROUND(G61*H61/1000,1) -> 4750
A62: 71241200-1 | B62: նախագծերի պատրաստում, ծախսերի գնահատում | E62: ԳՀ | F62: դրամ | G62: 16440000 | H62: -1 | I62: =+ROUNDDOWN(G62*H62/1000,1) -> -16440
A63: 71241200-3 | B63: նախագծերի պատրաստում, ծախսերի գնահատում | E63: ԳՀ | F63: դրամ | G63: 1346600 | H63: 1 | I63: =+ROUNDUP(G63*H63/1000,1) -> 1346.6
A64: 71241200 | B64: նախագծերի պատրաստում, ծախսերի գնահատում | E64: ԳՀ | F64: դրամ | G64: 14160000 | H64: 1 | I64: =+ROUNDUP(G64*H64/1000,1) -> 14160
A65: 71241200-5 | B65: նախագծերի պատրաստում, ծախսերի գնահատում | E65: ԳՀ | F65: դրամ | I65: 11443.4
A66: 50531140 | B66: փորձաքննության ծառայություններ | E66: ԳՀ | F66: դրամ | G66: 781610 | H66: 1 | I66: =+ROUNDUP(G66*H66/1000,1) -> 781.7
A67: 50531140-1 | B67: փորձաքննության ծառայություններ | E67: ԳՀ | F67: դրամ | G67: 877000 | H67: -1 | I67: =+ROUNDDOWN(G67*H67/1000,1) -> -877
A68: 50531140-4 | B68: փորձաքննության ծառայություններ | E68: ԳՀ | F68: դրամ | G68: 1236600 | H68: 1 | I68: =+ROUNDUP(G68*H68/1000,1) -> 1236.6
A69: 50531140-3 | B69: փորձաքննության ծառայություններ | E69: ԳՀ | F69: դրամ | I69: 187
A70: 50531140 | B70: փորձաքննության ծառայություններ | E70: ԳՀ | F70: դրամ | G70: 1130400 | H70: 1 | I70: =+ROUNDUP(G70*H70/1000,1) -> 1130.4
A71: 1045-32005 | B71: Մասնագիտական ուսումնական հաստատությունների շենքերի կառուցում | I71: =+I72 -> 40742.1
B72: ՄԱՍ III. ԾԱՌԱՅՈՒԹՅՈՒՆՆԵՐ | I72: =SUM(I73:I74) -> 40742.1
A73: 71241200 | B73: նախագծերի պատրաստում, ծախսերի գնահատում | E73: ԳՀ | F73: դրամ | G73: 38802000 | H73: 1 | I73: =+ROUNDUP(G73*H73/1000,1) -> 38802
A74: 50531140 | B74: փորձաքննության ծառայություններ | E74: ԳՀ | F74: դրամ | G74: 1940100 | H74: 1 | I74: =+ROUNDUP(G74*H74/1000,1) -> 1940.1
A75: 1183-32002 | B75: Կրթական օբյեկտների շենքային ապահովվածության բարելավում | I75: =+I76 -> 15412
B76: ՄԱՍ II. ԱՇԽԱՏԱՆՔՆԵՐ | I76: =SUM(I77:I77) -> 15412
A77: 45611100-1 | B77: կրթական օբյեկտների հիմնանորոգում | E77: ԲՄ | F77: դրամ | I77: 15412

Sheet Հավելված N 9
F1: Հավելված N 9
J2: ՀՀ կառավարության 2025 թվականի
J3: ______________ ի ___Ն որոշման
A6: ՀԱՅԱՍՏԱՆԻ ՀԱՆՐԱՊԵՏՈՒԹՅԱՆ 2025 ԹՎԱԿԱՆԻ ՊԵՏԱԿԱՆ ԲՅՈՒՋԵՈՎ ՆԱԽԱՏԵՍՎԱԾ՝ ՀԱՅԱՍՏԱՆԻ ՀԱՆՐԱՊԵՏՈՒԹՅԱՆ ԿԱՌԱՎԱՐՈՒԹՅԱՆ ՊԱՀՈՒՍՏԱՅԻՆ ՖՈՆԴԻՑ ՀԱՏԿԱՑՈՒՄՆԵՐ ԿԱՏԱՐԵԼՈՒ ՎԵՐԱԲԵՐՅԱԼ
A9: Գործառական դասիչը | D9: Ծրագրային դասիչը | F9: Բյուջետային հատկացումների գլխավոր կարգադրիչների, ծրագրերի, միջոցառումների և միջոցառումները կատարող պետական մարմինների անվանումները | G9: Ցուցանիշների փոփոխությունը (ավելացումները նշված են դրական նշանով, իսկ նվազեցումները` փակագծերում)
A10: Բաժին | B10: Խումբ | C10: Դաս | D10: Ծրագիր | E10: Միջոցառում | G10: Տարի | H10: Տարի | I10: Տարի | J10: Տարի
F11: ԸՆԴԱՄԵՆԸ | G11: =+G13+G33 -> 0 | H11: =+H13+H33 -> 0 | I11: =+I13+I33 -> 0 | J11: =+J13+J33 -> 0
F12: այդ թվում
F13: ՀՀ ԿԱՌԱՎԱՐՈՒԹՅՈՒՆ | G13: =+G14 -> -32000 | H13: =+H14 -> -102000 | I13: =+I14 -> -102000 | J13: =+J14 -> -186898.5
A14: 11 | F14: ՀԻՄՆԱԿԱՆ ԲԱԺԻՆՆԵՐԻՆ ՉԴԱՍՎՈՂ ՊԱՀՈՒՍՏԱՅԻՆ ՖՈՆԴԵՐ | G14: =+G16 -> -32000 | H14: =+H16 -> -102000 | I14: =+I16 -> -102000 | J14: =+J16 -> -186898.5
F15: այդ թվում`
B16: 01 | F16: ՀՀ կառավարության և համայնքների պահուստային ֆոնդ | G16: =+G18 -> -32000 | H16: =+H18 -> -102000 | I16: =+I18 -> -102000 | J16: =+J18 -> -186898.5
F17: այդ թվում`
C18: 01 | F18: ՀՀ կառավարության պահուստային ֆոնդ | G18: =+G20 -> -32000 | H18: =+H20 -> -102000 | I18: =+I20 -> -102000 | J18: =+J20 -> -186898.5
F19: այդ թվում`
F20: ՀՀ կառավարություն | G20: =+G22 -> -32000 | H20: =+H22 -> -102000 | I20: =+I22 -> -102000 | J20: =+J22 -> -186898.5
F21: այդ թվում`
D22: 1139 | E22: ՀՀ կառավարության պահուստային ֆոնդ | F22: ՀՀ կառավարության պահուստային ֆոնդ | G22: =+G24 -> -32000 | H22: =+H24 -> -102000 | I22: =+I24 -> -102000 | J22: =+J24 -> -186898.5
F23: այդ թվում`
E24: 11001 | F24: ՀՀ կառավարության պահուստային ֆոնդ | G24: =+G26 -> -32000 | H24: =+H26 -> -102000 | I24: =+I26 -> -102000 | J24: =+J26 -> -186898.5
F25: այդ թվում` ըստ կատարողների
F26: ՀՀ կառավարություն | G26: =+G28 -> -32000 | H26: =+H28 -> -102000 | I26: =+I28 -> -102000 | J26: =+J28 -> -186898.5
F27: այդ թվում՝ բյուջետային ծախսերի տնտեսագիտական դասակարգման հոդվածներ
F28: ԸՆԴԱՄԵՆԸ ԾԱԽՍԵՐ | G28: =+G29 -> -32000 | H28: =+H29 -> -102000 | I28: =+I29 -> -102000 | J28: =+J29 -> -186898.5
F29: ԸՆԹԱՑԻԿ ԾԱԽՍԵՐ | G29: =+G30 -> -32000 | H29: =+H30 -> -102000 | I29: =+I30 -> -102000 | J29: =+J30 -> -186898.5
F30: ԱՅԼ ԾԱԽՍԵՐ | G30: =+G31 -> -32000 | H30: =+H31 -> -102000 | I30: =+I31 -> -102000 | J30: =+J31 -> -186898.5
F31: - Պահուստային միջոցներ | G31: =+'Հավելված N 2'!G203 -> -32000 | H31: =+'Հավելված N 2'!H203 -> -102000 | I31: =+'Հավելված N 2'!I203 -> -102000 | J31: =+'Հավելված N 2'!J203 -> -186898.5
F33: ՀՀ ԿՐԹՈՒԹՅԱՆ, ԳԻՏՈՒԹՅԱՆ, ՄՇԱԿՈՒՅԹԻ ԵՎ ՍՊՈՐՏԻ ՆԱԽԱՐԱՐՈՒԹՅՈՒՆ | G33: =+G34 -> 32000 | H33: =+H34 -> 102000 | I33: =+I34 -> 102000 | J33: =+J34 -> 186898.5
A34: 08 | F34: ՀԱՆԳԻՍՏ, ՄՇԱԿՈՒՅԹ ԵՎ ԿՐՈՆ | G34: =+G36 -> 32000 | H34: =+H36 -> 102000 | I34: =+I36 -> 102000 | J34: =+J36 -> 186898.5
F35: այդ թվում`
B36: 02 | F36: Մշակութային ծառայություններ | G36: =+G38 -> 32000 | H36: =+H38 -> 102000 | I36: =+I38 -> 102000 | J36: =+J38 -> 186898.5
F37: այդ թվում`
C38: 02 | F38: Թանգարաններ և ցուցասրահներ | G38: =+G40 -> 32000 | H38: =+H40 -> 102000 | I38: =+I40 -> 102000 | J38: =+J40 -> 186898.5
F39: այդ թվում`
F40: ՀՀ կրթության, գիտության, մշակույթի և սպորտի նախարարություն | G40: =+G42 -> 32000 | H40: =+H42 -> 102000 | I40: =+I42 -> 102000 | J40: =+J42 -> 186898.5
F41: այդ թվում`
D42: 1075 | E42: Մասսայական սպորտ | G42: =+G44 -> 32000 | H42: =+H44 -> 102000 | I42: =+I44 -> 102000 | J42: =+J44 -> 186898.5
F43: այդ թվում`
E44: 32012 | F44: Թանգարանների համար նոր շենքերի կառուցում | G44: =+G46 -> 32000 | H44: =+H46 -> 102000 | I44: =+I46 -> 102000 | J44: =+J46 -> 186898.5
F45: այդ թվում` ըստ կատարողների
F46: ՀՀ կրթության, գիտության, մշակույթի և սպորտի նախարարություն | G46: =+G48 -> 32000 | H46: =+H48 -> 102000 | I46: =+I48 -> 102000 | J46: =+J48 -> 186898.5
F47: այդ թվում՝ բյուջետային ծախսերի տնտեսագիտական դասակարգման հոդվածներ
F48: ԸՆԴԱՄԵՆԸ ԾԱԽՍԵՐ | G48: =+G49+G52 -> 32000 | H48: =+H49+H52 -> 102000 | I48: =+I49+I52 -> 102000 | J48: =+J49+J52 -> 186898.5
F49: ԸՆԹԱՑԻԿ ԾԱԽՍԵՐ | G49: =+G50 -> 32000 | H49: =+H50 -> 102000 | I49: =+I50 -> 102000 | J49: =+J50 -> 102000
F50: ԱՅԼ ԾԱԽՍԵՐ | G50: =+G51 -> 32000 | H50: =+H51 -> 102000 | I50: =+I51 -> 102000 | J50: =+J51 -> 102000
F51: Հարկեր, պարտադիր վճարներ և տույժեր, որոնք կառավարման տարբեր մակարդակների կողմից կիրառվում են միմյանց նկատմամբ | G51: =+'Հավելված N 2'!G55 -> 32000 | H51: =+'Հավելված N 2'!H55 -> 102000 | I51: =+'Հավելված N 2'!I55 -> 102000 | J51: =+'Հավելված N 2'!J55 -> 102000
F52: ՈՉ ՖԻՆԱՆՍԱԿԱՆ ԱԿՏԻՎՆԵՐԻ ԳԾՈՎ ԾԱԽՍԵՐ | G52: =+G53 -> 0 | H52: =+H53 -> 0 | I52: =+I53 -> 0 | J52: =+J53 -> 84898.5
F53: ՀԻՄՆԱԿԱՆ ՄԻՋՈՑՆԵՐ | G53: =+G54 -> 0 | H53: =+H54 -> 0 | I53: =+I54 -> 0 | J53: =+J54 -> 84898.5
F54: ՇԵՆՔԵՐ ԵՎ ՇԻՆՈՒԹՅՈՒՆՆԵՐ | G54: =+G55 -> 0 | H54: =+H55 -> 0 | I54: =+I55 -> 0 | J54: =+J55 -> 84898.5
F55: - Շենքերի և շինությունների շինարարություն | G55: =+'Հավելված N 2'!G59 -> 0 | H55: =+'Հավելված N 2'!H59 -> 0 | I55: =+'Հավելված N 2'!I59 -> 0 | J55: =+'Հավելված N 2'!J59 -> 84898.5
