Workbook
Name a: #REF!
Name a: #REF!
Name a: #REF!
Name a: #REF!
Name a: #REF!
Name AgencyCode: #REF!
Name AgencyCode: #REF!
Name AgencyCode: #REF!
Name AgencyCode: #REF!
Name AgencyCode: #REF!
Name AgencyCode: #REF!
Name AgencyCode: #REF!
Name AgencyCode: #REF!
Name AgencyCode: #REF!
Name AgencyCode: #REF!
Name AgencyName: #REF!
Name AgencyName: #REF!
Name AgencyName: #REF!
Name AgencyName: #REF!
Name AgencyName: #REF!
Name AgencyName: #REF!
Name åû: #REF!
Name åû: #REF!
Name davit: #REF!
Name davit: #REF!
Name davit: #REF!
Name davit: #REF!
Name davit: #REF!
Name Functional1: #REF!
Name Functional1: #REF!
Name Functional1: #REF!
Name Functional1: #REF!
Name Functional1: #REF!
Name Functional1: #REF!
Name ggg: #REF!
Name ggg: #REF!
Name ggg: #REF!
Name ggg: #REF!
Name ggg: #REF!
Name mas: #REF!
Name mas: #REF!
Name mass: #REF!
Name mass: #REF!
Name PANature: #REF!
Name PANature: #REF!
Name PANature: #REF!
Name PANature: #REF!
Name PANature: #REF!
Name PANature: #REF!
Name PAType: #REF!
Name PAType: #REF!
Name PAType: #REF!
Name PAType: #REF!
Name PAType: #REF!
Name PAType: #REF!
Name Performance2: #REF!
Name Performance2: #REF!
Name Performance2: #REF!
Name Performance2: #REF!
Name Performance2: #REF!

Sheet Հավելված N 1
F1: Հավելված N 1
F2: ՀՀ կառավարության 2025 թվականի
F3: ______________ ի ___Ն որոշման
A6: «ՀԱՅԱUՏԱՆԻ ՀԱՆՐԱՊԵՏՈՒԹՅԱՆ 2025 ԹՎԱԿԱՆԻ ՊԵՏԱԿԱՆ ԲՅՈՒՋԵԻ ՄԱUԻՆ» ՀԱՅԱUՏԱՆԻ ՀԱՆՐԱՊԵՏՈՒԹՅԱՆ OՐԵՆՔԻ N 1 ՀԱՎԵԼՎԱԾԻ N 2 ԱՂՅՈՒՍԱԿՈՒՄ ԿԱՏԱՐՎՈՂ ՎԵՐԱԲԱՇԽՈՒՄԸ ԵՎ ՀԱՅԱՍՏԱՆԻ ՀԱՆՐԱՊԵՏՈՒԹՅԱՆ ԿԱՌԱՎԱՐՈՒԹՅԱՆ 2024 ԹՎԱԿԱՆԻ ԴԵԿՏԵՄԲԵՐԻ 27-Ի N 2060-Ն ՈՐՈՇՄԱՆ N 5 ՀԱՎԵԼՎԱԾԻ N 1 ԱՂՅՈՒՍԱԿՈՒՄ ԿԱՏԱՐՎՈՂ ՓՈՓՈԽՈՒԹՅՈՒՆՆԵՐԸ ԵՎ ԼՐԱՑՈՒՄՆԵՐԸ
J9: հազ. դրամներով
A10: ԲԳԿ | B10: Ծրագրային դասիչը | D10: ԲԳԿ/Ծրագրի /միջոցառման անվանումը | E10: Ծրագրի նպատակը/Միջոցառման նկարագրությունը | F10: Վերջնական արդյունքի նկարագրությունը/Միջոցառման տեսակը | G10: Ցուցանիշների փոփոխությունը (ավելացումները նշված են դրական նշանով, իսկ նվազեցումները փակագծերում)
G11: Առաջին եռամսյակ | H11: Առաջին կիսամյակ | I11: Ինն ամիս | J11: Տարի
B12: Ծրագիր | C12: Միջոցառում
A13: ԸՆԴԱՄԵՆԸ | G13: =+G15+G34 -> 0 | H13: =+H15+H34 -> 2.5465852e-11 | I13: =+I15+I34 -> 0 | J13: =+J15+J34 -> 0
A14: այդ թվում՝
A15: ՀՀ ԿՐԹՈՒԹՅԱՆ, ԳԻՏՈՒԹՅԱՆ, ՄՇԱԿՈՒՅԹԻ ԵՎ ՍՊՈՐՏԻ ՆԱԽԱՐԱՐՈՒԹՅՈՒՆ | G15: =+G16+G19+G24+G27+G30 -> 0 | H15: =+H16+H19+H24+H27+H30 -> 2.5465852e-11 | I15: =+I16+I19+I24+I27+I30 -> 0 | J15: =+J16+J19+J24+J27+J30 -> 0
B16: 1045 | D16: Մասնագիտական կրթության և ուսուցման ծրագիր | E16: Աշխատաշուկայի արդի պահանջներին համապատասխան արհեստագործական և միջին մասնագիտական կրթության որակավորում ունեցող մասնագետների պատրաստում, կրթության մատչելիության ապահովում: | F16: Արհեստագործական և միջին մասնագիտական կրթության գրավչության բարձրացում, մատչելի և մրցունակ արհեստագործական և միջին մասնագիտական կրթության ապահովում | G16: =+G17+G18 -> 4937 | H16: =+H17+H18 -> -56207.1 | I16: =+I17+I18 -> -31203 | J16: =+J17+J18 -> -10108.2
C17: 1045 - 32001 | D17: Մասնագիտական ուսումնական հաստատությունների շենքային պայմանների բարելավում | E17: Մասնագիտական ուսումնական հաստատությունների շենքերի հիմնանորոգման և նախագծման (շինարարական աշխատանքներ, ջեռուցման համակարգի ստեղծում, ներքին հարդարում, տարածքի բարեկարգում) աշխատանքների իրականացում | F17: Այլ պետական կազմակերպությունների կողմից օգտագործվող ոչ ֆինանսական ակտիվների հետ գործառնություններ | G17: =+'Հավելված N 2'!G136 -> 4937 | H17: =+'Հավելված N 2'!H136 -> -56207.1 | I17: =+'Հավելված N 2'!I136 -> -31203 | J17: =+'Հավելված N 2'!J136 -> -50850.3
C18: 1045 - 32005 | D18: Մասնագիտական ուսումնական հաստատությունների շենքերի կառուցում | E18: Մասնագիտական ուսումնական հաստատությունների շենքերի (մասնաշենքերի) կառուցման և նախագծման աշխատանքների իրականացում | F18: Այլ պետական կազմակերպությունների կողմից օգտագործվող ոչ ֆինանսական ակտիվների հետ գործառնություններ | G18: =+'Հավելված N 2'!G147 -> 0 | H18: =+'Հավելված N 2'!H147 -> 0 | I18: =+'Հավելված N 2'!I147 -> 0 | J18: =+'Հավելված N 2'!J147 -> 40742.1
B19: 1075 | D19: Մշակութային ժառանգության ծրագիր | E19: Մշակութային ժառանգության պահպանում, օգտագործում, համալրում և հանրահռչակում | F19: Մշակութային ժառանգության շարունակական պահպանում, մշակութային զբոսաշրջության զարգացում և խթանում | G19: =+G20+G21+G22+G23 -> 31319.5 | H19: =+H20+H21+H22+H23 -> 60736.4 | I19: =+I20+I21+I22+I23 -> -64131.5 | J19: =+J20+J21+J22+J23 -> -74422
C20: 1075 - 21001 | D20: Հուշարձանների ամրակայում, նորոգում և վերականգնում | E20: Հուշարձանների գիտանախագծային փաստաթղթերի կազմում, հրատապ ուսումնասիրում, վավերագրման և ուսումնասիրման աշխատանքներ, հետախուզում և հնագիտական պեղում, ամրակայում, նորոգում և վերականգնում | F20: Հանրության կողմից անմիջականորեն օգտագործվող ակտիվների հետ կապված միջոցառումներ | G20: =+'Հավելված N 2'!G66 -> -13862.6 | H20: =+'Հավելված N 2'!H66 -> 12790.6 | I20: =+'Հավելված N 2'!I66 -> 1120.6 | J20: =+'Հավելված N 2'!J66 -> -9170
C21: 1075 - 32001 | D21: Ներդրումներ թանգարանների և պատկերասրահների հիմնանորոգման համար | E21: Թանգարանների և պատկերասրահների շենքերի, մասնաշենքերի հիմնանորոգում, համաշինարարական աշխատանքներ, ջեռուցման համակարգի իրականացում, ներքին հարդարում, տարածքի բարեկարգում և նախագծում | F21: Այլ պետական կազմակերպությունների կողմից օգտագործվող ոչ ֆինանսական ակտիվների հետ գործառնություններ | G21: =+'Հավելված N 2'!G26 -> 4012.1 | H21: =+'Հավելված N 2'!H26 -> -63224.2 | I21: =+'Հավելված N 2'!I26 -> -176422.1 | J21: =+'Հավելված N 2'!J26 -> -261320.5
C22: 1075 - 32008 | D22: Թանգարանների և պատկերասրահների գույքային և տեխնիկական հագեցվածության բարելավում | E22: Թանգարանների և պատկերասրահների համար անհրաժեշտ գույքի, տեխնիկայի և սարքավորումների ձեռքբերում | F22: Այլ պետական կազմակերպությունների կողմից օգտագործվող ոչ ֆինանսական ակտիվների հետ գործառնություններ | G22: =+'Հավելված N 2'!G39 -> 9170 | H22: =+'Հավելված N 2'!H39 -> 9170 | I22: =+'Հավելված N 2'!I39 -> 9170 | J22: =+'Հավելված N 2'!J39 -> 9170
C23: 1075 - 32012 | D23: Թանգարանների համար նոր շենքերի կառուցում | E23: Թանգարանների շենքերի, մասնաշենքերի կառուցում և նախագծում, նորաստեղծ թանգարանների նորակառույց շենքերով ապահովում | F23: Այլ պետական կազմակերպությունների կողմից օգտագործվող ոչ ֆինանսական ակտիվների հետ գործառնություններ | G23: =+'Հավելված N 2'!G48 -> 32000 | H23: =+'Հավելված N 2'!H48 -> 102000 | I23: =+'Հավելված N 2'!I48 -> 102000 | J23: =+'Հավելված N 2'!J48 -> 186898.5
B24: 1183 | D24: Ապահով դպրոց | E24: Դպրոցներին սպառնացող աղետների ռիսկի կառավարման կարողությունների հզորացում, դպրոցի անձնակազմի և աշակերտների անվտանգության ապահովման մակարդակի բարձրացում՛ կիրառելով ներառական և երեխայակենտրոն մոտեցում | F24: Դպրոցական միջավայրի բարելավում | G24: =+G25+G26 -> 1410.6 | H24: =+H25+H26 -> 1410.6 | I24: =+I25+I26 -> 16822.6 | J24: =+J25+J26 -> 16822.6
C25: 1183 - 32002 | D25: Կրթական օբյեկտների շենքային ապահովվածության բարելավում | E25: Կրթական օբյեկտների շենքերի (մասնաշենքերի) կառուցում (համաշինարարական աշխատանքներ, ջեռուցման համակարգի իրականացում, ներքին հարդարում, տարածքի բարեկարգում) և նախագծում | F25: Այլ պետական կազմակերպությունների կողմից օգտագործվող ոչ ֆինանսական ակտիվների հետ գործառնություններ | G25: =+'Հավելված N 2'!G158 -> 0 | H25: =+'Հավելված N 2'!H158 -> 0 | I25: =+'Հավելված N 2'!I158 -> 15412 | J25: =+'Հավելված N 2'!J158 -> 15412
C26: 1183 - 32004 | D26: Ավագ մակարդակի կրթություն իրականացնող ուսումնական հաստատությունների շենքային պայմանների բարելավում | E26: Ավագ դպրոցների շենքային պայմանների բարելավում | F26: Այլ պետական կազմակերպությունների կողմից օգտագործվող ոչ ֆինանսական ակտիվների հետ գործառնություններ | G26: =+'Հավելված N 2'!G167 -> 1410.6 | H26: =+'Հավելված N 2'!H167 -> 1410.6 | I26: =+'Հավելված N 2'!I167 -> 1410.6 | J26: =+'Հավելված N 2'!J167 -> 1410.6
B27: 1192 | D27: Կրթության որակի ապահովում | E27: Ընթացիկ աշխատանքների, բարեփոխումների և նոր նախաձեռնությունների միջոցով ֆորմալ և ոչ-ֆորմալ կրթության ոլորտում իրականացվող միջոցառումների, մատուցվող ծառայությունների բովանդակության և կազմակերպման որակի շարունակական բարելավում | F27: Նախադպրոցականից մինչև հետբուհական կրթության որակի, այն է սովորողների, միջավայրի, ծրագրերի և ուսումնական նյութերի բովանդակության, գործընթացների, ինչպես նաև վերջնարդյունքների որակի բարելավում ըստ ներպետական և միջազգային ցուցիչների | G27: =+G28+G29 -> 0 | H27: =+H28+H29 -> 0 | I27: =+I28+I29 -> 0 | J27: =+J28+J29 -> 0
C28: 1192 - 11024 | D28: ՀՀ պետական դպրոցների ԳՏՃՄ առարկաներ դասավանդող ուսուցիչների վերապատրաստում` նոր ստանդարտներին համապատասխան | E28: Աջակցություն ԳՏՃՄ առարկաների դասավանդման և ուսուցման որակը բարելավելու համար | F28: Ծառայությունների մատուցում | G28: =+'Հավելված N 2'!G91 -> 0 | H28: =+'Հավելված N 2'!H91 -> 112092.2 | I28: =+'Հավելված N 2'!I91 -> 112092.2 | J28: =+'Հավելված N 2'!J91 -> 112092.2
C29: 1192 - 32007 | D29: ՀՀ պետական դպրոցների` ԳՏՃՄ լաբորատորիաներով ապահովում | E29: ՀՀ պետական դպրոցների համար ԳՏՃՄ առարկաների լաբորատոր սարքավարումների և կահույքի ձեռքբերում | F29: Այլ պետական կազմակերպությունների կողմից օգտագործվող ոչ ֆինանսական ակտիվների հետ գործառնություններ | G29: =+'Հավելված N 2'!G99 -> 0 | H29: =+'Հավելված N 2'!H99 -> -112092.2 | I29: =+'Հավելված N 2'!I99 -> -112092.2 | J29: =+'Հավելված N 2'!J99 -> -112092.2
B30: 1236 | D30: Հանրակրթական և նախադպրոցական հաստատությունների հիմնում, կառուցում, բարելավում | E30: Առնվազն 300 դպրոցի և 500 մանկապարտեզի կառուցման, վերակառուցման, հիմնանորոգման ծրագրերի իրականացում ՀՀ պետական բյուջեի միջոցների շրջանակներում | F30: Կրթական միջավայրի բարելավում | G30: =+G31+G32 -> -37667.1 | H30: =+H31+H32 -> -5939.9 | I30: =+I31+I32 -> 78511.9 | J30: =+J31+J32 -> 67707.6
C31: 1236 - 32004 | D31: Հանրակրթական դպրոցների շենքերի վերակառուցում, հիմնանորոգում | E31: Դպրոցական պարտադիր կրթության հասանելիության ապահովման նպատակով՛ հանրակրթական դպրոցների շենքերի (մասնաշենքերի), վերակառուցում, հիմնանորոգում և նախագծում | F31: Այլ պետական կազմակերպությունների կողմից օգտագործվող ոչ ֆինանսական ակտիվների հետ գործառնություններ | G31: =+'Հավելված N 2'!G110 -> 0 | H31: =+'Հավելված N 2'!H110 -> 5703.9 | I31: =+'Հավելված N 2'!I110 -> 5703.9 | J31: =+'Հավելված N 2'!J110 -> 5703.9
C32: 1236 - 32006 | D32: Հանրակրթական դպրոցների, մանկապարտեզների և կրթահամալիրների գույքով և տեխնիկայով ապահովում | E32: Կրթական ժամանակակից նորմերին և կրթական չափորոշիչներին համապատասխան ուսուցման ծրագրերն իրականացնելու նպատակով հանրակրթական և նախադպրոցական հաստատությունների համար գույքի և տեխնիկայի ձեռքբերում | F32: Այլ պետական կազմակերպությունների կողմից օգտագործվող ոչ ֆինանսական ակտիվների հետ գործառնություններ | G32: =+'Հավելված N 2'!G119 -> -37667.1 | H32: =+'Հավելված N 2'!H119 -> -11643.8 | I32: =+'Հավելված N 2'!I119 -> 72808 | J32: =+'Հավելված N 2'!J119 -> 62003.7
A34: ՀՀ ԿԱՌԱՎԱՐՈՒԹՅՈՒՆ | G34: =+G35+G38+G40 -> 0 | H34: =+H35+H38+H40 -> 0 | I34: =+I35+I38+I40 -> 0 | J34: =+J35+J38+J40 -> 0
B35: 1139 | D35: ՀՀ կառավարության պահուստային ֆոնդ | E35: Պետական բյուջեում չկանխատեսված, ինչպես նաեւ բյուջետային երաշխիքների ապահովման ծախսերի ֆինանսավորման ապահովում | F35: Պահուստային ֆոնդի կառավարման արդյունավետության և թափանցիկության ապահովում | G35: =+G36+G37 -> 0 | H35: =+H36+H37 -> 0 | I35: =+I36+I37 -> 0 | J35: =+J36+J37 -> 0
C36: 1139 - 11001 | D36: ՀՀ կառավարության պահուստային ֆոնդ | E36: ՀՀ պետական բյուջեում նախատեսված ելքերի լրացուցիչ ֆինանսավորման, պետական բյուջեում չկանխատեսված ելքերի, ինչպես նաև բյուջետային երաշխիքների ապահովման ելքերի ֆինանսավորման ապահովում | F36: Ծառայությունների մատուցում | G36: =+'Հավելված N 2'!G188 -> 32000 | H36: =+'Հավելված N 2'!H188 -> 102000 | I36: =+'Հավելված N 2'!I188 -> 102000 | J36: =+'Հավելված N 2'!J188 -> 186898.5
C37: 1139 - 11001 | D37: ՀՀ կառավարության պահուստային ֆոնդ | E37: ՀՀ պետական բյուջեում նախատեսված ելքերի լրացուցիչ ֆինանսավորման, պետական բյուջեում չկանխատեսված ելքերի, ինչպես նաև բյուջետային երաշխիքների ապահովման ելքերի ֆինանսավորման ապահովում | F37: Ծառայությունների մատուցում | G37: =+'Հավելված N 2'!G196 -> -32000 | H37: =+'Հավելված N 2'!H196 -> -102000 | I37: =+'Հավելված N 2'!I196 -> -102000 | J37: =+'Հավելված N 2'!J196 -> -186898.5

Sheet Հավելված N 2
F1: Հավելված N 2
F2: ՀՀ կառավարության 2025 թվականի
F3: ______________ ի ___Ն որոշման
A7: ՀԱՅԱՍՏԱՆԻ ՀԱՆՐԱՊԵՏՈՒԹՅԱՆ ԿԱՌԱՎԱՐՈՒԹՅԱՆ 2024 ԹՎԱԿԱՆԻ ԴԵԿՏԵՄԲԵՐԻ 27-Ի N 2060-Ն ՈՐՈՇՄԱՆ N 3 ԵՎ N 4 ՀԱՎԵԼՎԱԾՆԵՐՈՒՄ ԿԱՏԱՐՎՈՂ ՓՈՓՈԽՈՒԹՅՈՒՆՆԵՐԸ ԵՎ ԼՐԱՑՈՒՄՆԵՐԸ
J10: հազ. դրամներով
A11: Գործառական դասիչը | D11: Ծրագրային դասիչը | F11: Բյուջետային հատկացումների գլխավոր կարգադրիչների, ծրագրերի, միջոցառումների և միջոցառումները կատարող պետական մարմինների անվանումները | G11: Ցուցանիշների փոփոխությունը (ավելացումները նշված են դրական նշանով, իսկ նվազեցումները փակագծերում)
A12: Բաժին | B12: Խումբ | C12: Դաս | D12: Ծրագիր | E12: Միջոցառում | G12: Առաջին եռամսյակ | H12: Առաջին կիսամյակ | I12: Ինն ամիս | J12: Տարի
F13: ԸՆԴԱՄԵՆԸ | G13: =+G15+G177 -> 0 | H13: =+H15+H177 -> 0 | I13: =+I15+I177 -> 0 | J13: =+J15+J177 -> 0
F14: այդ թվում՝
F15: ՀՀ ԿՐԹՈՒԹՅԱՆ, ԳԻՏՈՒԹՅԱՆ, ՄՇԱԿՈՒՅԹԻ ԵՎ ՍՊՈՐՏԻ ՆԱԽԱՐԱՐՈՒԹՅՈՒՆ | G15: =+G16+G81 -> 0 | H15: =+H16+H81 -> 0 | I15: =+ROUND(I16+I81,1) -> 0 | J15: =+J16+J81 -> 0
A16: 08 | F16: ՀԱՆԳԻՍՏ, ՄՇԱԿՈՒՅԹ ԵՎ ԿՐՈՆ | G16: =+G18 -> 31319.5 | H16: =+H18 -> 60736.4 | I16: =+I18 -> -64131.5 | J16: =+J18 -> -74422
F17: այդ թվում`
B18: 02 | F18: Մշակութային ծառայություններ | G18: =+G20+G60 -> 31319.5 | H18: =+H20+H60 -> 60736.4 | I18: =+I20+I60 -> -64131.5 | J18: =+J20+J60 -> -74422
F19: այդ թվում`
C20: 02 | F20: Թանգարաններ և ցուցասրահներ | G20: =+G22 -> 45182.1 | H20: =+H22 -> 47945.8 | I20: =+I22 -> -65252.1 | J20: =+J22 -> -65252
F21: այդ թվում`
F22: ՀՀ կրթության, գիտության, մշակույթի և սպորտի նախարարություն | G22: =+G24 -> 45182.1 | H22: =+H24 -> 47945.8 | I22: =+I24 -> -65252.1 | J22: =+J24 -> -65252
F23: այդ թվում`
D24: 1075 | E24: Մշակութային ժառանգության ծրագիր | G24: =+G26+G39+G48 -> 45182.1 | H24: =+H26+H39+H48 -> 47945.8 | I24: =+I26+I39+I48 -> -65252.1 | J24: =+J26+J39+J48 -> -65252
F25: այդ թվում`
E26: 32001 | F26: Ներդրումներ թանգարանների և պատկերասրահների հիմնանորոգման համար | G26: =+G28 -> 4012.1 | H26: =+H28 -> -63224.2 | I26: =+I28 -> -176422.1 | J26: =+J28 -> -261320.5
F27: այդ թվում` ըստ կատարողների
F28: ՀՀ կրթության, գիտության, մշակույթի և սպորտի նախարարություն | G28: =+G30 -> 4012.1 | H28: =+H30 -> -63224.2 | I28: =+I30 -> -176422.1 | J28: =+J30 -> -261320.5
F29: այդ թվում՝ բյուջետային ծախսերի տնտեսագիտական դասակարգման հոդվածներ
F30: ԸՆԴԱՄԵՆԸ ԾԱԽՍԵՐ | G30: =+G31+G35 -> 4012.1 | H30: =+H31+H35 -> -63224.2 | I30: =+I31+I35 -> -176422.1 | J30: =+J31+J35 -> -261320.5
F31: ԸՆԹԱՑԻԿ ԾԱԽՍԵՐ | G31: =+G32 -> 3888.3 | H31: =+H32 -> 3888.3 | I31: =+I32 -> 3888.3 | J31: =+J32 -> 3888.3
F32: ԴՐԱՄԱՇՆՈՐՀՆԵՐ | G32: =+G33 -> 3888.3 | H32: =+H33 -> 3888.3 | I32: =+I33 -> 3888.3 | J32: =+J33 -> 3888.3
F33: ԿԱՊԻՏԱԼ ԴՐԱՄԱՇՆՈՐՀՆԵՐ ՊԵՏԱԿԱՆ ՀԱՏՎԱԾԻ ԱՅԼ ՄԱԿԱՐԴԱԿՆԵՐԻՆ | G33: =+G34 -> 3888.3 | H33: =+H34 -> 3888.3 | I33: =+I34 -> 3888.3 | J33: =+J34 -> 3888.3
F34: - Կապիտալ դրամաշնորհներ պետական և համայնքային ոչ առևտրային կազմակերպություններին | G34: =+J34 -> 3888.3 | H34: =+J34 -> 3888.3 | I34: =+J34 -> 3888.3 | J34: =+'Հավելված N 5'!G18 -> 3888.3
F35: ՈՉ ՖԻՆԱՆՍԱԿԱՆ ԱԿՏԻՎՆԵՐԻ ԳԾՈՎ ԾԱԽՍԵՐ | G35: =+G36 -> 123.8 | H35: =+H36 -> -67112.5 | I35: =+I36 -> -180310.4 | J35: =+J36 -> -265208.8
F36: ՀԻՄՆԱԿԱՆ ՄԻՋՈՑՆԵՐ | G36: =+G37 -> 123.8 | H36: =+H37 -> -67112.5 | I36: =+I37 -> -180310.4 | J36: =+J37 -> -265208.8
F37: ՇԵՆՔԵՐ ԵՎ ՇԻՆՈՒԹՅՈՒՆՆԵՐ | G37: =+G38 -> 123.8 | H37: =+H38 -> -67112.5 | I37: =+I38 -> -180310.4 | J37: =+J38 -> -265208.8
F38: - Շենքերի և շինությունների կապիտալ վերանորոգում | G38: =+'Հավելված N 4'!E67 -> 123.8 | H38: =+'Հավելված N 4'!F67 -> -67112.5 | I38: =+'Հավելված N 4'!G67 -> -180310.4 | J38: =+'Հավելված N 4'!H67 -> -265208.8
E39: 32008 | F39: Թանգարանների և պատկերասրահների գույքային և տեխնիկական հագեցվածության բարելավում | G39: =+G41 -> 9170 | H39: =+H41 -> 9170 | I39: =+I41 -> 9170 | J39: =+J41 -> 9170
F40: այդ թվում` ըստ կատարողների
F41: ՀՀ կրթության, գիտության, մշակույթի և սպորտի նախարարություն | G41: =+G43 -> 9170 | H41: =+H43 -> 9170 | I41: =+I43 -> 9170 | J41: =+J43 -> 9170
F42: այդ թվում՝ բյուջետային ծախսերի տնտեսագիտական դասակարգման հոդվածներ
F43: ԸՆԴԱՄԵՆԸ ԾԱԽՍԵՐ | G43: =+G44 -> 9170 | H43: =+H44 -> 9170 | I43: =+I44 -> 9170 | J43: =+J44 -> 9170
F44: ԸՆԹԱՑԻԿ ԾԱԽՍԵՐ | G44: =+G45 -> 9170 | H44: =+H45 -> 9170 | I44: =+I45 -> 9170 | J44: =+J45 -> 9170
F45: ԴՐԱՄԱՇՆՈՐՀՆԵՐ | G45: =+G46 -> 9170 | H45: =+H46 -> 9170 | I45: =+I46 -> 9170 | J45: =+J46 -> 9170
...

Sheet Հավելված N 3
F1: Հավելված N 3
F2: ՀՀ կառավարության 2025 թվականի
F3: ______________ ի ___Ն որոշման
A5: «ՀԱՅԱUՏԱՆԻ ՀԱՆՐԱՊԵՏՈՒԹՅԱՆ 2025 ԹՎԱԿԱՆԻ ՊԵՏԱԿԱՆ ԲՅՈՒՋԵԻ ՄԱUԻՆ» ՀԱՅԱUՏԱՆԻ ՀԱՆՐԱՊԵՏՈՒԹՅԱՆ OՐԵՆՔԻ N 1 ՀԱՎԵԼՎԱԾԻ N 3 ԱՂՅՈՒՍԱԿՈՒՄ ԿԱՏԱՐՎՈՂ ՓՈՓՈԽՈՒԹՅՈՒՆՆԵՐԸ ԵՎ ԼՐԱՑՈՒՄՆԵՐԸ
G8: հազ. դրամներով
A9: Ծրագրային դասիչ | C9: Բյուջետային գլխավոր կարգադրիչների, ծրագրերի, միջոցառումների, միջոցառումները կատարող պետական մարմինների և ուղղությունների անվանումները | D9: Ընդամենը | E9: Ցուցանիշների փոփոխությունը (ավելացումները նշված են դրական նշանով, իսկ նվազեցումները՝ փակագծերում)
A10: Ծրագիր | B10: Միջոցառում | E10: Կառուցման աշխատանքներ | F10: Վերակառուցման, վերանորոգման և վերականգնման աշխատանքներ | G10: Նախագծահե- տազոտական, գեոդեզիա- քարտեզագրա- կան աշխա- տանքներ | H10: Ոչ ֆինանսական այլ ակտիվների ձեռքբերում
C11: ԸՆԴԱՄԵՆԸ | D11: =SUM(E11:H11) -> -276870.5 | E11: =+E13 -> 100310.5 | F11: =+F13 -> -388093.1 | G11: =+G13 -> 61000.6 | H11: =+H13 -> -50088.5
C12: այդ թվում՝
C13: ՀՀ ԿՐԹՈՒԹՅԱՆ, ԳԻՏՈՒԹՅԱՆ, ՄՇԱԿՈՒՅԹԻ ԵՎ ՍՊՈՐՏԻ ՆԱԽԱՐԱՐՈՒԹՅՈՒՆ | D13: =SUM(E13:H13) -> -276870.5 | E13: =+E15+E29+E33+E59+E64+E68+E72+E76+E77+E81 -> 100310.5 | F13: =+F15+F29+F33+F59+F64+F68+F72+F76+F77+F81 -> -388093.1 | G13: =+G15+G29+G33+G59+G64+G68+G72+G76+G77+G81 -> 61000.6 | H13: =+H15+H29+H33+H59+H64+H68+H72+H76+H77+H81 -> -50088.5
C14: այդ թվում`
A15: 1045 | B15: 32001 | C15: Մասնագիտական ուսումնական հաստատությունների շենքային պայմանների բարելավում | D15: =SUM(E15:H15) -> -50850.3 | E15: =+E17+E22+E24+E27 -> 0 | F15: =+F17+F22+F24+F27 -> -68568.8 | G15: =+G17+G22+G24+G27 -> 17718.5 | H15: =+H17+H22+H24+H27 -> 0
C16: այդ թվում`
C17: Երևան քաղաք | D17: =SUM(E17:H17) -> -80118.1 | E17: =+E18+E19+E20+E21 -> 0 | F17: =+F18+F19+F20+F21 -> -68568.8 | G17: =+G18+G19+G20+G21 -> -11549.3 | H17: =+H18+H19+H20+H21 -> 0
C18: «Երևանի հ․8 արհեստագործական պետական ուսումնարան» ՊՈԱԿ | D18: =+E18+F18+G18+H18 -> 87072 | F18: =+'Հավելված N 8'!I54+'Հավելված N 8'!I57+'Հավելված N 8'!I59 -> 86885 | G18: 187
C19: «Երևանի Շառլ Ազնավուրի անվան մշակույթի և արվեստի պետական քոլեջ» ՊՈԱԿ | D19: =+E19+F19+G19+H19 -> -17317 | G19: =+'Հավելված N 8'!I62+'Հավելված N 8'!I67 -> -17317
C20: «Երևանի զարդարվեստի պետական արհեստագործական ուսումնարան» ՊՈԱԿ | D20: =+E20+F20+G20+H20 -> -150703.8 | F20: =+'Հավելված N 8'!I55+'Հավելված N 8'!I58+'Հավելված N 8'!I60 -> -155453.8 | G20: =+'Հավելված N 8'!I61 -> 4750
C21: «Երևանի պարարվեստի պետական քոլեջ» ՊՈԱԿ | D21: =+E21+F21+G21+H21 -> 830.7 | G21: =+'Հավելված N 8'!I66+49 -> 830.7
C22: ՀՀ Կոտայքի մարզ | D22: =SUM(E22:H22) -> 711.6 | E22: =+E23 -> 0 | F22: =+F23 -> 0 | G22: =+G23 -> 711.6 | H22: =+H23 -> 0
C23: «Աբովյանի բազմագործառութային պետական քոլեջ» ՊՈԱԿ | D23: =+E23+F23+G23+H23 -> 711.6 | G23: 711.6
C24: ՀՀ Շիրակի մարզ | D24: =SUM(E24:H24) -> 17112.8 | E24: =+E25+E26 -> 0 | F24: =+F25+F26 -> 0 | G24: =+G25+G26 -> 17112.8 | H24: =+H25+H26 -> 0
C25: «Արթիկի պետական քոլեջ» ՊՈԱԿ | D25: =+E25+F25+G25+H25 -> 1822.4 | G25: 1822.4
C26: «Գյումրու պետական բժշկական քոլեջ» ՊՈԱԿ | D26: =+E26+F26+G26+H26 -> 15290.4 | G26: =+'Հավելված N 8'!I64+'Հավելված N 8'!I70 -> 15290.4
C27: ՀՀ Տավուշի մարզ | D27: =SUM(E27:H27) -> 11443.4 | E27: =+E28 -> 0 | F27: =+F28 -> 0 | G27: =+G28 -> 11443.4 | H27: =+H28 -> 0
C28: «Դիլիջանի բազմագործառութային պետական քոլեջ» ՊՈԱԿ | D28: =+E28+F28+G28+H28 -> 11443.4 | G28: =+'Հավելված N 8'!I65 -> 11443.4
A29: 1045 | B29: 32005 | C29: Մասնագիտական ուսումնական հաստատությունների շենքերի կառուցում | D29: =SUM(E29:H29) -> 40742.1 | E29: =+E31 -> 0 | F29: =+F31 -> 0 | G29: =+G31 -> 40742.1 | H29: =+H31 -> 0
C30: այդ թվում`
C31: Երևան քաղաք | D31: =SUM(E31:H31) -> 40742.1 | E31: =+E32 -> 0 | F31: =+F32 -> 0 | G31: =+G32 -> 40742.1 | H31: =+H32 -> 0
C32: «Երևանի զարդարվեստի պետական արհեստագործական ուսումնարան» ՊՈԱԿ | D32: =+E32+F32+G32+H32 -> 40742.1 | G32: =+'Հավելված N 8'!I73+'Հավելված N 8'!I74 -> 40742.1
A33: 1075 | B33: 21001 | C33: Հուշարձանների ամրակայում, նորոգում և վերականգնում | D33: =SUM(E33:H33) -> -58890 | E33: =+E35+E48 -> 0 | F33: =+F35+F48 -> -61430 | G33: =+G35+G48 -> 2540 | H33: =+H35+H48 -> 0
C34: այդ թվում`
C35: 1. Վերականգնողական աշխատանքներ | D35: =SUM(E35:H35) -> -61430 | E35: =+E37+E39+E41+E43+E45 -> 0 | F35: =+F37+F39+F41+F43+F45 -> -61430 | G35: =+G37+G39+G41+G43+G45 -> 0 | H35: =+H37+H39+H41+H43+H45 -> 0
C36: որից`
C37: ՀՀ Արագածոտնի մարզ | D37: =SUM(E37:H37) -> -25000 | E37: =+E38 -> 0 | F37: =+F38 -> -25000 | G37: =+G38 -> 0 | H37: =+H38 -> 0
C38: Ամբերդ ամրոցի հրատապ ամրակայման ենթակա հատվածների նորոգում և վերականգնում | D38: =+E38+F38+G38+H38 -> -25000 | F38: =+'Հավելված N 8'!I31 -> -25000
C39: ՀՀ Լոռու մարզ | D39: =SUM(E39:H39) -> 4633.2 | E39: =+E40 -> 0 | F39: =+F40 -> 4633.2 | G39: =+G40 -> 0 | H39: =+H40 -> 0
C40: Քոբայրավանք համալիրի գլխավոր եկեղեցու, նրան կից եկեղեցու և Մարիամաշեն եկեղեցու տանիքների վերականգնում | D40: =+E40+F40+G40+H40 -> 4633.2 | F40: =+'Հավելված N 8'!I30+'Հավելված N 8'!I37+'Հավելված N 8'!I38 -> 4633.2
C41: ՀՀ Կոտայքի մարզ | D41: =SUM(E41:H41) -> -20000 | E41: =+E42 -> 0 | F41: =+F42 -> -20000 | G41: =+G42 -> 0 | H41: =+H42 -> 0
C42: Պտղնու տաճարի նորոգում, ամրակայում և մասնակի վերականգնում | D42: =+E42+F42+G42+H42 -> -20000 | F42: =+'Հավելված N 8'!I35 -> -20000
C43: ՀՀ Շիրակի մարզ | D43: =SUM(E43:H43) -> -10000 | E43: =+E44 -> 0 | F43: =+F44 -> -10000 | G43: =+G44 -> 0 | H43: =+H44 -> 0
...

Sheet Հավելված N 4
G1: Հավելված N 4
E2: ՀՀ կառավարության 2025 թվականի
G3: ______________ ի ___Ն որոշման
B6: ՀԱՅԱՍՏԱՆԻ ՀԱՆՐԱՊԵՏՈՒԹՅԱՆ ԿԱՌԱՎԱՐՈՒԹՅԱՆ 2024 ԹՎԱԿԱՆԻ ԴԵԿՏԵՄԲԵՐԻ 27-Ի N 2060-Ն ՈՐՈՇՄԱՆ N 5 ՀԱՎԵԼՎԱԾԻ N 2 ԱՂՅՈՒՍԱԿՈՒՄ ԿԱՏԱՐՎՈՂ ՓՈՓՈԽՈՒԹՅՈՒՆՆԵՐԸ ԵՎ ԼՐԱՑՈՒՄՆԵՐԸ
H8: հազ. դրամներով
B9: Ծրագրային դասիչ | D9: Բյուջետային գլխավոր կարգադրիչների, ծրագրերի, միջոցառումների, միջոցառումները կատարող պետական մարմինների և ուղղությունների անվանումները | E9: Ցուցանիշների փոփոխությունը (ավելացումները նշված են դրական նշանով, իսկ նվազեցումները՝ փակագծերում)
B10: Ծրագիր | C10: Միջոցառում | E10: Առաջին եռամսյակ | F10: Առաջին կիսամյակ | G10: Ինն ամիս | H10: Տարի
D11: ՀՀ ԿՐԹՈՒԹՅԱՆ, ԳԻՏՈՒԹՅԱՆ, ՄՇԱԿՈՒՅԹԻ ԵՎ ՍՊՈՐՏԻ ՆԱԽԱՐԱՐՈՒԹՅՈՒՆ | E11: =+E13+E29+E35+E65+E72+E78+E84+E90+E93+E99 -> -94778.3 | F11: =+F13+F29+F35+F65+F72+F78+F84+F90+F93+F99 -> -276870.5 | G11: =+G13+G29+G35+G65+G72+G78+G84+G90+G93+G99 -> -276870.5 | H11: =+H13+H29+H35+H65+H72+H78+H84+H90+H93+H99 -> -276870.5
D12: այդ թվում՝
B13: 1045 | C13: 32001 | D13: Մասնագիտական ուսումնական հաստատությունների շենքային պայմանների բարելավում | E13: =+E15 -> 4937 | F13: =+F15 -> -56207.1 | G13: =+G15 -> -31203 | H13: =+H15 -> -50850.3
D14: այդ թվում` ըստ կատարողների
D15: ՀՀ կրթության, գիտության, մշակույթի և սպորտի նախարարություն | E15: =+E17+E22+E24+E27 -> 4937 | F15: =+F17+F22+F24+F27 -> -56207.1 | G15: =+G17+G22+G24+G27 -> -31203 | H15: =+H17+H22+H24+H27 -> -50850.3
D16: այդ թվում`ըստ ուղղությունների
D17: Երևան քաղաք | E17: =+E18+E19+E20+E21 -> 4937 | F17: =+F18+F19+F20+F21 -> -40868.5 | G17: =+G18+G19+G20+G21 -> -49027.4 | H17: =+H18+H19+H20+H21 -> -80118.1
D18: =+'Հավելված N 3'!C18 -> «Երևանի հ․8 արհեստագործական պետական ուսումնարան» ՊՈԱԿ | E18: =+F18 -> 187 | F18: =+'Հավելված N 3'!G18 -> 187 | G18: =+H18 -> 87072 | H18: =+'Հավելված N 3'!D18 -> 87072
D19: =+'Հավելված N 3'!C19 -> «Երևանի Շառլ Ազնավուրի անվան մշակույթի և արվեստի պետական քոլեջ» ՊՈԱԿ | E19: 0 | F19: 0 | G19: =+H19 -> -17317 | H19: =+'Հավելված N 3'!D19 -> -17317
D20: =+'Հավելված N 3'!C20 -> «Երևանի զարդարվեստի պետական արհեստագործական ուսումնարան» ՊՈԱԿ | E20: 4750 | F20: =-46636.2+4750 -> -41886.2 | G20: =-124363.1+4750 -> -119613.1 | H20: =+'Հավելված N 3'!D20 -> -150703.8
D21: =+'Հավելված N 3'!C21 -> «Երևանի պարարվեստի պետական քոլեջ» ՊՈԱԿ | E21: 0 | F21: =+H21 -> 830.7 | G21: =+H21 -> 830.7 | H21: =+'Հավելված N 3'!D21 -> 830.7
D22: ՀՀ Կոտայքի մարզ | E22: =+E23 -> 0 | F22: =+F23 -> 711.6 | G22: =+G23 -> 711.6 | H22: =+H23 -> 711.6
D23: =+'Հավելված N 3'!C23 -> «Աբովյանի բազմագործառութային պետական քոլեջ» ՊՈԱԿ | F23: =+H23 -> 711.6 | G23: =+H23 -> 711.6 | H23: =+'Հավելված N 3'!D23 -> 711.6
D24: ՀՀ Շիրակի մարզ | E24: =+E25+E26 -> 0 | F24: =+F25+F26 -> -16050.2 | G24: =+G25+G26 -> 17112.8 | H24: =+H25+H26 -> 17112.8
D25: =+'Հավելված N 3'!C25 -> «Արթիկի պետական քոլեջ» ՊՈԱԿ | E25: 0 | F25: 0 | G25: =+H25 -> 1822.4 | H25: =+'Հավելված N 3'!D25 -> 1822.4
D26: =+'Հավելված N 3'!C26 -> «Գյումրու պետական բժշկական քոլեջ» ՊՈԱԿ | E26: 0 | F26: =+H26-31340.6 -> -16050.2 | G26: =+H26 -> 15290.4 | H26: =+'Հավելված N 3'!D26 -> 15290.4
D27: ՀՀ Տավուշի մարզ | E27: =+E28 -> 0 | F27: =+F28 -> 0 | G27: =+G28 -> 0 | H27: =+H28 -> 11443.4
D28: =+'Հավելված N 3'!C28 -> «Դիլիջանի բազմագործառութային պետական քոլեջ» ՊՈԱԿ | E28: 0 | F28: 0 | G28: 0 | H28: =+'Հավելված N 3'!D28 -> 11443.4
B29: 1045 | C29: 32005 | D29: Մասնագիտական ուսումնական հաստատությունների շենքերի կառուցում | E29: =+E31 -> 0 | F29: =+F31 -> 0 | G29: =+G31 -> 0 | H29: =+H31 -> 40742.1
D30: այդ թվում` ըստ կատարողների
D31: ՀՀ կրթության, գիտության, մշակույթի և սպորտի նախարարություն | E31: =+E33 -> 0 | F31: =+F33 -> 0 | G31: =+G33 -> 0 | H31: =+H33 -> 40742.1
D32: այդ թվում`ըստ ուղղությունների
D33: Երևան քաղաք | E33: =+E34 -> 0 | F33: =+F34 -> 0 | G33: =+G34 -> 0 | H33: =+H34 -> 40742.1
D34: =+'Հավելված N 3'!C32 -> «Երևանի զարդարվեստի պետական արհեստագործական ուսումնարան» ՊՈԱԿ | E34: 0 | F34: 0 | G34: 0 | H34: =+'Հավելված N 3'!D32 -> 40742.1
B35: 1075 | C35: 21001 | D35: Հուշարձանների ամրակայում, նորոգում և վերականգնում | E35: =+E37 -> -63582.6 | F35: =+F37 -> -36929.4 | G35: =+G37 -> -48599.4 | H35: =+H37 -> -58890
D36: այդ թվում` ըստ կատարողների
D37: ՀՀ կրթության, գիտության, մշակույթի և սպորտի նախարարություն | E37: =+E39+E54 -> -63582.6 | F37: =+F39+F54 -> -36929.4 | G37: =+G39+G54 -> -48599.4 | H37: =+H39+H54 -> -58890
D38: այդ թվում՝ ըստ ուղղությունների
D39: 1. Վերականգնողական աշխատանքներ | E39: =+E41+E43+E45+E47+E49+E51 -> -66122.6 | F39: =+F41+F43+F45+F47+F49+F51 -> -39469.4 | G39: =+G41+G43+G45+G47+G49+G51 -> -51139.4 | H39: =+H41+H43+H45+H47+H49+H51 -> -61430
D40: որից`
D41: Երևան քաղաք | E41: =+E42 -> -76243 | F41: =+F42 -> 0 | G41: =+G42 -> 0 | H41: =+H42 -> 0
D42: Հայոց ցեղասպանության հուշահամալիրի և թանգարանի հիմնանորոգում և բարեկարգում | E42: -76243 | F42: 0 | G42: 0 | H42: 0
D43: ՀՀ Արագածոտնի մարզ | E43: =SUM(E44:E44) -> 0 | F43: =SUM(F44:F44) -> -25000 | G43: =SUM(G44:G44) -> -25000 | H43: =SUM(H44:H44) -> -25000
...

Sheet Հավելված N 5
F1: Հավելված 5
F2: ՀՀ կառավարության 2025 թվականի
F3: ______________ ի ___Ն որոշման
A6: ՀԱՅԱՍՏԱՆԻ ՀԱՆՐԱՊԵՏՈՒԹՅԱՆ ԿԱՌԱՎԱՐՈՒԹՅԱՆ 2024 ԹՎԱԿԱՆԻ ԴԵԿՏԵՄԲԵՐԻ 27-Ի N 2060-Ն ՈՐՈՇՄԱՆ N 5 ՀԱՎԵԼՎԱԾԻ N 7 ԱՂՅՈՒՍԱԿՈՒՄ ԿԱՏԱՐՎՈՂ ԼՐԱՑՈՒՄՆԵՐԸ
A7: հազար դրամ
A8: Ծրագրային դասիչը | D8: Բյուջետային հատկացումների գլխավոր կարգադրիչների, ծրագրերի, միջոցառումների և միջոցառումները կատարող պետական մարմինների անվանումները | F8: Միջոցառումները կատարող պետական մարմինների և դրամաշնորհ ստացող տնտեսվարող սուբյեկտների անվանումները | G8: Ցուցանիշների փոփոխությունը (ավելացումները նշված են դրական նշանով)
A9: Ծրագիր | B9: Միջոցառում | G9: Տարի
A10: ՀՀ կրթության, գիտության, մշակույթի և սպորտի նախարարություն | G10: =+G11 -> 62778.3
A11: 1075 | B11: Մշակութային ժառանգության ծրագիր | G11: =+G12+G18+G20 -> 62778.3
B12: 21001 | C12: Հուշարձանների ամրակայում, նորոգում և վերականգնում | F12: ՀՀ կրթության, գիտության, մշակույթի և սպորտի նախարարություն | G12: =+G14 -> 49720
D13: այդ թվում՝ ըստ ուղղությունների և միջոցառումների անվանումների
E14: Վավերագրման և ուսումնասիրման աշխատանքներ, (այդ թվում՝ հետախուզումև պեղում), գիտանախագծային փաստաթղթերի կազմում և փորձաքննում | G14: =+G15+G16+G17 -> 49720
E15: ՀՀ Լոռու մարզի Քոբայրավանքի պարիսպների և կից եկեղեցու պեղումներ | F15: «Պատմամշակութային ժառանգության գիտահետազոտական կենտրոն» ՊՈԱԿ | G15: =14500*1.2 -> 17400
E16: ՀՀ Լոռու մարզի Կայանբերդ ամրոցի պեղումներ | F16: «Պատմամշակութային արգելոց-թանգարանների և պատմական միջավայրի պահպանության ծառայություն» ՊՈԱԿ | G16: =14600*1.2 -> 17520
E17: ՀՀ Վայոց Ձորի մարզի Շատիվանքի վանական համալիրի պեղումներ | F17: ՀՀ ԳԱԱ «Հնագիտության և ազգագրության ինստիտուտ» ՊՈԱԿ | G17: =14800 -> 14800
B18: 32001 | C18: Ներդրումներ թանգարանների և պատկերասրահների հիմնանորոգման համար | F18: ՀՀ կրթության, գիտության, մշակույթի և սպորտի նախարարություն | G18: =+G19 -> 3888.3
F19: «Ռուսական արվեստի թանգարան (պրոֆեսոր Ա. Աբրահամյանի հավաքածու)» ՊՈԱԿ | G19: =1988.3+1900 -> 3888.3
B20: 32008 | C20: Թանգարանների և պատկերասրահների գույքային և տեխնիկական հագեցվածության բարելավում | F20: ՀՀ կրթության, գիտության, մշակույթի և սպորտի նախարարություն | G20: =SUM(G21:G34) -> 9170
F21: «Պատմամշակութային արգելոց-թանգարանների և պատմական միջավայրի պահպանության ծառայություն» ՊՈԱԿ | G21: 9170

Sheet Հավելված N 6
K1: Հավելված N 6
K2: ՀՀ կառավարության 2025 թվականի
K3: ______________ ի ___Ն որոշման
A6: ՀԱՅԱՍՏԱՆԻ ՀԱՆՐԱՊԵՏՈՒԹՅԱՆ ԿԱՌԱՎԱՐՈՒԹՅԱՆ 2024 ԹՎԱԿԱՆԻ ԴԵԿՏԵՄԲԵՐԻ 27-Ի N 2060-Ն ՈՐՈՇՄԱՆ N 9 ՀԱՎԵԼՎԱԾՈՒՄ ԿԱՏԱՐՎՈՂ ՓՈՓՈԽՈՒԹՅՈՒՆՆԵՐԸ ԵՎ ԼՐԱՑՈՒՄՆԵՐԸ
A9: ԲԳԿ | B9: Ծրագիր | D9: Միջոցառում | H9: Իրականացնողը/ ակտիվն օգտագործողը/ շահառուի ընտրության չափորոշիչը | I9: Արդյունքային չափորոշիչը | J9: Ցուցանիշների փոփոխությունը (ավելացումները նշված են դրական նշանով, իսկ նվազեցումները՝ փակագծերում)
B10: Դասիչը | C10: Անվանումը | D10: Դասիչը | E10: Անվանումը | F10: Նկարագրությունը | G10: Տեսակը | J10: Առաջին եռամսյակ | K10: Առաջին կիսամյակ | L10: Ինն ամիս | M10: Տարի
A11: ԸՆԴԱՄԵՆԸ | J11: =+J13+J80 -> 0 | K11: =+K13+K80 -> 2.5465852e-11 | L11: =+L13+L80 -> 0 | M11: =+M13+M80 -> 0
A12: այդ թվում՝
A13: ՀՀ ԿՐԹՈՒԹՅԱՆ, ԳԻՏՈՒԹՅԱՆ, ՄՇԱԿՈԻՅԹԻ ԵՎ ՍՊՈՐՏԻ ՆԱԽԱՐԱՐՈՒԹՅՈՒՆ | J13: =+J14+J26+J50+J60+J70 -> 0 | K13: =+K14+K26+K50+K60+K70 -> 2.5465852e-11 | L13: =+L14+L26+L50+L60+L70 -> 0 | M13: =+M14+M26+M50+M60+M70 -> 0
B14: 1045 | C14: Մասնագիտական կրթության և ուսուցման ծրագիր | J14: =+J15+J20 -> 4937 | K14: =+K15+K20 -> -56207.1 | L14: =+L15+L20 -> -31203 | M14: =+M15+M20 -> -10108.2
D15: 1045 - 32001 | E15: Մասնագիտական ուսումնական հաստատությունների շենքային պայմանների բարելավում | J15: =+'Հավելված N 1'!G17 -> 4937 | K15: =+'Հավելված N 1'!H17 -> -56207.1 | L15: =+'Հավելված N 1'!I17 -> -31203 | M15: =+'Հավելված N 1'!J17 -> -50850.3
F16: Մասնագիտական ուսումնական հաստատությունների շենքերի հիմնանորոգման և նախագծման (շինարարական աշխատանքներ, ջեռուցման համակարգի ստեղծում, ներքին հարդարում, տարածքի բարեկարգում) աշխատանքների իրականացում
G17: Այլ պետական կազմակերպությունների կողմից օգտագործվող ոչ ֆինանսական ակտիվների հետ գործառնություններ
H18: Ակտիվն օգտագործող կազմակերպությունների անվանումները` Մասնագիտական ուսումնական հաստատություններ
I19: Հիմնանորոգվող մասնագիտական ուսումնական հաստատությունների քանակ, հատ | K19: -1 | M19: -1
D20: 1045 - 32005 | E20: Մասնագիտական ուսումնական հաստատությունների շենքերի կառուցում | J20: =+'Հավելված N 1'!G18 -> 0 | K20: =+'Հավելված N 1'!H18 -> 0 | L20: =+'Հավելված N 1'!I18 -> 0 | M20: =+'Հավելված N 1'!J18 -> 40742.1
F21: Մասնագիտական ուսումնական հաստատությունների շենքերի (մասնաշենքերի) կառուցման և նախագծման աշխատանքների իրականացում
G22: Այլ պետական կազմակերպությունների կողմից օգտագործվող ոչ ֆինանսական ակտիվների հետ գործառնություններ
H23: Ակտիվն օգտագործող կազմակերպությունների անվանումները` Մասնագիտական ուսումնական հաստատություններ
I24: Նախագծանախահաշվային փաստաթղթերի քանակ, հատ | M24: 1
B26: 1075 | C26: Մշակութային ժառանգության ծրագիր | J26: =+J27+J34+J39+J44 -> 31319.5 | K26: =+K27+K34+K39+K44 -> 60736.4 | L26: =+L27+L34+L39+L44 -> -64131.5 | M26: =+M27+M34+M39+M44 -> -74422
D27: 1075 - 21001 | E27: Հուշարձանների ամրակայում, նորոգում և վերականգնում | J27: =+'Հավելված N 1'!G20 -> -13862.6 | K27: =+'Հավելված N 1'!H20 -> 12790.6 | L27: =+'Հավելված N 1'!I20 -> 1120.6 | M27: =+'Հավելված N 1'!J20 -> -9170
F28: Հուշարձանների գիտանախագծային փաստաթղթերի կազմում, հրատապ ուսումնասիրում, վավերագրման և ուսումնասիրման աշխատանքներ, հետախուզում և հնագիտական պեղում, ամրակայում, նորոգում և վերականգնում
G29: Հանրության կողմից անմիջականորեն օգտագործվող ակտիվների հետ կապված միջոցառումներ
H30: Ծառայությունը մատուցող կազմակերպության անվանումը` Մասնագիտացված կազմակերպություններ
I31: Հուշարձանների ամրակայման, նորոգման և վերականգնման աշխատանքներ, քանակ | K31: 1 | M31: 1
I32: Հուշարձանների նախագծման, փորձաքննության աշխատանքներ, քանակ | K32: 5 | M32: 5
I33: Հուշարձանների ուսումնասիրման, հետախուզումների և պեղումների աշխատանքներ, քանակ | K33: 3 | M33: 3
D34: 1075 - 32001 | E34: Ներդրումներ թանգարանների և պատկերասրահների հիմնանորոգման համար | J34: =+'Հավելված N 1'!G21 -> 4012.1 | K34: =+'Հավելված N 1'!H21 -> -63224.2 | L34: =+'Հավելված N 1'!I21 -> -176422.1 | M34: =+'Հավելված N 1'!J21 -> -261320.5
F35: Թանգարանների և պատկերասրահների շենքերի, մասնաշենքերի հիմնանորոգում, համաշինարարական աշխատանքներ, ջեռուցման համակարգի իրականացում, ներքին հարդարում, տարածքի բարեկարգում և նախագծում
G36: Այլ պետական կազմակերպությունների կողմից օգտագործվող ոչ ֆինանսական ակտիվների հետ գործառնություններ
H37: Ակտիվն օգտագործող կազմակերպության անվանումը` Թանգարաններ և պատկերասրահներ
I38: Հիմնանորոգվող Թանգարաններ և պատկերասրահներ քանակ, հատ | K38: -1 | M38: -1
D39: 1075 - 32008 | E39: Թանգարանների և պատկերասրահների գույքային և տեխնիկական հագեցվածության բարելավում | J39: =+'Հավելված N 1'!G22 -> 9170 | K39: =+'Հավելված N 1'!H22 -> 9170 | L39: =+'Հավելված N 1'!I22 -> 9170 | M39: =+'Հավելված N 1'!J22 -> 9170
F40: Թանգարանների և պատկերասրահների համար անհրաժեշտ գույքի, տեխնիկայի և սարքավորումների ձեռքբերում
G41: Այլ պետական կազմակերպությունների կողմից օգտագործվող ոչ ֆինանսական ակտիվների հետ գործառնություններ
H42: Ակտիվն օգտագործող կազմակերպության անվանումը` Թանգարաններ և պատկերասրահներ
I43: Կազմակերպությունների թիվը, որտեղ կատարվում են ներդրումները | K43: 1 | M43: 1
D44: 1075 - 32012 | E44: Թանգարանների համար նոր շենքերի կառուցում | J44: =+'Հավելված N 1'!G23 -> 32000 | K44: =+'Հավելված N 1'!H23 -> 102000 | L44: =+'Հավելված N 1'!I23 -> 102000 | M44: =+'Հավելված N 1'!J23 -> 186898.5
F45: Թանգարանների շենքերի, մասնաշենքերի կառուցում և նախագծում, նորաստեղծ թանգարանների նորակառույց շենքերով ապահովում
...

Sheet Հավելված N 7
K1: Հավելված N 7
K2: ՀՀ կառավարության 2025 թվականի
K3: ______________ ի ___Ն որոշման
A6: ՀԱՅԱՍՏԱՆԻ ՀԱՆՐԱՊԵՏՈՒԹՅԱՆ ԿԱՌԱՎԱՐՈՒԹՅԱՆ 2024 ԹՎԱԿԱՆԻ ԴԵԿՏԵՄԲԵՐԻ 27-Ի N 2060-Ն ՈՐՈՇՄԱՆ N 9.1 ՀԱՎԵԼՎԱԾՈՒՄ ԿԱՏԱՐՎՈՂ ՓՈՓՈԽՈՒԹՅՈՒՆՆԵՐԸ ԵՎ ԼՐԱՑՈՒՄՆԵՐԸ
A9: ԲՍԿ | B9: Ծրագիր | D9: Միջոցառում | H9: Իրականացնողը/ ակտիվն օգտագործողը/ շահառուի ընտրության չափորոշիչը | I9: Արդյունքային չափորոշիչը | J9: Ցուցանիշների փոփոխությունը (ավելացումները նշված են դրական նշանով, իսկ նվազեցումները՝ փակագծերում)
B10: Դասիչը | C10: Անվանումը | D10: Դասիչը | E10: Անվանումը | F10: Նկարագրությունը | G10: Տեսակը | J10: Առաջին եռամսյակ | K10: Առաջին կիսամյակ | L10: Ինն ամիս | M10: Տարի
A11: ԸՆԴԱՄԵՆԸ | J11: =+J13+J80 -> 0 | K11: =+K13+K80 -> 2.5465852e-11 | L11: =+L13+L80 -> 0 | M11: =+M13+M80 -> 0
A12: այդ թվում՝
A13: ՀՀ ԿՐԹՈՒԹՅԱՆ, ԳԻՏՈՒԹՅԱՆ, ՄՇԱԿՈԻՅԹԻ ԵՎ ՍՊՈՐՏԻ ՆԱԽԱՐԱՐՈՒԹՅՈՒՆ | J13: =+J14+J26+J50+J60+J70 -> 0 | K13: =+K14+K26+K50+K60+K70 -> 2.5465852e-11 | L13: =+L14+L26+L50+L60+L70 -> 0 | M13: =+M14+M26+M50+M60+M70 -> 0
B14: 1045 | C14: Մասնագիտական կրթության և ուսուցման ծրագիր | J14: =+J15+J20 -> 4937 | K14: =+K15+K20 -> -56207.1 | L14: =+L15+L20 -> -31203 | M14: =+M15+M20 -> -10108.2
D15: 1045 - 32001 | E15: Մասնագիտական ուսումնական հաստատությունների շենքային պայմանների բարելավում | J15: =+'Հավելված N 2'!G138 -> 4937 | K15: =+'Հավելված N 2'!H138 -> -56207.1 | L15: =+'Հավելված N 2'!I138 -> -31203 | M15: =+'Հավելված N 2'!J138 -> -50850.3
F16: Մասնագիտական ուսումնական հաստատությունների շենքերի հիմնանորոգման և նախագծման (շինարարական աշխատանքներ, ջեռուցման համակարգի ստեղծում, ներքին հարդարում, տարածքի բարեկարգում) աշխատանքների իրականացում
G17: Այլ պետական կազմակերպությունների կողմից օգտագործվող ոչ ֆինանսական ակտիվների հետ գործառնություններ
H18: Ակտիվն օգտագործող կազմակերպությունների անվանումները` Մասնագիտական ուսումնական հաստատություններ
I19: Հիմնանորոգվող մասնագիտական ուսումնական հաստատությունների քանակ, հատ | K19: -1 | M19: -1
D20: 1045 - 32005 | E20: Մասնագիտական ուսումնական հաստատությունների շենքերի կառուցում | J20: =+'Հավելված N 2'!G149 -> 0 | K20: =+'Հավելված N 2'!H149 -> 0 | L20: =+'Հավելված N 2'!I149 -> 0 | M20: =+'Հավելված N 2'!J149 -> 40742.1
F21: Մասնագիտական ուսումնական հաստատությունների շենքերի (մասնաշենքերի) կառուցման և նախագծման աշխատանքների իրականացում
G22: Այլ պետական կազմակերպությունների կողմից օգտագործվող ոչ ֆինանսական ակտիվների հետ գործառնություններ
H23: Ակտիվն օգտագործող կազմակերպությունների անվանումները` Մասնագիտական ուսումնական հաստատություններ
I24: Նախագծանախահաշվային փաստաթղթերի քանակ, հատ | M24: 1
B26: 1075 | C26: Մշակութային ժառանգության ծրագիր | J26: =+J27+J34+J39+J44 -> 31319.5 | K26: =+K27+K34+K39+K44 -> 60736.4 | L26: =+L27+L34+L39+L44 -> -64131.5 | M26: =+M27+M34+M39+M44 -> -74422
D27: 1075 - 21001 | E27: Հուշարձանների ամրակայում, նորոգում և վերականգնում | J27: =+'Հավելված N 2'!G68 -> -13862.6 | K27: =+'Հավելված N 2'!H68 -> 12790.6 | L27: =+'Հավելված N 2'!I68 -> 1120.6 | M27: =+'Հավելված N 2'!J68 -> -9170
F28: Հուշարձանների գիտանախագծային փաստաթղթերի կազմում, հրատապ ուսումնասիրում, վավերագրման և ուսումնասիրման աշխատանքներ, հետախուզում և հնագիտական պեղում, ամրակայում, նորոգում և վերականգնում
G29: Հանրության կողմից անմիջականորեն օգտագործվող ակտիվների հետ կապված միջոցառումներ
H30: Ծառայությունը մատուցող կազմակերպության անվանումը` Մասնագիտացված կազմակերպություններ
I31: Հուշարձանների ամրակայման, նորոգման և վերականգնման աշխատանքներ, քանակ | K31: 1 | M31: 1
I32: Հուշարձանների նախագծման, փորձաքննության աշխատանքներ, քանակ | K32: 5 | M32: 5
I33: Հուշարձանների ուսումնասիրման, հետախուզումների և պեղումների աշխատանքներ, քանակ | K33: 3 | M33: 3
D34: 1075 - 32001 | E34: Ներդրումներ թանգարանների և պատկերասրահների հիմնանորոգման համար | J34: =+'Հավելված N 2'!G28 -> 4012.1 | K34: =+'Հավելված N 2'!H28 -> -63224.2 | L34: =+'Հավելված N 2'!I28 -> -176422.1 | M34: =+'Հավելված N 2'!J28 -> -261320.5
F35: Թանգարանների և պատկերասրահների շենքերի, մասնաշենքերի հիմնանորոգում, համաշինարարական աշխատանքներ, ջեռուցման համակարգի իրականացում, ներքին հարդարում, տարածքի բարեկարգում և նախագծում
G36: Այլ պետական կազմակերպությունների կողմից օգտագործվող ոչ ֆինանսական ակտիվների հետ գործառնություններ
H37: Ակտիվն օգտագործող կազմակերպության անվանումը` Թանգարաններ և պատկերասրահներ
I38: Հիմնանորոգվող Թանգարաններ և պատկերասրահներ քանակ, հատ | K38: -1 | M38: -1
D39: 1075 - 32008 | E39: Թանգարանների և պատկերասրահների գույքային և տեխնիկական հագեցվածության բարելավում | J39: =+'Հավելված N 2'!G41 -> 9170 | K39: =+'Հավելված N 2'!H41 -> 9170 | L39: =+'Հավելված N 2'!I41 -> 9170 | M39: =+'Հավելված N 2'!J41 -> 9170
F40: Թանգարանների և պատկերասրահների համար անհրաժեշտ գույքի, տեխնիկայի և սարքավորումների ձեռքբերում
G41: Այլ պետական կազմակերպությունների կողմից օգտագործվող ոչ ֆինանսական ակտիվների հետ գործառնություններ
H42: Ակտիվն օգտագործող կազմակերպության անվանումը` Թանգարաններ և պատկերասրահներ
I43: Կազմակերպությունների թիվը, որտեղ կատարվում են ներդրումները | K43: 1 | M43: 1
D44: 1075 - 32012 | E44: Թանգարանների համար նոր շենքերի կառուցում | J44: =+'Հավելված N 2'!G50 -> 32000 | K44: =+'Հավելված N 2'!H50 -> 102000 | L44: =+'Հավելված N 2'!I50 -> 102000 | M44: =+'Հավելված N 2'!J50 -> 186898.5
F45: Թանգարանների շենքերի, մասնաշենքերի կառուցում և նախագծում, նորաստեղծ թանգարանների նորակառույց շենքերով ապահովում
...

Sheet Հավելված N 8
H1: Հավելված N 8
H2: ՀՀ կառավարության 2025 թվականի
H3: ______________ ի ___Ն որոշման
A6: ՀԱՅԱՍՏԱՆԻ ՀԱՆՐԱՊԵՏՈՒԹՅԱՆ ԿԱՌԱՎԱՐՈՒԹՅԱՆ 2024 ԹՎԱԿԱՆԻ ԴԵԿՏԵՄԲԵՐԻ 27-Ի N 2060-Ն N 10 ՀԱՎԵԼՎԱԾՈՒՄ ԿԱՏԱՐՎՈՂ ՓՈՓՈԽՈՒԹՅՈՒՆՆԵՐԸ ԵՎ ԼՐԱՑՈՒՄՆԵՐԸ
A10: Կոդը | B10: Անվանումը | E10: Գնման ձևը | F10: Չափման միավորը | G10: Միավորի գինը | H10: Ցուցանիշների փոփոխությունը (ավելացումները նշված են դրական նշանով, իսկ նվազեցումները՝ փակագծերում)
H11: Քանակը | I11: Գումարը (հազար դրամ)
A12: 1 | B12: 2 | E12: 3 | F12: 4 | G12: 5 | H12: 6 | I12: 7
A13: ՀՀ կրթության, գիտության, մշակույթի և սպորտի նախարարություն | I13: =+I14+I27+I44+I51 -> -228316.2
A14: Բաժին N 08 | B14: Խումբ N 02 | C14: Դաս N 02 | D14: Թանգարաններ և ցուցասրահներ | I14: =+I15+I21 -> -180434.1
A15: 1075-32001 | B15: Ներդրումներ թանգարանների և պատկերասրահների հիմնանորոգման համար | I15: =+I16+I18 -> -265332.6
B16: ՄԱՍ II. ԱՇԽԱՏԱՆՔՆԵՐ | I16: =+I17 -> -263042.3
A17: 45611200-1 | B17: մշակութային օբյեկտների հիմնանորոգում | E17: ԲՄ | F17: դրամ | I17: -263042.3
B18: ՄԱՍ III. ԾԱՌԱՅՈՒԹՅՈՒՆՆԵՐ | I18: =SUM(I19:I20) -> -2290.3
A19: 71351540-1 | B19: տեխնիկական հսկողության ծառայություններ | E19: ԳՀ | F19: դրամ | G19: 589100 | H19: -1 | I19: =+ROUNDDOWN(H19*G19/1000,1) -> -589.1
A20: 98111140-1 | B20: հեղինակային հսկողության ծառայություններ | E20: ՄԱ | F20: դրամ | G20: 1701234 | H20: -1 | I20: =+ROUNDDOWN(H20*G20/1000,1) -> -1701.2
A21: 1075-32012 | B21: Թանգարանների համար նոր շենքերի կառուցում | I21: =+I22+I24 -> 84898.5
B22: ՄԱՍ II. ԱՇԽԱՏԱՆՔՆԵՐ | I22: =+I23 -> 84211.3
A23: 45221142 | B23: ընդհանուր շինարարական աշխատանքներ | E23: ԲՄ | F23: դրամ | G23: 84211290 | H23: 1 | I23: =+ROUNDUP(H23*G23/1000,1) -> 84211.3
B24: ՄԱՍ III. ԾԱՌԱՅՈՒԹՅՈՒՆՆԵՐ | I24: =SUM(I25:I26) -> 687.2
A25: 71351540-1 | B25: տեխնիկական հսկողության ծառայություններ | E25: ԳՀ | F25: դրամ | G25: 176730 | H25: 1 | I25: =+ROUNDUP(H25*G25/1000,1) -> 176.8
A26: 98111140-1 | B26: հեղինակային հսկողության ծառայություններ | E26: ՄԱ | F26: դրամ | G26: 510370 | H26: 1 | I26: =+ROUNDUP(H26*G26/1000,1) -> 510.4
A27: Բաժին N 08 | B27: Խումբ N 02 | C27: Դաս N 07 | D27: Հուշարձանների և մշակութային արժեքների վերականգնում և պահպանում | I27: =+I28 -> -58890
A28: 1075-21001 | B28: Հուշարձանների ամրակայում, նորոգում և վերականգնում | I28: =+I29+I36 -> -58890
B29: ՄԱՍ II. ԱՇԽԱՏԱՆՔՆԵՐ | I29: =SUM(I30:I35) -> -61568.6
A30: 45451600 | B30: վերականգնողական աշխատանքներ | E30: ԳՀ | F30: դրամ | G30: 4494533 | H30: 1 | I30: =+ROUNDUP(H30*G30/1000,1) -> 4494.6
A31: 45451600-2 | B31: վերականգնողական աշխատանքներ | E31: ԲՄ | F31: դրամ | I31: -25000
A32: 45451600-12 | B32: վերականգնողական աշխատանքներ | E32: ԲՄ | F32: դրամ | I32: -10000
A33: 45451600-17 | B33: վերականգնողական աշխատանքներ | E33: ԲՄ | F33: դրամ | I33: -16550.4
A34: 45451600-18 | B34: վերականգնողական աշխատանքներ | E34: ԳՀ | F34: դրամ | G34: 5487164 | H34: 1 | I34: =+ROUNDUP(H34*G34/1000,1) -> 5487.2
A35: 45451600-19 | B35: վերականգնողական աշխատանքներ | E35: ԲՄ | F35: դրամ | I35: -20000
B36: ՄԱՍ III. ԾԱՌԱՅՈՒԹՅՈՒՆՆԵՐ | I36: =SUM(I37:I43) -> 2678.6
A37: 71351540 | B37: տեխնիկական հսկողության ծառայություններ | E37: ԳՀ | F37: դրամ | G37: 78000 | H37: 1 | I37: =+ROUNDUP(H37*G37/1000,1) -> 78
A38: 98111140 | B38: հեղինակային հսկողության ծառայություններ | E38: ՄԱ | F38: դրամ | G38: 60590 | H38: 1 | I38: =+ROUNDUP(H38*G38/1000,1) -> 60.6
A39: 50531140 | B39: փորձաքննության ծառայություններ | E39: ԳՀ | F39: դրամ | G39: 460000 | H39: 1 | I39: =+ROUND(H39*G39/1000,1) -> 460
A40: 50531140 | B40: փորձաքննության ծառայություններ | E40: ԳՀ | F40: դրամ | G40: 680000 | H40: 1 | I40: =+ROUND(H40*G40/1000,1) -> 680
A41: 50531140 | B41: փորձաքննության ծառայություններ | E41: ԳՀ | F41: դրամ | G41: 400000 | H41: 1 | I41: =+ROUND(H41*G41/1000,1) -> 400
A42: 50531140 | B42: փորձաքննության ծառայություններ | E42: ԳՀ | F42: դրամ | G42: 500000 | H42: 1 | I42: =+ROUND(H42*G42/1000,1) -> 500
A43: 50531140 | B43: փորձաքննության ծառայություններ | E43: ԳՀ | F43: դրամ | G43: 500000 | H43: 1 | I43: =+ROUND(H43*G43/1000,1) -> 500
A44: Բաժին N 09 | B44: Խումբ N 02 | C44: Դաս N 01 | D44: Հիմնական ընդհանուր կրթություն | I44: =+I45 -> 5703.9
A45: 1236-32004 | B45: Հանրակրթական դպրոցների շենքերի վերակառուցում, հիմնանորոգում | I45: =+I46+I48 -> 5703.9
...

Sheet Հավելված N 9
F1: Հավելված N 9
J2: ՀՀ կառավարության 2025 թվականի
J3: ______________ ի ___Ն որոշման
A6: ՀԱՅԱՍՏԱՆԻ ՀԱՆՐԱՊԵՏՈՒԹՅԱՆ 2025 ԹՎԱԿԱՆԻ ՊԵՏԱԿԱՆ ԲՅՈՒՋԵՈՎ ՆԱԽԱՏԵՍՎԱԾ՝ ՀԱՅԱՍՏԱՆԻ ՀԱՆՐԱՊԵՏՈՒԹՅԱՆ ԿԱՌԱՎԱՐՈՒԹՅԱՆ ՊԱՀՈՒՍՏԱՅԻՆ ՖՈՆԴԻՑ ՀԱՏԿԱՑՈՒՄՆԵՐ ԿԱՏԱՐԵԼՈՒ ՎԵՐԱԲԵՐՅԱԼ
A9: Գործառական դասիչը | D9: Ծրագրային դասիչը | F9: Բյուջետային հատկացումների գլխավոր կարգադրիչների, ծրագրերի, միջոցառումների և միջոցառումները կատարող պետական մարմինների անվանումները | G9: Ցուցանիշների փոփոխությունը (ավելացումները նշված են դրական նշանով, իսկ նվազեցումները` փակագծերում)
A10: Բաժին | B10: Խումբ | C10: Դաս | D10: Ծրագիր | E10: Միջոցառում | G10: Տարի | H10: Տարի | I10: Տարի | J10: Տարի
F11: ԸՆԴԱՄԵՆԸ | G11: =+G13+G33 -> 0 | H11: =+H13+H33 -> 0 | I11: =+I13+I33 -> 0 | J11: =+J13+J33 -> 0
F12: այդ թվում
F13: ՀՀ ԿԱՌԱՎԱՐՈՒԹՅՈՒՆ | G13: =+G14 -> -32000 | H13: =+H14 -> -102000 | I13: =+I14 -> -102000 | J13: =+J14 -> -186898.5
A14: 11 | F14: ՀԻՄՆԱԿԱՆ ԲԱԺԻՆՆԵՐԻՆ ՉԴԱՍՎՈՂ ՊԱՀՈՒՍՏԱՅԻՆ ՖՈՆԴԵՐ | G14: =+G16 -> -32000 | H14: =+H16 -> -102000 | I14: =+I16 -> -102000 | J14: =+J16 -> -186898.5
F15: այդ թվում`
B16: 01 | F16: ՀՀ կառավարության և համայնքների պահուստային ֆոնդ | G16: =+G18 -> -32000 | H16: =+H18 -> -102000 | I16: =+I18 -> -102000 | J16: =+J18 -> -186898.5
F17: այդ թվում`
C18: 01 | F18: ՀՀ կառավարության պահուստային ֆոնդ | G18: =+G20 -> -32000 | H18: =+H20 -> -102000 | I18: =+I20 -> -102000 | J18: =+J20 -> -186898.5
F19: այդ թվում`
F20: ՀՀ կառավարություն | G20: =+G22 -> -32000 | H20: =+H22 -> -102000 | I20: =+I22 -> -102000 | J20: =+J22 -> -186898.5
F21: այդ թվում`
D22: 1139 | E22: ՀՀ կառավարության պահուստային ֆոնդ | F22: ՀՀ կառավարության պահուստային ֆոնդ | G22: =+G24 -> -32000 | H22: =+H24 -> -102000 | I22: =+I24 -> -102000 | J22: =+J24 -> -186898.5
F23: այդ թվում`
E24: 11001 | F24: ՀՀ կառավարության պահուստային ֆոնդ | G24: =+G26 -> -32000 | H24: =+H26 -> -102000 | I24: =+I26 -> -102000 | J24: =+J26 -> -186898.5
F25: այդ թվում` ըստ կատարողների
F26: ՀՀ կառավարություն | G26: =+G28 -> -32000 | H26: =+H28 -> -102000 | I26: =+I28 -> -102000 | J26: =+J28 -> -186898.5
F27: այդ թվում՝ բյուջետային ծախսերի տնտեսագիտական դասակարգման հոդվածներ
F28: ԸՆԴԱՄԵՆԸ ԾԱԽՍԵՐ | G28: =+G29 -> -32000 | H28: =+H29 -> -102000 | I28: =+I29 -> -102000 | J28: =+J29 -> -186898.5
F29: ԸՆԹԱՑԻԿ ԾԱԽՍԵՐ | G29: =+G30 -> -32000 | H29: =+H30 -> -102000 | I29: =+I30 -> -102000 | J29: =+J30 -> -186898.5
F30: ԱՅԼ ԾԱԽՍԵՐ | G30: =+G31 -> -32000 | H30: =+H31 -> -102000 | I30: =+I31 -> -102000 | J30: =+J31 -> -186898.5
F31: - Պահուստային միջոցներ | G31: =+'Հավելված N 2'!G203 -> -32000 | H31: =+'Հավելված N 2'!H203 -> -102000 | I31: =+'Հավելված N 2'!I203 -> -102000 | J31: =+'Հավելված N 2'!J203 -> -186898.5
F33: ՀՀ ԿՐԹՈՒԹՅԱՆ, ԳԻՏՈՒԹՅԱՆ, ՄՇԱԿՈՒՅԹԻ ԵՎ ՍՊՈՐՏԻ ՆԱԽԱՐԱՐՈՒԹՅՈՒՆ | G33: =+G34 -> 32000 | H33: =+H34 -> 102000 | I33: =+I34 -> 102000 | J33: =+J34 -> 186898.5
A34: 08 | F34: ՀԱՆԳԻՍՏ, ՄՇԱԿՈՒՅԹ ԵՎ ԿՐՈՆ | G34: =+G36 -> 32000 | H34: =+H36 -> 102000 | I34: =+I36 -> 102000 | J34: =+J36 -> 186898.5
F35: այդ թվում`
B36: 02 | F36: Մշակութային ծառայություններ | G36: =+G38 -> 32000 | H36: =+H38 -> 102000 | I36: =+I38 -> 102000 | J36: =+J38 -> 186898.5
F37: այդ թվում`
C38: 02 | F38: Թանգարաններ և ցուցասրահներ | G38: =+G40 -> 32000 | H38: =+H40 -> 102000 | I38: =+I40 -> 102000 | J38: =+J40 -> 186898.5
F39: այդ թվում`
F40: ՀՀ կրթության, գիտության, մշակույթի և սպորտի նախարարություն | G40: =+G42 -> 32000 | H40: =+H42 -> 102000 | I40: =+I42 -> 102000 | J40: =+J42 -> 186898.5
F41: այդ թվում`
D42: 1075 | E42: Մասսայական սպորտ | G42: =+G44 -> 32000 | H42: =+H44 -> 102000 | I42: =+I44 -> 102000 | J42: =+J44 -> 186898.5
F43: այդ թվում`
E44: 32012 | F44: Թանգարանների համար նոր շենքերի կառուցում | G44: =+G46 -> 32000 | H44: =+H46 -> 102000 | I44: =+I46 -> 102000 | J44: =+J46 -> 186898.5
F45: այդ թվում` ըստ կատարողների
...
