Workbook

Sheet 1
B1: Հավելված N 1
B2: ՀՀ կառավարության 2025 թվականի
B3: -----------------ի N -----------Ն որոշման
A5: «ՀԱՅԱՍՏԱՆԻ ՀԱՆՐԱՊԵՏՈՒԹՅԱՆ 2025 ԹՎԱԿԱՆԻ ՊԵՏԱԿԱՆ ԲՅՈՒՋԵԻ ՄԱՍԻՆ» ՀԱՅԱՍՏԱՆԻ ՀԱՆՐԱՊԵՏՈՒԹՅԱՆ ՕՐԵՆՔԻ 2-ՐԴ ՀՈԴՎԱԾԻ ԱՂՅՈՒՍԱԿՈՒՄ ԿԱՏԱՐՎՈՂ ԼՐԱՑՈՒՄԸ
B6: հազար դրամներով
B7: Ցուցանիշների փոփոխությունը (գումարների ավելացումը նշված է դրական նշանով)
A8: 1. Եկամուտների գծով | B8: =B9 -> 121500
A9: 2. Ծախսերի գծով | B9: 121500
A10: 3. Դեֆիցիտը (պակասուրդը) | B10: 0

Sheet 2
E1: Հավելված N 2
E2: ՀՀ կառավարության 2025 թվականի
E3: -----------------ի N -----------Ն որոշման
A5: ,«ՀԱՅԱՍՏԱՆԻ ՀԱՆՐԱՊԵՏՈՒԹՅԱՆ 2025 ԹՎԱԿԱՆԻ ՊԵՏԱԿԱՆ ԲՅՈՒՋԵԻ ՄԱՍԻՆ» ՀԱՅԱՍՏԱՆԻՀԱՆՐԱՊԵՏՈՒԹՅԱՆ ՕՐԵՆՔԻ 6-ՐԴ ՀՈԴՎԱԾԻ ԱՂՅՈՒՍԱԿՈՒՄ ԵՎ ՀԱՅԱՍՏԱՆԻ ՀԱՆՐԱՊԵՏՈՒԹՅԱՆ ԿԱՌԱՎԱՐՈՒԹՅԱՆ 2024 ԹՎԱԿԱՆԻ ԴԵԿՏԵՄԲԵՐԻ 27-Ի N 2060-Ն ՈՐՈՇՄԱՆ N 2 ՀԱՎԵԼՎԱԾՈՒՄ ԿԱՏԱՐՎՈՂ ԼՐԱՑՈՒՄԸ
E6: հազար դրամներով
A7: Պետական բյուջեի եկամուտները | B7: Ցուցանիշների փոփոխությունը (գումարների ավելացումը նշված է դրական նշանով)
B8: Առաջին եռամսյակ | C8: Առաջին կիսամյակ | D8: Ինն ամիս | E8: Տարի
A9: Ընդամենը | B9: =B11 -> 121500 | C9: =C11 -> 121500 | D9: =D11 -> 121500 | E9: =E11 -> 121500
A10: այդ թվում՝
A11: Հարկային եկամուտներ և պետական տուրքեր | B11: 121500 | C11: 121500 | D11: 121500 | E11: 121500

Sheet 3
J1: Հավելված N 3
E2: ՀՀ կառավարության 2025 թվականի
E3: -----------------ի N -----------Ն որոշման
A5: «ՀԱՅԱՍՏԱՆԻ ՀԱՆՐԱՊԵՏՈՒԹՅԱՆ 2025 ԹՎԱԿԱՆԻ ՊԵՏԱԿԱՆ ԲՅՈՒՋԵԻ ՄԱՍԻՆ» ՕՐԵՆՔԻ N 1 ՀԱՎԵԼՎԱԾԻ N 2 ԱՂՅՈՒՍԱԿՈՒՄ ԿԱՏԱՐՎՈՂ ՎԵՐԱԲԱՇԽՈՒՄԸ ԵՎ ԼՐԱՑՈՒՄԸ, ՀԱՅԱՍՏԱՆԻ ՀԱՆՐԱՊԵՏՈՒԹՅԱՆ ԿԱՌԱՎԱՐՈՒԹՅԱՆ 2024 ԹՎԱԿԱՆԻ ԴԵԿՏԵՄԲԵՐԻ 27-Ի N 2060-Ն ՈՐՈՇՄԱՆ N 5 ՀԱՎԵԼՎԱԾԻ N 1 ԱՂՅՈՒՍԱԿՈՒՄ ԿԱՏԱՐՎՈՂ ՓՈՓՈԽՈՒԹՅՈՒՆՆԵՐԸ ԵՎ ԼՐԱՑՈՒՄՆԵՐԸ
I6: հազար դրամներով
A7: ԲԳԿ | B7: Ծրագրային դասիչը | D7: ԲԳԿ/Ծրագրի /միջոցառման անվանումը | E7: Ծրագրի նպատակը/Միջոցառման նկարագրույունը | F7: Վերջնական արդյունքի նկարագրությունը/Միջոցառման տեսակը | G7: Ցուցանիշների փոփոխությունները ավելացումները նշված են դրական նշանով, իսկ նվազեցումները՝ փակագծերում
B8: Ծրագիր | C8: Միջոցառում | G8: Առաջին եռամսյակ | H8: Առաջին կիսամյակ | I8: Ինն ամիս | J8: Տարի
A9: ԸՆԴԱՄԵՆԸ | G9: =G10+G13 -> 121500 | H9: =H10+H13 -> 121500 | I9: =I10+I13 -> 121500 | J9: =J10+J13 -> 121500
A10: ՀՀ աշխատանքի և սոցիալական հարցերի նախարարություն | G10: =G11 -> 121500 | H10: =H11 -> 121500 | I10: =I11 -> 121500 | J10: =J11 -> 121500
B11: 1088 | D11: Զբաղվածության ծրագիր | E11: Բնակչության կայուն և ժամանակավոր զբաղվածության ապահովմանը միտված պայմանների ստեղծում | F11: Կայուն և ժամանակավոր զբաղվածների թվաքանակի աճ | G11: =G12 -> 121500 | H11: =H12 -> 121500 | I11: =I12 -> 121500 | J11: =J12 -> 121500
C12: 1088-12024 | D12: Անհուսալի վարկային դասով դասակարգված վարկային պարտավորություն(ներ) ունեցող աշխատաշուկայից (ֆորմալ զբաղվածությունից) դուրս մնացած կամ մասնակի ֆորմալ զբաղվածություն ունեցող անձանց աջակցություն | E12: Աջակցել աշխատաշուկայից (ֆորմալ զբաղվածությունից) դուրս մնացածներին կամ մասնակի ֆորմալ զբաղվածություն ունեցողներին, որոնք ունեն անհուսալի վարկային դասով դասակարգված վարկային պարտավորություն(ներ)՝ վերականգնելու իրենց տնտեսական ակտիվությունն աշխատաշուկա վերադառնալու միջոցով | F12: Տրանսֆերտների տրամադրում | G12: 121500 | H12: 121500 | I12: 121500 | J12: 121500
A13: ՀՀ կառավարություն | G13: =G14 -> 0 | H13: =H14 -> 0 | I13: =I14 -> 0 | J13: =J14 -> 0
B14: 1139 | D14: ՀՀ կառավարության պահուստային ֆոնդ | E14: Պետական բյուջեում չկանխատեսված, ինչպես նաեւ բյուջետային երաշխիքների ապահովման ծախսերի ֆինանսավորման ապահովում | F14: Պահուստային ֆոնդի կառավարման արդյունավետության և թափանցիկության ապահովում | G14: =G15+G16 -> 0 | H14: =H15+H16 -> 0 | I14: =I15+I16 -> 0 | J14: =J15+J16 -> 0
C15: 1139 - 11001 | D15: ՀՀ կառավարության պահուստային ֆոնդ | E15: ՀՀ պետական բյուջեում նախատեսված ելքերի լրացուցիչ ֆինանսավորման, պետական բյուջեում չկանխատեսված ելքերի, ինչպես նաև բյուջետային երաշխիքների ապահովման ելքերի ֆինանսավորման ապահովում | F15: Ծառայությունների մատուցում | G15: -121500 | H15: -121500 | I15: -121500 | J15: -121500
C16: 1139 - 11001 | D16: ՀՀ կառավարության պահուստային ֆոնդ | E16: ՀՀ պետական բյուջեում նախատեսված ելքերի լրացուցիչ ֆինանսավորման, պետական բյուջեում չկանխատեսված ելքերի, ինչպես նաև բյուջետային երաշխիքների ապահովման ելքերի ֆինանսավորման ապահովում | F16: Ծառայությունների մատուցում | G16: 121500 | H16: 121500 | I16: 121500 | J16: 121500

Sheet 4
J1: Հավելված N 4
F2: ՀՀ կառավարության 2025 թվականի
F3: -----------------ի N -----------Ն որոշման
A5: ՀԱՅԱՍՏԱՆԻ ՀԱՆՐԱՊԵՏՈՒԹՅԱՆ ԿԱՌԱՎԱՐՈՒԹՅԱՆ 2024 ԹՎԱԿԱՆԻ ԴԵԿՏԵՄԲԵՐԻ 27-Ի N 2060-Ն ՈՐՈՇՄԱՆ N N 3 ԵՎ 4 ՀԱՎԵԼՎԱԾՆԵՐՈՒՄ ԿԱՏԱՐՎՈՂ ՓՈՓՈԽՈՒԹՅՈՒՆՆԵՐԸ ԵՎ ԼՐԱՑՈՒՄՆԵՐԸ
I6: հազար դրամներով
A7: Գործառական դասիչը | D7: Ծրագրային դասիչը | F7: Բյուջետային ծախսերի գործառական դասակարգման բաժինների, խմբերի և դասերի, բյուջետային ծրագրերի միջոցառումների, բյուջետային հատկացումների գլխավոր կարգադրիչների անվանումները | G7: Ցուցանիշների փոփոխությունները ավելացումները նշված են դրական նշանով, իսկ նվազեցումները՝ փակագծերում
A8: Բաժինը | B8: Խումբը | C8: Դասը | D8: Ծրագիր | E8: Միջոցառում | G8: Առաջին եռամսյակ | H8: Առաջին կիսամյակ | I8: Ինն ամիս | J8: Տարի
F9: ԸՆԴԱՄԵՆԸ ԾԱԽՍԵՐ | G9: =G13+G33 -> 121500 | H9: =H13+H33 -> 121500 | I9: =I13+I33 -> 121500 | J9: =J13+J33 -> 121500
F10: այդ թվում`
F11: ՀՀ աշխատանքի և սոցիալական հարցերի նախարարություն | G11: =G13 -> 121500 | H11: =H13 -> 121500 | I11: =I13 -> 121500 | J11: =J13 -> 121500
F12: այդ թվում՝
A13: 10 | F13: ՍՈՑԻԱԼԱԿԱՆ ՊԱՇՏՊԱՆՈՒԹՅՈՒՆ | G13: =G15 -> 121500 | H13: =H15 -> 121500 | I13: =I15 -> 121500 | J13: =J15 -> 121500
F14: այդ թվում՝
B15: 05 | F15: Գործազրկություն | G15: =G17 -> 121500 | H15: =H17 -> 121500 | I15: =I17 -> 121500 | J15: =J17 -> 121500
F16: այդ թվում՝
C17: 01 | F17: Գործազրկություն | G17: =G19 -> 121500 | H17: =H19 -> 121500 | I17: =I19 -> 121500 | J17: =J19 -> 121500
F18: այդ թվում՝
F19: ՀՀ աշխատանքի և սոցիալական հարցերի նախարարություն | G19: =G21 -> 121500 | H19: =H21 -> 121500 | I19: =I21 -> 121500 | J19: =J21 -> 121500
F20: այդ թվում՝
D21: ='3'!B11 -> 1088 | F21: ='3'!D11 -> Զբաղվածության ծրագիր | G21: =G23 -> 121500 | H21: =H23 -> 121500 | I21: =I23 -> 121500 | J21: =J23 -> 121500
F22: այդ թվում`
E23: 12024 | F23: ='3'!D12 -> Անհուսալի վարկային դասով դասակարգված վարկային պարտավորություն(ներ) ունեցող աշխատաշուկայից (ֆորմալ զբաղվածությունից) դուրս մնացած կամ մասնակի ֆորմալ զբաղվածություն ունեցող անձանց աջակցություն | G23: =G25 -> 121500 | H23: =H25 -> 121500 | I23: =I25 -> 121500 | J23: =J25 -> 121500
F24: այդ թվում` ըստ կատարողների
F25: ՀՀ աշխատանքի և սոցիալական հարցերի նախարարության միասնական սոցիալական ծառայություն | G25: =G27 -> 121500 | H25: =H27 -> 121500 | I25: =I27 -> 121500 | J25: =J27 -> 121500
F26: ԸՆԴԱՄԵՆԸ ԾԱԽՍԵՐ
F27: ԸՆԹԱՑԻԿ ԾԱԽՍԵՐ | G27: =G28 -> 121500 | H27: =H28 -> 121500 | I27: =I28 -> 121500 | J27: =J28 -> 121500
F28: ԴՐԱՄԱՇՆՈՐՀՆԵՐ | G28: =G29 -> 121500 | H28: =H29 -> 121500 | I28: =I29 -> 121500 | J28: =J29 -> 121500
F29: Ընթացիկ դրամաշնորհներ պետական հատվածի այլ մակարդակներին | G29: =G30 -> 121500 | H29: =H30 -> 121500 | I29: =I30 -> 121500 | J29: =J30 -> 121500
F30: - Այլ ընթացիկ դրամաշնորհներ | G30: ='3'!G12 -> 121500 | H30: ='3'!H12 -> 121500 | I30: ='3'!I12 -> 121500 | J30: ='2'!E11 -> 121500
F31: ՀՀ կառավարություն | G31: =G33 -> 0 | H31: =H33 -> 0 | I31: =I33 -> 0 | J31: =J33 -> 0
F32: այդ թվում՝
A33: 11 | F33: ՀԻՄՆԱԿԱՆ ԲԱԺԻՆՆԵՐԻՆ ՉԴԱՍՎՈՂ ՊԱՀՈՒՍՏԱՅԻՆ ՖՈՆԴԵՐ | G33: =G35 -> 0 | H33: =H35 -> 0 | I33: =I35 -> 0 | J33: =J35 -> 0
F34: այդ թվում՝
B35: 01 | F35: ՀՀ կառավարության և համայնքների պահուստային ֆոնդ | G35: =G37 -> 0 | H35: =H37 -> 0 | I35: =I37 -> 0 | J35: =J37 -> 0
F36: այդ թվում՝
C37: 01 | F37: ՀՀ կառավարության պահուստային ֆոնդ | G37: =G39 -> 0 | H37: =H39 -> 0 | I37: =I39 -> 0 | J37: =J39 -> 0
F38: այդ թվում՝
F39: ՀՀ կառավարություն | G39: =G41 -> 0 | H39: =H41 -> 0 | I39: =I41 -> 0 | J39: =J41 -> 0
F40: այդ թվում՝
D41: 1139 | F41: ՀՀ կառավարության պահուստային ֆոնդ | G41: =G43+G51 -> 0 | H41: =H43+H51 -> 0 | I41: =I43+I51 -> 0 | J41: =J43+J51 -> 0
F42: այդ թվում՝
E43: 11001 | F43: ՀՀ կառավարության պահուստային ֆոնդ | G43: =G45 -> -121500 | H43: =H45 -> -121500 | I43: =I45 -> -121500 | J43: =J45 -> -121500
F44: այդ թվում՝ ըստ կատարողների
F45: ՀՀ կառավարություն | G45: =G47 -> -121500 | H45: =H47 -> -121500 | I45: =I47 -> -121500 | J45: =J47 -> -121500
F46: այդ թվում՝ բյուջետային ծախսերի տնտեսագիտական դասակարգման հոդվածներ
F47: ԸՆԴԱՄԵՆԸ ԾԱԽՍԵՐ | G47: =G48 -> -121500 | H47: =H48 -> -121500 | I47: =I48 -> -121500 | J47: =J48 -> -121500
F48: ԸՆԹԱՑԻԿ ԾԱԽՍԵՐ | G48: =G49 -> -121500 | H48: =H49 -> -121500 | I48: =I49 -> -121500 | J48: =J49 -> -121500
F49: ԱՅԼ ԾԱԽՍԵՐ | G49: =G50 -> -121500 | H49: =H50 -> -121500 | I49: =I50 -> -121500 | J49: =J50 -> -121500
F50: - Պահուստային միջոցներ | G50: ='3'!G15 -> -121500 | H50: ='3'!H15 -> -121500 | I50: ='3'!I15 -> -121500 | J50: ='3'!J15 -> -121500
E51: 11001 | F51: ՀՀ կառավարության պահուստային ֆոնդ | G51: =G53 -> 121500 | H51: =H53 -> 121500 | I51: =I53 -> 121500 | J51: =J53 -> 121500
F52: այդ թվում՝ ըստ կատարողների
F53: ՀՀ կառավարություն | G53: =G55 -> 121500 | H53: =H55 -> 121500 | I53: =I55 -> 121500 | J53: =J55 -> 121500
F54: այդ թվում՝ բյուջետային ծախսերի տնտեսագիտական դասակարգման հոդվածներ
F55: ԸՆԴԱՄԵՆԸ ԾԱԽՍԵՐ | G55: =G56 -> 121500 | H55: =H56 -> 121500 | I55: =I56 -> 121500 | J55: =J56 -> 121500
F56: ԸՆԹԱՑԻԿ ԾԱԽՍԵՐ | G56: =G57 -> 121500 | H56: =H57 -> 121500 | I56: =I57 -> 121500 | J56: =J57 -> 121500
F57: ԱՅԼ ԾԱԽՍԵՐ | G57: =G58 -> 121500 | H57: =H58 -> 121500 | I57: =I58 -> 121500 | J57: =J58 -> 121500
F58: - Պահուստային միջոցներ | G58: ='3'!G16 -> 121500 | H58: ='3'!H16 -> 121500 | I58: ='3'!I16 -> 121500 | J58: ='3'!J16 -> 121500

Sheet 5
M1: Հավելված N 5
M2: ՀՀ կառավարության 2025 թվականի
M3: -----------------ի N -----------Ն որոշման
A6: ՀԱՅԱՍՏԱՆԻ ՀԱՆՐԱՊԵՏՈՒԹՅԱՆ ԿԱՌԱՎԱՐՈՒԹՅԱՆ 2024 ԹՎԱԿԱՆԻ ԴԵԿՏԵՄԲԵՐԻ 27-Ի N 2060-Ն ՈՐՈՇՄԱՆ N 9 ՀԱՎԵԼՎԱԾՈՒՄ ԿԱՏԱՐՎՈՂ ՓՈՓՈԽՈՒԹՅՈՒՆՆԵՐԸ ԵՎ ԼՐԱՑՈՒՄՆԵՐԸ
L8: հազար դրամներով
A9: ԲԳԿ | B9: Ծրագիր | D9: Միջոցառում | H9: Իրականացնողը/ ակտիվն օգտագործողը/ շահառուի ընտրության չափորոշիչը | I9: Արդյունքային չափորոշիչը | J9: Ցուցանիշների փոփոխությունները ավելացումները նշված են դրական նշանով, իսկ նվազեցումները՝ փակագծերում
B10: Դասիչը | C10: Անվանումը | D10: Դասիչը | E10: Անվանումը | F10: Նկարագրությունը | G10: Տեսակը | J10: Առաջին եռամսյակ | K10: Առաջին կիսամյակ | L10: Ինն ամիս | M10: Տարի
A11: ԸՆԴԱՄԵՆԸ | J11: =J12+J20 -> 121500 | K11: =K12+K20 -> 121500 | L11: =L12+L20 -> 121500 | M11: =M12+M20 -> 121500
A12: ՀՀ աշխատանքի և սոցիալական հարցերի նախարարություն | J12: =J13 -> 121500 | K12: =K13 -> 121500 | L12: =L13 -> 121500 | M12: =M13 -> 121500
B13: ='3'!B11 -> 1088 | C13: ='3'!D11 -> Զբաղվածության ծրագիր | J13: =J14 -> 121500 | K13: =K14 -> 121500 | L13: =L14 -> 121500 | M13: =M14 -> 121500
D14: ='3'!C12 -> 1088-12024 | E14: ='3'!D12 -> Անհուսալի վարկային դասով դասակարգված վարկային պարտավորություն(ներ) ունեցող աշխատաշուկայից (ֆորմալ զբաղվածությունից) դուրս մնացած կամ մասնակի ֆորմալ զբաղվածություն ունեցող անձանց աջակցություն | J14: ='3'!G12 -> 121500 | K14: ='3'!H12 -> 121500 | L14: ='3'!I12 -> 121500 | M14: ='3'!J12 -> 121500
F15: ='3'!E12 -> Աջակցել աշխատաշուկայից (ֆորմալ զբաղվածությունից) դուրս մնացածներին կամ մասնակի ֆորմալ զբաղվածություն ունեցողներին, որոնք ունեն անհուսալի վարկային դասով դասակարգված վարկային պարտավորություն(ներ)՝ վերականգնելու իրենց տնտեսական ակտիվությունն աշխատաշուկա վերադառնալու միջոցով
G16: Տրանսֆերտների տրամադրում
H17: Ծառայությունը մատուցողի անվանումը` կազմակերպություններ
I18: Անհուսալի դասով դասակարգված վարկային պարտավորություն ունեցող անձանց թվաքանակ | K18: 3000 | M18: 3000
A20: ՀՀ կառավարություն | J20: =J21 -> 0 | K20: =K21 -> 0 | L20: =L21 -> 0 | M20: =M21 -> 0
B21: 1139 | C21: ՀՀ կառավարության պահուստային ֆոնդ | J21: =J22+J26 -> 0 | K21: =K22+K26 -> 0 | L21: =L22+L26 -> 0 | M21: =M22+M26 -> 0
D22: 1139 - 11001 | E22: ՀՀ կառավարության պահուստային ֆոնդ | J22: ='3'!G15 -> -121500 | K22: ='3'!H15 -> -121500 | L22: ='3'!I15 -> -121500 | M22: ='3'!J15 -> -121500
F23: ՀՀ պետական բյուջեում նախատեսված ելքերի լրացուցիչ ֆինանսավորման, պետական բյուջեում չկանխատեսված ելքերի, ինչպես նաև բյուջետային երաշխիքների ապահովման ելքերի ֆինանսավորման ապահովում
G24: Ծառայությունների մատուցում
H25: Ծառայությունը մատուցողի անվանումը` ՀՀ կառավարություն
D26: 1139 - 11001 | E26: ՀՀ կառավարության պահուստային ֆոնդ | J26: ='4'!G58 -> 121500 | K26: ='4'!H58 -> 121500 | L26: ='4'!I58 -> 121500 | M26: ='4'!J58 -> 121500
F27: ՀՀ պետական բյուջեում նախատեսված ելքերի լրացուցիչ ֆինանսավորման, պետական բյուջեում չկանխատեսված ելքերի, ինչպես նաև բյուջետային երաշխիքների ապահովման ելքերի ֆինանսավորման ապահովում
G28: Ծառայությունների մատուցում
H29: Ծառայությունը մատուցողի անվանումը` ՀՀ կառավարություն

Sheet 6
M1: Հավելված N 6
M2: ՀՀ կառավարության 2025 թվականի
M3: -----------------ի N -----------Ն որոշման
A6: ՀԱՅԱՍՏԱՆԻ ՀԱՆՐԱՊԵՏՈՒԹՅԱՆ ԿԱՌԱՎԱՐՈՒԹՅԱՆ 2024 ԹՎԱԿԱՆԻ ԴԵԿՏԵՄԲԵՐԻ 27-Ի N 2060-Ն ՈՐՈՇՄԱՆ N 9.1 ՀԱՎԵԼՎԱծում ԿԱՏԱՐՎՈՂ ՓՈՓՈԽՈՒԹՅՈՒՆՆԵՐԸ ԵՎ ԼՐԱՑՈՒՄՆԵՐԸ
L7: հազար դրամներով
A8: ԲսԿ | B8: Ծրագիր | D8: Միջոցառում | H8: Իրականացնողը/ ակտիվն օգտագործողը/ շահառուի ընտրության չափորոշիչը | I8: Արդյունքային չափորոշիչը | J8: Ցուցանիշների փոփոխությունները ավելացումները նշված են դրական նշանով, իսկ նվազեցումները՝ փակագծերում
B9: Դասիչը | C9: Անվանումը | D9: Դասիչը | E9: Անվանումը | F9: Նկարագրությունը | G9: Տեսակը | J9: Առաջին եռամսյակ | K9: Առաջին կիսամյակ | L9: Ինն ամիս | M9: Տարի
A10: ԸՆԴԱՄԵՆԸ | J10: =J11+J19 -> 121500 | K10: =K11+K19 -> 121500 | L10: =L11+L19 -> 121500 | M10: =M11+M19 -> 121500
A11: ՀՀ աշխատանքի և սոցիալական հարցերի նախարարության միասնական սոցիալական ծառայություն | J11: =J12 -> 121500 | K11: =K12 -> 121500 | L11: =L12 -> 121500 | M11: =M12 -> 121500
B12: ='5'!B13 -> 1088 | C12: ='5'!C13:I13 -> Զբաղվածության ծրագիր | J12: =J13 -> 121500 | K12: =K13 -> 121500 | L12: =L13 -> 121500 | M12: =M13 -> 121500
D13: ='3'!C12 -> 1088-12024 | E13: ='3'!D12 -> Անհուսալի վարկային դասով դասակարգված վարկային պարտավորություն(ներ) ունեցող աշխատաշուկայից (ֆորմալ զբաղվածությունից) դուրս մնացած կամ մասնակի ֆորմալ զբաղվածություն ունեցող անձանց աջակցություն | J13: ='3'!G12 -> 121500 | K13: ='3'!H12 -> 121500 | L13: ='3'!I12 -> 121500 | M13: ='3'!J12 -> 121500
F14: ='3'!E12 -> Աջակցել աշխատաշուկայից (ֆորմալ զբաղվածությունից) դուրս մնացածներին կամ մասնակի ֆորմալ զբաղվածություն ունեցողներին, որոնք ունեն անհուսալի վարկային դասով դասակարգված վարկային պարտավորություն(ներ)՝ վերականգնելու իրենց տնտեսական ակտիվությունն աշխատաշուկա վերադառնալու միջոցով
G15: Տրանսֆերտների տրամադրում
H16: Ծառայությունը մատուցողի անվանումը` կազմակերպություններ
I17: Անհուսալի դասով դասակարգված վարկային պարտավորություն ունեցող անձանց թվաքանակ | K17: 3000 | M17: 3000
A19: ՀՀ կառավարություն | J19: =J20 -> 0 | K19: =K20 -> 0 | L19: =L20 -> 0 | M19: =M20 -> 0
B20: 1139 | C20: ՀՀ կառավարության պահուստային ֆոնդ | J20: =J21+J25 -> 0 | K20: =K21+K25 -> 0 | L20: =L21+L25 -> 0 | M20: =M21+M25 -> 0
D21: 1139 - 11001 | E21: ՀՀ կառավարության պահուստային ֆոնդ | J21: ='3'!G15 -> -121500 | K21: ='3'!H15 -> -121500 | L21: ='3'!I15 -> -121500 | M21: ='3'!J15 -> -121500
F22: ՀՀ պետական բյուջեում նախատեսված ելքերի լրացուցիչ ֆինանսավորման, պետական բյուջեում չկանխատեսված ելքերի, ինչպես նաև բյուջետային երաշխիքների ապահովման ելքերի ֆինանսավորման ապահովում
G23: Ծառայությունների մատուցում
H24: Ծառայությունը մատուցողի անվանումը` ՀՀ կառավարություն
D25: 1139 - 11001 | E25: ՀՀ կառավարության պահուստային ֆոնդ | J25: ='5'!J26 -> 121500 | K25: ='5'!K26 -> 121500 | L25: ='5'!L26 -> 121500 | M25: ='5'!M26 -> 121500
F26: ՀՀ պետական բյուջեում նախատեսված ելքերի լրացուցիչ ֆինանսավորման, պետական բյուջեում չկանխատեսված ելքերի, ինչպես նաև բյուջետային երաշխիքների ապահովման ելքերի ֆինանսավորման ապահովում
G27: Ծառայությունների մատուցում
H28: Ծառայությունը մատուցողի անվանումը` ՀՀ կառավարություն
