Workbook

Sheet Հավելված 1
F1: Հավելված N 1 ՀՀ կառավարության 2025 թվականի N -Ն որոշման
A3: «ՀԱՅԱՍՏԱՆԻ ՀԱՆՐԱՊԵՏՈՒԹՅԱՆ 2025 ԹՎԱԿԱՆԻ ՊԵՏԱԿԱՆ ԲՅՈՒՋԵԻ ՄԱՍԻՆ» ՀԱՅԱՍՏԱՆԻ ՀԱՆՐԱՊԵՏՈՒԹՅԱՆ ՕՐԵՆՔԻ N 1 ՀԱՎԵԼՎԱԾԻ N 2 ԱՂՅՈՒՍԱԿՈՒՄ ԿԱՏԱՐՎՈՂ ՎԵՐԱԲԱՇԽՈՒՄԸ, ԼՐԱՑՈՒՄԸ ԵՎ ՀԱՅԱՍՏԱՆԻ ՀԱՆՐԱՊԵՏՈՒԹՅԱՆ ԿԱՌԱՎԱՐՈՒԹՅԱՆ 2024 ԹՎԱԿԱՆԻ ԴԵԿՏԵՄԲԵՐԻ 27-Ի N 2060-Ն ՈՐՈՇՄԱՆ N 5 ՀԱՎԵԼՎԱԾԻ N 1 ԱՂՅՈՒՍԱԿՈՒՄ ԿԱՏԱՐՎՈՂ ՓՈՓՈԽՈՒԹՅՈՒՆՆԵՐԸ ԵՎ ԼՐԱՑՈՒՄՆԵՐԸ
J6: հազար դրամ
A7: ԲԳԿ | B7: Ծրագրային դասիչը | D7: ԲԳԿ/Ծրագրի /միջոցառման անվանումը | E7: Ծրագրի նպատակը/Միջոցառման նկարագրույունը | F7: Վերջնական արդյունքի նկարագրությունը/Միջոցառման տեսակը | G7: Ցուցանիշների փոփոխությունը (ավելացումները նշված են դրական նշանով, իսկ նվազեցումները՝ փակագծերում)
B8: Ծրագիր | C8: Միջոցառում | G8: Առաջին եռամսյակ | H8: Առաջին կիսամյակ | I8: Ինն ամիս | J8: Տարի
A9: ԸՆԴԱՄԵՆԸ | G9: =G10+G13 -> 0 | H9: =H10+H13 -> 0 | I9: =I10+I13 -> 0 | J9: =J10+J13 -> 0
A10: ՀՀ վարչապետի աշխատակազմ | G10: =G11 -> 24231 | H10: =H11 -> 98773.3 | I10: =I11 -> 173315.6 | J10: =J11 -> 247857.9
B11: 1136 | D11: ՀՀ Վարչապետի լիազորությունների իրականացման ապահովում | E11: Աջակցել կառավարության, վարչապետի և փոխվարչապետերի գործունեությանը | F11: ՀՀ կառավարության և վարչապետի որոշումների ու հանձնարարականների կատարման վերահսկողության ապահովում | G11: =G12 -> 24231 | H11: =H12 -> 98773.3 | I11: =I12 -> 173315.6 | J11: =J12 -> 247857.9
C12: 1136 - 11018 | D12: Խորհրդատվական և վերլուծական ծառայություններ | E12: Մասնագիտական, խորհրդատվական և վերլուծական ծառայությունների ձեռքբերում | F12: Ծառայությունների մատուցում | G12: ='Հավելված 2'!G29 -> 24231 | H12: ='Հավելված 2'!H29 -> 98773.3 | I12: ='Հավելված 2'!I29 -> 173315.6 | J12: ='Հավելված 2'!J29 -> 247857.9
A13: ՀՀ կառավարություն | G13: =+G14 -> -24231 | H13: =+H14 -> -98773.3 | I13: =+I14 -> -173315.6 | J13: =+J14 -> -247857.9
B14: 1139 | D14: ՀՀ կառավարության պահուստային ֆոնդ | E14: Պետական բյուջեում չկանխատեսված, ինչպես նաեւ բյուջետային երաշխիքների ապահովման ծախսերի ֆինանսավորման ապահովում | F14: Պահուստային ֆոնդի կառավարման արդյունավետության և թափանցիկության ապահովում | G14: =+G15 -> -24231 | H14: =+H15 -> -98773.3 | I14: =+I15 -> -173315.6 | J14: =+J15 -> -247857.9
C15: 1139 - 11001 | D15: ՀՀ կառավարության պահուստային ֆոնդ | E15: ՀՀ պետական բյուջեում նախատեսված ելքերի լրացուցիչ ֆինանսավորման, պետական բյուջեում չկանխատեսված ելքերի, ինչպես նաև բյուջետային երաշխիքների ապահովման ելքերի ֆինանսավորման ապահովում | F15: Ծառայությունների մատուցում | G15: ='Հավելված 2'!G49 -> -24231 | H15: ='Հավելված 2'!H49 -> -98773.3 | I15: ='Հավելված 2'!I49 -> -173315.6 | J15: ='Հավելված 2'!J49 -> -247857.9

Sheet Հավելված 2
F1: Հավելված N 2
D2: ՀՀ կառավարության 2025 թվականի
D3: ___________ ___-ի N _______ -Ն որոշման
A5: ՀԱՅԱՍՏԱՆԻ ՀԱՆՐԱՊԵՏՈՒԹՅԱՆ ԿԱՌԱՎԱՐՈՒԹՅԱՆ 2024 ԹՎԱԿԱՆԻ ԴԵԿՏԵՄԲԵՐԻ 27-Ի N 2060-Ն ՈՐՈՇՄԱՆ NN 3 ԵՎ 4 ՀԱՎԵԼՎԱԾՆԵՐՈՒՄ ԿԱՏԱՐՎՈՂ ՓՈՓՈԽՈՒԹՅՈՒՆՆԵՐԸ ԵՎ ԼՐԱՑՈՒՄՆԵՐԸ
J6: հազար դրամ
A7: Գործառական դասիչը | D7: Ծրագրային դասիչը | F7: Բյուջետային ծախսերի գործառական դասակարգման բաժինների, խմբերի և դասերի, բյուջետային ծրագրերի միջոցառումների, բյուջետային հատկացումների գլխավոր կարգադրիչների անվանումները | G7: Ցուցանիշների փոփոխությունը (ավելացումները նշված են դրական նշանով, իսկ նվազեցումները՝ փակագծերում)
A8: Բաժին | B8: Խումբ | C8: Դաս | D8: Ծրագիր | E8: Միջոցառում | G8: Առաջին եռամսյակ | H8: 1-ին կիսամյակ | I8: Ինն ամիս | J8: Տարի
F9: ԸՆԴԱՄԵՆԸ ԾԱԽՍԵՐ | G9: =G11+G30 -> 0 | H9: =H11+H30 -> 0 | I9: =I11+I30 -> 0 | J9: =J11+J30 -> 0
F10: այդ թվում`
F11: ՀՀ վարչապետի աշխատակազմ | G11: =G13 -> 24231 | H11: =H13 -> 98773.3 | I11: =I13 -> 173315.6 | J11: =J13 -> 247857.9
F12: այդ թվում`
A13: 01 | F13: ԸՆԴՀԱՆՈՒՐ ԲՆՈՒՅԹԻ ՀԱՆՐԱՅԻՆ ԾԱՌԱՅՈՒԹՅՈՒՆՆԵՐ | G13: =G15 -> 24231 | H13: =H15 -> 98773.3 | I13: =I15 -> 173315.6 | J13: =J15 -> 247857.9
F14: այդ թվում`
B15: 01 | F15: Օրենսդիր և գործադիր մարմիններ, պետական կառավարում, ֆինանսական և հարկաբյուջետային հարաբերություններ, արտաքին հարաբերություններ | G15: =G17 -> 24231 | H15: =H17 -> 98773.3 | I15: =I17 -> 173315.6 | J15: =J17 -> 247857.9
F16: այդ թվում`
C17: 01 | F17: Օրենսդիր և գործադիր մարմիններ, պետական կառավարում | G17: =G19 -> 24231 | H17: =H19 -> 98773.3 | I17: =I19 -> 173315.6 | J17: =J19 -> 247857.9
F18: այդ թվում`
D19: ='Հավելված 1'!B11 -> 1136 | F19: ='Հավելված 1'!D11 -> ՀՀ Վարչապետի լիազորությունների իրականացման ապահովում | G19: =G21 -> 24231 | H19: =H21 -> 98773.3 | I19: =I21 -> 173315.6 | J19: =J21 -> 247857.9
F20: այդ թվում`
E21: ='Հավելված 1'!C12 -> 1136 - 11018 | F21: Խորհրդատվական և վերլուծական ծառայություններ | G21: =G23 -> 24231 | H21: =H23 -> 98773.3 | I21: =I23 -> 173315.6 | J21: =J23 -> 247857.9
F22: այդ թվում` ըստ կատարողների
F23: ՀՀ վարչապետի աշխատակազմ | G23: =G25 -> 24231 | H23: =H25 -> 98773.3 | I23: =I25 -> 173315.6 | J23: =J25 -> 247857.9
F24: այդ թվում` բյուջետային ծախսերի տնտեսագիտական դասակարգման հոդվածներ
F25: ԸՆԴԱՄԵՆԸ ԾԱԽՍԵՐ | G25: =G26 -> 24231 | H25: =H26 -> 98773.3 | I25: =I26 -> 173315.6 | J25: =J26 -> 247857.9
F26: ԸՆԹԱՑԻԿ ԾԱԽՍԵՐ | G26: =G27 -> 24231 | H26: =H27 -> 98773.3 | I26: =I27 -> 173315.6 | J26: =J27 -> 247857.9
F27: ԾԱՌԱՅՈՒԹՅՈՒՆՆԵՐԻ ԵՎ ԱՊՐԱՆՔՆԵՐԻ ՁԵՌՔԲԵՐՈՒՄ | G27: =G28 -> 24231 | H27: =H28 -> 98773.3 | I27: =I28 -> 173315.6 | J27: =J28 -> 247857.9
F28: Պայմանագրային այլ ծառայությունների ձեռքբերում | G28: =G29 -> 24231 | H28: =H29 -> 98773.3 | I28: =I29 -> 173315.6 | J28: =J29 -> 247857.9
F29: - Կառավարչական ծառայություններ | G29: 24231 | H29: 98773.3 | I29: 173315.6 | J29: 247857.9
F30: ՀՀ կառավարություն | G30: =G32 -> -24231 | H30: =H32 -> -98773.3 | I30: =I32 -> -173315.6 | J30: =J32 -> -247857.9
F31: այդ թվում`
A32: 11 | F32: ՀԻՄՆԱԿԱՆ ԲԱԺԻՆՆԵՐԻՆ ՉԴԱՍՎՈՂ ՊԱՀՈՒՍՏԱՅԻՆ ՖՈՆԴԵՐ | G32: =G34 -> -24231 | H32: =H34 -> -98773.3 | I32: =I34 -> -173315.6 | J32: =J34 -> -247857.9
F33: այդ թվում`
B34: 01 | F34: ՀՀ կառավարության և համայնքների պահուստային ֆոնդ | G34: =G36 -> -24231 | H34: =H36 -> -98773.3 | I34: =I36 -> -173315.6 | J34: =J36 -> -247857.9
F35: այդ թվում`
C36: 01 | F36: ՀՀ կառավարության պահուստային ֆոնդ | G36: =G38 -> -24231 | H36: =H38 -> -98773.3 | I36: =I38 -> -173315.6 | J36: =J38 -> -247857.9
F37: այդ թվում`
F38: ՀՀ կառավարություն | G38: =G40 -> -24231 | H38: =H40 -> -98773.3 | I38: =I40 -> -173315.6 | J38: =J40 -> -247857.9
F39: այդ թվում`
D40: 1139 | F40: ՀՀ կառավարության պահուստային ֆոնդ | G40: =+G42 -> -24231 | H40: =+H42 -> -98773.3 | I40: =+I42 -> -173315.6 | J40: =+J42 -> -247857.9
F41: այդ թվում`
...

Sheet Հավելված 3
M1: Հավելված N 3
I2: ՀՀ կառավարության 2025 թվականի
I3: ___________ ___-ի N _______ -Ն որոշման
A5: ՀԱՅԱՍՏԱՆԻ ՀԱՆՐԱՊԵՏՈՒԹՅԱՆ ԿԱՌԱՎԱՐՈՒԹՅԱՆ 2024 ԹՎԱԿԱՆԻ ԴԵԿՏԵՄԲԵՐԻ 27-Ի N 2060-Ն ՈՐՈՇՄԱՆ N 9 ՀԱՎԵԼՎԱԾՈՒՄ ԿԱՏԱՐՎՈՂ ՓՈՓՈԽՈՒԹՅՈՒՆՆԵՐԸ ԵՎ ԼՐԱՑՈՒՄՆԵՐԸ
A7: ՀՀ վարչապետի աշխատակազմ
A8: ԲԳԿ | B8: Ծրագիր | D8: Միջոցառում | H8: Իրականացնողը/ ակտիվն օգտագործողը/ շահառուի ընտրության չափորոշիչը | I8: Արդյունքային չափորոշիչը | J8: Ցուցանիշների փոփոխությունը (ավելացումները նշված են դրական նշանով)
B9: Դասիչը | C9: Անվանումը | D9: Դասիչը | E9: Անվանումը | F9: Նկարագրությունը | G9: Տեսակը | J9: Առաջին եռամսյակ | K9: Առաջին կիսամյակ | L9: Ինն ամիս | M9: Տարի
A10: ='Հավելված 1'!A10:F10 -> ՀՀ վարչապետի աշխատակազմ | J10: =J11 -> 24231 | K10: =K11 -> 98773.3 | L10: =L11 -> 173315.6 | M10: =M11 -> 247857.9
B11: ='Հավելված 1'!B11 -> 1136 | C11: ='Հավելված 1'!D11 -> ՀՀ Վարչապետի լիազորությունների իրականացման ապահովում | J11: =J12 -> 24231 | K11: =K12 -> 98773.3 | L11: =L12 -> 173315.6 | M11: =M12 -> 247857.9
D12: ='Հավելված 1'!C12 -> 1136 - 11018 | E12: ='Հավելված 1'!D12 -> Խորհրդատվական և վերլուծական ծառայություններ | J12: ='Հավելված 1'!G12 -> 24231 | K12: ='Հավելված 1'!H12 -> 98773.3 | L12: ='Հավելված 1'!I12 -> 173315.6 | M12: ='Հավելված 1'!J12 -> 247857.9
F13: ='Հավելված 1'!E12 -> Մասնագիտական, խորհրդատվական և վերլուծական ծառայությունների ձեռքբերում
G14: ='Հավելված 1'!F12 -> Ծառայությունների մատուցում
H15: Միջոցառումն իրականացնողի անվանումը` ՀՀ վարչապետի աշխատակազմ
I16: Հրապարակված հոդվածների քանակ | M16: 2
I17: Անցկացված հանդիպումների քանակ | M17: 26
I18: Համաժողովների քանակ | M18: 2
I19: Հարցազրույցների քանակ | M19: 4
A20: ='Հավելված 3'!A23:M23 -> ՀՀ կառավարություն
A21: ԲԳԿ | B21: Ծրագիր | D21: Միջոցառում | H21: Իրականացնողը/ ակտիվն օգտագործողը/ շահառուի ընտրության չափորոշիչը | I21: Արդյունքային չափորոշիչը | J21: Ցուցանիշների փոփոխությունը (նվազեցումները նշված են փակագծերում)
B22: Դասիչը | C22: Անվանումը | D22: Դասիչը | E22: Անվանումը | F22: Նկարագրությունը | G22: Տեսակը | J22: Առաջին եռամսյակ | K22: Առաջին կիսամյակ | L22: Ինն ամիս | M22: Տարի
A23: ='Հավելված 1'!A13:F13 -> ՀՀ կառավարություն | J23: =J24 -> -24231 | K23: =K24 -> -98773.3 | L23: =L24 -> -173315.6 | M23: =M24 -> -247857.9
B24: ='Հավելված 1'!B14 -> 1139 | C24: ='Հավելված 1'!D14 -> ՀՀ կառավարության պահուստային ֆոնդ | J24: =J25 -> -24231 | K24: =K25 -> -98773.3 | L24: =L25 -> -173315.6 | M24: =M25 -> -247857.9
D25: ='Հավելված 1'!C15 -> 1139 - 11001 | E25: ='Հավելված 1'!D15 -> ՀՀ կառավարության պահուստային ֆոնդ | J25: ='Հավելված 1'!G15 -> -24231 | K25: ='Հավելված 1'!H15 -> -98773.3 | L25: ='Հավելված 1'!I15 -> -173315.6 | M25: ='Հավելված 1'!J15 -> -247857.9
F26: ='Հավելված 1'!E15 -> ՀՀ պետական բյուջեում նախատեսված ելքերի լրացուցիչ ֆինանսավորման, պետական բյուջեում չկանխատեսված ելքերի, ինչպես նաև բյուջետային երաշխիքների ապահովման ելքերի ֆինանսավորման ապահովում
G27: Պետական մարմինների կողմից օգտագործվող ոչ ֆինանսական ակտիվների հետ գործառնություններ
H28: Ծառայությունը մատուցողի անվանումը` ՀՀ կառավարություն

Sheet Հավելված 4
M1: Հավելված N 4
I2: ՀՀ կառավարության 2025 թվականի
I3: ___________ ___-ի N _______ -Ն որոշման
A6: ՀԱՅԱՍՏԱՆԻ ՀԱՆՐԱՊԵՏՈՒԹՅԱՆ ԿԱՌԱՎԱՐՈՒԹՅԱՆ 2024 ԹՎԱԿԱՆԻ ԴԵԿՏԵՄԲԵՐԻ 27-Ի N 2060-Ն ՈՐՈՇՄԱՆ N 9.1 ՀԱՎԵԼՎԱԾՈՒՄ ԿԱՏԱՐՎՈՂ ՓՈՓՈԽՈՒԹՅՈՒՆՆԵՐԸ ԵՎ ԼՐԱՑՈՒՄՆԵՐԸ
A8: ='Հավելված 3'!A7:M7 -> ՀՀ վարչապետի աշխատակազմ
A9: ԲԳԿ | B9: Ծրագիր | D9: Միջոցառում | H9: Իրականացնողը/ ակտիվն օգտագործողը/ շահառուի ընտրության չափորոշիչը | I9: Արդյունքային չափորոշիչը | J9: Ցուցանիշների փոփոխությունը (ավելացումները նշված են դրական նշանով)
B10: Դասիչը | C10: Անվանումը | D10: Դասիչը | E10: Անվանումը | F10: Նկարագրությունը | G10: Տեսակը | J10: Առաջին եռամսյակ | K10: Առաջին կիսամյակ | L10: Ինն ամիս | M10: Տարի
A11: ='Հավելված 1'!A10:F10 -> ՀՀ վարչապետի աշխատակազմ | J11: =J12 -> 24231 | K11: =K12 -> 98773.3 | L11: =L12 -> 173315.6 | M11: =M12 -> 247857.9
B12: ='Հավելված 1'!B11 -> 1136 | C12: ='Հավելված 1'!D11 -> ՀՀ Վարչապետի լիազորությունների իրականացման ապահովում | J12: =J13 -> 24231 | K12: =K13 -> 98773.3 | L12: =L13 -> 173315.6 | M12: =M13 -> 247857.9
D13: ='Հավելված 1'!C12 -> 1136 - 11018 | E13: ='Հավելված 1'!D12 -> Խորհրդատվական և վերլուծական ծառայություններ | J13: ='Հավելված 1'!G12 -> 24231 | K13: ='Հավելված 1'!H12 -> 98773.3 | L13: ='Հավելված 1'!I12 -> 173315.6 | M13: ='Հավելված 1'!J12 -> 247857.9
F14: ='Հավելված 1'!E12 -> Մասնագիտական, խորհրդատվական և վերլուծական ծառայությունների ձեռքբերում
G15: ='Հավելված 1'!F12 -> Ծառայությունների մատուցում
H16: Միջոցառումն իրականացնողի անվանումը` ՀՀ վարչապետի աշխատակազմ
I17: ='Հավելված 3'!I16 -> Հրապարակված հոդվածների քանակ | M17: ='Հավելված 3'!M16 -> 2
I18: ='Հավելված 3'!I17 -> Անցկացված հանդիպումների քանակ | M18: ='Հավելված 3'!M17 -> 26
I19: ='Հավելված 3'!I18 -> Համաժողովների քանակ | M19: ='Հավելված 3'!M18 -> 2
I20: ='Հավելված 3'!I19 -> Հարցազրույցների քանակ | M20: ='Հավելված 3'!M19 -> 4
A21: ='Հավելված 3'!A23:M23 -> ՀՀ կառավարություն
A22: ԲԳԿ | B22: Ծրագիր | D22: Միջոցառում | H22: Իրականացնողը/ ակտիվն օգտագործողը/ շահառուի ընտրության չափորոշիչը | I22: Արդյունքային չափորոշիչը | J22: Ցուցանիշների փոփոխությունը (նվազեցումները նշված են փակագծերում)
B23: Դասիչը | C23: Անվանումը | D23: Դասիչը | E23: Անվանումը | F23: Նկարագրությունը | G23: Տեսակը | J23: Առաջին եռամսյակ | K23: Առաջին կիսամյակ | L23: Ինն ամիս | M23: Տարի
A24: ='Հավելված 1'!A13:F13 -> ՀՀ կառավարություն | J24: =J25 -> -24231 | K24: =K25 -> -98773.3 | L24: =L25 -> -173315.6 | M24: =M25 -> -247857.9
B25: ='Հավելված 1'!B14 -> 1139 | C25: ='Հավելված 1'!D14 -> ՀՀ կառավարության պահուստային ֆոնդ | J25: =J26 -> -24231 | K25: =K26 -> -98773.3 | L25: =L26 -> -173315.6 | M25: =M26 -> -247857.9
D26: ='Հավելված 1'!C15 -> 1139 - 11001 | E26: ='Հավելված 1'!D15 -> ՀՀ կառավարության պահուստային ֆոնդ | J26: ='Հավելված 1'!G15 -> -24231 | K26: ='Հավելված 1'!H15 -> -98773.3 | L26: ='Հավելված 1'!I15 -> -173315.6 | M26: ='Հավելված 1'!J15 -> -247857.9
F27: ='Հավելված 1'!E15 -> ՀՀ պետական բյուջեում նախատեսված ելքերի լրացուցիչ ֆինանսավորման, պետական բյուջեում չկանխատեսված ելքերի, ինչպես նաև բյուջետային երաշխիքների ապահովման ելքերի ֆինանսավորման ապահովում
G28: Պետական մարմինների կողմից օգտագործվող ոչ ֆինանսական ակտիվների հետ գործառնություններ
H29: Ծառայությունը մատուցողի անվանումը` ՀՀ կառավարություն
