Workbook
Name _1__հայտարարվել_է_նախ_մրցույթ: #REF!
Name AgencyCode: #REF!
Name AgencyName: #REF!
Name åû: #REF!
Name davit: #REF!
Name Functional1: #REF!
Name ggg: #REF!
Name hav: #REF!
Name mas: #REF!
Name mass: #REF!
Name PANature: #REF!
Name PAType: #REF!
Name Performance2: #REF!
Name PerformanceType: #REF!
Name x: #REF!
Name Հավելված: #REF!
Name Մաս: #REF!
Name շախմատիստ: #REF!
Name վֆյգյգ: #REF!

Sheet N 1.
B1: Հավելված N 1
A3: ՀՀ կառավարության 2025 թվականի
A4: ______________ ի ___Ն որոշման
A6: «ՀԱՅԱՍՏԱՆԻ ՀԱՆՐԱՊԵՏՈՒԹՅԱՆ 2025 ԹՎԱԿԱՆԻ ՊԵՏԱԿԱՆ ԲՅՈՒՋԵԻ ՄԱՍԻՆ» ՀԱՅԱՍՏԱՆԻ ՀԱՆՐԱՊԵՏՈՒԹՅԱՆ ՕՐԵՆՔԻ 2-ՐԴ ՀՈԴՎԱԾԻ ԱՂՅՈՒՍԱԿՈՒՄ ԿԱՏԱՐՎՈՂ ՓՈՓՈԽՈՒԹՅՈՒՆՆԵՐԸ ԵՎ ԼՐԱՑՈՒՄՆԵՐԸ
B7: (հազար դրամներով)
B8: Ցուցանիշների փոփոխությունը (ավելացումները նշված են դրական նշանով)
A9: Եկամուտների գծով | B9: 0
A10: Ծախսերի գծով | B10: =+N3.!I10 -> 4312582.9
A11: Դեֆիցիտը (պակասուրդը) | B11: =+N2.!E16 -> 4312582.9

Sheet N2.
E1: Հավելված N 2
D3: ՀՀ կառավարության 2025 թվականի
D4: ______________ ի ___Ն որոշման
A5: ՀԱՅԱՍՏԱՆԻ ՀԱՆՐԱՊԵՏՈՒԹՅԱՆ ԿԱՌԱՎԱՐՈՒԹՅԱՆ 2024 ԹՎԱԿԱՆԻ ԴԵԿՏԵՄԲԵՐԻ 27-Ի N 2060-Ն ՈՐՈՇՄԱՆ N 1 ՀԱՎԵԼՎԱԾԻ N 1 ԱՂՅՈՒՍԱԿՈՒՄ ԿԱՏԱՐՎՈՂ ՓՈՓՈԽՈՒԹՅՈՒՆՆԵՐԸ ԵՎ ԼՐԱՑՈՒՄՆԵՐԸ
E7: հազար դրամներով
A8: Պետական բյուջեի դեֆիցիտի ֆինանսավորման աղբյուրներն ու դրանց տարրերի անվանումները | B8: Ցուցանիշների փոփոխությունը (ավելացումները նշված են դրական նշանով)
B9: Առաջին եռամսյակ | C9: Առաջին կիսամյակ | D9: Ինն ամիս | E9: Տարի
A10: ԸՆԴԱՄԵՆԸ | B10: =B12 -> 3574865.8 | C10: =C12 -> 3574865.8 | D10: =D12 -> 3868712.7 | E10: =E12 -> 4312582.9
A11: այդ թվում՝
A12: Ա. Ներքին աղբյուրներ-ընդամենը | B12: =B14 -> 3574865.8 | C12: =C14 -> 3574865.8 | D12: =D14 -> 3868712.7 | E12: =E14 -> 4312582.9
A13: այդ թվում՝
A14: 2. Ֆինանսական զուտ ակտիվներ | B14: =+B16 -> 3574865.8 | C14: =+C16 -> 3574865.8 | D14: =+D16 -> 3868712.7 | E14: =+E16 -> 4312582.9
A15: այդ թվում՝
A16: 2.3. Ելքերի ֆինանսավորմանն ուղղվող պետական բյուջեի տարեսկզբի ազատ մնացորդի միջոցներ | B16: =+N3.!G10 -> 3574865.8 | C16: =+N3.!G10 -> 3574865.8 | D16: =+N3.!H10 -> 3868712.7 | E16: =+N3.!I10 -> 4312582.9

Sheet N3.
I1: Հավելված N 3
I3: ՀՀ կառավարության 2025 թվականի
I4: ______________ ի ___Ն որոշման
B6: «ՀԱՅԱՍՏԱՆԻ ՀԱՆՐԱՊԵՏՈՒԹՅԱՆ 2025 ԹՎԱԿԱՆԻ ՊԵՏԱԿԱՆ ԲՅՈՒՋԵԻ ՄԱՍԻՆ» ՀԱՅԱՍՏԱՆԻ ՀԱՆՐԱՊԵՏՈՒԹՅԱՆ ՕՐԵՆՔԻ N 1 ՀԱՎԵԼՎԱԾԻ N 2 ԱՂՅՈՒՍԱԿՈՒՄ ԿԱՏԱՐՎՈՂ ՎԵՐԱԲԱՇԽՈՒՄԸ ԵՎ ՀԱՅԱՍՏԱՆԻ ՀԱՆՐԱՊԵՏՈՒԹՅԱՆ ԿԱՌԱՎԱՐՈՒԹՅԱՆ 2024 ԹՎԱԿԱՆԻ ԴԵԿՏԵՄԲԵՐԻ 27-Ի N2060-Ն ՈՐՈՇՄԱՆ N 5 ՀԱՎԵԼՎԱԾԻ N 1 ԱՂՅՈՒՍԱԿՈՒՄ ԿԱՏԱՐՎՈՂ ՓՈՓՈԽՈՒԹՅՈՒՆՆԵՐԸ ԵՎ ԼՐԱՑՈՒՄՆԵՐԸ
I7: հազար դրամներով
A8: ԲԳԿ | B8: Ծրագրային դասիչը | D8: ԲԳԿ/Ծրագրի /միջոցառման անվանումը | E8: Ծրագրի նպատակը/Միջոցառման նկարագրությունը | F8: Վերջնական արդյունքի նկարագրությունը/Միջոցառման տեսակը | G8: Առաջին կիսամյակ | H8: Ինն ամիս | I8: Տարի
B9: Ծրագիր | C9: Միջոցառում
A10: ԸՆԴԱՄԵՆԸ | G10: =G11+G14+G17+G36+G39+G42+G45+G53+G58+G63+G66 -> 3574865.8 | H10: =H11+H14+H17+H36+H39+H42+H45+H53+H58+H63+H66 -> 3868712.7 | I10: =I11+I14+I17+I36+I39+I42+I45+I53+I58+I63+I66 -> 4312582.9
A11: ՀՀ վարչապետի աշխատակազմ | G11: =G12 -> 34400 | H11: =H12 -> 34400 | I11: =I12 -> 34400
B12: 1136 | D12: ՀՀ Վարչապետի լիազորությունների իրականացման ապահովում | E12: Աջակցել կառավարության, վարչապետի և փոխվարչապետերի գործունեությանը | F12: ՀՀ կառավարության և վարչապետի որոշումների ու հանձնարարականների կատարման վերահսկողության ապահովում | G12: =G13 -> 34400 | H12: =H13 -> 34400 | I12: =I13 -> 34400
C13: 1136 - 31009 | D13: Պետական սեփականություն հանդիսացող կառավարական շենքերի վերակառուցում, հիմնանորոգում | E13: Պետական սեփականություն հանդիսացողկառավարական շենքերի վերակառուցում,հիմնանորոգում, նախագծանախահաշվայինփաստաթղթերի մշակում և այլհամաշինարարական աշխատանքներ | F13: Պետական մարմինների կողմից օգտագործվող ոչ ֆինանսական ակտիվների հետ գործառնություններ | G13: 34400 | H13: 34400 | I13: 34400
A14: Բարձրագույն դատական խորհուրդ | G14: =G15 -> 38400 | H14: =H15 -> 38400 | I14: =I15 -> 38400
B15: 1080 | D15: Դատական իշխանության գործունեության ապահովում և իրականացում | E15: Դատական իշխանության անկախության երաշխավորում, բնականոն գործունեության և դատական պաշտպանության իրավունքի ապահովում | F15: Դատական իշխանության գուծունեության և դատական պաշտպանության իրավունքի ապահովման արդյունավետության բարձրացում | G15: =G16 -> 38400 | H15: =H16 -> 38400 | I15: =I16 -> 38400
C16: 1080 - 31001 | D16: Բարձրագույն դատական խորհրդի տեխնիկական հագեցվածության բարելավում | E16: ԲԴԽ աշխատանքային պայմանների բարելավման համար վարչական սարքավորումների ձեռքբերում | F16: Պետական մարմինների կողմից օգտագործվող ոչ ֆինանսական ակտիվների հետ գործառնություններ | G16: 38400 | H16: 38400 | I16: 38400
A17: ՀՀ տարածքային կառավարման և ենթակառուցվածքների նախարարություն | G17: =G18+G20+G22+G26+G28+G30+G33 -> 1489527.3 | H17: =H18+H20+H22+H26+H28+H30+H33 -> 1489527.3 | I17: =I18+I20+I22+I26+I28+I30+I33 -> 1489527.3
B18: 1001 | D18: Տարածքային կառավարման ոլորտում քաղաքականության մշակում, ծրագրերի համակարգում և մոնիտորինգի իրականացում | E18: Տարածքային կառավարման բնագավառում պետական արդյունավետ քաղաքականության մշակման և իրականացման ապահովում | F18: Տարածքային կառավարման քաղաքականության իրագործմանն ուղղված ծրագրերի ազդեցության և արդյունավետության բարելավում | G18: =G19 -> 1304.1 | H18: =H19 -> 1304.1 | I18: =I19 -> 1304.1
C19: 1001 - 31001 | D19: ՀՀ տարածքային կառավարման և ենթակառուցվածքների նախարարության կարողությունների զարգացում և տեխնիկական հագեցվածության ապահովում | E19: ՀՀ տարածքային կառավարման և ենթակառուցվածքների նախարարության աշխատանքային պայմանների բարելավման համար վարչական սարքավորումների ձեռք բերում | F19: Պետական մարմինների կողմից օգտագործվող ոչ ֆինանսական ակտիվների հետ գործառնություններ | G19: 1304.1 | H19: 1304.1 | I19: 1304.1
B20: 1004 | D20: Ոռոգման համակարգի առողջացում | E20: Ոռոգման ծառայությունների հասանելիության և մատչելիության ապահովում | F20: Ոռոգման ջրի մատակարարման արդյունավետության և հասանելիության բարելավում, կորուստների կրճատում | G20: =G21 -> 15521.2 | H20: =H21 -> 15521.2 | I20: =I21 -> 15521.2
C21: 1004 - 31002 | D21: Ոռոգման համակարգերի հիմնանորոգում | E21: Ոռոգման համակարգերի հիմնանորոգում | F21: Պետական մարմինների կողմից օգտագործվող ոչ ֆինանսական ակտիվների հետ գործառնություններ | G21: 15521.2 | H21: 15521.2 | I21: 15521.2
B22: 1049 | D22: Ճանապարհային ցանցի բարելավում | E22: Ճանապարհային ցանցի բարելավում և անվտանգ երթևեկության ապահովում | F22: Ճանապարհների ծածկի որակի և փոխադրումների արդյունավետության բարելավում, ճանապարհների վիճակով պայմանավորված պատահարների նվազում | G22: =G23+G24+G25 -> 1385488.9 | H22: =H23+H24+H25 -> 1385488.9 | I22: =I23+I24+I25 -> 1385488.9
C23: 1049 - 21001 | D23: Պետական նշանակության ավտոճանապարհների հիմնանորոգում | E23: Միջպետական, հանրապետական և մարզային նշանակության ավտոճոնապարհների քայքայված ծածկի վերանորոգում, մաշված ծածկի փոխարինում | F23: Հանրության կողմից անմիջականորեն օգտագործվող ակտիվների հետ կապված միջոցառումներ | G23: 1279943.5 | H23: 1279943.5 | I23: 1279943.5
C24: 1049 - 21002 | D24: Տրանսպորտային օբյեկտների հիմնանորոգում | E24: Ավտոմոբիլային ճանապարհների վրա գտնվող կամուրջների հիմնանորոգում | F24: Հանրության կողմից անմիջականորեն օգտագործվող ակտիվների հետ կապված միջոցառումներ | G24: 39564.7 | H24: 39564.7 | I24: 39564.7
C25: 1049 - 21020 | D25: Միջպետական և հանրապետական նշանակության ավտոճանապարհների միջին նորոգում | E25: Միջպետական և հանրապետական նշանակության ավտոճանապարհների պատվածքի մաշված վերին շերտի վերականգնում և շինարարական նորմերով նախատեսված սկզբնական որակական ցուցանիշների ապահովում | F25: Հանրության կողմից անմիջականորեն օգտագործվող ակտիվների հետ կապված միջոցառումներ | G25: 65980.7 | H25: 65980.7 | I25: 65980.7
B26: 1072 | D26: Ջրամատակարարաման և ջրահեռացման բարելավում | E26: Ջրամատակարարման ծառայությունների հասանելիության և մատչելիության ապահովում | F26: Խմելու ջրի մատակարարման և ջրահեռացման համակարգի բարելավում, կորուստների կրճատում | G26: =G27 -> 9273.6 | H26: =H27 -> 9273.6 | I26: =I27 -> 9273.6
C27: 1072 - 31013 | D27: Ջրամատակարարման և ջրահեռացման համակարգի կառուցում | E27: Ջրամատակարարման և ջրահեռացման համակարգի կառուցման նախագծերի և աշխատանքների ձեռքբերում | F27: Պետական մարմինների կողմից օգտագործվող ոչ ֆինանսական ակտիվների հետ գործառնություններ | G27: 9273.6 | H27: 9273.6 | I27: 9273.6
B28: 1079 | D28: Պետական գույքի կառավարում | E28: Պետական գույքի համալիր և արդյունավետ կառավարման ապահովում | F28: Պետական գույքի կառավարման արդյունավետության բարձրացում | G28: =G29 -> 11284.8 | H28: =H29 -> 11284.8 | I28: =I29 -> 11284.8
C29: 1079 - 31004 | D29: Պետական գույքի կառավարման կոմիտեի ենթակայության շենքերի պայմանների բարելավում | E29: Պետական գույքի կառավարման կոմիտեի ենթակայության շենքերի պայմանների բարելավում (հիմնանորոգում, նախագծանախահաշվային փաստաթղթերի ձեռքբերում և շենքային այլ պայմանների բարելավում) | F29: Պետական մարմինների կողմից օգտագործվող ոչ ֆինանսական ակտիվների հետ գործառնություններ | G29: 11284.8 | H29: 11284.8 | I29: 11284.8
B30: 1157 | D30: Քաղաքային զարգացում | E30: Քաղաքային ենթակառուցվածքների զարգացում | F30: Քաղաքային ենթակառուցվածքների արդիականացում և բարելավում | G30: =G31+G32 -> 32163.3 | H30: =H31+H32 -> 32163.3 | I30: =I31+I32 -> 32163.3
C31: 1157 - 21037 | D31: Երևան քաղաքի նախադպրոցական ուսումնական հաստատությունների կառուցման և հիմնանորոգման աշխատանքներ | E31: Նախադպրոցական ուսումնական հաստատությունների և դրանցբակային տարածքների հիմնանորոգում, ինչպես նաև նորերիկառուցում | F31: Հանրության կողմից անմիջականորեն օգտագործվող ակտիվների հետ կապված միջոցառումներ | G31: 13912.5 | H31: 13912.5 | I31: 13912.5
C32: 1157 - 21038 | D32: Երևանի բուսաբանական այգու տարածքում անտառապուրակի կառուցապատման աշխատանքներ | E32: Երևան քաղաքում անտառապուրակի հիմնում և կանաչ գոտիների արդիականացում | F32: Հանրության կողմից անմիջականորեն օգտագործվող ակտիվների հետ կապված միջոցառումներ | G32: 18250.8 | H32: 18250.8 | I32: 18250.8
B33: 1212 | D33: Տարածքային զարգացում | E33: Տարածքային համաչափ զարգացման խթանում | F33: ՀՀ համայնքների կառավարման արդյունավետության բարձրացում և տնտեսական գործունեության խթանում | G33: =G34+G35 -> 34491.4 | H33: =H34+H35 -> 34491.4 | I33: =I34+I35 -> 34491.4
C34: 1212 - 12025 | D34: Մարզերում առաջնահերթ լուծում պահանջող հիմնախնդիրների լուծում | E34: Մարզերում առաջնահերթ լուծում պահանջող ծրագրերի իրականացում, որի արդյունքում լուծում կտրվի բնակչության և համայնքների սոցիալական նշանակություն ունեցող հիմնախնդիրներին: | F34: Տրանսֆերտների տրամադրում | G34: 5119.9 | H34: 5119.9 | I34: 5119.9
C35: 1212 - 32001 | D35: ՀՀ մարզերում առաջնահերթ լուծում պահանջող անհետաձգելի ծրագրերի իրականացում | E35: ՀՀ մարզերում առաջնահերթ լուծում պահանջող անհետաձգելի ծրագրերի իրականացում, որի արդյունքում լուծում կտրվի մարզային ենթակայության կազմակերպությունների և համայնքային նշանակություն ունեցող հիմնախնդիրներին | F35: Այլ պետական կազմակերպությունների կողմից օգտագործվող ոչ ֆինանսական ակտիվների հետ գործառնություններ | G35: 29371.5 | H35: 29371.5 | I35: 29371.5
A36: ՀՀ առողջապահության նախարարություն | G36: =G37 -> 160691 | H36: =H37 -> 160691 | I36: =I37 -> 160691
B37: 1126 | D37: Առողջապահության ոլորտում պետական քաղաքականության մշակում, ծրագրերի համակարգում և մոնիտորինգ | E37: Մարդու և հանրության առողջության պահպանում, բնակչության առողջության բարելավում, հիվանդությունների կանխարգելում, հաշմանդամության և մահացության ցուցանիշների նվազեցում | F37: Առողջապահության ոլորտում իրականացվող ծրագրերի ազդեցության և արդյունավետության բարելավում | G37: =G38 -> 160691 | H37: =H38 -> 160691 | I37: =I38 -> 160691
C38: 1126 - 31003 | D38: Առողջապահական կազմակերպությունների կառուցում, վերակառուցում | E38: Բնակչությանը որակյալ բժշկական օգնության և սպասարկման ծառայություններ մատուցելու նպատակով առողջապահական կազմակերպությունների կառուցում, վերակառուցում | F38: Պետական մարմինների կողմից օգտագործվող ոչ ֆինանսական ակտիվների հետ գործառնություններ | G38: 160691 | H38: 160691 | I38: 160691
A39: ՀՀ արդարադատության նախարարություն | G39: =G40 -> 4880.1 | H39: =H40 -> 4880.1 | I39: =I40 -> 4880.1
B40: 1120 | D40: Քրեակատարողական ծառայություններ | E40: Դատապարտյալների պատժի կատարման և ուղղման համար անհրաժեշտ պայմանների ապահովում | F40: Դատապարտյալների զբաղվածության և իրավունքների պաշտպանություն | G40: =G41 -> 4880.1 | H40: =H41 -> 4880.1 | I40: =I41 -> 4880.1
C41: 1120 - 31003 | D41: Քրեակատարողական հիմմնարկների շենքային պայմանների բարելավում | E41: Քրեակատարողական հիմնարկների շենքերի նորոգում, հիմնանորոգում, կառուցում և նախագծանախահաշվային փաստաթղթերի ձեռքբերում | F41: Պետական մարմինների կողմից օգտագործվող ոչ ֆինանսական ակտիվների հետ գործառնություններ | G41: 4880.1 | H41: 4880.1 | I41: 4880.1
A42: ՀՀ շրջակա միջավայրի նախարարություն | G42: =G43 -> 298200 | H42: =H43 -> 298200 | I42: =I43 -> 298200
...

Sheet N4.
A1: Հավելված N 4
G2: ՀՀ կառավարության 2025 թվականի
G3: ______________ ի ___Ն որոշման
A5: «ՀԱՅԱՍՏԱՆԻ ՀԱՆՐԱՊԵՏՈՒԹՅԱՆ 2025 ԹՎԱԿԱՆԻ ՊԵՏԱԿԱՆ ԲՅՈՒՋԵԻ ՄԱՍԻՆ» ՀԱՅԱՍՏԱՆԻ ՀԱՆՐԱՊԵՏՈՒԹՅԱՆ ՕՐԵՆՔԻ N 1 ՀԱՎԵԼՎԱԾԻ N 3 ԱՂՅՈՒՍԱԿՈՒՄ ԿԱՏԱՐՎՈՂ ՓՈՓՈԽՈՒԹՅՈՒՆՆԵՐԸ ԵՎ ԼՐԱՑՈՒՄՆԵՐԸ
A7: հազար դրամներով
A8: Ծրագրային դասիչ | C8: Բյուջետային գլխավոր կարգադրիչների, ծրագրերի, միջոցառումների և ուղղությունների անվանումները | D8: Ընդամենը | E8: այդ թվում`
A9: Ծրագիր | B9: Միջոց առում | E9: Կառուցման աշխատանքներ | F9: Վերակառուցման, վերանորոգման և վերականգնման աշխատանքներ | G9: Նախագծահե- տազոտական, գեոդեզիա- քարտեզագրական աշխատանքներ | H9: Ոչ ֆինանսական այլ ակտիվների ձեռքբերում
C10: ԸՆԴԱՄԵՆԸ | D10: =+D11+D14+D17+D96+D99+D102+D105+D130+D134+D138+D141 -> 4312582.9 | E10: =+E11+E14+E17+E96+E99+E102+E105+E130+E134+E138+E141 -> 2095589.7 | F10: =+F11+F14+F17+F96+F99+F102+F105+F130+F134+F138+F141 -> 1486115 | G10: =+G11+G14+G17+G96+G99+G102+G105+G130+G134+G138+G141 -> 100752.6 | H10: =+H11+H14+H17+H96+H99+H102+H105+H130+H134+H138+H141 -> 630125.6
C11: ՀՀ վարչապետի աշխատակազմ | D11: =+D13 -> 34400 | E11: =+E13 -> 0 | F11: =+F13 -> 0 | G11: =+G13 -> 34400 | H11: =+H13 -> 0
C12: այդ թվում՛
A13: 1136 | B13: 31009 | C13: Պետական սեփականություն հանդիսացող կառավարական շենքերի վերակառուցում, հիմնանորոգում | D13: 34400 | E13: 0 | F13: 0 | G13: 34400 | H13: 0
C14: Բարձրագույն դատական խորհուրդ | D14: =+D16 -> 38400 | E14: =+E16 -> 0 | F14: =+F16 -> 0 | G14: =+G16 -> 0 | H14: =+H16 -> 38400
C15: այդ թվում՛
A16: 1080 | B16: 31001 | C16: Բարձրագույն դատական խորհրդի տեխնիկական հագեցվածության բարելավում | D16: 38400 | E16: 0 | F16: 0 | G16: 0 | H16: 38400
C17: ՀՀ տարածքային կառավարման և ենթակառուցվածքների նախարարություն | D17: =+D19+D20+D24+D60+D69+D76+D79+D82+D85+D88+D93 -> 1489527.3 | E17: =+E19+E20+E24+E60+E69+E76+E79+E82+E85+E88+E93 -> 94986.2 | F17: =+F19+F20+F24+F60+F69+F76+F79+F82+F85+F88+F93 -> 1380146.4 | G17: =+G19+G20+G24+G60+G69+G76+G79+G82+G85+G88+G93 -> 13090.6 | H17: =+H19+H20+H24+H60+H69+H76+H79+H82+H85+H88+H93 -> 1304.1
C18: այդ թվում՛
A19: 1001 | B19: 31001 | C19: ՀՀ տարածքային կառավարման և ենթակառուցվածքների նախարարության կարողությունների զարգացում և տեխնիկական հագեցվածության ապահովում | D19: =SUM(E19:H19) -> 1304.1 | E19: 0 | F19: 0 | G19: 0 | H19: 1304.1
A20: 1004 | B20: 31002 | C20: Ոռոգման համակարգերի հիմնանորոգում | D20: =+D22+D23 -> 15521.2 | E20: =+E22+E23 -> 0 | F20: =+F22+F23 -> 15521.2 | G20: =+G22+G23 -> 0 | H20: =+H22+H23 -> 0
C21: այդ թվում՝
C22: Թալին 1 պոմպակայանի վերականգնման աշխատանքներ | D22: =SUM(E22:H22) -> 7727.6 | F22: 7727.6
C23: «Տավուշ» ՋՕԸ-ի կողմից Զեյթուն N 1 պոմպակայանի կարճ գծի հեռացնող ջրանցքի վերակառուցում | D23: =SUM(E23:H23) -> 7793.6 | F23: 7793.6
A24: 1049 | B24: 21001 | C24: Պետական նշանակության ավտոճանապարհների հիմնանորոգում | D24: =D26+D35+D45 -> 1279943.5 | E24: =E26+E35+E45 -> 75573.6 | F24: =F26+F35+F45 -> 1200552.9 | G24: =G26+G35+G45 -> 3817 | H24: 0
C25: այդ թվում՝
B26: 1 | C26: Միջպետական նշանակության ավտոճանապարհներ, այդ թվում | D26: =SUM(D27:D34) -> 501544.3 | E26: =SUM(E27:E34) -> 0 | F26: =SUM(F27:F34) -> 501544.3 | G26: 0 | H26: =H27+H28+H29+H30+H31+H32+H33+H34+H35 -> 0
C27: Մ-2, Երևան-Երասխ-Գորիս-Մեղրի-ՀՀ սահման միջպետական նշանակության ավտոճանապարհի կմ182+532 - կմ190+000 հատվածի հիմնանորոգում | D27: =SUM(E27:G27) -> 61053.1 | F27: 61053.1
C28: Մ-2, (Սյունիք) /Մ-2/ - Աղվանի- Տաթև - /Մ-2/ միջպետական նշանակության ավտոճանապարհի Վերին Խոտանանը շրջանցող ճանապարհահատվածի կառուցում (II փուլ) | D28: =SUM(E28:G28) -> 1000 | F28: 1000
C29: Մ-2, Երևան-Երասխ-Գորիս-Մեղրի-ՀՀ սահման միջպետական նշանակության ավտոճանապարհի կմ297+800-կմ311+250 հատվածի հիմնանորոգում (1-ին տեղամաս՝ կմ297+800-կմ301+820 հատված) | D29: =SUM(E29:G29) -> 931 | F29: 931
C30: Մ-2, Երևան-Երասխ-Գորիս-Մեղրի-ՀՀ սահման միջպետական նշանակության ավտոճանապարհի կմ297+800-կմ311+250 հատվածի հիմնանորոգում (2-րդ տեղամաս՝ կմ301+820 - կմ311+250 հատված) | D30: =SUM(E30:G30) -> 1551 | F30: 1551
C31: Մ-3,ՀՀ սահման-Մարգարա-Վանաձոր-Տաշիր-ՀՀ սահման միջպետական նշանակության ավտոճանապարհի կմ116+790 (կմ116+900) - կմ128+718 (կմ127+900) հատվածի հիմնանորոգում | D31: =SUM(E31:G31) -> 157151.7 | F31: 157151.7
C32: Մ-5, Երևան - Արմավիր - ՀՀ սահման միջպետական նշանակության ավտոճանապարհի կմ17+530-կմ18+200, կմ25+593 - կմ29+385 և կմ32+675 - կմ33+833 աջակողմյան և ձախակողմյան հատվածների հիմնանորոգում և Մ-5, Երևան - Արմավիր - ՀՀ սահման ա/ճ-ի կմ 35+457 - կմ 37+054 ջրահեռացման համակարգի վերականգնում | D32: =SUM(E32:G32) -> 97757.1 | F32: 97757.1
C33: Մ-8,Վանաձոր(Մ-6 հատման կետ)-Դիլիջան միջպետական նշանակության ավտոճանապարհի կմ40+000-կմ42+000 հատվածի հիմնանորոգում | D33: =SUM(E33:G33) -> 24271 | F33: 24271
C34: Մ-10, Սևան-Մարտունի-Գետափ միջպետական նշանակության ավտոճանապարհի կմ66+000-կմ79+060 հատվածի հիմնանորոգում | D34: =SUM(E34:G34) -> 157829.4 | F34: 157829.4
B35: 2 | C35: Հանրապետական նշանակության ավտոճանապարհներ, այդ թվում | D35: =SUM(D36:D44) -> 270171.5 | E35: =SUM(E36:E44) -> 0 | F35: =SUM(F36:F44) -> 266354.5 | G35: =SUM(G36:G44) -> 3817
C36: Հ-1, Վ. Պտղնու տրանսպորտային հանգույց - Ջրաբեր-Հրազդան -Հրազդանի քրեակատարողական հիմնարկ հանրապետական նշանակության ավտոճանապարհի կմ33+500 - կմ37+700 հատվածի հիմնանորոգում | D36: =SUM(E36:G36) -> 38671.5 | F36: 38671.5 | H36: =H37+H38+H39+H40+H41+H42+H43+H44+H45+H46+H47 -> 0
C37: Հ85, /Հ-1/ - Հրազդան - /Հ-55/ հանրապետական նշանակության ավտոճանապարհի կմ1+600 - կմ3+300 հատվածների հիմնանորոգում | D37: =SUM(E37:G37) -> 29808.4 | F37: 29808.4
C38: Հ-1, Վ. Պտղնու տրանսպորտային հանգույց - Ջրաբեր-Հրազդան -Հրազդանի քրեակատարողական հիմնարկ հանրապետական նշանակության ավտոճանապարհի կմ21+700 - կմ24+000 հատվածի հիմնանորոգում | D38: =SUM(E38:G38) -> 21145.4 | F38: 21145.4
C39: Հ-3, Երևան (Ջրաշխարհ, Մ-4-ի հետ հատման տեղ)-Գառնի –Գեղարդի վանք հանրապետական նշանակության ավտոճանապարհի կմ33+500-կմ38+100 հատվածի հիմնանորոգում | D39: =SUM(E39:G39) -> 40528.2 | F39: 40528.2
C40: Հ-5, /Հ-6/-Նոր Գեղի-Արգել-Արզական-Հրազդան հանրապետական նշանակության ավտոճանապարհի կմ 25+200 - կմ36+000 հատվածի հիմնանորոգում | D40: =SUM(E40:G40) -> 181.4 | F40: 181.4
C41: Հ-18,/Մ-5/ - Վանանդ - /Մ-9/ հանրապետական նշանակության ավտոճանապարհի կմ0+000- կմ11+100 հատվածի հիմնանորոգում | D41: =SUM(E41:G41) -> 3817 | G41: 3817
C42: Հ-21, /Հ-75/ - Հոռոմ-Արթիկ-Ալագյազ հանրապետական նշանակության ավտոճանապարհի կմ29+600 - կմ32+700 հատվածի հիմնանորոգում | D42: =SUM(E42:G42) -> 26855 | F42: 26855
...

Sheet N5.
I1: Հավելված N 5
H3: ՀՀ կառավարության 2025 թվականի
H4: ______________ ի ___Ն որոշման
A6: ՀԱՅԱՍՏԱՆԻ ՀԱՆՐԱՊԵՏՈՒԹՅԱՆ ԿԱՌԱՎԱՐՈՒԹՅԱՆ 2024 ԹՎԱԿԱՆԻ ԴԵԿՏԵՄԲԵՐԻ 27-Ի N 2060-Ն ՈՐՈՇՄԱՆ N 3 ՀԱՎԵԼՎԱԾՈՒՄ ԿԱՏԱՐՎՈՂ ՓՈՓՈԽՈՒԹՅՈՒՆՆԵՐԸ ԵՎ ԼՐԱՑՈՒՄՆԵՐԸ
H8: հազար դրամներով
A9: Գործառական դասիչը | D9: Ծրագրային դասիչը | F9: Բյուջետային ծախսերի գործառական դասակարգման բաժինների, խմբերի և դասերի, բյուջետային ծրագրերի միջոցառումների, բյուջետային հատկացումների գլխավոր կարգադրիչների անվանումները | G9: Ցուցանիշների փոփոխությունը (ավելացումները նշված են դրական նշանով)
A10: Բաժին | B10: Խումբ | C10: Դաս | D10: Ծրագիր | E10: Միջոցա ռում | G10: Առաջին կիսամյակ | H10: Ինն ամիս | I10: Տարի
F11: ԸՆԴԱՄԵՆԸ ԾԱԽՍԵՐ | G11: 3574865.8 | H11: 3868712.7 | I11: 4312582.9
F12: այդ թվում`
A13: 01 | F13: ԸՆԴՀԱՆՈՒՐ ԲՆՈՒՅԹԻ ՀԱՆՐԱՅԻՆ ԾԱՌԱՅՈՒԹՅՈՒՆՆԵՐ | G13: 1316012 | H13: 1558626.6 | I13: 1922548.4
F14: այդ թվում`
B15: 01 | F15: Օրենսդիր և գործադիր մարմիններ, պետական կառավարում, ֆինանսական և հարկաբյուջետային հարաբերություններ, արտաքին հարաբերություններ | G15: 46988.9 | H15: 289603.5 | I15: 653525.3
F16: այդ թվում`
C17: 01 | F17: Օրենսդիր և գործադիր մարմիններ, պետական կառավարում | G17: 46988.9 | H17: 46988.9 | I17: 46988.9
F18: այդ թվում`
D19: 1001 | E19: 31001 | F19: ՀՀ տարածքային կառավարման և ենթակառուցվածքների նախարարության կարողությունների զարգացում և տեխնիկական հագեցվածության ապահովում | G19: 1304.1 | H19: 1304.1 | I19: 1304.1
F20: ՀՀ տարածքային կառավարման և ենթակառուցվածքների նախարարություն | G20: 1304.1 | H20: 1304.1 | I20: 1304.1
D21: 1079 | E21: 31004 | F21: Պետական գույքի կառավարման կոմիտեի ենթակայության շենքերի պայմանների բարելավում | G21: 11284.8 | H21: 11284.8 | I21: 11284.8
F22: ՀՀ տարածքային կառավարման և ենթակառուցվածքների նախարարություն | G22: 11284.8 | H22: 11284.8 | I22: 11284.8
D23: 1136 | E23: 31009 | F23: Պետական սեփականություն հանդիսացող կառավարական շենքերի վերակառուցում, հիմնանորոգում | G23: 34400 | H23: 34400 | I23: 34400
F24: ՀՀ վարչապետի աշխատակազմ | G24: 34400 | H24: 34400 | I24: 34400
C25: 02 | F25: Ֆինանսական և հարկաբյուջետային հարաբերություններ | G25: 0 | H25: 242614.6 | I25: 606536.4
F26: այդ թվում`
D27: 1023 | E27: 31003 | F27: ՀՀ պետական եկամուտների կոմիտեի շենքային ապահովվածության բարելավում | G27: 0 | H27: 242614.6 | I27: 606536.4
F28: ՀՀ պետական եկամուտների կոմիտե | G28: 0 | H28: 242614.6 | I28: 606536.4
B29: 03 | F29: Ընդհանուր բնույթի ծառայություններ | G29: 287249 | H29: 287249 | I29: 287249
F30: այդ թվում`
C31: 02 | F31: Ծրագրման և վիճակագրական ընդհանուր ծառայություններ | G31: 287249 | H31: 287249 | I31: 287249
F32: այդ թվում`
D33: 1235 | E33: 31001 | F33: Միասնական թվային միջավայրի ձևավորում | G33: 287249 | H33: 287249 | I33: 287249
F34: ՀՀ բարձր տեխնոլոգիական արդյունաբերության նախարարություն | G34: 287249 | H34: 287249 | I34: 287249
B35: 06 | F35: Ընդհանուր բնույթի հանրային ծառայություններ (այլ դասերին չպատկանող) | G35: 947282.7 | H35: 947282.7 | I35: 947282.7
F36: այդ թվում`
C37: 01 | F37: Ընդհանուր բնույթի հանրային ծառայություններ (այլ դասերին չպատկանող) | G37: 947282.7 | H37: 947282.7 | I37: 947282.7
F38: այդ թվում`
D39: 1043 | E39: 21001 | F39: Ինժեներական բիզնես աքսելերատորի շենքի կառուցման և կահավորման շարունակականության ապահովում | G39: 947282.7 | H39: 947282.7 | I39: 947282.7
F40: ՀՀ բարձր տեխնոլոգիական արդյունաբերության նախարարություն | G40: 947282.7 | H40: 947282.7 | I40: 947282.7
B41: 08 | F41: Կառավարության տարբեր մակարդակների միջև իրականացվող ընդհանուր բնույթի տրանսֆերտներ | G41: 34491.4 | H41: 34491.4 | I41: 34491.4
F42: այդ թվում`
C43: 01 | F43: Կառավարության տարբեր մակարդակների միջև իրականացվող ընդհանուր բնույթի տրանսֆերտներ | G43: 34491.4 | H43: 34491.4 | I43: 34491.4
...

Sheet N6.
F1: Հավելված N 6
E3: ՀՀ կառավարության 2025 թվականի
E4: ______________ ի ___Ն որոշման
A6: ՀԱՅԱՍՏԱՆԻ ՀԱՆՐԱՊԵՏՈՒԹՅԱՆ ԿԱՌԱՎԱՐՈՒԹՅԱՆ 2024 ԹՎԱԿԱՆԻ ԴԵԿՏԵՄԲԵՐԻ 27-Ի N 2060-Ն ՈՐՈՇՄԱՆ NN 4 ՀԱՎԵԼՎԱԾՈՒՄ ԿԱՏԱՐՎՈՂ ՓՈՓՈԽՈՒԹՅՈՒՆՆԵՐԸ ԵՎ ԼՐԱՑՈՒՄՆԵՐԸ
E7: հազար դրամներով
A8: Ծրագրային դասիչը | C8: Բյուջետային հատկացումների գլխավոր կարգադրիչների, ծրագրերի, միջոցառումների և միջոցառումները կատարող պետական մարմինների անվանումները | D8: Ցուցանիշների փոփոխությունը (ավելացումները նշված են դրական նշանով)
A9: Ծրագիր | B9: Միջոց առում | D9: Առաջին կիսամյակ | E9: Ինն ամիս | F9: Տարի
C10: ԸՆԴԱՄԵՆԸ | D10: 3574865.8 | E10: 3868712.7 | F10: 4312582.9
C11: այդ թվում`
C12: ՀՀ վարչապետի աշխատակազմ | D12: 34400 | E12: 34400 | F12: 34400
C13: այդ թվում`
A14: 1136 | C14: ՀՀ Վարչապետի լիազորությունների իրականացման ապահովում | D14: 34400 | E14: 34400 | F14: 34400
C15: այդ թվում`
B16: 31009 | C16: Պետական սեփականություն հանդիսացող կառավարական շենքերի վերակառուցում, հիմնանորոգում | D16: 34400 | E16: 34400 | F16: 34400
C17: այդ թվում` ըստ կատարողների
C18: ՀՀ քաղաքաշինության կոմիտե | D18: 34400 | E18: 34400 | F18: 34400
C19: այդ թվում` բյուջետային ծախսերի տնտեսագիտական դասակարգման հոդվածներ
C20: ԸՆԴԱՄԵՆԸ ԾԱԽՍԵՐ | D20: 34400 | E20: 34400 | F20: 34400
C21: ՈՉ ՖԻՆԱՆՍԱԿԱՆ ԱԿՏԻՎՆԵՐԻ ԳԾՈՎ ԾԱԽՍԵՐ | D21: 34400 | E21: 34400 | F21: 34400
C22: ՀԻՄՆԱԿԱՆ ՄԻՋՈՑՆԵՐ | D22: 34400 | E22: 34400 | F22: 34400
C23: ԱՅԼ ՀԻՄՆԱԿԱՆ ՄԻՋՈՑՆԵՐ | D23: 34400 | E23: 34400 | F23: 34400
C24: - Նախագծահետազոտական ծախսեր | D24: 34400 | E24: 34400 | F24: 34400
C25: Բարձրագույն դատական խորհուրդ | D25: 38400 | E25: 38400 | F25: 38400
C26: այդ թվում`
A27: 1080 | C27: Դատական իշխանության գործունեության ապահովում և իրականացում | D27: 38400 | E27: 38400 | F27: 38400
C28: այդ թվում`
B29: 31001 | C29: Բարձրագույն դատական խորհրդի տեխնիկական հագեցվածության բարելավում | D29: 38400 | E29: 38400 | F29: 38400
C30: այդ թվում` ըստ կատարողների
C31: ՀՀ դատական դեպարտամենտ | D31: 38400 | E31: 38400 | F31: 38400
C32: այդ թվում` բյուջետային ծախսերի տնտեսագիտական դասակարգման հոդվածներ
C33: ԸՆԴԱՄԵՆԸ ԾԱԽՍԵՐ | D33: 38400 | E33: 38400 | F33: 38400
C34: ՈՉ ՖԻՆԱՆՍԱԿԱՆ ԱԿՏԻՎՆԵՐԻ ԳԾՈՎ ԾԱԽՍԵՐ | D34: 38400 | E34: 38400 | F34: 38400
C35: ՀԻՄՆԱԿԱՆ ՄԻՋՈՑՆԵՐ | D35: 38400 | E35: 38400 | F35: 38400
C36: ՄԵՔԵՆԱՆԵՐ ԵՎ ՍԱՐՔԱՎՈՐՈՒՄՆԵՐ | D36: 38400 | E36: 38400 | F36: 38400
C37: - Վարչական սարքավորումներ | D37: 38400 | E37: 38400 | F37: 38400
C38: ՀՀ տարածքային կառավարման և ենթակառուցվածքների նախարարություն | D38: 1489527.3 | E38: 1489527.3 | F38: 1489527.3
C39: այդ թվում`
A40: 1001 | C40: Տարածքային կառավարման ոլորտում քաղաքականության մշակում, ծրագրերի համակարգում և մոնիտորինգի իրականացում | D40: 1304.1 | E40: 1304.1 | F40: 1304.1
C41: այդ թվում`
B42: 31001 | C42: ՀՀ տարածքային կառավարման և ենթակառուցվածքների նախարարության կարողությունների զարգացում և տեխնիկական հագեցվածության ապահովում | D42: 1304.1 | E42: 1304.1 | F42: 1304.1
...

Sheet N7.
A1: Հավելված N 7
F3: ՀՀ կառավարության 2025 թվականի
F4: ______________ ի ___Ն որոշման
A6: ՀԱՅԱՍՏԱՆԻ ՀԱՆՐԱՊԵՏՈՒԹՅԱՆ ԿԱՌԱՎԱՐՈՒԹՅԱՆ 2024 ԹՎԱԿԱՆԻ ԴԵԿՏԵՄԲԵՐԻ 27-Ի N2060-Ն ՈՐՈՇՄԱՆ N 5 ՀԱՎԵԼՎԱԾԻ N 2 ԱՂՅՈՒՍԱԿՈՒՄ ԿԱՏԱՐՎՈՂ ՓՈՓՈԽՈՒԹՅՈՒՆՆԵՐԸ ԵՎ ԼՐԱՑՈՒՄՆԵՐԸ
A8: հազար դրամներով
A9: Ծրագրային դասիչ | C9: Բյուջետային գլխավոր կարգադրիչների, ծրագրերի, միջոցառումների և ուղղությունների անվանումները | D9: Ցուցանիշների փոփոխությունը (ավելացումները նշված են դրական նշանով)
A10: Ծրագիր | B10: Միջոց առում | D10: Առաջին եռամսյակ | E10: Առաջին կիսամյակ | F10: Ինն ամիս | G10: Տարի
C11: ԸՆԴԱՄԵՆԸ | D11: =+D13+D18+D23+D122+D135+D142+D147+D180+D193+D201+D208 -> #REF! | E11: =+E13+E18+E23+E122+E135+E142+E147+E180+E193+E201+E208 -> 3574865.8 | F11: =+F13+F18+F23+F122+F135+F142+F147+F180+F193+F201+F208 -> 3868712.7 | G11: =+G13+G18+G23+G122+G135+G142+G147+G180+G193+G201+G208 -> 4312582.9
C12: այդ թվում`
C13: ՀՀ վարչապետի աշխատակազմ | D13: 34400 | E13: 34400 | F13: 34400 | G13: 34400
C14: այդ թվում՛
A15: 1136 | B15: 31009 | C15: Պետական սեփականություն հանդիսացող կառավարական շենքերի վերակառուցում, հիմնանորոգում | D15: 34400 | E15: 34400 | F15: 34400 | G15: 34400
C16: այդ թվում` ըստ կատարողների
C17: ՀՀ քաղաքաշինության կոմիտե | D17: 34400 | E17: 34400 | F17: 34400 | G17: 34400
C18: Բարձրագույն դատական խորհուրդ | D18: 38400 | E18: 38400 | F18: 38400 | G18: 38400
C19: այդ թվում՛
A20: 1080 | B20: 31001 | C20: Բարձրագույն դատական խորհրդի տեխնիկական հագեցվածության բարելավում | D20: 38400 | E20: 38400 | F20: 38400 | G20: 38400
C21: այդ թվում` ըստ կատարողների
C22: ՀՀ դատական դեպարտամենտ | D22: 38400 | E22: 38400 | F22: 38400 | G22: 38400
C23: ՀՀ տարածքային կառավարման և ենթակառուցվածքների նախարարություն | D23: =D25+D28+D34+D72+D83+D92+D97+D102+D107+D110+D117 -> 1489527.3 | E23: =E25+E28+E34+E72+E83+E92+E97+E102+E107+E110+E117 -> 1489527.3 | F23: =F25+F28+F34+F72+F83+F92+F97+F102+F107+F110+F117 -> 1489527.3 | G23: =G25+G28+G34+G72+G83+G92+G97+G102+G107+G110+G117 -> 1489527.3
C24: այդ թվում՛
A25: 1001 | B25: 31001 | C25: ՀՀ տարածքային կառավարման և ենթակառուցվածքների նախարարության կարողությունների զարգացում և տեխնիկական հագեցվածության ապահովում | D25: =+D27 -> 1304.1 | E25: =+E27 -> 1304.1 | F25: =+F27 -> 1304.1 | G25: =+G27 -> 1304.1
C26: այդ թվում` ըստ կատարողների
C27: ՀՀ տարածքային կառավարման և ենթակառուցվածքների նախարարություն | D27: 1304.1 | E27: 1304.1 | F27: 1304.1 | G27: 1304.1
A28: 1004 | B28: 31002 | C28: Ոռոգման համակարգերի հիմնանորոգում | D28: 15521.2 | E28: 15521.2 | F28: 15521.2 | G28: 15521.2
C29: այդ թվում` ըստ կատարողների
C30: ՀՀ տարածքային կառավարման և ենթակառուցվածքների նախարարության ջրային կոմիտե | D30: =SUM(D32:D33) -> 15521.2 | E30: =SUM(E32:E33) -> 15521.2 | F30: =SUM(F32:F33) -> 15521.2 | G30: =SUM(G32:G33) -> 15521.2
C31: այդ թվում՝ ըստ ուղղությունների
C32: Թալին 1 պոմպակայանի վերականգնման աշխատանքներ | D32: 7727.6 | E32: 7727.6 | F32: 7727.6 | G32: 7727.6
C33: «Տավուշ» ՋՕԸ-ի կողմից Զեյթուն N 1 պոմպակայանի կարճ գծի հեռացնող ջրանցքի վերակառուցում | D33: 7793.6 | E33: 7793.6 | F33: 7793.6 | G33: 7793.6
A34: 1049 | B34: 21001 | C34: Պետական նշանակության ավտոճանապարհների հիմնանորոգում | D34: =D36 -> 1279943.5 | E34: =E36 -> 1279943.5 | F34: =F36 -> 1279943.5 | G34: =G36 -> 1279943.5
C35: այդ թվում` ըստ կատարողների
C36: ՀՀ տարածքային կառավարման և ենթակառուցվածքների նախարարություն | D36: =D38+D47+D57 -> 1279943.5 | E36: =E38+E47+E57 -> 1279943.5 | F36: =F38+F47+F57 -> 1279943.5 | G36: =G38+G47+G57 -> 1279943.5
C37: այդ թվում՝ ըստ ուղղությունների
B38: 1 | C38: Միջպետական նշանակության ավտոճանապարհներ, այդ թվում | D38: =SUM(D39:D46) -> 501544.3 | E38: =SUM(E39:E46) -> 501544.3 | F38: =SUM(F39:F46) -> 501544.3 | G38: =SUM(G39:G46) -> 501544.3
C39: Մ-2, Երևան-Երասխ-Գորիս-Մեղրի-ՀՀ սահման միջպետական նշանակության ավտոճանապարհի կմ182+532 - կմ190+000 հատվածի հիմնանորոգում | D39: 61053.1 | E39: 61053.1 | F39: 61053.1 | G39: 61053.1
C40: Մ-2, (Սյունիք) /Մ-2/ - Աղվանի- Տաթև - /Մ-2/ միջպետական նշանակության ավտոճանապարհի Վերին Խոտանանը շրջանցող ճանապարհահատվածի կառուցում (II փուլ) | D40: 1000 | E40: 1000 | F40: 1000 | G40: 1000
C41: Մ-2, Երևան-Երասխ-Գորիս-Մեղրի-ՀՀ սահման միջպետական նշանակության ավտոճանապարհի կմ297+800-կմ311+250 հատվածի հիմնանորոգում (1-ին տեղամաս՝ կմ297+800-կմ301+820 հատված) | D41: 931 | E41: 931 | F41: 931 | G41: 931
C42: Մ-2, Երևան-Երասխ-Գորիս-Մեղրի-ՀՀ սահման միջպետական նշանակության ավտոճանապարհի կմ297+800-կմ311+250 հատվածի հիմնանորոգում (2-րդ տեղամաս՝ կմ301+820 - կմ311+250 հատված) | D42: 1551 | E42: 1551 | F42: 1551 | G42: 1551
C43: Մ-3,ՀՀ սահման-Մարգարա-Վանաձոր-Տաշիր-ՀՀ սահման միջպետական նշանակության ավտոճանապարհի կմ116+790 (կմ116+900) - կմ128+718 (կմ127+900) հատվածի հիմնանորոգում | D43: 157151.7 | E43: 157151.7 | F43: 157151.7 | G43: 157151.7
...

Sheet N 8.
L1: Հավելված N 8 __________-Ç ____-Ç N _____-Ü áñáßÙ³Ý
L3: ՀՀ կառավարության 2025 թվականի
L4: ______________ ի ___Ն որոշման
A6: ՀԱՅԱՍՏԱՆԻ ՀԱՆՐԱՊԵՏՈՒԹՅԱՆ ԿԱՌԱՎԱՐՈՒԹՅԱՆ 2024 ԹՎԱԿԱՆԻ ԴԵԿՏԵՄԲԵՐԻ 27-Ի N 2060-Ն ՈՐՈՇՄԱՆ N 9 ՀԱՎԵԼՎԱԾՈՒՄ ԿԱՏԱՐՎՈՂ ՓՈՓՈԽՈՒԹՅՈՒՆՆԵՐԸ ԵՎ ԼՐԱՑՈՒՄՆԵՐԸ
M7: հազար դրամներով
A8: ԲԳԿ | B8: Ծրագիր | D8: Միջոցառում | H8: Իրականացնողը/ ակտիվն օգտագործողը/ շահառուի ընտրության չափորոշիչը | I8: Արդյունքային չափորոշիչը | J8: Ցուցանիշների փոփոխությունը (ավելացումները նշված են դրական նշանով)
B9: Դասիչը | C9: Անվանումը | D9: Դասիչը | E9: Անվանումը | F9: Նկարագրությունը | G9: Տեսակը | J9: Առաջին եռամսյակ | K9: Առաջին կիսամյակ | L9: Ինն ամիս | M9: Տարի
A10: ՀՀ արդարադատության նախարարություն | J10: =J11 -> 4880.1 | K10: =K11 -> 4880.1 | L10: =L11 -> 4880.1 | M10: =M11 -> 4880.1
B11: 1120 | C11: Քրեակատարողական ծառայություններ | J11: =J12 -> 4880.1 | K11: =K12 -> 4880.1 | L11: =L12 -> 4880.1 | M11: =M12 -> 4880.1
D12: 1120 - 31003 | E12: Քրեակատարողական հիմնարկների շենքային պայմանների բարելավում | J12: 4880.1 | K12: 4880.1 | L12: 4880.1 | M12: 4880.1
F13: Քրեակատարողական հիմնարկների շենքերի նորոգում, հիմնանորոգում, կառուցում և նախագծանախահաշվային փաստաթղթերի ձեռք բերում
G14: Պետական մարմինների կողմից օգտագործվող ոչ ֆինանսական ակտիվների հետ գործառնություններ
H15: Ակտիվները օգտագործող կազմակերպության անվանումը` Քրեակատարողական ծառայություն
I16: ՀՀ ԱՆ «Աբովյան» քրեակատարողական հիմնարկի մեկուսարանի և վարչական մասնաշենքի վերանորոգման շինարարական աշխատանքներ | J16: 1 | K16: 1 | M16: 1
I17: ՀՀ ԱՆ «Աբովյան» քրեակատարողական հիմնարկի մեկուսարանի և վարչական մասնաշենքի վերանորոգման շինարարական աշխատանքների տեխնիկական հսկողություն | J17: 1 | K17: 1 | M17: 1
A18: ՀՀ վարչապետի աշխատակազմ | J18: =J19 -> 34400 | K18: =K19 -> 34400 | L18: =L19 -> 34400 | M18: =M19 -> 34400
B19: 1136 | C19: ՀՀ Վարչապետի լիազորությունների իրականացման ապահովում | J19: =J20 -> 34400 | K19: =K20 -> 34400 | L19: =L20 -> 34400 | M19: =M20 -> 34400
D20: 1136 - 31009 | E20: Պետական սեփականություն հանդիսացող կառավարական շենքերի վերակառուցում, հիմնանորոգում | J20: 34400 | K20: 34400 | L20: 34400 | M20: 34400
F21: Պետական սեփականություն հանդիսացող կառավարական շենքերի վերակառուցում,հիմնանորոգում, նախագծանախահաշվային փաստաթղթերի մշակում և այլ համաշինարարական աշխատանքներ
G22: Պետական մարմինների կողմից օգտագործվող ոչ ֆինանսական ակտիվների հետ գործառնություններ
H23: Ակտիվն օգտագործող կազմակերպության անվանումը` Մասնագիտացված կազմակերպություն
I24: Նախագծանախահաշվային փաստաթղթերի քանակ, հատ | J24: 1 | K24: 2 | M24: 2
A25: Բարձրագույն դատական խորհուրդ | J25: =J26 -> 38400 | K25: =K26 -> 38400 | L25: =L26 -> 38400 | M25: =M26 -> 38400
B26: 1080 | C26: Դատական իշխանության գործունեության ապահովում և իրականացում | J26: =J27 -> 38400 | K26: =K27 -> 38400 | L26: =L27 -> 38400 | M26: =M27 -> 38400
D27: 1080 - 31001 | E27: Բարձրագույն դատական խորհրդի տեխնիկական հագեցվածության բարելավում | J27: 38400 | K27: 38400 | L27: 38400 | M27: 38400
F28: ԲԴԽ աշխատանքային պայմանների բարելավման համար վարչական սարքավորումների ձեռքբերում
G29: Պետական մարմինների կողմից օգտագործվող Պետական մարմինների կողմից օգտագործվող ոչ ֆինանսական ակտիվների հետ գործառնություններ
H30: Ակտիվն օգտագործող կազմակերպության անվանումը` Դատական դեպարտամենտ
I31: Այլ սարքավորումների քանակ, հատ | J31: 6 | K31: 6 | M31: 6
I32: Սարքավորումների ծառայության կանխատեսվող միջին ժամկետ, տարի | J32: 10 | K32: 10 | M32: 10
A33: ՀՀ տարածքային կառավարման և ենթակառուցվածքների նախարարություն | J33: =J34+J39+J44+J57+J63+J69+J79 -> 1489527.3 | K33: =K34+K39+K44+K57+K63+K69+K79 -> 1489527.3 | L33: =L34+L39+L44+L57+L63+L69+L79 -> 1489527.3 | M33: =M34+M39+M44+M57+M63+M69+M79 -> 1489527.3
B34: 1001 | C34: Տարածքային կառավարման ոլորտում քաղաքականության մշակում, ծրագրերի համակարգում և մոնիտորինգի իրականացում | J34: =J35 -> 1304.1 | K34: =K35 -> 1304.1 | L34: =L35 -> 1304.1 | M34: =M35 -> 1304.1
D35: 1001 - 31001 | E35: ՀՀ տարածքային կառավարման և ենթակառուցվածքների նախարարության կարողությունների զարգացում և տեխնիկական հագեցվածության ապահովում | J35: 1304.1 | K35: 1304.1 | L35: 1304.1 | M35: 1304.1
F36: ՀՀ տարածքային կառավարման և ենթակառուցվածքների նախարարության աշխատանքային պայմանների բարելավման համար վարչական սարքավորումների ձեռք բերում
G37: Պետական մարմինների կողմից օգտագործվող ոչ ֆինանսական ակտիվների հետ գործառնություններ
H38: Ակտիվն օգտագործող կազմակերպության անվանումը` ՀՀ տարածքային կառավարման և ենթակառուցվածքների նախարարություն
B39: 1004 | C39: Ոռոգման համակարգի առողջացում | J39: =J40 -> 15521.2 | K39: =K40 -> 15521.2 | L39: =L40 -> 15521.2 | M39: =M40 -> 15521.2
D40: 1004 - 31002 | E40: Ոռոգման համակարգերի հիմնանորոգում | J40: 15521.2 | K40: 15521.2 | L40: 15521.2 | M40: 15521.2
F41: Ոռոգման համակարգերի հիմնանորոգում
G42: Պետական մարմինների կողմից օգտագործվող ոչ ֆինանսական ակտիվների հետ գործառնություններ
...

Sheet N 9.
L1: Հավելված N 9
L3: ՀՀ կառավարության 2025 թվականի
L4: ______________ ի ___Ն որոշման
A6: ՀԱՅԱՍՏԱՆԻ ՀԱՆՐԱՊԵՏՈՒԹՅԱՆ ԿԱՌԱՎԱՐՈՒԹՅԱՆ 2024 ԹՎԱԿԱՆԻ ԴԵԿՏԵՄԲԵՐԻ 27-Ի N 2060-Ն ՈՐՈՇՄԱՆ N 9.1 ՀԱՎԵԼՎԱԾՈՒՄ ԿԱՏԱՐՎՈՂ ՓՈՓՈԽՈՒԹՅՈՒՆՆԵՐԸ ԵՎ ԼՐԱՑՈՒՄՆԵՐԸ
M7: հազար դրամներով
A8: ԲՍԿ | B8: Ծրագիր | D8: Միջոցառում | H8: Իրականացնողը/ ակտիվն օգտագործողը/ շահառուի ընտրության չափորոշիչը | I8: Արդյունքային չափորոշիչը | J8: Ցուցանիշների փոփոխությունը (ավելացումները նշված են դրական նշանով)
B9: Դասիչը | C9: Անվանումը | D9: Դասիչը | E9: Անվանումը | F9: Նկարագրությունը | G9: Տեսակը | J9: Առաջին եռամսյակ | K9: Առաջին կիսամյակ | L9: Ինն ամիս | M9: Տարի
A12: ՀՀ արդարադատության նախարարության քրեակատարողական ծառայություն | J12: =+J13 -> 4880.1 | K12: =+K13 -> 4880.1 | L12: =+L13 -> 4880.1 | M12: =+M13 -> 4880.1
B13: 1120 | C13: Քրեակատարողական ծառայություններ | J13: 4880.1 | K13: 4880.1 | L13: 4880.1 | M13: 4880.1
D14: 1120 - 31003 | E14: Քրեակատարողական հիմնարկների շենքային պայմանների բարելավում | J14: 4880.1 | K14: 4880.1 | L14: 4880.1 | M14: 4880.1
F15: Քրեակատարողական հիմնարկների շենքերի նորոգում, հիմնանորոգում, կառուցում և նախագծանախահաշվային փաստաթղթերի ձեռք բերում
G16: Պետական մարմինների կողմից օգտագործվող ոչ ֆինանսական ակտիվների հետ գործառնություններ
H17: Ակտիվները օգտագործող կազմակերպության անվանումը` Քրեակատարողական ծառայություն
I18: ՀՀ ԱՆ «Աբովյան» քրեակատարողական հիմնարկի մեկուսարանի և վարչական մասնաշենքի վերանորոգման շինարարական աշխատանքներ | J18: 1 | K18: 1 | M18: 1
I19: ՀՀ ԱՆ «Աբովյան» քրեակատարողական հիմնարկի մեկուսարանի և վարչական մասնաշենքի վերանորոգման շինարարական աշխատանքների տեխնիկական հսկողություն | J19: 1 | K19: 1 | M19: 1
A20: ՀՀ դատական դեպարտամենտ | J20: =+J21 -> 38400 | K20: =+K21 -> 38400 | L20: =+L21 -> 38400 | M20: =+M21 -> 38400
B21: 1080 | C21: Դատական իշխանության գործունեության ապահովում և իրականացում | J21: 38400 | K21: 38400 | L21: 38400 | M21: 38400
D22: 1080 - 31001 | E22: Բարձրագույն դատական խորհրդի տեխնիկական հագեցվածության բարելավում | J22: 38400 | K22: 38400 | L22: 38400 | M22: 38400
F23: ԲԴԽ աշխատանքային պայմանների բարելավման համար վարչական սարքավորումների ձեռքբերում
G24: Պետական մարմինների կողմից օգտագործվող Պետական մարմինների կողմից օգտագործվող ոչ ֆինանսական ակտիվների հետ գործառնություններ
H25: Ակտիվն օգտագործող կազմակերպության անվանումը` Դատական դեպարտամենտ
I26: Այլ սարքավորումների քանակ, հատ | J26: 6 | K26: 6 | M26: 6
I27: Սարքավորումների ծառայության կանխատեսվող միջին ժամկետ, տարի | J27: 10 | K27: 10 | M27: 10
A28: ՀՀ շրջակա միջավայրի նախարարություն | J28: =J29 -> 298200 | K28: =K29 -> 298200 | L28: =L29 -> 298200 | M28: =M29 -> 298200
B29: 1016 | C29: Շրջակա միջավայրի վրա ազդեցության գնահատում և մոնիթորինգ | J29: =J30 -> 298200 | K29: =K30 -> 298200 | L29: =L30 -> 298200 | M29: =M30 -> 298200
D30: 1016-32003 | E30: «Հիդրոօդերևութաբանության և մոնիթորինգի կենտրոն» ՊՈԱԿ-ի տեխնիկական միջոցների արդիականացում և նոր սարքավորումների ձեռք բերում | J30: 298200 | K30: 298200 | L30: 298200 | M30: 298200
F31: «Հիդրոօդերևութաբանության և մոնիթորինգի կենտրոն» ՊՈԱԿ-ի տեխնիկական միջոցների արդիականացման և նոր սարքավորումներով համալրման աշխատանքների իրականացում
G32: Այլ պետական կազմակերպությունների կողմից օգտագործվող ոչ ֆինանսական ակտիվների հետ գործառնություններ
H33: Ծառայությունը մատուցողի անվանումը` Մասնագիտացված կազմակերպություններ
I34: Ավտոմատ գազանալիզատորներով համալրված դիտակայան, հատ | K34: 2 | M34: 2
A35: ՀՀ կրթության, գիտության, մշակույթի և սպորտի նախարարություն | J35: =+J37+J41+J48 -> 15060.1 | K35: =+K37+K41+K48 -> 19444.1 | L35: =+L37+L41+L48 -> 19444.1 | M35: =+M37+M41+M48 -> 19444.1
B36: 1075 | C36: Մշակութային ժառանգության ծրագիր | J36: =+J37+J41 -> 11151.3 | K36: =+K37+K41 -> 15535.3 | L36: =+L37+L41 -> 15535.3 | M36: =+M37+M41 -> 15535.3
D37: 1075 - 21001 | E37: Հուշարձանների ամրակայում, նորոգում և վերականգնում | J37: 10087.6 | K37: 14471.6 | L37: 14471.6 | M37: 14471.6
F38: Հուշարձանների գիտանախագծային փաստաթղթերի կազմում, հրատապ ուսումնասիրում, վավերագրման և ուսումնասիրման աշխատանքներ, հետախուզում և հնագիտական պեղում, ամրակայում, նորոգում և վերականգնում
G39: Հանրության կողմից անմիջականորեն օգտագործվող ակտիվների հետ կապված միջոցառումներ
H40: Ծառայությունը մատուցող կազմակերպության անվանումը` Մասնագիտացված կազմակերպություններ
D41: 1075 - 32008 | E41: Թանգարանների և պատկերասրահների գույքային և տեխնիկական հագեցվածության բարելավում | J41: 1063.7 | K41: 1063.7 | L41: 1063.7 | M41: 1063.7
F42: Թանգարանների և պատկերասրահների համար անհրաժեշտ գույքի, տեխնիկայի և սարքավորումների ձեռքբերում
G43: Այլ պետական կազմակերպությունների կողմից օգտագործվող ոչ ֆինանսական ակտիվների հետ գործառնություններ
H44: Ակտիվն օգտագործող կազմակերպության անվանումը` Թանգարաններ և պատկերասրահներ
...

Sheet N 10.
H1: Հավելված N 10
H3: ՀՀ կառավարության 2025 թվականի
H4: ______________ ի ___Ն որոշման
A7: ՀԱՅԱՍՏԱՆԻ ՀԱՆՐԱՊԵՏՈՒԹՅԱՆ ԿԱՌԱՎԱՐՈՒԹՅԱՆ 2024 ԹՎԱԿԱՆԻ ԴԵԿՏԵՄԲԵՐԻ 27-Ի N 2060-Ն N 10 ՀԱՎԵԼՎԱԾՈՒՄ ԿԱՏԱՐՎՈՂ ԼՐԱՑՈՒՄՆԵՐԸ
A11: Կոդը | B11: Անվանումը | E11: Գնման ձևը | F11: Չափման միավորը | G11: Միավորի գինը | H11: Ցուցանիշների փոփոխությունը (ավելացումները նշված են դրական նշանով)
H12: Քանակը | I12: Գումարը (հազար դրամ)
A14: 1 | B14: 2 | E14: 3 | F14: 4 | G14: 5 | H14: 6 | I14: 7
A16: Դատական դեպարտամենտ | I16: =I17 -> 38400
A17: Բաժին N 03 | C17: Խումբ N 03 | D17: Դաս N 01 | E17: Դատարաններ | I17: =+I18 -> 38400
A18: 1080 31001 | B18: Բարձրագույն դատական խորհրդի տեխնիկական հագեցվածության բարելավում | I18: =+I19 -> 38400
B19: ՄԱՍ I. ԱՊՐԱՆՔՆԵՐ | I19: =+I20 -> 38400
A20: 35121100 | B20: անվտանգության ապահովման սարքեր | E20: ԷԱՃ | F20: հատ | G20: 6400000 | H20: 6 | I20: =+H20*G20/1000 -> 38400
A22: ՀՀ տարածքային կառավարման և ենթակառուցվածքների նախարարություն | I22: =I23 -> 32689.6
A23: Բաժին N 04 | B23: Խումբ N 05 | C23: Դաս N 01 | D23: Ճանապարհային տրանսպորտ | I23: =+I24+I57 -> 32689.6
A24: 1049 21001 | B24: Պետական նշանակության ավտոճանապարհների հիմնանորոգում | I24: =+I25 -> 32405
A25: ՄԱՍ III. ԾԱՌԱՅՈՒԹՅՈՒՆՆԵՐ | I25: =SUM(I26:I56) -> 32405
A26: 71351540 | B26: տեխնիկական հսկողության ծառայություններ | E26: ՀԲՄ | F26: դրամ | G26: 444120 | H26: 1 | I26: =+H26*G26/1000 -> 444.12
A27: 71351540 | B27: տեխնիկական հսկողության ծառայություններ | E27: ԲՄ | F27: դրամ | G27: 320000 | H27: 1 | I27: =+H27*G27/1000 -> 320
A28: 71351540 | B28: տեխնիկական հսկողության ծառայություններ | E28: ՀԲՄ | F28: դրամ | G28: 864458 | H28: 1 | I28: =+H28*G28/1000 -> 864.458
A29: 71351540 | B29: տեխնիկական հսկողության ծառայություններ | E29: ՀԲՄ | F29: դրամ | G29: 3750000 | H29: 1 | I29: =+H29*G29/1000 -> 3750
A30: 71351540 | B30: տեխնիկական հսկողության ծառայություններ | E30: ԲՄ | F30: դրամ | G30: 1115626 | H30: 1 | I30: =+H30*G30/1000 -> 1115.626
A31: 71351540 | B31: տեխնիկական հսկողության ծառայություններ | E31: ՀԲՄ | F31: դրամ | G31: 4020000 | H31: 1 | I31: =+H31*G31/1000 -> 4020
A32: 71351540 | B32: տեխնիկական հսկողության ծառայություններ | E32: ՀԲՄ | F32: դրամ | G32: 510000 | H32: 1 | I32: =+H32*G32/1000 -> 510
A33: 71351540 | B33: տեխնիկական հսկողության ծառայություններ | E33: ՀԲՄ | F33: դրամ | G33: 2760000 | H33: 1 | I33: =+H33*G33/1000 -> 2760
A34: 71351540 | B34: տեխնիկական հսկողության ծառայություններ | E34: ՀԲՄ | F34: դրամ | G34: 400000 | H34: 1 | I34: =+H34*G34/1000 -> 400
A35: 71351540 | B35: տեխնիկական հսկողության ծառայություններ | E35: ՀԲՄ | F35: դրամ | G35: 1194276 | H35: 1 | I35: =+H35*G35/1000 -> 1194.276
A36: 71351540 | B36: տեխնիկական հսկողության ծառայություններ | E36: ԳՀ | F36: դրամ | G36: 263700 | H36: 1 | I36: =+H36*G36/1000 -> 263.7
A37: 71351540 | B37: տեխնիկական հսկողության ծառայություններ | E37: ԲՄ | F37: դրամ | G37: 445200 | H37: 1 | I37: =+H37*G37/1000 -> 445.2
... A56: 50531140 | B56: փորձաքննության ծառայություններ | E56: ԳՀ | F56: դրամ | G56: 337000 | H56: 1 | I56: =+H56*G56/1000 -> 337
A57: 1049 21002 | B57: Տրանսպորտային օբյեկտների հիմնանորոգում | I57: =+I58 -> 284.6
A58: ՄԱՍ III. ԾԱՌԱՅՈՒԹՅՈՒՆՆԵՐ | I58: =SUM(I59:I62) -> 284.6
A59: 71351540 | B59: տեխնիկական հսկողության ծառայություններ | E59: ՀԲՄ | F59: դրամ | G59: 69600 | H59: 1 | I59: =+H59*G59/1000 -> 69.6
A60: 71351540 | B60: տեխնիկական հսկողության ծառայություններ | E60: ՀԲՄ | F60: դրամ | G60: 80000 | H60: 1 | I60: =+H60*G60/1000 -> 80
A61: 98111140 | B61: հեղինակային հսկողության ծառայություններ | E61: ՄԱ | F61: դրամ | G61: 85000 | H61: 1 | I61: =+H61*G61/1000 -> 85
A62: 98111140 | B62: հեղինակային հսկողության ծառայություններ | E62: ՄԱ | F62: դրամ | G62: 50000 | H62: 1 | I62: =+H62*G62/1000 -> 50
A64: ՀՀ շրջակա միջավայրի նախարարություն | I64: =I65 -> 298200
A65: Բաժին N 05 | B65: Խումբ N 06 | C65: Դաս N 01 | D65: Շրջակա միջավայրի վրա ազդեցության գնահատում և մոնիթորինգ | I65: =I66 -> 298200
A66: 1016 32003 | B66: «Հիդրոօդերևութաբանության և մոնիթորինգի կենտրոն» ՊՈԱԿ-ի տեխնիկական միջոցների արդիականացում և նոր սարքավորումների ձեռք բերում | I66: =I67 -> 298200
B67: ՄԱՍ I. Ա Պ Ր Ա Ն Ք Ն Ե Ր | I67: =SUM(I68:I68) -> 298200
A68: 38121400-1 | B68: Մթնոլորտային օդի որակի դիտակայաններ | E68: ԲՄ | F68: լրակազմ | G68: 149100000 | H68: 2 | I68: =G68*H68/1000 -> 298200
...

Sheet N 11.
C1: Հավելված N 11
C3: ՀՀ կառավարության 2025 թվականի
C4: ______________ ի ___Ն որոշման
A7: ՀԱՅԱՍՏԱՆԻ ՀԱՆՐԱՊԵՏՈՒԹՅԱՆ ԿԱՌԱՎԱՐՈՒԹՅԱՆ 2024 ԹՎԱԿԱՆԻ ԴԵԿՏԵՄԲԵՐԻ 27-Ի N 2060-Ն N 8 ՀԱՎԵԼՎԱԾՈՒՄ ԿԱՏԱՐՎՈՂ ԼՐԱՑՈՒՄԸ
A11: Ծրագրային դասիչը | C11: Ծրագրերի, միջոցառումների անվանումները | D11: Գումարը
A12: Ծրագիր | B12: Միջոցառում
C13: ԸՆԴԱՄԵՆԸ ԾԱԽՍԵՐ | D13: =D15 -> 32163.3
C14: այդ թվում՝
A15: 1157 | C15: Քաղաքային զարգացում | D15: =+D16+D17 -> 32163.3
B16: 21037 | C16: Երևան քաղաքի նախադպրոցական ուսումնական հաստատությունների կառուցման և հիմնանորոգման աշխատանքներ | D16: 13912.5
B17: 21038 | C17: Երևանի բուսաբանական այգու տարածքում անտառապուրակի կառուցապատման աշխատանքներ | D17: 18250.8
