Workbook
Name _1__հայտարարվել_է_նախ_մրցույթ: #REF!
Name AgencyCode: #REF!
Name AgencyName: #REF!
Name åû: #REF!
Name davit: #REF!
Name Functional1: #REF!
Name ggg: #REF!
Name hav: #REF!
Name mas: #REF!
Name mass: #REF!
Name PANature: #REF!
Name PAType: #REF!
Name Performance2: #REF!
Name PerformanceType: #REF!
Name x: #REF!
Name Հավելված: #REF!
Name Մաս: #REF!
Name շախմատիստ: #REF!
Name վֆյգյգ: #REF!

Sheet N 1.
B1: Հավելված N 1
A3: ՀՀ կառավարության 2025 թվականի
A4: ______________ ի ___Ն որոշման
A6: «ՀԱՅԱՍՏԱՆԻ ՀԱՆՐԱՊԵՏՈՒԹՅԱՆ 2025 ԹՎԱԿԱՆԻ ՊԵՏԱԿԱՆ ԲՅՈՒՋԵԻ ՄԱՍԻՆ» ՀԱՅԱՍՏԱՆԻ ՀԱՆՐԱՊԵՏՈՒԹՅԱՆ ՕՐԵՆՔԻ 2-ՐԴ ՀՈԴՎԱԾԻ ԱՂՅՈՒՍԱԿՈՒՄ ԿԱՏԱՐՎՈՂ ՓՈՓՈԽՈՒԹՅՈՒՆՆԵՐԸ ԵՎ ԼՐԱՑՈՒՄՆԵՐԸ
B7: (հազար դրամներով)
B8: Ցուցանիշների փոփոխությունը (ավելացումները նշված են դրական նշանով)
A9: Եկամուտների գծով | B9: 0
A10: Ծախսերի գծով | B10: =+N3.!I10 -> 4312582.9
A11: Դեֆիցիտը (պակասուրդը) | B11: =+N2.!E16 -> 4312582.9

Sheet N2.
E1: Հավելված N 2
D3: ՀՀ կառավարության 2025 թվականի
D4: ______________ ի ___Ն որոշման
A5: ՀԱՅԱՍՏԱՆԻ ՀԱՆՐԱՊԵՏՈՒԹՅԱՆ ԿԱՌԱՎԱՐՈՒԹՅԱՆ 2024 ԹՎԱԿԱՆԻ ԴԵԿՏԵՄԲԵՐԻ 27-Ի N 2060-Ն ՈՐՈՇՄԱՆ N 1 ՀԱՎԵԼՎԱԾԻ N 1 ԱՂՅՈՒՍԱԿՈՒՄ ԿԱՏԱՐՎՈՂ ՓՈՓՈԽՈՒԹՅՈՒՆՆԵՐԸ ԵՎ ԼՐԱՑՈՒՄՆԵՐԸ
E7: հազար դրամներով
A8: Պետական բյուջեի դեֆիցիտի ֆինանսավորման աղբյուրներն ու դրանց տարրերի անվանումները | B8: Ցուցանիշների փոփոխությունը (ավելացումները նշված են դրական նշանով)
B9: Առաջին եռամսյակ | C9: Առաջին կիսամյակ | D9: Ինն ամիս | E9: Տարի
A10: ԸՆԴԱՄԵՆԸ | B10: =B12 -> 3574865.8 | C10: =C12 -> 3574865.8 | D10: =D12 -> 3868712.7 | E10: =E12 -> 4312582.9
A11: այդ թվում՝
A12: Ա. Ներքին աղբյուրներ-ընդամենը | B12: =B14 -> 3574865.8 | C12: =C14 -> 3574865.8 | D12: =D14 -> 3868712.7 | E12: =E14 -> 4312582.9
A13: այդ թվում՝
A14: 2. Ֆինանսական զուտ ակտիվներ | B14: =+B16 -> 3574865.8 | C14: =+C16 -> 3574865.8 | D14: =+D16 -> 3868712.7 | E14: =+E16 -> 4312582.9
A15: այդ թվում՝
A16: 2.3. Ելքերի ֆինանսավորմանն ուղղվող պետական բյուջեի տարեսկզբի ազատ մնացորդի միջոցներ | B16: =+N3.!G10 -> 3574865.8 | C16: =+N3.!G10 -> 3574865.8 | D16: =+N3.!H10 -> 3868712.7 | E16: =+N3.!I10 -> 4312582.9

Sheet N3.
I1: Հավելված N 3
I3: ՀՀ կառավարության 2025 թվականի
I4: ______________ ի ___Ն որոշման
B6: «ՀԱՅԱՍՏԱՆԻ ՀԱՆՐԱՊԵՏՈՒԹՅԱՆ 2025 ԹՎԱԿԱՆԻ ՊԵՏԱԿԱՆ ԲՅՈՒՋԵԻ ՄԱՍԻՆ» ՀԱՅԱՍՏԱՆԻ ՀԱՆՐԱՊԵՏՈՒԹՅԱՆ ՕՐԵՆՔԻ N 1 ՀԱՎԵԼՎԱԾԻ N 2 ԱՂՅՈՒՍԱԿՈՒՄ ԿԱՏԱՐՎՈՂ ՎԵՐԱԲԱՇԽՈՒՄԸ ԵՎ ՀԱՅԱՍՏԱՆԻ ՀԱՆՐԱՊԵՏՈՒԹՅԱՆ ԿԱՌԱՎԱՐՈՒԹՅԱՆ 2024 ԹՎԱԿԱՆԻ ԴԵԿՏԵՄԲԵՐԻ 27-Ի N2060-Ն ՈՐՈՇՄԱՆ N 5 ՀԱՎԵԼՎԱԾԻ N 1 ԱՂՅՈՒՍԱԿՈՒՄ ԿԱՏԱՐՎՈՂ ՓՈՓՈԽՈՒԹՅՈՒՆՆԵՐԸ ԵՎ ԼՐԱՑՈՒՄՆԵՐԸ
I7: հազար դրամներով
A8: ԲԳԿ | B8: Ծրագրային դասիչը | D8: ԲԳԿ/Ծրագրի /միջոցառման անվանումը | E8: Ծրագրի նպատակը/Միջոցառման նկարագրությունը | F8: Վերջնական արդյունքի նկարագրությունը/Միջոցառման տեսակը | G8: Առաջին կիսամյակ | H8: Ինն ամիս | I8: Տարի
B9: Ծրագիր | C9: Միջոցառում
A10: ԸՆԴԱՄԵՆԸ | G10: =G11+G14+G17+G36+G39+G42+G45+G53+G58+G63+G66 -> 3574865.8 | H10: =H11+H14+H17+H36+H39+H42+H45+H53+H58+H63+H66 -> 3868712.7 | I10: =I11+I14+I17+I36+I39+I42+I45+I53+I58+I63+I66 -> 4312582.9
A11: ՀՀ վարչապետի աշխատակազմ | G11: =G12 -> 34400 | H11: =H12 -> 34400 | I11: =I12 -> 34400
B12: 1136 | D12: ՀՀ Վարչապետի լիազորությունների իրականացման ապահովում | E12: Աջակցել կառավարության, վարչապետի և փոխվարչապետերի գործունեությանը | F12: ՀՀ կառավարության և վարչապետի որոշումների ու հանձնարարականների կատարման վերահսկողության ապահովում | G12: =G13 -> 34400 | H12: =H13 -> 34400 | I12: =I13 -> 34400
C13: 1136 - 31009 | D13: Պետական սեփականություն հանդիսացող կառավարական շենքերի վերակառուցում, հիմնանորոգում | E13: Պետական սեփականություն հանդիսացողկառավարական շենքերի վերակառուցում,հիմնանորոգում, նախագծանախահաշվայինփաստաթղթերի մշակում և այլհամաշինարարական աշխատանքներ | F13: Պետական մարմինների կողմից օգտագործվող ոչ ֆինանսական ակտիվների հետ գործառնություններ | G13: 34400 | H13: 34400 | I13: 34400
A14: Բարձրագույն դատական խորհուրդ | G14: =G15 -> 38400 | H14: =H15 -> 38400 | I14: =I15 -> 38400
B15: 1080 | D15: Դատական իշխանության գործունեության ապահովում և իրականացում | E15: Դատական իշխանության անկախության երաշխավորում, բնականոն գործունեության և դատական պաշտպանության իրավունքի ապահովում | F15: Դատական իշխանության գուծունեության և դատական պաշտպանության իրավունքի ապահովման արդյունավետության բարձրացում | G15: =G16 -> 38400 | H15: =H16 -> 38400 | I15: =I16 -> 38400
C16: 1080 - 31001 | D16: Բարձրագույն դատական խորհրդի տեխնիկական հագեցվածության բարելավում | E16: ԲԴԽ աշխատանքային պայմանների բարելավման համար վարչական սարքավորումների ձեռքբերում | F16: Պետական մարմինների կողմից օգտագործվող ոչ ֆինանսական ակտիվների հետ գործառնություններ | G16: 38400 | H16: 38400 | I16: 38400
A17: ՀՀ տարածքային կառավարման և ենթակառուցվածքների նախարարություն | G17: =G18+G20+G22+G26+G28+G30+G33 -> 1489527.3 | H17: =H18+H20+H22+H26+H28+H30+H33 -> 1489527.3 | I17: =I18+I20+I22+I26+I28+I30+I33 -> 1489527.3
B18: 1001 | D18: Տարածքային կառավարման ոլորտում քաղաքականության մշակում, ծրագրերի համակարգում և մոնիտորինգի իրականացում | E18: Տարածքային կառավարման բնագավառում պետական արդյունավետ քաղաքականության մշակման և իրականացման ապահովում | F18: Տարածքային կառավարման քաղաքականության իրագործմանն ուղղված ծրագրերի ազդեցության և արդյունավետության բարելավում | G18: =G19 -> 1304.1 | H18: =H19 -> 1304.1 | I18: =I19 -> 1304.1
C19: 1001 - 31001 | D19: ՀՀ տարածքային կառավարման և ենթակառուցվածքների նախարարության կարողությունների զարգացում և տեխնիկական հագեցվածության ապահովում | E19: ՀՀ տարածքային կառավարման և ենթակառուցվածքների նախարարության աշխատանքային պայմանների բարելավման համար վարչական սարքավորումների ձեռք բերում | F19: Պետական մարմինների կողմից օգտագործվող ոչ ֆինանսական ակտիվների հետ գործառնություններ | G19: 1304.1 | H19: 1304.1 | I19: 1304.1
B20: 1004 | D20: Ոռոգման համակարգի առողջացում | E20: Ոռոգման ծառայությունների հասանելիության և մատչելիության ապահովում | F20: Ոռոգման ջրի մատակարարման արդյունավետության և հասանելիության բարելավում, կորուստների կրճատում | G20: =G21 -> 15521.2 | H20: =H21 -> 15521.2 | I20: =I21 -> 15521.2
C21: 1004 - 31002 | D21: Ոռոգման համակարգերի հիմնանորոգում | E21: Ոռոգման համակարգերի հիմնանորոգում | F21: Պետական մարմինների կողմից օգտագործվող ոչ ֆինանսական ակտիվների հետ գործառնություններ | G21: 15521.2 | H21: 15521.2 | I21: 15521.2
B22: 1049 | D22: Ճանապարհային ցանցի բարելավում | E22: Ճանապարհային ցանցի բարելավում և անվտանգ երթևեկության ապահովում | F22: Ճանապարհների ծածկի որակի և փոխադրումների արդյունավետության բարելավում, ճանապարհների վիճակով պայմանավորված պատահարների նվազում | G22: =G23+G24+G25 -> 1385488.9 | H22: =H23+H24+H25 -> 1385488.9 | I22: =I23+I24+I25 -> 1385488.9
C23: 1049 - 21001 | D23: Պետական նշանակության ավտոճանապարհների հիմնանորոգում | E23: Միջպետական, հանրապետական և մարզային նշանակության ավտոճոնապարհների քայքայված ծածկի վերանորոգում, մաշված ծածկի փոխարինում | F23: Հանրության կողմից անմիջականորեն օգտագործվող ակտիվների հետ կապված միջոցառումներ | G23: 1279943.5 | H23: 1279943.5 | I23: 1279943.5
C24: 1049 - 21002 | D24: Տրանսպորտային օբյեկտների հիմնանորոգում | E24: Ավտոմոբիլային ճանապարհների վրա գտնվող կամուրջների հիմնանորոգում | F24: Հանրության կողմից անմիջականորեն օգտագործվող ակտիվների հետ կապված միջոցառումներ | G24: 39564.7 | H24: 39564.7 | I24: 39564.7
C25: 1049 - 21020 | D25: Միջպետական և հանրապետական նշանակության ավտոճանապարհների միջին նորոգում | E25: Միջպետական և հանրապետական նշանակության ավտոճանապարհների պատվածքի մաշված վերին շերտի վերականգնում և շինարարական նորմերով նախատեսված սկզբնական որակական ցուցանիշների ապահովում | F25: Հանրության կողմից անմիջականորեն օգտագործվող ակտիվների հետ կապված միջոցառումներ | G25: 65980.7 | H25: 65980.7 | I25: 65980.7
B26: 1072 | D26: Ջրամատակարարաման և ջրահեռացման բարելավում | E26: Ջրամատակարարման ծառայությունների հասանելիության և մատչելիության ապահովում | F26: Խմելու ջրի մատակարարման և ջրահեռացման համակարգի բարելավում, կորուստների կրճատում | G26: =G27 -> 9273.6 | H26: =H27 -> 9273.6 | I26: =I27 -> 9273.6
C27: 1072 - 31013 | D27: Ջրամատակարարման և ջրահեռացման համակարգի կառուցում | E27: Ջրամատակարարման և ջրահեռացման համակարգի կառուցման նախագծերի և աշխատանքների ձեռքբերում | F27: Պետական մարմինների կողմից օգտագործվող ոչ ֆինանսական ակտիվների հետ գործառնություններ | G27: 9273.6 | H27: 9273.6 | I27: 9273.6
B28: 1079 | D28: Պետական գույքի կառավարում | E28: Պետական գույքի համալիր և արդյունավետ կառավարման ապահովում | F28: Պետական գույքի կառավարման արդյունավետության բարձրացում | G28: =G29 -> 11284.8 | H28: =H29 -> 11284.8 | I28: =I29 -> 11284.8
C29: 1079 - 31004 | D29: Պետական գույքի կառավարման կոմիտեի ենթակայության շենքերի պայմանների բարելավում | E29: Պետական գույքի կառավարման կոմիտեի ենթակայության շենքերի պայմանների բարելավում (հիմնանորոգում, նախագծանախահաշվային փաստաթղթերի ձեռքբերում և շենքային այլ պայմանների բարելավում) | F29: Պետական մարմինների կողմից օգտագործվող ոչ ֆինանսական ակտիվների հետ գործառնություններ | G29: 11284.8 | H29: 11284.8 | I29: 11284.8
B30: 1157 | D30: Քաղաքային զարգացում | E30: Քաղաքային ենթակառուցվածքների զարգացում | F30: Քաղաքային ենթակառուցվածքների արդիականացում և բարելավում | G30: =G31+G32 -> 32163.3 | H30: =H31+H32 -> 32163.3 | I30: =I31+I32 -> 32163.3
C31: 1157 - 21037 | D31: Երևան քաղաքի նախադպրոցական ուսումնական հաստատությունների կառուցման և հիմնանորոգման աշխատանքներ | E31: Նախադպրոցական ուսումնական հաստատությունների և դրանցբակային տարածքների հիմնանորոգում, ինչպես նաև նորերիկառուցում | F31: Հանրության կողմից անմիջականորեն օգտագործվող ակտիվների հետ կապված միջոցառումներ | G31: 13912.5 | H31: 13912.5 | I31: 13912.5
C32: 1157 - 21038 | D32: Երևանի բուսաբանական այգու տարածքում անտառապուրակի կառուցապատման աշխատանքներ | E32: Երևան քաղաքում անտառապուրակի հիմնում և կանաչ գոտիների արդիականացում | F32: Հանրության կողմից անմիջականորեն օգտագործվող ակտիվների հետ կապված միջոցառումներ | G32: 18250.8 | H32: 18250.8 | I32: 18250.8
B33: 1212 | D33: Տարածքային զարգացում | E33: Տարածքային համաչափ զարգացման խթանում | F33: ՀՀ համայնքների կառավարման արդյունավետության բարձրացում և տնտեսական գործունեության խթանում | G33: =G34+G35 -> 34491.4 | H33: =H34+H35 -> 34491.4 | I33: =I34+I35 -> 34491.4
C34: 1212 - 12025 | D34: Մարզերում առաջնահերթ լուծում պահանջող հիմնախնդիրների լուծում | E34: Մարզերում առաջնահերթ լուծում պահանջող ծրագրերի իրականացում, որի արդյունքում լուծում կտրվի բնակչության և համայնքների սոցիալական նշանակություն ունեցող հիմնախնդիրներին: | F34: Տրանսֆերտների տրամադրում | G34: 5119.9 | H34: 5119.9 | I34: 5119.9
C35: 1212 - 32001 | D35: ՀՀ մարզերում առաջնահերթ լուծում պահանջող անհետաձգելի ծրագրերի իրականացում | E35: ՀՀ մարզերում առաջնահերթ լուծում պահանջող անհետաձգելի ծրագրերի իրականացում, որի արդյունքում լուծում կտրվի մարզային ենթակայության կազմակերպությունների և համայնքային նշանակություն ունեցող հիմնախնդիրներին | F35: Այլ պետական կազմակերպությունների կողմից օգտագործվող ոչ ֆինանսական ակտիվների հետ գործառնություններ | G35: 29371.5 | H35: 29371.5 | I35: 29371.5
A36: ՀՀ առողջապահության նախարարություն | G36: =G37 -> 160691 | H36: =H37 -> 160691 | I36: =I37 -> 160691
B37: 1126 | D37: Առողջապահության ոլորտում պետական քաղաքականության մշակում, ծրագրերի համակարգում և մոնիտորինգ | E37: Մարդու և հանրության առողջության պահպանում, բնակչության առողջության բարելավում, հիվանդությունների կանխարգելում, հաշմանդամության և մահացության ցուցանիշների նվազեցում | F37: Առողջապահության ոլորտում իրականացվող ծրագրերի ազդեցության և արդյունավետության բարելավում | G37: =G38 -> 160691 | H37: =H38 -> 160691 | I37: =I38 -> 160691
C38: 1126 - 31003 | D38: Առողջապահական կազմակերպությունների կառուցում, վերակառուցում | E38: Բնակչությանը որակյալ բժշկական օգնության և սպասարկման ծառայություններ մատուցելու նպատակով առողջապահական կազմակերպությունների կառուցում, վերակառուցում | F38: Պետական մարմինների կողմից օգտագործվող ոչ ֆինանսական ակտիվների հետ գործառնություններ | G38: 160691 | H38: 160691 | I38: 160691
A39: ՀՀ արդարադատության նախարարություն | G39: =G40 -> 4880.1 | H39: =H40 -> 4880.1 | I39: =I40 -> 4880.1
B40: 1120 | D40: Քրեակատարողական ծառայություններ | E40: Դատապարտյալների պատժի կատարման և ուղղման համար անհրաժեշտ պայմանների ապահովում | F40: Դատապարտյալների զբաղվածության և իրավունքների պաշտպանություն | G40: =G41 -> 4880.1 | H40: =H41 -> 4880.1 | I40: =I41 -> 4880.1
C41: 1120 - 31003 | D41: Քրեակատարողական հիմմնարկների շենքային պայմանների բարելավում | E41: Քրեակատարողական հիմնարկների շենքերի նորոգում, հիմնանորոգում, կառուցում և նախագծանախահաշվային փաստաթղթերի ձեռքբերում | F41: Պետական մարմինների կողմից օգտագործվող ոչ ֆինանսական ակտիվների հետ գործառնություններ | G41: 4880.1 | H41: 4880.1 | I41: 4880.1
A42: ՀՀ շրջակա միջավայրի նախարարություն | G42: =G43 -> 298200 | H42: =H43 -> 298200 | I42: =I43 -> 298200
B43: 1016 | D43: Շրջակա միջավայրի վրա ազդեցության գնահատում և մոնիթորինգ | E43: Նպաստել շրջակա միջավայրի և բնական ռեսուրսների (բացառությամբ օգտակար հանածոների) պահպանությանը | F43: Շրջակա միջավայրի վերաբերյալ ամբողջական տեղեկատվության հրապարակում | G43: =G44 -> 298200 | H43: =H44 -> 298200 | I43: =I44 -> 298200
C44: 1016 - 32003 | D44: «Հիդրոօդերևութաբանության և մոնիթորինգի կենտրոն» ՊՈԱԿ-ի տեխնիկական միջոցների արդիականացում և նոր սարքավորումների ձեռք բերում | E44: «Հիդրոօդերևութաբանության և մոնիթորինգի կենտրոն» ՊՈԱԿ-ի տեխնիկական միջոցների արդիականացման և նոր սարքավորումներով համալրման աշխատանքների իրականացում | F44: Այլ պետական կազմակերպությունների կողմից օգտագործվող ոչ ֆինանսական ակտիվների հետ գործառնություններ | G44: 298200 | H44: 298200 | I44: 298200
A45: ՀՀ կրթության , գիտության, մշակույթի և սպորտի նախարարություն | G45: =G46+G48+G51 -> 19733 | H45: =H46+H48+H51 -> 19733 | I45: =I46+I48+I51 -> 19733
B46: 1045 | D46: Մասնագիտական կրթության և ուսուցման ծրագիր | E46: Աշխատաշուկայի արդի պահանջներին համապատասխան արհեստագործական և միջին մասնագիտական կրթության որակավորում ունեցող մասնագետների պատրաստում, կրթության մատչելիության ապահովում: | F46: Արհեստագործական և միջին մասնագիտական կրթության գրավչության բարձրացում, մատչելի և մրցունակ արհեստագործական և միջին մասնագիտական կրթության ապահովում | G46: =G47 -> 288.9 | H46: =H47 -> 288.9 | I46: =I47 -> 288.9
C47: 1045 - 32001 | D47: Մասնագիտական ուսումնական հաստատությունների շենքային պայմանների բարելավում | E47: Մասնագիտական ուսումնական հաստատությունների շենքերի հիմնանորոգման և նախագծման (շինարարական աշխատանքներ, ջեռուցման համակարգի ստեղծում, ներքին հարդարում, տարածքի բարեկարգում) աշխատանքների իրականացում | F47: Այլ պետական կազմակերպությունների կողմից օգտագործվող ոչ ֆինանսական ակտիվների հետ գործառնություններ | G47: 288.9 | H47: 288.9 | I47: 288.9
B48: 1075 | D48: Մշակութային ժառանգության ծրագիր | E48: Մշակութային ժառանգության պահպանում, օգտագործում, համալրում և հանրահռչակում | F48: Մշակութային ժառանգության շարունակական պահպանում, մշակութային զբոսաշրջության զարգացում և խթանում | G48: =G49+G50 -> 15535.3 | H48: =H49+H50 -> 15535.3 | I48: =I49+I50 -> 15535.3
C49: 1075 - 21001 | D49: Հուշարձանների ամրակայում, նորոգում և վերականգնում | E49: Հուշարձանների գիտանախագծային փաստաթղթերի կազմում, հրատապ ուսումնասիրում, վավերագրման և ուսումնասիրման աշխատանքներ, հետախուզում և հնագիտական պեղում, ամրակայում, նորոգում և վերականգնում | F49: Հանրության կողմից անմիջականորեն օգտագործվող ակտիվների հետ կապված միջոցառումներ | G49: 14471.6 | H49: 14471.6 | I49: 14471.6
C50: 1075 - 32008 | D50: Թանգարանների և պատկերասրահների գույքային և տեխնիկական հագեցվածության բարելավում | E50: Թանգարանների և պատկերասրահների համար անհրաժեշտ գույքի, տեխնիկայի և սարքավորումների ձեռքբերում | F50: Այլ պետական կազմակերպությունների կողմից օգտագործվող ոչ ֆինանսական ակտիվների հետ գործառնություններ | G50: 1063.7 | H50: 1063.7 | I50: 1063.7
B51: 1168 | D51: Արվեստների ծրագիր | E51: Նպաստել ազգային հենքի վրա ժամանակակից թատերարվեստի, երաժշտարվեստի, կերպարվեստի և պարարվեստի զարգացմանը և հանրահռչակմանը | F51: Մրցունակ արվեստային արտադրանքի ստեղծում, ստեղծագործական գործընթացների խթանում, արվեստի նոր նախագծերի ներդրում և մշակութային կյանքում հասարակության ներգրավում | G51: =G52 -> 3908.8 | H51: =H52 -> 3908.8 | I51: =I52 -> 3908.8
C52: 1168 - 32007 | D52: Թատերահամերգային կազմակերպությունների նյութատեխնիկական բազայի համալրում | E52: Թատերահամերգային կազմակերպությունների համար անհրաժեշտ տեխնիկայի և սարքավորումների ձեռքբերում | F52: Այլ պետական կազմակերպությունների կողմից օգտագործվող ոչ ֆինանսական ակտիվների հետ գործառնություններ | G52: 3908.8 | H52: 3908.8 | I52: 3908.8
A53: ՀՀ աշխատանքի և սոցիալական հարցերի նախարարություն | G53: =G54+G56 -> 233380.3 | H53: =H54+H56 -> 233380.3 | I53: =I54+I56 -> 233380.3
B54: 1032 | D54: Տարեց և (կամ) հաշմանդամություն ունեցող անձանց աջակցություն | E54: Տարեց և (կամ) հաշմանդամություն ունեցող անձանց խնամքի տրամադրում | F54: Տարեց և (կամ) հաշմանդամություն ունեցող անձանց խնամքի ծառայությունների որակի բարելավում | G54: =G55 -> 69511.3 | H54: =H55 -> 69511.3 | I54: =I55 -> 69511.3
C55: 1032 - 32007 | D55: Տարեց և (կամ) հաշմանդամություն ունեցող անձանց շուրջօրյա խնամքի պետական ոչ առևտրային կազմակերպությունների շենքային պայմանների բարելավում | E55: Տարեց և (կամ) հաշմանդամություն ունեցող անձանց շուրջօրյա խնամք մատուցող ՊՈԱԿ-ների վերանորոգման և շինարարության համար անհրաժեշտ նախագծանախահաշվային փաթեթների կազմում և փորձաքննության անցկացում, վերանորոգման և շինարարական աշխատանքների իրականացում | F55: Այլ պետական կազմակերպությունների կողմից օգտագործվող ոչ ֆինանսական ակտիվների հետ գործառնություններ | G55: 69511.3 | H55: 69511.3 | I55: 69511.3
B56: 1098 | D56: Բնակարանային ապահովում | E56: Հանրապետությունում մշտական բնակության վայր չունեցող անօթևան անձանց բնակարանային ապահովմանն աջակցություն | F56: Հանրապետությունում մշտական բնակության վայր չունեցող անօթևան անձանց բնակարանային ապահովվածության բարելավում | G56: =G57 -> 163869 | H56: =H57 -> 163869 | I56: =I57 -> 163869
C57: 1098 - 21001 | D57: Բնակարանային շինարարություն | E57: Բազմաբնակարան բնակելի շենքերի (մասնաշենքերի) կառուցում, (տեխնիկական և հեղինակային հսկողություն) նախագծահետազոտական փաստաթղթերի ձեռքբերում | F57: Հանրության կողմից անմիջականորեն օգտագործվող ակտիվների հետ կապված միջոցառումներ | G57: 163869 | H57: 163869 | I57: 163869
A58: ՀՀ բարձր տեխնոլոգիական արդյունաբերության նախարարություն | G58: =G59+G61 -> 1234531.7 | H58: =H59+H61 -> 1234531.7 | I58: =I59+I61 -> 1234531.7
B59: 1043 | D59: Բարձր տեխնոլոգիական արդյունաբերության էկոհամակարգի և շուկայի զարգացման ծրագիր | E59: Բարձր տեխնոլոգիաների ենթակառուցվածքների բարելավում | F59: Բարձր տեխնոլոգիաների ոլորտի աճ | G59: =G60 -> 947282.7 | H59: =H60 -> 947282.7 | I59: =I60 -> 947282.7
C60: 1043 - 21001 | D60: Ինժեներական բիզնես աքսելերատորի շենքի կառուցման և կահավորման շարունակականության ապահովում | E60: Ինժեներական բիզնես աքսելերատորի շենքի կառուցման շարունակականության ապահովման նպատակով շինարարական աշխատանքների իրականացում, ավտոկայանատեղիների կառուցում, տարածքի բարեկարգում և սարքավորումների ձեռքբերում | F60: Հանրության կողմից անմիջականորեն օգտագործվող ակտիվների հետ կապված միջոցառումներ | G60: 947282.7 | H60: 947282.7 | I60: 947282.7
B61: 1235 | D61: Թվային փոխակերպման գործընթացի իրականացում | E61: Պետական մարմինների կողմից իրականացվող թվային փոխակերպման միջոցառումների ֆինանսավորում | F61: Թվային ծառայությունների և համակարգերի ներդրում | G61: =G62 -> 287249 | H61: =H62 -> 287249 | I61: =I62 -> 287249
C62: 1235 - 31001 | D62: Միասնական թվային միջավայրի ձևավորում | E62: Թվային փոխակերպման գործընթացի շրջանակներում թվայնացման համակարգերի ներդրում և կայքերի արդիականացում | F62: Պետական մարմինների կողմից օգտագործվող ոչ ֆինանսական ակտիվների հետ գործառնություններ | G62: 287249 | H62: 287249 | I62: 287249
A63: ՀՀ պետական եկամուտների կոմիտե | G63: =G64 -> 0 | H63: =H64 -> 242614.6 | I63: =I64 -> 606536.4
B64: 1023 | D64: Հարկային և մաքսային ծառայություններ | E64: Հարկային և մաքսային միասնական պետական քաղաքականության իրականացում, հարկային և մաքսային օրենսդրության ամբողջական և համահավասար կիրառում | F64: Արդյունավետ հարկային և մաքսային հսկողության իրականացում, պետական բյուջեի եկամուտների ապահովում | G64: =G65 -> 0 | H64: =H65 -> 242614.6 | I64: =I65 -> 606536.4
C65: 1023 - 31003 | D65: ՀՀ պետական եկամուտների կոմիտեի շենքային ապահովվածության բարելավում | E65: ՀՀ պետական եկամուտների կոմիտեի նոր շենքերի և շինությունների շինարարություն, նախագծային աշխատանքների ձեռքբերում | F65: Պետական մարմինների կողմից օգտագործվող ոչ ֆինանսական ակտիվների հետ գործառնություններ | G65: 0 | H65: 242614.6 | I65: 606536.4
A66: ՀՀ ազգային անվտանգության ծառայություն | G66: =G67 -> 61122.4 | H66: =H67 -> 112354.7 | I66: =I67 -> 192303.1
B67: 1138 | D67: Ազգային անվտանգություն | E67: Ներքին և արտաքին սպառնալիքներից անձի, հասարակության ու պետության անվտանգության ապահովում | F67: Այլ պետությունների կողմից հետախուզական գործունեության կասեցում,պետական սահմանի անձեռնամխելիության ապահովում, կոռուպցիոն ռիսկերի շեշտակի նվազեցում | G67: =G68 -> 61122.4 | H67: =H68 -> 112354.7 | I67: =I68 -> 192303.1
C68: 1138 - 31002 | D68: Ազգային անվտանգության համակարգի շենքային ապահովվածության բարելավում | E68: Ազգային անվտանգության համակարգի ստորաբաժանումների վարչական շենքերի կառուցում, կապիտալ վերանորոգում, շինարարական և կապիտալ նորոգման օբյեկտների նախագծահետազոտական փաստաթղթերի պատրաստում | F68: Պետական մարմինների կողմից օգտագործվող ոչ ֆինանսական ակտիվների հետ գործառնություններ | G68: 61122.4 | H68: 112354.7 | I68: 192303.1

Sheet N4.
A1: Հավելված N 4
G2: ՀՀ կառավարության 2025 թվականի
G3: ______________ ի ___Ն որոշման
A5: «ՀԱՅԱՍՏԱՆԻ ՀԱՆՐԱՊԵՏՈՒԹՅԱՆ 2025 ԹՎԱԿԱՆԻ ՊԵՏԱԿԱՆ ԲՅՈՒՋԵԻ ՄԱՍԻՆ» ՀԱՅԱՍՏԱՆԻ ՀԱՆՐԱՊԵՏՈՒԹՅԱՆ ՕՐԵՆՔԻ N 1 ՀԱՎԵԼՎԱԾԻ N 3 ԱՂՅՈՒՍԱԿՈՒՄ ԿԱՏԱՐՎՈՂ ՓՈՓՈԽՈՒԹՅՈՒՆՆԵՐԸ ԵՎ ԼՐԱՑՈՒՄՆԵՐԸ
A7: հազար դրամներով
A8: Ծրագրային դասիչ | C8: Բյուջետային գլխավոր կարգադրիչների, ծրագրերի, միջոցառումների և ուղղությունների անվանումները | D8: Ընդամենը | E8: այդ թվում`
A9: Ծրագիր | B9: Միջոց առում | E9: Կառուցման աշխատանքներ | F9: Վերակառուցման, վերանորոգման և վերականգնման աշխատանքներ | G9: Նախագծահե- տազոտական, գեոդեզիա- քարտեզագրական աշխատանքներ | H9: Ոչ ֆինանսական այլ ակտիվների ձեռքբերում
C10: ԸՆԴԱՄԵՆԸ | D10: =+D11+D14+D17+D96+D99+D102+D105+D130+D134+D138+D141 -> 4312582.9 | E10: =+E11+E14+E17+E96+E99+E102+E105+E130+E134+E138+E141 -> 2095589.7 | F10: =+F11+F14+F17+F96+F99+F102+F105+F130+F134+F138+F141 -> 1486115 | G10: =+G11+G14+G17+G96+G99+G102+G105+G130+G134+G138+G141 -> 100752.6 | H10: =+H11+H14+H17+H96+H99+H102+H105+H130+H134+H138+H141 -> 630125.6
C11: ՀՀ վարչապետի աշխատակազմ | D11: =+D13 -> 34400 | E11: =+E13 -> 0 | F11: =+F13 -> 0 | G11: =+G13 -> 34400 | H11: =+H13 -> 0
C12: այդ թվում՛
A13: 1136 | B13: 31009 | C13: Պետական սեփականություն հանդիսացող կառավարական շենքերի վերակառուցում, հիմնանորոգում | D13: 34400 | E13: 0 | F13: 0 | G13: 34400 | H13: 0
C14: Բարձրագույն դատական խորհուրդ | D14: =+D16 -> 38400 | E14: =+E16 -> 0 | F14: =+F16 -> 0 | G14: =+G16 -> 0 | H14: =+H16 -> 38400
C15: այդ թվում՛
A16: 1080 | B16: 31001 | C16: Բարձրագույն դատական խորհրդի տեխնիկական հագեցվածության բարելավում | D16: 38400 | E16: 0 | F16: 0 | G16: 0 | H16: 38400
C17: ՀՀ տարածքային կառավարման և ենթակառուցվածքների նախարարություն | D17: =+D19+D20+D24+D60+D69+D76+D79+D82+D85+D88+D93 -> 1489527.3 | E17: =+E19+E20+E24+E60+E69+E76+E79+E82+E85+E88+E93 -> 94986.2 | F17: =+F19+F20+F24+F60+F69+F76+F79+F82+F85+F88+F93 -> 1380146.4 | G17: =+G19+G20+G24+G60+G69+G76+G79+G82+G85+G88+G93 -> 13090.6 | H17: =+H19+H20+H24+H60+H69+H76+H79+H82+H85+H88+H93 -> 1304.1
C18: այդ թվում՛
A19: 1001 | B19: 31001 | C19: ՀՀ տարածքային կառավարման և ենթակառուցվածքների նախարարության կարողությունների զարգացում և տեխնիկական հագեցվածության ապահովում | D19: =SUM(E19:H19) -> 1304.1 | E19: 0 | F19: 0 | G19: 0 | H19: 1304.1
A20: 1004 | B20: 31002 | C20: Ոռոգման համակարգերի հիմնանորոգում | D20: =+D22+D23 -> 15521.2 | E20: =+E22+E23 -> 0 | F20: =+F22+F23 -> 15521.2 | G20: =+G22+G23 -> 0 | H20: =+H22+H23 -> 0
C21: այդ թվում՝
C22: Թալին 1 պոմպակայանի վերականգնման աշխատանքներ | D22: =SUM(E22:H22) -> 7727.6 | F22: 7727.6
C23: «Տավուշ» ՋՕԸ-ի կողմից Զեյթուն N 1 պոմպակայանի կարճ գծի հեռացնող ջրանցքի վերակառուցում | D23: =SUM(E23:H23) -> 7793.6 | F23: 7793.6
A24: 1049 | B24: 21001 | C24: Պետական նշանակության ավտոճանապարհների հիմնանորոգում | D24: =D26+D35+D45 -> 1279943.5 | E24: =E26+E35+E45 -> 75573.6 | F24: =F26+F35+F45 -> 1200552.9 | G24: =G26+G35+G45 -> 3817 | H24: 0
C25: այդ թվում՝
B26: 1 | C26: Միջպետական նշանակության ավտոճանապարհներ, այդ թվում | D26: =SUM(D27:D34) -> 501544.3 | E26: =SUM(E27:E34) -> 0 | F26: =SUM(F27:F34) -> 501544.3 | G26: 0 | H26: =H27+H28+H29+H30+H31+H32+H33+H34+H35 -> 0
C27: Մ-2, Երևան-Երասխ-Գորիս-Մեղրի-ՀՀ սահման միջպետական նշանակության ավտոճանապարհի կմ182+532 - կմ190+000 հատվածի հիմնանորոգում | D27: =SUM(E27:G27) -> 61053.1 | F27: 61053.1
C28: Մ-2, (Սյունիք) /Մ-2/ - Աղվանի- Տաթև - /Մ-2/ միջպետական նշանակության ավտոճանապարհի Վերին Խոտանանը շրջանցող ճանապարհահատվածի կառուցում (II փուլ) | D28: =SUM(E28:G28) -> 1000 | F28: 1000
C29: Մ-2, Երևան-Երասխ-Գորիս-Մեղրի-ՀՀ սահման միջպետական նշանակության ավտոճանապարհի կմ297+800-կմ311+250 հատվածի հիմնանորոգում (1-ին տեղամաս՝ կմ297+800-կմ301+820 հատված) | D29: =SUM(E29:G29) -> 931 | F29: 931
C30: Մ-2, Երևան-Երասխ-Գորիս-Մեղրի-ՀՀ սահման միջպետական նշանակության ավտոճանապարհի կմ297+800-կմ311+250 հատվածի հիմնանորոգում (2-րդ տեղամաս՝ կմ301+820 - կմ311+250 հատված) | D30: =SUM(E30:G30) -> 1551 | F30: 1551
C31: Մ-3,ՀՀ սահման-Մարգարա-Վանաձոր-Տաշիր-ՀՀ սահման միջպետական նշանակության ավտոճանապարհի կմ116+790 (կմ116+900) - կմ128+718 (կմ127+900) հատվածի հիմնանորոգում | D31: =SUM(E31:G31) -> 157151.7 | F31: 157151.7
C32: Մ-5, Երևան - Արմավիր - ՀՀ սահման միջպետական նշանակության ավտոճանապարհի կմ17+530-կմ18+200, կմ25+593 - կմ29+385 և կմ32+675 - կմ33+833 աջակողմյան և ձախակողմյան հատվածների հիմնանորոգում և Մ-5, Երևան - Արմավիր - ՀՀ սահման ա/ճ-ի կմ 35+457 - կմ 37+054 ջրահեռացման համակարգի վերականգնում | D32: =SUM(E32:G32) -> 97757.1 | F32: 97757.1
C33: Մ-8,Վանաձոր(Մ-6 հատման կետ)-Դիլիջան միջպետական նշանակության ավտոճանապարհի կմ40+000-կմ42+000 հատվածի հիմնանորոգում | D33: =SUM(E33:G33) -> 24271 | F33: 24271
C34: Մ-10, Սևան-Մարտունի-Գետափ միջպետական նշանակության ավտոճանապարհի կմ66+000-կմ79+060 հատվածի հիմնանորոգում | D34: =SUM(E34:G34) -> 157829.4 | F34: 157829.4
B35: 2 | C35: Հանրապետական նշանակության ավտոճանապարհներ, այդ թվում | D35: =SUM(D36:D44) -> 270171.5 | E35: =SUM(E36:E44) -> 0 | F35: =SUM(F36:F44) -> 266354.5 | G35: =SUM(G36:G44) -> 3817
C36: Հ-1, Վ. Պտղնու տրանսպորտային հանգույց - Ջրաբեր-Հրազդան -Հրազդանի քրեակատարողական հիմնարկ հանրապետական նշանակության ավտոճանապարհի կմ33+500 - կմ37+700 հատվածի հիմնանորոգում | D36: =SUM(E36:G36) -> 38671.5 | F36: 38671.5 | H36: =H37+H38+H39+H40+H41+H42+H43+H44+H45+H46+H47 -> 0
C37: Հ85, /Հ-1/ - Հրազդան - /Հ-55/ հանրապետական նշանակության ավտոճանապարհի կմ1+600 - կմ3+300 հատվածների հիմնանորոգում | D37: =SUM(E37:G37) -> 29808.4 | F37: 29808.4
C38: Հ-1, Վ. Պտղնու տրանսպորտային հանգույց - Ջրաբեր-Հրազդան -Հրազդանի քրեակատարողական հիմնարկ հանրապետական նշանակության ավտոճանապարհի կմ21+700 - կմ24+000 հատվածի հիմնանորոգում | D38: =SUM(E38:G38) -> 21145.4 | F38: 21145.4
C39: Հ-3, Երևան (Ջրաշխարհ, Մ-4-ի հետ հատման տեղ)-Գառնի –Գեղարդի վանք հանրապետական նշանակության ավտոճանապարհի կմ33+500-կմ38+100 հատվածի հիմնանորոգում | D39: =SUM(E39:G39) -> 40528.2 | F39: 40528.2
C40: Հ-5, /Հ-6/-Նոր Գեղի-Արգել-Արզական-Հրազդան հանրապետական նշանակության ավտոճանապարհի կմ 25+200 - կմ36+000 հատվածի հիմնանորոգում | D40: =SUM(E40:G40) -> 181.4 | F40: 181.4
C41: Հ-18,/Մ-5/ - Վանանդ - /Մ-9/ հանրապետական նշանակության ավտոճանապարհի կմ0+000- կմ11+100 հատվածի հիմնանորոգում | D41: =SUM(E41:G41) -> 3817 | G41: 3817
C42: Հ-21, /Հ-75/ - Հոռոմ-Արթիկ-Ալագյազ հանրապետական նշանակության ավտոճանապարհի կմ29+600 - կմ32+700 հատվածի հիմնանորոգում | D42: =SUM(E42:G42) -> 26855 | F42: 26855
C43: Հ-26,/Մ-4 /-Ենոքավան–Կարմիր գյուղ (գյուղատեղի)-/Մ-16/ հանրապետական նշանակության ավտոճանապարհի կմ0+000-կմ6+300 հատվածի հիմնանորոգում | D43: =SUM(E43:G43) -> 36347.4 | F43: 36347.4
C44: Հ-55, Հրազդանի տրանսպորտային հանգույց-Ծաղկաձորի մարզահամալիր հանրապետական նշանակության ավտոճանապարհի կմ0+000 - կմ10+500 հատվածի հիմնանորոգում | D44: =SUM(E44:G44) -> 72817.2 | F44: 72817.2
B45: 3 | C45: Մարզային նշանակության ավտոճանապարհներ, այդ թվում | D45: =SUM(D46:D59) -> 508227.7 | E45: =SUM(E46:E59) -> 75573.6 | F45: =SUM(F46:F59) -> 432654.1 | G45: =SUM(G46:G59) -> 0
C46: Տ-1-63,/Հ-81/ (Թաթուլ) – Կանաչ - Հակո ավտոճանապարհի կմ0+000 - կմ12+100 հատվածի հիմնանորոգում | D46: =SUM(E46:G46) -> 69016.1 | F46: 69016.1
C47: Տ-7-53, Հ-21/ (Նոր Կյանք) – Փանիկ - Արևշատ - /Հ-21/ (Մեծ Մանթաշ) ավտոճանապարհի կմ0+000 - կմ12+800 հատվածի հիմնանորոգում | D47: =SUM(E47:G47) -> 93920.3 | F47: 93920.3
C48: /Մ-12/ - Խնձորեսկ - Ներքին Խնձորեսկ ավտոճանապարհի կմ0+000 - կմ10+100 հատվածի հիմնանորոգում | D48: =SUM(E48:G48) -> 360 | F48: 360
C49: Տ-10-34,/Մ-4 /-Լեռնային Հայաստան առողջարան ավտոճանապարհի կմ0+000-կմ2+200 հատվածի հիմնանորոգում | D49: =SUM(E49:G49) -> 13324.1 | F49: 13324.1
C50: Կիրանց գյուղի հատվածում Հ-58 հանրապետական նշանակության ավտոմոբիլային ճանապարհի շրջանցիկ հատվածի կառուցում | D50: =SUM(E50:G50) -> 75573.6 | E50: 75573.6
C51: Տ-3-11, /Հ-15/ (Արմավիր գ.) – Նալբանդյան – Գետաշեն – Նոր Կեսարիա – /Մ-5/ ավտոճանապարհի կմ6+000-կմ10+000 հատվածի հիմնանորոգում | D51: =SUM(E51:G51) -> 29434.9 | F51: 29434.9
C52: Տ-3-16, Արևիկ (Տ-3-50) – /Հ-15/ (գ.Արմավիր) ավտոճանապարհի կմ0+000-կմ3+600 հատվածի հիմնանորոգում | D52: =SUM(E52:G52) -> 21811.5 | F52: 21811.5
C53: Տ-3-52 /Մ-5/ – Ամասիա – Նալբանդյան (Տ-3-11) – Ջանֆիդա – Փշատավան – /Հ-15/ (Արգավանդ) ավտոճանապարհի կմ14+200-կմ18+400 հատվածի հիմնանորոգում | D53: =SUM(E53:G53) -> 30596.9 | F53: 30596.9
C54: Տ-4-78, /Տ-4-40/ - Նորակերտ - /Մ-14/ (Փոքր Մասրիկ) ավտոճանապարհի կմ5+200-կմ7+200 հատվածի հիմնանորոգում | D54: =SUM(E54:G54) -> 17063.5 | F54: 17063.5
C55: Տ-5-24,/Մ-3/ (Ստեփանավան) – Արմանիս – Ուրասար – Կաթնաղբյուր տեղական նշանակության ավտոճանապարհի կմ6+600-կմ 15+200 հատվածի և Կաթնաղբյուր համայնքի 8-րդ և 9-րդ փողոցների հիմնանորոգում | D55: =SUM(E55:G55) -> 58844.7 | F55: 58844.7
C56: ՀՀ Լոռու մարզ Վանաձոր համայնքի Սանկտ - Պետերբուրգի փողոցի հիմնանորոգում | D56: =SUM(E56:G56) -> 27686.1 | F56: 27686.1
C57: Տ-5-69, /Հ-70/ - Ահնիձոր մարզային նշանակության ավտոճանապարհի կմ0+000 - կմ4+000 հատվածի հիմնանորոգում | D57: =SUM(E57:G57) -> 14128.5 | F57: 14128.5
C58: Տ-6-29,Երևան (Բագրևանդի փող.) – Ձորաղբյուր (Տ-6-42) ավտոճանապարհի կմ 0+000-կմ 5+200 հատվածի հիմնանորոգում | D58: =SUM(E58:G58) -> 445.2 | F58: 445.2
C59: Տ-10-30, /Մ-16/ - Աճարկուտ - Կիրանց պատմական հուշարձան ավտոճանապարհի 3,5 կմ երկարությամբ հատվածի վերակառուցում | D59: =SUM(E59:G59) -> 56022.3 | F59: 56022.3
A60: 1049 | B60: 21002 | C60: Տրանսպորտային օբյեկտների հիմնանորոգում | D60: =SUM(D62:D68) -> 39564.7 | E60: =SUM(E62:E68) -> 0 | F60: =SUM(F62:F68) -> 39564.7 | G60: =SUM(G62:G68) -> 0 | H60: =SUM(H62:H68) -> 0
C61: այդ թվում՝
C62: /Մ-4/ - Սևանի թերակղզի հանրապետական նշանակության ավտոճանապարհի կմ1+400 կմ1+500 հատվածում փլուզված հողային պաստառի շեպի վերականգնում | D62: =E62+F62+G62+H62 -> 2360.7 | F62: 2360.7
C63: Տ-2-15,/Տ-2-13/(Գեղանիստ)-Գետափնյա -Ղուկասավան-Դարակերտ (Տ-2-3)մարզային նշանակության ավտոճանապարհի ԿՄ0+400 հատվածում Հրազդան գետի վրա գտնվող կամրջի հիմնանորոգում | D63: =E63+F63+G63+H63 -> 7456.6 | F63: 7456.6
C64: Հ-13,/Մ-3/ (Վաղարշապատ) - Մասիս - /Մ-2/ հանրապետական նշանակության ավտոճանապարհի կմ9+800-ում գտնվող կամուրջի հիմնանորոգում | D64: =E64+F64+G64+H64 -> 4432 | F64: 4432
C65: Հ-22, /Մ-6/-Դսեղ-/Հ-70/ հանրապետական նշանակության ավտոճանապարհի առաջին կիլոմետրում գտնվող կամրջի հիմնանորոգում | D65: =E65+F65+G65+H65 -> 5282.1 | F65: 5282.1
C66: Սանահին կայարանում քանդված կամրջի փոխարեն L=42մ պողպատե ֆերմաներով թռիչքային կառուցվածքով ժամանակավոր կամրջի կառուցման համար անհրաժեշտ նախապատրաստական աշխատանքների իրականացում | D66: =E66+F66+G66+H66 -> 1347.3 | F66: 1347.3
C67: Մ-6 – Ախթալա ա/ճանապարհի վրա Դեբետ գետի հետ հատման հատվածում քանդված կամրջի փոխարեն ժամանակավոր կամրջի կառուցում | D67: =E67+F67+G67+H67 -> 2587.3 | F67: 2587.3
C68: Հ-53, /Մ-4/ - Սեմյոնովկա - /Մ-4/ հանրապետական նշանակության ավտոճանապարհի կմ0+100 հատվածի կամրջի հիմնանորոգում | D68: =E68+F68+G68+H68 -> 16098.7 | F68: 16098.7
A69: 1049 | B69: 21020 | C69: Միջպետական և հանրապետական նշանակության ավտոճանապարհների միջին նորոգում | D69: =D71 -> 65980.7 | E69: =E71 -> 0 | F69: =F71 -> 65980.7 | G69: =G71 -> 0 | H69: =H71 -> 0
C70: այդ թվում՝
B71: 2 | C71: Հանրապետական նշանակության ավտոճանապարհներ, այդ թվում | D71: =SUM(D72:D75) -> 65980.7 | E71: =SUM(E72:E75) -> 0 | F71: =SUM(F72:F75) -> 65980.7 | G71: =G72+G73+G74+G75 -> 0 | H71: =H72+H73+H74+H75 -> 0
C72: Հ-73 /Մ-4/- Պարզ լիճ հանրապետական նշանակության ավտոճանապարհի կմ0+000+կմ2+873 հատվածի միջին նորոգում | D72: =F72 -> 6478.3 | F72: 6478.3
C73: Հ-22 /Մ-6/- Դսեղ - /Հ-70// հանրապետական նշանակության ավտոճանապարհի կմ0+000 - կմ7+540 հատվածի միջին նորոգում | D73: =F73 -> 15000 | F73: 15000
C74: Հ-21 /Հ-75/ -Հոռոմ -Արթիկ -Ալագյազ-/Մ-3/ հանրապետական նշանակության ավտոճանապարհի կմ8+ 777 + կմ19 + 107 հատվածի միջին նորոգում | D74: =F74 -> 28259 | F74: 28259
C75: Հ-30 /Մ-4/ -Ճամբարակ -/Հ-7/ հանրապետական նշանակության ավտոճանապարհիկմ 11+000-կմ 18+540 հատվածի միջին նորոգում | D75: =F75 -> 16243.4 | F75: 16243.4
A76: 1072 | B76: 31013 | C76: Ջրամատակարարման և ջրահեռացման համակարգի կառուցում | D76: =+D78 -> 9273.6 | E76: =+E78 -> 0 | F76: =+F78 -> 0 | G76: =+G78 -> 9273.6 | H76: =+H78 -> 0
C77: այդ թվում՝
C78: ՀՀ Սյունիքի մարզի Բռնակոթ համայնքի այլընտրանքային աղբյուրից ջրատարի կառուցման աշխատանքներ | D78: =SUM(E78:H78) -> 9273.6 | G78: 9273.6
A79: 1079 | B79: 31004 | C79: Պետական գույքի կառավարման կոմիտեի ենթակայության շենքերի պայմանների բարելավում | D79: =+D81 -> 11284.8 | E79: 0 | F79: =+F81 -> 11284.8 | G79: 0 | H79: 0
C80: այդ թվում՝
C81: ք. Երևան, Տիգրան Մեծի 4 հասցեում զբաղեցվող տարածքների հիմնանորոգման աշխատանքներ | D81: 11284.8 | E81: 0 | F81: 11284.8 | G81: 0 | H81: 0
A82: 1157 | B82: 21037 | C82: Երևան քաղաքի նախադպրոցական ուսումնական հաստատությունների կառուցման և հիմնանորոգման աշխատանքներ | D82: =D84 -> 13912.5 | E82: =E84 -> 0 | F82: =F84 -> 13912.5 | G82: 0 | H82: 0
C83: այդ թվում՝
C84: Երևան քաղաքի Շենգավիթ վարչական շրջանի հ.140 մանկապարտեզի հիմնանորոգման և բակի բարեկարգման աշխատանքներ | D84: 13912.5 | E84: 0 | F84: 13912.5 | G84: 0 | H84: 0
A85: 1157 | B85: 21038 | C85: Երևանի բուսաբանական այգու տարածքում անտառապուրակի կառուցապատման աշխատանքներ | D85: =D87 -> 18250.8 | E85: =E87 -> 18250.8 | F85: =F87 -> 0 | G85: =G87 -> 0 | H85: =H87 -> 0
C86: այդ թվում` ըստ կատարողների
C87: ՀՀ տարածքային կառավարման և ենթակառուցվածքների նախարարություն | D87: =E87 -> 18250.8 | E87: 18250.8
A88: 1212 | B88: 12025 | C88: Մարզերում առաջնահերթ լուծում պահանջող հիմնախնդիրների լուծում | D88: =D90+D91+D92 -> 5119.9 | E88: =E90+E91+E92 -> 1161.8 | F88: =F90+F91 -> 3958.1 | G88: 0 | H88: 0
C89: այդ թվում՝
C90: «ՀՀ Արարատի մարզի Արտաշատ քաղաքի մանկապատանեկան համալիր մարզադպրոց» ՀՈԱԿ-ի տրիբունայի կառուցման աշխատանքներ | D90: =F90 -> 2678.1 | E90: 0 | F90: 2678.1 | G90: 0 | H90: 0
C91: «ՀՀ Արարատի մարզի Արտաշատ քաղաքի մանկապատանեկան համալիր մարզադպրոց» ՀՈԱԿ-ի նստատեղերի ձեռք բերման և տեղադրման աշխատանքներ | D91: 1280 | E91: 0 | F91: 1280 | G91: 0 | H91: 0
C92: ՀՀ Արարատի մարզի Արարատ համայնքի Զանգակատուն-Պարույր Սևակ ոռոգման ջրագծի կառուցման աշխատանքներ | D92: 1161.8 | E92: 1161.8 | F92: - | G92: - | H92: -
A93: 1212 | B93: 32001 | C93: Մարզերում առաջնահերթ լուծում պահանջող հիմնախնդիրների լուծում | D93: =D95 -> 29371.5 | E93: =E95 -> 0 | F93: =F95 -> 29371.5 | G93: =G95 -> 0 | H93: =H95 -> 0
C94: այդ թվում՝
C95: ՀՀ Տավուշի մարզի Նոյեմբերյան համայնքի Երկրորդ համաշխարհային պատերազմի զոհերի հիշատակին նվիրված հուշահամալիրի բարեկարգման աշխատանքներ | D95: =F95 -> 29371.5 | E95: 0 | F95: 29371.5 | G95: 0 | H95: 0
C96: ՀՀ առողջապահության նախարարություն | D96: =+D98 -> 160691 | E96: =+E98 -> 153929.9 | F96: =+F98 -> 6761.1 | G96: =+G98 -> 0 | H96: =+H98 -> 0
C97: այդ թվում՛
A98: 1126 | B98: 31003 | C98: Առողջապահական կազմակերպությունների կառուցում, վերակառուցում | D98: 160691 | E98: 153929.9 | F98: 6761.1 | G98: 0 | H98: 0
C99: ՀՀ արդարադատության նախարարություն | D99: =+D101 -> 4880.1 | E99: =+E101 -> 0 | F99: =+F101 -> 4880.1 | G99: =+G101 -> 0 | H99: =+H101 -> 0
C100: այդ թվում՛
A101: 1120 | B101: 31003 | C101: Քրեակատարողական հիմմնարկների շենքային պայմանների բարելավում | D101: 4880.1 | E101: 0 | F101: 4880.1 | G101: 0 | H101: 0
C102: ՀՀ շրջակա միջավայրի նախարարություն | D102: =+D104 -> 298200 | E102: =+E104 -> 0 | F102: =+F104 -> 0 | G102: =+G104 -> 0 | H102: =+H104 -> 298200
...

Sheet N5.
I1: Հավելված N 5
H3: ՀՀ կառավարության 2025 թվականի
H4: ______________ ի ___Ն որոշման
A6: ՀԱՅԱՍՏԱՆԻ ՀԱՆՐԱՊԵՏՈՒԹՅԱՆ ԿԱՌԱՎԱՐՈՒԹՅԱՆ 2024 ԹՎԱԿԱՆԻ ԴԵԿՏԵՄԲԵՐԻ 27-Ի N 2060-Ն ՈՐՈՇՄԱՆ N 3 ՀԱՎԵԼՎԱԾՈՒՄ ԿԱՏԱՐՎՈՂ ՓՈՓՈԽՈՒԹՅՈՒՆՆԵՐԸ ԵՎ ԼՐԱՑՈՒՄՆԵՐԸ
H8: հազար դրամներով
A9: Գործառական դասիչը | D9: Ծրագրային դասիչը | F9: Բյուջետային ծախսերի գործառական դասակարգման բաժինների, խմբերի և դասերի, բյուջետային ծրագրերի միջոցառումների, բյուջետային հատկացումների գլխավոր կարգադրիչների անվանումները | G9: Ցուցանիշների փոփոխությունը (ավելացումները նշված են դրական նշանով)
A10: Բաժին | B10: Խումբ | C10: Դաս | D10: Ծրագիր | E10: Միջոցա ռում | G10: Առաջին կիսամյակ | H10: Ինն ամիս | I10: Տարի
F11: ԸՆԴԱՄԵՆԸ ԾԱԽՍԵՐ | G11: 3574865.8 | H11: 3868712.7 | I11: 4312582.9
F12: այդ թվում`
A13: 01 | F13: ԸՆԴՀԱՆՈՒՐ ԲՆՈՒՅԹԻ ՀԱՆՐԱՅԻՆ ԾԱՌԱՅՈՒԹՅՈՒՆՆԵՐ | G13: 1316012 | H13: 1558626.6 | I13: 1922548.4
F14: այդ թվում`
B15: 01 | F15: Օրենսդիր և գործադիր մարմիններ, պետական կառավարում, ֆինանսական և հարկաբյուջետային հարաբերություններ, արտաքին հարաբերություններ | G15: 46988.9 | H15: 289603.5 | I15: 653525.3
F16: այդ թվում`
C17: 01 | F17: Օրենսդիր և գործադիր մարմիններ, պետական կառավարում | G17: 46988.9 | H17: 46988.9 | I17: 46988.9
F18: այդ թվում`
D19: 1001 | E19: 31001 | F19: ՀՀ տարածքային կառավարման և ենթակառուցվածքների նախարարության կարողությունների զարգացում և տեխնիկական հագեցվածության ապահովում | G19: 1304.1 | H19: 1304.1 | I19: 1304.1
F20: ՀՀ տարածքային կառավարման և ենթակառուցվածքների նախարարություն | G20: 1304.1 | H20: 1304.1 | I20: 1304.1
D21: 1079 | E21: 31004 | F21: Պետական գույքի կառավարման կոմիտեի ենթակայության շենքերի պայմանների բարելավում | G21: 11284.8 | H21: 11284.8 | I21: 11284.8
F22: ՀՀ տարածքային կառավարման և ենթակառուցվածքների նախարարություն | G22: 11284.8 | H22: 11284.8 | I22: 11284.8
D23: 1136 | E23: 31009 | F23: Պետական սեփականություն հանդիսացող կառավարական շենքերի վերակառուցում, հիմնանորոգում | G23: 34400 | H23: 34400 | I23: 34400
F24: ՀՀ վարչապետի աշխատակազմ | G24: 34400 | H24: 34400 | I24: 34400
C25: 02 | F25: Ֆինանսական և հարկաբյուջետային հարաբերություններ | G25: 0 | H25: 242614.6 | I25: 606536.4
F26: այդ թվում`
D27: 1023 | E27: 31003 | F27: ՀՀ պետական եկամուտների կոմիտեի շենքային ապահովվածության բարելավում | G27: 0 | H27: 242614.6 | I27: 606536.4
F28: ՀՀ պետական եկամուտների կոմիտե | G28: 0 | H28: 242614.6 | I28: 606536.4
B29: 03 | F29: Ընդհանուր բնույթի ծառայություններ | G29: 287249 | H29: 287249 | I29: 287249
F30: այդ թվում`
C31: 02 | F31: Ծրագրման և վիճակագրական ընդհանուր ծառայություններ | G31: 287249 | H31: 287249 | I31: 287249
F32: այդ թվում`
D33: 1235 | E33: 31001 | F33: Միասնական թվային միջավայրի ձևավորում | G33: 287249 | H33: 287249 | I33: 287249
F34: ՀՀ բարձր տեխնոլոգիական արդյունաբերության նախարարություն | G34: 287249 | H34: 287249 | I34: 287249
B35: 06 | F35: Ընդհանուր բնույթի հանրային ծառայություններ (այլ դասերին չպատկանող) | G35: 947282.7 | H35: 947282.7 | I35: 947282.7
F36: այդ թվում`
C37: 01 | F37: Ընդհանուր բնույթի հանրային ծառայություններ (այլ դասերին չպատկանող) | G37: 947282.7 | H37: 947282.7 | I37: 947282.7
F38: այդ թվում`
D39: 1043 | E39: 21001 | F39: Ինժեներական բիզնես աքսելերատորի շենքի կառուցման և կահավորման շարունակականության ապահովում | G39: 947282.7 | H39: 947282.7 | I39: 947282.7
F40: ՀՀ բարձր տեխնոլոգիական արդյունաբերության նախարարություն | G40: 947282.7 | H40: 947282.7 | I40: 947282.7
B41: 08 | F41: Կառավարության տարբեր մակարդակների միջև իրականացվող ընդհանուր բնույթի տրանսֆերտներ | G41: 34491.4 | H41: 34491.4 | I41: 34491.4
F42: այդ թվում`
C43: 01 | F43: Կառավարության տարբեր մակարդակների միջև իրականացվող ընդհանուր բնույթի տրանսֆերտներ | G43: 34491.4 | H43: 34491.4 | I43: 34491.4
F44: այդ թվում`
D45: 1212 | E45: 12025 | F45: Մարզերում առաջնահերթ լուծում պահանջող հիմնախնդիրների լուծում | G45: 5119.9 | H45: 5119.9 | I45: 5119.9
F46: ՀՀ տարածքային կառավարման և ենթակառուցվածքների նախարարություն | G46: 5119.9 | H46: 5119.9 | I46: 5119.9
D47: 1212 | E47: 32001 | F47: ՀՀ մարզերում առաջնահերթ լուծում պահանջող անհետաձգելի ծրագրերի իրականացում | G47: 29371.5 | H47: 29371.5 | I47: 29371.5
F48: ՀՀ տարածքային կառավարման և ենթակառուցվածքների նախարարություն | G48: 29371.5 | H48: 29371.5 | I48: 29371.5
A49: 03 | F49: ՀԱՍԱՐԱԿԱԿԱՆ ԿԱՐԳ, ԱՆՎՏԱՆԳՈՒԹՅՈՒՆ ԵՎ ԴԱՏԱԿԱՆ ԳՈՐԾՈՒՆԵՈՒԹՅՈՒՆ | G49: 104402.5 | H49: 155634.8 | I49: 235583.2
F50: այդ թվում`
B51: 01 | F51: Հասարակական կարգ և անվտանգություն | G51: 61122.4 | H51: 112354.7 | I51: 192303.1
F52: այդ թվում`
C53: 02 | F53: Ազգային անվտանգություն | G53: 61122.4 | H53: 112354.7 | I53: 192303.1
F54: այդ թվում`
D55: 1138 | E55: 31002 | F55: Ազգային անվտանգության համակարգի շենքային ապահովվածության բարելավում | G55: 61122.4 | H55: 112354.7 | I55: 192303.1
F56: ՀՀ ազգային անվտանգության ծառայություն | G56: 61122.4 | H56: 112354.7 | I56: 192303.1
B57: 03 | F57: Դատական գործունեություն և իրավական պաշտպանություն | G57: 38400 | H57: 38400 | I57: 38400
F58: այդ թվում`
C59: 01 | F59: Դատարաններ | G59: 38400 | H59: 38400 | I59: 38400
F60: այդ թվում`
D61: 1080 | E61: 31001 | F61: Բարձրագույն դատական խորհրդի տեխնիկական հագեցվածության բարելավում | G61: 38400 | H61: 38400 | I61: 38400
F62: Բարձրագույն դատական խորհուրդ | G62: 38400 | H62: 38400 | I62: 38400
B63: 05 | F63: Կալանավայրեր | G63: 4880.1 | H63: 4880.1 | I63: 4880.1
F64: այդ թվում`
C65: 01 | F65: Կալանավայրեր | G65: 4880.1 | H65: 4880.1 | I65: 4880.1
F66: այդ թվում`
D67: 1120 | E67: 31003 | F67: Քրեակատարողական հիմմնարկների շենքային պայմանների բարելավում | G67: 4880.1 | H67: 4880.1 | I67: 4880.1
F68: ՀՀ արդարադատության նախարարություն | G68: 4880.1 | H68: 4880.1 | I68: 4880.1
A69: 04 | F69: ՏՆՏԵՍԱԿԱՆ ՀԱՐԱԲԵՐՈՒԹՅՈՒՆՆԵՐ | G69: 1401010.1 | H69: 1401010.1 | I69: 1401010.1
F70: այդ թվում`
B71: 02 | F71: Գյուղատնտեսություն, անտառային տնտեսություն, ձկնորսություն և որսորդություն | G71: 15521.2 | H71: 15521.2 | I71: 15521.2
F72: այդ թվում`
C73: 04 | F73: Ոռոգում | G73: 15521.2 | H73: 15521.2 | I73: 15521.2
F74: այդ թվում`
D75: 1004 | E75: 31002 | F75: Ոռոգման համակարգերի հիմնանորոգում | G75: 15521.2 | H75: 15521.2 | I75: 15521.2
F76: ՀՀ տարածքային կառավարման և ենթակառուցվածքների նախարարություն | G76: 15521.2 | H76: 15521.2 | I76: 15521.2
B77: 05 | F77: Տրանսպորտ | G77: 1385488.9 | H77: 1385488.9 | I77: 1385488.9
F78: այդ թվում`
C79: 01 | F79: Ճանապարհային տրանսպորտ | G79: 1385488.9 | H79: 1385488.9 | I79: 1385488.9
F80: այդ թվում`
D81: 1049 | E81: 21001 | F81: Պետական նշանակության ավտոճանապարհների հիմնանորոգում | G81: 1279943.5 | H81: 1279943.5 | I81: 1279943.5
F82: ՀՀ տարածքային կառավարման և ենթակառուցվածքների նախարարություն | G82: 1279943.5 | H82: 1279943.5 | I82: 1279943.5
D83: 1049 | E83: 21002 | F83: Տրանսպորտային օբյեկտների հիմնանորոգում | G83: 39564.7 | H83: 39564.7 | I83: 39564.7
F84: ՀՀ տարածքային կառավարման և ենթակառուցվածքների նախարարություն | G84: 39564.7 | H84: 39564.7 | I84: 39564.7
D85: 1049 | E85: 21020 | F85: Միջպետական և հանրապետական նշանակության ավտոճանապարհների միջին նորոգում | G85: 65980.7 | H85: 65980.7 | I85: 65980.7
F86: ՀՀ տարածքային կառավարման և ենթակառուցվածքների նախարարություն | G86: 65980.7 | H86: 65980.7 | I86: 65980.7
A87: 05 | F87: ՇՐՋԱԿԱ ՄԻՋԱՎԱՅՐԻ ՊԱՇՏՊԱՆՈՒԹՅՈՒՆ | G87: 298200 | H87: 298200 | I87: 298200
F88: այդ թվում`
B89: 06 | F89: Շրջակա միջավայրի պաշտպանություն (այլ դասերին չպատկանող) | G89: 298200 | H89: 298200 | I89: 298200
F90: այդ թվում`
C91: 01 | F91: Շրջակա միջավայրի պաշտպանություն (այլ դասերին չպատկանող) | G91: 298200 | H91: 298200 | I91: 298200
F92: այդ թվում`
D93: 1016 | E93: 32003 | F93: «Հիդրոօդերևութաբանության և մոնիթորինգի կենտրոն» ՊՈԱԿ-ի տեխնիկական միջոցների արդիականացում և նոր սարքավորումների ձեռք բերում | G93: 298200 | H93: 298200 | I93: 298200
F94: ՀՀ շրջակա միջավայրի նախարարություն | G94: 298200 | H94: 298200 | I94: 298200
A95: 06 | F95: ԲՆԱԿԱՐԱՆԱՅԻՆ ՇԻՆԱՐԱՐՈՒԹՅՈՒՆ ԵՎ ԿՈՄՈՒՆԱԼ ԾԱՌԱՅՈՒԹՅՈՒՆՆԵՐ | G95: 173142.6 | H95: 173142.6 | I95: 173142.6
F96: այդ թվում`
B97: 01 | F97: Բնակարանային շինարարություն | G97: 163869 | H97: 163869 | I97: 163869
F98: այդ թվում`
C99: 01 | F99: Բնակարանային շինարարություն | G99: 163869 | H99: 163869 | I99: 163869
F100: այդ թվում`
D101: 1098 | E101: 21001 | F101: Բնակարանային շինարարություն | G101: 163869 | H101: 163869 | I101: 163869
F102: ՀՀ աշխատանքի և սոցիալական հարցերի նախարարություն | G102: 163869 | H102: 163869 | I102: 163869
B103: 03 | F103: Ջրամատակարարում | G103: 9273.6 | H103: 9273.6 | I103: 9273.6
...

Sheet N6.
F1: Հավելված N 6
E3: ՀՀ կառավարության 2025 թվականի
E4: ______________ ի ___Ն որոշման
A6: ՀԱՅԱՍՏԱՆԻ ՀԱՆՐԱՊԵՏՈՒԹՅԱՆ ԿԱՌԱՎԱՐՈՒԹՅԱՆ 2024 ԹՎԱԿԱՆԻ ԴԵԿՏԵՄԲԵՐԻ 27-Ի N 2060-Ն ՈՐՈՇՄԱՆ NN 4 ՀԱՎԵԼՎԱԾՈՒՄ ԿԱՏԱՐՎՈՂ ՓՈՓՈԽՈՒԹՅՈՒՆՆԵՐԸ ԵՎ ԼՐԱՑՈՒՄՆԵՐԸ
E7: հազար դրամներով
A8: Ծրագրային դասիչը | C8: Բյուջետային հատկացումների գլխավոր կարգադրիչների, ծրագրերի, միջոցառումների և միջոցառումները կատարող պետական մարմինների անվանումները | D8: Ցուցանիշների փոփոխությունը (ավելացումները նշված են դրական նշանով)
A9: Ծրագիր | B9: Միջոց առում | D9: Առաջին կիսամյակ | E9: Ինն ամիս | F9: Տարի
C10: ԸՆԴԱՄԵՆԸ | D10: 3574865.8 | E10: 3868712.7 | F10: 4312582.9
C11: այդ թվում`
C12: ՀՀ վարչապետի աշխատակազմ | D12: 34400 | E12: 34400 | F12: 34400
C13: այդ թվում`
A14: 1136 | C14: ՀՀ Վարչապետի լիազորությունների իրականացման ապահովում | D14: 34400 | E14: 34400 | F14: 34400
C15: այդ թվում`
B16: 31009 | C16: Պետական սեփականություն հանդիսացող կառավարական շենքերի վերակառուցում, հիմնանորոգում | D16: 34400 | E16: 34400 | F16: 34400
C17: այդ թվում` ըստ կատարողների
C18: ՀՀ քաղաքաշինության կոմիտե | D18: 34400 | E18: 34400 | F18: 34400
C19: այդ թվում` բյուջետային ծախսերի տնտեսագիտական դասակարգման հոդվածներ
C20: ԸՆԴԱՄԵՆԸ ԾԱԽՍԵՐ | D20: 34400 | E20: 34400 | F20: 34400
C21: ՈՉ ՖԻՆԱՆՍԱԿԱՆ ԱԿՏԻՎՆԵՐԻ ԳԾՈՎ ԾԱԽՍԵՐ | D21: 34400 | E21: 34400 | F21: 34400
C22: ՀԻՄՆԱԿԱՆ ՄԻՋՈՑՆԵՐ | D22: 34400 | E22: 34400 | F22: 34400
C23: ԱՅԼ ՀԻՄՆԱԿԱՆ ՄԻՋՈՑՆԵՐ | D23: 34400 | E23: 34400 | F23: 34400
C24: - Նախագծահետազոտական ծախսեր | D24: 34400 | E24: 34400 | F24: 34400
C25: Բարձրագույն դատական խորհուրդ | D25: 38400 | E25: 38400 | F25: 38400
C26: այդ թվում`
A27: 1080 | C27: Դատական իշխանության գործունեության ապահովում և իրականացում | D27: 38400 | E27: 38400 | F27: 38400
C28: այդ թվում`
B29: 31001 | C29: Բարձրագույն դատական խորհրդի տեխնիկական հագեցվածության բարելավում | D29: 38400 | E29: 38400 | F29: 38400
C30: այդ թվում` ըստ կատարողների
C31: ՀՀ դատական դեպարտամենտ | D31: 38400 | E31: 38400 | F31: 38400
C32: այդ թվում` բյուջետային ծախսերի տնտեսագիտական դասակարգման հոդվածներ
C33: ԸՆԴԱՄԵՆԸ ԾԱԽՍԵՐ | D33: 38400 | E33: 38400 | F33: 38400
C34: ՈՉ ՖԻՆԱՆՍԱԿԱՆ ԱԿՏԻՎՆԵՐԻ ԳԾՈՎ ԾԱԽՍԵՐ | D34: 38400 | E34: 38400 | F34: 38400
C35: ՀԻՄՆԱԿԱՆ ՄԻՋՈՑՆԵՐ | D35: 38400 | E35: 38400 | F35: 38400
C36: ՄԵՔԵՆԱՆԵՐ ԵՎ ՍԱՐՔԱՎՈՐՈՒՄՆԵՐ | D36: 38400 | E36: 38400 | F36: 38400
C37: - Վարչական սարքավորումներ | D37: 38400 | E37: 38400 | F37: 38400
C38: ՀՀ տարածքային կառավարման և ենթակառուցվածքների նախարարություն | D38: 1489527.3 | E38: 1489527.3 | F38: 1489527.3
C39: այդ թվում`
A40: 1001 | C40: Տարածքային կառավարման ոլորտում քաղաքականության մշակում, ծրագրերի համակարգում և մոնիտորինգի իրականացում | D40: 1304.1 | E40: 1304.1 | F40: 1304.1
C41: այդ թվում`
B42: 31001 | C42: ՀՀ տարածքային կառավարման և ենթակառուցվածքների նախարարության կարողությունների զարգացում և տեխնիկական հագեցվածության ապահովում | D42: 1304.1 | E42: 1304.1 | F42: 1304.1
C43: այդ թվում` ըստ կատարողների
C44: ՀՀ տարածքային կառավարման և ենթակառուցվածքների նախարարություն | D44: 1304.1 | E44: 1304.1 | F44: 1304.1
C45: այդ թվում` բյուջետային ծախսերի տնտեսագիտական դասակարգման հոդվածներ
C46: ԸՆԴԱՄԵՆԸ ԾԱԽՍԵՐ | D46: 1304.1 | E46: 1304.1 | F46: 1304.1
C47: ՈՉ ՖԻՆԱՆՍԱԿԱՆ ԱԿՏԻՎՆԵՐԻ ԳԾՈՎ ԾԱԽՍԵՐ | D47: 1304.1 | E47: 1304.1 | F47: 1304.1
C48: ՀԻՄՆԱԿԱՆ ՄԻՋՈՑՆԵՐ | D48: 1304.1 | E48: 1304.1 | F48: 1304.1
C49: ՄԵՔԵՆԱՆԵՐ ԵՎ ՍԱՐՔԱՎՈՐՈՒՄՆԵՐ | D49: 1304.1 | E49: 1304.1 | F49: 1304.1
C50: - Վարչական սարքավորումներ | D50: 1304.1 | E50: 1304.1 | F50: 1304.1
A51: 1004 | C51: Ոռոգման համակարգի առողջացում | D51: 15521.2 | E51: 15521.2 | F51: 15521.2
C52: այդ թվում`
B53: 31002 | C53: Ոռոգման համակարգերի հիմնանորոգում | D53: 15521.2 | E53: 15521.2 | F53: 15521.2
C54: այդ թվում` ըստ կատարողների
C55: ՀՀ տարածքային կառավարման և ենթակառուցվածքների նախարարության ջրային կոմիտե | D55: 15521.2 | E55: 15521.2 | F55: 15521.2
C56: այդ թվում` բյուջետային ծախսերի տնտեսագիտական դասակարգման հոդվածներ
C57: ԸՆԴԱՄԵՆԸ ԾԱԽՍԵՐ | D57: 15521.2 | E57: 15521.2 | F57: 15521.2
C58: ՈՉ ՖԻՆԱՆՍԱԿԱՆ ԱԿՏԻՎՆԵՐԻ ԳԾՈՎ ԾԱԽՍԵՐ | D58: 15521.2 | E58: 15521.2 | F58: 15521.2
C59: ՀԻՄՆԱԿԱՆ ՄԻՋՈՑՆԵՐ | D59: 15521.2 | E59: 15521.2 | F59: 15521.2
C60: ՇԵՆՔԵՐ ԵՎ ՇԻՆՈՒԹՅՈՒՆՆԵՐ | D60: 15521.2 | E60: 15521.2 | F60: 15521.2
C61: - Շենքերի և շինությունների կապիտալ վերանորոգում | D61: 15521.2 | E61: 15521.2 | F61: 15521.2
A62: 1049 | C62: Ճանապարհային ցանցի բարելավում | D62: 1385488.9 | E62: 1385488.9 | F62: 1385488.9
C63: այդ թվում`
B64: 21001 | C64: Պետական նշանակության ավտոճանապարհների հիմնանորոգում | D64: 1279943.5 | E64: 1279943.5 | F64: 1279943.5
C65: այդ թվում` ըստ կատարողների
C66: ՀՀ տարածքային կառավարման և ենթակառուցվածքների նախարարություն | D66: 1279943.5 | E66: 1279943.5 | F66: 1279943.5
C67: այդ թվում` բյուջետային ծախսերի տնտեսագիտական դասակարգման հոդվածներ
C68: ԸՆԴԱՄԵՆԸ ԾԱԽՍԵՐ | D68: 1279943.5 | E68: 1279943.5 | F68: 1279943.5
C69: ՈՉ ՖԻՆԱՆՍԱԿԱՆ ԱԿՏԻՎՆԵՐԻ ԳԾՈՎ ԾԱԽՍԵՐ | D69: 1279943.5 | E69: 1279943.5 | F69: 1279943.5
C70: ՀԻՄՆԱԿԱՆ ՄԻՋՈՑՆԵՐ | D70: 1279943.5 | E70: 1279943.5 | F70: 1279943.5
C71: ՇԵՆՔԵՐ ԵՎ ՇԻՆՈՒԹՅՈՒՆՆԵՐ | D71: 1276126.5 | E71: 1276126.5 | F71: 1276126.5
C72: - Շենքերի և շինությունների շինարարություն | D72: 75573.6 | E72: 75573.6 | F72: 75573.6
C73: - Շենքերի և շինությունների կապիտալ վերանորոգում | D73: 1200552.9 | E73: 1200552.9 | F73: 1200552.9
C74: ԱՅԼ ՀԻՄՆԱԿԱՆ ՄԻՋՈՑՆԵՐ | D74: 3817 | E74: 3817 | F74: 3817
C75: - Նախագծահետազոտական ծախսեր | D75: 3817 | E75: 3817 | F75: 3817
B76: 21002 | C76: Տրանսպորտային օբյեկտների հիմնանորոգում | D76: 39564.7 | E76: 39564.7 | F76: 39564.7
C77: այդ թվում` ըստ կատարողների
C78: ՀՀ տարածքային կառավարման և ենթակառուցվածքների նախարարություն | D78: 39564.7 | E78: 39564.7 | F78: 39564.7
C79: այդ թվում` բյուջետային ծախսերի տնտեսագիտական դասակարգման հոդվածներ
C80: ԸՆԴԱՄԵՆԸ ԾԱԽՍԵՐ | D80: 39564.7 | E80: 39564.7 | F80: 39564.7
C81: ՈՉ ՖԻՆԱՆՍԱԿԱՆ ԱԿՏԻՎՆԵՐԻ ԳԾՈՎ ԾԱԽՍԵՐ | D81: 39564.7 | E81: 39564.7 | F81: 39564.7
C82: ՀԻՄՆԱԿԱՆ ՄԻՋՈՑՆԵՐ | D82: 39564.7 | E82: 39564.7 | F82: 39564.7
C83: ՇԵՆՔԵՐ ԵՎ ՇԻՆՈՒԹՅՈՒՆՆԵՐ | D83: 39564.7 | E83: 39564.7 | F83: 39564.7
C84: - Շենքերի և շինությունների կապիտալ վերանորոգում | D84: 39564.7 | E84: 39564.7 | F84: 39564.7
B85: 21020 | C85: Միջպետական և հանրապետական նշանակության ավտոճանապարհների միջին նորոգում | D85: 65980.7 | E85: 65980.7 | F85: 65980.7
C86: այդ թվում` ըստ կատարողների
C87: ՀՀ տարածքային կառավարման և ենթակառուցվածքների նախարարություն | D87: 65980.7 | E87: 65980.7 | F87: 65980.7
C88: այդ թվում` բյուջետային ծախսերի տնտեսագիտական դասակարգման հոդվածներ
C89: ԸՆԴԱՄԵՆԸ ԾԱԽՍԵՐ | D89: 65980.7 | E89: 65980.7 | F89: 65980.7
C90: ՈՉ ՖԻՆԱՆՍԱԿԱՆ ԱԿՏԻՎՆԵՐԻ ԳԾՈՎ ԾԱԽՍԵՐ | D90: 65980.7 | E90: 65980.7 | F90: 65980.7
C91: ՀԻՄՆԱԿԱՆ ՄԻՋՈՑՆԵՐ | D91: 65980.7 | E91: 65980.7 | F91: 65980.7
C92: ՇԵՆՔԵՐ ԵՎ ՇԻՆՈՒԹՅՈՒՆՆԵՐ | D92: 65980.7 | E92: 65980.7 | F92: 65980.7
C93: - Շենքերի և շինությունների կապիտալ վերանորոգում | D93: 65980.7 | E93: 65980.7 | F93: 65980.7
A94: 1072 | C94: Ջրամատակարարաման և ջրահեռացման բարելավում | D94: 9273.6 | E94: 9273.6 | F94: 9273.6
C95: այդ թվում`
B96: 31013 | C96: Ջրամատակարարման և ջրահեռացման համակարգի կառուցում | D96: 9273.6 | E96: 9273.6 | F96: 9273.6
C97: այդ թվում` ըստ կատարողների
C98: ՀՀ տարածքային կառավարման և ենթակառուցվածքների նախարարության ջրային կոմիտե | D98: 9273.6 | E98: 9273.6 | F98: 9273.6
C99: այդ թվում` բյուջետային ծախսերի տնտեսագիտական դասակարգման հոդվածներ
C100: ԸՆԴԱՄԵՆԸ ԾԱԽՍԵՐ | D100: 9273.6 | E100: 9273.6 | F100: 9273.6
C101: ՈՉ ՖԻՆԱՆՍԱԿԱՆ ԱԿՏԻՎՆԵՐԻ ԳԾՈՎ ԾԱԽՍԵՐ | D101: 9273.6 | E101: 9273.6 | F101: 9273.6
C102: ՀԻՄՆԱԿԱՆ ՄԻՋՈՑՆԵՐ | D102: 9273.6 | E102: 9273.6 | F102: 9273.6
...

Sheet N7.
A1: Հավելված N 7
F3: ՀՀ կառավարության 2025 թվականի
F4: ______________ ի ___Ն որոշման
A6: ՀԱՅԱՍՏԱՆԻ ՀԱՆՐԱՊԵՏՈՒԹՅԱՆ ԿԱՌԱՎԱՐՈՒԹՅԱՆ 2024 ԹՎԱԿԱՆԻ ԴԵԿՏԵՄԲԵՐԻ 27-Ի N2060-Ն ՈՐՈՇՄԱՆ N 5 ՀԱՎԵԼՎԱԾԻ N 2 ԱՂՅՈՒՍԱԿՈՒՄ ԿԱՏԱՐՎՈՂ ՓՈՓՈԽՈՒԹՅՈՒՆՆԵՐԸ ԵՎ ԼՐԱՑՈՒՄՆԵՐԸ
A8: հազար դրամներով
A9: Ծրագրային դասիչ | C9: Բյուջետային գլխավոր կարգադրիչների, ծրագրերի, միջոցառումների և ուղղությունների անվանումները | D9: Ցուցանիշների փոփոխությունը (ավելացումները նշված են դրական նշանով)
A10: Ծրագիր | B10: Միջոց առում | D10: Առաջին եռամսյակ | E10: Առաջին կիսամյակ | F10: Ինն ամիս | G10: Տարի
C11: ԸՆԴԱՄԵՆԸ | D11: =+D13+D18+D23+D122+D135+D142+D147+D180+D193+D201+D208 -> #REF! | E11: =+E13+E18+E23+E122+E135+E142+E147+E180+E193+E201+E208 -> 3574865.8 | F11: =+F13+F18+F23+F122+F135+F142+F147+F180+F193+F201+F208 -> 3868712.7 | G11: =+G13+G18+G23+G122+G135+G142+G147+G180+G193+G201+G208 -> 4312582.9
C12: այդ թվում`
C13: ՀՀ վարչապետի աշխատակազմ | D13: 34400 | E13: 34400 | F13: 34400 | G13: 34400
C14: այդ թվում՛
A15: 1136 | B15: 31009 | C15: Պետական սեփականություն հանդիսացող կառավարական շենքերի վերակառուցում, հիմնանորոգում | D15: 34400 | E15: 34400 | F15: 34400 | G15: 34400
C16: այդ թվում` ըստ կատարողների
C17: ՀՀ քաղաքաշինության կոմիտե | D17: 34400 | E17: 34400 | F17: 34400 | G17: 34400
C18: Բարձրագույն դատական խորհուրդ | D18: 38400 | E18: 38400 | F18: 38400 | G18: 38400
C19: այդ թվում՛
A20: 1080 | B20: 31001 | C20: Բարձրագույն դատական խորհրդի տեխնիկական հագեցվածության բարելավում | D20: 38400 | E20: 38400 | F20: 38400 | G20: 38400
C21: այդ թվում` ըստ կատարողների
C22: ՀՀ դատական դեպարտամենտ | D22: 38400 | E22: 38400 | F22: 38400 | G22: 38400
C23: ՀՀ տարածքային կառավարման և ենթակառուցվածքների նախարարություն | D23: =D25+D28+D34+D72+D83+D92+D97+D102+D107+D110+D117 -> 1489527.3 | E23: =E25+E28+E34+E72+E83+E92+E97+E102+E107+E110+E117 -> 1489527.3 | F23: =F25+F28+F34+F72+F83+F92+F97+F102+F107+F110+F117 -> 1489527.3 | G23: =G25+G28+G34+G72+G83+G92+G97+G102+G107+G110+G117 -> 1489527.3
C24: այդ թվում՛
A25: 1001 | B25: 31001 | C25: ՀՀ տարածքային կառավարման և ենթակառուցվածքների նախարարության կարողությունների զարգացում և տեխնիկական հագեցվածության ապահովում | D25: =+D27 -> 1304.1 | E25: =+E27 -> 1304.1 | F25: =+F27 -> 1304.1 | G25: =+G27 -> 1304.1
C26: այդ թվում` ըստ կատարողների
C27: ՀՀ տարածքային կառավարման և ենթակառուցվածքների նախարարություն | D27: 1304.1 | E27: 1304.1 | F27: 1304.1 | G27: 1304.1
A28: 1004 | B28: 31002 | C28: Ոռոգման համակարգերի հիմնանորոգում | D28: 15521.2 | E28: 15521.2 | F28: 15521.2 | G28: 15521.2
C29: այդ թվում` ըստ կատարողների
C30: ՀՀ տարածքային կառավարման և ենթակառուցվածքների նախարարության ջրային կոմիտե | D30: =SUM(D32:D33) -> 15521.2 | E30: =SUM(E32:E33) -> 15521.2 | F30: =SUM(F32:F33) -> 15521.2 | G30: =SUM(G32:G33) -> 15521.2
C31: այդ թվում՝ ըստ ուղղությունների
C32: Թալին 1 պոմպակայանի վերականգնման աշխատանքներ | D32: 7727.6 | E32: 7727.6 | F32: 7727.6 | G32: 7727.6
C33: «Տավուշ» ՋՕԸ-ի կողմից Զեյթուն N 1 պոմպակայանի կարճ գծի հեռացնող ջրանցքի վերակառուցում | D33: 7793.6 | E33: 7793.6 | F33: 7793.6 | G33: 7793.6
A34: 1049 | B34: 21001 | C34: Պետական նշանակության ավտոճանապարհների հիմնանորոգում | D34: =D36 -> 1279943.5 | E34: =E36 -> 1279943.5 | F34: =F36 -> 1279943.5 | G34: =G36 -> 1279943.5
C35: այդ թվում` ըստ կատարողների
C36: ՀՀ տարածքային կառավարման և ենթակառուցվածքների նախարարություն | D36: =D38+D47+D57 -> 1279943.5 | E36: =E38+E47+E57 -> 1279943.5 | F36: =F38+F47+F57 -> 1279943.5 | G36: =G38+G47+G57 -> 1279943.5
C37: այդ թվում՝ ըստ ուղղությունների
B38: 1 | C38: Միջպետական նշանակության ավտոճանապարհներ, այդ թվում | D38: =SUM(D39:D46) -> 501544.3 | E38: =SUM(E39:E46) -> 501544.3 | F38: =SUM(F39:F46) -> 501544.3 | G38: =SUM(G39:G46) -> 501544.3
C39: Մ-2, Երևան-Երասխ-Գորիս-Մեղրի-ՀՀ սահման միջպետական նշանակության ավտոճանապարհի կմ182+532 - կմ190+000 հատվածի հիմնանորոգում | D39: 61053.1 | E39: 61053.1 | F39: 61053.1 | G39: 61053.1
C40: Մ-2, (Սյունիք) /Մ-2/ - Աղվանի- Տաթև - /Մ-2/ միջպետական նշանակության ավտոճանապարհի Վերին Խոտանանը շրջանցող ճանապարհահատվածի կառուցում (II փուլ) | D40: 1000 | E40: 1000 | F40: 1000 | G40: 1000
C41: Մ-2, Երևան-Երասխ-Գորիս-Մեղրի-ՀՀ սահման միջպետական նշանակության ավտոճանապարհի կմ297+800-կմ311+250 հատվածի հիմնանորոգում (1-ին տեղամաս՝ կմ297+800-կմ301+820 հատված) | D41: 931 | E41: 931 | F41: 931 | G41: 931
C42: Մ-2, Երևան-Երասխ-Գորիս-Մեղրի-ՀՀ սահման միջպետական նշանակության ավտոճանապարհի կմ297+800-կմ311+250 հատվածի հիմնանորոգում (2-րդ տեղամաս՝ կմ301+820 - կմ311+250 հատված) | D42: 1551 | E42: 1551 | F42: 1551 | G42: 1551
C43: Մ-3,ՀՀ սահման-Մարգարա-Վանաձոր-Տաշիր-ՀՀ սահման միջպետական նշանակության ավտոճանապարհի կմ116+790 (կմ116+900) - կմ128+718 (կմ127+900) հատվածի հիմնանորոգում | D43: 157151.7 | E43: 157151.7 | F43: 157151.7 | G43: 157151.7
C44: Մ-5, Երևան - Արմավիր - ՀՀ սահման միջպետական նշանակության ավտոճանապարհի կմ17+530-կմ18+200, կմ25+593 - կմ29+385 և կմ32+675 - կմ33+833 աջակողմյան և ձախակողմյան հատվածների հիմնանորոգում և Մ-5, Երևան - Արմավիր - ՀՀ սահման ա/ճ-ի կմ 35+457 - կմ 37+054 ջրահեռացման համակարգի վերականգնում | D44: 97757.1 | E44: 97757.1 | F44: 97757.1 | G44: 97757.1
C45: Մ-8,Վանաձոր(Մ-6 հատման կետ)-Դիլիջան միջպետական նշանակության ավտոճանապարհի կմ40+000-կմ42+000 հատվածի հիմնանորոգում | D45: 24271 | E45: 24271 | F45: 24271 | G45: 24271
C46: Մ-10, Սևան-Մարտունի-Գետափ միջպետական նշանակության ավտոճանապարհի կմ66+000-կմ79+060 հատվածի հիմնանորոգում | D46: 157829.4 | E46: 157829.4 | F46: 157829.4 | G46: 157829.4
B47: 2 | C47: Հանրապետական նշանակության ավտոճանապարհներ, այդ թվում | D47: =SUM(D48:D56) -> 270171.5 | E47: =SUM(E48:E56) -> 270171.5 | F47: =SUM(F48:F56) -> 270171.5 | G47: =SUM(G48:G56) -> 270171.5
C48: Հ-1, Վ. Պտղնու տրանսպորտային հանգույց - Ջրաբեր-Հրազդան -Հրազդանի քրեակատարողական հիմնարկ հանրապետական նշանակության ավտոճանապարհի կմ33+500 - կմ37+700 հատվածի հիմնանորոգում | D48: 38671.5 | E48: 38671.5 | F48: 38671.5 | G48: 38671.5
C49: Հ85, /Հ-1/ - Հրազդան - /Հ-55/ հանրապետական նշանակության ավտոճանապարհի կմ1+600 - կմ3+300 հատվածների հիմնանորոգում | D49: 29808.4 | E49: 29808.4 | F49: 29808.4 | G49: 29808.4
C50: Հ-1, Վ. Պտղնու տրանսպորտային հանգույց - Ջրաբեր-Հրազդան -Հրազդանի քրեակատարողական հիմնարկ հանրապետական նշանակության ավտոճանապարհի կմ21+700 - կմ24+000 հատվածի հիմնանորոգում | D50: 21145.4 | E50: 21145.4 | F50: 21145.4 | G50: 21145.4
C51: Հ-3, Երևան (Ջրաշխարհ, Մ-4-ի հետ հատման տեղ)-Գառնի –Գեղարդի վանք հանրապետական նշանակության ավտոճանապարհի կմ33+500-կմ38+100 հատվածի հիմնանորոգում | D51: 40528.2 | E51: 40528.2 | F51: 40528.2 | G51: 40528.2
C52: Հ-5, /Հ-6/-Նոր Գեղի-Արգել-Արզական-Հրազդան հանրապետական նշանակության ավտոճանապարհի կմ 25+200 - կմ36+000 հատվածի հիմնանորոգում | D52: 181.4 | E52: 181.4 | F52: 181.4 | G52: 181.4
C53: Հ-18,/Մ-5/ - Վանանդ - /Մ-9/ հանրապետական նշանակության ավտոճանապարհի կմ0+000- կմ11+100 հատվածի հիմնանորոգում | D53: 3817 | E53: 3817 | F53: 3817 | G53: 3817
C54: Հ-21, /Հ-75/ - Հոռոմ-Արթիկ-Ալագյազ հանրապետական նշանակության ավտոճանապարհի կմ29+600 - կմ32+700 հատվածի հիմնանորոգում | D54: 26855 | E54: 26855 | F54: 26855 | G54: 26855
C55: Հ-26,/Մ-4 /-Ենոքավան–Կարմիր գյուղ (գյուղատեղի)-/Մ-16/ հանրապետական նշանակության ավտոճանապարհի կմ0+000-կմ6+300 հատվածի հիմնանորոգում | D55: 36347.4 | E55: 36347.4 | F55: 36347.4 | G55: 36347.4
C56: Հ-55, Հրազդանի տրանսպորտային հանգույց-Ծաղկաձորի մարզահամալիր հանրապետական նշանակության ավտոճանապարհի կմ0+000 - կմ10+500 հատվածի հիմնանորոգում | D56: 72817.2 | E56: 72817.2 | F56: 72817.2 | G56: 72817.2
B57: 3 | C57: Մարզային նշանակության ավտոճանապարհներ, այդ թվում | D57: =SUM(D58:D71) -> 508227.7 | E57: =SUM(E58:E71) -> 508227.7 | F57: =SUM(F58:F71) -> 508227.7 | G57: =SUM(G58:G71) -> 508227.7
C58: Տ-1-63,/Հ-81/ (Թաթուլ) – Կանաչ - Հակո ավտոճանապարհի կմ0+000 - կմ12+100 հատվածի հիմնանորոգում | D58: 69016.1 | E58: 69016.1 | F58: 69016.1 | G58: 69016.1
C59: Տ-7-53, Հ-21/ (Նոր Կյանք) – Փանիկ - Արևշատ - /Հ-21/ (Մեծ Մանթաշ) ավտոճանապարհի կմ0+000 - կմ12+800 հատվածի հիմնանորոգում | D59: 93920.3 | E59: 93920.3 | F59: 93920.3 | G59: 93920.3
C60: /Մ-12/ - Խնձորեսկ - Ներքին Խնձորեսկ ավտոճանապարհի կմ0+000 - կմ10+100 հատվածի հիմնանորոգում | D60: 360 | E60: 360 | F60: 360 | G60: 360
C61: Տ-10-34,/Մ-4 /-Լեռնային Հայաստան առողջարան ավտոճանապարհի կմ0+000-կմ2+200 հատվածի հիմնանորոգում | D61: 13324.1 | E61: 13324.1 | F61: 13324.1 | G61: 13324.1
C62: Կիրանց գյուղի հատվածում Հ-58 հանրապետական նշանակության ավտոմոբիլային ճանապարհի շրջանցիկ հատվածի կառուցում | D62: 75573.6 | E62: 75573.6 | F62: 75573.6 | G62: 75573.6
C63: Տ-3-11, /Հ-15/ (Արմավիր գ.) – Նալբանդյան – Գետաշեն – Նոր Կեսարիա – /Մ-5/ ավտոճանապարհի կմ6+000-կմ10+000 հատվածի հիմնանորոգում | D63: 29434.9 | E63: 29434.9 | F63: 29434.9 | G63: 29434.9
C64: Տ-3-16, Արևիկ (Տ-3-50) – /Հ-15/ (գ.Արմավիր) ավտոճանապարհի կմ0+000-կմ3+600 հատվածի հիմնանորոգում | D64: 21811.5 | E64: 21811.5 | F64: 21811.5 | G64: 21811.5
C65: Տ-3-52 /Մ-5/ – Ամասիա – Նալբանդյան (Տ-3-11) – Ջանֆիդա – Փշատավան – /Հ-15/ (Արգավանդ) ավտոճանապարհի կմ14+200-կմ18+400 հատվածի հիմնանորոգում | D65: 30596.9 | E65: 30596.9 | F65: 30596.9 | G65: 30596.9
C66: Տ-4-78, /Տ-4-40/ - Նորակերտ - /Մ-14/ (Փոքր Մասրիկ) ավտոճանապարհի կմ5+200-կմ7+200 հատվածի հիմնանորոգում | D66: 17063.5 | E66: 17063.5 | F66: 17063.5 | G66: 17063.5
C67: Տ-5-24,/Մ-3/ (Ստեփանավան) – Արմանիս – Ուրասար – Կաթնաղբյուր տեղական նշանակության ավտոճանապարհի կմ6+600-կմ 15+200 հատվածի և Կաթնաղբյուր համայնքի 8-րդ և 9-րդ փողոցների հիմնանորոգում | D67: 58844.7 | E67: 58844.7 | F67: 58844.7 | G67: 58844.7
C68: ՀՀ Լոռու մարզ Վանաձոր համայնքի Սանկտ - Պետերբուրգի փողոցի հիմնանորոգում | D68: 27686.1 | E68: 27686.1 | F68: 27686.1 | G68: 27686.1
C69: Տ-5-69, /Հ-70/ - Ահնիձոր մարզային նշանակության ավտոճանապարհի կմ0+000 - կմ4+000 հատվածի հիմնանորոգում | D69: 14128.5 | E69: 14128.5 | F69: 14128.5 | G69: 14128.5
... C71: Տ-10-30, /Մ-16/ - Աճարկուտ - Կիրանց պատմական հուշարձան ավտոճանապարհի 3,5 կմ երկարությամբ հատվածի վերակառուցում | D71: 56022.3 | E71: 56022.3 | F71: 56022.3 | G71: 56022.3
A72: 1049 | B72: 21002 | C72: Տրանսպորտային օբյեկտների հիմնանորոգում | D72: =D74 -> 39564.7 | E72: =E74 -> 39564.7 | F72: =F74 -> 39564.7 | G72: =G74 -> 39564.7
C73: այդ թվում` ըստ կատարողների
C74: ՀՀ տարածքային կառավարման և ենթակառուցվածքների նախարարություն | D74: =SUM(D76:D82) -> 39564.7 | E74: =SUM(E76:E82) -> 39564.7 | F74: =SUM(F76:F82) -> 39564.7 | G74: =SUM(G76:G82) -> 39564.7
C75: այդ թվում՝ ըստ ուղղությունների
C76: /Մ-4/ - Սևանի թերակղզի հանրապետական նշանակության ավտոճանապարհի կմ1+400 կմ1+500 հատվածում փլուզված հողային պաստառի շեպի վերականգնում | D76: 2360.7 | E76: 2360.7 | F76: 2360.7 | G76: 2360.7
C77: Տ-2-15,/Տ-2-13/(Գեղանիստ)-Գետափնյա -Ղուկասավան-Դարակերտ (Տ-2-3)մարզային նշանակության ավտոճանապարհի ԿՄ0+400 հատվածում Հրազդան գետի վրա գտնվող կամրջի հիմնանորոգում | D77: 7456.6 | E77: 7456.6 | F77: 7456.6 | G77: 7456.6
C78: Հ-13,/Մ-3/ (Վաղարշապատ) - Մասիս - /Մ-2/ հանրապետական նշանակության ավտոճանապարհի կմ9+800-ում գտնվող կամուրջի հիմնանորոգում | D78: 4432 | E78: 4432 | F78: 4432 | G78: 4432
C79: Հ-22, /Մ-6/-Դսեղ-/Հ-70/ հանրապետական նշանակության ավտոճանապարհի առաջին կիլոմետրում գտնվող կամրջի հիմնանորոգում | D79: 5282.1 | E79: 5282.1 | F79: 5282.1 | G79: 5282.1
C80: Սանահին կայարանում քանդված կամրջի փոխարեն L=42մ պողպատե ֆերմաներով թռիչքային կառուցվածքով ժամանակավոր կամրջի կառուցման համար անհրաժեշտ նախապատրաստական աշխատանքների իրականացում | D80: 1347.3 | E80: 1347.3 | F80: 1347.3 | G80: 1347.3
C81: Մ-6 – Ախթալա ա/ճանապարհի վրա Դեբետ գետի հետ հատման հատվածում քանդված կամրջի փոխարեն ժամանակավոր կամրջի կառուցում | D81: 2587.3 | E81: 2587.3 | F81: 2587.3 | G81: 2587.3
C82: Հ-53, /Մ-4/ - Սեմյոնովկա - /Մ-4/ հանրապետական նշանակության ավտոճանապարհի կմ0+100 հատվածի կամրջի հիմնանորոգում | D82: 16098.7 | E82: 16098.7 | F82: 16098.7 | G82: 16098.7
A83: 1049 | B83: 21020 | C83: Միջպետական և հանրապետական նշանակության ավտոճանապարհների միջին նորոգում | D83: =D85 -> 65980.7 | E83: =E85 -> 65980.7 | F83: =F85 -> 65980.7 | G83: =G85 -> 65980.7
C84: այդ թվում` ըստ կատարողների
C85: ՀՀ տարածքային կառավարման և ենթակառուցվածքների նախարարություն | D85: =D87 -> 65980.7 | E85: =E87 -> 65980.7 | F85: =F87 -> 65980.7 | G85: =G87 -> 65980.7
C86: այդ թվում՝ ըստ ուղղությունների
B87: 2 | C87: Հանրապետական նշանակության ավտոճանապարհներ, այդ թվում | D87: =SUM(D88:D91) -> 65980.7 | E87: =SUM(E88:E91) -> 65980.7 | F87: =SUM(F88:F91) -> 65980.7 | G87: =SUM(G88:G91) -> 65980.7
C88: Հ-73 /Մ-4/- Պարզ լիճ հանրապետական նշանակության ավտոճանապարհի կմ0+000+կմ2+873 հատվածի միջին նորոգում | D88: =F88 -> 6478.3 | E88: 6478.3 | F88: 6478.3 | G88: 6478.3
C89: Հ-22 /Մ-6/- Դսեղ - /Հ-70// հանրապետական նշանակության ավտոճանապարհի կմ0+000 - կմ7+540 հատվածի միջին նորոգում | D89: =F89 -> 15000 | E89: 15000 | F89: 15000 | G89: 15000
C90: Հ-21 /Հ-75/ -Հոռոմ -Արթիկ -Ալագյազ-/Մ-3/ հանրապետական նշանակության ավտոճանապարհի կմ8+ 777 + կմ19 + 107 հատվածի միջին նորոգում | D90: =F90 -> 28259 | E90: 28259 | F90: 28259 | G90: 28259
C91: Հ-30 /Մ-4/ -Ճամբարակ -/Հ-7/ հանրապետական նշանակության ավտոճանապարհիկմ 11+000-կմ 18+540 հատվածի միջին նորոգում | D91: =F91 -> 16243.4 | E91: 16243.4 | F91: 16243.4 | G91: 16243.4
A92: 1072 | B92: 31013 | C92: Ջրամատակարարման և ջրահեռացման համակարգի կառուցում | D92: 9273.6 | E92: 9273.6 | F92: 9273.6 | G92: 9273.6
C93: այդ թվում` ըստ կատարողների
C94: ՀՀ տարածքային կառավարման և ենթակառուցվածքների նախարարության ջրային կոմիտե | D94: =+D96 -> 9273.6 | E94: =+E96 -> 9273.6 | F94: =+F96 -> 9273.6 | G94: =+G96 -> 9273.6
C95: այդ թվում` ըստ կատարողների
C96: ՀՀ Սյունիքի մարզի Բռնակոթ համայնքի այլընտրանքային աղբյուրից ջրատարի կառուցման աշխատանքներ | D96: 9273.6 | E96: 9273.6 | F96: 9273.6 | G96: 9273.6
A97: 1079 | B97: 31004 | C97: Պետական գույքի կառավարման կոմիտեի ենթակայության շենքերի պայմանների բարելավում | D97: 11284.8 | E97: 11284.8 | F97: 11284.8 | G97: 11284.8
C98: այդ թվում` ըստ կատարողների
C99: ՀՀ տարածքային կառավարման և ենթակառուցվածքների նախարարության պետական գույքի կառավարման կոմիտե | D99: =+D101 -> 11284.8 | E99: =+E101 -> 11284.8 | F99: =+F101 -> 11284.8 | G99: =+G101 -> 11284.8
C100: այդ թվում` ըստ կատարողների
C101: ք. Երևան, Տիգրան Մեծի 4 հասցեում զբաղեցվող տարածքների հիմնանորոգման աշխատանքներ | D101: 11284.8 | E101: 11284.8 | F101: 11284.8 | G101: 11284.8
A102: 1157 | B102: 21037 | C102: Երևան քաղաքի նախադպրոցական ուսումնական հաստատությունների կառուցման և հիմնանորոգման աշխատանքներ | D102: =D104 -> 13912.5 | E102: =E104 -> 13912.5 | F102: =F104 -> 13912.5 | G102: =G104 -> 13912.5
C103: այդ թվում` ըստ կատարողների
C104: ՀՀ տարածքային կառավարման և ենթակառուցվածքների նախարարություն | D104: =D106 -> 13912.5 | E104: =E106 -> 13912.5 | F104: =F106 -> 13912.5 | G104: =G106 -> 13912.5
...

Sheet N 8.
L1: Հավելված N 8 __________-Ç ____-Ç N _____-Ü áñáßÙ³Ý
L3: ՀՀ կառավարության 2025 թվականի
L4: ______________ ի ___Ն որոշման
A6: ՀԱՅԱՍՏԱՆԻ ՀԱՆՐԱՊԵՏՈՒԹՅԱՆ ԿԱՌԱՎԱՐՈՒԹՅԱՆ 2024 ԹՎԱԿԱՆԻ ԴԵԿՏԵՄԲԵՐԻ 27-Ի N 2060-Ն ՈՐՈՇՄԱՆ N 9 ՀԱՎԵԼՎԱԾՈՒՄ ԿԱՏԱՐՎՈՂ ՓՈՓՈԽՈՒԹՅՈՒՆՆԵՐԸ ԵՎ ԼՐԱՑՈՒՄՆԵՐԸ
M7: հազար դրամներով
A8: ԲԳԿ | B8: Ծրագիր | D8: Միջոցառում | H8: Իրականացնողը/ ակտիվն օգտագործողը/ շահառուի ընտրության չափորոշիչը | I8: Արդյունքային չափորոշիչը | J8: Ցուցանիշների փոփոխությունը (ավելացումները նշված են դրական նշանով)
B9: Դասիչը | C9: Անվանումը | D9: Դասիչը | E9: Անվանումը | F9: Նկարագրությունը | G9: Տեսակը | J9: Առաջին եռամսյակ | K9: Առաջին կիսամյակ | L9: Ինն ամիս | M9: Տարի
A10: ՀՀ արդարադատության նախարարություն | J10: =J11 -> 4880.1 | K10: =K11 -> 4880.1 | L10: =L11 -> 4880.1 | M10: =M11 -> 4880.1
B11: 1120 | C11: Քրեակատարողական ծառայություններ | J11: =J12 -> 4880.1 | K11: =K12 -> 4880.1 | L11: =L12 -> 4880.1 | M11: =M12 -> 4880.1
D12: 1120 - 31003 | E12: Քրեակատարողական հիմնարկների շենքային պայմանների բարելավում | J12: 4880.1 | K12: 4880.1 | L12: 4880.1 | M12: 4880.1
F13: Քրեակատարողական հիմնարկների շենքերի նորոգում, հիմնանորոգում, կառուցում և նախագծանախահաշվային փաստաթղթերի ձեռք բերում
G14: Պետական մարմինների կողմից օգտագործվող ոչ ֆինանսական ակտիվների հետ գործառնություններ
H15: Ակտիվները օգտագործող կազմակերպության անվանումը` Քրեակատարողական ծառայություն
I16: ՀՀ ԱՆ «Աբովյան» քրեակատարողական հիմնարկի մեկուսարանի և վարչական մասնաշենքի վերանորոգման շինարարական աշխատանքներ | J16: 1 | K16: 1 | M16: 1
I17: ՀՀ ԱՆ «Աբովյան» քրեակատարողական հիմնարկի մեկուսարանի և վարչական մասնաշենքի վերանորոգման շինարարական աշխատանքների տեխնիկական հսկողություն | J17: 1 | K17: 1 | M17: 1
A18: ՀՀ վարչապետի աշխատակազմ | J18: =J19 -> 34400 | K18: =K19 -> 34400 | L18: =L19 -> 34400 | M18: =M19 -> 34400
B19: 1136 | C19: ՀՀ Վարչապետի լիազորությունների իրականացման ապահովում | J19: =J20 -> 34400 | K19: =K20 -> 34400 | L19: =L20 -> 34400 | M19: =M20 -> 34400
D20: 1136 - 31009 | E20: Պետական սեփականություն հանդիսացող կառավարական շենքերի վերակառուցում, հիմնանորոգում | J20: 34400 | K20: 34400 | L20: 34400 | M20: 34400
F21: Պետական սեփականություն հանդիսացող կառավարական շենքերի վերակառուցում,հիմնանորոգում, նախագծանախահաշվային փաստաթղթերի մշակում և այլ համաշինարարական աշխատանքներ
G22: Պետական մարմինների կողմից օգտագործվող ոչ ֆինանսական ակտիվների հետ գործառնություններ
H23: Ակտիվն օգտագործող կազմակերպության անվանումը` Մասնագիտացված կազմակերպություն
I24: Նախագծանախահաշվային փաստաթղթերի քանակ, հատ | J24: 1 | K24: 2 | M24: 2
A25: Բարձրագույն դատական խորհուրդ | J25: =J26 -> 38400 | K25: =K26 -> 38400 | L25: =L26 -> 38400 | M25: =M26 -> 38400
B26: 1080 | C26: Դատական իշխանության գործունեության ապահովում և իրականացում | J26: =J27 -> 38400 | K26: =K27 -> 38400 | L26: =L27 -> 38400 | M26: =M27 -> 38400
D27: 1080 - 31001 | E27: Բարձրագույն դատական խորհրդի տեխնիկական հագեցվածության բարելավում | J27: 38400 | K27: 38400 | L27: 38400 | M27: 38400
F28: ԲԴԽ աշխատանքային պայմանների բարելավման համար վարչական սարքավորումների ձեռքբերում
G29: Պետական մարմինների կողմից օգտագործվող Պետական մարմինների կողմից օգտագործվող ոչ ֆինանսական ակտիվների հետ գործառնություններ
H30: Ակտիվն օգտագործող կազմակերպության անվանումը` Դատական դեպարտամենտ
I31: Այլ սարքավորումների քանակ, հատ | J31: 6 | K31: 6 | M31: 6
I32: Սարքավորումների ծառայության կանխատեսվող միջին ժամկետ, տարի | J32: 10 | K32: 10 | M32: 10
A33: ՀՀ տարածքային կառավարման և ենթակառուցվածքների նախարարություն | J33: =J34+J39+J44+J57+J63+J69+J79 -> 1489527.3 | K33: =K34+K39+K44+K57+K63+K69+K79 -> 1489527.3 | L33: =L34+L39+L44+L57+L63+L69+L79 -> 1489527.3 | M33: =M34+M39+M44+M57+M63+M69+M79 -> 1489527.3
B34: 1001 | C34: Տարածքային կառավարման ոլորտում քաղաքականության մշակում, ծրագրերի համակարգում և մոնիտորինգի իրականացում | J34: =J35 -> 1304.1 | K34: =K35 -> 1304.1 | L34: =L35 -> 1304.1 | M34: =M35 -> 1304.1
D35: 1001 - 31001 | E35: ՀՀ տարածքային կառավարման և ենթակառուցվածքների նախարարության կարողությունների զարգացում և տեխնիկական հագեցվածության ապահովում | J35: 1304.1 | K35: 1304.1 | L35: 1304.1 | M35: 1304.1
F36: ՀՀ տարածքային կառավարման և ենթակառուցվածքների նախարարության աշխատանքային պայմանների բարելավման համար վարչական սարքավորումների ձեռք բերում
G37: Պետական մարմինների կողմից օգտագործվող ոչ ֆինանսական ակտիվների հետ գործառնություններ
H38: Ակտիվն օգտագործող կազմակերպության անվանումը` ՀՀ տարածքային կառավարման և ենթակառուցվածքների նախարարություն
B39: 1004 | C39: Ոռոգման համակարգի առողջացում | J39: =J40 -> 15521.2 | K39: =K40 -> 15521.2 | L39: =L40 -> 15521.2 | M39: =M40 -> 15521.2
D40: 1004 - 31002 | E40: Ոռոգման համակարգերի հիմնանորոգում | J40: 15521.2 | K40: 15521.2 | L40: 15521.2 | M40: 15521.2
F41: Ոռոգման համակարգերի հիմնանորոգում
G42: Պետական մարմինների կողմից օգտագործվող ոչ ֆինանսական ակտիվների հետ գործառնություններ
H43: Ակտիվն օգտագործող կազմակերպության անվանումը` ՀՀ ՏԿԵՆ ջրային կոմիտե
B44: 1049 | C44: Ճանապարհային ցանցի բարելավում | J44: =J45+J49+J53 -> 1385488.9 | K44: =K45+K49+K53 -> 1385488.9 | L44: =L45+L49+L53 -> 1385488.9 | M44: =M45+M49+M53 -> 1385488.9
D45: 1049 - 21001 | E45: Պետական նշանակության ավտոճանապարհների հիմնանորոգում | J45: 1279943.5 | K45: 1279943.5 | L45: 1279943.5 | M45: 1279943.5
F46: Միջպետական, հանրապետական և մարզային նշանակության ավտոճոնապարհների քայքայված ծածկի վերանորոգում, մաշված ծածկի փոխարինում
G47: Հանրության կողմից անմիջականորեն օգտագործվող ակտիվների հետ կապված միջոցառումներ
H48: Միջոցառումն իրականացնողի անվանումը` Մասնագիտացված միավոր
D49: 1049 - 21002 | E49: Տրանսպորտային օբյեկտների հիմնանորոգում | J49: 39564.7 | K49: 39564.7 | L49: 39564.7 | M49: 39564.7
F50: Ավտոմոբիլային ճանապարհների վրա գտնվող կամուրջների հիմնանորոգում
G51: Հանրության կողմից անմիջականորեն օգտագործվող ակտիվների հետ կապված միջոցառումներ
H52: Միջոցառումն իրականացնողի անվանումը` Մասնագիտացված միավոր
D53: 1049 - 21020 | E53: Միջպետական և հանրապետական նշանակության ավտոճանապարհների միջին նորոգում | J53: 65980.7 | K53: 65980.7 | L53: 65980.7 | M53: 65980.7
F54: Միջպետական և հանրապետական նշանակության ավտոճանապարհների պատվածքի մաշված վերին շերտի վերականգնում և շինարարական նորմերով նախատեսված սկզբնական որակական ցուցանիշների ապահովում
G55: Հանրության կողմից անմիջականորեն օգտագործվող ակտիվների հետ կապված միջոցառումներ
H56: Միջոցառումն իրականացնողի անվանումը` ՀՀ տարածքային կառավարման և ենթակառուցվածքների նախարարություն, մրցութային կարգով ընտրված կազմակերպություններ
B57: 1072 | C57: Ջրամատակարարաման և ջրահեռացման բարելավում | J57: =J58 -> 9273.6 | K57: =K58 -> 9273.6 | L57: =L58 -> 9273.6 | M57: =M58 -> 9273.6
D58: 1072 - 31013 | E58: Ջրամատակարարման և ջրահեռացման համակարգի կառուցում | J58: 9273.6 | K58: 9273.6 | L58: 9273.6 | M58: 9273.6
F59: Ջրամատակարարման և ջրահեռացման համակարգի կառուցման նախագծերի և աշխատանքների ձեռքբերում
G60: Պետական մարմինների կողմից օգտագործվող ոչ ֆինանսական ակտիվների հետ գործառնություններ
H61: Միջոցառումն իրականացնողի անվանումը` ՀՀ ՏԿԵՆ ջրային կոմիտե
I62: Նախագծանախահաշվային փաթեթի ձեռքբերում, հատ | K62: 1 | M62: 1
B63: 1079 | C63: Պետական գույքի կառավարում | J63: =J64 -> 11284.8 | K63: =K64 -> 11284.8 | L63: =L64 -> 11284.8 | M63: =M64 -> 11284.8
D64: 1079 - 31004 | E64: Պետական գույքի կառավարման կոմիտեի ենթակայության շենքերի պայմանների բարելավում | J64: 11284.8 | K64: 11284.8 | L64: 11284.8 | M64: 11284.8
F65: Պետական գույքի կառավարման կոմիտեի ենթակայության շենքերի պայմանների բարելավում (հիմնանորոգում)
G66: Պետական մարմինների կողմից օգտագործվող ոչ ֆինանսական ակտիվների հետ գործառնություններ
H67: ՀՀ տարածքային կառավարման և ենթակառուցվածքների նախարարության պետական գույքի կառավարման կոմիտե
I68: Հիմնանորոգվող տարածքների ավարտվածության աստիճան, % | K68: 100 | M68: 100
B69: 1157 | C69: Քաղաքային զարգացում | J69: =J70+J75 -> 32163.3 | K69: =K70+K75 -> 32163.3 | L69: =L70+L75 -> 32163.3 | M69: =M70+M75 -> 32163.3
D70: 1157 - 21037 | E70: Երևան քաղաքի նախադպրոցական ուսումնական հաստատությունների կառուցման և հիմնանորոգման աշխատանքներ | J70: 13912.5 | K70: 13912.5 | L70: 13912.5 | M70: 13912.5
F71: Նախադպրոցական ուսումնական հաստատությունների և դրանց բակային տարածքների հիմնանորոգում, ինչպես նաև նորերի կառուցում
G72: Հանրության կողմից անմիջականորեն օգտագործվող ակտիվների հետ կապված միջոցառումներ
H73: Շահառուների ընտրության չափանիշները` ՀՀ բնակչություն
I74: Հիմնանորոգվող մանկապարտեզների այդ թվում մանկապարտեզների բակային տարածքների ավարտվածության աստիճան, % | K74: 82 | M74: 82
D75: 1157-21038 | E75: Երևանի բուսաբանական այգու տարածքում անտառապուրակի կառուցապատման աշխատանքներ | J75: 18250.8 | K75: 18250.8 | L75: 18250.8 | M75: 18250.8
F76: Երևան քաղաքում անտառապուրակի հիմնում և կանաչ գոտիների արդիականացում
G77: Հանրության կողմից անմիջականորեն օգտագործվող ակտիվների հետ կապված միջոցառումներ
H78: Շահառուների ընտրության չափանիշները` ՀՀ բնակչություն
B79: 1212 | C79: Տարածքային զարգացում | J79: =J80+J84 -> 34491.4 | K79: =K80+K84 -> 34491.4 | L79: =L80+L84 -> 34491.4 | M79: =M80+M84 -> 34491.4
D80: 1212-12025 | E80: Մարզերում առաջնահերթ լուծում պահանջող հիմնախնդիրների լուծում | J80: 5119.9 | K80: 5119.9 | L80: 5119.9 | M80: 5119.9
F81: Մարզերում առաջնահերթ լուծում պահանջող ծրագրերի իրականացում, որի արդյունքում լուծում կտրվի բնակչության և համայնքների սոցիալական նշանակություն ունեցող հիմնախնդիրներին:
G82: Տրանսֆերտների տրամադրում
H83: Համայնքներ
D84: 1212 -32001 | E84: ՀՀ մարզերում առաջնահերթ լուծում պահանջող անհետաձգելի ծրագրերի իրականացում | J84: 29371.5 | K84: 29371.5 | L84: 29371.5 | M84: 29371.5
F85: ՀՀ մարզերում առաջնահերթ լուծում պահանջող անհետաձգելի ծրագրերի իրականացում, որի արդյունքում լուծում կտրվի մարզային ենթակայության կազմակերպությունների և համայնքային նշանակություն ունեցող հիմնախնդիրներին
G86: Այլ պետական կազմակերպությունների կողմից օգտագործվող ոչ ֆինանսական ակտիվների հետ գործառնություններ
H87: Ակտիվն օգտագործող կազմակերպության անվանումը` ՀՀ համայնքներ
A88: ՀՀ շրջակա միջավայրի նախարարություն | J88: =J89 -> 298200 | K88: =K89 -> 298200 | L88: =L89 -> 298200 | M88: =M89 -> 298200
B89: 1016 | C89: Շրջակա միջավայրի վրա ազդեցության գնահատում և մոնիթորինգ | J89: =J90 -> 298200 | K89: =K90 -> 298200 | L89: =L90 -> 298200 | M89: =M90 -> 298200
D90: 1016-32003 | E90: «Հիդրոօդերևութաբանության և մոնիթորինգի կենտրոն» ՊՈԱԿ-ի տեխնիկական միջոցների արդիականացում և նոր սարքավորումների ձեռք բերում | J90: 298200 | K90: 298200 | L90: 298200 | M90: 298200
F91: «Հիդրոօդերևութաբանության և մոնիթորինգի կենտրոն» ՊՈԱԿ-ի տեխնիկական միջոցների արդիականացման և նոր սարքավորումներով համալրման աշխատանքների իրականացում
G92: Այլ պետական կազմակերպությունների կողմից օգտագործվող ոչ ֆինանսական ակտիվների հետ գործառնություններ
H93: Ծառայությունը մատուցողի անվանումը` Մասնագիտացված կազմակերպություններ
I94: Ավտոմատ գազանալիզատորներով համալրված դիտակայան, հատ | K94: 2 | M94: 2
A95: ՀՀ կրթության, գիտության, մշակույթի և սպորտի նախարարություն | J95: =J96+J102+J113+#REF! -> #REF! | K95: =K96+K102+K113 -> 19733 | L95: =L96+L102+L113 -> 19733 | M95: =M96+M102+M113 -> 19733
B96: 1045 | C96: Մասնագիտական կրթության և ուսուցման ծրագիր | J96: =J97 -> 288.9 | K96: =K97 -> 288.9 | L96: =L97 -> 288.9 | M96: =M97 -> 288.9
D97: 1045 - 32001 | E97: Մասնագիտական ուսումնական հաստատությունների շենքային պայմանների բարելավում | J97: 288.9 | K97: 288.9 | L97: 288.9 | M97: 288.9
F98: Մասնագիտական ուսումնական հաստատությունների շենքերի հիմնանորոգման և նախագծման (շինարարական աշխատանքներ, ջեռուցման համակարգի ստեղծում, ներքին հարդարում, տարածքի բարեկարգում) աշխատանքների իրականացում
G99: Այլ պետական կազմակերպությունների կողմից օգտագործվող ոչ ֆինանսական ակտիվների հետ գործառնություններ
H100: Ակտիվն օգտագործող կազմակերպությունների անվանումները` Մասնագիտական ուսումնական հաստատություններ
B102: 1075 | C102: Մշակութային ժառանգության ծրագիր | J102: =J103+J107 -> 11151.3 | K102: =K103+K107 -> 15535.3 | L102: =L103+L107 -> 15535.3 | M102: =M103+M107 -> 15535.3
D103: 1075 - 21001 | E103: Հուշարձանների ամրակայում, նորոգում և վերականգնում | J103: 10087.6 | K103: 14471.6 | L103: 14471.6 | M103: 14471.6
...

Sheet N 9.
L1: Հավելված N 9
L3: ՀՀ կառավարության 2025 թվականի
L4: ______________ ի ___Ն որոշման
A6: ՀԱՅԱՍՏԱՆԻ ՀԱՆՐԱՊԵՏՈՒԹՅԱՆ ԿԱՌԱՎԱՐՈՒԹՅԱՆ 2024 ԹՎԱԿԱՆԻ ԴԵԿՏԵՄԲԵՐԻ 27-Ի N 2060-Ն ՈՐՈՇՄԱՆ N 9.1 ՀԱՎԵԼՎԱԾՈՒՄ ԿԱՏԱՐՎՈՂ ՓՈՓՈԽՈՒԹՅՈՒՆՆԵՐԸ ԵՎ ԼՐԱՑՈՒՄՆԵՐԸ
M7: հազար դրամներով
A8: ԲՍԿ | B8: Ծրագիր | D8: Միջոցառում | H8: Իրականացնողը/ ակտիվն օգտագործողը/ շահառուի ընտրության չափորոշիչը | I8: Արդյունքային չափորոշիչը | J8: Ցուցանիշների փոփոխությունը (ավելացումները նշված են դրական նշանով)
B9: Դասիչը | C9: Անվանումը | D9: Դասիչը | E9: Անվանումը | F9: Նկարագրությունը | G9: Տեսակը | J9: Առաջին եռամսյակ | K9: Առաջին կիսամյակ | L9: Ինն ամիս | M9: Տարի
A12: ՀՀ արդարադատության նախարարության քրեակատարողական ծառայություն | J12: =+J13 -> 4880.1 | K12: =+K13 -> 4880.1 | L12: =+L13 -> 4880.1 | M12: =+M13 -> 4880.1
B13: 1120 | C13: Քրեակատարողական ծառայություններ | J13: 4880.1 | K13: 4880.1 | L13: 4880.1 | M13: 4880.1
D14: 1120 - 31003 | E14: Քրեակատարողական հիմնարկների շենքային պայմանների բարելավում | J14: 4880.1 | K14: 4880.1 | L14: 4880.1 | M14: 4880.1
F15: Քրեակատարողական հիմնարկների շենքերի նորոգում, հիմնանորոգում, կառուցում և նախագծանախահաշվային փաստաթղթերի ձեռք բերում
G16: Պետական մարմինների կողմից օգտագործվող ոչ ֆինանսական ակտիվների հետ գործառնություններ
H17: Ակտիվները օգտագործող կազմակերպության անվանումը` Քրեակատարողական ծառայություն
I18: ՀՀ ԱՆ «Աբովյան» քրեակատարողական հիմնարկի մեկուսարանի և վարչական մասնաշենքի վերանորոգման շինարարական աշխատանքներ | J18: 1 | K18: 1 | M18: 1
I19: ՀՀ ԱՆ «Աբովյան» քրեակատարողական հիմնարկի մեկուսարանի և վարչական մասնաշենքի վերանորոգման շինարարական աշխատանքների տեխնիկական հսկողություն | J19: 1 | K19: 1 | M19: 1
A20: ՀՀ դատական դեպարտամենտ | J20: =+J21 -> 38400 | K20: =+K21 -> 38400 | L20: =+L21 -> 38400 | M20: =+M21 -> 38400
B21: 1080 | C21: Դատական իշխանության գործունեության ապահովում և իրականացում | J21: 38400 | K21: 38400 | L21: 38400 | M21: 38400
D22: 1080 - 31001 | E22: Բարձրագույն դատական խորհրդի տեխնիկական հագեցվածության բարելավում | J22: 38400 | K22: 38400 | L22: 38400 | M22: 38400
F23: ԲԴԽ աշխատանքային պայմանների բարելավման համար վարչական սարքավորումների ձեռքբերում
G24: Պետական մարմինների կողմից օգտագործվող Պետական մարմինների կողմից օգտագործվող ոչ ֆինանսական ակտիվների հետ գործառնություններ
H25: Ակտիվն օգտագործող կազմակերպության անվանումը` Դատական դեպարտամենտ
I26: Այլ սարքավորումների քանակ, հատ | J26: 6 | K26: 6 | M26: 6
I27: Սարքավորումների ծառայության կանխատեսվող միջին ժամկետ, տարի | J27: 10 | K27: 10 | M27: 10
A28: ՀՀ շրջակա միջավայրի նախարարություն | J28: =J29 -> 298200 | K28: =K29 -> 298200 | L28: =L29 -> 298200 | M28: =M29 -> 298200
B29: 1016 | C29: Շրջակա միջավայրի վրա ազդեցության գնահատում և մոնիթորինգ | J29: =J30 -> 298200 | K29: =K30 -> 298200 | L29: =L30 -> 298200 | M29: =M30 -> 298200
D30: 1016-32003 | E30: «Հիդրոօդերևութաբանության և մոնիթորինգի կենտրոն» ՊՈԱԿ-ի տեխնիկական միջոցների արդիականացում և նոր սարքավորումների ձեռք բերում | J30: 298200 | K30: 298200 | L30: 298200 | M30: 298200
F31: «Հիդրոօդերևութաբանության և մոնիթորինգի կենտրոն» ՊՈԱԿ-ի տեխնիկական միջոցների արդիականացման և նոր սարքավորումներով համալրման աշխատանքների իրականացում
G32: Այլ պետական կազմակերպությունների կողմից օգտագործվող ոչ ֆինանսական ակտիվների հետ գործառնություններ
H33: Ծառայությունը մատուցողի անվանումը` Մասնագիտացված կազմակերպություններ
I34: Ավտոմատ գազանալիզատորներով համալրված դիտակայան, հատ | K34: 2 | M34: 2
A35: ՀՀ կրթության, գիտության, մշակույթի և սպորտի նախարարություն | J35: =+J37+J41+J48 -> 15060.1 | K35: =+K37+K41+K48 -> 19444.1 | L35: =+L37+L41+L48 -> 19444.1 | M35: =+M37+M41+M48 -> 19444.1
B36: 1075 | C36: Մշակութային ժառանգության ծրագիր | J36: =+J37+J41 -> 11151.3 | K36: =+K37+K41 -> 15535.3 | L36: =+L37+L41 -> 15535.3 | M36: =+M37+M41 -> 15535.3
D37: 1075 - 21001 | E37: Հուշարձանների ամրակայում, նորոգում և վերականգնում | J37: 10087.6 | K37: 14471.6 | L37: 14471.6 | M37: 14471.6
F38: Հուշարձանների գիտանախագծային փաստաթղթերի կազմում, հրատապ ուսումնասիրում, վավերագրման և ուսումնասիրման աշխատանքներ, հետախուզում և հնագիտական պեղում, ամրակայում, նորոգում և վերականգնում
G39: Հանրության կողմից անմիջականորեն օգտագործվող ակտիվների հետ կապված միջոցառումներ
H40: Ծառայությունը մատուցող կազմակերպության անվանումը` Մասնագիտացված կազմակերպություններ
D41: 1075 - 32008 | E41: Թանգարանների և պատկերասրահների գույքային և տեխնիկական հագեցվածության բարելավում | J41: 1063.7 | K41: 1063.7 | L41: 1063.7 | M41: 1063.7
F42: Թանգարանների և պատկերասրահների համար անհրաժեշտ գույքի, տեխնիկայի և սարքավորումների ձեռքբերում
G43: Այլ պետական կազմակերպությունների կողմից օգտագործվող ոչ ֆինանսական ակտիվների հետ գործառնություններ
H44: Ակտիվն օգտագործող կազմակերպության անվանումը` Թանգարաններ և պատկերասրահներ
I45: Կազմակերպությունների թիվը, որտեղ կատարվում են ներդրումները | K45: 2 | M45: 2
B47: 1168 | C47: Արվեստների ծրագիր | J47: 3908.8 | K47: 3908.8 | L47: 3908.8 | M47: 3908.8
D48: 1168-32007 | E48: Թատերահամերգային կազմակերպությունների նյութատեխնիկական բազայի համալրում | J48: 3908.8 | K48: 3908.8 | L48: 3908.8 | M48: 3908.8
F49: Թատերահամերգային կազմակերպությունների համար անհրաժեշտ տեխնիկայի և սարքավորումների ձեռքբերում
G50: Այլ պետական կազմակերպությունների կողմից օգտագործվող ոչ ֆինանսական ակտիվների հետ գործառնություններ
H51: Ակտիվն օգտագործող կազմակերպության անվանումը` Թատրոններ և համերգային կազմակերպություններ
I52: Թատրոնների թիվը, որտեղ կատարվում են ներդրումները, հատ | K52: 1 | M52: 1
A54: ՀՀ քաղաքաշինության կոմիտե | J54: =+J56+#REF!+#REF!+#REF!+J63+J72+J82 -> #REF! | K54: =+K56+K63+K72+K82 -> 359248.9 | L54: =+L56+L63+L72+L82 -> 359248.9 | M54: =+M56+M63+M72+M82 -> 359248.9
B55: 1045 | C55: Մասնագիտական կրթության և ուսուցման ծրագիր | J55: 288.9 | K55: 288.9 | L55: 288.9 | M55: 288.9
D56: 1045 - 32001 | E56: Մասնագիտական ուսումնական հաստատությունների շենքային պայմանների բարելավում | J56: 288.9 | K56: 288.9 | L56: 288.9 | M56: 288.9
F57: Մասնագիտական ուսումնական հաստատությունների շենքերի հիմնանորոգման և նախագծման (շինարարական աշխատանքներ, ջեռուցման համակարգի ստեղծում, ներքին հարդարում, տարածքի բարեկարգում) աշխատանքների իրականացում
G58: Այլ պետական կազմակերպությունների կողմից օգտագործվող ոչ ֆինանսական ակտիվների հետ գործառնություններ
H59: Ակտիվն օգտագործող կազմակերպությունների անվանումները` Մասնագիտական ուսումնական հաստատություններ
B62: 1126 | C62: Առողջապահության ոլորտում պետական քաղաքականության մշակում, ծրագրերի համակարգում և մոնիտորինգ | J62: 6761.1 | K62: 160691 | L62: 160691 | M62: 160691
D63: 1126 - 31003 | E63: Առողջապահական կազմակերպությունների կառուցում, վերակառուցում | J63: 6761.1 | K63: 160691 | L63: 160691 | M63: 160691
F64: Բնակչությանը որակյալ բժշկական օգնության և սպասարկման ծառայություններ մատուցելու նպատակով առողջապահական կազմակերպությունների կառուցում, վերակառուցում
G65: Պետական մարմինների կողմից օգտագործվող ոչ ֆինանսական ակտիվների հետ գործառնություններ
H66: Ակտիվն օգտագործող կազմակերպության անվանումը` Բժշկական կազմակերպություններ
I67: Ընդամենը կառուցվող կազմակերպություններ, թիվ | K67: 2 | M67: 2
I68: Կառուցվող հիվանդանոցների թիվ, որից | K68: 2 | M68: 2
I69: Ընթացիկ կապիտալ շինարարույթունների թիվ, հատ | K69: 2 | M69: 2
I70: Ավարտվող կազմակերպությունների թիվ, հատ | K70: 2 | M70: 2
B71: 1098 | C71: Բնակարանային ապահովում | J71: 163869 | K71: 163869 | L71: 163869 | M71: 163869
D72: 1098-21001 | E72: Բնակարանային շինարարություն | J72: 163869 | K72: 163869 | L72: 163869 | M72: 163869
G73: Հանրության կողմից անմիջականորեն օգտագործվող ակտիվների հետ կապված միջոցառումներ
H74: Ծառայությունը մատուցողի անվանումը` ՀՀ քաղաքաշինության կոմիտե
I75: Կառուցման ենթակա օբյեկտների թիվ, հատ | J75: 1 | K75: 1 | M75: 1
I76: Բնակարանների քանակը, հատ | J76: 36 | K76: 36 | M76: 36
I77: Շահառուների շրջանակը° երկրաշարժից հետո աղետի գոտու բնակավայրերի (Ապարանում և Սպիտակում) ոչ հիմնական շինություններում բնակվող ընտանիքներ, թիվ | J77: 36 | K77: 36 | M77: 36
I78: Կառուցապատվող մակերեսը, քմ | J78: 3426.0 | K78: 3426.1 | M78: 3426.1
I79: Ծածկույթի ցուցանիշը, տոկոս | J79: 2 | K79: 3 | M79: 3
B81: 1136 | C81: ՀՀ Վարչապետի լիազորությունների իրականացման ապահովում | J81: =J82 -> 34400 | K81: =K82 -> 34400 | L81: =L82 -> 34400 | M81: =M82 -> 34400
D82: 1136 - 31009 | E82: Պետական սեփականություն հանդիսացող կառավարական շենքերի վերակառուցում, հիմնանորոգում | J82: 34400 | K82: 34400 | L82: 34400 | M82: 34400
F83: Պետական սեփականություն հանդիսացող կառավարական շենքերի վերակառուցում,հիմնանորոգում, նախագծանախահաշվային փաստաթղթերի մշակում և այլ համաշինարարական աշխատանքներ
G84: Պետական մարմինների կողմից օգտագործվող ոչ ֆինանսական ակտիվների հետ գործառնություններ
H85: Ակտիվն օգտագործող կազմակերպության անվանումը` Մասնագիտացված կազմակերպություն
I86: Նախագծանախահաշվային փաստաթղթերի քանակ, հատ | J86: 1 | K86: 2 | M86: 2
A87: ՀՀ ազգային անվտանգության ծառայություն | J87: =+J88 -> 0 | K87: =+K88 -> 61122.4 | L87: =+L88 -> 112354.7 | M87: =+M88 -> 192303.1
B88: 1138 | C88: Ազգային անվտանգություն | J88: =+J89 -> 0 | K88: =+K89 -> 61122.4 | L88: =+L89 -> 112354.7 | M88: =+M89 -> 192303.1
D89: 1138 - 31002 | E89: Ազգային անվտանգության համակարգի շենքային ապահովվածության բարելավում | J89: 0 | K89: 61122.4 | L89: 112354.7 | M89: 192303.1
F90: Ազգային անվտանգության համակարգի ստորաբաժանումների վարչական շենքերի կառուցում, կապիտալ վերանորոգում, շինարարական և կապիտալ նորոգման օբյեկտների նախագծահետազոտական փաստաթղթերի պատրաստում
G91: Պետական մարմինների կողմից օգտագործվող ոչ ֆինանսական ակտիվների հետ գործառնություններ
H92: Ակտիվն օգտագործող կազմակերպության անվանումը` ՀՀ ազգային անվտանգության ծառայություն
A93: ՀՀ պետական եկամուտների կոմիտե | J93: 0 | K93: 0 | L93: 242614.6 | M93: 606536.4
B94: 1023 | C94: Հարկային և մաքսային ծառայություններ | J94: 0 | K94: 0 | L94: 242614.6 | M94: 606536.4
D95: 1023 - 31003 | E95: ՀՀ պետական եկամուտների կոմիտեի շենքային ապահովվածության բարելավում | J95: 0 | K95: 0 | L95: 242614.6 | M95: 606536.4
F96: ՀՀ պետական եկամուտների կոմիտեի նոր շենքերի և շինությունների շինարարություն, նախագծային աշխատանքների ձեռքբերում
G97: Պետական մարմինների կողմից օգտագործվող ոչ ֆինանսական ակտիվների հետ գործառնություններ
H98: Ակտիվն օգտագործող կազմակերպության անվանումը` ՀՀ պետական եկամուտների կոմիտե
I99: Բյուջետային տարում կառուցապատման մակերես, ք/մ | M99: 560.2
A100: ՀՀ աշխատանքի և սոցիալական հարցերի նախարարություն | J100: 69511.257 | K100: 69511.257 | L100: 69511.257 | M100: 69511.257
B101: 1032 | C101: Տարեց և (կամ) հաշմանդամություն ունեցող անձանց աջակցություն | J101: 69511.257 | K101: 69511.257 | L101: 69511.257 | M101: 69511.257
D102: 1032 - 32007 | E102: Տարեց և (կամ) հաշմանդամություն ունեցող անձանց շուրջօրյա խնամքի պետական ոչ առևտրային կազմակերպությունների շենքային պայմանների բարելավում | J102: 69511.257 | K102: 69511.257 | L102: 69511.257 | M102: 69511.257
F103: Տարեց և (կամ) հաշմանդամություն ունեցող անձանց շուրջօրյա խնամք մատուցող ՊՈԱԿ-ների վերանորոգման և շինարարության համար անհրաժեշտ նախագծանախահաշվային փաթեթների կազմում և փորձաքննության անցկացում, վերանորոգման և շինարարական աշխատանքների իրականացում
G104: Այլ պետական կազմակերպությունների կողմից օգտագործվող ոչ ֆինանսական ակտիվների հետ գործառնություններ
H105: Ակտիվն օգտագործող կազմակերպության անվանումը` Մրցույթում հաղթած կազմակերպություններ
I106: ՀՀ Արմավիրի մարզի Գեղակերտ ում գտնվող առանձնատան հիմնանորոգման աշխատանքեր | J106: 17551.257 | K106: 17551.257 | M106: 17551.257
I107: «Նորք» շուրջօրյա խնամքի կենտրոն» և «Վարդենիսի շուրջօրյա մասնագիտացված խնամքի կենտրոն» ՊՈԱԿ-ների հիմնանորոգման աշխատանքների հետազոտական և նախագծանախահաշվային փաստաթղթերի մշակման և փաստաթղթերի պարզ փորձաքննության ծառայություններ | J107: 51960 | K107: 51960 | M107: 51960
A108: ՀՀ բարձր տեխնոլոգիական արդյունաբերության նախարարություն | J108: =+J109 -> 939997.1 | K108: =+K109 -> 947282.7 | L108: =+L109 -> 947282.7 | M108: =+M109 -> 947282.7
B109: 1043 | C109: Բարձր տեխնոլոգիական արդյունաբերության էկոհամակարգի և շուկայի զարգացման ծրագիր | J109: =+J110 -> 939997.1 | K109: =+K110 -> 947282.7 | L109: =+L110 -> 947282.7 | M109: =+M110 -> 947282.7
...

Sheet N 10.
H1: Հավելված N 10
H3: ՀՀ կառավարության 2025 թվականի
H4: ______________ ի ___Ն որոշման
A7: ՀԱՅԱՍՏԱՆԻ ՀԱՆՐԱՊԵՏՈՒԹՅԱՆ ԿԱՌԱՎԱՐՈՒԹՅԱՆ 2024 ԹՎԱԿԱՆԻ ԴԵԿՏԵՄԲԵՐԻ 27-Ի N 2060-Ն N 10 ՀԱՎԵԼՎԱԾՈՒՄ ԿԱՏԱՐՎՈՂ ԼՐԱՑՈՒՄՆԵՐԸ
A11: Կոդը | B11: Անվանումը | E11: Գնման ձևը | F11: Չափման միավորը | G11: Միավորի գինը | H11: Ցուցանիշների փոփոխությունը (ավելացումները նշված են դրական նշանով)
H12: Քանակը | I12: Գումարը (հազար դրամ)
A14: 1 | B14: 2 | E14: 3 | F14: 4 | G14: 5 | H14: 6 | I14: 7
A16: Դատական դեպարտամենտ | I16: =I17 -> 38400
A17: Բաժին N 03 | C17: Խումբ N 03 | D17: Դաս N 01 | E17: Դատարաններ | I17: =+I18 -> 38400
A18: 1080 31001 | B18: Բարձրագույն դատական խորհրդի տեխնիկական հագեցվածության բարելավում | I18: =+I19 -> 38400
B19: ՄԱՍ I. ԱՊՐԱՆՔՆԵՐ | I19: =+I20 -> 38400
A20: 35121100 | B20: անվտանգության ապահովման սարքեր | E20: ԷԱՃ | F20: հատ | G20: 6400000 | H20: 6 | I20: =+H20*G20/1000 -> 38400
A22: ՀՀ տարածքային կառավարման և ենթակառուցվածքների նախարարություն | I22: =I23 -> 32689.6
A23: Բաժին N 04 | B23: Խումբ N 05 | C23: Դաս N 01 | D23: Ճանապարհային տրանսպորտ | I23: =+I24+I57 -> 32689.6
A24: 1049 21001 | B24: Պետական նշանակության ավտոճանապարհների հիմնանորոգում | I24: =+I25 -> 32405
A25: ՄԱՍ III. ԾԱՌԱՅՈՒԹՅՈՒՆՆԵՐ | I25: =SUM(I26:I56) -> 32405
A26: 71351540 | B26: տեխնիկական հսկողության ծառայություններ | E26: ՀԲՄ | F26: դրամ | G26: 444120 | H26: 1 | I26: =+H26*G26/1000 -> 444.12
A27: 71351540 | B27: տեխնիկական հսկողության ծառայություններ | E27: ԲՄ | F27: դրամ | G27: 320000 | H27: 1 | I27: =+H27*G27/1000 -> 320
A28: 71351540 | B28: տեխնիկական հսկողության ծառայություններ | E28: ՀԲՄ | F28: դրամ | G28: 864458 | H28: 1 | I28: =+H28*G28/1000 -> 864.458
A29: 71351540 | B29: տեխնիկական հսկողության ծառայություններ | E29: ՀԲՄ | F29: դրամ | G29: 3750000 | H29: 1 | I29: =+H29*G29/1000 -> 3750
A30: 71351540 | B30: տեխնիկական հսկողության ծառայություններ | E30: ԲՄ | F30: դրամ | G30: 1115626 | H30: 1 | I30: =+H30*G30/1000 -> 1115.626
A31: 71351540 | B31: տեխնիկական հսկողության ծառայություններ | E31: ՀԲՄ | F31: դրամ | G31: 4020000 | H31: 1 | I31: =+H31*G31/1000 -> 4020
A32: 71351540 | B32: տեխնիկական հսկողության ծառայություններ | E32: ՀԲՄ | F32: դրամ | G32: 510000 | H32: 1 | I32: =+H32*G32/1000 -> 510
A33: 71351540 | B33: տեխնիկական հսկողության ծառայություններ | E33: ՀԲՄ | F33: դրամ | G33: 2760000 | H33: 1 | I33: =+H33*G33/1000 -> 2760
A34: 71351540 | B34: տեխնիկական հսկողության ծառայություններ | E34: ՀԲՄ | F34: դրամ | G34: 400000 | H34: 1 | I34: =+H34*G34/1000 -> 400
A35: 71351540 | B35: տեխնիկական հսկողության ծառայություններ | E35: ՀԲՄ | F35: դրամ | G35: 1194276 | H35: 1 | I35: =+H35*G35/1000 -> 1194.276
A36: 71351540 | B36: տեխնիկական հսկողության ծառայություններ | E36: ԳՀ | F36: դրամ | G36: 263700 | H36: 1 | I36: =+H36*G36/1000 -> 263.7
A37: 71351540 | B37: տեխնիկական հսկողության ծառայություններ | E37: ԲՄ | F37: դրամ | G37: 445200 | H37: 1 | I37: =+H37*G37/1000 -> 445.2
... A56: 50531140 | B56: փորձաքննության ծառայություններ | E56: ԳՀ | F56: դրամ | G56: 337000 | H56: 1 | I56: =+H56*G56/1000 -> 337
A57: 1049 21002 | B57: Տրանսպորտային օբյեկտների հիմնանորոգում | I57: =+I58 -> 284.6
A58: ՄԱՍ III. ԾԱՌԱՅՈՒԹՅՈՒՆՆԵՐ | I58: =SUM(I59:I62) -> 284.6
A59: 71351540 | B59: տեխնիկական հսկողության ծառայություններ | E59: ՀԲՄ | F59: դրամ | G59: 69600 | H59: 1 | I59: =+H59*G59/1000 -> 69.6
A60: 71351540 | B60: տեխնիկական հսկողության ծառայություններ | E60: ՀԲՄ | F60: դրամ | G60: 80000 | H60: 1 | I60: =+H60*G60/1000 -> 80
A61: 98111140 | B61: հեղինակային հսկողության ծառայություններ | E61: ՄԱ | F61: դրամ | G61: 85000 | H61: 1 | I61: =+H61*G61/1000 -> 85
A62: 98111140 | B62: հեղինակային հսկողության ծառայություններ | E62: ՄԱ | F62: դրամ | G62: 50000 | H62: 1 | I62: =+H62*G62/1000 -> 50
A64: ՀՀ շրջակա միջավայրի նախարարություն | I64: =I65 -> 298200
A65: Բաժին N 05 | B65: Խումբ N 06 | C65: Դաս N 01 | D65: Շրջակա միջավայրի վրա ազդեցության գնահատում և մոնիթորինգ | I65: =I66 -> 298200
A66: 1016 32003 | B66: «Հիդրոօդերևութաբանության և մոնիթորինգի կենտրոն» ՊՈԱԿ-ի տեխնիկական միջոցների արդիականացում և նոր սարքավորումների ձեռք բերում | I66: =I67 -> 298200
B67: ՄԱՍ I. Ա Պ Ր Ա Ն Ք Ն Ե Ր | I67: =SUM(I68:I68) -> 298200
A68: 38121400-1 | B68: Մթնոլորտային օդի որակի դիտակայաններ | E68: ԲՄ | F68: լրակազմ | G68: 149100000 | H68: 2 | I68: =G68*H68/1000 -> 298200
A70: ՀՀ կրթության, գիտության, մշակույթի և սպորտի նախարարություն | I70: =+I71+I79+I87 -> 19444.1
A71: Բաժին N 08 | B71: Խումբ N 02 | C71: Դաս N 02 | D71: Թանգարաններ և ցուցասրահներ | I71: =+I72 -> 1063.7
A72: 1075-32008 | B72: Թանգարանների և պատկերասրահների գույքային և տեխնիկական հագեցվածության բարելավում | I72: =+I73 -> 1063.7
B73: ՄԱՍ I. ԱՊՐԱՆՔՆԵՐ | I73: =SUM(I74:I78) -> 1063.7
A74: 39131100 | B74: գրասենյակի դարակաշարեր | E74: ԷԱՃ | F74: հատ | G74: 396000 | H74: 1 | I74: =+ROUNDUP(G74*H74/1000,1) -> 396
A75: 39141120 | B75: դարակներով պահարաններ | E75: ԷԱՃ | F75: հատ | G75: 133650 | H75: 1 | I75: =+ROUNDUP(G75*H75/1000,1) -> 133.7
A76: 39515440 | B76: ուղղահայաց շերտավարագույր | E76: ԷԱՃ | F76: քմ | G76: 5368 | H76: 4.83 | I76: =+ROUNDUP(G76*H76/1000,1) -> 26
A77: 39121520 | B77: գրապահարաններ | E77: ԷԱՃ | F77: հատ | G77: 91000 | H77: 1 | I77: =+ROUNDUP(G77*H77/1000,1) -> 91
A78: 39713432 | B78: փոշեկուլ | E78: ԷԱՃ | F78: հատ | G78: 139000 | H78: 3 | I78: =+ROUNDUP(G78*H78/1000,1) -> 417
A79: Բաժին N 08 | B79: Խումբ N 02 | C79: Դաս N 05 | D79: Արվեստ | I79: =+I80 -> 3908.8
A80: 1168-32007 | B80: Թատերահամերգային կազմակերպությունների նյութատեխնիկական բազայի համալրում | I80: =+I81 -> 3908.8
B81: ՄԱՍ I. ԱՊՐԱՆՔՆԵՐ | I81: =SUM(I82:I86) -> 3908.8
A82: 39121500 | B82: խոհանոցային պահարաններ | E82: ԷԱՃ | F82: հատ | G82: 350000 | H82: 1 | I82: =+ROUNDUP(G82*H82/1000,1) -> 350
A83: 39141260 | B83: զգեստապահարաններ | E83: ԷԱՃ | F83: հատ | G83: 500000 | H83: 1 | I83: =+ROUNDUP(G83*H83/1000,1) -> 500
A84: 39515100 | B84: վարագույրներ | E84: ԷԱՃ | F84: մետր | G84: 14955.99 | H84: 68.2 | I84: =+ROUNDUP(G84*H84/1000,1) -> 1020
A85: 39515100 | B85: վարագույրներ | E85: ԷԱՃ | F85: մետր | G85: 14506.45 | H85: 124 | I85: =+ROUNDUP(G85*H85/1000,1) -> 1798.8
A86: 39515100 | B86: վարագույրներ | E86: ԷԱՃ | F86: մետր | G86: 24000 | H86: 10 | I86: =+ROUNDUP(G86*H86/1000,1) -> 240
A87: Բաժին N 08 | B87: Խումբ N 02 | C87: Դաս N 07 | D87: Հուշարձանների և մշակութային արժեքների վերականգնում և պահպանում | I87: =+I88 -> 14471.6
A88: 1075-21001 | B88: Հուշարձանների ամրակայում, նորոգում և վերականգնում | I88: =+I89 -> 14471.6
B89: ՄԱՍ II. ԱՇԽԱՏԱՆՔՆԵՐ | I89: =SUM(I90:I91) -> 14471.6
A90: 45451600-5 | B90: վերականգնողական աշխատանքներ | E90: ՀԲՄ | F90: դրամ | I90: 10087.6
A91: 45451600-15 | B91: վերականգնողական աշխատանքներ | E91: ԲՄ | F91: դրամ | I91: 4384
A93: ՀՀ աշխատանքի և սոցիալական հարցերի նախարարություն | I93: =I96+I98 -> 69511.257
A94: Բաժին N 10 | B94: Խումբ N 02 | C94: Դաս N 01 | D94: Տարեց և (կամ) հաշմանդամություն ունեցող անձանց աջակցություն
A95: 1032 32007 | B95: Շուրջօրյա և ցերեկային խնամք մատուցող պետական ոչ առևտրային կազմակերպությունների շենքային պայմանների բարելավում
B96: ՄԱՍ II. ԱՇԽԱՏԱՆՔՆԵՐ | I96: =I97 -> 16498.137
A97: 45211100 | B97: տների շինարարական աշխատանքներ | E97: ԳՀ | F97: դրամ | G97: 16498137 | H97: 1 | I97: =G97/1000 -> 16498.137
B98: ՄԱՍ III. ԾԱՌԱՅՈՒԹՅՈՒՆՆԵՐ | I98: =SUM(I99:I104) -> 53013.12
A99: 71241200 | B99: նախագծերի պատրաստում, ծախսերի գնահատում | E99: ԳՀ | F99: դրամ | G99: 31200000 | H99: 1 | I99: =G99/1000 -> 31200
A100: 71241200 | B100: նախագծերի պատրաստում, ծախսերի գնահատում | E100: ԳՀ | F100: դրամ | G100: 18000000 | H100: 1 | I100: =G100/1000 -> 18000
A101: 71351540-3 | B101: տեխնիկական հսկողության ծառայություններ | E101: ՄԱ | F101: դրամ | G101: 789840 | H101: 1 | I101: =G101/1000 -> 789.84
A102: 98111140-1 | B102: հեղինակային հսկողության ծառայություններ | E102: ՄԱ | F102: դրամ | G102: 263280 | H102: 1 | I102: =G102/1000 -> 263.28
A103: 50531140/3 | B103: փորձաքննության ծառայություններ | E103: ԳՀ | F103: դրամ | G103: 1560000 | H103: 1 | I103: =G103/1000 -> 1560
A104: 50531140/4 | B104: փորձաքննության ծառայություններ | E104: ԳՀ | F104: դրամ | G104: 1200000 | H104: 1 | I104: =G104/1000 -> 1200
A105: ՀՀ տարածքային կառավարման և ենթակառուցվածքների նախարարության ջրային կոմիտե | I105: =I106+I112 -> 24794.8
A106: Բաժին N 04 | B106: Խումբ N 02 | C106: Դաս N 04 | D106: Ոռոգում | I106: =I107 -> 15521.2
A107: 1004 31002 | B107: Ոռոգման համակարգերի հիմնանորոգում | I107: =I108 -> 15521.2
B108: ՄԱՍ II ԱՇԽԱՏԱՆՔՆԵՐ | I108: =I109+I110 -> 15521.2
A109: 45611300 | B109: Այլ շենքերի, շինությունների հիմնանորոգում | E109: ՀԲՄ | F109: դրամ | I109: 7727.6
A110: 45231132 | B110: Ջրատարների վերականգնման շինարարական աշխատանքնե | E110: ՀԲՄ | F110: դրամ | I110: 7793.6
A111: 1072 31013 | B111: Ջրամատակարարման և ջրահեռացման համակարգի կառուցում | I111: =I112 -> 9273.6
B112: ՄԱՍ III ԾԱՌԱՅՈՒԹՅՈՒՆՆԵՐ | I112: =I113 -> 9273.6
A113: 71241200 | B113: Նախագծերի պատրաստում, ծախսերի գնահատում | E113: ԳՀ | F113: դրամ | G113: 9273600 | H113: 1 | I113: =G113*H113/1000 -> 9273.6
A115: ՀՀ պետական եկամուտների կոմիտե | I115: =+I116 -> 893785.37
A116: Բաժին N 01 | B116: Խումբ N 01 | C116: Դաս N 02 | D116: Ֆինանսական և հարկաբյուջետային հարաբերություններ | I116: =I117+I123 -> 893785.37
A117: 1023 31003 | B117: ՀՀ պետական եկամուտների կոմիտեի շենքային ապահովվածության բարելավում | I117: =+I118+I120 -> 606536.37
B118: ՄԱՍ II. ԱՇԽԱՏԱՆՔՆԵՐ | I118: =+I119 -> 600844.89
A119: 45451700-1 | B119: վերակառուցման աշխատանքներ | E119: ՀԲՄ | F119: դրամ | I119: 600844.89
B120: ՄԱՍ III. ԾԱՌԱՅՈՒԹՅՈՒՆՆԵՐ | I120: =+I121+I122 -> 5691.486
A121: 71351540-1 | B121: տեխնիկական հսկողության ծառայություններ | E121: ՀԲՄ | F121: դրամ | I121: 3605.195
A122: 98111140-1 | B122: հեղինակային հսկողության ծառայություններ | E122: ՄԱ | F122: դրամ | I122: 2086.291
A123: 1235 31001 | B123: Միասնական թվային միջավայրի ձևավորում | I123: =I124 -> 287249
B124: ՄԱՍ III. ԾԱՌԱՅՈՒԹՅՈՒՆՆԵՐ | I124: =I125+I126+I127 -> 287249
A125: 72261110 | B125: ծրագրային ապահովման մշակման ծառայություններ | E125: ԲՄ | F125: դրամ | G125: 90000000 | H125: 1 | I125: =G125*H125/1000 -> 90000
A126: 72261110 | B126: ծրագրային ապահովման մշակման ծառայություններ | E126: ԲՄ | F126: դրամ | G126: 60000000 | H126: 1 | I126: =G126*H126/1000 -> 60000
A127: 72261110 | B127: ծրագրային ապահովման մշակման ծառայություններ | E127: ԲՄ | F127: դրամ | G127: 137249000 | H127: 1 | I127: =G127*H127/1000 -> 137249
A129: ՀՀ տարածքային կառավարման և ենթակառուցվածքների նախարարության պետական գույքի կառավարման կոմիտե | I129: =I130 -> 11284.8
A130: Բաժին N 01 | B130: Խումբ N 01 | C130: Դաս N 01 | D130: Օրենսդիր և գործադիր մարմիններ, պետական կառավարում | I130: =I132 -> 11284.8
A131: 1079 31004 | B131: Պետական գույքի կառավարման կոմիտեի ենթակայության շենքերի պայմանների բարելավում | I131: =I132 -> 11284.8
B132: ՄԱՍ II. ԱՇԽԱՏԱՆՔՆԵՐ | I132: =I133+I135+I136 -> 11284.8
...

Sheet N 11.
C1: Հավելված N 11
C3: ՀՀ կառավարության 2025 թվականի
C4: ______________ ի ___Ն որոշման
A7: ՀԱՅԱՍՏԱՆԻ ՀԱՆՐԱՊԵՏՈՒԹՅԱՆ ԿԱՌԱՎԱՐՈՒԹՅԱՆ 2024 ԹՎԱԿԱՆԻ ԴԵԿՏԵՄԲԵՐԻ 27-Ի N 2060-Ն N 8 ՀԱՎԵԼՎԱԾՈՒՄ ԿԱՏԱՐՎՈՂ ԼՐԱՑՈՒՄԸ
A11: Ծրագրային դասիչը | C11: Ծրագրերի, միջոցառումների անվանումները | D11: Գումարը
A12: Ծրագիր | B12: Միջոցառում
C13: ԸՆԴԱՄԵՆԸ ԾԱԽՍԵՐ | D13: =D15 -> 32163.3
C14: այդ թվում՝
A15: 1157 | C15: Քաղաքային զարգացում | D15: =+D16+D17 -> 32163.3
B16: 21037 | C16: Երևան քաղաքի նախադպրոցական ուսումնական հաստատությունների կառուցման և հիմնանորոգման աշխատանքներ | D16: 13912.5
B17: 21038 | C17: Երևանի բուսաբանական այգու տարածքում անտառապուրակի կառուցապատման աշխատանքներ | D17: 18250.8
