Workbook
Name _tab10: #REF!
Name _tab11: #REF!
Name _tab12: #REF!
Name _tab13: #REF!
Name _tab14: #REF!
Name _tab15: #REF!
Name _tab16: #REF!
Name _tab17: #REF!
Name _tab18: #REF!
Name _tab19: #REF!
Name _tab20: #REF!
Name _tab21: #REF!
Name _tab22: #REF!
Name _tab23: #REF!
Name _tab24: #REF!
Name _tab5: #REF!
Name _tab6: #REF!
Name _tab7: #REF!
Name _tab8: #REF!
Name _tab9: #REF!
Name AgencyCode: #REF!
Name AgencyCode: #REF!
Name AgencyName: #REF!
Name AgencyName: #REF!
Name åû: #REF!
Name åû: #REF!
Name davit: #REF!
Name davit: #REF!
Name Functional1: #REF!
Name Functional1: #REF!
Name ggg: #REF!
Name ggg: #REF!
Name hav: #REF!
Name havelvac: #REF!
Name mas: #REF!
Name mas: #REF!
Name mass: #REF!
Name mass: #REF!
Name PANature: #REF!
Name PANature: #REF!
Name par_count: #REF!,#REF!,#REF!,#REF!,#REF!,#REF!,#REF!,#REF!,#REF!,#REF!,#REF!,#REF!,#REF!,#REF!,#REF!
Name par_qual: #REF!,#REF!,#REF!,#REF!,#REF!
Name par_time: #REF!,#REF!,#REF!,#REF!
Name par2.12s: #REF!
Name par2.4s: #REF!,#REF!,#REF!,#REF!,#REF!,#REF!,#REF!,#REF!,#REF!,#REF!,#REF!,#REF!,#REF!,#REF!,#REF!,#REF!
Name par2.5s: #REF!,#REF!
Name par2.6s: #REF!,#REF!,#REF!,#REF!
Name par2.7s: #REF!,#REF!
Name par2.9s: #REF!,#REF!,#REF!,#REF!,#REF!,#REF!,#REF!,#REF!,#REF!,#REF!,#REF!,#REF!,#REF!,#REF!,#REF!,#REF!
Name par4.10s: #REF!,#REF!
Name par4.11d: #REF!,#REF!,#REF!,#REF!,#REF!
Name par4.12d: #REF!
Name par4.13s: #REF!
Name par4.14: #REF!,#REF!,#REF!,#REF!,#REF!,#REF!
Name par4.15: #REF!,#REF!,#REF!
Name par4.16: #REF!,#REF!,#REF!
Name par4.17: #REF!,#REF!,#REF!,#REF!
Name par4.18d: #REF!,#REF!
Name par4.19s: #REF!
Name par4.20f: #REF!

Sheet h1
B1: Հավելված N 1
B2: ՀՀ կառավարության 2025 թվականի
B3: ______________ ի ___Ն որոշման
B6: «ՀԱՅԱՍՏԱՆԻ ՀԱՆՐԱՊԵՏՈՒԹՅԱՆ 2025 ԹՎԱԿԱՆԻ ՊԵՏԱԿԱՆ ԲՅՈՒՋԵԻ ՄԱՍԻՆ» ՕՐԵՆՔԻ 2-ՐԴ ՀՈԴՎԱԾԻ ԱՂՅՈՒՍԱԿՈՒՄ ԿԱՏԱՐՎՈՂ ԼՐԱՑՈՒՄՆԵՐԸ
C8: հազար դրամներով
C9: Ցուցանիշների փոփոխությունը (ավելացումները նշված են դրական նշանով)
B10: 1. Եկամուտների գծով | C10: =C11 -> 360584.7
B11: 2. Ծախսերի գծով | C11: ='h2'!E10 -> 360584.7
B12: 3. Դեֆիցիտը (պակասուրդը) | C12: =C10-C11 -> 0
B16: ՀԱՅԱՍՏԱՆԻ ՀԱՆՐԱՊԵՏՈՒԹՅԱՆ ՎԱՐՉԱՊԵՏԻ ԱՇԽԱՏԱԿԱԶՄԻ ՂԵԿԱՎԱՐ | C16: Ա. ՀԱՐՈՒԹՅՈՒՆՅԱՆ

Sheet h2
B1: Հավելված N 2
B2: ՀՀ կառավարության 2025 թվականի
B3: ______________ ի ___Ն որոշման
B5: «ՀԱՅԱՍՏԱՆԻ ՀԱՆՐԱՊԵՏՈՒԹՅԱՆ 2025 ԹՎԱԿԱՆԻ ՊԵՏԱԿԱՆ ԲՅՈՒՋԵԻ ՄԱՍԻՆ» ՕՐԵՆՔԻ 6-ՐԴ ՀՈԴՎԱԾԻ ԱՂՅՈՒՍԱԿՈՒՄ ԵՎ ՀԱՅԱՍՏԱՆԻ ՀԱՆՐԱՊԵՏՈՒԹՅԱՆ ԿԱՌԱՎԱՐՈՒԹՅԱՆ 2024 ԹՎԱԿԱՆԻ ԴԵԿՏԵՄԲԵՐԻ 27-Ի N 2060-Ն ՈՐՈՇՄԱՆ N 2 ՀԱՎԵԼՎԱԾՈՒՄ ԿԱՏԱՐՎՈՂ ԼՐԱՑՈՒՄԸ
D7: հազար դրամներով
B8: Եկամտատեսակ | C8: Ցուցանիշների փոփոխությունը (ավելացումները նշված են դրական նշանով)
C9: Առաջին կիսամյակ | D9: Ինն ամիս | E9: Տարի
B10: ՊԵՏԱԿԱՆ ԲՅՈՒՋԵԻ ԵԿԱՄՈՒՏՆԵՐ | C10: =C12 -> 360584.7 | D10: =D12 -> 360584.7 | E10: =E12 -> 360584.7
B11: այդ թվում՝
B12: Այլ եկամուտներ | C12: ='h7'!G10 -> 360584.7 | D12: =C12 -> 360584.7 | E12: =D12 -> 360584.7
B16: ՀԱՅԱՍՏԱՆԻ ՀԱՆՐԱՊԵՏՈՒԹՅԱՆ ՎԱՐՉԱՊԵՏԻ ԱՇԽԱՏԱԿԱԶՄԻ ՂԵԿԱՎԱՐ | E16: Ա. ՀԱՐՈՒԹՅՈՒՆՅԱՆ

Sheet h3
F1: Հավելված N 3
D2: ՀՀ կառավարության 2025 թվականի
D3: ______________ ի ___Ն որոշման
B5: ՀԱՅԱՍՏԱՆԻ ՀԱՆՐԱՊԵՏՈՒԹՅԱՆ ԿԱՌԱՎԱՐՈՒԹՅԱՆ 2024 ԹՎԱԿԱՆԻ ԴԵԿՏԵՄԲԵՐԻ 27-Ի N 2060-Ն ՈՐՈՇՄԱՆ N 6 ՀԱՎԵԼՎԱԾՈՒՄ ԿԱՏԱՐՎՈՂ ԼՐԱՑՈՒՄԸ
F6: հազար դրամներով
C7: եկամտատեսակը | D7: Գանձման համար պատասխանատու պետական կառավարման (մարմինները) | E7: Ցուցանիշների փոփոխությունը (ավելացումները նշված են դրական նշանով)
E8: Առաջին կիսամյակ | F8: Ինն ամիս | G8: Տարի
B9: Այլ եկամուտներ, ընդամենը | E9: =E11 -> 360584.7 | F9: =F11 -> 360584.7 | G9: =G11 -> 360584.7
C10: այդ թվում`
B11: 6 | C11: Օրենքով և այլ իրավական ակտերով սահմանված պետական բյուջե մուտքագրվող այլ եկամուտներ | E11: =E12 -> 360584.7 | F11: =F12 -> 360584.7 | G11: =G12 -> 360584.7
B12: 6.7 | C12: Այլ եկամուտներ | D12: ՀՀ պետական կառավարման մարմիններ | E12: ='h2'!C12 -> 360584.7 | F12: ='h2'!D12 -> 360584.7 | G12: ='h2'!E12 -> 360584.7
B15: ՀԱՅԱՍՏԱՆԻ ՀԱՆՐԱՊԵՏՈՒԹՅԱՆ ՎԱՐՉԱՊԵՏԻ ԱՇԽԱՏԱԿԱԶՄԻ ՂԵԿԱՎԱՐ՝ | D15: Ա.ՀԱՐՈՒԹՅՈՒՆՅԱՆ

Sheet h4
G2: ՀՀ կառավարության 2025 թվականի
G3: ______________ ի ___Ն որոշման
C5: «ՀԱՅԱՍՏԱՆԻ ՀԱՆՐԱՊԵՏՈՒԹՅԱՆ 2025 ԹՎԱԿԱՆԻ ՊԵՏԱԿԱՆ ԲՅՈՒՋԵԻ ՄԱՍԻՆ» ՕՐԵՆՔԻ N 3 ՀԱՎԵԼՎԱԾԻ N 1․1 ԱՂՅՈՒՍԱԿՈՒՄ ԵՎ ՀԱՅԱՍՏԱՆԻ ՀԱՆՐԱՊԵՏՈՒԹՅԱՆ ԿԱՌԱՎԱՐՈՒԹՅԱՆ 2024 ԹՎԱԿԱՆԻ ԴԵԿՏԵՄԲԵՐԻ 27-Ի N 2060-Ն ՈՐՈՇՄԱՆ N 1 ՀԱՎԵԼՎԱԾԻ N 2 ԱՂՅՈՒՍԱԿՈՒՄ ԿԱՏԱՐՎՈՂ ՓՈՓՈԽՈՒԹՅՈՒՆՆԵՐԸ ԵՎ ԼՐԱՑՈՒՄՆԵՐԸ
I6: հազար դրամներով
B7: ԲԳԿ | C7: Ծրագրային դասիչը | E7: ԲԳԿ/Ծրագրի /միջոցառման անվանումը | F7: Ծրագրի նպատակը/Միջոցառման նկարագրույունը | G7: Վերջնական արդյունքի նկարագրությունը/Միջոցառման տեսակը | H7: Ցուցանիշների փոփոխությունը (ավելացումները նշված են դրական նշանով, իսկ նվազեցումները` փակագծերում)
C8: Ծրագիր | D8: Միջոցառում | H8: Առաջին կիսամյակ | I8: Ինն ամիս | J8: Տարի
B9: ԸՆԴԱՄԵՆԸ | H9: =H10 -> 0 | I9: =I10 -> 0 | J9: =J10 -> 0
B10: ՀՀ տարածքային կառավարման և ենթակառուցվածքների նախարարություն | H10: =H11+H13 -> 0 | I10: =I11+I13 -> 0 | J10: =J11+J13 -> 0
C11: 1040 | E11: Կոշտ թափոնների կառավարում | F11: Կենցաղային թափոնների արդյունավետ կառավարում սոցիալական և բնապահպանական խնդիրների լուծում | G11: Կենցաղային թափոնների արդյունավետ կառավարում | H11: =H12 -> 236964.4 | I11: =I12 -> 236964.4 | J11: =J12 -> 236964.4
D12: 1040-42001 | E12: Վերակառուցման և զարգացման եվրոպական բանկի աջակցությամբ իրականացվող Կոտայքի և Գեղարքունիքի մարզերի կոշտ թափոնների կառավարման ծրագրի շրջանակներում ենթավարկի տրամադրում «Կոտայքի և Գեղարքունիքի Կոշտ կենցաղային թափոնների կառավարում» ՍՊԸ-ին | F12: Կոշտ թափոննրի կառավարման համակարգի բարելավում և նոր աղբավայրի ստեղծում | G12: Վարկերի տրամադրում | H12: ='h5'!D15 -> 236964.4 | I12: ='h5'!G15 -> 236964.4 | J12: ='h5'!J15 -> 236964.4
C13: 1157 | E13: Քաղաքային զարգացում | F13: Քաղաքային ենթակառուցվածքների զարգացում | G13: Քաղաքային ենթակառուցվածքների արդիականացում և բարելավում | H13: =H14 -> -236964.4 | I13: =I14 -> -236964.4 | J13: =J14 -> -236964.4
D14: 1157-42001 | E14: Վերակառուցման և զարգացման եվրոպական բանկի աջակցությամբ իրականացվող Երևանի քաղաքային լուսավորության ծրագրի շրջանակներում ենթավարկի տրամադրում «Երքաղլույս» ՓԲԸ-ին | F14: Երևանի քաղաքային լուսավորության ապահովման համար վարկերի տրամադրում | G14: Վարկերի տրամադրում | H14: ='h5'!D24 -> -236964.4 | I14: ='h5'!G24 -> -236964.4 | J14: ='h5'!J24 -> -236964.4
C21: ՀԱՅԱՍՏԱՆԻ ՀԱՆՐԱՊԵՏՈՒԹՅԱՆ
C22: ՎԱՐՉԱՊԵՏԻ ԱՇԽԱՏԱԿԱԶՄԻ ՂԵԿԱՎԱՐ ՝ Ա. ՀԱՐՈՒԹՅՈՒՆՅԱՆ

Sheet h5
K1: Հավելված N 5
H2: ՀՀ կառավարության 2025 թվականի
H3: ______________ ի ___Ն որոշման
A5: «ՀԱՅԱՍՏԱՆԻ ՀԱՆՐԱՊԵՏՈՒԹՅԱՆ 2025 ԹՎԱԿԱՆԻ ՊԵՏԱԿԱՆ ԲՅՈՒՋԵԻ ՄԱՍԻՆ» ՕՐԵՆՔԻ N 3 ՀԱՎԵԼՎԱԾԻ N 1․1․1 ԱՂՅՈՒՍԱԿՈՒՄ ԵՎ ՀԱՅԱՍՏԱՆԻ ՀԱՆՐԱՊԵՏՈՒԹՅԱՆ ԿԱՌԱՎԱՐՈՒԹՅԱՆ 2024 ԹՎԱԿԱՆԻ ԴԵԿՏԵՄԲԵՐԻ 27-Ի N 2060-Ն ՈՐՈՇՄԱՆ N 1 ՀԱՎԵԼՎԱԾԻ N 3 ԱՂՅՈՒՍԱԿՈՒՄ ԿԱՏԱՐՎՈՂ ՓՈՓՈԽՈՒԹՅՈՒՆՆԵՐԸ ԵՎ ԼՐԱՑՈՒՄՆԵՐԸ
K6: հազար դրամներով
A7: Ծրագրային դասիչ | C7: Բյուջետային գլխավոր կարգադրիչների, ծրագրերի և միջոցառումների անվանումները | D7: Ցուցանիշների փոփոխությունը (ավելացումները նշված են դրական նշանով, իսկ նվազեցումները` փակագծերում)
D8: Առաջին Կիսամյակ | G8: Ինն ամիս | J8: Տարի
D9: Ընդամենը | E9: այդ թվում | G9: Ընդամենը | H9: այդ թվում | J9: Ընդամենը | K9: այդ թվում
A10: Ծրագիր | B10: Միջոցառում | E10: Վարկային միջոցներ | F10: Համաֆինանսավորում | H10: Վարկային միջոցներ | I10: Համաֆինանսավորում | K10: Վարկային միջոցներ | L10: Համաֆինանսավորում
C11: ԸՆԴԱՄԵՆԸ | D11: =D13 -> 0 | E11: =E13 -> 0 | F11: =F13 -> 0 | G11: =G13 -> 0 | H11: =H13 -> 0 | I11: =I13 -> 0 | J11: =J13 -> 0 | K11: =K13 -> 0 | L11: =L13 -> 0
C12: այդ թվում՝
C13: ՀՀ ՏԱՐԱԾՔԱՅԻՆ ԿԱՌԱՎԱՐՄԱՆ ԵՎ ԵՆԹԱԿԱՌՈՒՑՎԱԾՔՆԵՐԻ ՆԱԽԱՐԱՐՈՒԹՅՈՒՆ | D13: =D14+D23 -> 0 | E13: =E14+E23 -> 0 | F13: =F14+F23 -> 0 | G13: =G14+G23 -> 0 | H13: =H14+H23 -> 0 | I13: =I14+I23 -> 0 | J13: =J14+J23 -> 0 | K13: =K14+K23 -> 0 | L13: =L14+L23 -> 0
A14: 1040 | C14: Կոշտ թափոնների կառավարում | D14: =D15 -> 236964.4 | E14: =E15 -> 197470.3 | F14: =F15 -> 39494.1 | G14: =G15 -> 236964.4 | H14: =H15 -> 197470.3 | I14: =I15 -> 39494.1 | J14: =J15 -> 236964.4 | K14: =K15 -> 197470.3 | L14: =L15 -> 39494.1
B15: 42001 | C15: Վերակառուցման և զարգացման եվրոպական բանկի աջակցությամբ իրականացվող Կոտայքի և Գեղարքունիքի մարզերի կոշտ թափոնների կառավարման ծրագրի շրջանակներում ենթավարկի տրամադրում «Կոտայքի և Գեղարքունիքի Կոշտ կենցաղային թափոնների կառավարում» ՍՊԸ-ին | D15: =E15+F15 -> 236964.4 | E15: =E17 -> 197470.3 | F15: =F17 -> 39494.1 | G15: =H15+I15 -> 236964.4 | H15: =H17 -> 197470.3 | I15: =I17 -> 39494.1 | J15: =K15+L15 -> 236964.4 | K15: =K17 -> 197470.3 | L15: =L17 -> 39494.1
C16: այդ թվում՝ ըստ կատարողների
C17: ՀՀ տարածքային կառավարման և ենթակառուցվածքների նախարարություն | D17: =E17+F17 -> 236964.4 | E17: =E19 -> 197470.3 | F17: =F19 -> 39494.1 | G17: =H17+I17 -> 236964.4 | H17: =H19 -> 197470.3 | I17: =I19 -> 39494.1 | J17: =K17+L17 -> 236964.4 | K17: =K19 -> 197470.3 | L17: =L19 -> 39494.1
C18: այդ թվում՝ ըստ տնտեսագիտական դասակարգման հոդվածների՝
C19: ՀԻՄՆԱԿԱՆ ԳՈՒՄԱՐԻ ՄԱՐՄԱՆ ԵՎ ՖԻՆԱՆՍԱԿԱՆ ԱԿՏԻՎՆԵՐԻ ՁԵՌՔԲԵՐՄԱՆ ԳԾՈՎ ԾԱԽՍԵՐ, այդ թվում` | D19: =E19+F19 -> 236964.4 | E19: =E20 -> 197470.3 | F19: =F20 -> 39494.1 | G19: =H19+I19 -> 236964.4 | H19: =H20 -> 197470.3 | I19: =I20 -> 39494.1 | J19: =K19+L19 -> 236964.4 | K19: =K20 -> 197470.3 | L19: =L20 -> 39494.1
C20: ՖԻՆԱՆՍԱԿԱՆ ԱԿՏԻՎՆԵՐԻ ՁԵՌՔԲԵՐՈՒՄ, այդ թվում | D20: =E20+F20 -> 236964.4 | E20: =E21 -> 197470.3 | F20: =F21 -> 39494.1 | G20: =H20+I20 -> 236964.4 | H20: =H21 -> 197470.3 | I20: =I21 -> 39494.1 | J20: =K20+L20 -> 236964.4 | K20: =K21 -> 197470.3 | L20: =L21 -> 39494.1
C21: ՆԵՐՔԻՆ ՖԻՆԱՆՍԱԿԱՆ ԱԿՏԻՎՆԵՐԻ ՁԵՌՔԲԵՐՈՒՄ, այդ թվում` | D21: =E21+F21 -> 236964.4 | E21: =E22 -> 197470.3 | F21: =F22 -> 39494.1 | G21: =H21+I21 -> 236964.4 | H21: =H22 -> 197470.3 | I21: =I22 -> 39494.1 | J21: =K21+L21 -> 236964.4 | K21: =K22 -> 197470.3 | L21: =L22 -> 39494.1
C22: Ներքին վարկեր և փոխատվություններ | D22: =E22+F22 -> 236964.4 | E22: 197470.3 | F22: 39494.1 | G22: =H22+I22 -> 236964.4 | H22: 197470.3 | I22: 39494.1 | J22: =K22+L22 -> 236964.4 | K22: 197470.3 | L22: 39494.1
A23: 1157 | C23: Քաղաքային զարգացում | D23: =D24 -> -236964.4 | E23: =E24 -> -197470.3 | F23: =F24 -> -39494.1 | G23: =G24 -> -236964.4 | H23: =H24 -> -197470.3 | I23: =I24 -> -39494.1 | J23: =J24 -> -236964.4 | K23: =K24 -> -197470.3 | L23: =L24 -> -39494.1
B24: 42001 | C24: Վերակառուցման և զարգացման եվրոպական բանկի աջակցությամբ իրականացվող Երևանի քաղաքային լուսավորության ծրագրի շրջանակներում ենթավարկի տրամադրում «Երքաղլույս» ՓԲԸ-ին | D24: =E24+F24 -> -236964.4 | E24: =E26 -> -197470.3 | F24: =F26 -> -39494.1 | G24: =H24+I24 -> -236964.4 | H24: =H26 -> -197470.3 | I24: =I26 -> -39494.1 | J24: =K24+L24 -> -236964.4 | K24: =K26 -> -197470.3 | L24: =L26 -> -39494.1
C25: այդ թվում՝ ըստ կատարողների
C26: ՀՀ տարածքային կառավարման և ենթակառուցվածքների նախարարություն | D26: =E26+F26 -> -236964.4 | E26: =E28 -> -197470.3 | F26: =F28 -> -39494.1 | G26: =H26+I26 -> -236964.4 | H26: =H28 -> -197470.3 | I26: =I28 -> -39494.1 | J26: =K26+L26 -> -236964.4 | K26: =K28 -> -197470.3 | L26: =L28 -> -39494.1
C27: այդ թվում՝ ըստ տնտեսագիտական դասակարգման հոդվածների՝
C28: ՀԻՄՆԱԿԱՆ ԳՈՒՄԱՐԻ ՄԱՐՄԱՆ ԵՎ ՖԻՆԱՆՍԱԿԱՆ ԱԿՏԻՎՆԵՐԻ ՁԵՌՔԲԵՐՄԱՆ ԳԾՈՎ ԾԱԽՍԵՐ, այդ թվում` | D28: =E28+F28 -> -236964.4 | E28: =E29 -> -197470.3 | F28: =F29 -> -39494.1 | G28: =H28+I28 -> -236964.4 | H28: =H29 -> -197470.3 | I28: =I29 -> -39494.1 | J28: =K28+L28 -> -236964.4 | K28: =K29 -> -197470.3 | L28: =L29 -> -39494.1
C29: ՖԻՆԱՆՍԱԿԱՆ ԱԿՏԻՎՆԵՐԻ ՁԵՌՔԲԵՐՈՒՄ, այդ թվում | D29: =E29+F29 -> -236964.4 | E29: =E30 -> -197470.3 | F29: =F30 -> -39494.1 | G29: =H29+I29 -> -236964.4 | H29: =H30 -> -197470.3 | I29: =I30 -> -39494.1 | J29: =K29+L29 -> -236964.4 | K29: =K30 -> -197470.3 | L29: =L30 -> -39494.1
C30: ՆԵՐՔԻՆ ՖԻՆԱՆՍԱԿԱՆ ԱԿՏԻՎՆԵՐԻ ՁԵՌՔԲԵՐՈՒՄ, այդ թվում` | D30: =E30+F30 -> -236964.4 | E30: =E31 -> -197470.3 | F30: =F31 -> -39494.1 | G30: =H30+I30 -> -236964.4 | H30: =H31 -> -197470.3 | I30: =I31 -> -39494.1 | J30: =K30+L30 -> -236964.4 | K30: =K31 -> -197470.3 | L30: =L31 -> -39494.1
C31: Ներքին վարկեր և փոխատվություններ | D31: =E31+F31 -> -236964.4 | E31: =-E22 -> -197470.3 | F31: =-F14 -> -39494.1 | G31: =H31+I31 -> -236964.4 | H31: =-H14 -> -197470.3 | I31: =-I14 -> -39494.1 | J31: =K31+L31 -> -236964.4 | K31: =-K14 -> -197470.3 | L31: =-L14 -> -39494.1
B37: ՀԱՅԱՍՏԱՆԻ ՀԱՆՐԱՊԵՏՈՒԹՅԱՆ
B38: ՎԱՐՉԱՊԵՏԻ ԱՇԽԱՏԱԿԱԶՄԻ ՂԵԿԱՎԱՐ

Sheet h6
L1: Հավելված N 6
J2: ՀՀ կառավարության 2025 թվականի
J3: ______________ ի ___Ն որոշման
B5: ՀԱՅԱՍՏԱՆԻ ՀԱՆՐԱՊԵՏՈՒԹՅԱՆ ԿԱՌԱՎԱՐՈՒԹՅԱՆ 2024 ԹՎԱԿԱՆԻ ԴԵԿՏԵՄԲԵՐԻ 27-Ի N 2060-Ն ՈՐՈՇՄԱՆ N 1 ՀԱՎԵԼՎԱԾԻ N 5 ԱՂՅՈՒՍԱԿՈՒՄ ԿԱՏԱՐՎՈՂ ՓՈՓՈԽՈՒԹՅՈՒՆՆԵՐԸ ԵՎ ԼՐԱՑՈՒՄՆԵՐԸ
L6: հազար դրամներով
B7: ԲԳԿ | C7: Ծրագիր | E7: Միջոցառում | I7: Իրականացնողը/ակտիվն օգտագործողը/ շահառուի ընտրության չափորոշիչը | J7: Արդյունքային չափորոշիչը | K7: Ցուցանիշների փոփոխությունը (ավելացումները նշված են դրական նշանով, իսկ նվազեցումները` փակագծերում)
C8: Դասիչը | D8: Անվանումը | E8: Դասիչը | F8: Անվանումը | G8: Նկարագրու-թյունը | H8: Տեսակը | K8: Առաջին կիսամյակ | L8: Ինն ամիս | M8: Տարի
B9: ԸՆԴԱՄԵՆԸ | K9: =K10 -> 0 | L9: =L10 -> 0 | M9: =M10 -> 0
B10: ՀՀ տարածքային կառավարման և ենթակառուցվածքների նախարարություն | K10: =+K11+K20 -> 0 | L10: =+L11+L20 -> 0 | M10: =+M11+M20 -> 0
C11: 1040 | D11: Կոշտ թափոնների կառավարում | K11: =K12 -> 236964.4 | L11: =L12 -> 236964.4 | M11: =M12 -> 236964.4
E12: 1040-42001 | F12: Վերակառուցման և զարգացման եվրոպական բանկի աջակցությամբ իրականացվող Կոտայքի և Գեղարքունիքի մարզերի կոշտ թափոնների կառավարման ծրագրի շրջանակներում ենթավարկի տրամադրում «Կոտայքի և Գեղարքունիքի Կոշտ կենցաղային թափոնների կառավարում» ՍՊԸ-ին | K12: ='h5'!D15 -> 236964.4 | L12: =K12 -> 236964.4 | M12: ='h5'!J14 -> 236964.4
G13: Կոշտ թափոննրի կառավարման համակարգի բարելավում և նոր աղբավայրի ստեղծում
H14: Վարկերի տրամադրում
I15: միջոցառումը իրականացնողի անվանումը` մասնագիտացված միավոր
J16: Աղբահանության համար մեքենասարքավորումների ձեռքբերում,հատ | K16: 1427 | M16: 1427
J17: Կառուցվող աղբավայր,հատ | K17: 1 | M17: 1
J18: Կառուցվող փոխաբեռնման կայանների թիվ, հատ | K18: 2 | M18: 2
J19: Ծրագրում ընդգրկված համայքների թիվ, հատ | K19: 16 | M19: 16
C20: 1157 | D20: Քաղաքային զարգացում | K20: =+K21 -> -236964.4 | L20: =+L21 -> -236964.4 | M20: =+M21 -> -236964.4
E21: 1157-42001 | F21: Վերակառուցման և զարգացման եվրոպական բանկի աջակցությամբ իրականացվող Երևանի քաղաքային լուսավորության ծրագրի շրջանակներում ենթավարկի տրամադրում «Երքաղլույս» ՓԲԸ-ին | K21: ='h4'!H13 -> -236964.4 | L21: ='h4'!I13 -> -236964.4 | M21: ='h4'!J13 -> -236964.4
G22: Երևանի քաղաքային լուսավորության ապահովման համար վարկերի տրամադրում
H23: վարկերի տրամադրում
I24: միջոցառումը իրականացնողի անվանումը` մասնագիտացված միավոր
C27: ՀԱՅԱՍՏԱՆԻ ՀԱՆՐԱՊԵՏՈՒԹՅԱՆ
C28: ՎԱՐՉԱՊԵՏԻ ԱՇԽԱՏԱԿԱԶՄԻ
C29: ՂԵԿԱՎԱՐ | F29: Ա. ՀԱՐՈՒԹՅՈՒՆՅԱՆ

Sheet h7
I1: Հավելված N 7
E2: ՀՀ կառավարության 2025 թվականի
I3: N ------------ -Ն որոշման
B4: «ՀԱՅԱՍՏԱՆԻ ՀԱՆՐԱՊԵՏՈՒԹՅԱՆ 2025 ԹՎԱԿԱՆԻ ՊԵՏԱԿԱՆ ԲՅՈՒՋԵԻ ՄԱՍԻՆ» ՕՐԵՆՔԻ N 1 ՀԱՎԵԼՎԱԾԻ N 2 ԱՂՅՈՒՍԱԿՈՒՄ ԿԱՏԱՐՎՈՂ ՎԵՐԱԲԱՇԽՈՒՄԸ ԵՎ ՀԱՅԱՍՏԱՆԻ ՀԱՆՐԱՊԵՏՈՒԹՅԱՆ ԿԱՌԱՎԱՐՈՒԹՅԱՆ 2024 ԹՎԱԿԱՆԻ ԴԵԿՏԵՄԲԵՐԻ 27-Ի N 2060-Ն ՈՐՈՇՄԱՆ N 5 ՀԱՎԵԼՎԱԾԻ N 1 ԱՂՅՈՒՍԱԿՈՒՄ ԿԱՏԱՐՎՈՂ ՓՈՓՈԽՈՒԹՅՈՒՆՆԵՐԸ ԵՎ ԼՐԱՑՈՒՄՆԵՐԸ
G7: հազար դրամներով
A8: ԲԳԿ | B8: Ծրագրային դասիչը | D8: ԲԳԿ/Ծրագրի /միջոցառման անվանումը | E8: Ծրագրի նպատակը/Միջոցառման նկարագրությունը | F8: Վերջնական արդյունքի նկարագրությունը/Միջոցառման տեսակը | G8: Ցուցանիշների փոփոխությունը (ավելացումները նշված են դրական նշանով, իսկ նվազեցումները` փակագծերում)
B9: Ծրագիր | C9: Միջոցառում | G9: Առաջին կիսամյակ | H9: Ինն ամիս | I9: Տարի
A10: ԸՆԴԱՄԵՆԸ | G10: =G11+G19 -> 360584.7 | H10: =H11+H19 -> 360584.7 | I10: =I11+I19 -> 360584.7
A11: ՀՀ տարածքային կառավարման և ենթակառուցվածքների նախարարություն | G11: =G12+G15+G17 -> 360584.7 | H11: =H12+H15+H17 -> 360584.7 | I11: =I12+I15+I17 -> 360584.7
B12: 1040 | D12: Կոշտ թափոնների կառավարում | E12: Կենցաղային թափոնների արդյունավետ կառավարում սոցիալական և բնապահպանական խնդիրների լուծում | F12: Կենցաղային թափոնների արդյունավետ կառավարում | G12: =G13+G14 -> 756681.1 | H12: =H13+H14 -> 756681.1 | I12: =I13+I14 -> 756681.1
C13: 1040 - 32004 | D13: Վերակառուցման և զարգացման եվրոպական բանկի աջակցությամբ իրականացվող «Կոտայքի և Գեղարքունիքի մարզի կոշտ թափոնների կառավարման» դրամաշնորհային ծրագիր | E13: Կոշտ թափոնների կառավարման համակարգի բարելավում և նոր աղբավայրի ստեղծում | F13: Այլ պետական կազմակերպությունների կողմից օգտագործվող ոչ ֆինանսական ակտիվների հետ գործառնություններ | G13: ='h8'!H69 -> 696096.4 | H13: ='h8'!I69 -> 696096.4 | I13: ='h8'!J69 -> 696096.4
C14: 1040-12003 | D14: Վերակառուցման և զարգացման եվրոպական բանկի աջակցությամբ իրականացվող «Կոտայքի և Գեղարքունիքի մարզի կոշտ թափոնների կառավարման ծրագրի շրջանակներում «Կոտայքի և Գեղարքունիքի Կոշտ կենցաղային թափոնների կառավարում» ՍՊԸ-ին ֆինանսական աջակցության տրամադրում» | E14: Վերակառուցման և զարգացման եվրոպական բանկի աջակցությամբ իրականացվող «Կոտայքի և Գեղարքունիքի մարզի կոշտ թափոնների կառավարման ծրագրի շրջանակներում ստեղծված «Կոտայքի և Գեղարքունիքի Կոշտ կենցաղային թափոնների կառավարում» ՍՊԸ-ին ֆինանսական աջակցության տրամադրում՝ կանոնադրական խնդիրները լուծելու նպատակով | F14: Տրանսֆերտների տրամադրում | G14: ='h8'!H60 -> 60584.7 | H14: ='h8'!I60 -> 60584.7 | I14: ='h8'!J60 -> 60584.7
B15: 1072 | D15: Ջրամատակարարաման և ջրահեռացման բարելավում | E15: Ջրամատակարարման ծառայությունների հասանելիության և մատչելիության ապահովում | F15: Խմելու ջրի մատակարարման և ջրահեռացման համակարգի բարելավում, կորուստների կրճատում | G15: =G16 -> -333990.7 | H15: =H16 -> -396096.4 | I15: =I16 -> -396096.4
C16: 1072 - 12001 | D16: Գերմանիայի զարգացման և Եվրոպական միության հարևանության ներդրումային բանկի աջակցությամբ իրականացվող ջրամատակարարման և ջրահեռացման ենթակառուցվածքների դրամաշնորհային ծրագիր` երրորդ փուլ | E16: 579 գյուղական բնակավայրերից ընտրված որոշ համայնքների ջրամատակարարման և ջրահեռացման համակարգերի հատվածների հրատապ վերականգնման աշխատանքների իրականացում ինչպես նաև՛ Արմավիրի կեղտաջրերի մաքրման կայանի կառուցում | F16: Տրանսֆերտների տրամադրում | G16: ='h8'!H90 -> -333990.7 | H16: ='h8'!I90 -> -396096.4 | I16: ='h8'!J90 -> -396096.4
B17: 1232 | D17: Էներգաարդյունավետության ծրագիր | E17: Էներգախնայողության և վերականգնվող էներգետիկայի ներուժի առավելագույն իրացում | F17: Էներգախնայողության մակարդակի բարձրացում և վերականգնվող էներգետիկայի մասնաբաժնի աճ | G17: =G18 -> -62105.7 | H17: =H18 -> 0 | I17: =I18 -> 0
C18: 1232 - 12001 | D18: Եվրոպական ներդրումային բանկի աջակցությամբ իրականացվող Երևանի էներգաարդյունավետության դրամաշնորհային ծրագրի երկրորդ փուլ (մանկապարտեզների և այլ հանրային շենքերի էներգարդյունավետվության բարելավում) | E18: Էներգաարդյունավետության և էներգախնայողությանն ուղղված միջոցառումների իրականացում հանրային (այդ թվում` մանկապարտեզների) շենքերում | F18: Տրանսֆերտների տրամադրում | G18: ='h8'!H22 -> -62105.7 | H18: ='h8'!I22 -> 0 | I18: ='h8'!J22 -> 0
A19: ՀՀ կառավարություն | G19: =G20 -> 0 | H19: =H20 -> 0 | I19: =I20 -> 0
B20: 1139 | D20: ՀՀ կառավարության պահուստային ֆոնդ | E20: Պետական բյուջեում չկանխատեսված, ինչպես նաեւ բյուջետային երաշխիքների ապահովման ծախսերի ֆինանսավորման ապահովում | F20: Պահուստային ֆոնդի կառավարման արդյունավետության և թափանցիկության ապահովում | G20: =G21+G22 -> 0 | H20: =H21+H22 -> 0 | I20: =I21+I22 -> 0
C21: 1139 - 11001 | D21: ՀՀ կառավարության պահուստային ֆոնդ | E21: ՀՀ պետական բյուջեում նախատեսված ելքերի լրացուցիչ ֆինանսավորման, պետական բյուջեում չկանխատեսված ելքերի, ինչպես նաև բյուջետային երաշխիքների ապահովման ելքերի ֆինանսավորման ապահովում | F21: Ծառայությունների մատուցում | G21: ='h8'!H117 -> -60584.7 | H21: ='h8'!I117 -> -60584.7 | I21: ='h8'!J117 -> -60584.7
C22: 1139 - 11001 | D22: ՀՀ կառավարության պահուստային ֆոնդ | E22: ՀՀ պետական բյուջեում նախատեսված ելքերի լրացուցիչ ֆինանսավորման, պետական բյուջեում չկանխատեսված ելքերի, ինչպես նաև բյուջետային երաշխիքների ապահովման ելքերի ֆինանսավորման ապահովում | F22: Ծառայությունների մատուցում | G22: ='h8'!H118 -> 60584.7 | H22: ='h8'!I118 -> 60584.7 | I22: ='h8'!J118 -> 60584.7
B29: ՀԱՅԱՍՏԱՆԻ ՀԱՆՐԱՊԵՏՈՒԹՅԱՆ
B30: ՎԱՐՉԱՊԵՏԻ ԱՇԽԱՏԱԿԱԶՄԻ
C31: ՂԵԿԱՎԱՐ ՝ Ա. ՀԱՐՈՒԹՅՈՒՆՅԱՆ

Sheet h8
J1: Հավելված N 8
F2: ՀՀ կառավարության 2025 թվականի
F3: -----------------ի N -----------Ն որոշման
B4: ՀԱՅԱՍՏԱՆԻ ՀԱՆՐԱՊԵՏՈՒԹՅԱՆ ԿԱՌԱՎԱՐՈՒԹՅԱՆ 2024 ԹՎԱԿԱՆԻ ԴԵԿՏԵՄԲԵՐԻ 27-Ի N 2060-Ն ՈՐՈՇՄԱՆ NN 3 ԵՎ 4 ՀԱՎԵԼՎԱԾՆԵՐՈՒՄ ԿԱՏԱՐՎՈՂ ՓՈՓՈԽՈՒԹՅՈՒՆՆԵՐԸ ԵՎ ԼՐԱՑՈՒՄՆԵՐԸ
J5: հազար դրամներով
B6: Գործառական դասիչը | E6: Ծրագրային դասիչը | G6: Բյուջետային ծախսերի գործառական դասակարգման բաժինների, խմբերի և դասերի, բյուջետային ծրագրերի միջոցառումների, բյուջետային հատկացումների գլխավոր կարգադրիչների անվանումները | H6: Ցուցանիշների փոփոխությունը (ավելացումները նշված են դրական նշանով, նվազեցումները` փակագծերում)
B7: Բաժինը | C7: Խումբը | D7: Դասը | E7: Ծրագիր | F7: Միջոցառում | H7: Առաջին կիսամյակ | I7: Ինն ամիս | J7: Տարի
G8: ԸՆԴԱՄԵՆԸ | H8: =H10+H99 -> 360584.7 | I8: =I10+I99 -> 360584.7 | J8: =J10+J99 -> 360584.7
G9: այդ թվում՝
G10: ՀՀ ՏԱՐԱԾՔԱՅԻՆ ԿԱՌԱՎԱՐՄԱՆ ԵՎ ԵՆԹԱԿԱՌՈՒՑՎԱԾՔՆԵՐԻ ՆԱԽԱՐԱՐՈՒԹՅՈՒՆ | H10: =H12+H50+H80 -> 360584.7 | I10: =I12+I50+I80 -> 360584.7 | J10: =J12+J50+J80 -> 360584.7
G11: այդ թվում`
B12: 04 | G12: ՏՆՏԵՍԱԿԱՆ ՀԱՐԱԲԵՐՈՒԹՅՈՒՆՆԵՐ | H12: =H14+H31 -> -62105.7 | I12: =I14+I31 -> 0 | J12: =J14+J31 -> 0
G13: այդ թվում`
C14: 01 | G14: Ընդհանուր բնույթի տնտեսական, առևտրային և աշխատանքի գծով հարաբերություններ | H14: =H16 -> -62105.7 | I14: =I16 -> 0 | J14: =J16 -> 0
G15: այդ թվում`
D16: 01 | G16: Ընդհանուր բնույթի տնտեսական և առևտրային հարաբերություններ | H16: =H18 -> -62105.7 | I16: =I18 -> 0 | J16: =J18 -> 0
G17: այդ թվում`
G18: ՀՀ տարածքային կառավարման և ենթակառուցվածքների նախարարություն | H18: =H20 -> -62105.7 | I18: =I20 -> 0 | J18: =J20 -> 0
G19: այդ թվում՝
E20: 1232 | G20: Էներգաարդյունավետության ծրագիր | H20: =H22 -> -62105.7 | I20: =I22 -> 0 | J20: =J22 -> 0
G21: այդ թվում`
F22: 12001 | G22: Եվրոպական ներդրումային բանկի աջակցությամբ իրականացվող Երևանի էներգաարդյունավետության դրամաշնորհային ծրագրի երկրորդ փուլ (մանկապարտեզների և այլ հանրային շենքերի էներգարդյունավետվության բարելավում) | H22: =H24 -> -62105.7 | I22: =I24 -> 0 | J22: =+J26 -> 0
G23: այդ թվում` ըստ կատարողների
G24: ՀՀ տարածքային կառավարման և ենթակառուցվածքների նախարարություն | H24: =H26 -> -62105.7 | I24: =I26 -> 0 | J24: =+J26 -> 0
G25: այդ թվում` բյուջետային ծախսերի տնտեսագիտական դասակարգման հոդվածներ
G26: ԸՆԴԱՄԵՆԸ ԾԱԽՍԵՐ | H26: =H27 -> -62105.7 | I26: =I27 -> 0 | J26: =+J27 -> 0
G27: ՈՉ ՖԻՆԱՆՍԱԿԱՆ ԱԿՏԻՎՆԵՐԻ ԳԾՈՎ ԾԱԽՍԵՐ | H27: =H28 -> -62105.7 | I27: =I28 -> 0 | J27: =+J28 -> 0
G28: ՀԻՄՆԱԿԱՆ ՄԻՋՈՑՆԵՐ | H28: =H29 -> -62105.7 | I28: =I29 -> 0 | J28: =J29 -> 0
G29: ՇԵՆՔԵՐ ԵՎ ՇԻՆՈՒԹՅՈՒՆՆԵՐ | H29: =H30 -> -62105.7 | I29: =I30 -> 0 | J29: =J30 -> 0
G30: - Շենքերի և շինությունների շինարարություն | H30: ='h10.'!D40 -> -62105.7 | I30: ='h10.'!G50 -> 0 | J30: ='h10.'!J50 -> 0
C31: 09 | G31: Տնտեսական հարաբերություններ (այլ դասերին չպատկանող) | H31: =H33 -> 0 | I31: =I33 -> 0 | J31: =J33 -> 0
G32: այդ թվում`
D33: 01 | G33: Տնտեսական հարաբերություններ (այլ դասերին չպատկանող) | H33: =H35 -> 0 | I33: =I35 -> 0 | J33: =J35 -> 0
G34: այդ թվում`
G35: ՀՀ տարածքային կառավարման և ենթակառուցվածքների նախարարություն | H35: =H37 -> 0 | I35: =I37 -> 0 | J35: =J37 -> 0
G36: այդ թվում՝
E37: 1019 | G37: Սոցիալական ներդրումների և տեղական զարգացման ծրագիր | H37: =H39 -> 0 | I37: =I39 -> 0 | J37: =J39 -> 0
G38: այդ թվում`
F39: 12004 | G39: Համաշխարհային բանկի աջակցությամբ իրականացվող Սոցիալական ներդրումների և տեղական զարգացման ծրագրի լրացուցիչ ֆինանսավորման վարկի շրջանակներում ՀՀ համայնքային և միջհամայնքային ենթակառուցվածքների որակի, օգտագործման և հասանելիության բարելավում | H39: =H41 -> 0 | I39: =I41 -> 0 | J39: =J41 -> 0
G40: այդ թվում` ըստ կատարողների
...

Sheet h9.
A1: Հավելված 9
A2: ՀՀ կառավարության 2025 թվականի
A3: -----------------ի N -----------Ն որոշման
A5: «ՀԱՅԱՍՏԱՆԻ ՀԱՆՐԱՊԵՏՈՒԹՅԱՆ 2025 ԹՎԱԿԱՆԻ ՊԵՏԱԿԱՆ ԲՅՈՒՋԵԻ ՄԱՍԻՆ» ՀԱՅԱՍՏԱՆԻ ՀԱՆՐԱՊԵՏՈՒԹՅԱՆ ՕՐԵՆՔԻ N 1 ՀԱՎԵԼՎԱԾԻ N 4 ԱՂՅՈՒՍԱԿՈՒՄ ԵՎ ՀԱՅԱՍՏԱՆԻ ՀԱՆՐԱՊԵՏՈՒԹՅԱՆ ԿԱՌԱՎԱՐՈՒԹՅԱՆ 2024 ԹՎԱԿԱՆԻ ԴԵԿՏԵՄԲԵՐԻ 27-Ի N 2060-Ն ՈՐՈՇՄԱՆ N 5 ՀԱՎԵԼՎԱԾԻ N 3 ԱՂՅՈՒՍԱԿՈՒՄ ԿԱՏԱՐՎՈՂ ՓՈՓՈԽՈՒԹՅՈՒՆԸ
K7: հազար դրամներով
A8: Ծրագրային դասիչը | C8: Բյուջետային հատկացումների գլխավոր կարգադրիչների, ծրագրերի, միջոցառումների և միջոցառումները կատարող պետական մարմինների անվանումները | D8: Ցուցանիշների փոփոխությունը (ավելացումները նշված են դրական նշանով, իսկ նվազեցումները` փակագծերում)
D9: Առաջին կիսամյակ | G9: Ինն ամիս | J9: Տարի
A10: Ծրագիր | B10: Միջոցառում | D10: Ընդամենը | E10: այդ թվում` | G10: Ընդամենը | H10: այդ թվում` | J10: Ընդամենը | K10: այդ թվում`
E11: Վարկային միջոցներ | F11: Համաֆինանսավորում | H11: Վարկային միջոցներ | I11: Համաֆինանսավորում | K11: Վարկային միջոցներ | L11: Համաֆինանսավորում
C12: ԸՆԴԱՄԵՆԸ | D12: =D15 -> 0 | E12: =E15 -> 0 | F12: =F15 -> 0 | G12: =G15 -> 0 | H12: =H15 -> 0 | I12: =I15 -> 0 | J12: =J15 -> 0 | K12: =K15 -> 0 | L12: =L15 -> 0
C13: այդ թվում`
C14: ՈՉ ՖԻՆԱՆՍԱԿԱՆ ԱԿՏԻՎՆԵՐԻ ԳԾՈՎ ԾԱԽՍԵՐ | D14: =D24 -> 0 | E14: =E24 -> 0 | F14: =F24 -> 0 | G14: =G24 -> 0 | H14: =H24 -> 0 | I14: =I24 -> 0 | J14: =J24 -> 0 | K14: =K24 -> 0 | L14: =L24 -> 0
C15: ՀՀ տարածքային կառավարման և ենթակառուցվածքների նախարարություն | D15: =D16 -> 0 | E15: =E16 -> 0 | F15: =F16 -> 0 | G15: =G16 -> 0 | H15: =H16 -> 0 | I15: =I16 -> 0 | J15: =J16 -> 0 | K15: =K16 -> 0 | L15: =L16 -> 0
A16: 1019 | C16: Սոցիալական ներդրումների և տեղական զարգացման ծրագիր | D16: =E16+F16 -> 0 | E16: =E18 -> 0 | F16: =F18 -> 0 | G16: =H16+I16 -> 0 | H16: =H18 -> 0 | I16: =I18 -> 0 | J16: =K16+L16 -> 0 | K16: =K18 -> 0 | L16: =L18 -> 0
C17: այդ թվում`
B18: 12004 | C18: Համաշխարհային բանկի աջակցությամբ իրականացվող Սոցիալական ներդրումների և տեղական զարգացման ծրագրի լրացուցիչ ֆինանսավորման վարկի շրջանակներում ՀՀ համայնքային և միջհամայնքային ենթակառուցվածքների որակի, օգտագործման և հասանելիության բարելավում: | D18: =E18+F18 -> 0 | E18: =E20 -> 0 | F18: =F20 -> 0 | G18: =H18+I18 -> 0 | H18: =H20 -> 0 | I18: =I20 -> 0 | J18: =K18+L18 -> 0 | K18: =K20 -> 0 | L18: =L20 -> 0
C19: այդ թվում` ըստ կատարողների
C20: ՀՀ տարածքային կառավարման և ենթակառուցվածքների նախարարություն | D20: =E20+F20 -> 0 | E20: =E22 -> 0 | F20: =F22 -> 0 | G20: =H20+I20 -> 0 | H20: =H22 -> 0 | I20: =I22 -> 0 | J20: =K20+L20 -> 0 | K20: =K22 -> 0 | L20: =L22 -> 0
C21: այդ թվում` բյուջետային ծախսերի տնտեսագիտական դասակարգման հոդվածներ
C22: ԸՆԴԱՄԵՆԸ ԾԱԽՍԵՐ | D22: =D23 -> 0 | E22: =E23 -> 0 | F22: =F23 -> 0 | G22: =G23 -> 0 | H22: =H23 -> 0 | I22: =I23 -> 0 | J22: =J23 -> 0 | K22: =K23 -> 0 | L22: =L23 -> 0
C23: ՈՉ ՖԻՆԱՆՍԱԿԱՆ ԱԿՏԻՎՆԵՐԻ ԳԾՈՎ ԾԱԽՍԵՐ | D23: =E23+F23 -> 0 | E23: =E24 -> 0 | F23: =F24 -> 0 | G23: =H23+I23 -> 0 | H23: =H24 -> 0 | I23: =I24 -> 0 | J23: =K23+L23 -> 0 | K23: =K24 -> 0 | L23: =L24 -> 0
C24: ՀԻՄՆԱԿԱՆ ՄԻՋՈՑՆԵՐ | D24: =D25+D27 -> 0 | E24: =E25+E27 -> 0 | F24: =F25+F27 -> 0 | G24: =G25+G27 -> 0 | H24: =H25+H27 -> 0 | I24: =I25+I27 -> 0 | J24: =J25+J27 -> 0 | K24: =K25+K27 -> 0 | L24: =L25+L27 -> 0
C25: ՇԵՆՔԵՐ ԵՎ ՇԻՆՈՒԹՅՈՒՆՆԵՐ | D25: =E25+F25 -> -184650 | E25: =E26 -> -160000 | F25: =F26 -> -24650 | G25: =H25+I25 -> -184650 | H25: =H26 -> -160000 | I25: =I26 -> -24650 | J25: =K25+L25 -> -184650 | K25: =K26 -> -160000 | L25: =L26 -> -24650
C26: - Շենքերի և շինությունների շինարարություն | D26: =-D27 -> -184650 | E26: =-E27 -> -160000 | F26: =-F27 -> -24650 | G26: =-G27 -> -184650 | H26: =-H27 -> -160000 | I26: =-I27 -> -24650 | J26: =-J27 -> -184650 | K26: =-K27 -> -160000 | L26: =-L27 -> -24650
C27: ՄԵՔԵՆԱՆԵՐ ԵՎ ՍԱՐՔԱՎՈՐՈՒՄՆԵՐ | D27: =D28 -> 184650 | E27: =E28 -> 160000 | F27: =F28 -> 24650 | G27: =G28 -> 184650 | H27: =H28 -> 160000 | I27: =I28 -> 24650 | J27: =J28 -> 184650 | K27: =K28 -> 160000 | L27: =L28 -> 24650
C28: - Այլ մեքենաներ և սարքավորումներ | D28: =E28+F28 -> 184650 | E28: 160000 | F28: 24650 | G28: =H28+I28 -> 184650 | H28: =E28 -> 160000 | I28: =F28 -> 24650 | J28: =K28+L28 -> 184650 | K28: =H28 -> 160000 | L28: =I28 -> 24650
C31: ՀԱՅԱՍՏԱՆԻ ՀԱՆՐԱՊԵՏՈՒԹՅԱՆ ՎԱՐՉԱՊԵՏԻ ԱՇԽԱՏԱԿԱԶՄԻ ՂԵԿԱՎԱՐ

Sheet h10.
A1: Հավելված 10
A2: ՀՀ կառավարության 2025 թվականի
A3: -----------------ի N -----------Ն որոշման
A5: «ՀԱՅԱՍՏԱՆԻ ՀԱՆՐԱՊԵՏՈՒԹՅԱՆ 2025 ԹՎԱԿԱՆԻ ՊԵՏԱԿԱՆ ԲՅՈՒՋԵԻ ՄԱՍԻՆ» ՀԱՅԱՍՏԱՆԻ ՀԱՆՐԱՊԵՏՈՒԹՅԱՆ ՕՐԵՆՔԻ N 1 ՀԱՎԵԼՎԱԾԻ N 5 ԱՂՅՈՒՍԱԿՈՒՄ ԵՎ ՀԱՅԱՍՏԱՆԻ ՀԱՆՐԱՊԵՏՈՒԹՅԱՆ ԿԱՌԱՎԱՐՈՒԹՅԱՆ 2024 ԹՎԱԿԱՆԻ ԴԵԿՏԵՄԲԵՐԻ 27-Ի N 2060-Ն ՈՐՈՇՄԱՆ N 5 ՀԱՎԵԼՎԱԾԻ N 4 ԱՂՅՈՒՍԱԿՈՒՄ ԿԱՏԱՐՎՈՂ ՓՈՓՈԽՈՒԹՅՈՒՆՆԵՐԸ ԵՎ ԼՐԱՑՈՒՄՆԵՐԸ
K7: հազար դրամներով
A8: Ծրագրային դասիչը | C8: Բյուջետային հատկացումների գլխավոր կարգադրիչների, ծրագրերի, միջոցառումների և միջոցառումները կատարող պետական մարմինների անվանումները | D8: Ցուցանիշների փոփոխությունը (ավելացումները նշված են դրական նշանով, իսկ նվազեցումները` փակագծերում)
D9: Առաջին կիսամյակ | G9: Ինն ամիս | J9: Տարի
A10: Ծրագիր | B10: Միջոցառում | D10: Ընդամենը | E10: այդ թվում` | G10: Ընդամենը | H10: այդ թվում` | J10: Ընդամենը | K10: այդ թվում`
E11: Դրամաշնորհային միջոցներ | F11: Համաֆինանսավորում | H11: Դրամաշնորհային միջոցներ | I11: Համաֆինանսավորում | K11: Դրամաշնորհային միջոցներ | L11: Համաֆինանսավորում
C12: ԸՆԴԱՄԵՆԸ | D12: =D15 -> 300000 | E12: =E15 -> 0 | F12: =F15 -> 300000 | G12: =G15 -> 300000 | H12: =H15 -> 0 | I12: =I15 -> 300000 | J12: =J15 -> 300000 | K12: =K15 -> 0 | L12: =L15 -> 300000
C13: այդ թվում`
C14: ՈՉ ՖԻՆԱՆՍԱԿԱՆ ԱԿՏԻՎՆԵՐԻ ԳԾՈՎ ԾԱԽՍԵՐ | D14: =D23+D47+D36 -> 300000 | E14: =E23+E47+E36 -> 0 | F14: =F23+F47+F36 -> 300000 | G14: =G23+G47+G36 -> 300000 | H14: =H23+H47+H36 -> 0 | I14: =I23+I47+I36 -> 300000 | J14: =J23+J47+J36 -> 300000 | K14: =K23+K47+K36 -> 0 | L14: =L23+L47+L36 -> 300000
C15: ՀՀ տարածքային կառավարման և ենթակառուցվածքների նախարարություն | D15: =D16+D40+D29 -> 300000 | E15: =E16+E40+E29 -> 0 | F15: =F16+F40+F29 -> 300000 | G15: =G16+G40+G29 -> 300000 | H15: =H16+H40+H29 -> 0 | I15: =I16+I40+I29 -> 300000 | J15: =J16+J40+J29 -> 300000 | K15: =K16+K40+K29 -> 0 | L15: =L16+L40+L29 -> 300000
A16: 1040 | C16: Կոշտ թափոնների կառավարում | D16: =D18 -> 696096.4 | E16: =E18 -> 253990.7 | F16: =F18 -> 442105.7 | G16: =G18 -> 696096.4 | H16: =H18 -> 253990.7 | I16: =I18 -> 442105.7 | J16: =J18 -> 696096.4 | K16: =K18 -> 253990.7 | L16: =L18 -> 442105.7
C17: այդ թվում`
B18: 32004 | C18: Վերակառուցման և զարգացման եվրոպական բանկի աջակցությամբ իրականացվող «Կոտայքի և Գեղարքունիքի մարզի կոշտ թափոնների կառավարման» դրամաշնորհային ծրագիր | D18: =E18+F18 -> 696096.4 | E18: =E20 -> 253990.7 | F18: =F20 -> 442105.7 | G18: =H18+I18 -> 696096.4 | H18: =H20 -> 253990.7 | I18: =I20 -> 442105.7 | J18: =K18+L18 -> 696096.4 | K18: =K20 -> 253990.7 | L18: =L20 -> 442105.7
C19: այդ թվում` ըստ կատարողների
C20: ՀՀ տարածքային կառավարման և ենթակառուցվածքների նախարարություն | D20: =E20+F20 -> 696096.4 | E20: =E22 -> 253990.7 | F20: =F22 -> 442105.7 | G20: =H20+I20 -> 696096.4 | H20: =H22 -> 253990.7 | I20: =I22 -> 442105.7 | J20: =K20+L20 -> 696096.4 | K20: =K22 -> 253990.7 | L20: =L22 -> 442105.7
C21: այդ թվում` բյուջետային ծախսերի տնտեսագիտական դասակարգման հոդվածներ
C22: ԸՆԴԱՄԵՆԸ ԾԱԽՍԵՐ | D22: =E22+F22 -> 696096.4 | E22: =E23 -> 253990.7 | F22: =F23 -> 442105.7 | G22: =H22+I22 -> 696096.4 | H22: =H23 -> 253990.7 | I22: =I23 -> 442105.7 | J22: =K22+L22 -> 696096.4 | K22: =K23 -> 253990.7 | L22: =L23 -> 442105.7
C23: ՈՉ ՖԻՆԱՆՍԱԿԱՆ ԱԿՏԻՎՆԵՐԻ ԳԾՈՎ ԾԱԽՍԵՐ | D23: =E23+F23 -> 696096.4 | E23: =E24 -> 253990.7 | F23: =F24 -> 442105.7 | G23: =H23+I23 -> 696096.4 | H23: =H24 -> 253990.7 | I23: =I24 -> 442105.7 | J23: =K23+L23 -> 696096.4 | K23: =K24 -> 253990.7 | L23: =L24 -> 442105.7
C24: ՀԻՄՆԱԿԱՆ ՄԻՋՈՑՆԵՐ | D24: =E24+F24 -> 696096.4 | E24: =E25+E27 -> 253990.7 | F24: =F25+F27 -> 442105.7 | G24: =H24+I24 -> 696096.4 | H24: =H25+H27 -> 253990.7 | I24: =I25+I27 -> 442105.7 | J24: =K24+L24 -> 696096.4 | K24: =K25+K27 -> 253990.7 | L24: =L25+L27 -> 442105.7
C25: ՄԵՔԵՆԱՆԵՐ ԵՎ ՍԱՐՔԱՎՈՐՈՒՄՆԵՐ | D25: =E25+F25 -> 293413 | E25: =E26 -> 141146 | F25: =F26 -> 152267 | G25: =H25+I25 -> 293413 | H25: =H26 -> 141146 | I25: =I26 -> 152267 | J25: =K25+L25 -> 293413 | K25: =K26 -> 141146 | L25: =L26 -> 152267
C26: - Այլ մեքենաներ և սարքավորումներ | D26: =E26+F26 -> 293413 | E26: 141146 | F26: 152267 | G26: =H26+I26 -> 293413 | H26: =E26 -> 141146 | I26: =F26 -> 152267 | J26: =K26+L26 -> 293413 | K26: =E26 -> 141146 | L26: =I26 -> 152267
C27: ՇԵՆՔԵՐ ԵՎ ՇԻՆՈՒԹՅՈՒՆՆԵՐ | D27: =E27+F27 -> 402683.4 | E27: =E28 -> 112844.7 | F27: =F28 -> 289838.7 | G27: =G28 -> 402683.4 | H27: =H28 -> 112844.7 | I27: =I28 -> 289838.7 | J27: =K27+L27 -> 402683.4 | K27: =K28 -> 112844.7 | L27: =L28 -> 289838.7
C28: - Շենքերի և շինությունների շինարարություն | D28: =E28+F28 -> 402683.4 | E28: 112844.7 | F28: 289838.7 | G28: =H28+I28 -> 402683.4 | H28: =E28 -> 112844.7 | I28: =F28 -> 289838.7 | J28: =K28+L28 -> 402683.4 | K28: =H28 -> 112844.7 | L28: =I28 -> 289838.7
A29: 1072 | C29: Ջրամատակարարաման և ջրահեռացման բարելավում | D29: =E29+F29 -> -333990.7 | E29: =E31 -> -253990.7 | F29: =F31 -> -80000 | G29: =H29+I29 -> -396096.4 | H29: =H31 -> -253990.7 | I29: =I31 -> -142105.7 | J29: =K29+L29 -> -396096.4 | K29: =K31 -> -253990.7 | L29: =L31 -> -142105.7
C30: այդ թվում`
B31: 12001 | C31: Գերմանիայի զարգացման և Եվրոպական միության հարևանության ներդրումային բանկի աջակցությամբ իրականացվող ջրամատակարարման և ջրահեռացման ենթակառուցվածքների դրամաշնորհային ծրագիր` երրորդ փուլ | D31: =E31+F31 -> -333990.7 | E31: =E33 -> -253990.7 | F31: =F33 -> -80000 | G31: =H31+I31 -> -396096.4 | H31: =H33 -> -253990.7 | I31: =I33 -> -142105.7 | J31: =K31+L31 -> -396096.4 | K31: =K33 -> -253990.7 | L31: =L33 -> -142105.7
C32: այդ թվում` ըստ կատարողների
C33: ՀՀ տարածքային կառավարման և ենթակառուցվածքների նախարարության ջրային կոմիտե | D33: =E33+F33 -> -333990.7 | E33: =E35 -> -253990.7 | F33: =F35 -> -80000 | G33: =H33+I33 -> -396096.4 | H33: =H35 -> -253990.7 | I33: =I35 -> -142105.7 | J33: =K33+L33 -> -396096.4 | K33: =K35 -> -253990.7 | L33: =L35 -> -142105.7
C34: այդ թվում` բյուջետային ծախսերի տնտեսագիտական դասակարգման հոդվածներ
C35: ԸՆԴԱՄԵՆԸ ԾԱԽՍԵՐ | D35: =E35+F35 -> -333990.7 | E35: =E36 -> -253990.7 | F35: =F36 -> -80000 | G35: =H35+I35 -> -396096.4 | H35: =H36 -> -253990.7 | I35: =I36 -> -142105.7 | J35: =K35+L35 -> -396096.4 | K35: =K36 -> -253990.7 | L35: =L36 -> -142105.7
C36: ՈՉ ՖԻՆԱՆՍԱԿԱՆ ԱԿՏԻՎՆԵՐԻ ԳԾՈՎ ԾԱԽՍԵՐ | D36: =E36+F36 -> -333990.7 | E36: =E37 -> -253990.7 | F36: =F37 -> -80000 | G36: =H36+I36 -> -396096.4 | H36: =H37 -> -253990.7 | I36: =I37 -> -142105.7 | J36: =K36+L36 -> -396096.4 | K36: =K37 -> -253990.7 | L36: =L37 -> -142105.7
C37: ՀԻՄՆԱԿԱՆ ՄԻՋՈՑՆԵՐ | D37: =E37+F37 -> -333990.7 | E37: =E38 -> -253990.7 | F37: =F38 -> -80000 | G37: =H37+I37 -> -396096.4 | H37: =H38 -> -253990.7 | I37: =I38 -> -142105.7 | J37: =K37+L37 -> -396096.4 | K37: =K38 -> -253990.7 | L37: =L38 -> -142105.7
C38: ՇԵՆՔԵՐ ԵՎ ՇԻՆՈՒԹՅՈՒՆՆԵՐ | D38: =E38+F38 -> -333990.7 | E38: =E39 -> -253990.7 | F38: =F39 -> -80000 | G38: =H38+I38 -> -396096.4 | H38: =H39 -> -253990.7 | I38: =I39 -> -142105.7 | J38: =K38+L38 -> -396096.4 | K38: =K39 -> -253990.7 | L38: =L39 -> -142105.7
C39: - Շենքերի և շինությունների շինարարություն | D39: =E39+F39 -> -333990.7 | E39: =-E16 -> -253990.7 | F39: -80000 | G39: =H39+I39 -> -396096.4 | H39: =E39 -> -253990.7 | I39: =F31+F42 -> -142105.7 | J39: =K39+L39 -> -396096.4 | K39: =H39 -> -253990.7 | L39: =I39 -> -142105.7
A40: 1232 | C40: Էներգաարդյունավետության ծրագիր | D40: =E40+F40 -> -62105.7 | E40: =E42 -> 0 | F40: =F42 -> -62105.7 | G40: =H40+I40 -> 0 | H40: =H42 -> 0 | I40: =I42 -> 0 | J40: =K40+L40 -> 0 | K40: =K42 -> 0 | L40: =L42 -> 0
C41: այդ թվում`
B42: 12001 | C42: Եվրոպական ներդրումային բանկի աջակցությամբ իրականացվող Երևանի էներգաարդյունավետության դրամաշնորհային ծրագրի երկրորդ փուլ (մանկապարտեզների և այլ հանրային շենքերի էներգարդյունավետվության բարելավում) | D42: =E42+F42 -> -62105.7 | E42: =E44 -> 0 | F42: =F44 -> -62105.7 | G42: =H42+I42 -> 0 | H42: =H44 -> 0 | I42: =I44 -> 0 | J42: =K42+L42 -> 0 | K42: =K44 -> 0 | L42: =L44 -> 0
...

Sheet h11.
H1: Հավելված 11
H2: ՀՀ կառավարության 2025 թվականի
H3: ______________ ի ___Ն որոշման
A5: ՀԱՅԱՍՏԱՆԻ ՀԱՆՐԱՊԵՏՈՒԹՅԱՆ ԿԱՌԱՎԱՐՈՒԹՅԱՆ 2024 ԹՎԱԿԱՆԻ ԴԵԿՏԵՄԲԵՐԻ 27-Ի N 2060-Ն ՈՐՈՇՄԱՆ N 5 ՀԱՎԵԼՎԱԾԻ N 7 ԱՂՅՈՒՍԱԿՈՒՄ ԿԱՏԱՐՎՈՂ ԼՐԱՑՈՒՄԸ
H6: հազար դրամներով
B7: Ծրագրային դասիչ | D7: Բյուջետային հատկացումների գլխավոր կարգադրիչների, ծրագրերի, միջոցառումների, ծախսային ուղղությունների անվանումները | G7: Միջոցառումները կատարող պետական մարմինների և դրամաշնորհ ստացող տնտեսվարող սուբյեկտների անվանումները | H7: Ցուցանիշների փոփոխությունը (ավելացումները նշված են դրական նշանով)
B8: Ծրագիր | C8: Միջոցառում | H8: Տարի
B9: ԸՆԴԱՄԵՆԸ | H9: =H10 -> 60584.7
B10: ՀՀ տարածքային կառավարման և ենթակառուցվածքների նախարարություն | H10: =H11 -> 60584.7
B11: =+'[1]2'!E38 -> 1040 | C11: =+'[1]2'!G38 -> Կոշտ թափոնների կառավարում | H11: =H12 -> 60584.7
C12: =+'[1]1'!C39 -> 12003 | D12: =+'[1]1'!D40 -> Վերակառուցման և զարգացման եվրոպական բանկի աջակցությամբ իրականացվող «Կոտայքի և Գեղարքունիքի մարզի կոշտ թափոնների կառավարման ծրագրի շրջանակներում «Կոտայքի և Գեղարքունիքի Կոշտ կենցաղային թափոնների կառավարում» ՍՊԸ-ին ֆինանսական աջակցության տրամադրում» | G12: =+B10 -> ՀՀ տարածքային կառավարման և ենթակառուցվածքների նախարարություն | H12: =H13 -> 60584.7
G13: «Կոտայքի և Գեղարքունիքի ԿԿԹԿ» ՍՊԸ | H13: ='h8'!H60 -> 60584.7
B16: ՀԱՅԱՍՏԱՆԻ ՀԱՆՐԱՊԵՏՈՒԹՅԱՆ
B17: ՎԱՐՉԱՊԵՏԻ ԱՇԽԱՏԱԿԱԶՄԻ
C18: ՂԵԿԱՎԱՐ ՝ Ա․ ՀԱՐՈՒԹՅՈՒՆՅԱՆ

Sheet h12
E1: Հավելված N 12
D2: ՀՀ կառավարության 2025 թվականի
D3: ______________ ի ___Ն որոշման
B5: ՀԱՅԱՍՏԱՆԻ ՀԱՆՐԱՊԵՏՈՒԹՅԱՆ ԿԱՌԱՎԱՐՈՒԹՅԱՆ 2024 ԹՎԱԿԱՆԻ ԴԵԿՏԵՄԲԵՐԻ 27-Ի N 2060-Ն ՈՐՈՇՄԱՆ N 8 ՀԱՎԵԼՎԱԾՈՒՄ ԿԱՏԱՐՎՈՂ ՓՈՓՈԽՈՒԹՅՈՒՆԸ
E6: հազար դրամներով
B7: Ծրագրային դասիչը | D7: Ծրագրերի, միջոցառումների անվանումները | E7: Ցուցանիշների փոփոխությունը ( նվազեցումները նշված են փակագծերում)
B8: Ծրագիր | C8: Միջոցառում
D9: ԸՆԴԱՄԵՆԸ | E9: =E12 -> -236964.4
D10: այդ թվում՝
B11: 1157 | D11: Քաղաքային զարգացում | E11: =E12 -> -236964.4
C12: 42001 | D12: Վերակառուցման և զարգացման եվրոպական բանկի աջակցությամբ իրականացվող Երևանի քաղաքային լուսավորության ծրագրի շրջանակներում ենթավարկի տրամադրում «Երքաղլույս» ՓԲԸ-ին | E12: ='h4'!J13 -> -236964.4
C16: ՀԱՅԱՍՏԱՆԻ ՀԱՆՐԱՊԵՏՈՒԹՅԱՆ
C17: ՎԱՐՉԱՊԵՏԻ ԱՇԽԱՏԱԿԱԶՄԻ ՂԵԿԱՎԱՐ | E17: Ա. ՀԱՐՈՒԹՅՈՒՆՅԱՆ

Sheet h13
L1: Հավելված № 13
K2: ՀՀ կառավարության 2025 թվականի
K3: ------------- ի № ---- -Ն որոշման
B5: ՀԱՅԱՍՏԱՆԻ ՀԱՆՐԱՊԵՏՈՒԹՅԱՆ ԿԱՌԱՎԱՐՈՒԹՅԱՆ 2024 ԹՎԱԿԱՆԻ ԴԵԿՏԵՄԲԵՐԻ 27-Ի № 2060-Ն ՈՐՈՇՄԱՆ № 9 ՀԱՎԵԼՎԱԾԻ ԱՂՅՈՒՍԱԿՆԵՐՈՒՄ ԿԱՏԱՐՎՈՂ ՓՈՓՈԽՈՒԹՅՈՒՆՆԵՐԸ ԵՎ ԼՐԱՑՈՒՄՆԵՐԸ
M7: հազար դրամներով
B8: ԲԳԿ | C8: Ծրագիր | E8: Միջոցառում | I8: Իրականացնողը/ ակտիվն օգտագործողը/ շահառուի ընտրության չափորոշիչը | J8: Արդյունքային չափորոշիչը | K8: Ցուցանիշների փոփոխությունը (ավելացումները նշված են դրական նշանով, իսկ նվազեցումները` փակագծերում)
C9: Դասիչը | D9: Անվանումը | E9: Դասիչը | F9: Անվանումը | G9: Նկարագրությունը | H9: Տեսակը | K9: Առաջին կիսամյակ | L9: Ինն ամիս | M9: Տարի
B10: ԸՆԴԱՄԵՆԸ | K10: =K11+K42 -> 360584.7 | L10: =L11+L42 -> 360584.7 | M10: =M11+M42 -> 360584.7
B11: ՀՀ տարածքային կառավարման և ենթակառուցվածքների նախարարություն | K11: =K19+K32+K37+K12 -> 360584.7 | L11: =L19+L32+L37+L12 -> 360584.7 | M11: =M19+M32+M37+M12 -> 360584.7
C12: 1019 | D12: Սոցիալական ներդրումների և տեղական զարգացման ծրագիր | K12: =K13 -> 0 | L12: =L13 -> 0 | M12: =M13 -> 0
E13: 1019 - 12004 | F13: Համաշխարհային բանկի աջակցությամբ իրականացվող Սոցիալական ներդրումների և տեղական զարգացման ծրագրի լրացուցիչ ֆինանսավորման վարկի շրջանակներում ՀՀ համայնքային և միջհամայնքային ենթակառուցվածքների որակի, օգտագործման և հասանելիության բարելավում: | K13: ='h8'!H39 -> 0 | L13: ='h8'!I39 -> 0 | M13: ='h8'!J39 -> 0
G14: Ջրագծերի, առողջապահության, կրթության օբյեկտների, մշակույթային տների, ծերանոցների, մանկատների, հատուկ դպրոցների, մանկապարտզների և կոյուղու օբյեկտնրի հիմն. և շինարարություն., գույքի և սարքավորումների տրամադրում շահառու ենթածրագրերի համար:
H15: Տրանսֆերտների տրամադրում
I16: Շահառուների ընտրության չափորոշիչները` Մասնագիտացված միավոր
J17: Կառուցվող, վերանորոգվող մանկապարտեզների թիվ, հատ | K17: -1 | M17: -1
J18: Համայնքների թիվը, որոնց տրամադրվել են սարքավորումներ և տեխնիկա | K18: 1 | M18: 1
C19: 1040 | D19: Կոշտ թափոնների կառավարում | K19: =K24+K20 -> 756681.1 | L19: =L24+L20 -> 756681.1 | M19: =M24+M20 -> 756681.1
E20: 1040 - 12003 | F20: Վերակառուցման և զարգացման եվրոպական բանկի աջակցությամբ իրականացվող «Կոտայքի և Գեղարքունիքի մարզի կոշտ թափոնների կառավարման ծրագրի շրջանակներում «Կոտայքի և Գեղարքունիքի Կոշտ կենցաղային թափոնների կառավարում» ՍՊԸ-ին ֆինանսական աջակցության տրամադրում» | K20: ='h7'!G14 -> 60584.7 | L20: ='h7'!H14 -> 60584.7 | M20: ='h7'!I14 -> 60584.7
G21: Վերակառուցման և զարգացման եվրոպական բանկի աջակցությամբ իրականացվող «Կոտայքի և Գեղարքունիքի մարզի կոշտ թափոնների կառավարման ծրագրի շրջանակներում ստեղծված «Կոտայքի և Գեղարքունիքի Կոշտ կենցաղային թափոնների կառավարում» ՍՊԸ-ին ֆինանսական աջակցության տրամադրում՝ կանոնադրական խնդիրները լուծելու նպատակով
H22: Տրանսֆերտների տրամադրում
I23: ՀՀ տարածքային կառավարման և ենթակառուցվածքների նախարարություն
E24: 1040 - 32004 | F24: Վերակառուցման և զարգացման եվրոպական բանկի աջակցությամբ իրականացվող «Կոտայքի և Գեղարքունիքի մարզի կոշտ թափոնների կառավարման» դրամաշնորհային ծրագիր | K24: ='h8'!H69 -> 696096.4 | L24: ='h8'!I69 -> 696096.4 | M24: ='h8'!J69 -> 696096.4
G25: Կոշտ թափոնների կառավարման համակարգի բարելավում և նոր աղբավայրի ստեղծում
H26: Այլ պետական կազմակերպությունների կողմից օգտագործվող ոչ ֆինանսական ակտիվների հետ գործառնություններ
I27: Ակտիվն օգտագործող կազմակերպության անվանումը` ՀՀ տարածքային կառավարման և ենթակառուցվածքների նախարարություն
J28: Աղբահանության համար մեքենասարքավորումների ձեռքբերում,հատ | K28: 5591 | M28: 5591
J29: Աղբամանների տեղակայման համար հարթակների կառուցում | K29: 918 | M29: 918
J30: Կառուցվող աղբավայր,հատ | K30: 1 | M30: 1
J31: Կառուցվող փոխաբեռնման կայանների թիվ, հատ | K31: 2 | M31: 2
C32: 1072 | D32: Ջրամատակարարաման և ջրահեռացման բարելավում | K32: =K33 -> -333990.7 | L32: =L33 -> -396096.4 | M32: =M33 -> -396096.4
E33: 1072 - 12001 | F33: Գերմանիայի զարգացման և Եվրոպական միության հարևանության ներդրումային բանկի աջակցությամբ իրականացվող ջրամատակարարման և ջրահեռացման ենթակառուցվածքների դրամաշնորհային ծրագիր` երրորդ փուլ | K33: ='h7'!G15 -> -333990.7 | L33: ='h7'!H15 -> -396096.4 | M33: ='h7'!I15 -> -396096.4
G34: 579 գյուղական բնակավայրերից ընտրված որոշ համայնքների ջրամատակարարման և ջրահեռացման համակարգերի հատվածների հրատապ վերականգնման աշխատանքների իրականացում ինչպես նաև՛ Արմավիրի կեղտաջրերի մաքրման կայանի կառուցում
H35: Տրանսֆերտների տրամադրում
I36: Շահառուների ընտրության չափորոշիչները` Մասնագիտացված միավոր
C37: 1232 | D37: Էներգաարդյունավետության ծրագիր | K37: =K38 -> -62105.7 | L37: =L38 -> 0 | M37: =M38 -> 0
E38: 1232 - 12001 | F38: Եվրոպական ներդրումային բանկի աջակցությամբ իրականացվող Երևանի էներգաարդյունավետության դրամաշնորհային ծրագրի երկրորդ փուլ (մանկապարտեզների և այլ հանրային շենքերի էներգարդյունավետվության բարելավում) | K38: ='h8'!H22 -> -62105.7 | L38: ='h8'!I22 -> 0 | M38: ='h8'!J22 -> 0
G39: Էներգաարդյունավետության և էներգախնայողությանն ուղղված միջոցառումների իրականացում հանրային (այդ թվում` մանկապարտեզների) շենքերում
H40: Տրանսֆերտների տրամադրում
I41: Շահառուների ընտրության չափորոշիչները` Երևան քաղաքի հանրային (այդ թվում` մանկապարտեզների) շենքերի օգտվողներ
B42: ՀՀ կառավարություն | K42: =K43 -> 0 | L42: =L43 -> 0 | M42: =M43 -> 0
...

Sheet h14
L1: Հավելված № 14
K2: ՀՀ կառավարության 2025 թվականի
K3: ------------- ի № ---- -Ն որոշման
B5: ՀԱՅԱՍՏԱՆԻ ՀԱՆՐԱՊԵՏՈՒԹՅԱՆ ԿԱՌԱՎԱՐՈՒԹՅԱՆ 2024 ԹՎԱԿԱՆԻ ԴԵԿՏԵՄԲԵՐԻ 27-Ի № 2060-Ն ՈՐՈՇՄԱՆ № 9.1 ՀԱՎԵԼՎԱԾԻ ԱՂՅՈՒՍԱԿՆԵՐՈՒՄ ԿԱՏԱՐՎՈՂ ՓՈՓՈԽՈՒԹՅՈՒՆՆԵՐԸ ԵՎ ԼՐԱՑՈՒՄՆԵՐԸ
M6: հազար դրամներով
B7: ԲՍԿ | C7: Ծրագիր | E7: Միջոցառում | I7: Իրականացնողը/ ակտիվն օգտագործողը/ շահառուի ընտրության չափորոշիչը | J7: Արդյունքային չափորոշիչը | K7: Ցուցանիշների փոփոխությունը (ավելացումները նշված են դրական նշանով, իսկ նվազեցումները` փակագծերում)
C8: Դասիչը | D8: Անվանումը | E8: Դասիչը | F8: Անվանումը | G8: Նկարագրությունը | H8: Տեսակը | K8: Առաջին կիսամյակ | L8: Ինն ամիս | M8: Տարի
B9: ԸՆԴԱՄԵՆԸ | K9: =K10+K36+K42 -> 360584.7 | L9: =L10+L36+L42 -> 360584.7 | M9: =M10+M36+M42 -> 360584.7
B10: ՀՀ տարածքային կառավարման և ենթակառուցվածքների նախարարություն | K10: =K18+K31 -> 694575.4 | L10: =L18+L31 -> 756681.1 | M10: =M18+M31 -> 756681.1
C11: 1019 | D11: Սոցիալական ներդրումների և տեղական զարգացման ծրագիր | K11: =K12 -> 0 | L11: =L12 -> 0 | M11: =M12 -> 0
E12: 1019 - 12004 | F12: Համաշխարհային բանկի աջակցությամբ իրականացվող Սոցիալական ներդրումների և տեղական զարգացման ծրագրի լրացուցիչ ֆինանսավորման վարկի շրջանակներում ՀՀ համայնքային և միջհամայնքային ենթակառուցվածքների որակի, օգտագործման և հասանելիության բարելավում: | K12: ='h8'!H39 -> 0 | L12: ='h8'!I39 -> 0 | M12: ='h8'!J39 -> 0
G13: Ջրագծերի, առողջապահության, կրթության օբյեկտների, մշակույթային տների, ծերանոցների, մանկատների, հատուկ դպրոցների, մանկապարտզների և կոյուղու օբյեկտնրի հիմն. և շինարարություն., գույքի և սարքավորումների տրամադրում շահառու ենթածրագրերի համար:
H14: Տրանսֆերտների տրամադրում
I15: Շահառուների ընտրության չափորոշիչները` Մասնագիտացված միավոր
J16: Կառուցվող, վերանորոգվող մանկապարտեզների թիվ, հատ | K16: -1 | M16: -1
J17: Համայնքների թիվը, որոնց տրամադրվել են սարքավորումներ և տեխնիկա | K17: 1 | M17: 1
C18: 1040 | D18: Կոշտ թափոնների կառավարում | K18: =K23+K19 -> 756681.1 | L18: =L23+L19 -> 756681.1 | M18: =M23+M19 -> 756681.1
E19: 1040 - 12003 | F19: Վերակառուցման և զարգացման եվրոպական բանկի աջակցությամբ իրականացվող «Կոտայքի և Գեղարքունիքի մարզի կոշտ թափոնների կառավարման ծրագրի շրջանակներում «Կոտայքի և Գեղարքունիքի Կոշտ կենցաղային թափոնների կառավարում» ՍՊԸ-ին ֆինանսական աջակցության տրամադրում» | K19: ='h13'!K20 -> 60584.7 | L19: ='h13'!L20 -> 60584.7 | M19: ='h13'!M20 -> 60584.7
G20: Վերակառուցման և զարգացման եվրոպական բանկի աջակցությամբ իրականացվող «Կոտայքի և Գեղարքունիքի մարզի կոշտ թափոնների կառավարման ծրագրի շրջանակներում ստեղծված «Կոտայքի և Գեղարքունիքի Կոշտ կենցաղային թափոնների կառավարում» ՍՊԸ-ին ֆինանսական աջակցության տրամադրում՝ կանոնադրական խնդիրները լուծելու նպատակով
H21: Տրանսֆերտների տրամադրում
I22: ՀՀ տարածքային կառավարման և ենթակառուցվածքների նախարարություն
E23: 1040 - 32004 | F23: Վերակառուցման և զարգացման եվրոպական բանկի աջակցությամբ իրականացվող «Կոտայքի և Գեղարքունիքի մարզի կոշտ թափոնների կառավարման» դրամաշնորհային ծրագիր | K23: ='h8'!H69 -> 696096.4 | L23: ='h8'!I69 -> 696096.4 | M23: ='h8'!J69 -> 696096.4
G24: Կոշտ թափոնների կառավարման համակարգի բարելավում և նոր աղբավայրի ստեղծում
H25: Այլ պետական կազմակերպությունների կողմից օգտագործվող ոչ ֆինանսական ակտիվների հետ գործառնություններ
I26: Ակտիվն օգտագործող կազմակերպության անվանումը` ՀՀ տարածքային կառավարման և ենթակառուցվածքների նախարարություն
J27: Աղբահանության համար մեքենասարքավորումների ձեռքբերում,հատ | K27: 5591 | M27: 5591
J28: Աղբամանների տեղակայման համար հարթակների կառուցում | K28: 918 | M28: 918
J29: Կառուցվող աղբավայր,հատ | K29: 1 | M29: 1
J30: Կառուցվող փոխաբեռնման կայանների թիվ, հատ | K30: 2 | M30: 2
C31: 1232 | D31: Էներգաարդյունավետության ծրագիր | K31: =K32 -> -62105.7 | L31: =L32 -> 0 | M31: =M32 -> 0
E32: 1232 - 12001 | F32: Եվրոպական ներդրումային բանկի աջակցությամբ իրականացվող Երևանի էներգաարդյունավետության դրամաշնորհային ծրագրի երկրորդ փուլ (մանկապարտեզների և այլ հանրային շենքերի էներգարդյունավետվության բարելավում) | K32: ='h8'!H22 -> -62105.7 | L32: ='h8'!I22 -> 0 | M32: ='h8'!J22 -> 0
G33: Էներգաարդյունավետության և էներգախնայողությանն ուղղված միջոցառումների իրականացում հանրային (այդ թվում` մանկապարտեզների) շենքերում
H34: Տրանսֆերտների տրամադրում
I35: Շահառուների ընտրության չափորոշիչները` Երևան քաղաքի հանրային (այդ թվում` մանկապարտեզների) շենքերի օգտվողներ
B36: ՀՀ տարածքային կառավարման և ենթակառուցվածքների նախարարության ջրային կոմիտե | K36: =K37 -> -333990.7 | L36: =L37 -> -396096.4 | M36: =M37 -> -396096.4
C37: 1072 | D37: Ջրամատակարարաման և ջրահեռացման բարելավում | K37: =K38 -> -333990.7 | L37: =L38 -> -396096.4 | M37: =M38 -> -396096.4
E38: 1072 - 12001 | F38: Գերմանիայի զարգացման և Եվրոպական միության հարևանության ներդրումային բանկի աջակցությամբ իրականացվող ջրամատակարարման և ջրահեռացման ենթակառուցվածքների դրամաշնորհային ծրագիր` երրորդ փուլ | K38: ='h13'!K33 -> -333990.7 | L38: ='h13'!L33 -> -396096.4 | M38: ='h13'!M33 -> -396096.4
G39: 579 գյուղական բնակավայրերից ընտրված որոշ համայնքների ջրամատակարարման և ջրահեռացման համակարգերի հատվածների հրատապ վերականգնման աշխատանքների իրականացում ինչպես նաև՛ Արմավիրի կեղտաջրերի մաքրման կայանի կառուցում
H40: Տրանսֆերտների տրամադրում
I41: Շահառուների ընտրության չափորոշիչները` Մասնագիտացված միավոր
...

Sheet h15
H1: Հավելված N 15
A2: ՀՀ կառավարության 2025 թվականի
A3: -ի N -Ն որոշման
A4: ՀԱՅԱՍՏԱՆԻ ՀԱՆՐԱՊԵՏՈՒԹՅԱՆ ԿԱՌԱՎԱՐՈՒԹՅԱՆ ՊԱՀՈՒՍՏԱՅԻՆ ՖՈՆԴԻՑ ԿԱՏԱՐՎՈՂ ՀԱՏԿԱՑՈՒՄԸ
H6: հազար դրամներով
A7: Գործառական դասիչը | D7: Ծրագրային դասիչը | F7: Բյուջետային ծախսերի գործառական դասակարգման բաժինների, խմբերի և դասերի, բյուջետային ծրագրերի միջոցառումների, բյուջետային հատկացումների գլխավոր կարգադրիչների անվանումները | G7: Ցուցանիշների փոփոխությունը (ավելացումները նշված են դրական նշանով, իսկ նվազեցումները՝ փակագծերում)
G8: Առաջին կիսամյակ | H8: Ինն ամիս | I8: Տարի
A9: Բաժին | B9: Խումբ | C9: Դաս | D9: Ծրագիր | E9: Միջոցառում
F10: ԸՆԴԱՄԵՆԸ ԾԱԽՍԵՐ | G10: =G12+G31 -> 0 | H10: =H12+H31 -> 0 | I10: =I12+I31 -> 0
F11: այդ թվում`
F12: ՀՀ կառավարություն | G12: =G13 -> -60584.7 | H12: =H13 -> -60584.7 | I12: =I13 -> -60584.7
A13: 11 | F13: ՀԻՄՆԱԿԱՆ ԲԱԺԻՆՆԵՐԻՆ ՉԴԱՍՎՈՂ ՊԱՀՈՒՍՏԱՅԻՆ ՖՈՆԴԵՐ | G13: =G15 -> -60584.7 | H13: =H15 -> -60584.7 | I13: =I15 -> -60584.7
F14: այդ թվում`
B15: 01 | F15: ՀՀ կառավարության և համայնքների պահուստային ֆոնդ | G15: =G17 -> -60584.7 | H15: =H17 -> -60584.7 | I15: =I17 -> -60584.7
F16: այդ թվում`
C17: 01 | F17: ՀՀ կառավարության պահուստային ֆոնդ | G17: =G19 -> -60584.7 | H17: =H19 -> -60584.7 | I17: =I19 -> -60584.7
F18: այդ թվում`
F19: ՀՀ կառավարություն | G19: =G21 -> -60584.7 | H19: =H21 -> -60584.7 | I19: =I21 -> -60584.7
F20: այդ թվում`
D21: 1139 | F21: ՀՀ կառավարության պահուստային ֆոնդ | G21: =G23 -> -60584.7 | H21: =H23 -> -60584.7 | I21: =I23 -> -60584.7
F22: այդ թվում`
E23: 11001 | F23: ՀՀ կառավարության պահուստային ֆոնդ | G23: =G25 -> -60584.7 | H23: =H25 -> -60584.7 | I23: =I25 -> -60584.7
F24: այդ թվում` ըստ կատարողների
F25: ՀՀ կառավարություն | G25: =G27 -> -60584.7 | H25: =H27 -> -60584.7 | I25: =I27 -> -60584.7
F26: այդ թվում` բյուջետային ծախսերի տնտեսագիտական դասակարգման հոդվածներ
F27: ԸՆԴԱՄԵՆԸ ԾԱԽՍԵՐ | G27: =G28 -> -60584.7 | H27: =H28 -> -60584.7 | I27: =I28 -> -60584.7
F28: ԸՆԹԱՑԻԿ ԾԱԽՍԵՐ | G28: =G29 -> -60584.7 | H28: =H29 -> -60584.7 | I28: =I29 -> -60584.7
F29: ԱՅԼ ԾԱԽՍԵՐ | G29: =G30 -> -60584.7 | H29: =H30 -> -60584.7 | I29: =I30 -> -60584.7
F30: Պահուստային միջոցներ | G30: ='h8'!H110 -> -60584.7 | H30: ='h8'!I110 -> -60584.7 | I30: ='h8'!J110 -> -60584.7
F31: ՀՀ տարածքային կառավարման և ենթակառուցվածքների նախարարություն | G31: =G32 -> 60584.7 | H31: =H32 -> 60584.7 | I31: =I32 -> 60584.7
A32: 05 | F32: ՇՐՋԱԿԱ ՄԻՋԱՎԱՅՐԻ ՊԱՇՏՊԱՆՈՒԹՅՈՒՆ | G32: =G34 -> 60584.7 | H32: =H34 -> 60584.7 | I32: =I34 -> 60584.7
F33: այդ թվում`
B34: 01 | F34: Աղբահանում | G34: =G36 -> 60584.7 | H34: =H36 -> 60584.7 | I34: =I36 -> 60584.7
F35: այդ թվում`
C36: 01 | F36: Աղբահանում | G36: =G38 -> 60584.7 | H36: =H38 -> 60584.7 | I36: =I38 -> 60584.7
F37: այդ թվում`
F38: ՀՀ տարածքային կառավարման և ենթակառուցվածքների նախարարություն | G38: =G40 -> 60584.7 | H38: =H40 -> 60584.7 | I38: =I40 -> 60584.7
F39: այդ թվում`
D40: 1040 | F40: Կոշտ թափոնների կառավարում | G40: =G42 -> 60584.7 | H40: =H42 -> 60584.7 | I40: =I42 -> 60584.7
F41: այդ թվում`
...
