Workbook
Name a: #REF!
Name a: #REF!
Name a: #REF!
Name a: #REF!
Name a: #REF!
Name a: #REF!
Name a: #REF!
Name a: #REF!
Name AgencyCode: #REF!
Name AgencyCode: #REF!
Name AgencyCode: #REF!
Name AgencyCode: #REF!
Name AgencyCode: #REF!
Name AgencyCode: #REF!
Name AgencyCode: #REF!
Name AgencyCode: #REF!
Name AgencyCode: #REF!
Name AgencyCode: #REF!
Name AgencyName: #REF!
Name AgencyName: #REF!
Name AgencyName: #REF!
Name AgencyName: #REF!
Name AgencyName: #REF!
Name AgencyName: #REF!
Name AgencyName: #REF!
Name AgencyName: #REF!
Name AgencyName: #REF!
Name åû: #REF!
Name åû: #REF!
Name davit: #REF!
Name davit: #REF!
Name davit: #REF!
Name davit: #REF!
Name davit: #REF!
Name davit: #REF!
Name davit: #REF!
Name davit: #REF!
Name Functional1: #REF!
Name Functional1: #REF!
Name Functional1: #REF!
Name Functional1: #REF!
Name Functional1: #REF!
Name Functional1: #REF!
Name Functional1: #REF!
Name Functional1: #REF!
Name Functional1: #REF!
Name ggg: #REF!
Name ggg: #REF!
Name ggg: #REF!
Name ggg: #REF!
Name ggg: #REF!
Name ggg: #REF!
Name ggg: #REF!
Name ggg: #REF!
Name hav: #REF!
Name mas: #REF!
Name mas: #REF!
Name mass: #REF!
Name mass: #REF!
Name PANature: #REF!

Sheet Հավելված N 1 
C1: Հավելված N 1
C2: ՀՀ կառավարության 2025 թվականի
C3: ______________ ի ___Ն որոշման
A5: «ՀԱՅԱՍՏԱՆԻ ՀԱՆՐԱՊԵՏՈՒԹՅԱՆ 2025 ԹՎԱԿԱՆԻ ՊԵՏԱԿԱՆ ԲՅՈՒՋԵԻ ՄԱՍԻՆ» ՀԱՅԱՍՏԱՆԻ ՀԱՆՐԱՊԵՏՈՒԹՅԱՆ ՕՐԵՆՔԻ 2-ՐԴ ՀՈԴՎԱԾԻ ԱՂՅՈՒՍԱԿԻ ՑՈՒՑԱՆԻՇՆԵՐՈՒՄ ԿԱՏԱՐՎՈՂ ՓՈՓՈԽՈՒԹՅՈՒՆՆԵՐԸ
D6: հազ. դրամներով
D7: Ցուցանիշների փոփոխությունը (ավելացումները նշված են դրական նշանով)
A8: Եկամուտների գծով | D8: =+'Հավելված N 2 '!F11 -> 903608.5
A9: Ծախսերի գծով | D9: =+'Հավելված N 3'!I13 -> 903608.5
A10: Դեֆիցիտը (պակասուրդը) | D10: =+D9-D8 -> 0

Sheet Հավելված N 2 
C1: Հավելված N 2
C2: ՀՀ կառավարության 2025 թվականի
C3: ______________ ի ___Ն որոշման
A6: «ՀԱՅԱՍՏԱՆԻ ՀԱՆՐԱՊԵՏՈՒԹՅԱՆ 2025 ԹՎԱԿԱՆԻ ՊԵՏԱԿԱՆ ԲՅՈՒՋԵԻ ՄԱՍԻՆ» ՀԱՅԱՍՏԱՆԻ ՀԱՆՐԱՊԵՏՈՒԹՅԱՆ ՕՐԵՆՔԻ 6-ՐԴ ՀՈԴՎԱԾԻ ԱՂՅՈՒՍԱԿՈՒՄ ԵՎ ՀԱՅԱՍՏԱՆԻ ՀԱՆՐԱՊԵՏՈՒԹՅԱՆ ԿԱՌԱՎԱՐՈՒԹՅԱՆ 2024 ԹՎԱԿԱՆԻ ԴԵԿՏԵՄԲԵՐԻ 27-Ի N 2060-Ն ՈՐՈՇՄԱՆ N 2 ՀԱՎԵԼՎԱԾԻ ԱՂՅՈՒՍԱԿՈՒՄ ԿԱՏԱՐՎՈՂ ՓՈՓՈԽՈՒԹՅՈՒՆՆԵՐԸ
E8: հազ. դրամներով
A9: Եկամտատեսակ | D9: Ցուցանիշների փոփոխությունը (ավելացումները նշված են դրական նշանով)
D10: Առաջին կիսամյակ | E10: Ինն ամիս | F10: Տարի
A11: ՊԵՏԱԿԱՆ ԲՅՈՒՋԵԻ ԵԿԱՄՈՒՏՆԵՐ | D11: =+D12 -> 903608.5 | E11: =+E12 -> 903608.5 | F11: =+F12 -> 903608.5
A12: Ընդամենը | D12: =+D14 -> 903608.5 | E12: =+E14 -> 903608.5 | F12: =+F14 -> 903608.5
A13: այդ թվում՝
A14: Այլ եկամուտներ | D14: =+'Հավելված N 6'!E11 -> 903608.5 | E14: =+'Հավելված N 6'!F11 -> 903608.5 | F14: =+'Հավելված N 6'!G11 -> 903608.5

Sheet Հավելված N 3
F1: Հավելված N 3
F2: ՀՀ կառավարության 2025 թվականի
F3: ______________ ի ___Ն որոշման
A6: «ՀԱՅԱUՏԱՆԻ ՀԱՆՐԱՊԵՏՈՒԹՅԱՆ 2025 ԹՎԱԿԱՆԻ ՊԵՏԱԿԱՆ ԲՅՈՒՋԵԻ ՄԱUԻՆ» ՀԱՅԱUՏԱՆԻ ՀԱՆՐԱՊԵՏՈՒԹՅԱՆ OՐԵՆՔԻ N 1 ՀԱՎԵԼՎԱԾԻ N 2 ԱՂՅՈՒՍԱԿՈՒՄ ԵՎ ՀԱՅԱՍՏԱՆԻ ՀԱՆՐԱՊԵՏՈՒԹՅԱՆ ԿԱՌԱՎԱՐՈՒԹՅԱՆ 2024 ԹՎԱԿԱՆԻ ԴԵԿՏԵՄԲԵՐԻ 27-Ի N 2060-Ն ՈՐՈՇՄԱՆ N 5 ՀԱՎԵԼՎԱԾԻ N 1 ԱՂՅՈՒՍԱԿՈՒՄ ԿԱՏԱՐՎՈՂ ԼՐԱՑՈՒՄՆԵՐԸ
I9: հազ. դրամներով
A10: ԲԳԿ | B10: Ծրագրային դասիչը | D10: ԲԳԿ/Ծրագրի /միջոցառման անվանումը | E10: Ծրագրի նպատակը/Միջոցառման նկարագրությունը | F10: Վերջնական արդյունքի նկարագրությունը/Միջոցառման տեսակը | G10: Ցուցանիշների փոփոխությունը (ավելացումները նշված են դրական նշանով, իսկ նվազեցումները փակագծերում)
G11: Առաջին կիսամյակ | H11: Ինն ամիս | I11: Տարի
B12: Ծրագիր | C12: Միջոցառում
A13: ԸՆԴԱՄԵՆԸ | G13: =+G15 -> 903608.5 | H13: =+H15 -> 903608.5 | I13: =+I15 -> 903608.5
A14: այդ թվում՝
A15: ՀՀ ԿՐԹՈՒԹՅԱՆ, ԳԻՏՈՒԹՅԱՆ, ՄՇԱԿՈՒՅԹԻ ԵՎ ՍՊՈՐՏԻ ՆԱԽԱՐԱՐՈՒԹՅՈՒՆ | G15: =+G16+G18 -> 903608.5 | H15: =+H16+H18 -> 903608.5 | I15: =+I16+I18 -> 903608.5
B16: 1183 | D16: Ապահով դպրոց | E16: Դպրոցներին սպառնացող աղետների ռիսկի կառավարման կարողությունների հզորացում, դպրոցի անձնակազմի և աշակերտների անվտանգության ապահովման մակարդակի բարձրացում՛ կիրառելով ներառական և երեխայակենտրոն մոտեցում | F16: Դպրոցական միջավայրի բարելավում | G16: =+G17 -> 626533.8 | H16: =+H17 -> 626533.8 | I16: =+I17 -> 626533.8
C17: 1183 - 32001 | D17: Կրթական օբյեկտների շենքային պայմանների բարելավում | E17: Կրթական օբյեկտների շենքերի (մասնաշենքերի) հիմնանորոգում (համաշինարարական աշխատանքներ, ջեռուցման համակարգի իրականացում, ներքին հարդարում, տարածքի բարեկարգում) և նախագծում | F17: Այլ պետական կազմակերպությունների կողմից օգտագործվող ոչ ֆինանսական ակտիվների հետ գործառնություններ | G17: =+'Հավելված N 4'!G92 -> 626533.8 | H17: =+'Հավելված N 4'!H92 -> 626533.8 | I17: =+'Հավելված N 4'!I92 -> 626533.8
B18: 1236 | D18: Հանրակրթական և նախադպրոցական հաստատությունների հիմնում, կառուցում, բարելավում | E18: Առնվազն 300 դպրոցի և 500 մանկապարտեզի կառուցման, վերակառուցման, հիմնանորոգման ծրագրերի իրականացում ՀՀ պետական բյուջեի միջոցների շրջանակներում | F18: Կրթական միջավայրի բարելավում | G18: =+G19 -> 277074.7 | H18: =+H19 -> 277074.7 | I18: =+I19 -> 277074.7
C19: 1236 - 32006 | D19: Հանրակրթական դպրոցների, մանկապարտեզների և կրթահամալիրների գույքով և տեխնիկայով ապահովում | E19: Կրթական ժամանակակից նորմերին և կրթական չափորոշիչներին համապատասխան ուսուցման ծրագրերն իրականացնելու նպատակով հանրակրթական և նախադպրոցական հաստատությունների համար գույքի և տեխնիկայի ձեռքբերում | F19: Այլ պետական կազմակերպությունների կողմից օգտագործվող ոչ ֆինանսական ակտիվների հետ գործառնություններ | G19: =+'Հավելված N 4'!G26 -> 277074.7 | H19: =+'Հավելված N 4'!H26 -> 277074.7 | I19: =+'Հավելված N 4'!I26 -> 277074.7

Sheet Հավելված N 4
F1: Հավելված N 4
F2: ՀՀ կառավարության 2025 թվականի
F3: ______________ ի ___Ն որոշման
A7: ՀԱՅԱՍՏԱՆԻ ՀԱՆՐԱՊԵՏՈՒԹՅԱՆ ԿԱՌԱՎԱՐՈՒԹՅԱՆ 2024 ԹՎԱԿԱՆԻ ԴԵԿՏԵՄԲԵՐԻ 27-Ի N 2060-Ն ՈՐՈՇՄԱՆ N 3 ԵՎ N 4 ՀԱՎԵԼՎԱԾՆԵՐՈՒՄ ԿԱՏԱՐՎՈՂ ԼՐԱՑՈՒՄՆԵՐԸ
I10: հազ. դրամներով
A11: Գործառական դասիչը | D11: Ծրագրային դասիչը | F11: Բյուջետային հատկացումների գլխավոր կարգադրիչների, ծրագրերի, միջոցառումների և միջոցառումները կատարող պետական մարմինների անվանումները | G11: Ցուցանիշների փոփոխությունը (ավելացումները նշված են դրական նշանով, իսկ նվազեցումները փակագծերում)
A12: Բաժին | B12: Խումբ | C12: Դաս | D12: Ծրագիր | E12: Միջոցառում | G12: Առաջին կիսամյակ | H12: Ինն ամիս | I12: Տարի
F13: ԸՆԴԱՄԵՆԸ | G13: =+G15 -> 903608.5 | H13: =+H15 -> 903608.5 | I13: =+I15 -> 903608.5
F14: այդ թվում՝
F15: ՀՀ ԿՐԹՈՒԹՅԱՆ, ԳԻՏՈՒԹՅԱՆ, ՄՇԱԿՈՒՅԹԻ ԵՎ ՍՊՈՐՏԻ ՆԱԽԱՐԱՐՈՒԹՅՈՒՆ | G15: =+G16 -> 903608.5 | H15: =+H16 -> 903608.5 | I15: =+I16 -> 903608.5
A16: 09 | F16: ԿՐԹՈՒԹՅՈՒՆ | G16: =+G18+G84 -> 903608.5 | H16: =+H18+H84 -> 903608.5 | I16: =+I18+I84 -> 903608.5
F17: այդ թվում`
B18: 02 | F18: Միջնակարգ ընդհանուր կրթություն | G18: =+G20 -> 277074.7 | H18: =+H20 -> 277074.7 | I18: =+I20 -> 277074.7
F19: այդ թվում`
C20: 01 | F20: Հիմնական ընդհանուր կրթություն | G20: =+G22 -> 277074.7 | H20: =+H22 -> 277074.7 | I20: =+I22 -> 277074.7
F21: այդ թվում`
F22: ՀՀ կրթության, գիտության, մշակույթի և սպորտի նախարարություն | G22: =+G24 -> 277074.7 | H22: =+H24 -> 277074.7 | I22: =+I24 -> 277074.7
F23: այդ թվում`
D24: 1236 | E24: Հանրակրթական և նախադպրոցական հաստատությունների հիմնում, կառուցում, բարելավում | G24: =+G26 -> 277074.7 | H24: =+H26 -> 277074.7 | I24: =+I26 -> 277074.7
F25: այդ թվում`
E26: 32006 | F26: Հանրակրթական դպրոցների, մանկապարտեզների և կրթահամալիրների գույքով և տեխնիկայով ապահովում | G26: =+G28+G35+G42+G49+G56+G63+G70+G77 -> 277074.7 | H26: =+H28+H35+H42+H49+H56+H63+H70+H77 -> 277074.7 | I26: =+I28+I35+I42+I49+I56+I63+I70+I77 -> 277074.7
F27: այդ թվում` ըստ կատարողների
F28: ՀՀ կրթության գիտության մշակույթի և սպորտի նախարարություն | G28: =+G30 -> 130925.6 | H28: =+H30 -> 130925.6 | I28: =+I30 -> 130925.6
F29: այդ թվում՝ բյուջետային ծախսերի տնտեսագիտական դասակարգման հոդվածներ
F30: ԸՆԴԱՄԵՆԸ ԾԱԽՍԵՐ | G30: =+G31 -> 130925.6 | H30: =+H31 -> 130925.6 | I30: =+I31 -> 130925.6
F31: ԸՆԹԱՑԻԿ ԾԱԽՍԵՐ | G31: =+G32 -> 130925.6 | H31: =+H32 -> 130925.6 | I31: =+I32 -> 130925.6
F32: ԴՐԱՄԱՇՆՈՐՀՆԵՐ | G32: =+G33 -> 130925.6 | H32: =+H33 -> 130925.6 | I32: =+I33 -> 130925.6
F33: ԿԱՊԻՏԱԼԴՐԱՄԱՇՆՈՐՀՆԵՐ ՊԵՏԱԿԱՆ ՀԱՏՎԱԾԻ ԱՅԼ ՄԱԿԱՐԴԱԿՆԵՐԻՆ | G33: =+G34 -> 130925.6 | H33: =+H34 -> 130925.6 | I33: =+I34 -> 130925.6
F34: - Կապիտալ դրամաշնորհներ պետական և համայնքային ոչ առևտրային կազմակերպություններին | G34: =+I34 -> 130925.6 | H34: =+I34 -> 130925.6 | I34: =+'Հավելված N 5'!G75 -> 130925.6
F35: ՀՀ Արագածոտնի մարզպետի աշխատակազմ | G35: =+G37 -> 11108.7 | H35: =+H37 -> 11108.7 | I35: =+I37 -> 11108.7
F36: այդ թվում՝ բյուջետային ծախսերի տնտեսագիտական դասակարգման հոդվածներ
F37: ԸՆԴԱՄԵՆԸ ԾԱԽՍԵՐ | G37: =+G38 -> 11108.7 | H37: =+H38 -> 11108.7 | I37: =+I38 -> 11108.7
F38: ԸՆԹԱՑԻԿ ԾԱԽՍԵՐ | G38: =+G39 -> 11108.7 | H38: =+H39 -> 11108.7 | I38: =+I39 -> 11108.7
F39: ԴՐԱՄԱՇՆՈՐՀՆԵՐ | G39: =+G40 -> 11108.7 | H39: =+H40 -> 11108.7 | I39: =+I40 -> 11108.7
F40: ԿԱՊԻՏԱԼԴՐԱՄԱՇՆՈՐՀՆԵՐ ՊԵՏԱԿԱՆ ՀԱՏՎԱԾԻ ԱՅԼ ՄԱԿԱՐԴԱԿՆԵՐԻՆ | G40: =+G41 -> 11108.7 | H40: =+H41 -> 11108.7 | I40: =+I41 -> 11108.7
F41: - Կապիտալ դրամաշնորհներ պետական և համայնքային ոչ առևտրային կազմակերպություններին | G41: =+I41 -> 11108.7 | H41: =+I41 -> 11108.7 | I41: =+'Հավելված N 5'!G102 -> 11108.7
F42: ՀՀ Արարատի մարզպետի աշխատակազմ | G42: =+G44 -> 23297.9 | H42: =+H44 -> 23297.9 | I42: =+I44 -> 23297.9
F43: այդ թվում՝ բյուջետային ծախսերի տնտեսագիտական դասակարգման հոդվածներ
F44: ԸՆԴԱՄԵՆԸ ԾԱԽՍԵՐ | G44: =+G45 -> 23297.9 | H44: =+H45 -> 23297.9 | I44: =+I45 -> 23297.9
F45: ԸՆԹԱՑԻԿ ԾԱԽՍԵՐ | G45: =+G46 -> 23297.9 | H45: =+H46 -> 23297.9 | I45: =+I46 -> 23297.9
...

Sheet Հավելված N 5
F1: Հավելված 5
F2: ՀՀ կառավարության 2025 թվականի
F3: ______________ ի ___Ն որոշման
A6: ՀԱՅԱՍՏԱՆԻ ՀԱՆՐԱՊԵՏՈՒԹՅԱՆ ԿԱՌԱՎԱՐՈՒԹՅԱՆ 2024 ԹՎԱԿԱՆԻ ԴԵԿՏԵՄԲԵՐԻ 27-Ի N 2060-Ն ՈՐՈՇՄԱՆ N 5 ՀԱՎԵԼՎԱԾԻ N 7 ԱՂՅՈՒՍԱԿՈՒՄ ԿԱՏԱՐՎՈՂ ԼՐԱՑՈՒՄՆԵՐԸ
A7: հազար դրամ
A8: Ծրագրային դասիչը | D8: Բյուջետային հատկացումների գլխավոր կարգադրիչների, ծրագրերի, միջոցառումների, ծախսային ուղղությունների անվանումները | F8: Միջոցառումները կատարող պետական մարմինների և դրամաշնորհ ստացող տնտեսվարող սուբյեկտների անվանումները | G8: Ցուցանիշների փոփոխությունը (ավելացումները նշված են դրական նշանով)
A9: Ծրագիր | B9: Միջոցառում | G9: Տարի
A10: ՀՀ կրթության, գիտության, մշակույթի և սպորտի նախարարություն | G10: =+G11+G73 -> 903608.5
A11: 1183 | B11: Ապահով դպրոց | G11: =+G12 -> 626533.8
B12: 32001 | C12: Կրթական օբյեկտների շենքային պայմանների բարելավում | G12: =+G13+G17+G22+G31+G45+G49+G64+G71 -> 626533.8
F13: ՀՀ կրթության, գիտության, մշակույթի և սպորտի նախարարություն | G13: =SUM(G14:G16) -> 33359.1
F14: «Երևանի Հ․ Գալստյանի անվան թիվ 83 ավագ դպրոց» ՊՈԱԿ | G14: 9246.5
F15: «Վանաձորի Վ․ Տերյանի անվան թիվ 5 ավագ դպրոց» ՊՈԱԿ | G15: 15626.9
F16: Երևանի երաժշտական թիվ 13 հատուկ դպրոց ՊՈԱԿ | G16: 8485.7
F17: ՀՀ տարածքային կառավարման և ենթակառուցվածքների նախարարություն | G17: =SUM(G18:G21) -> 54365.9
F18: Երևանի Դերենիկ Դեմիրճյանի անվան հ.27 հիմնական դպրոց ՊՈԱԿ | G18: 24874.7
F19: Երևանի Ծովակալ Իսակովի անվան թիվ 132 դպրոց ՊՈԱԿ | G19: 6077.4
F20: «Երևանի Հովհ. Շիրազի անվան թիվ 169 հիմնական դպրոց» ՊՈԱԿ | G20: 5226.9
F21: «Երևանի 197 հիմնական դպրոց» ՊՈԱԿ | G21: 18186.9
F22: ՀՀ Արագածոտնի մարզպետի աշխատակազմ | G22: =SUM(G23:G30) -> 68328.3
F23: «Անտառուտի միջնակարգ դպրոց» ՊՈԱԿ | G23: 10988.3
F24: «Աշտարակի Սմբատ Շահազիզի անվան թիվ 2 հիմնական դպրոց» ՊՈԱԿ | G24: 2181.9
F25: «Եղիպատրուշի միջնակարգ դպրոց» ՊՈԱԿ | G25: 12941
F26: «Լեռնարոտի Գեղազնիկ Միքայելյանի (Չաուշի) անվան միջնակարգ դպրոց» ՊՈԱԿ | G26: 6000
F27: «Կոշի միջնակարգ դպրոց» ՊՈԱԿ | G27: 12501
F28: «Ղազարավանի միջնակարգ դպրոց» ՊՈԱԿ | G28: 8000
F29: «Վարդաբլուրի Խ. Աբովյանի անվան միջնակարգ դպրոց» ՊՈԱԿ | G29: 7420.2
F30: «Օրգովի Արբի Թրպանճյանի անվան միջնակարգ դպրոց» ՊՈԱԿ | G30: 8295.9
F31: ՀՀ Արարատի մարզպետի աշխատակազմ | G31: =SUM(G32:G44) -> 88913.6
F32: «գ. Այգեպատի միջնակարգ դպրոց» ՊՈԱԿ | G32: 2759.4
F33: «Արաքսավանի միջնակարգ դպրոց» ՊՈԱԿ | G33: 996.1
F34: «Արգավանդի միջնակարգ դպրոց» ՊՈԱԿ | G34: 8584.2
F35: «Երասխի միջնակարգ դպրոց» ՊՈԱԿ | G35: 3371.5
F36: «գ. Զորակի Մոնթե Մելքոնյանի անվան միջնակարգ դպրոց» ՊՈԱԿ | G36: 9273.8
F37: «Մարմարաշենի Անդրանիկ Բարությանի անվան միջնակարգ դպրոց» ՊՈԱԿ | G37: 11318.2
F38: «գ. Ն.Դվինի Լ.Ազգալդյանի անվան միջնակարգ դպրոց» ՊՈԱԿ | G38: 3382.6
F39: «գ. Նարեկի միջնակարգ դպրոց» ՊՈԱԿ | G39: 3957.9
F40: «գ. Նոր Խարբերդի թիվ 1 միջնակարգ դպրոց» ՊՈԱԿ | G40: 6288.9
F41: «գ. Նորաշենի Ավետիք Իսահակյանի անվան միջնակարգ դպրոց» ՊՈԱԿ | G41: 12465.7
F42: «Շահումյանի Ա. Համբարձումյանի անվան միջնակարգ դպրոց» ՊՈԱԿ | G42: 9162.9
...

Sheet Հավելված N 6
C1: Հավելված N 6
C2: ՀՀ կառավարության 2025 թվականի
C3: ______________ ի ___Ն որոշման
A6: ՀԱՅԱՍՏԱՆԻ ՀԱՆՐԱՊԵՏՈՒԹՅԱՆ ԿԱՌԱՎԱՐՈՒԹՅԱՆ 2024 ԹՎԱԿԱՆԻ ԴԵԿՏԵՄԲԵՐԻ 27-Ի N 2060-Ն ՈՐՈՇՄԱՆ N 6 ՀԱՎԵԼՎԱԾՈՒՄ ԿԱՏԱՐՎՈՂ ԼՐԱՑՈՒՄԸ
A9: NN ը/կ | B9: Եկամտատեսակը | D9: Գանձման համար պատասխանատու պետական կառավարման մարմինը (մարմինները) | E9: Ցուցանիշների փոփոխությունը (ավելացումները նշված են դրական նշանով)
E10: Առաջին կիսամյակ | F10: Ինն ամիս | G10: Տարի
A11: Այլ եկամուտներ, ընդամենը՝ | E11: =+E13 -> 903608.5 | F11: =+F13 -> 903608.5 | G11: =+G13 -> 903608.5
B12: այդ թվում՝
A13: 6 | B13: Օրենքով և այլ իրավական ակտերով սահմանված պետական բյուջե մուտքագրվող այլ եկամուտներ | E13: =+E14 -> 903608.5 | F13: =+F14 -> 903608.5 | G13: =+G14 -> 903608.5
A14: 6.8 | B14: Նախորդ տարիների՝ ՀՀ պետական բյուջեից ծախսերի ֆինանսավորման նպատակով հատկացված գումարների (բացառությամբ փոխառու միջոցների) վերադարձից մուտքեր | D14: ՀՀ պետական կառավարման մարմիններ | E14: =+G14 -> 903608.5 | F14: =+G14 -> 903608.5 | G14: =+'Հավելված N 5'!G10 -> 903608.5

Sheet Հավելված N 7
C1: Հավելված N 7
C2: ՀՀ կառավարության 2025 թվականի
C3: ______________ ի ___Ն որոշման
A6: ՀԱՅԱՍՏԱՆԻ ՀԱՆՐԱՊԵՏՈՒԹՅԱՆ ԿԱՌԱՎԱՐՈՒԹՅԱՆ 2024 ԹՎԱԿԱՆԻ ԴԵԿՏԵՄԲԵՐԻ 27-Ի N 2060-Ն N 8 ՀԱՎԵԼՎԱԾՈՒՄ ԿԱՏԱՐՎՈՂ ԼՐԱՑՈՒՄԸ
C10: հազ. դրամներով
A11: Ծրագրային դասիչը | C11: Ծրագրերի, միջոցառումների անվանումները | D11: Ցուցանիշների փոփոխությունը (ավելացումները նշված են դրական նշանով)
A12: Ծրագիր | B12: Միջոցառում
C13: ԸՆԴԱՄԵՆԸ ԾԱԽՍԵՐ | D13: =+D15+D17+D19+D21+D27+D30+D43+D45+D48+D50+D52+D55 -> 54365.9
C14: այդ թվում՝
A15: 1183 | C15: Ապահով դպրոց | D15: =+D16 -> 54365.9
B16: 32001 | C16: Կրթական օբյեկտների շենքային պայմանների բարելավում | D16: =+'Հավելված N 4'!I101 -> 54365.9

Sheet Հավելված N 8
J1: Հավելված N 8
J2: ՀՀ կառավարության 2025 թվականի
J3: ______________ ի ___Ն որոշման
A6: ՀԱՅԱՍՏԱՆԻ ՀԱՆՐԱՊԵՏՈՒԹՅԱՆ ԿԱՌԱՎԱՐՈՒԹՅԱՆ 2024 ԹՎԱԿԱՆԻ ԴԵԿՏԵՄԲԵՐԻ 27-Ի N 2060-Ն ՈՐՈՇՄԱՆ N 9 ՀԱՎԵԼՎԱԾՈՒՄ ԿԱՏԱՐՎՈՂ ՓՈՓՈԽՈՒԹՅՈՒՆՆԵՐԸ ԵՎ ԼՐԱՑՈՒՄՆԵՐԸ
A9: ԲԳԿ | B9: Ծրագիր | D9: Միջոցառում | H9: Իրականացնողը/ ակտիվն օգտագործողը/ շահառուի ընտրության չափորոշիչը | I9: Արդյունքային չափորոշիչը | J9: Ցուցանիշների փոփոխությունը (ավելացումները նշված են դրական նշանով, իսկ նվազեցումները՝ փակագծերում)
B10: Դասիչը | C10: Անվանումը | D10: Դասիչը | E10: Անվանումը | F10: Նկարագրությունը | G10: Տեսակը | J10: Առաջին կիսամյակ | K10: Ինն ամիս | L10: Տարի
A11: ԸՆԴԱՄԵՆԸ | J11: =+J13 -> 903608.5 | K11: =+K13 -> 903608.5 | L11: =+L13 -> 903608.5
A12: այդ թվում՝
A13: ՀՀ ԿՐԹՈՒԹՅԱՆ, ԳԻՏՈՒԹՅԱՆ, ՄՇԱԿՈԻՅԹԻ ԵՎ ՍՊՈՐՏԻ ՆԱԽԱՐԱՐՈՒԹՅՈՒՆ | J13: =++J14+J21 -> 903608.5 | K13: =++K14+K21 -> 903608.5 | L13: =++L14+L21 -> 903608.5
B14: 1183 | C14: Ապահով դպրոց | J14: =+J15 -> 626533.8 | K14: =+K15 -> 626533.8 | L14: =+L15 -> 626533.8
D15: 1183 - 32001 | E15: Կրթական օբյեկտների շենքային պայմանների բարելավում | J15: =+'Հավելված N 3'!G17 -> 626533.8 | K15: =+'Հավելված N 3'!H17 -> 626533.8 | L15: =+'Հավելված N 3'!I17 -> 626533.8
F16: Կրթական օբյեկտների շենքերի (մասնաշենքերի) հիմնանորոգում (համաշինարարական աշխատանքներ, ջեռուցման համակարգի իրականացում, ներքին հարդարում, տարածքի բարեկարգում) և նախագծում
G17: Այլ պետական կազմակերպությունների կողմից օգտագործվող ոչ ֆինանսական ակտիվների հետ գործառնություններ
H18: Ակտիվն օգտագործող կազմակերպությունների անվանումները` Հանրակրթական դպրոցներ
I19: Մասնակի նորոգվող դպրոցների քանակ, հատ | J19: =+'Հավելված N 9'!J19+'Հավելված N 9'!J34+'Հավելված N 9'!J42+'Հավելված N 9'!J57+'Հավելված N 9'!J72+'Հավելված N 9'!J87+'Հավելված N 9'!J102+'Հավելված N 9'!J110 -> 52 | L19: =+'Հավելված N 9'!L19+'Հավելված N 9'!L34+'Հավելված N 9'!L42+'Հավելված N 9'!L57+'Հավելված N 9'!L72+'Հավելված N 9'!L87+'Հավելված N 9'!L102+'Հավելված N 9'!L110 -> 52
B21: 1236 | C21: Հանրակրթական և նախադպրոցական հաստատությունների հիմնում, կառուցում, բարելավում | J21: =+J22 -> 277074.7 | K21: =+K22 -> 277074.7 | L21: =+L22 -> 277074.7
D22: 1236 - 32006 | E22: Հանրակրթական դպրոցների, մանկապարտեզների և կրթահամալիրների գույքով և տեխնիկայով ապահովում | J22: =+'Հավելված N 3'!G19:G19 -> 277074.7 | K22: =+'Հավելված N 3'!H19:H19 -> 277074.7 | L22: =+'Հավելված N 3'!I19:I19 -> 277074.7
F23: Կրթական ժամանակակից նորմերին և կրթական չափորոշիչներին համապատասխան ուսուցման ծրագրերն իրականացնելու նպատակով հանրակրթական և նախադպրոցական հաստատությունների համար գույքի և տեխնիկայի ձեռքբերում
G24: Այլ պետական կազմակերպությունների կողմից օգտագործվող ոչ ֆինանսական ակտիվների հետ գործառնություններ
H25: Ակտիվն օգտագործող կազմակերպությունների անվանումները` Հանրակրթական դպրոցներ, մանկապարտեզներ և կրթահամալիրներ
I26: Մասնակի գույքով ապահովվող դպրոցների քանակ, հատ | J26: =+'Հավելված N 9'!J26+'Հավելված N 9'!J49+'Հավելված N 9'!J64+'Հավելված N 9'!J79+'Հավելված N 9'!J94+'Հավելված N 9'!J117+'Հավելված N 9'!J125+'Հավելված N 9'!J133 -> 92 | L26: =+'Հավելված N 9'!L26+'Հավելված N 9'!L49+'Հավելված N 9'!L64+'Հավելված N 9'!L79+'Հավելված N 9'!L94+'Հավելված N 9'!L117+'Հավելված N 9'!L125+'Հավելված N 9'!L133 -> 92

Sheet Հավելված N 9
J1: Հավելված N 9
J2: ՀՀ կառավարության 2025 թվականի
J3: ______________ ի ___Ն որոշման
A6: ՀԱՅԱՍՏԱՆԻ ՀԱՆՐԱՊԵՏՈՒԹՅԱՆ ԿԱՌԱՎԱՐՈՒԹՅԱՆ 2024 ԹՎԱԿԱՆԻ ԴԵԿՏԵՄԲԵՐԻ 27-Ի N 2060-Ն ՈՐՈՇՄԱՆ N 9.1 ՀԱՎԵԼՎԱԾՈՒՄ ԿԱՏԱՐՎՈՂ ՓՈՓՈԽՈՒԹՅՈՒՆՆԵՐԸ ԵՎ ԼՐԱՑՈՒՄՆԵՐԸ
A9: ԲՍԿ | B9: Ծրագիր | D9: Միջոցառում | H9: Իրականացնողը/ ակտիվն օգտագործողը/ շահառուի ընտրության չափորոշիչը | I9: Արդյունքային չափորոշիչը | J9: Ցուցանիշների փոփոխությունը (ավելացումները նշված են դրական նշանով, իսկ նվազեցումները՝ փակագծերում)
B10: Դասիչը | C10: Անվանումը | D10: Դասիչը | E10: Անվանումը | F10: Նկարագրությունը | G10: Տեսակը | J10: Առաջին կիսամյակ | K10: Ինն ամիս | L10: Տարի
A11: ԸՆԴԱՄԵՆԸ | J11: =+J13+J28+J36+J51+J66+J81+J96+J104+J119+J127 -> 903608.5 | K11: =+K13+K28+K36+K51+K66+K81+K96+K104+K119+K127 -> 903608.5 | L11: =+L13+L28+L36+L51+L66+L81+L96+L104+L119+L127 -> 903608.5
A12: այդ թվում՝
A13: ՀՀ ԿՐԹՈՒԹՅԱՆ, ԳԻՏՈՒԹՅԱՆ, ՄՇԱԿՈԻՅԹԻ ԵՎ ՍՊՈՐՏԻ ՆԱԽԱՐԱՐՈՒԹՅՈՒՆ | J13: =+J14+J21 -> 164284.7 | K13: =+K14+K21 -> 164284.7 | L13: =+L14+L21 -> 164284.7
B14: 1183 | C14: Ապահով դպրոց | J14: =+J15 -> 33359.1 | K14: =+K15 -> 33359.1 | L14: =+L15 -> 33359.1
D15: 1183 - 32001 | E15: Կրթական օբյեկտների շենքային պայմանների բարելավում | J15: =+'Հավելված N 4'!G94 -> 33359.1 | K15: =+'Հավելված N 4'!H94 -> 33359.1 | L15: =+'Հավելված N 4'!I94 -> 33359.1
F16: Կրթական օբյեկտների շենքերի (մասնաշենքերի) հիմնանորոգում (համաշինարարական աշխատանքներ, ջեռուցման համակարգի իրականացում, ներքին հարդարում, տարածքի բարեկարգում) և նախագծում
G17: Այլ պետական կազմակերպությունների կողմից օգտագործվող ոչ ֆինանսական ակտիվների հետ գործառնություններ
H18: Ակտիվն օգտագործող կազմակերպությունների անվանումները` Հանրակրթական դպրոցներ
I19: Մասնակի նորոգվող դպրոցների քանակ, հատ | J19: =+L19 -> 3 | L19: =COUNT('Հավելված N 5'!G14:G16) -> 3
B21: 1236 | C21: Հանրակրթական և նախադպրոցական հաստատությունների հիմնում, կառուցում, բարելավում | J21: =+J22 -> 130925.6 | K21: =+K22 -> 130925.6 | L21: =+L22 -> 130925.6
D22: 1236 - 32006 | E22: Հանրակրթական դպրոցների, մանկապարտեզների և կրթահամալիրների գույքով և տեխնիկայով ապահովում | J22: =+'Հավելված N 4'!G28 -> 130925.6 | K22: =+'Հավելված N 4'!H28 -> 130925.6 | L22: =+'Հավելված N 4'!I28 -> 130925.6
F23: Կրթական ժամանակակից նորմերին և կրթական չափորոշիչներին համապատասխան ուսուցման ծրագրերն իրականացնելու նպատակով հանրակրթական և նախադպրոցական հաստատությունների համար գույքի և տեխնիկայի ձեռքբերում
G24: Այլ պետական կազմակերպությունների կողմից օգտագործվող ոչ ֆինանսական ակտիվների հետ գործառնություններ
H25: Ակտիվն օգտագործող կազմակերպությունների անվանումները` Հանրակրթական դպրոցներ, մանկապարտեզներ և կրթահամալիրներ
I26: Մասնակի գույքով ապահովվող դպրոցների քանակ, հատ | J26: =+L26 -> 26 | L26: =+COUNT('Հավելված N 5'!G76:G101) -> 26
A28: ՀՀ ՏԱՐԱԾՔԱՅԻՆ ԿԱՌԱՎԱՐՄԱՆ ԵՎ ԵՆԹԱԿԱՌՈՒՑՎԱԾՔՆԵՐԻ ՆԱԽԱՐԱՐՈՒԹՅՈՒՆ | J28: =+J29 -> 54365.9 | K28: =+K29 -> 54365.9 | L28: =+L29 -> 54365.9
B29: 1183 | C29: Ապահով դպրոց | J29: =+J30 -> 54365.9 | K29: =+K30 -> 54365.9 | L29: =+L30 -> 54365.9
D30: 1183 - 32001 | E30: Կրթական օբյեկտների շենքային պայմանների բարելավում | J30: =+'Հավելված N 4'!G101 -> 54365.9 | K30: =+'Հավելված N 4'!H101 -> 54365.9 | L30: =+'Հավելված N 4'!I101 -> 54365.9
F31: Կրթական օբյեկտների շենքերի (մասնաշենքերի) հիմնանորոգում (համաշինարարական աշխատանքներ, ջեռուցման համակարգի իրականացում, ներքին հարդարում, տարածքի բարեկարգում) և նախագծում
G32: Այլ պետական կազմակերպությունների կողմից օգտագործվող ոչ ֆինանսական ակտիվների հետ գործառնություններ
H33: Ակտիվն օգտագործող կազմակերպությունների անվանումները` Հանրակրթական դպրոցներ
I34: Մասնակի նորոգվող դպրոցների քանակ, հատ | J34: =+L34 -> 4 | L34: =+COUNT('Հավելված N 5'!G18:G21) -> 4
A36: ՀՀ ԱՐԱԳԱԾՈՏՆԻ ՄԱՐԶՊԵՏԻ ԱՇԽԱՏԱԿԱԶՄ | J36: =+J37+J44 -> 79437 | K36: =+K37+K44 -> 79437 | L36: =+L37+L44 -> 79437
B37: 1183 | C37: Ապահով դպրոց | J37: =+J38 -> 68328.3 | K37: =+K38 -> 68328.3 | L37: =+L38 -> 68328.3
D38: 1183 - 32001 | E38: Կրթական օբյեկտների շենքային պայմանների բարելավում | J38: =+'Հավելված N 4'!G108 -> 68328.3 | K38: =+'Հավելված N 4'!H108 -> 68328.3 | L38: =+'Հավելված N 4'!I108 -> 68328.3
F39: Կրթական օբյեկտների շենքերի (մասնաշենքերի) հիմնանորոգում (համաշինարարական աշխատանքներ, ջեռուցման համակարգի իրականացում, ներքին հարդարում, տարածքի բարեկարգում) և նախագծում
G40: Այլ պետական կազմակերպությունների կողմից օգտագործվող ոչ ֆինանսական ակտիվների հետ գործառնություններ
H41: Ակտիվն օգտագործող կազմակերպությունների անվանումները` Հանրակրթական դպրոցներ
I42: Մասնակի նորոգվող դպրոցների քանակ, հատ | J42: =+L42 -> 8 | L42: =+COUNT('Հավելված N 5'!G23:G30) -> 8
B44: 1236 | C44: Հանրակրթական և նախադպրոցական հաստատությունների հիմնում, կառուցում, բարելավում | J44: =+J45 -> 11108.7 | K44: =+K45 -> 11108.7 | L44: =+L45 -> 11108.7
D45: 1236 - 32006 | E45: Հանրակրթական դպրոցների, մանկապարտեզների և կրթահամալիրների գույքով և տեխնիկայով ապահովում | J45: =+'Հավելված N 4'!G35 -> 11108.7 | K45: =+'Հավելված N 4'!H35 -> 11108.7 | L45: =+'Հավելված N 4'!I35 -> 11108.7
F46: Կրթական ժամանակակից նորմերին և կրթական չափորոշիչներին համապատասխան ուսուցման ծրագրերն իրականացնելու նպատակով հանրակրթական և նախադպրոցական հաստատությունների համար գույքի և տեխնիկայի ձեռքբերում
G47: Այլ պետական կազմակերպությունների կողմից օգտագործվող ոչ ֆինանսական ակտիվների հետ գործառնություններ
H48: Ակտիվն օգտագործող կազմակերպությունների անվանումները` Հանրակրթական դպրոցներ, մանկապարտեզներ և կրթահամալիրներ
...
