Workbook
Name a: #REF!
Name a: #REF!
Name a: #REF!
Name a: #REF!
Name a: #REF!
Name a: #REF!
Name a: #REF!
Name a: #REF!
Name AgencyCode: #REF!
Name AgencyCode: #REF!
Name AgencyCode: #REF!
Name AgencyCode: #REF!
Name AgencyCode: #REF!
Name AgencyCode: #REF!
Name AgencyCode: #REF!
Name AgencyCode: #REF!
Name AgencyCode: #REF!
Name AgencyCode: #REF!
Name AgencyName: #REF!
Name AgencyName: #REF!
Name AgencyName: #REF!
Name AgencyName: #REF!
Name AgencyName: #REF!
Name AgencyName: #REF!
Name AgencyName: #REF!
Name AgencyName: #REF!
Name AgencyName: #REF!
Name åû: #REF!
Name åû: #REF!
Name davit: #REF!
Name davit: #REF!
Name davit: #REF!
Name davit: #REF!
Name davit: #REF!
Name davit: #REF!
Name davit: #REF!
Name davit: #REF!
Name Functional1: #REF!
Name Functional1: #REF!
Name Functional1: #REF!
Name Functional1: #REF!
Name Functional1: #REF!
Name Functional1: #REF!
Name Functional1: #REF!
Name Functional1: #REF!
Name Functional1: #REF!
Name ggg: #REF!
Name ggg: #REF!
Name ggg: #REF!
Name ggg: #REF!
Name ggg: #REF!
Name ggg: #REF!
Name ggg: #REF!
Name ggg: #REF!
Name hav: #REF!
Name mas: #REF!
Name mas: #REF!
Name mass: #REF!
Name mass: #REF!
Name PANature: #REF!

Sheet Հավելված N 1 
C1: Հավելված N 1
C2: ՀՀ կառավարության 2025 թվականի
C3: ______________ ի ___Ն որոշման
A5: «ՀԱՅԱՍՏԱՆԻ ՀԱՆՐԱՊԵՏՈՒԹՅԱՆ 2025 ԹՎԱԿԱՆԻ ՊԵՏԱԿԱՆ ԲՅՈՒՋԵԻ ՄԱՍԻՆ» ՀԱՅԱՍՏԱՆԻ ՀԱՆՐԱՊԵՏՈՒԹՅԱՆ ՕՐԵՆՔԻ 2-ՐԴ ՀՈԴՎԱԾԻ ԱՂՅՈՒՍԱԿԻ ՑՈՒՑԱՆԻՇՆԵՐՈՒՄ ԿԱՏԱՐՎՈՂ ՓՈՓՈԽՈՒԹՅՈՒՆՆԵՐԸ
D6: հազ. դրամներով
D7: Ցուցանիշների փոփոխությունը (ավելացումները նշված են դրական նշանով)
A8: Եկամուտների գծով | D8: =+'Հավելված N 2 '!F11 -> 903608.5
A9: Ծախսերի գծով | D9: =+'Հավելված N 3'!I13 -> 903608.5
A10: Դեֆիցիտը (պակասուրդը) | D10: =+D9-D8 -> 0

Sheet Հավելված N 2 
C1: Հավելված N 2
C2: ՀՀ կառավարության 2025 թվականի
C3: ______________ ի ___Ն որոշման
A6: «ՀԱՅԱՍՏԱՆԻ ՀԱՆՐԱՊԵՏՈՒԹՅԱՆ 2025 ԹՎԱԿԱՆԻ ՊԵՏԱԿԱՆ ԲՅՈՒՋԵԻ ՄԱՍԻՆ» ՀԱՅԱՍՏԱՆԻ ՀԱՆՐԱՊԵՏՈՒԹՅԱՆ ՕՐԵՆՔԻ 6-ՐԴ ՀՈԴՎԱԾԻ ԱՂՅՈՒՍԱԿՈՒՄ ԵՎ ՀԱՅԱՍՏԱՆԻ ՀԱՆՐԱՊԵՏՈՒԹՅԱՆ ԿԱՌԱՎԱՐՈՒԹՅԱՆ 2024 ԹՎԱԿԱՆԻ ԴԵԿՏԵՄԲԵՐԻ 27-Ի N 2060-Ն ՈՐՈՇՄԱՆ N 2 ՀԱՎԵԼՎԱԾԻ ԱՂՅՈՒՍԱԿՈՒՄ ԿԱՏԱՐՎՈՂ ՓՈՓՈԽՈՒԹՅՈՒՆՆԵՐԸ
E8: հազ. դրամներով
A9: Եկամտատեսակ | D9: Ցուցանիշների փոփոխությունը (ավելացումները նշված են դրական նշանով)
D10: Առաջին կիսամյակ | E10: Ինն ամիս | F10: Տարի
A11: ՊԵՏԱԿԱՆ ԲՅՈՒՋԵԻ ԵԿԱՄՈՒՏՆԵՐ | D11: =+D12 -> 903608.5 | E11: =+E12 -> 903608.5 | F11: =+F12 -> 903608.5
A12: Ընդամենը | D12: =+D14 -> 903608.5 | E12: =+E14 -> 903608.5 | F12: =+F14 -> 903608.5
A13: այդ թվում՝
A14: Այլ եկամուտներ | D14: =+'Հավելված N 6'!E11 -> 903608.5 | E14: =+'Հավելված N 6'!F11 -> 903608.5 | F14: =+'Հավելված N 6'!G11 -> 903608.5

Sheet Հավելված N 3
F1: Հավելված N 3
F2: ՀՀ կառավարության 2025 թվականի
F3: ______________ ի ___Ն որոշման
A6: «ՀԱՅԱUՏԱՆԻ ՀԱՆՐԱՊԵՏՈՒԹՅԱՆ 2025 ԹՎԱԿԱՆԻ ՊԵՏԱԿԱՆ ԲՅՈՒՋԵԻ ՄԱUԻՆ» ՀԱՅԱUՏԱՆԻ ՀԱՆՐԱՊԵՏՈՒԹՅԱՆ OՐԵՆՔԻ N 1 ՀԱՎԵԼՎԱԾԻ N 2 ԱՂՅՈՒՍԱԿՈՒՄ ԵՎ ՀԱՅԱՍՏԱՆԻ ՀԱՆՐԱՊԵՏՈՒԹՅԱՆ ԿԱՌԱՎԱՐՈՒԹՅԱՆ 2024 ԹՎԱԿԱՆԻ ԴԵԿՏԵՄԲԵՐԻ 27-Ի N 2060-Ն ՈՐՈՇՄԱՆ N 5 ՀԱՎԵԼՎԱԾԻ N 1 ԱՂՅՈՒՍԱԿՈՒՄ ԿԱՏԱՐՎՈՂ ԼՐԱՑՈՒՄՆԵՐԸ
I9: հազ. դրամներով
A10: ԲԳԿ | B10: Ծրագրային դասիչը | D10: ԲԳԿ/Ծրագրի /միջոցառման անվանումը | E10: Ծրագրի նպատակը/Միջոցառման նկարագրությունը | F10: Վերջնական արդյունքի նկարագրությունը/Միջոցառման տեսակը | G10: Ցուցանիշների փոփոխությունը (ավելացումները նշված են դրական նշանով, իսկ նվազեցումները փակագծերում)
G11: Առաջին կիսամյակ | H11: Ինն ամիս | I11: Տարի
B12: Ծրագիր | C12: Միջոցառում
A13: ԸՆԴԱՄԵՆԸ | G13: =+G15 -> 903608.5 | H13: =+H15 -> 903608.5 | I13: =+I15 -> 903608.5
A14: այդ թվում՝
A15: ՀՀ ԿՐԹՈՒԹՅԱՆ, ԳԻՏՈՒԹՅԱՆ, ՄՇԱԿՈՒՅԹԻ ԵՎ ՍՊՈՐՏԻ ՆԱԽԱՐԱՐՈՒԹՅՈՒՆ | G15: =+G16+G18 -> 903608.5 | H15: =+H16+H18 -> 903608.5 | I15: =+I16+I18 -> 903608.5
B16: 1183 | D16: Ապահով դպրոց | E16: Դպրոցներին սպառնացող աղետների ռիսկի կառավարման կարողությունների հզորացում, դպրոցի անձնակազմի և աշակերտների անվտանգության ապահովման մակարդակի բարձրացում՛ կիրառելով ներառական և երեխայակենտրոն մոտեցում | F16: Դպրոցական միջավայրի բարելավում | G16: =+G17 -> 626533.8 | H16: =+H17 -> 626533.8 | I16: =+I17 -> 626533.8
C17: 1183 - 32001 | D17: Կրթական օբյեկտների շենքային պայմանների բարելավում | E17: Կրթական օբյեկտների շենքերի (մասնաշենքերի) հիմնանորոգում (համաշինարարական աշխատանքներ, ջեռուցման համակարգի իրականացում, ներքին հարդարում, տարածքի բարեկարգում) և նախագծում | F17: Այլ պետական կազմակերպությունների կողմից օգտագործվող ոչ ֆինանսական ակտիվների հետ գործառնություններ | G17: =+'Հավելված N 4'!G92 -> 626533.8 | H17: =+'Հավելված N 4'!H92 -> 626533.8 | I17: =+'Հավելված N 4'!I92 -> 626533.8
B18: 1236 | D18: Հանրակրթական և նախադպրոցական հաստատությունների հիմնում, կառուցում, բարելավում | E18: Առնվազն 300 դպրոցի և 500 մանկապարտեզի կառուցման, վերակառուցման, հիմնանորոգման ծրագրերի իրականացում ՀՀ պետական բյուջեի միջոցների շրջանակներում | F18: Կրթական միջավայրի բարելավում | G18: =+G19 -> 277074.7 | H18: =+H19 -> 277074.7 | I18: =+I19 -> 277074.7
C19: 1236 - 32006 | D19: Հանրակրթական դպրոցների, մանկապարտեզների և կրթահամալիրների գույքով և տեխնիկայով ապահովում | E19: Կրթական ժամանակակից նորմերին և կրթական չափորոշիչներին համապատասխան ուսուցման ծրագրերն իրականացնելու նպատակով հանրակրթական և նախադպրոցական հաստատությունների համար գույքի և տեխնիկայի ձեռքբերում | F19: Այլ պետական կազմակերպությունների կողմից օգտագործվող ոչ ֆինանսական ակտիվների հետ գործառնություններ | G19: =+'Հավելված N 4'!G26 -> 277074.7 | H19: =+'Հավելված N 4'!H26 -> 277074.7 | I19: =+'Հավելված N 4'!I26 -> 277074.7

Sheet Հավելված N 4
F1: Հավելված N 4
F2: ՀՀ կառավարության 2025 թվականի
F3: ______________ ի ___Ն որոշման
A7: ՀԱՅԱՍՏԱՆԻ ՀԱՆՐԱՊԵՏՈՒԹՅԱՆ ԿԱՌԱՎԱՐՈՒԹՅԱՆ 2024 ԹՎԱԿԱՆԻ ԴԵԿՏԵՄԲԵՐԻ 27-Ի N 2060-Ն ՈՐՈՇՄԱՆ N 3 ԵՎ N 4 ՀԱՎԵԼՎԱԾՆԵՐՈՒՄ ԿԱՏԱՐՎՈՂ ԼՐԱՑՈՒՄՆԵՐԸ
I10: հազ. դրամներով
A11: Գործառական դասիչը | D11: Ծրագրային դասիչը | F11: Բյուջետային հատկացումների գլխավոր կարգադրիչների, ծրագրերի, միջոցառումների և միջոցառումները կատարող պետական մարմինների անվանումները | G11: Ցուցանիշների փոփոխությունը (ավելացումները նշված են դրական նշանով, իսկ նվազեցումները փակագծերում)
A12: Բաժին | B12: Խումբ | C12: Դաս | D12: Ծրագիր | E12: Միջոցառում | G12: Առաջին կիսամյակ | H12: Ինն ամիս | I12: Տարի
F13: ԸՆԴԱՄԵՆԸ | G13: =+G15 -> 903608.5 | H13: =+H15 -> 903608.5 | I13: =+I15 -> 903608.5
F14: այդ թվում՝
F15: ՀՀ ԿՐԹՈՒԹՅԱՆ, ԳԻՏՈՒԹՅԱՆ, ՄՇԱԿՈՒՅԹԻ ԵՎ ՍՊՈՐՏԻ ՆԱԽԱՐԱՐՈՒԹՅՈՒՆ | G15: =+G16 -> 903608.5 | H15: =+H16 -> 903608.5 | I15: =+I16 -> 903608.5
A16: 09 | F16: ԿՐԹՈՒԹՅՈՒՆ | G16: =+G18+G84 -> 903608.5 | H16: =+H18+H84 -> 903608.5 | I16: =+I18+I84 -> 903608.5
F17: այդ թվում`
B18: 02 | F18: Միջնակարգ ընդհանուր կրթություն | G18: =+G20 -> 277074.7 | H18: =+H20 -> 277074.7 | I18: =+I20 -> 277074.7
F19: այդ թվում`
C20: 01 | F20: Հիմնական ընդհանուր կրթություն | G20: =+G22 -> 277074.7 | H20: =+H22 -> 277074.7 | I20: =+I22 -> 277074.7
F21: այդ թվում`
F22: ՀՀ կրթության, գիտության, մշակույթի և սպորտի նախարարություն | G22: =+G24 -> 277074.7 | H22: =+H24 -> 277074.7 | I22: =+I24 -> 277074.7
F23: այդ թվում`
D24: 1236 | E24: Հանրակրթական և նախադպրոցական հաստատությունների հիմնում, կառուցում, բարելավում | G24: =+G26 -> 277074.7 | H24: =+H26 -> 277074.7 | I24: =+I26 -> 277074.7
F25: այդ թվում`
E26: 32006 | F26: Հանրակրթական դպրոցների, մանկապարտեզների և կրթահամալիրների գույքով և տեխնիկայով ապահովում | G26: =+G28+G35+G42+G49+G56+G63+G70+G77 -> 277074.7 | H26: =+H28+H35+H42+H49+H56+H63+H70+H77 -> 277074.7 | I26: =+I28+I35+I42+I49+I56+I63+I70+I77 -> 277074.7
F27: այդ թվում` ըստ կատարողների
F28: ՀՀ կրթության գիտության մշակույթի և սպորտի նախարարություն | G28: =+G30 -> 130925.6 | H28: =+H30 -> 130925.6 | I28: =+I30 -> 130925.6
F29: այդ թվում՝ բյուջետային ծախսերի տնտեսագիտական դասակարգման հոդվածներ
F30: ԸՆԴԱՄԵՆԸ ԾԱԽՍԵՐ | G30: =+G31 -> 130925.6 | H30: =+H31 -> 130925.6 | I30: =+I31 -> 130925.6
F31: ԸՆԹԱՑԻԿ ԾԱԽՍԵՐ | G31: =+G32 -> 130925.6 | H31: =+H32 -> 130925.6 | I31: =+I32 -> 130925.6
F32: ԴՐԱՄԱՇՆՈՐՀՆԵՐ | G32: =+G33 -> 130925.6 | H32: =+H33 -> 130925.6 | I32: =+I33 -> 130925.6
F33: ԿԱՊԻՏԱԼԴՐԱՄԱՇՆՈՐՀՆԵՐ ՊԵՏԱԿԱՆ ՀԱՏՎԱԾԻ ԱՅԼ ՄԱԿԱՐԴԱԿՆԵՐԻՆ | G33: =+G34 -> 130925.6 | H33: =+H34 -> 130925.6 | I33: =+I34 -> 130925.6
F34: - Կապիտալ դրամաշնորհներ պետական և համայնքային ոչ առևտրային կազմակերպություններին | G34: =+I34 -> 130925.6 | H34: =+I34 -> 130925.6 | I34: =+'Հավելված N 5'!G75 -> 130925.6
F35: ՀՀ Արագածոտնի մարզպետի աշխատակազմ | G35: =+G37 -> 11108.7 | H35: =+H37 -> 11108.7 | I35: =+I37 -> 11108.7
F36: այդ թվում՝ բյուջետային ծախսերի տնտեսագիտական դասակարգման հոդվածներ
F37: ԸՆԴԱՄԵՆԸ ԾԱԽՍԵՐ | G37: =+G38 -> 11108.7 | H37: =+H38 -> 11108.7 | I37: =+I38 -> 11108.7
F38: ԸՆԹԱՑԻԿ ԾԱԽՍԵՐ | G38: =+G39 -> 11108.7 | H38: =+H39 -> 11108.7 | I38: =+I39 -> 11108.7
F39: ԴՐԱՄԱՇՆՈՐՀՆԵՐ | G39: =+G40 -> 11108.7 | H39: =+H40 -> 11108.7 | I39: =+I40 -> 11108.7
F40: ԿԱՊԻՏԱԼԴՐԱՄԱՇՆՈՐՀՆԵՐ ՊԵՏԱԿԱՆ ՀԱՏՎԱԾԻ ԱՅԼ ՄԱԿԱՐԴԱԿՆԵՐԻՆ | G40: =+G41 -> 11108.7 | H40: =+H41 -> 11108.7 | I40: =+I41 -> 11108.7
F41: - Կապիտալ դրամաշնորհներ պետական և համայնքային ոչ առևտրային կազմակերպություններին | G41: =+I41 -> 11108.7 | H41: =+I41 -> 11108.7 | I41: =+'Հավելված N 5'!G102 -> 11108.7
F42: ՀՀ Արարատի մարզպետի աշխատակազմ | G42: =+G44 -> 23297.9 | H42: =+H44 -> 23297.9 | I42: =+I44 -> 23297.9
F43: այդ թվում՝ բյուջետային ծախսերի տնտեսագիտական դասակարգման հոդվածներ
F44: ԸՆԴԱՄԵՆԸ ԾԱԽՍԵՐ | G44: =+G45 -> 23297.9 | H44: =+H45 -> 23297.9 | I44: =+I45 -> 23297.9
F45: ԸՆԹԱՑԻԿ ԾԱԽՍԵՐ | G45: =+G46 -> 23297.9 | H45: =+H46 -> 23297.9 | I45: =+I46 -> 23297.9
F46: ԴՐԱՄԱՇՆՈՐՀՆԵՐ | G46: =+G47 -> 23297.9 | H46: =+H47 -> 23297.9 | I46: =+I47 -> 23297.9
F47: ԿԱՊԻՏԱԼԴՐԱՄԱՇՆՈՐՀՆԵՐ ՊԵՏԱԿԱՆ ՀԱՏՎԱԾԻ ԱՅԼ ՄԱԿԱՐԴԱԿՆԵՐԻՆ | G47: =+G48 -> 23297.9 | H47: =+H48 -> 23297.9 | I47: =+I48 -> 23297.9
F48: - Կապիտալ դրամաշնորհներ պետական և համայնքային ոչ առևտրային կազմակերպություններին | G48: =+I48 -> 23297.9 | H48: =+I48 -> 23297.9 | I48: =+'Հավելված N 5'!G115 -> 23297.9
F49: ՀՀ Արմավիրի մարզպետի աշխատակազմ | G49: =+G51 -> 30358 | H49: =+H51 -> 30358 | I49: =+I51 -> 30358
F50: այդ թվում՝ բյուջետային ծախսերի տնտեսագիտական դասակարգման հոդվածներ
F51: ԸՆԴԱՄԵՆԸ ԾԱԽՍԵՐ | G51: =+G52 -> 30358 | H51: =+H52 -> 30358 | I51: =+I52 -> 30358
F52: ԸՆԹԱՑԻԿ ԾԱԽՍԵՐ | G52: =+G53 -> 30358 | H52: =+H53 -> 30358 | I52: =+I53 -> 30358
F53: ԴՐԱՄԱՇՆՈՐՀՆԵՐ | G53: =+G54 -> 30358 | H53: =+H54 -> 30358 | I53: =+I54 -> 30358
F54: ԿԱՊԻՏԱԼԴՐԱՄԱՇՆՈՐՀՆԵՐ ՊԵՏԱԿԱՆ ՀԱՏՎԱԾԻ ԱՅԼ ՄԱԿԱՐԴԱԿՆԵՐԻՆ | G54: =+G55 -> 30358 | H54: =+H55 -> 30358 | I54: =+I55 -> 30358
F55: - Կապիտալ դրամաշնորհներ պետական և համայնքային ոչ առևտրային կազմակերպություններին | G55: =+I55 -> 30358 | H55: =+I55 -> 30358 | I55: =+'Հավելված N 5'!G130 -> 30358
F56: ՀՀ Գեղարքունիքի մարզպետի աշխատակազմ | G56: =+G58 -> 4989.5 | H56: =+H58 -> 4989.5 | I56: =+I58 -> 4989.5
F57: այդ թվում՝ բյուջետային ծախսերի տնտեսագիտական դասակարգման հոդվածներ
F58: ԸՆԴԱՄԵՆԸ ԾԱԽՍԵՐ | G58: =+G59 -> 4989.5 | H58: =+H59 -> 4989.5 | I58: =+I59 -> 4989.5
F59: ԸՆԹԱՑԻԿ ԾԱԽՍԵՐ | G59: =+G60 -> 4989.5 | H59: =+H60 -> 4989.5 | I59: =+I60 -> 4989.5
F60: ԴՐԱՄԱՇՆՈՐՀՆԵՐ | G60: =+G61 -> 4989.5 | H60: =+H61 -> 4989.5 | I60: =+I61 -> 4989.5
F61: ԿԱՊԻՏԱԼԴՐԱՄԱՇՆՈՐՀՆԵՐ ՊԵՏԱԿԱՆ ՀԱՏՎԱԾԻ ԱՅԼ ՄԱԿԱՐԴԱԿՆԵՐԻՆ | G61: =+G62 -> 4989.5 | H61: =+H62 -> 4989.5 | I61: =+I62 -> 4989.5
F62: - Կապիտալ դրամաշնորհներ պետական և համայնքային ոչ առևտրային կազմակերպություններին | G62: =+I62 -> 4989.5 | H62: =+I62 -> 4989.5 | I62: =+'Հավելված N 5'!G134 -> 4989.5
F63: ՀՀ Շիրակի մարզպետի աշխատակազմ | G63: =+G65 -> 41378.4 | H63: =+H65 -> 41378.4 | I63: =+I65 -> 41378.4
F64: այդ թվում՝ բյուջետային ծախսերի տնտեսագիտական դասակարգման հոդվածներ
F65: ԸՆԴԱՄԵՆԸ ԾԱԽՍԵՐ | G65: =+G66 -> 41378.4 | H65: =+H66 -> 41378.4 | I65: =+I66 -> 41378.4
F66: ԸՆԹԱՑԻԿ ԾԱԽՍԵՐ | G66: =+G67 -> 41378.4 | H66: =+H67 -> 41378.4 | I66: =+I67 -> 41378.4
F67: ԴՐԱՄԱՇՆՈՐՀՆԵՐ | G67: =+G68 -> 41378.4 | H67: =+H68 -> 41378.4 | I67: =+I68 -> 41378.4
F68: ԿԱՊԻՏԱԼԴՐԱՄԱՇՆՈՐՀՆԵՐ ՊԵՏԱԿԱՆ ՀԱՏՎԱԾԻ ԱՅԼ ՄԱԿԱՐԴԱԿՆԵՐԻՆ | G68: =+G69 -> 41378.4 | H68: =+H69 -> 41378.4 | I68: =+I69 -> 41378.4
F69: - Կապիտալ դրամաշնորհներ պետական և համայնքային ոչ առևտրային կազմակերպություններին | G69: =+I69 -> 41378.4 | H69: =+I69 -> 41378.4 | I69: =+'Հավելված N 5'!G137 -> 41378.4
F70: ՀՀ Սյունիքի մարզպետի աշխատակազմ | G70: =+G72 -> 12554.5 | H70: =+H72 -> 12554.5 | I70: =+I72 -> 12554.5
F71: այդ թվում՝ բյուջետային ծախսերի տնտեսագիտական դասակարգման հոդվածներ
F72: ԸՆԴԱՄԵՆԸ ԾԱԽՍԵՐ | G72: =+G73 -> 12554.5 | H72: =+H73 -> 12554.5 | I72: =+I73 -> 12554.5
F73: ԸՆԹԱՑԻԿ ԾԱԽՍԵՐ | G73: =+G74 -> 12554.5 | H73: =+H74 -> 12554.5 | I73: =+I74 -> 12554.5
F74: ԴՐԱՄԱՇՆՈՐՀՆԵՐ | G74: =+G75 -> 12554.5 | H74: =+H75 -> 12554.5 | I74: =+I75 -> 12554.5
F75: ԿԱՊԻՏԱԼԴՐԱՄԱՇՆՈՐՀՆԵՐ ՊԵՏԱԿԱՆ ՀԱՏՎԱԾԻ ԱՅԼ ՄԱԿԱՐԴԱԿՆԵՐԻՆ | G75: =+G76 -> 12554.5 | H75: =+H76 -> 12554.5 | I75: =+I76 -> 12554.5
F76: - Կապիտալ դրամաշնորհներ պետական և համայնքային ոչ առևտրային կազմակերպություններին | G76: =+I76 -> 12554.5 | H76: =+I76 -> 12554.5 | I76: =+'Հավելված N 5'!G159 -> 12554.5
F77: ՀՀ Վայոց Ձորի մարզպետի աշխատակազմ | G77: =+G79 -> 22462.1 | H77: =+H79 -> 22462.1 | I77: =+I79 -> 22462.1
F78: այդ թվում՝ բյուջետային ծախսերի տնտեսագիտական դասակարգման հոդվածներ
F79: ԸՆԴԱՄԵՆԸ ԾԱԽՍԵՐ | G79: =+G80 -> 22462.1 | H79: =+H80 -> 22462.1 | I79: =+I80 -> 22462.1
F80: ԸՆԹԱՑԻԿ ԾԱԽՍԵՐ | G80: =+G81 -> 22462.1 | H80: =+H81 -> 22462.1 | I80: =+I81 -> 22462.1
F81: ԴՐԱՄԱՇՆՈՐՀՆԵՐ | G81: =+G82 -> 22462.1 | H81: =+H82 -> 22462.1 | I81: =+I82 -> 22462.1
F82: ԿԱՊԻՏԱԼԴՐԱՄԱՇՆՈՐՀՆԵՐ ՊԵՏԱԿԱՆ ՀԱՏՎԱԾԻ ԱՅԼ ՄԱԿԱՐԴԱԿՆԵՐԻՆ | G82: =+G83 -> 22462.1 | H82: =+H83 -> 22462.1 | I82: =+I83 -> 22462.1
F83: - Կապիտալ դրամաշնորհներ պետական և համայնքային ոչ առևտրային կազմակերպություններին | G83: =+I83 -> 22462.1 | H83: =+I83 -> 22462.1 | I83: =+'Հավելված N 5'!G168 -> 22462.1
B84: 06 | F84: Կրթությանը տրամադրվող օժանդակ ծառայություններ | G84: =+G86 -> 626533.8 | H84: =+H86 -> 626533.8 | I84: =+I86 -> 626533.8
F85: այդ թվում`
C86: 01 | F86: Կրթությանը տրամադրվող օժանդակ ծառայություններ | G86: =+G88 -> 626533.8 | H86: =+H88 -> 626533.8 | I86: =+I88 -> 626533.8
F87: այդ թվում`
F88: ՀՀ կրթության, գիտության, մշակույթի և սպորտի նախարարություն | G88: =+G90 -> 626533.8 | H88: =+H90 -> 626533.8 | I88: =+I90 -> 626533.8
F89: այդ թվում`
D90: 1183 | E90: Ապահով դպրոց | G90: =+G92 -> 626533.8 | H90: =+H92 -> 626533.8 | I90: =+I92 -> 626533.8
F91: այդ թվում`
E92: 32001 | F92: Կրթական օբյեկտների շենքային պայմանների բարելավում | G92: =+G94+G101+G108+G115+G122+G129+G136+G143 -> 626533.8 | H92: =+H94+H101+H108+H115+H122+H129+H136+H143 -> 626533.8 | I92: =+I94+I101+I108+I115+I122+I129+I136+I143 -> 626533.8
F93: այդ թվում` ըստ կատարողների
F94: ՀՀ կրթության, գիտության, մշակույթի և սպորտի նախարարություն | G94: =+G96 -> 33359.1 | H94: =+H96 -> 33359.1 | I94: =+I96 -> 33359.1
F95: այդ թվում՝ բյուջետային ծախսերի տնտեսագիտական դասակարգման հոդվածներ
F96: ԸՆԴԱՄԵՆԸ ԾԱԽՍԵՐ | G96: =+G97 -> 33359.1 | H96: =+H97 -> 33359.1 | I96: =+I97 -> 33359.1
F97: ԸՆԹԱՑԻԿ ԾԱԽՍԵՐ | G97: =+G98 -> 33359.1 | H97: =+H98 -> 33359.1 | I97: =+I98 -> 33359.1
F98: ԴՐԱՄԱՇՆՈՐՀՆԵՐ | G98: =+G99 -> 33359.1 | H98: =+H99 -> 33359.1 | I98: =+I99 -> 33359.1
F99: ԿԱՊԻՏԱԼԴՐԱՄԱՇՆՈՐՀՆԵՐ ՊԵՏԱԿԱՆ ՀԱՏՎԱԾԻ ԱՅԼ ՄԱԿԱՐԴԱԿՆԵՐԻՆ | G99: =+G100 -> 33359.1 | H99: =+H100 -> 33359.1 | I99: =+I100 -> 33359.1
F100: - Կապիտալ դրամաշնորհներ պետական և համայնքային ոչ առևտրային կազմակերպություններին | G100: =+I100 -> 33359.1 | H100: =+I100 -> 33359.1 | I100: =+'Հավելված N 5'!G13 -> 33359.1
F101: ՀՀ տարածքային կառավարման և ենթակառուցվածքների նախարարություն | G101: =+G103 -> 54365.9 | H101: =+H103 -> 54365.9 | I101: =+I103 -> 54365.9
F102: այդ թվում՝ բյուջետային ծախսերի տնտեսագիտական դասակարգման հոդվածներ
F103: ԸՆԴԱՄԵՆԸ ԾԱԽՍԵՐ | G103: =+G104 -> 54365.9 | H103: =+H104 -> 54365.9 | I103: =+I104 -> 54365.9
F104: ԸՆԹԱՑԻԿ ԾԱԽՍԵՐ | G104: =+G105 -> 54365.9 | H104: =+H105 -> 54365.9 | I104: =+I105 -> 54365.9
F105: ԴՐԱՄԱՇՆՈՐՀՆԵՐ | G105: =+G106 -> 54365.9 | H105: =+H106 -> 54365.9 | I105: =+I106 -> 54365.9
...

Sheet Հավելված N 5
F1: Հավելված 5
F2: ՀՀ կառավարության 2025 թվականի
F3: ______________ ի ___Ն որոշման
A6: ՀԱՅԱՍՏԱՆԻ ՀԱՆՐԱՊԵՏՈՒԹՅԱՆ ԿԱՌԱՎԱՐՈՒԹՅԱՆ 2024 ԹՎԱԿԱՆԻ ԴԵԿՏԵՄԲԵՐԻ 27-Ի N 2060-Ն ՈՐՈՇՄԱՆ N 5 ՀԱՎԵԼՎԱԾԻ N 7 ԱՂՅՈՒՍԱԿՈՒՄ ԿԱՏԱՐՎՈՂ ԼՐԱՑՈՒՄՆԵՐԸ
A7: հազար դրամ
A8: Ծրագրային դասիչը | D8: Բյուջետային հատկացումների գլխավոր կարգադրիչների, ծրագրերի, միջոցառումների, ծախսային ուղղությունների անվանումները | F8: Միջոցառումները կատարող պետական մարմինների և դրամաշնորհ ստացող տնտեսվարող սուբյեկտների անվանումները | G8: Ցուցանիշների փոփոխությունը (ավելացումները նշված են դրական նշանով)
A9: Ծրագիր | B9: Միջոցառում | G9: Տարի
A10: ՀՀ կրթության, գիտության, մշակույթի և սպորտի նախարարություն | G10: =+G11+G73 -> 903608.5
A11: 1183 | B11: Ապահով դպրոց | G11: =+G12 -> 626533.8
B12: 32001 | C12: Կրթական օբյեկտների շենքային պայմանների բարելավում | G12: =+G13+G17+G22+G31+G45+G49+G64+G71 -> 626533.8
F13: ՀՀ կրթության, գիտության, մշակույթի և սպորտի նախարարություն | G13: =SUM(G14:G16) -> 33359.1
F14: «Երևանի Հ․ Գալստյանի անվան թիվ 83 ավագ դպրոց» ՊՈԱԿ | G14: 9246.5
F15: «Վանաձորի Վ․ Տերյանի անվան թիվ 5 ավագ դպրոց» ՊՈԱԿ | G15: 15626.9
F16: Երևանի երաժշտական թիվ 13 հատուկ դպրոց ՊՈԱԿ | G16: 8485.7
F17: ՀՀ տարածքային կառավարման և ենթակառուցվածքների նախարարություն | G17: =SUM(G18:G21) -> 54365.9
F18: Երևանի Դերենիկ Դեմիրճյանի անվան հ.27 հիմնական դպրոց ՊՈԱԿ | G18: 24874.7
F19: Երևանի Ծովակալ Իսակովի անվան թիվ 132 դպրոց ՊՈԱԿ | G19: 6077.4
F20: «Երևանի Հովհ. Շիրազի անվան թիվ 169 հիմնական դպրոց» ՊՈԱԿ | G20: 5226.9
F21: «Երևանի 197 հիմնական դպրոց» ՊՈԱԿ | G21: 18186.9
F22: ՀՀ Արագածոտնի մարզպետի աշխատակազմ | G22: =SUM(G23:G30) -> 68328.3
F23: «Անտառուտի միջնակարգ դպրոց» ՊՈԱԿ | G23: 10988.3
F24: «Աշտարակի Սմբատ Շահազիզի անվան թիվ 2 հիմնական դպրոց» ՊՈԱԿ | G24: 2181.9
F25: «Եղիպատրուշի միջնակարգ դպրոց» ՊՈԱԿ | G25: 12941
F26: «Լեռնարոտի Գեղազնիկ Միքայելյանի (Չաուշի) անվան միջնակարգ դպրոց» ՊՈԱԿ | G26: 6000
F27: «Կոշի միջնակարգ դպրոց» ՊՈԱԿ | G27: 12501
F28: «Ղազարավանի միջնակարգ դպրոց» ՊՈԱԿ | G28: 8000
F29: «Վարդաբլուրի Խ. Աբովյանի անվան միջնակարգ դպրոց» ՊՈԱԿ | G29: 7420.2
F30: «Օրգովի Արբի Թրպանճյանի անվան միջնակարգ դպրոց» ՊՈԱԿ | G30: 8295.9
F31: ՀՀ Արարատի մարզպետի աշխատակազմ | G31: =SUM(G32:G44) -> 88913.6
F32: «գ. Այգեպատի միջնակարգ դպրոց» ՊՈԱԿ | G32: 2759.4
F33: «Արաքսավանի միջնակարգ դպրոց» ՊՈԱԿ | G33: 996.1
F34: «Արգավանդի միջնակարգ դպրոց» ՊՈԱԿ | G34: 8584.2
F35: «Երասխի միջնակարգ դպրոց» ՊՈԱԿ | G35: 3371.5
F36: «գ. Զորակի Մոնթե Մելքոնյանի անվան միջնակարգ դպրոց» ՊՈԱԿ | G36: 9273.8
F37: «Մարմարաշենի Անդրանիկ Բարությանի անվան միջնակարգ դպրոց» ՊՈԱԿ | G37: 11318.2
F38: «գ. Ն.Դվինի Լ.Ազգալդյանի անվան միջնակարգ դպրոց» ՊՈԱԿ | G38: 3382.6
F39: «գ. Նարեկի միջնակարգ դպրոց» ՊՈԱԿ | G39: 3957.9
F40: «գ. Նոր Խարբերդի թիվ 1 միջնակարգ դպրոց» ՊՈԱԿ | G40: 6288.9
F41: «գ. Նորաշենի Ավետիք Իսահակյանի անվան միջնակարգ դպրոց» ՊՈԱԿ | G41: 12465.7
F42: «Շահումյանի Ա. Համբարձումյանի անվան միջնակարգ դպրոց» ՊՈԱԿ | G42: 9162.9
F43: «Սիսի միջնակարգ դպրոց» ՊՈԱԿ | G43: 11659.7
F44: «ք. Արտաշատի Հայկ Կտրակյանի անվան թիվ 3 հիմնական դպրոց» ՊՈԱԿ | G44: 5692.7
F45: ՀՀ Արմավիրի մարզպետի աշխատակազմ | G45: =SUM(G46:G48) -> 27136.4
F46: «գ. Լենուղու միջնակարգ դպրոց» ՊՈԱԿ | G46: 2269.3
F47: «Մուսալեռի Ֆ. Վերֆելի անվան միջնակարգ դպրոց» ՊՈԱԿ | G47: 4172.3
F48: «ք. Վաղարշապատի Հ.Հովհաննիսյանի անվ. թիվ 3 հիմնական դպրոց» ՊՈԱԿ | G48: 20694.8
F49: ՀՀ Գեղարքունիքիքի մարզպետի աշխատակազմ | G49: =SUM(G50:G63) -> 275071.9
F50: «գ. Գանձակի թիվ 1 միջնակարգ դպրոց» ՊՈԱԿ | G50: 15024
F51: «գ. Գանձակի թիվ 2 միջնակարգ դպրոց» ՊՈԱԿ | G51: 24424.3
F52: «ք. Գավառի Մ. Բունիաթյանի անվան թիվ 8 միջնակարգ դպրոց» ՊՈԱԿ | G52: 23557
F53: «Լճափի միջնակարգ դպրոց» ՊՈԱԿ | G53: 17928.3
F54: «Նորատուս գյուղի N 3 միջնակարգ դպրոց» ՊՈԱԿ | G54: 20663.9
F55: «գ․ Այգուտի միջնակարգ դպրոց» ՊՈԱԿ | G55: 8452
F56: «Ճամբարակի Մ․ Քոչարյանի Անվան N 2 hիմնական դպրոց» ՊՈԱԿ | G56: 20769.8
F57: «գ. Վարդենիկի Ռ. Հովհաննիսյանի թիվ 1 հիմնական դպրոց» ՊՈԱԿ | G57: 7199.7
F58: «գ. Զովաբերի Ե. Չարենցի անվան միջնակարգ դպրոց» ՊՈԱԿ | G58: 17982
F59: «Սևանի հ․ 6 միջնակարգ դպրոց» ՊՈԱԿ | G59: 11114.1
F60: «ք. Սևանի Յա. Զարոբյանի անվան թիվ 2 հիմնական դպրոց» ՊՈԱԿ | G60: 36928
F61: «գ. Ծափաթաղի Հ. Աբրահամյանի անվան միջնակարգ դպրոց» ՊՈԱԿ | G61: 6453
... F63: «գ. Նորատուսի Ա. Սողոմոնյանի անվան թիվ 2 միջնակարգ դպրոց» ՊՈԱԿ | G63: 38700
F64: ՀՀ Լոռու մարզպետի աշխատակազմ | G64: =+SUM(G65:G70) -> 76220.1
F65: «Վանաձորի Ա ․ Ս ․ Պուշկինի անվան N 4 հիմնական դպրոց» ՊՈԱԿ | G65: 5384.7
F66: «Վանաձորի Ե.Չարենցի անվան N 12 հիմնական դպրոց» ՊՈԱԿ | G66: 3097.4
F67: «Մեծ Այրումի միջնակարգ դպրոց» ՊՈԱԿ | G67: =10527+2200 -> 12727
F68: «Տաշիրի թիվ 2 միջնակարգ դպրոց» ՊՈԱԿ | G68: 9111.5
F69: «Սվերդլովի միջնակարգ դպրոց» ՊՈԱԿ | G69: 43665
F70: «Սպիտակի Վարդանանց թիվ 4 հիմնական դպրոց» ՊՈԱԿ | G70: 2234.5
F71: ՀՀ Շիրակի մարզպետի աշխատակազմ | G71: =+G72 -> 3138.5
F72: «Անիպեմզայի միջնակարգ դպրոց» ՊՈԱԿ | G72: 3138.5
A73: 1236 | B73: Հանրակրթական և նախադպրոցական հաստատությունների հիմնում, կառուցում, բարելավում | G73: =+G74 -> 277074.7
B74: 32006 | C74: Հանրակրթական դպրոցների, մանկապարտեզների և կրթահամալիրների գույքով և տեխնիկայով ապահովում | G74: =+G75+G102+G115+G130+G134+G137+G159+G168 -> 277074.7
F75: ՀՀ կրթության, գիտության, մշակույթի և սպորտի նախարարություն | G75: =SUM(G76:G101) -> 130925.6
F76: «Երևանի թիվ 2 ավագ դպրոց» ՊՈԱԿ | G76: 2125
F77: «Երևանի Ա․ Մարգարյանի անվան թիվ 29 ավագ դպրոց» ՊՈԱԿ | G77: 12239
F78: «Երևանի Լեոյի անվան թիվ 65 ավագ դպրոց» ՊՈԱԿ | G78: 2735
F79: «Երևանի Գ․ Մարգարյանի անվան թիվ 94 ավագ դպրոց» ՊՈԱԿ | G79: 950
F80: «Երևանի թիվ 112 ավագ դպրոց» ՊՈԱԿ | G80: 330
F81: «Երևանի Բ․ Ժամկոչյանի անվան թիվ 119 ավագ դպրոց» ՊՈԱԿ | G81: 5380
F82: «Երևանի Լ․ Արիսյանի անվան թիվ 127 ավագ դպրոց» ՊՈԱԿ | G82: 212.4
F83: «Երևանի թիվ 170 ավագ դպրոց» ՊՈԱԿ | G83: 1854
F84: «Վաղարշապատի Գիրգոր Նարեկացու անվան թիվ 2 ավագ դպրոց» ՊՈԱԿ | G84: 4728
F85: «Ձորագյուղի ավագ դպրոց» ՊՈԱԿ | G85: 420
F86: «Հրազդանի Օրբելու անվան թիվ 13 ավագ դպրոց» ՊՈԱԿ | G86: 5000
F87: «Բյուրեղավանի Ս․ Վարդանյանի անվան ավագ դպրոց» ՊՈԱԿ | G87: 960
... F101: Վեդիի ավագ դպրոց ՊՈԱԿ | G101: 573
F102: ՀՀ Արագածոտնի մարզպետի աշխատակազմ | G102: =SUM(G103:G114) -> 11108.7
F103: «Աշտարակի Սմբատ Շահազիզի անվան թիվ 2 հիմնական դպրոց» ՊՈԱԿ | G103: 500
F104: «Արտենիի հիմնական դպրոց» ՊՈԱԿ | G104: 2450
F105: «Բերքառատի միջնակարգ դպրոց» ՊՈԱԿ | G105: 655
F106: «Թալինի Մելանթոն Արսլանյանի անվան թիվ 1 հիմնական դպրոց» ՊՈԱԿ | G106: 1400
F107: «Կարբիի Վ. Թեքեյանի անվան միջնակարգ դպրոց» ՊՈԱԿ | G107: 420
F108: «Կոշի միջնակարգ դպրոց» ՊՈԱԿ | G108: 988
F109: «Հակոյի հիմնական դպրոց» ՊՈԱԿ | G109: 250
F110: «Միջնատունի հիմնական դպրոց» ՊՈԱԿ | G110: 400
F111: «Նոր Երզնկայի միջնակարգ դպրոց» ՊՈԱԿ | G111: 1070
F112: «Նորաշենի Ռ. Հարությունյանի անվան միջնակարգ դպրոց» ՊՈԱԿ | G112: 931.7
F113: «Շղարշիկի Ա․Մինասյանի անվան միջնակարգ դպրոց» ՊՈԱԿ | G113: 350
F114: «Ոսկեհատի միջնակարգ դպրոց» ՊՈԱԿ | G114: 1694
F115: ՀՀ Արարատի մարզպետի աշխատակազմ | G115: =SUM(G116:G129) -> 23297.9
F116: «գ. Այգեզարդի Ա.Ղարիբյանի անվան միջնակարգ դպրոց» ՊՈԱԿ | G116: 1462
...

Sheet Հավելված N 6
C1: Հավելված N 6
C2: ՀՀ կառավարության 2025 թվականի
C3: ______________ ի ___Ն որոշման
A6: ՀԱՅԱՍՏԱՆԻ ՀԱՆՐԱՊԵՏՈՒԹՅԱՆ ԿԱՌԱՎԱՐՈՒԹՅԱՆ 2024 ԹՎԱԿԱՆԻ ԴԵԿՏԵՄԲԵՐԻ 27-Ի N 2060-Ն ՈՐՈՇՄԱՆ N 6 ՀԱՎԵԼՎԱԾՈՒՄ ԿԱՏԱՐՎՈՂ ԼՐԱՑՈՒՄԸ
A9: NN ը/կ | B9: Եկամտատեսակը | D9: Գանձման համար պատասխանատու պետական կառավարման մարմինը (մարմինները) | E9: Ցուցանիշների փոփոխությունը (ավելացումները նշված են դրական նշանով)
E10: Առաջին կիսամյակ | F10: Ինն ամիս | G10: Տարի
A11: Այլ եկամուտներ, ընդամենը՝ | E11: =+E13 -> 903608.5 | F11: =+F13 -> 903608.5 | G11: =+G13 -> 903608.5
B12: այդ թվում՝
A13: 6 | B13: Օրենքով և այլ իրավական ակտերով սահմանված պետական բյուջե մուտքագրվող այլ եկամուտներ | E13: =+E14 -> 903608.5 | F13: =+F14 -> 903608.5 | G13: =+G14 -> 903608.5
A14: 6.8 | B14: Նախորդ տարիների՝ ՀՀ պետական բյուջեից ծախսերի ֆինանսավորման նպատակով հատկացված գումարների (բացառությամբ փոխառու միջոցների) վերադարձից մուտքեր | D14: ՀՀ պետական կառավարման մարմիններ | E14: =+G14 -> 903608.5 | F14: =+G14 -> 903608.5 | G14: =+'Հավելված N 5'!G10 -> 903608.5

Sheet Հավելված N 7
C1: Հավելված N 7
C2: ՀՀ կառավարության 2025 թվականի
C3: ______________ ի ___Ն որոշման
A6: ՀԱՅԱՍՏԱՆԻ ՀԱՆՐԱՊԵՏՈՒԹՅԱՆ ԿԱՌԱՎԱՐՈՒԹՅԱՆ 2024 ԹՎԱԿԱՆԻ ԴԵԿՏԵՄԲԵՐԻ 27-Ի N 2060-Ն N 8 ՀԱՎԵԼՎԱԾՈՒՄ ԿԱՏԱՐՎՈՂ ԼՐԱՑՈՒՄԸ
C10: հազ. դրամներով
A11: Ծրագրային դասիչը | C11: Ծրագրերի, միջոցառումների անվանումները | D11: Ցուցանիշների փոփոխությունը (ավելացումները նշված են դրական նշանով)
A12: Ծրագիր | B12: Միջոցառում
C13: ԸՆԴԱՄԵՆԸ ԾԱԽՍԵՐ | D13: =+D15+D17+D19+D21+D27+D30+D43+D45+D48+D50+D52+D55 -> 54365.9
C14: այդ թվում՝
A15: 1183 | C15: Ապահով դպրոց | D15: =+D16 -> 54365.9
B16: 32001 | C16: Կրթական օբյեկտների շենքային պայմանների բարելավում | D16: =+'Հավելված N 4'!I101 -> 54365.9

Sheet Հավելված N 8
J1: Հավելված N 8
J2: ՀՀ կառավարության 2025 թվականի
J3: ______________ ի ___Ն որոշման
A6: ՀԱՅԱՍՏԱՆԻ ՀԱՆՐԱՊԵՏՈՒԹՅԱՆ ԿԱՌԱՎԱՐՈՒԹՅԱՆ 2024 ԹՎԱԿԱՆԻ ԴԵԿՏԵՄԲԵՐԻ 27-Ի N 2060-Ն ՈՐՈՇՄԱՆ N 9 ՀԱՎԵԼՎԱԾՈՒՄ ԿԱՏԱՐՎՈՂ ՓՈՓՈԽՈՒԹՅՈՒՆՆԵՐԸ ԵՎ ԼՐԱՑՈՒՄՆԵՐԸ
A9: ԲԳԿ | B9: Ծրագիր | D9: Միջոցառում | H9: Իրականացնողը/ ակտիվն օգտագործողը/ շահառուի ընտրության չափորոշիչը | I9: Արդյունքային չափորոշիչը | J9: Ցուցանիշների փոփոխությունը (ավելացումները նշված են դրական նշանով, իսկ նվազեցումները՝ փակագծերում)
B10: Դասիչը | C10: Անվանումը | D10: Դասիչը | E10: Անվանումը | F10: Նկարագրությունը | G10: Տեսակը | J10: Առաջին կիսամյակ | K10: Ինն ամիս | L10: Տարի
A11: ԸՆԴԱՄԵՆԸ | J11: =+J13 -> 903608.5 | K11: =+K13 -> 903608.5 | L11: =+L13 -> 903608.5
A12: այդ թվում՝
A13: ՀՀ ԿՐԹՈՒԹՅԱՆ, ԳԻՏՈՒԹՅԱՆ, ՄՇԱԿՈԻՅԹԻ ԵՎ ՍՊՈՐՏԻ ՆԱԽԱՐԱՐՈՒԹՅՈՒՆ | J13: =++J14+J21 -> 903608.5 | K13: =++K14+K21 -> 903608.5 | L13: =++L14+L21 -> 903608.5
B14: 1183 | C14: Ապահով դպրոց | J14: =+J15 -> 626533.8 | K14: =+K15 -> 626533.8 | L14: =+L15 -> 626533.8
D15: 1183 - 32001 | E15: Կրթական օբյեկտների շենքային պայմանների բարելավում | J15: =+'Հավելված N 3'!G17 -> 626533.8 | K15: =+'Հավելված N 3'!H17 -> 626533.8 | L15: =+'Հավելված N 3'!I17 -> 626533.8
F16: Կրթական օբյեկտների շենքերի (մասնաշենքերի) հիմնանորոգում (համաշինարարական աշխատանքներ, ջեռուցման համակարգի իրականացում, ներքին հարդարում, տարածքի բարեկարգում) և նախագծում
G17: Այլ պետական կազմակերպությունների կողմից օգտագործվող ոչ ֆինանսական ակտիվների հետ գործառնություններ
H18: Ակտիվն օգտագործող կազմակերպությունների անվանումները` Հանրակրթական դպրոցներ
I19: Մասնակի նորոգվող դպրոցների քանակ, հատ | J19: =+'Հավելված N 9'!J19+'Հավելված N 9'!J34+'Հավելված N 9'!J42+'Հավելված N 9'!J57+'Հավելված N 9'!J72+'Հավելված N 9'!J87+'Հավելված N 9'!J102+'Հավելված N 9'!J110 -> 52 | L19: =+'Հավելված N 9'!L19+'Հավելված N 9'!L34+'Հավելված N 9'!L42+'Հավելված N 9'!L57+'Հավելված N 9'!L72+'Հավելված N 9'!L87+'Հավելված N 9'!L102+'Հավելված N 9'!L110 -> 52
B21: 1236 | C21: Հանրակրթական և նախադպրոցական հաստատությունների հիմնում, կառուցում, բարելավում | J21: =+J22 -> 277074.7 | K21: =+K22 -> 277074.7 | L21: =+L22 -> 277074.7
D22: 1236 - 32006 | E22: Հանրակրթական դպրոցների, մանկապարտեզների և կրթահամալիրների գույքով և տեխնիկայով ապահովում | J22: =+'Հավելված N 3'!G19:G19 -> 277074.7 | K22: =+'Հավելված N 3'!H19:H19 -> 277074.7 | L22: =+'Հավելված N 3'!I19:I19 -> 277074.7
F23: Կրթական ժամանակակից նորմերին և կրթական չափորոշիչներին համապատասխան ուսուցման ծրագրերն իրականացնելու նպատակով հանրակրթական և նախադպրոցական հաստատությունների համար գույքի և տեխնիկայի ձեռքբերում
G24: Այլ պետական կազմակերպությունների կողմից օգտագործվող ոչ ֆինանսական ակտիվների հետ գործառնություններ
H25: Ակտիվն օգտագործող կազմակերպությունների անվանումները` Հանրակրթական դպրոցներ, մանկապարտեզներ և կրթահամալիրներ
I26: Մասնակի գույքով ապահովվող դպրոցների քանակ, հատ | J26: =+'Հավելված N 9'!J26+'Հավելված N 9'!J49+'Հավելված N 9'!J64+'Հավելված N 9'!J79+'Հավելված N 9'!J94+'Հավելված N 9'!J117+'Հավելված N 9'!J125+'Հավելված N 9'!J133 -> 92 | L26: =+'Հավելված N 9'!L26+'Հավելված N 9'!L49+'Հավելված N 9'!L64+'Հավելված N 9'!L79+'Հավելված N 9'!L94+'Հավելված N 9'!L117+'Հավելված N 9'!L125+'Հավելված N 9'!L133 -> 92

Sheet Հավելված N 9
J1: Հավելված N 9
J2: ՀՀ կառավարության 2025 թվականի
J3: ______________ ի ___Ն որոշման
A6: ՀԱՅԱՍՏԱՆԻ ՀԱՆՐԱՊԵՏՈՒԹՅԱՆ ԿԱՌԱՎԱՐՈՒԹՅԱՆ 2024 ԹՎԱԿԱՆԻ ԴԵԿՏԵՄԲԵՐԻ 27-Ի N 2060-Ն ՈՐՈՇՄԱՆ N 9.1 ՀԱՎԵԼՎԱԾՈՒՄ ԿԱՏԱՐՎՈՂ ՓՈՓՈԽՈՒԹՅՈՒՆՆԵՐԸ ԵՎ ԼՐԱՑՈՒՄՆԵՐԸ
A9: ԲՍԿ | B9: Ծրագիր | D9: Միջոցառում | H9: Իրականացնողը/ ակտիվն օգտագործողը/ շահառուի ընտրության չափորոշիչը | I9: Արդյունքային չափորոշիչը | J9: Ցուցանիշների փոփոխությունը (ավելացումները նշված են դրական նշանով, իսկ նվազեցումները՝ փակագծերում)
B10: Դասիչը | C10: Անվանումը | D10: Դասիչը | E10: Անվանումը | F10: Նկարագրությունը | G10: Տեսակը | J10: Առաջին կիսամյակ | K10: Ինն ամիս | L10: Տարի
A11: ԸՆԴԱՄԵՆԸ | J11: =+J13+J28+J36+J51+J66+J81+J96+J104+J119+J127 -> 903608.5 | K11: =+K13+K28+K36+K51+K66+K81+K96+K104+K119+K127 -> 903608.5 | L11: =+L13+L28+L36+L51+L66+L81+L96+L104+L119+L127 -> 903608.5
A12: այդ թվում՝
A13: ՀՀ ԿՐԹՈՒԹՅԱՆ, ԳԻՏՈՒԹՅԱՆ, ՄՇԱԿՈԻՅԹԻ ԵՎ ՍՊՈՐՏԻ ՆԱԽԱՐԱՐՈՒԹՅՈՒՆ | J13: =+J14+J21 -> 164284.7 | K13: =+K14+K21 -> 164284.7 | L13: =+L14+L21 -> 164284.7
B14: 1183 | C14: Ապահով դպրոց | J14: =+J15 -> 33359.1 | K14: =+K15 -> 33359.1 | L14: =+L15 -> 33359.1
D15: 1183 - 32001 | E15: Կրթական օբյեկտների շենքային պայմանների բարելավում | J15: =+'Հավելված N 4'!G94 -> 33359.1 | K15: =+'Հավելված N 4'!H94 -> 33359.1 | L15: =+'Հավելված N 4'!I94 -> 33359.1
F16: Կրթական օբյեկտների շենքերի (մասնաշենքերի) հիմնանորոգում (համաշինարարական աշխատանքներ, ջեռուցման համակարգի իրականացում, ներքին հարդարում, տարածքի բարեկարգում) և նախագծում
G17: Այլ պետական կազմակերպությունների կողմից օգտագործվող ոչ ֆինանսական ակտիվների հետ գործառնություններ
H18: Ակտիվն օգտագործող կազմակերպությունների անվանումները` Հանրակրթական դպրոցներ
I19: Մասնակի նորոգվող դպրոցների քանակ, հատ | J19: =+L19 -> 3 | L19: =COUNT('Հավելված N 5'!G14:G16) -> 3
B21: 1236 | C21: Հանրակրթական և նախադպրոցական հաստատությունների հիմնում, կառուցում, բարելավում | J21: =+J22 -> 130925.6 | K21: =+K22 -> 130925.6 | L21: =+L22 -> 130925.6
D22: 1236 - 32006 | E22: Հանրակրթական դպրոցների, մանկապարտեզների և կրթահամալիրների գույքով և տեխնիկայով ապահովում | J22: =+'Հավելված N 4'!G28 -> 130925.6 | K22: =+'Հավելված N 4'!H28 -> 130925.6 | L22: =+'Հավելված N 4'!I28 -> 130925.6
F23: Կրթական ժամանակակից նորմերին և կրթական չափորոշիչներին համապատասխան ուսուցման ծրագրերն իրականացնելու նպատակով հանրակրթական և նախադպրոցական հաստատությունների համար գույքի և տեխնիկայի ձեռքբերում
G24: Այլ պետական կազմակերպությունների կողմից օգտագործվող ոչ ֆինանսական ակտիվների հետ գործառնություններ
H25: Ակտիվն օգտագործող կազմակերպությունների անվանումները` Հանրակրթական դպրոցներ, մանկապարտեզներ և կրթահամալիրներ
I26: Մասնակի գույքով ապահովվող դպրոցների քանակ, հատ | J26: =+L26 -> 26 | L26: =+COUNT('Հավելված N 5'!G76:G101) -> 26
A28: ՀՀ ՏԱՐԱԾՔԱՅԻՆ ԿԱՌԱՎԱՐՄԱՆ ԵՎ ԵՆԹԱԿԱՌՈՒՑՎԱԾՔՆԵՐԻ ՆԱԽԱՐԱՐՈՒԹՅՈՒՆ | J28: =+J29 -> 54365.9 | K28: =+K29 -> 54365.9 | L28: =+L29 -> 54365.9
B29: 1183 | C29: Ապահով դպրոց | J29: =+J30 -> 54365.9 | K29: =+K30 -> 54365.9 | L29: =+L30 -> 54365.9
D30: 1183 - 32001 | E30: Կրթական օբյեկտների շենքային պայմանների բարելավում | J30: =+'Հավելված N 4'!G101 -> 54365.9 | K30: =+'Հավելված N 4'!H101 -> 54365.9 | L30: =+'Հավելված N 4'!I101 -> 54365.9
F31: Կրթական օբյեկտների շենքերի (մասնաշենքերի) հիմնանորոգում (համաշինարարական աշխատանքներ, ջեռուցման համակարգի իրականացում, ներքին հարդարում, տարածքի բարեկարգում) և նախագծում
G32: Այլ պետական կազմակերպությունների կողմից օգտագործվող ոչ ֆինանսական ակտիվների հետ գործառնություններ
H33: Ակտիվն օգտագործող կազմակերպությունների անվանումները` Հանրակրթական դպրոցներ
I34: Մասնակի նորոգվող դպրոցների քանակ, հատ | J34: =+L34 -> 4 | L34: =+COUNT('Հավելված N 5'!G18:G21) -> 4
A36: ՀՀ ԱՐԱԳԱԾՈՏՆԻ ՄԱՐԶՊԵՏԻ ԱՇԽԱՏԱԿԱԶՄ | J36: =+J37+J44 -> 79437 | K36: =+K37+K44 -> 79437 | L36: =+L37+L44 -> 79437
B37: 1183 | C37: Ապահով դպրոց | J37: =+J38 -> 68328.3 | K37: =+K38 -> 68328.3 | L37: =+L38 -> 68328.3
D38: 1183 - 32001 | E38: Կրթական օբյեկտների շենքային պայմանների բարելավում | J38: =+'Հավելված N 4'!G108 -> 68328.3 | K38: =+'Հավելված N 4'!H108 -> 68328.3 | L38: =+'Հավելված N 4'!I108 -> 68328.3
F39: Կրթական օբյեկտների շենքերի (մասնաշենքերի) հիմնանորոգում (համաշինարարական աշխատանքներ, ջեռուցման համակարգի իրականացում, ներքին հարդարում, տարածքի բարեկարգում) և նախագծում
G40: Այլ պետական կազմակերպությունների կողմից օգտագործվող ոչ ֆինանսական ակտիվների հետ գործառնություններ
H41: Ակտիվն օգտագործող կազմակերպությունների անվանումները` Հանրակրթական դպրոցներ
I42: Մասնակի նորոգվող դպրոցների քանակ, հատ | J42: =+L42 -> 8 | L42: =+COUNT('Հավելված N 5'!G23:G30) -> 8
B44: 1236 | C44: Հանրակրթական և նախադպրոցական հաստատությունների հիմնում, կառուցում, բարելավում | J44: =+J45 -> 11108.7 | K44: =+K45 -> 11108.7 | L44: =+L45 -> 11108.7
D45: 1236 - 32006 | E45: Հանրակրթական դպրոցների, մանկապարտեզների և կրթահամալիրների գույքով և տեխնիկայով ապահովում | J45: =+'Հավելված N 4'!G35 -> 11108.7 | K45: =+'Հավելված N 4'!H35 -> 11108.7 | L45: =+'Հավելված N 4'!I35 -> 11108.7
F46: Կրթական ժամանակակից նորմերին և կրթական չափորոշիչներին համապատասխան ուսուցման ծրագրերն իրականացնելու նպատակով հանրակրթական և նախադպրոցական հաստատությունների համար գույքի և տեխնիկայի ձեռքբերում
G47: Այլ պետական կազմակերպությունների կողմից օգտագործվող ոչ ֆինանսական ակտիվների հետ գործառնություններ
H48: Ակտիվն օգտագործող կազմակերպությունների անվանումները` Հանրակրթական դպրոցներ, մանկապարտեզներ և կրթահամալիրներ
I49: Մասնակի գույքով ապահովվող դպրոցների քանակ, հատ | J49: =+L49 -> 12 | L49: =+COUNT('Հավելված N 5'!G103:G114) -> 12
A51: ՀՀ ԱՐԱՐԱՏԻ ՄԱՐԶՊԵՏԻ ԱՇԽԱՏԱԿԱԶՄ | J51: =+J52+J59 -> 112211.5 | K51: =+K52+K59 -> 112211.5 | L51: =+L52+L59 -> 112211.5
B52: 1183 | C52: Ապահով դպրոց | J52: =+J53 -> 88913.6 | K52: =+K53 -> 88913.6 | L52: =+L53 -> 88913.6
D53: 1183 - 32001 | E53: Կրթական օբյեկտների շենքային պայմանների բարելավում | J53: =+'Հավելված N 4'!G115 -> 88913.6 | K53: =+'Հավելված N 4'!H115 -> 88913.6 | L53: =+'Հավելված N 4'!I115 -> 88913.6
F54: Կրթական օբյեկտների շենքերի (մասնաշենքերի) հիմնանորոգում (համաշինարարական աշխատանքներ, ջեռուցման համակարգի իրականացում, ներքին հարդարում, տարածքի բարեկարգում) և նախագծում
G55: Այլ պետական կազմակերպությունների կողմից օգտագործվող ոչ ֆինանսական ակտիվների հետ գործառնություններ
H56: Ակտիվն օգտագործող կազմակերպությունների անվանումները` Հանրակրթական դպրոցներ
I57: Մասնակի նորոգվող դպրոցների քանակ, հատ | J57: =+L57 -> 13 | L57: =+COUNT('Հավելված N 5'!G32:G44) -> 13
B59: 1236 | C59: Հանրակրթական և նախադպրոցական հաստատությունների հիմնում, կառուցում, բարելավում | J59: =+J60 -> 23297.9 | K59: =+K60 -> 23297.9 | L59: =+L60 -> 23297.9
D60: 1236 - 32006 | E60: Հանրակրթական դպրոցների, մանկապարտեզների և կրթահամալիրների գույքով և տեխնիկայով ապահովում | J60: =+'Հավելված N 4'!G42 -> 23297.9 | K60: =+'Հավելված N 4'!H42 -> 23297.9 | L60: =+'Հավելված N 4'!I42 -> 23297.9
F61: Կրթական ժամանակակից նորմերին և կրթական չափորոշիչներին համապատասխան ուսուցման ծրագրերն իրականացնելու նպատակով հանրակրթական և նախադպրոցական հաստատությունների համար գույքի և տեխնիկայի ձեռքբերում
G62: Այլ պետական կազմակերպությունների կողմից օգտագործվող ոչ ֆինանսական ակտիվների հետ գործառնություններ
H63: Ակտիվն օգտագործող կազմակերպությունների անվանումները` Հանրակրթական դպրոցներ, մանկապարտեզներ և կրթահամալիրներ
I64: Մասնակի գույքով ապահովվող դպրոցների քանակ, հատ | J64: =+L64 -> 14 | L64: =+COUNT('Հավելված N 5'!G116:G129) -> 14
A66: ՀՀ ԱՐՄԱՎԻՐԻ ՄԱՐԶՊԵՏԻ ԱՇԽԱՏԱԿԱԶՄ | J66: =+J67+J74 -> 57494.4 | K66: =+K67+K74 -> 57494.4 | L66: =+L67+L74 -> 57494.4
B67: 1183 | C67: Ապահով դպրոց | J67: =+J68 -> 27136.4 | K67: =+K68 -> 27136.4 | L67: =+L68 -> 27136.4
D68: 1183 - 32001 | E68: Կրթական օբյեկտների շենքային պայմանների բարելավում | J68: =+'Հավելված N 4'!G122 -> 27136.4 | K68: =+'Հավելված N 4'!H122 -> 27136.4 | L68: =+'Հավելված N 4'!I122 -> 27136.4
F69: Կրթական օբյեկտների շենքերի (մասնաշենքերի) հիմնանորոգում (համաշինարարական աշխատանքներ, ջեռուցման համակարգի իրականացում, ներքին հարդարում, տարածքի բարեկարգում) և նախագծում
G70: Այլ պետական կազմակերպությունների կողմից օգտագործվող ոչ ֆինանսական ակտիվների հետ գործառնություններ
H71: Ակտիվն օգտագործող կազմակերպությունների անվանումները` Հանրակրթական դպրոցներ
I72: Մասնակի նորոգվող դպրոցների քանակ, հատ | J72: =+L72 -> 3 | L72: =+COUNT('Հավելված N 5'!G46:G48) -> 3
B74: 1236 | C74: Հանրակրթական և նախադպրոցական հաստատությունների հիմնում, կառուցում, բարելավում | J74: =+J75 -> 30358 | K74: =+K75 -> 30358 | L74: =+L75 -> 30358
D75: 1236 - 32006 | E75: Հանրակրթական դպրոցների, մանկապարտեզների և կրթահամալիրների գույքով և տեխնիկայով ապահովում | J75: =+'Հավելված N 4'!G49 -> 30358 | K75: =+'Հավելված N 4'!H49 -> 30358 | L75: =+'Հավելված N 4'!I49 -> 30358
F76: Կրթական ժամանակակից նորմերին և կրթական չափորոշիչներին համապատասխան ուսուցման ծրագրերն իրականացնելու նպատակով հանրակրթական և նախադպրոցական հաստատությունների համար գույքի և տեխնիկայի ձեռքբերում
G77: Այլ պետական կազմակերպությունների կողմից օգտագործվող ոչ ֆինանսական ակտիվների հետ գործառնություններ
H78: Ակտիվն օգտագործող կազմակերպությունների անվանումները` Հանրակրթական դպրոցներ, մանկապարտեզներ և կրթահամալիրներ
I79: Մասնակի գույքով ապահովվող դպրոցների քանակ, հատ | J79: =+L79 -> 3 | L79: =+COUNT('Հավելված N 5'!G131:G133) -> 3
A81: ՀՀ ԳԵՂԱՐՔՈՒՆԻՔԻ ՄԱՐԶՊԵՏԻ ԱՇԽԱՏԱԿԱԶՄ | J81: =+J82+J89 -> 280061.4 | K81: =+K82+K89 -> 280061.4 | L81: =+L82+L89 -> 280061.4
B82: 1183 | C82: Ապահով դպրոց | J82: =+J83 -> 275071.9 | K82: =+K83 -> 275071.9 | L82: =+L83 -> 275071.9
D83: 1183 - 32001 | E83: Կրթական օբյեկտների շենքային պայմանների բարելավում | J83: =+'Հավելված N 4'!G129 -> 275071.9 | K83: =+'Հավելված N 4'!H129 -> 275071.9 | L83: =+'Հավելված N 4'!I129 -> 275071.9
F84: Կրթական օբյեկտների շենքերի (մասնաշենքերի) հիմնանորոգում (համաշինարարական աշխատանքներ, ջեռուցման համակարգի իրականացում, ներքին հարդարում, տարածքի բարեկարգում) և նախագծում
G85: Այլ պետական կազմակերպությունների կողմից օգտագործվող ոչ ֆինանսական ակտիվների հետ գործառնություններ
H86: Ակտիվն օգտագործող կազմակերպությունների անվանումները` Հանրակրթական դպրոցներ
I87: Մասնակի նորոգվող դպրոցների քանակ, հատ | J87: =+L87 -> 14 | L87: =+COUNT('Հավելված N 5'!G50:G63) -> 14
B89: 1236 | C89: Հանրակրթական և նախադպրոցական հաստատությունների հիմնում, կառուցում, բարելավում | J89: =+J90 -> 4989.5 | K89: =+K90 -> 4989.5 | L89: =+L90 -> 4989.5
D90: 1236 - 32006 | E90: Հանրակրթական դպրոցների, մանկապարտեզների և կրթահամալիրների գույքով և տեխնիկայով ապահովում | J90: =+'Հավելված N 4'!G56 -> 4989.5 | K90: =+'Հավելված N 4'!H56 -> 4989.5 | L90: =+'Հավելված N 4'!I56 -> 4989.5
F91: Կրթական ժամանակակից նորմերին և կրթական չափորոշիչներին համապատասխան ուսուցման ծրագրերն իրականացնելու նպատակով հանրակրթական և նախադպրոցական հաստատությունների համար գույքի և տեխնիկայի ձեռքբերում
G92: Այլ պետական կազմակերպությունների կողմից օգտագործվող ոչ ֆինանսական ակտիվների հետ գործառնություններ
H93: Ակտիվն օգտագործող կազմակերպությունների անվանումները` Հանրակրթական դպրոցներ, մանկապարտեզներ և կրթահամալիրներ
I94: Մասնակի գույքով ապահովվող դպրոցների քանակ, հատ | J94: =+L94 -> 2 | L94: =+COUNT('Հավելված N 5'!G135:G136) -> 2
A96: ՀՀ ԼՈՌՈՒ ՄԱՐԶՊԵՏԻ ԱՇԽԱՏԱԿԱԶՄ | J96: =+J97 -> 76220.1 | K96: =+K97 -> 76220.1 | L96: =+L97 -> 76220.1
B97: 1183 | C97: Ապահով դպրոց | J97: =+J98 -> 76220.1 | K97: =+K98 -> 76220.1 | L97: =+L98 -> 76220.1
D98: 1183 - 32001 | E98: Կրթական օբյեկտների շենքային պայմանների բարելավում | J98: =+'Հավելված N 4'!G136 -> 76220.1 | K98: =+'Հավելված N 4'!H136 -> 76220.1 | L98: =+'Հավելված N 4'!I136 -> 76220.1
F99: Կրթական օբյեկտների շենքերի (մասնաշենքերի) հիմնանորոգում (համաշինարարական աշխատանքներ, ջեռուցման համակարգի իրականացում, ներքին հարդարում, տարածքի բարեկարգում) և նախագծում
G100: Այլ պետական կազմակերպությունների կողմից օգտագործվող ոչ ֆինանսական ակտիվների հետ գործառնություններ
H101: Ակտիվն օգտագործող կազմակերպությունների անվանումները` Հանրակրթական դպրոցներ
I102: Մասնակի նորոգվող դպրոցների քանակ, հատ | J102: =+L102 -> 6 | L102: =+COUNT('Հավելված N 5'!G65:G70) -> 6
A104: ՀՀ ՇԻՐԱԿԻ ՄԱՐԶՊԵՏԻ ԱՇԽԱՏԱԿԱԶՄ | J104: =+J105+J112 -> 44516.9 | K104: =+K105+K112 -> 44516.9 | L104: =+L105+L112 -> 44516.9
B105: 1183 | C105: Ապահով դպրոց | J105: =+J106 -> 3138.5 | K105: =+K106 -> 3138.5 | L105: =+L106 -> 3138.5
D106: 1183 - 32001 | E106: Կրթական օբյեկտների շենքային պայմանների բարելավում | J106: =+'Հավելված N 4'!G143 -> 3138.5 | K106: =+'Հավելված N 4'!H143 -> 3138.5 | L106: =+'Հավելված N 4'!I143 -> 3138.5
F107: Կրթական օբյեկտների շենքերի (մասնաշենքերի) հիմնանորոգում (համաշինարարական աշխատանքներ, ջեռուցման համակարգի իրականացում, ներքին հարդարում, տարածքի բարեկարգում) և նախագծում
G108: Այլ պետական կազմակերպությունների կողմից օգտագործվող ոչ ֆինանսական ակտիվների հետ գործառնություններ
H109: Ակտիվն օգտագործող կազմակերպությունների անվանումները` Հանրակրթական դպրոցներ
I110: Մասնակի նորոգվող դպրոցների քանակ, հատ | J110: =+L110 -> 1 | L110: =+COUNT('Հավելված N 5'!G72) -> 1
B112: 1236 | C112: Հանրակրթական և նախադպրոցական հաստատությունների հիմնում, կառուցում, բարելավում | J112: =+J113 -> 41378.4 | K112: =+K113 -> 41378.4 | L112: =+L113 -> 41378.4
D113: 1236 - 32006 | E113: Հանրակրթական դպրոցների, մանկապարտեզների և կրթահամալիրների գույքով և տեխնիկայով ապահովում | J113: =+'Հավելված N 4'!G63 -> 41378.4 | K113: =+'Հավելված N 4'!H63 -> 41378.4 | L113: =+'Հավելված N 4'!I63 -> 41378.4
F114: Կրթական ժամանակակից նորմերին և կրթական չափորոշիչներին համապատասխան ուսուցման ծրագրերն իրականացնելու նպատակով հանրակրթական և նախադպրոցական հաստատությունների համար գույքի և տեխնիկայի ձեռքբերում
G115: Այլ պետական կազմակերպությունների կողմից օգտագործվող ոչ ֆինանսական ակտիվների հետ գործառնություններ
H116: Ակտիվն օգտագործող կազմակերպությունների անվանումները` Հանրակրթական դպրոցներ, մանկապարտեզներ և կրթահամալիրներ
I117: Մասնակի գույքով ապահովվող դպրոցների քանակ, հատ | J117: =+L117 -> 21 | L117: =+COUNT('Հավելված N 5'!G138:G158) -> 21
...
