Workbook

Sheet 1
G1: Հավելված N1
I2: ՀՀ կառավարության 2025 թվականի
I3: ______________ ի ___Ն որոշման
B5: «ՀԱՅԱUՏԱՆԻ ՀԱՆՐԱՊԵՏՈՒԹՅԱՆ 2025 ԹՎԱԿԱՆԻ ՊԵՏԱԿԱՆ ԲՅՈՒՋԵԻ ՄԱUԻՆ» OՐԵՆՔԻ N 1 ՀԱՎԵԼՎԱԾԻ N 2 ԱՂՅՈՒՍԱԿՈՒՄ ԿԱՏԱՐՎՈՂ ՎԵՐԱԲԱՇԽՈՒՄԸ, ՓՈՓՈԽՈՒԹՅՈՒՆՆԵՐԸ ԵՎ ԼՐԱՑՈՒՄՆԵՐԸ, ՀԱՅԱՍՏԱՆԻ ՀԱՆՐԱՊԵՏՈՒԹՅԱՆ ԿԱՌԱՎԱՐՈՒԹՅԱՆ 2024 ԹՎԱԿԱՆԻ ԴԵԿՏԵՄԲԵՐԻ 27-Ի N 2060-Ն ՈՐՈՇՄԱՆ N 5 ՀԱՎԵԼՎԱԾԻ N 1 ԱՂՅՈՒՍԱԿՈՒՄ ԿԱՏԱՐՎՈՂ ՓՈՓՈԽՈՒԹՅՈՒՆՆԵՐԸ ԵՎ ԼՐԱՑՈՒՄՆԵՐԸ
H6: հազար դրամներով
A7: ԲԳԿ | B7: Ծրագրային դասիչը | D7: ԲԳԿ/Ծրագրի /միջոցառման անվանումը | E7: Ծրագրի նպատակը/Միջոցառման նկարագրությունը | F7: Վերջնական արդյունքի նկարագրությունը/Միջոցառման տեսակը | G7: Ցուցանիշների փոփոխությունը (ավելացումները նշված են դրական նշանով, իսկ նվազեցումները՝ փակագծերում)
G8: Առաջին կիսամյակ | H8: Ինն ամիս | I8: Տարի
B9: Ծրագիր | C9: Միջոցառում
A10: ԸՆԴԱՄԵՆԸ | G10: =G11 -> 0 | H10: =H11 -> 0 | I10: =I11 -> 0
A11: ՀՀ տարածքային կառավարման և ենթակառուցվածքների նախարարություն | G11: =G12 -> 0 | H11: =H12 -> 0 | I11: =I12 -> 0
B12: 1004 | D12: Ոռոգման համակարգի առողջացում | E12: Ոռոգման ծառայությունների հասանելիության և մատչելիության ապահովում | F12: Ոռոգման ջրի մատակարարման արդյունավետության և հասանելիության բարելավում, կորուստների կրճատում | G12: =G13+G15+G14 -> 0 | H12: =H13+H15+H14 -> 0 | I12: =I13+I15+I14 -> 0
C13: 1004 - 11020 | D13: Հակահեղեղային անհետաձգելի միջոցառումներ | E13: Գետերի և հեղեղատարների մաքրման, հեղեղների կանխման և վերացման աշխատանքներ | F13: Ծառայությունների մատուցում | G13: ='3'!G20 -> 280790 | H13: ='3'!H20 -> 280790 | I13: ='3'!I20 -> 280790
C14: 1004 - 31009 | D14: Օրվա կարգավորման ջրավազանների կառուցում և վերակառուցում | E14: Օրվա կարգավորման ջրավազանների կառուցման և վերակառուցման համար նախագծերի և աշխատանքների ձեռք բերում | F14: Պետական մարմինների կողմից օգտագործվող ոչ ֆինանսական ակտիվների հետ գործառնություններ | G14: ='3'!G29 -> -109579.5 | H14: ='3'!H29 -> 0 | I14: ='3'!I29 -> 0
C15: 1004 - 31012 | D15: Գետերի և հեղեղատարների տեղամասերի ամրացման և մաքրման աշխատանքներ | E15: Գետերի և հեղեղատարների տեղամասերի ամրացման և մաքրման համար նախագծերի և աշխատանքների ձեռքբերում | F15: Պետական մարմինների կողմից օգտագործվող ոչ ֆինանսական ակտիվների հետ գործառնություններ | G15: ='3'!G38 -> -171210.5 | H15: ='3'!H38 -> -280790 | I15: ='3'!I38 -> -280790
A16: ՀՀ կառավարություն | G16: =G17 -> 0 | H16: =H17 -> 0 | I16: =I17 -> 0
B17: 1139 | D17: ՀՀ կառավարության պահուստային ֆոնդ | E17: Պետական բյուջեում չկանխատեսված, ինչպես նաեւ բյուջետային երաշխիքների ապահովման ծախսերի ֆինանսավորման ապահովում | F17: Պահուստային ֆոնդի կառավարման արդյունավետության և թափանցիկության ապահովում | G17: =G18+G19 -> 0 | H17: =H18+H19 -> 0 | I17: =I18+I19 -> 0
C18: 1139 - 11001 | D18: ՀՀ կառավարության պահուստային ֆոնդ | E18: ՀՀ պետական բյուջեում նախատեսված ելքերի լրացուցիչ ֆինանսավորման, պետական բյուջեում չկանխատեսված ելքերի, ինչպես նաև բյուջետային երաշխիքների ապահովման ելքերի ֆինանսավորման ապահովում | F18: Ծառայությունների մատուցում | G18: ='3'!G59 -> 280790 | H18: ='3'!H59 -> 280790 | I18: ='3'!I59 -> 280790
C19: 1139 - 11001 | D19: ՀՀ կառավարության պահուստային ֆոնդ | E19: ՀՀ պետական բյուջեում նախատեսված ելքերի լրացուցիչ ֆինանսավորման, պետական բյուջեում չկանխատեսված ելքերի, ինչպես նաև բյուջետային երաշխիքների ապահովման ելքերի ֆինանսավորման ապահովում | F19: Ծառայությունների մատուցում | G19: ='3'!G67 -> -280790 | H19: ='3'!H67 -> -280790 | I19: ='3'!I67 -> -280790
D22: ՂԵԿԱՎԱՐ ՝ Ա. ՀԱՐՈՒԹՅՈՒՆՅԱՆ

Sheet 2
A1: Հավելված N 2
A2: ՀՀ կառավարության 2025 թվականի
A3: -ի N -Ն որոշման
A5: «ՀԱՅԱՍՏԱՆԻ ՀԱՆՐԱՊԵՏՈՒԹՅԱՆ 2025 ԹՎԱԿԱՆԻ ՊԵՏԱԿԱՆ ԲՅՈՒՋԵԻ ՄԱՍԻՆ» ՀԱՅԱՍՏԱՆԻ ՀԱՆՐԱՊԵՏՈՒԹՅԱՆ ՕՐԵՆՔԻ N 1 ՀԱՎԵԼՎԱԾԻ N 3 ԱՂՅՈՒՍԱԿՈՒՄ ԿԱՏԱՐՎՈՂ ՓՈՓՈԽՈՒԹՅՈՒՆԸ
G6: հազար դրամներով
A7: Ծրագրային դասիչ | C7: Բյուջետային գլխավոր կարգադրիչների, ծրագրերի, միջոցառումների և ուղղությունների անվանումները | D7: Ցուցանիշների փոփոխությունը (նվազեցումները նշված են փակագծերում)
D8: Ընդամենը, | E8: այդ թվում՝
A9: Ծրագիր | B9: Միջոցառում | E9: Կառուցման աշխատանքներ | F9: Վերակառուցման, վերանորոգման և վերականգնման աշխատանքներ | G9: Նախագծահե- տազոտական, գեոդեզիա- քարտեզագրա- կան աշխա- տանքներ | H9: Ոչ ֆինանսական այլ ակտիվների ձեռքբերում
C10: ԸՆԴԱՄԵՆԸ | D10: =SUM(E10:H10) -> -280790 | E10: =E12 -> 0 | F10: =F12 -> -236475 | G10: =G12 -> -44315 | H10: =H12 -> 0
C11: այդ թվում՝
C12: ՀՀ ՏԱՐԱԾՔԱՅԻՆ ԿԱՌԱՎԱՐՄԱՆ ԵՎ ԵՆԹԱԿԱՌՈՒՑՎԱԾՔՆԵՐԻ ՆԱԽԱՐԱՐՈՒԹՅՈՒՆ | D12: =SUM(E12:H12) -> -280790 | E12: =E14 -> 0 | F12: =F14 -> -236475 | G12: =G14 -> -44315 | H12: =H14 -> 0
C13: այդ թվում`
A14: 1004 | B14: 31012 | C14: Գետերի և հեղեղատարների տեղամասերի ամրացման և մաքրման աշխատանքներ | D14: =SUM(E14:H14) -> -280790 | E14: =E16 -> 0 | F14: =F16 -> -236475 | G14: =G16 -> -44315 | H14: =H16 -> 0
C15: այդ թվում՝
C16: Հակահեղեղային միջոցառումների իրականացման նախագծերի և աշխատանքների ձեռքբերում | D16: =SUM(E16:H16) -> -280790 | E16: 0 | F16: -236475 | G16: -44315 | H16: 0
B22: ՀԱՅԱՍՏԱՆԻ ՀԱՆՐԱՊԵՏՈՒԹՅԱՆ
B23: ՎԱՐՉԱՊԵՏԻ ԱՇԽԱՏԱԿԱԶՄԻ
C24: ՂԵԿԱՎԱՐ ՝ Ա. ՀԱՐՈՒԹՅՈՒՆՅԱՆ

Sheet 3
A1: Հավելված N 3
A2: ՀՀ կառավարության 2025 թվականի
A3: -ի N -Ն որոշման
A4: ՀԱՅԱՍՏԱՆԻ ՀԱՆՐԱՊԵՏՈՒԹՅԱՆ ԿԱՌԱՎԱՐՈՒԹՅԱՆ 2024 ԹՎԱԿԱՆԻ ԴԵԿՏԵՄԲԵՐԻ 27-Ի N 2060-Ն ՈՐՈՇՄԱՆ N 3 ԵՎ N 4 ՀԱՎԵԼՎԱԾՆԵՐՈՒՄ ԿԱՏԱՐՎՈՂ ՓՈՓՈԽՈՒԹՅՈՒՆՆԵՐԸ ԵՎ ԼՐԱՑՈՒՄՆԵՐԸ
H5: հազար դրամներով
A6: Գործառական դասիչը | D6: Ծրագրային դասիչը | F6: Բյուջետային ծախսերի գործառական դասակարգման բաժինների, խմբերի և դասերի, բյուջետային ծրագրերի միջոցառումների, բյուջետային հատկացումների գլխավոր կարգադրիչների անվանումները | G6: Ցուցանիշների փոփոխությունը (ավելացումները նշված են դրական նշանով, իսկ նվազեցումները՝ փակագծերում)
A7: Բաժին | B7: Խումբ | C7: Դաս | D7: Ծրագիր | E7: Միջոցառում | G7: Առաջին կիսամյակ | H7: Ինն ամիս | I7: Տարի
F8: ԸՆԴԱՄԵՆԸ ԾԱԽՍԵՐ | G8: =G10+G49 -> 0 | H8: =H10+H49 -> 0 | I8: =I10+I49 -> 0
F9: այդ թվում`
A10: 04 | F10: ՏՆՏԵՍԱԿԱՆ ՀԱՐԱԲԵՐՈՒԹՅՈՒՆՆԵՐ | G10: =G12 -> 0 | H10: =H12 -> 0 | I10: =I12 -> 0
F11: այդ թվում`
B12: 02 | F12: Գյուղատնտեսություն, անտառային տնտեսություն, ձկնորսություն և որսորդություն | G12: =G14 -> 0 | H12: =H14 -> 0 | I12: =I14 -> 0
F13: այդ թվում`
C14: 04 | F14: Ոռոգում | G14: =G16 -> 0 | H14: =H16 -> 0 | I14: =I16 -> 0
F15: այդ թվում`
F16: ՀՀ տարածքային կառավարման և ենթակառուցվածքների նախարարություն | G16: =G18 -> 0 | H16: =H18 -> 0 | I16: =I18 -> 0
F17: այդ թվում`
D18: 1004 | F18: Ոռոգման համակարգի առողջացում | G18: =G38+G29+G20 -> 0 | H18: =H38+H29+H20 -> 0 | I18: =I38+I29+I20 -> 0
F19: այդ թվում`
E20: 11020 | F20: Հակահեղեղային անհետաձգելի միջոցառումներ | G20: =G22 -> 280790 | H20: =H22 -> 280790 | I20: =I22 -> 280790
F21: այդ թվում` ըստ կատարողների
F22: ՀՀ տարածքային կառավարման և ենթակառուցվածքների նախարարության ջրային կոմիտե | G22: =G24 -> 280790 | H22: =H24 -> 280790 | I22: =I24 -> 280790
F23: այդ թվում` բյուջետային ծախսերի տնտեսագիտական դասակարգման հոդվածներ
F24: ԸՆԴԱՄԵՆԸ ԾԱԽՍԵՐ | G24: =G25 -> 280790 | H24: =H25 -> 280790 | I24: =I25 -> 280790
F25: ԸՆԹԱՑԻԿ ԾԱԽՍԵՐ | G25: =G26 -> 280790 | H25: =H26 -> 280790 | I25: =I26 -> 280790
F26: ԾԱՌԱՅՈՒԹՅՈՒՆՆԵՐԻ ԵՎ ԱՊՐԱՆՔՆԵՐԻ ՁԵՌՔԲԵՐՈՒՄ | G26: =G27 -> 280790 | H26: =H27 -> 280790 | I26: =I27 -> 280790
F27: Պայմանագրային այլ ծառայությունների ձեռքբերում | G27: =G28 -> 280790 | H27: =H28 -> 280790 | I27: =I28 -> 280790
F28: - Ընդհանուր բնույթի այլ ծառայություններ | G28: =-G38-G29 -> 280790 | H28: =-H38-H29 -> 280790 | I28: =-I38-I29 -> 280790
E29: 31009 | F29: Օրվա կարգավորման ջրավազանների կառուցում և վերակառուցում | G29: =G31 -> -109579.5 | H29: =H31 -> 0 | I29: =I31 -> 0
F30: այդ թվում` ըստ կատարողների
F31: ՀՀ տարածքային կառավարման և ենթակառուցվածքների նախարարության ջրային կոմիտե | G31: =G33 -> -109579.5 | H31: =H33 -> 0 | I31: =I33 -> 0
F32: այդ թվում` բյուջետային ծախսերի տնտեսագիտական դասակարգման հոդվածներ
F33: ԸՆԴԱՄԵՆԸ ԾԱԽՍԵՐ | G33: =G34 -> -109579.5 | H33: =H34 -> 0 | I33: =I34 -> 0
F34: ՈՉ ՖԻՆԱՆՍԱԿԱՆ ԱԿՏԻՎՆԵՐԻ ԳԾՈՎ ԾԱԽՍԵՐ | G34: =G35 -> -109579.5 | H34: =H35 -> 0 | I34: =I35 -> 0
F35: ՀԻՄՆԱԿԱՆ ՄԻՋՈՑՆԵՐ | G35: =G36 -> -109579.5 | H35: =H36 -> 0 | I35: =I36 -> 0
F36: ՇԵՆՔԵՐ ԵՎ ՇԻՆՈՒԹՅՈՒՆՆԵՐ | G36: =G37 -> -109579.5 | H36: =H37 -> 0 | I36: =I37 -> 0
F37: - Շենքերի և շինությունների շինարարություն | G37: -109579.5 | I37: 0
E38: 31012 | F38: Գետերի և հեղեղատարների տեղամասերի ամրացման և մաքրման աշխատանքներ | G38: =G40 -> -171210.5 | H38: =H40 -> -280790 | I38: =I40 -> -280790
F39: այդ թվում` ըստ կատարողների
F40: ՀՀ տարածքային կառավարման և ենթակառուցվածքների նախարարության ջրային կոմիտե | G40: =G42 -> -171210.5 | H40: =H42 -> -280790 | I40: =I42 -> -280790
F41: այդ թվում` բյուջետային ծախսերի տնտեսագիտական դասակարգման հոդվածներ
F42: ԸՆԴԱՄԵՆԸ ԾԱԽՍԵՐ | G42: =G43 -> -171210.5 | H42: =H43 -> -280790 | I42: =I43 -> -280790
F43: ՈՉ ՖԻՆԱՆՍԱԿԱՆ ԱԿՏԻՎՆԵՐԻ ԳԾՈՎ ԾԱԽՍԵՐ | G43: =G44 -> -171210.5 | H43: =H44 -> -280790 | I43: =I44 -> -280790
F44: ՀԻՄՆԱԿԱՆ ՄԻՋՈՑՆԵՐ | G44: =G45+G47 -> -171210.5 | H44: =H45+H47 -> -280790 | I44: =I45+I47 -> -280790
F45: ՇԵՆՔԵՐ ԵՎ ՇԻՆՈՒԹՅՈՒՆՆԵՐ | G45: =G46 -> -156895.5 | H45: =H46 -> -246475 | I45: =I46 -> -236475
F46: - Շենքերի և շինությունների կապիտալ վերանորոգում | G46: -156895.5 | H46: -246475 | I46: -236475
F47: ԱՅԼ ՀԻՄՆԱԿԱՆ ՄԻՋՈՑՆԵՐ | G47: =G48 -> -14315 | H47: =H48 -> -34315 | I47: =I48 -> -44315
F48: - Նախագծահետազոտական ծախսեր | G48: -14315 | H48: -34315 | I48: -44315
A49: 11 | F49: ՀԻՄՆԱԿԱՆ ԲԱԺԻՆՆԵՐԻՆ ՉԴԱՍՎՈՂ ՊԱՀՈՒՍՏԱՅԻՆ ՖՈՆԴԵՐ | G49: =G51 -> 0 | H49: =H51 -> 0 | I49: =I51 -> 0
F50: այդ թվում`
B51: 01 | F51: ՀՀ կառավարության և համայնքների պահուստային ֆոնդ | G51: =G53 -> 0 | H51: =H53 -> 0 | I51: =I53 -> 0
F52: այդ թվում`
C53: 01 | F53: ՀՀ կառավարության պահուստային ֆոնդ | G53: =G55 -> 0 | H53: =H55 -> 0 | I53: =I55 -> 0
F54: այդ թվում`
F55: ՀՀ կառավարություն | G55: =G57 -> 0 | H55: =H57 -> 0 | I55: =I57 -> 0
F56: այդ թվում`
D57: 1139 | F57: ՀՀ կառավարության պահուստային ֆոնդ | G57: =G59+G67 -> 0 | H57: =H59+H67 -> 0 | I57: =I59+I67 -> 0
F58: այդ թվում`
E59: 11001 | F59: ՀՀ կառավարության պահուստային ֆոնդ | G59: =G61 -> 280790 | H59: =H61 -> 280790 | I59: =I61 -> 280790
F60: այդ թվում` ըստ կատարողների
F61: ՀՀ կառավարություն | G61: =G63 -> 280790 | H61: =H63 -> 280790 | I61: =I63 -> 280790
F62: այդ թվում` բյուջետային ծախսերի տնտեսագիտական դասակարգման հոդվածներ
F63: ԸՆԴԱՄԵՆԸ ԾԱԽՍԵՐ | G63: =G64 -> 280790 | H63: =H64 -> 280790 | I63: =I64 -> 280790
F64: ԸՆԹԱՑԻԿ ԾԱԽՍԵՐ | G64: =G65 -> 280790 | H64: =H65 -> 280790 | I64: =I65 -> 280790
F65: ԱՅԼ ԾԱԽՍԵՐ | G65: =G66 -> 280790 | H65: =H66 -> 280790 | I65: =I66 -> 280790
F66: Պահուստային միջոցներ | G66: =-G38-G29 -> 280790 | H66: =-H38-H29 -> 280790 | I66: =-I38-I29 -> 280790
E67: 11001 | F67: ՀՀ կառավարության պահուստային ֆոնդ | G67: =G69 -> -280790 | H67: =H69 -> -280790 | I67: =I69 -> -280790
F68: այդ թվում` ըստ կատարողների
F69: ՀՀ կառավարություն | G69: =G71 -> -280790 | H69: =H71 -> -280790 | I69: =I71 -> -280790
F70: այդ թվում` բյուջետային ծախսերի տնտեսագիտական դասակարգման հոդվածներ
F71: ԸՆԴԱՄԵՆԸ ԾԱԽՍԵՐ | G71: =G72 -> -280790 | H71: =H72 -> -280790 | I71: =I72 -> -280790
F72: ԸՆԹԱՑԻԿ ԾԱԽՍԵՐ | G72: =G73 -> -280790 | H72: =H73 -> -280790 | I72: =I73 -> -280790
F73: ԱՅԼ ԾԱԽՍԵՐ | G73: =G74 -> -280790 | H73: =H74 -> -280790 | I73: =I74 -> -280790
F74: Պահուստային միջոցներ | G74: =-G66 -> -280790 | H74: =-H66 -> -280790 | I74: =-I66 -> -280790
A77: ՀԱՅԱՍՏԱՆԻ ՀԱՆՐԱՊԵՏՈՒԹՅԱՆ
A78: ՎԱՐՉԱՊԵՏԻ ԱՇԽԱՏԱԿԱԶՄԻ
B79: ՂԵԿԱՎԱՐ ՝ Ա. ՀԱՐՈՒԹՅՈՒՆՅԱՆ

Sheet 4
A1: Հավելված N 4
A2: ՀՀ կառավարության 2025 թվականի
A3: -ի N -Ն որոշման
A5: ՀԱՅԱՍՏԱՆԻ ՀԱՆՐԱՊԵՏՈՒԹՅԱՆ ԿԱՌԱՎԱՐՈՒԹՅԱՆ 2024 ԹՎԱԿԱՆԻ ԴԵԿՏԵՄԲԵՐԻ 27-Ի N 2060-Ն ՈՐՈՇՄԱՆ N 5 ՀԱՎԵԼՎԱԾԻ N 2 ԱՂՅՈՒՍԱԿՈՒՄ ԿԱՏԱՐՎՈՂ ՓՈՓՈԽՈՒԹՅՈՒՆՆԵՐԸ
A7: հազար դրամներով
A8: Ծրագրային դասիչ | C8: Բյուջետային գլխավոր կարգադրիչների, ծրագրերի, միջոցառումների և ուղղությունների անվանումները | D8: Ցուցանիշների փոփոխությունը (նվազեցումները նշված են փակագծերում)
D9: Առաջին կիսամյակ | E9: Ինն ամիս | F9: Տարի
A10: Ծրագիր | B10: Միջոց առում
C11: ԸՆԴԱՄԵՆԸ | D11: =D13 -> -280790 | E11: =E13 -> -280790 | F11: =F13 -> -280790
C12: այդ թվում`
C13: ՀՀ տարածքային կառավարման և ենթակառուցվածքների նախարարություն | D13: =D15+D18 -> -280790 | E13: =E15+E18 -> -280790 | F13: =F15+F18 -> -280790
C14: այդ թվում՛
A15: 1004 | B15: 31009 | C15: Օրվա կարգավորման ջրավազանների կառուցում և վերակառուցում | D15: =+D17 -> -109579.5 | E15: =+E17 -> 0 | F15: =+F17 -> 0
C16: այդ թվում` ըստ կատարողների
C17: ՀՀ տարածքային կառավարման և ենթակառուցվածքների նախարարության ջրային կոմիտե | D17: ='1'!G14 -> -109579.5 | E17: ='1'!H14 -> 0 | F17: ='1'!I14 -> 0
A18: 1004 | B18: 31012 | C18: Գետերի և հեղեղատարների տեղամասերի ամրացման և մաքրման աշխատանքներ | D18: =+D20 -> -171210.5 | E18: =+E20 -> -280790 | F18: =+F20 -> -280790
C19: այդ թվում` ըստ կատարողների
C20: ՀՀ տարածքային կառավարման և ենթակառուցվածքների նախարարության ջրային կոմիտե | D20: ='1'!G15 -> -171210.5 | E20: ='1'!H15 -> -280790 | F20: ='1'!I15 -> -280790
A24: ՀԱՅԱՍՏԱՆԻ ՀԱՆՐԱՊԵՏՈՒԹՅԱՆ
A25: ՎԱՐՉԱՊԵՏԻ ԱՇԽԱՏԱԿԱԶՄԻ
B26: ՂԵԿԱՎԱՐ ՝ Ա. ՀԱՐՈՒԹՅՈՒՆՅԱՆ

Sheet 5
A1: Հավելված N 5
A2: ՀՀ կառավարության 2025 թվականի
A3: -ի N -Ն որոշման
A5: ՀԱՅԱՍՏԱՆԻ ՀԱՆՐԱՊԵՏՈՒԹՅԱՆ ԿԱՌԱՎԱՐՈՒԹՅԱՆ 2024 ԹՎԱԿԱՆԻ ԴԵԿՏԵՄԲԵՐԻ 27-Ի N 2060-Ն ՈՐՈՇՄԱՆ N 9 ՀԱՎԵԼՎԱԾՈՒՄ ԿԱՏԱՐՎՈՂ ՓՈՓՈԽՈՒԹՅՈՒՆՆԵՐԸ ԵՎ ԼՐԱՑՈՒՄՆԵՐԸ
L6: հազար դրամներով
A7: ԲԳԿ | B7: Ծրագիր | D7: Միջոցառում | H7: Իրականացնողը/ ակտիվն օգտագործողը/ շահառուի ընտրության չափորոշիչը | I7: Արդյունքային չափորոշիչը | J7: Ցուցանիշների փոփոխությունը (ավելացումները նշված են դրական նշանով, իսկ նվազեցումները՝ փակագծերում)
B8: Դասիչը | C8: Անվանումը | D8: Դասիչը | E8: Անվա-նումը | F8: Նկարագրու-թյունը | G8: Տեսակը | J8: Առաջին կիսամյակ | K8: Ինն ամիս | L8: Տարի
A9: ԸՆԴԱՄԵՆԸ | J9: =J10 -> 0 | K9: =K10 -> 0 | L9: =L10 -> 0
A10: ՀՀ տարածքային կառավարման և ենթակառուցվածքների նախարարություն | J10: =J11 -> 0 | K10: =K11 -> 0 | L10: =L11 -> 0
B11: 1004 | C11: Ոռոգման համակարգի առողջացում | J11: =J21+J17+J12 -> 0 | K11: =K21+K17+K12 -> 0 | L11: =L21+L17+L12 -> 0
D12: 1004 - 11020 | E12: Հակահեղեղային անհետաձգելի միջոցառումներ | J12: ='1'!G13 -> 280790 | K12: ='1'!H13 -> 280790 | L12: ='1'!I13 -> 280790
F13: Գետերի և հեղեղատարների մաքրման, հեղեղների կանխման և վերացման աշխատանքներ
G14: Ծառայությունների մատուցում
H15: Ծառայությունը մատուցողի անվանումը` Մասնագիտացված կազմակերպություններ
I16: Հակահեղեղային միջոցառումների քանակ, հատ | J16: 1 | L16: 1
D17: 1004 - 31009 | E17: Օրվա կարգավորման ջրավազանների կառուցում և վերակառուցում | J17: ='1'!G14 -> -109579.5 | K17: ='1'!H14 -> 0 | L17: ='1'!I14 -> 0
F18: Օրվա կարգավորման ջրավազանների կառուցման և վերակառուցման համար նախագծերի և աշխատանքների ձեռք բերում
G19: Պետական մարմինների կողմից օգտագործվող ոչ ֆինանսական ակտիվների հետ գործառնություններ
H20: Ակտիվն օգտագործող կազմակերպության անվանումը` ՀՀ ՏԿԵՆ ջրային կոմիտե
D21: 1004 - 31012 | E21: Գետերի և հեղեղատարների տեղամասերի ամրացման և մաքրման աշխատանքներ | J21: ='1'!G15 -> -171210.5 | K21: ='1'!H15 -> -280790 | L21: ='1'!I15 -> -280790
F22: Գետերի և հեղեղատարների տեղամասերի ամրացման և մաքրման համար նախագծերի և աշխատանքների ձեռքբերում
G23: Պետական մարմինների կողմից օգտագործվող ոչ ֆինանսական ակտիվների հետ գործառնություններ
H24: Ակտիվն օգտագործող կազմակերպության անվանումը` ՀՀ ՏԿԵՆ ջրային կոմիտե
I25: Վերականգնվող օբյեկտներ, հատ | L25: -4
A26: ՀՀ կառավարություն | J26: =J27 -> 0 | K26: =K27 -> 0 | L26: =L27 -> 0
B27: 1139 | C27: ՀՀ կառավարության պահուստային ֆոնդ | J27: =J28+J32 -> 0 | K27: =K28+K32 -> 0 | L27: =L28+L32 -> 0
D28: 1139 - 11001 | E28: ՀՀ կառավարության պահուստային ֆոնդ | J28: ='1'!G18 -> 280790 | K28: ='1'!H18 -> 280790 | L28: ='1'!I18 -> 280790
F29: ՀՀ պետական բյուջեում նախատեսված ելքերի լրացուցիչ ֆինանսավորման, պետական բյուջեում չկանխատեսված ելքերի, ինչպես նաև բյուջետային երաշխիքների ապահովման ելքերի ֆինանսավորման ապահովում
G30: Ծառայությունների մատուցում
H31: Ծառայությունը մատուցողի անվանումը` ՀՀ կառավարություն
D32: 1139 - 11001 | E32: ՀՀ կառավարության պահուստային ֆոնդ | J32: ='1'!G19 -> -280790 | K32: ='1'!H19 -> -280790 | L32: ='1'!I19 -> -280790
F33: ՀՀ պետական բյուջեում նախատեսված ելքերի լրացուցիչ ֆինանսավորման, պետական բյուջեում չկանխատեսված ելքերի, ինչպես նաև բյուջետային երաշխիքների ապահովման ելքերի ֆինանսավորման ապահովում
G34: Ծառայությունների մատուցում
H35: Ծառայությունը մատուցողի անվանումը` ՀՀ կառավարություն
A50: ՀԱՅԱՍՏԱՆԻ ՀԱՆՐԱՊԵՏՈՒԹՅԱՆ
A51: ՎԱՐՉԱՊԵՏԻ ԱՇԽԱՏԱԿԱԶՄԻ
B52: ՂԵԿԱՎԱՐ ՝ Ա. ՀԱՐՈՒԹՅՈՒՆՅԱՆ

Sheet 6
A1: Հավելված N 6
A2: ՀՀ կառավարության 2025 թվականի
A3: -ի N -Ն որոշման
A5: ՀԱՅԱՍՏԱՆԻ ՀԱՆՐԱՊԵՏՈՒԹՅԱՆ ԿԱՌԱՎԱՐՈՒԹՅԱՆ 2024 ԹՎԱԿԱՆԻ ԴԵԿՏԵՄԲԵՐԻ 27-Ի N 2060-Ն ՈՐՈՇՄԱՆ N 9.1 ՀԱՎԵԼՎԱԾՈՒՄ ԿԱՏԱՐՎՈՂ ՓՈՓՈԽՈՒԹՅՈՒՆՆԵՐԸ ԵՎ ԼՐԱՑՈՒՄՆԵՐԸ
L7: հազար դրամներով
A8: ԲՍԿ | B8: Ծրագիր | D8: Միջոցառում | H8: Իրականացնողը/ ակտիվն օգտագործողը/ շահառուի ընտրության չափորոշիչը | I8: Արդյունքային չափորոշիչը | J8: Ցուցանիշների փոփոխությունը (ավելացումները նշված են դրական նշանով, իսկ նվազեցումները՝ փակագծերում)
B9: Դասիչը | C9: Անվանումը | D9: Դասիչը | E9: Անվանումը | F9: Նկարագրությունը | G9: Տեսակը | J9: Առաջին կիսամյակ | K9: Ինն ամիս | L9: Տարի
A10: ԸՆԴԱՄԵՆԸ | J10: =J11 -> 0 | K10: =K11 -> 0 | L10: =L11 -> 0
A11: ՀՀ տարածքային կառավարման և ենթակառուցվածքների նախարարության ջրային կոմիտե | J11: =J12 -> 0 | K11: =K12 -> 0 | L11: =L12 -> 0
B12: 1004 | C12: Ոռոգման համակարգի առողջացում | J12: =J22+J18+J13 -> 0 | K12: =K22+K18+K13 -> 0 | L12: =L22+L18+L13 -> 0
D13: 1004 - 11020 | E13: Հակահեղեղային անհետաձգելի միջոցառումներ | J13: ='5'!J12 -> 280790 | K13: ='5'!K12 -> 280790 | L13: ='5'!L12 -> 280790
F14: Գետերի և հեղեղատարների մաքրման, հեղեղների կանխման և վերացման աշխատանքներ
G15: Ծառայությունների մատուցում
H16: Ծառայությունը մատուցողի անվանումը` Մասնագիտացված կազմակերպություններ
I17: Հակահեղեղային միջոցառումների քանակ, հատ | J17: 1 | L17: 1
D18: 1004 - 31009 | E18: Օրվա կարգավորման ջրավազանների կառուցում և վերակառուցում | J18: ='5'!J17 -> -109579.5 | K18: ='5'!K17 -> 0 | L18: ='5'!L17 -> 0
F19: Օրվա կարգավորման ջրավազանների կառուցման և վերակառուցման համար նախագծերի և աշխատանքների ձեռք բերում
G20: Պետական մարմինների կողմից օգտագործվող ոչ ֆինանսական ակտիվների հետ գործառնություններ
H21: Ակտիվն օգտագործող կազմակերպության անվանումը` ՀՀ ՏԿԵՆ ջրային կոմիտե
D22: 1004 - 31012 | E22: Գետերի և հեղեղատարների տեղամասերի ամրացման և մաքրման աշխատանքներ | J22: ='5'!J21 -> -171210.5 | K22: ='5'!K21 -> -280790 | L22: ='5'!L21 -> -280790
F23: Գետերի և հեղեղատարների տեղամասերի ամրացման և մաքրման համար նախագծերի և աշխատանքների ձեռքբերում
G24: Պետական մարմինների կողմից օգտագործվող ոչ ֆինանսական ակտիվների հետ գործառնություններ
H25: Ակտիվն օգտագործող կազմակերպության անվանումը` ՀՀ ՏԿԵՆ ջրային կոմիտե
I26: Վերականգնվող օբյեկտներ, հատ | L26: -4
A27: ՀՀ կառավարություն | J27: =J28 -> 0 | K27: =K28 -> 0 | L27: =L28 -> 0
B28: 1139 | C28: ՀՀ կառավարության պահուստային ֆոնդ | J28: =J29+J33 -> 0 | K28: =K29+K33 -> 0 | L28: =L29+L33 -> 0
D29: 1139 - 11001 | E29: ՀՀ կառավարության պահուստային ֆոնդ | J29: ='1'!G18 -> 280790 | K29: ='1'!H18 -> 280790 | L29: ='1'!I18 -> 280790
F30: ՀՀ պետական բյուջեում նախատեսված ելքերի լրացուցիչ ֆինանսավորման, պետական բյուջեում չկանխատեսված ելքերի, ինչպես նաև բյուջետային երաշխիքների ապահովման ելքերի ֆինանսավորման ապահովում
G31: Ծառայությունների մատուցում
H32: Ծառայությունը մատուցողի անվանումը` ՀՀ կառավարություն
D33: 1139 - 11001 | E33: ՀՀ կառավարության պահուստային ֆոնդ | J33: ='1'!G19 -> -280790 | K33: ='1'!H19 -> -280790 | L33: ='1'!I19 -> -280790
F34: ՀՀ պետական բյուջեում նախատեսված ելքերի լրացուցիչ ֆինանսավորման, պետական բյուջեում չկանխատեսված ելքերի, ինչպես նաև բյուջետային երաշխիքների ապահովման ելքերի ֆինանսավորման ապահովում
G35: Ծառայությունների մատուցում
H36: Ծառայությունը մատուցողի անվանումը` ՀՀ կառավարություն
B40: ՀԱՅԱՍՏԱՆԻ ՀԱՆՐԱՊԵՏՈՒԹՅԱՆ
B41: ՎԱՐՉԱՊԵՏԻ ԱՇԽԱՏԱԿԱԶՄԻ
C42: ՂԵԿԱՎԱՐ ՝ Ա. ՀԱՐՈՒԹՅՈՒՆՅԱՆ

Sheet 7
A1: Հավելված N 7
A2: ՀՀ կառավարության 2025 թվականի
A3: -ի N -Ն որոշման
A5: ՀՀ ԿԱՌԱՎԱՐՈՒԹՅԱՆ 2024 ԹՎԱԿԱՆԻ ԴԵԿՏԵՄԲԵՐԻ 27-Ի N 2060-Ն ՈՐՈՇՄԱՆ N 10 ՀԱՎԵԼՎԱԾՈՒՄ ԿԱՏԱՐՎՈՂ ՓՈՓՈԽՈՒԹՅՈՒՆՆԵՐԸ ԵՎ ԼՐԱՑՈՒՄՆԵՐԸ
A7: Կոդը | B7: Անվանումը | C7: Գնման ձևը | D7: Չափի միավորը | E7: Միավորի գինը | F7: Ցուցանիշների փոփոխությունը (ավելացումները նշված են դրական նշանով, իսկ նվազեցումները՝ փակագծերում)
F8: քանակը | G8: գումարը (հազ. դրամ)
A9: ԸՆԴԱՄԵՆԸ | G9: =G10 -> 0
A10: ՀՀ տարածքային կառավարման և ենթակառուցվածքների նախարարության ջրային կոմիտե | G10: =G11 -> 0
A11: Բաժին N 04 | B11: Խումբ N 02 | C11: Դաս N 04 | D11: Ոռոգում | G11: =G12+G15 -> 0
A12: 1004 31012 | B12: Գետերի և հեղեղատարների տեղամասերի ամրացման և մաքրման աշխատանքներ | G12: =G13 -> -280790
B13: ՄԱՍ II ԱՇԽԱՏԱՆՔՆԵՐ | G13: =G14 -> -280790
A14: 45241133/1 | B14: գետերի ափերի պաշտպանության աշխատանքներ | C14: ԲՄ | D14: դրամ | G14: -280790
A15: 1004 11020 | B15: Հակահեղեղային անհետաձգելի միջոցառումներ | G15: =G16+G18 -> 280790
B16: ՄԱՍ II ԱՇԽԱՏԱՆՔՆԵՐ | G16: =G17 -> 278790
A17: 45241131/1 | B17: գետերի հոսանքների կարգավորման և ջրհեղեղների վերահսկման աշխատանքներ | C17: ՀՄԱ | D17: դրամ | E17: 278790000 | F17: 1 | G17: 278790
B18: ՄԱՍ III. ԾԱՌԱՅՈՒԹՅՈՒՆՆԵՐ | G18: =G19 -> 2000
A19: 71351540/ | B19: տեխնիկական հսկողության ծառայություններ | C19: ՀՄԱ | D19: դրամ | E19: 2000000 | F19: 1 | G19: =E19*F19/1000 -> 2000
A24: ՀԱՅԱՍՏԱՆԻ ՀԱՆՐԱՊԵՏՈՒԹՅԱՆ
A25: ՎԱՐՉԱՊԵՏԻ ԱՇԽԱՏԱԿԱԶՄԻ
B26: ՂԵԿԱՎԱՐ ՝ Ա. ՀԱՐՈՒԹՅՈՒՆՅԱՆ
