Workbook

Sheet 1
I2: Հավելված N 1
I3: ՀՀ կառավարության 2025թվականի
I4: ___________ ___-ի N _______ որոշման
A5: «ՀԱՅԱՍՏԱՆԻ ՀԱՆՐԱՊԵՏՈՒԹՅԱՆ 2025 ԹՎԱԿԱՆԻ ՊԵՏԱԿԱՆ ԲՅՈՒՋԵԻ ՄԱՍԻՆ» ՀՀ ՕՐԵՆՔԻ N 1 ՀԱՎԵԼՎԱԾԻ N 2 ԱՂՅՈՒՍԱԿՈՒՄ ԿԱՏԱՐՎՈՂ ՎԵՐԱԲԱՇԽՈՒՄԸ ԵՎ ՀԱՅԱՍՏԱՆԻ ՀԱՆՐԱՊԵՏՈՒԹՅԱՆ ԿԱՌԱՎԱՐՈՒԹՅԱՆ 2024 ԹՎԱԿԱՆԻ ԴԵԿՏԵՄԲԵՐԻ 27-Ի N 2060-Ն ՈՐՈՇՄԱՆ N 5 ՀԱՎԵԼՎԱԾԻ N1 ԱՂՅՈՒՍԱԿՈՒՄ ԿԱՏԱՐՎՈՂ ՓՈՓՈԽՈՒԹՅՈՒՆԵՐԸ ԵՎ ԼՐԱՑՈՒՄԸ
H7: հազար դրամներով
A8: ԲԳԿ | B8: Ծրագրային դասիչը | D8: ԲԳԿ/Ծրագրի /միջոցառման անվանումը | E8: Ծրագրի նպատակը/Միջոցառման նկարագրությունը | F8: Վերջնական արդյունքի նկարագրությունը/Միջոցառման տեսակը | G8: Ցուցանիշների փոփոխությունը(ավելացումները նշված են դրական նշանով,իսկ նվազեցումները՝ փակագծերում)
B9: Ծրագիր | C9: Միջոցառում | G9: Առաջին կիսամյակ | H9: Ինն ամիս | I9: Տարի
A10: ԸՆԴԱՄԵՆԸ | G10: =+G11+G20+G14+G17 -> 0 | H10: =+H11+H20+H14+H17 -> 0 | I10: =+I11+I20+I14+I17 -> 0
A11: ՀՀ քաղաքաշինության կոմիտե | G11: =+G12 -> 108275.4 | H11: =+H12 -> 122975.4 | I11: =+I12 -> 122975.4
B12: 1103 | D12: Քաղաքաշինության և ճարտարապետության բնագավառում պետական քաղաքականության իրականացում և կանոնակարգում | E12: Քաղաքաշինության և ճարտարապետության բնագավառում պետական քաղաքականության մշակմանն աջակցություն և իրականացման ապահովում | F12: Քաղաքաշինության գործունեության կանոնակարգում, քաղաքաշինական տեղեկատվական համակարգի ձևավորում և քաղաքաշինության բնագավառում պետական ծրագրերի իրականացման ապահովում | G12: =+G13 -> 108275.4 | H12: =+H13 -> 122975.4 | I12: =+I13 -> 122975.4
C13: 1103 - 11010 | D13: Ավարտվող շինարարական օբյեկտների ավարտական ակտերի և շահագործման թույլտվություններ ստանալու համար տեղական տուրքի վճարների ապահովում | E13: ՀՀ քաղաքաշինության կոմիտեի պատվիրատվությամբ իրականացվող ավարտվող շինարարական օբյեկտների շահագործման թույլտվությունը և ավարտական ակտը ստանալու համար տեղական տուրքի վճարների ապահովում | F13: Ծառայությունների մատուցում | G13: =90275.4+18000 -> 108275.4 | H13: =104975.4+18000 -> 122975.4 | I13: =104975.4+18000 -> 122975.4
A14: ՀՀ առողջապահության նախարարություն | G14: =+G15 -> -18000 | H14: =+H15 -> -18000 | I14: =+I15 -> -18000
B15: 1126 | D15: Առողջապահության ոլորտում պետական քաղաքականության մշակում, ծրագրերի համակարգում և մոնիտորինգ | E15: Մարդու և հանրության առողջության պահպանում, բնակչության առողջության բարելավում, հիվանդությունների կանխարգելում, հաշմանդամության և մահացության ցուցանիշների նվազեցում | F15: Առողջապահության ոլորտում իրականացվող ծրագրերի ազդեցության և արդյունավետության բարելավում | G15: =+G16 -> -18000 | H15: =+H16 -> -18000 | I15: =+I16 -> -18000
C16: 1126 - 31003 | D16: Առողջապահական կազմակերպությունների կառուցում, վերակառուցում | E16: Բնակչությանը որակյալ բժշկական օգնության և սպասարկման ծառայություններ մատուցելու նպատակով առողջապահական կազմակերպությունների կառուցում, վերակառուցում | F16: Պետական մարմինների կողմից օգտագործվող ոչ ֆինանսական ակտիվների հետ գործառնություններ | G16: -18000 | H16: -18000 | I16: -18000
A17: ՀՀ կրթության, գիտության, մշակույթի և սպորտի նախարարություն | G17: =+G18 -> -90275.4 | H17: =+H18 -> -104975.4 | I17: =+I18 -> -104975.4
B18: 1236 | D18: Հանրակրթական և նախադպրոցական հաստատությունների հիմնում, կառուցում, բարելավում | E18: Առնվազն 300 դպրոցի և 500 մանկապարտեզի կառուցման, վերակառուցման, հիմնանորոգման ծրագրերի իրականացում ՀՀ պետական բյուջեի միջոցների շրջանակներում | F18: Կրթական միջավայրի բարելավում | G18: =+G19 -> -90275.4 | H18: =+H19 -> -104975.4 | I18: =+I19 -> -104975.4
C19: 1236 - 32003 | D19: Հանրակրթական դպրոցների նոր շենքերի կառուցում | E19: ՀՀ մարզերում կրթական որակյալ ծառայությունների հասանելիության ապահովման ծրագրի շրջանակներում հանրակրթական և նախադպրոցական կրթության հասանելիության ապահովման նպատակով կրթական կենտրոնների կառուցում | F19: Այլ պետական կազմակերպությունների կողմից օգտագործվող ոչ ֆինանսական ակտիվների հետ գործառնություններ | G19: -90275.4 | H19: -104975.4 | I19: -104975.4
A20: ՀՀ կառավարություն | G20: =+G21 -> 0 | H20: =+H21 -> 0 | I20: =+I21 -> 0
B21: 1139 | D21: ՀՀ կառավարության պահուստային ֆոնդ | E21: Պետական բյուջեում չկանխատեսված, ինչպես նաեւ բյուջետային երաշխիքների ապահովման ծախսերի ֆինանսավորման ապահովում | F21: Պահուստային ֆոնդի կառավարման արդյունավետության և թափանցիկության ապահովում | G21: =+G22+G23 -> 0 | H21: =+H22+H23 -> 0 | I21: =+I22+I23 -> 0
C22: 1139 - 11001 | D22: ՀՀ կառավարության պահուստային ֆոնդ | E22: ՀՀ պետական բյուջեում նախատեսված ելքերի լրացուցիչ ֆինանսավորման, պետական բյուջեում չկանխատեսված ելքերի, ինչպես նաև բյուջետային երաշխիքների ապահովման ելքերի ֆինանսավորման ապահովում | F22: Ծառայությունների մատուցում | G22: =+(-18000-90275.4) -> -108275.4 | H22: =+(-18000-104975.4) -> -122975.4 | I22: =+(-18000-104975.4) -> -122975.4
C23: 1139 - 11001 | D23: ՀՀ կառավարության պահուստային ֆոնդ | E23: ՀՀ պետական բյուջեում նախատեսված ելքերի լրացուցիչ ֆինանսավորման, պետական բյուջեում չկանխատեսված ելքերի, ինչպես նաև բյուջետային երաշխիքների ապահովման ելքերի ֆինանսավորման ապահովում | F23: Ծառայությունների մատուցում | G23: =90275.4+18000 -> 108275.4 | H23: =104975.4+18000 -> 122975.4 | I23: =104975.4+18000 -> 122975.4

Sheet 2
I1: Հավելված N2
I2: ՀՀ կառավարության 2025 թվականի
I3: ___________ ___-ի N _______ որոշման
A6: ՀԱՅԱՍՏԱՆԻ ՀԱՆՐԱՊԵՏՈՒԹՅԱՆ ԿԱՌԱՎԱՐՈՒԹՅԱՆ 2024 ԹՎԱԿԱՆԻ ԴԵԿՏԵՄԲԵՐԻ 27-Ի N 2060-Ն ՈՐՈՇՄԱՆ N 3 և N 4 ՀԱՎԵԼՎԱԾՆԵՐՈՒՄ ԿԱՏԱՐՎՈՂ ՓՈՓՈԽՈՒԹՅՈՒՆՆԵՐԸ ԵՎ ԼՐԱՑՈՒՄԸ
I8: հազ․ դրամ
A9: Գործառական դասիչը | D9: Ծրագրային դասիչը | F9: Բյուջետային ծախսերի գործառական դասակարգման բաժինների, խմբերի և դասերի, բյուջետային ծրագրերի, միջոցառումների բյուջետային հատկացումների գլխավոր կարգադրիչների անվանումները | G9: Ցուցանիշների փոփոխությունը (ավելացումները նշված են դրական նշանով, իսկ նվազեցումները՝ փակագծերում)
A10: Բաժին | B10: Խումբ | C10: Դաս | D10: Ծրագիր | E10: Միջոցառում | G10: Առաջին կիսամյակ | H10: Ինն ամիս | I10: Տարի
F11: ԸՆԴԱՄԵՆԸ | G11: =+G70+G13+G32+G51 -> 0 | H11: =+H70+H13+H32+H51 -> 0 | I11: =+I70+I13+I32+I51 -> 0
F12: այդ թվում`
A13: 06 | F13: ԲՆԱԿԱՐԱՆԱՅԻՆ ՇԻՆԱՐԱՐՈՒԹՅՈՒՆ ԵՎ ԿՈՄՈՒՆԱԼ ԾԱՌԱՅՈՒԹՅՈՒՆՆԵՐ | G13: =G15 -> 108275.4 | H13: =H15 -> 122975.4 | I13: =I15 -> 122975.4
F14: այդ թվում`
B15: 06 | F15: Բնակարանային շինարարության և կոմունալ ծառայություններ (այլ դասերին չպատկանող) | G15: =G17 -> 108275.4 | H15: =H17 -> 122975.4 | I15: =I17 -> 122975.4
F16: այդ թվում`
C17: 01 | F17: Բնակարանային շինարարության և կոմունալ ծառայություններ (այլ դասերին չպատկանող) | G17: =G21 -> 108275.4 | H17: =H21 -> 122975.4 | I17: =I21 -> 122975.4
F18: այդ թվում`
F19: ՀՀ քաղաքաշինության կոմիտե | G19: =+G23 -> 108275.4 | H19: =+H23 -> 122975.4 | I19: =+I23 -> 122975.4
F20: այդ թվում`
D21: 1103 | F21: Քաղաքաշինության և ճարտարապետության բնագավառում պետական քաղաքականության իրականացում և կանոնակարգում | G21: =G23 -> 108275.4 | H21: =H23 -> 122975.4 | I21: =I23 -> 122975.4
F22: այդ թվում`
E23: 11010 | F23: Ավարտվող շինարարական օբյեկտների ավարտական ակտերի և շահագործման թույլտվություններ ստանալու համար տեղական տուրքի վճարների ապահովում | G23: =+G25 -> 108275.4 | H23: =+H25 -> 122975.4 | I23: =+I25 -> 122975.4
F24: այդ թվում` ըստ կատարողների
F25: ՀՀ քաղաքաշինության կոմիտե | G25: =+G27 -> 108275.4 | H25: =+H27 -> 122975.4 | I25: =+I27 -> 122975.4
F26: այդ թվում` բյուջետային ծախսերի տնտեսագիտական դասակարգման հոդվածներ
F27: ԸՆԴԱՄԵՆԸ ԾԱԽՍԵՐ | G27: =G28 -> 108275.4 | H27: =H28 -> 122975.4 | I27: =I28 -> 122975.4
F28: ԸՆԹԱՑԻԿ ԾԱԽՍԵՐ | G28: =G29 -> 108275.4 | H28: =H29 -> 122975.4 | I28: =I29 -> 122975.4
F29: ԱՅԼ ԾԱԽՍԵՐ | G29: =G30 -> 108275.4 | H29: =H30 -> 122975.4 | I29: =I30 -> 122975.4
F30: Հարկեր, պարտադիր վճարներ և տույժեր, որոնք կառավարման տարբեր մակարդակների կողմից կիրառվում են միմյանց նկատմամբ | G30: =+G31 -> 108275.4 | H30: =+H31 -> 122975.4 | I30: =+I31 -> 122975.4
F31: -պարտադիր վճարներ | G31: =+'1'!G13 -> 108275.4 | H31: =+'1'!H13 -> 122975.4 | I31: =+'1'!I13 -> 122975.4
A32: 07 | F32: ԱՌՈՂՋԱՊԱՀՈՒԹՅՈՒՆ | G32: =+G34 -> -18000 | H32: =+H34 -> -18000 | I32: =+I34 -> -18000
F33: այդ թվում՝
B34: 06 | F34: Առողջապահություն (այլ դասերին չպատկանող) | G34: =+G36 -> -18000 | H34: =+H36 -> -18000 | I34: =+I36 -> -18000
F35: այդ թվում՝
C36: 02 | F36: Առողջապահություն (այլ դասերին չպատկանող) | G36: =+G40 -> -18000 | H36: =+H40 -> -18000 | I36: =+I40 -> -18000
F37: այդ թվում՝
F38: ՀՀ առողջապահության նախարարություն | G38: =+G40 -> -18000 | H38: =+H40 -> -18000 | I38: =+I40 -> -18000
F39: այդ թվում՝
D40: 1126 | F40: Առողջապահության ոլորտում պետական քաղաքականության մշակում, ծրագրերի համակարգում և մոնիտորինգ | G40: =+G42 -> -18000 | H40: =+H42 -> -18000 | I40: =+I42 -> -18000
F41: այդ թվում՝
E42: 31003 | F42: Առողջապահական կազմակերպությունների կառուցում, վերակառուցում | G42: =+G44 -> -18000 | H42: =+H44 -> -18000 | I42: =+I44 -> -18000
F43: այդ թվում ըստ կատարողների
F44: ՀՀ քաղաքաշինության կոմիտե | G44: =+G46 -> -18000 | H44: =+H46 -> -18000 | I44: =+I46 -> -18000
F45: այդ թվում` բյուջետային ծախսերի տնտեսագիտական դասակարգման հոդվածներ
F46: ԸՆԴԱՄԵՆԸ ԾԱԽՍԵՐ | G46: =+G47 -> -18000 | H46: =+H47 -> -18000 | I46: =+I47 -> -18000
F47: ՈՉ ՖԻՆԱՆՍԱԿԱՆ ԱԿՏԻՎՆԵՐԻ ԳԾՈՎ ԾԱԽՍԵՐ | G47: =G48 -> -18000 | H47: =H48 -> -18000 | I47: =I48 -> -18000
F48: ՀԻՄՆԱԿԱՆ ՄԻՋՈՑՆԵՐ | G48: =+G49 -> -18000 | H48: =+H49 -> -18000 | I48: =+I49 -> -18000
F49: ՇԵՆՔԵՐ ԵՎ ՇԻՆՈՒԹՅՈՒՆՆԵՐ | G49: =+G50 -> -18000 | H49: =+H50 -> -18000 | I49: =+I50 -> -18000
F50: - Շենքերի և շինությունների կապիտալ վերանորոգում | G50: -18000 | H50: -18000 | I50: -18000
A51: 09 | F51: ԿՐԹՈՒԹՅՈՒՆ | G51: =G53 -> -90275.4 | H51: =H53 -> -104975.4 | I51: =I53 -> -104975.4
F52: այդ թվում`
B53: 02 | F53: Միջնակարգ ընդհանուր կրթություն | G53: =+G55 -> -90275.4 | H53: =+H55 -> -104975.4 | I53: =+I55 -> -104975.4
F54: այդ թվում`
F55: Հիմնական ընդհանուր կրթություն | G55: =+G57 -> -90275.4 | H55: =+H57 -> -104975.4 | I55: =+I57 -> -104975.4
C56: 01 | F56: այդ թվում`
F57: ՀՀ կրթության, գիտության, մշակույթի և սպորտի նախարարություն | G57: =+G59 -> -90275.4 | H57: =+H59 -> -104975.4 | I57: =+I59 -> -104975.4
F58: այդ թվում`
D59: 1236 | E59: Հանրակրթական և նախադպրոցական հաստատությունների հիմնում, կառուցում, բարելավում | G59: =+G61 -> -90275.4 | H59: =+H61 -> -104975.4 | I59: =+I61 -> -104975.4
F60: այդ թվում`
E61: 32003 | F61: Հանրակրթական դպրոցների նոր շենքերի կառուցում | G61: =+G63 -> -90275.4 | H61: =+H63 -> -104975.4 | I61: =+I63 -> -104975.4
F62: այդ թվում` ըստ կատարողների
F63: ՀՀ քաղաքաշինության կոմիտե | G63: =+G65 -> -90275.4 | H63: =+H65 -> -104975.4 | I63: =+I65 -> -104975.4
F64: այդ թվում՝ բյուջետային ծախսերի տնտեսագիտական դասակարգման հոդվածներ
F65: ԸՆԴԱՄԵՆԸ ԾԱԽՍԵՐ | G65: =G66 -> -90275.4 | H65: =H66 -> -104975.4 | I65: =I66 -> -104975.4
F66: ՈՉ ՖԻՆԱՆՍԱԿԱՆ ԱԿՏԻՎՆԵՐԻ ԳԾՈՎ ԾԱԽՍԵՐ | G66: =+G67 -> -90275.4 | H66: =+H67 -> -104975.4 | I66: =+I67 -> -104975.4
F67: ՀԻՄՆԱԿԱՆ ՄԻՋՈՑՆԵՐ | G67: =+G68 -> -90275.4 | H67: =+H68 -> -104975.4 | I67: =+I68 -> -104975.4
F68: ՇԵՆՔԵՐ ԵՎ ՇԻՆՈՒԹՅՈՒՆՆԵՐ | G68: =+G69 -> -90275.4 | H68: =+H69 -> -104975.4 | I68: =+I69 -> -104975.4
F69: - Շենքերի և շինությունների շինարարություն | G69: =+'1'!G19 -> -90275.4 | H69: =+'1'!H19 -> -104975.4 | I69: =+'1'!I19 -> -104975.4
A70: 11 | F70: ՀԻՄՆԱԿԱՆ ԲԱԺԻՆՆԵՐԻՆ ՉԴԱՍՎՈՂ ՊԱՀՈՒՍՏԱՅԻՆ ՖՈՆԴԵՐ | G70: =G72 -> 0 | H70: =H72 -> 0 | I70: =I72 -> 0
F71: այդ թվում`
B72: 01 | F72: ՀՀ կառավարության և համայնքների պահուստային ֆոնդ | G72: =G74 -> 0 | H72: =H74 -> 0 | I72: =I74 -> 0
F73: այդ թվում`
C74: 01 | F74: ՀՀ կառավարության պահուստային ֆոնդ | G74: =G76 -> 0 | H74: =H76 -> 0 | I74: =I76 -> 0
F75: այդ թվում`
F76: ՀՀ կառավարություն | G76: =G78 -> 0 | H76: =H78 -> 0 | I76: =I78 -> 0
F77: այդ թվում`
D78: 1139 | F78: ՀՀ կառավարության պահուստային ֆոնդ | G78: =+G80+G88 -> 0 | H78: =+H80+H88 -> 0 | I78: =+I80+I88 -> 0
F79: այդ թվում`
E80: 11001 | F80: ՀՀ կառավարության պահուստային ֆոնդ | G80: =G82 -> -108275.4 | H80: =H82 -> -122975.4 | I80: =I82 -> -122975.4
F81: այդ թվում` ըստ կատարողների
F82: ՀՀ կառավարություն | G82: =G84 -> -108275.4 | H82: =H84 -> -122975.4 | I82: =I84 -> -122975.4
F83: այդ թվում` բյուջետային ծախսերի տնտեսագիտական դասակարգման հոդվածներ
F84: ԸՆԴԱՄԵՆԸ ԾԱԽՍԵՐ | G84: =G85 -> -108275.4 | H84: =H85 -> -122975.4 | I84: =I85 -> -122975.4
F85: ԸՆԹԱՑԻԿ ԾԱԽՍԵՐ | G85: =G86 -> -108275.4 | H85: =H86 -> -122975.4 | I85: =I86 -> -122975.4
F86: ԱՅԼ ԾԱԽՍԵՐ | G86: =+G87 -> -108275.4 | H86: =+H87 -> -122975.4 | I86: =+I87 -> -122975.4
F87: Պահուստային միջոցներ | G87: =+'1'!G22 -> -108275.4 | H87: =+'1'!H22 -> -122975.4 | I87: =+'1'!I22 -> -122975.4
E88: 11001 | F88: ՀՀ կառավարության պահուստային ֆոնդ | G88: =G90 -> 108275.4 | H88: =H90 -> 122975.4 | I88: =I90 -> 122975.4
F89: այդ թվում` ըստ կատարողների
F90: ՀՀ կառավարություն | G90: =G92 -> 108275.4 | H90: =H92 -> 122975.4 | I90: =I92 -> 122975.4
F91: այդ թվում` բյուջետային ծախսերի տնտեսագիտական դասակարգման հոդվածներ
F92: ԸՆԴԱՄԵՆԸ ԾԱԽՍԵՐ | G92: =G93 -> 108275.4 | H92: =H93 -> 122975.4 | I92: =I93 -> 122975.4
F93: ԸՆԹԱՑԻԿ ԾԱԽՍԵՐ | G93: =G94 -> 108275.4 | H93: =H94 -> 122975.4 | I93: =I94 -> 122975.4
F94: ԱՅԼ ԾԱԽՍԵՐ | G94: =+G95 -> 108275.4 | H94: =+H95 -> 122975.4 | I94: =+I95 -> 122975.4
F95: Պահուստային միջոցներ | G95: =+'1'!G23 -> 108275.4 | H95: =+'1'!H23 -> 122975.4 | I95: =+'1'!I23 -> 122975.4

Sheet 3.
H1: Հավելված № 3
H2: ՀՀ կառավարության 2025 թվականի ----------
H3: № ---------- որոշման
A6: ՀԱՅԱՍՏԱՆԻ ՀԱՆՐԱՊԵՏՈՒԹՅԱՆ 2025 ԹՎԱԿԱՆԻ ՊԵՏԱԿԱՆ ԲՅՈՒՋԵԻ ՄԱՍԻՆ ՕՐԵՆՔԻ N 1 ՀԱՎԵԼՎԱԾԻ N 3 ԱՂՅՈՒՍԱԿՈՒՄ ԿԱՏԱՐՎՈՂ ՓՈՓՈԽՈՒԹՅՈՒՆՆԵՐԸ
G7: հազար դրամ
A8: Ծրագրային դասիչը | C8: Բյուջետային գլխավոր կարգադրիչների, ծրագրերի և միջոցառումների և ուղղությունների անվանումները | D8: Ընդամենը | E8: Ցուցանիշների փոփոխությունը (նվազեցումները նշված են փակագծերում)
E9: այդ թվում
A10: Ծրագիր | B10: Միջոցառում | E10: Կառուցման աշխատանքներ | F10: Վերակառուցման, վերանորոգման և վերականգնման աշխատանքներ | G10: Նախագծահե- տազոտական, գեոդեզիա- քարտեզագրա- կան աշխա- տանքներ | H10: Ոչ ֆինանսական այլ ակտիվների ձեռքբերում
C11: Ընդամենը | D11: =D12+D16 -> -122975.4 | E11: =E12+E16 -> -104975.4 | F11: =F12+F16 -> -18000 | G11: =G12+G16 -> 0 | H11: =H12+H16 -> 0
C12: ՀՀ ԱՌՈՂՋԱՊԱՀՈՒԹՅԱՆ ՆԱԽԱՐԱՐՈՒԹՅՈՒՆ | D12: =+D14 -> -18000 | E12: =E14 -> 0 | F12: =+F14 -> -18000 | G12: =+G14 -> 0 | H12: =+H14 -> 0
C13: այդ թվում`
A14: 1126 | B14: 31003 | C14: Առողջապահական կազմակերպությունների կառուցում, վերակառուցում | D14: =+E14+F14+G14+H14 -> -18000 | F14: -18000 | H14: 0
C15: =+'4.'!C18 -> ՀՀ Արարատի մարզի «Վեդու բժշկական կենտրոն» ՓԲԸ | D15: =+E15+F15+G15+H15 -> -18000 | F15: =+F14 -> -18000
C16: ՀՀ ԿՐԹՈՒԹՅԱՆ, ԳԻՏՈՒԹՅԱՆ, ՄՇԱԿՈՒՅԹԻ ԵՎ ՍՊՈՐՏԻ ՆԱԽԱՐԱՐՈՒԹՅՈՒՆ | D16: =+E16+F16+G16+H16 -> -104975.4 | E16: =+E18 -> -104975.4 | F16: =+F18 -> 0 | G16: =+G18 -> 0 | H16: =+H18 -> 0
C17: այդ թվում`
A18: 1236 | B18: 32003 | C18: Հանրակրթական դպրոցների նոր շենքերի կառուցում | D18: =SUM(E18:H18) -> -104975.4 | E18: =+E20 -> -104975.4 | F18: =+F20 -> 0 | G18: =+G20 -> 0 | H18: =+H20 -> 0
C19: այդ թվում`
C20: ՀՀ Սյունիքի մարզ | D20: =SUM(E20:H20) -> -104975.4 | E20: =SUM(E21:E21) -> -104975.4 | F20: =SUM(F21:F21) -> 0 | G20: =SUM(G21:G21) -> 0 | H20: =SUM(H21:H21) -> 0
C21: ք.Կապանի թիվ 10 միջնակարգ դպրոց | D21: =+E21+F21+G21+H21 -> -104975.4 | E21: =+'2'!I69 -> -104975.4

Sheet 4.
F1: Հավելված № 4
C2: ՀՀ կառավարության 2025 թվականի
C3: ______________ ի ___Ն որոշման
A5: ՀԱՅԱՍՏԱՆԻ ՀԱՆՐԱՊԵՏՈՒԹՅԱՆ ԿԱՌԱՎԱՐՈՒԹՅԱՆ 2024 ԹՎԱԿԱՆԻ ԴԵԿՏԵՄԲԵՐԻ 27-Ի N 2060-Ն ՈՐՈՇՄԱՆ N5 ՀԱՎԵԼՎԱԾԻ N2 ԱՂՅՈՒՍԱԿՈՒՄ ԿԱՏԱՐՎՈՂ ՓՈՓՈԽՈՒԹՅՈՒՆՆԵՐԸ
F7: հազար դրամ
A8: Ծրագրային դասիչ | C8: Բյուջետային գլխավոր կարգադրիչների, ծրագրերի, միջոցառումների, միջոցառումները կատարող պետական մարմինների և ուղղությունների անվանումները | D8: Ցուցանիշների փոփոխությունը (նվազեցումները նշված են փակագծերում)
A9: Ծրագիր | B9: Միջոցառում | D9: Առաջին կիսամյակ | E9: Ինն ամիս | F9: Տարի
C10: ԸՆԴԱՄԵՆԸ | D10: =+D11+D19 -> -108275.4 | E10: =+E11+E19 -> -122975.4 | F10: =+F11+F19 -> -122975.4
C11: ՀՀ ԱՌՈՂՋԱՊԱՀՈՒԹՅԱՆ ՆԱԽԱՐԱՐՈՒԹՅՈՒՆ | D11: =+D15 -> -18000 | E11: =+E15 -> -18000 | F11: =+F15 -> -18000
C12: այդ թվում`
A13: 1126 | B13: 31003 | C13: Առողջապահական կազմակերպությունների կառուցում, վերակառուցում | D13: =+D15 -> -18000 | E13: =+E15 -> -18000 | F13: =+F15 -> -18000
C14: այդ թվում՝ ըստ կատարողների
C15: ՀՀ քաղաքաշինության կոմիտե | D15: =+D17 -> -18000 | E15: =+E17 -> -18000 | F15: =+F17 -> -18000
C16: այդ թվում`ըստ ուղղությունների
C17: ՀՀ Արարատի մարզ | D17: =+D18 -> -18000 | E17: =+E18 -> -18000 | F17: =+F18 -> -18000
C18: ՀՀ Արարատի մարզի «Վեդու բժշկական կենտրոն» ՓԲԸ | D18: =+'2'!G50 -> -18000 | E18: =+'2'!H50 -> -18000 | F18: =+'2'!I50 -> -18000
C19: ՀՀ ԿՐԹՈՒԹՅԱՆ, ԳԻՏՈՒԹՅԱՆ, ՄՇԱԿՈՒՅԹԻ ԵՎ ՍՊՈՐՏԻ ՆԱԽԱՐԱՐՈՒԹՅՈՒՆ | D19: =+D21 -> -90275.4 | E19: =+E21 -> -104975.4 | F19: =+F21 -> -104975.4
C20: այդ թվում՝
A21: 1236 | B21: 32003 | C21: Հանրակրթական դպրոցների նոր շենքերի կառուցում | D21: =+D23 -> -90275.4 | E21: =+E23 -> -104975.4 | F21: =+F23 -> -104975.4
C22: այդ թվում` ըստ կատարողների
C23: ՀՀ քաղաքաշինության կոմիտե | D23: =+D25 -> -90275.4 | E23: =+E25 -> -104975.4 | F23: =+F25 -> -104975.4
C24: այդ թվում՝ ըստ ուղղությունների
C25: =+'3.'!C20 -> ՀՀ Սյունիքի մարզ | D25: =+D26 -> -90275.4 | E25: =+E26 -> -104975.4 | F25: =+F26 -> -104975.4
C26: =+'3.'!C21 -> ք.Կապանի թիվ 10 միջնակարգ դպրոց | D26: =+'2'!G69 -> -90275.4 | E26: =+'2'!H69 -> -104975.4 | F26: =+'2'!I69 -> -104975.4

Sheet 5.
L1: Հավելված N 5
L2: ՀՀ կառավարության 2025թվականի
L3: ___________ ___-ի N _______ որոշման
A8: ՀԱՅԱՍՏԱՆԻ ՀԱՆՐԱՊԵՏՈՒԹՅԱՆ ԿԱՌԱՎԱՐՈՒԹՅԱՆ 2024 ԹՎԱԿԱՆԻ ԴԵԿՏԵՄԲԵՐԻ 27-Ի ԹԻՎ 2060-Ն ՈՐՈՇՄԱՆ N 9 ՀԱՎԵԼՎԱԾՈՒՄ ԿԱՏԱՐՎՈՂ ՓՈՓՈԽՈՒԹՅՈՒՆՆԵՐԸ ԵՎ ԼՐԱՑՈՒՄԸ
L11: հազար դրամներով
A12: ԲԳԿ | B12: Ծրագիր | D12: Միջոցառում | H12: Իրականացնողը/ ակտիվն օգտագործողը/ շահառուի ընտրության չափորոշիչը | I12: Արդյունքային չափորոշիչը | J12: Ցուցանիշների փոփոխությունը(ավելացումները նշված են դրական նշանով,իսկ նվազեցումները՝ փակագծերում)
B13: Դասիչը | C13: Անվա-նումը | D13: Դասիչը | E13: Անվա-նումը | F13: Նկարագրու-թյունը | G13: Տեսակը | J13: Առաջին կիսամյակ | K13: Ինն ամիս | L13: Տարի
A14: ԸՆԴԱՄԵՆԸ | J14: =+J15+J34+J22+J28 -> 0 | K14: =+K15+K34+K22+K28 -> 0 | L14: =+L15+L34+L22+L28 -> 0
A15: ՀՀ քաղաքաշինության կոմիտե | J15: =J16 -> 108275.4 | K15: =K16 -> 122975.4 | L15: =L16 -> 122975.4
B16: 1103 | C16: Քաղաքաշինության և ճարտարապետության բնագավառում պետական քաղաքականության իրականացում և կանոնակարգում | J16: =+J17 -> 108275.4 | K16: =+K17 -> 122975.4 | L16: =+L17 -> 122975.4
D17: 1103-11010 | E17: Ավարտվող շինարարական օբյեկտների ավարտական ակտերի և շահագործման թույլտվություններ ստանալու համար տեղական տուրքի վճարների ապահովում | J17: =+'2'!G31 -> 108275.4 | K17: =+'2'!H31 -> 122975.4 | L17: =+'2'!I31 -> 122975.4
F18: ՀՀ քաղաքաշինության կոմիտեի պատվիրատվությամբ իրականացվող ավարտվող շիրնարարական օբյեկտների շահագործման թույլտվությունը և ավարտական ակտը ստանալու համար տեղական տուրքի վճարների ապահովում
G19: Ծառայությունների մատուցում
H20: Միջոցառումն իրականացնողի անվանումը` ՀՀ քաղաքաշինության կոմիտե
I21: Ավարտվող շինարարական օբյեկտների ավարտական ակտերի և շահագործման թույլտվություններ, հատ | J21: 64 | L21: 68
A22: ՀՀ առողջապահության նախարարություն | J22: =+J23 -> -18000 | K22: =+K23 -> -18000 | L22: =+L23 -> -18000
B23: 1126 | C23: Առողջապահության ոլորտում պետական քաղաքականության մշակում, ծրագրերի համակարգում և մոնիտորինգ | J23: =+J24 -> -18000 | K23: =+K24 -> -18000 | L23: =+L24 -> -18000
D24: 1126 - 31003 | E24: Առողջապահական կազմակերպությունների կառուցում, վերակառուցում | J24: =+'2'!G50 -> -18000 | K24: =+'2'!H50 -> -18000 | L24: =+'2'!I50 -> -18000
F25: Բնակչությանը որակյալ բժշկական օգնության և սպասարկման ծառայություններ մատուցելու նպատակով առողջապահական կազմակերպությունների կառուցում, վերակառուցում
G26: Պետական մարմինների կողմից օգտագործվող ոչ ֆինանսական ակտիվների հետ գործառնություններ
H27: Ակտիվն օգտագործող կազմակերպության անվանումը` Բժշկական կազմակերպություններ
A28: ՀՀ կրթության, գիտության, մշակույթի և սպորտի նախարարություն | J28: =+J30 -> -90275.4 | K28: =+K30 -> -104975.4 | L28: =+L30 -> -104975.4
B29: 1236 | C29: Հանրակրթական և նախադպրոցական հաստատությունների հիմնում, կառուցում, բարելավում | J29: =+J30 -> -90275.4 | K29: =+K30 -> -104975.4 | L29: =+L30 -> -104975.4
D30: 1236 - 32003 | E30: Հանրակրթական դպրոցների նոր շենքերի կառուցում | J30: =+'2'!G59 -> -90275.4 | K30: =+'2'!H59 -> -104975.4 | L30: =+'2'!I59 -> -104975.4
F31: ՀՀ մարզերում կրթական որակյալ ծառայությունների հասանելիության ապահովման ծրագրի շրջանակներում հանրակրթական և նախադպրոցական կրթության հասանելիության ապահովման նպատակով կրթական կենտրոնների կառուցում
G32: Այլ պետական կազմակերպությունների կողմից օգտագործվող ոչ ֆինանսական ակտիվների հետ գործառնություններ
H33: Ակտիվն օգտագործող կազմակերպությունների անվանումները` Հանրակրթական դպրոցներ
A34: ՀՀ կառավարություն | J34: =+J35+J42 -> 0 | K34: =+K35+K42 -> 0 | L34: =+L35+L42 -> 0
B35: 1139 | C35: ՀՀ կառավարության պահուստային ֆոնդ | J35: =+J36 -> -108275.4 | K35: =+K36 -> -122975.4 | L35: =+L36 -> -122975.4
D36: 1139 - 11001 | E36: ՀՀ կառավարության պահուստային ֆոնդ | J36: =+'1'!G22 -> -108275.4 | K36: =+'1'!H22 -> -122975.4 | L36: =+'1'!I22 -> -122975.4
F37: ՀՀ պետական բյուջեում նախատեսված ելքերի լրացուցիչ ֆինանսավորման, պետական բյուջեում չկանխատեսված ելքերի, ինչպես նաև բյուջետային երաշխիքների ապահովման ելքերի ֆինանսավորման ապահովում
G38: Ծառայությունների մատուցում
H39: Ծառայությունը մատուցողի անվանումը` ՀՀ կառավարություն
B42: 1139 | C42: ՀՀ կառավարության պահուստային ֆոնդ | J42: =+J43 -> 108275.4 | K42: =+K43 -> 122975.4 | L42: =+L43 -> 122975.4
D43: 1139 - 11001 | E43: ՀՀ կառավարության պահուստային ֆոնդ | J43: =+'1'!G23 -> 108275.4 | K43: =+'1'!H23 -> 122975.4 | L43: =+'1'!I23 -> 122975.4
F44: ՀՀ պետական բյուջեում նախատեսված ելքերի լրացուցիչ ֆինանսավորման, պետական բյուջեում չկանխատեսված ելքերի, ինչպես նաև բյուջետային երաշխիքների ապահովման ելքերի ֆինանսավորման ապահովում
G45: Ծառայությունների մատուցում
H46: Ծառայությունը մատուցողի անվանումը` ՀՀ կառավարություն

Sheet 6
L1: Հավելված N6
L2: ՀՀ կառավարության 2025թվականի
L3: ___________ ___-ի N _______ որոշման
A6: ՀԱՅԱՍՏԱՆԻ ՀԱՆՐԱՊԵՏՈՒԹՅԱՆ ԿԱՌԱՎԱՐՈՒԹՅԱՆ 2024 ԹՎԱԿԱՆԻ ԴԵԿՏԵՄԲԵՐԻ 27-Ի ԹԻՎ 2060-Ն ՈՐՈՇՄԱՆ N 9.1 ՀԱՎԵԼՎԱԾՈՒՄ ԿԱՏԱՐՎՈՂ ՓՈՓՈԽՈՒԹՅՈՒՆՆԵՐԸ ԵՎ ԼՐԱՑՈՒՄԸ
L10: հազար դրամներով
A11: ԲՍԿ | B11: Ծրագիր | D11: Միջոցառում | H11: Իրականացնողը/ ակտիվն օգտագործողը/ շահառուի ընտրության չափորոշիչը | I11: Արդյունքային չափորոշիչը | J11: Ցուցանիշների փոփոխությունը(ավելացումները նշված են դրական նշանով,իսկ նվազեցումները՝ փակագծերում)
B12: Դասիչը | C12: Անվանումը | D12: Դասիչը | E12: Անվանումը | F12: Նկարագրությունը | G12: Տեսակը | J12: Առաջին կիսամյակ | K12: Ինն ամիս | L12: Տարի
A13: ԸՆԴԱՄԵՆԸ | J13: =+J15+J32 -> 0 | K13: =+K15+K32 -> 0 | L13: =+L15+L32 -> 0
A14: այդ թվում՝
A15: ՀՀ քաղաքաշինության կոմիտե | J15: =+J16+J22+J27 -> 0 | K15: =+K16+K22+K27 -> 0 | L15: =+L16+L22+L27 -> 0
B16: 1103 | C16: =+'5.'!C16:I16 -> Քաղաքաշինության և ճարտարապետության բնագավառում պետական քաղաքականության իրականացում և կանոնակարգում | J16: =+J17 -> 108275.4 | K16: =+K17 -> 122975.4 | L16: =+L17 -> 122975.4
D17: =+'5.'!D17 -> 1103-11010 | E17: =+'5.'!E17:I17 -> Ավարտվող շինարարական օբյեկտների ավարտական ակտերի և շահագործման թույլտվություններ ստանալու համար տեղական տուրքի վճարների ապահովում | J17: =+'1'!G13 -> 108275.4 | K17: =+'1'!H13 -> 122975.4 | L17: =+'1'!I13 -> 122975.4
F18: =+'5.'!F18:L18 -> ՀՀ քաղաքաշինության կոմիտեի պատվիրատվությամբ իրականացվող ավարտվող շիրնարարական օբյեկտների շահագործման թույլտվությունը և ավարտական ակտը ստանալու համար տեղական տուրքի վճարների ապահովում
G19: =+'5.'!G19:L19 -> Ծառայությունների մատուցում
H20: Միջոցառումն իրականացնողի անվանումը` ՀՀ քաղաքաշինության կոմիտե
I21: =+'5.'!I21 -> Ավարտվող շինարարական օբյեկտների ավարտական ակտերի և շահագործման թույլտվություններ, հատ | J21: 64 | L21: 68
B22: 1126 | C22: Առողջապահության ոլորտում պետական քաղաքականության մշակում, ծրագրերի համակարգում և մոնիտորինգ | J22: =+J23 -> -18000 | K22: =+K23 -> -18000 | L22: =+L23 -> -18000
D23: 1126 - 31003 | E23: Առողջապահական կազմակերպությունների կառուցում, վերակառուցում | J23: =+'2'!G50 -> -18000 | K23: =+'2'!H50 -> -18000 | L23: =+'2'!I50 -> -18000
F24: Բնակչությանը որակյալ բժշկական օգնության և սպասարկման ծառայություններ մատուցելու նպատակով առողջապահական կազմակերպությունների կառուցում, վերակառուցում
G25: Պետական մարմինների կողմից օգտագործվող ոչ ֆինանսական ակտիվների հետ գործառնություններ
H26: Ակտիվն օգտագործող կազմակերպության անվանումը` Բժշկական կազմակերպություններ
B27: 1236 | C27: Հանրակրթական և նախադպրոցական հաստատությունների հիմնում, կառուցում, բարելավում | J27: =+J28 -> -90275.4 | K27: =+K28 -> -104975.4 | L27: =+L28 -> -104975.4
D28: 1236 - 32003 | E28: Հանրակրթական դպրոցների նոր շենքերի կառուցում | J28: =+'5.'!J30 -> -90275.4 | K28: =+'5.'!K30 -> -104975.4 | L28: =+'5.'!L30 -> -104975.4
F29: ՀՀ մարզերում կրթական որակյալ ծառայությունների հասանելիության ապահովման ծրագրի շրջանակներում հանրակրթական և նախադպրոցական կրթության հասանելիության ապահովման նպատակով կրթական կենտրոնների կառուցում
G30: Այլ պետական կազմակերպությունների կողմից օգտագործվող ոչ ֆինանսական ակտիվների հետ գործառնություններ
H31: Ակտիվն օգտագործող կազմակերպությունների անվանումները` Հանրակրթական դպրոցներ
A32: ՀՀ կառավարություն | J32: =+J33+J40 -> 0 | K32: =+K33+K40 -> 0 | L32: =+L33+L40 -> 0
B33: 1139 | C33: ՀՀ կառավարության պահուստային ֆոնդ | J33: =+J34 -> -108275.4 | K33: =+K34 -> -122975.4 | L33: =+L34 -> -122975.4
D34: 1139 - 11001 | E34: ՀՀ կառավարության պահուստային ֆոնդ | J34: =+'1'!G22 -> -108275.4 | K34: =+'1'!H22 -> -122975.4 | L34: =+'1'!I22 -> -122975.4
F35: ՀՀ պետական բյուջեում նախատեսված ելքերի լրացուցիչ ֆինանսավորման, պետական բյուջեում չկանխատեսված ելքերի, ինչպես նաև բյուջետային երաշխիքների ապահովման ելքերի ֆինանսավորման ապահովում
G36: Ծառայությունների մատուցում
H37: Ծառայությունը մատուցողի անվանումը` ՀՀ կառավարություն
B40: 1139 | C40: ՀՀ կառավարության պահուստային ֆոնդ | J40: =+J41 -> 108275.4 | K40: =+K41 -> 122975.4 | L40: =+L41 -> 122975.4
D41: 1139 - 11001 | E41: ՀՀ կառավարության պահուստային ֆոնդ | J41: =+'1'!G23 -> 108275.4 | K41: =+'1'!H23 -> 122975.4 | L41: =+'1'!I23 -> 122975.4
F42: ՀՀ պետական բյուջեում նախատեսված ելքերի լրացուցիչ ֆինանսավորման, պետական բյուջեում չկանխատեսված ելքերի, ինչպես նաև բյուջետային երաշխիքների ապահովման ելքերի ֆինանսավորման ապահովում
G43: Ծառայությունների մատուցում
H44: Ծառայությունը մատուցողի անվանումը` ՀՀ կառավարություն

Sheet 7
A1: Հավելված № 7
A2: ՀՀ կառավարության 2024 թվականի
A3: __________ «____» -ի
A4: N_____ -Ն որոշման
A5: ՀԱՅԱՍՏԱՆԻ ՀԱՆՐԱՊԵՏՈՒԹՅԱՆ ԿԱՌԱՎԱՐՈՒԹՅԱՆ 2024 ԹՎԱԿԱՆԻ ԴԵԿՏԵՄԲԵՐԻ 27-Ի № 2060-Ն ՈՐՈՇՄԱՆ № 10 ՀԱՎԵԼՎԱԾՈՒՄ ԿԱՏԱՐՎՈՂ ՓՈՓՈԽՈՒԹՅՈՒՆՆԵՐԸ
A6: Կոդը | B6: Անվանումը | E6: Գնման ձևը | F6: Չափման միավորը | G6: Միավորի գինը | H6: Քանակը | I6: Ցուցանիշների փոփոխությունը (նվազեցումները նշված են փակագծերում)
I7: Գումարը (հազար դրամով)
A8: 1 | B8: 2 | E8: 3 | F8: 4 | G8: 5 | H8: 6 | I8: 7
A9: ՀՀ քաղաքաշինության կոմիտե | I9: =+I10+I14 -> -122975.4
A10: Բաժին 07 | B10: Խումբ 06 | C10: Դաս 02 | D10: Առողջապահություն (այլ դասերին չպատկանող) | I10: =+I11 -> -18000
A11: 1126 31003 | B11: Առողջապահական կազմակերպությունների կառուցում, վերակառուցում | I11: =+I12 -> -18000
B12: ՄԱՍ II. ԱՇԽԱՏԱՆՔՆԵՐ | I12: =+I13 -> -18000
A13: 45451700-2 | B13: վերակառուցման աշխատանքներ | E13: ԲՄ | F13: դրամ | I13: -18000
A14: Բաժին N 09 | B14: Խումբ N 02 | C14: Դաս N 01 | D14: Հիմնական ընդհանուր կրթություն | I14: =+I15 -> -104975.4
A15: 1236-32003 | B15: Հանրակրթական դպրոցների նոր շենքերի կառուցում | I15: =+I16 -> -104975.4
B16: ՄԱՍ II. ԱՇԽԱՏԱՆՔՆԵՐ | I16: =SUM(I17:I17) -> -104975.4
A17: 45221142-7 | B17: ընդհանուր շինարարական աշխատանքներ | E17: ԲՄ | F17: դրամ | I17: =+'1'!I19 -> -104975.4
