Workbook
Name a: #REF!
Name a: #REF!
Name a: #REF!
Name AgencyCode: #REF!
Name AgencyCode: #REF!
Name AgencyCode: #REF!
Name AgencyName: #REF!
Name AgencyName: #REF!
Name AgencyName: #REF!
Name davit: #REF!
Name davit: #REF!
Name davit: #REF!
Name Functional1: #REF!
Name Functional1: #REF!
Name Functional1: #REF!
Name ggg: #REF!
Name ggg: #REF!
Name ggg: #REF!
Name HAVELVAC10: #REF!
Name HAVELVAC10: #REF!
Name HAVELVAC10: #REF!
Name PANature: #REF!
Name PANature: #REF!
Name PANature: #REF!
Name PAType: #REF!
Name PAType: #REF!
Name PAType: #REF!
Name Performance2: #REF!
Name Performance2: #REF!
Name Performance2: #REF!
Name PerformanceType: #REF!
Name PerformanceType: #REF!
Name PerformanceType: #REF!
Name Հավելված: #REF!
Name Հավելված: #REF!
Name Հավելված: #REF!
Name Մաս: #REF!
Name Մաս: #REF!
Name Մաս: #REF!
Name շախմատիստ: #REF!
Name շախմատիստ: #REF!
Name շախմատիստ: #REF!

Sheet Հավելված 1
H1: Հավելված N 1
G2: ՀՀ կառավարության 2025 թվականի
G3: __________-ի _____-Ն որոշման
A4: «ՀԱՅԱՍՏԱՆԻ ՀԱՆՐԱՊԵՏՈՒԹՅԱՆ 2025 ԹՎԱԿԱՆԻ ՊԵՏԱԿԱՆ ԲՅՈՒՋԵԻ ՄԱՍԻՆ» ՕՐԵՆՔԻ N 1 ՀԱՎԵԼՎԱԾԻ N 2 ԱՂՅՈՒՍԱԿՈՒՄ ԿԱՏԱՐՎՈՂ ՎԵՐԱԲԱՇԽՈՒՄԸ ԵՎ ՀԱՅԱՍՏԱՆԻ ՀԱՆՐԱՊԵՏՈՒԹՅԱՆ ԿԱՌԱՎԱՐՈՒԹՅԱՆ 2024 ԹՎԱԿԱՆԻ ԴԵԿՏԵՄԲԵՐԻ 27-Ի N 2060-Ն ՈՐՈՇՄԱՆ N 5 ՀԱՎԵԼՎԱԾԻ N 1 ԱՂՅՈՒՍԱԿՈՒՄ ԿԱՏԱՐՎՈՂ ՓՈՓՈԽՈՒԹՅՈՒՆՆԵՐԸ
H5: հազար դրամներով
A6: ԲԳԿ | B6: Ծրագրային դասիչը | D6: ԲԳԿ/Ծրագրի /միջոցառման անվանումը | E6: Ծրագրի նպատակը/Միջոցառման նկարագրությունը | F6: Վերջնական արդյունքի նկարագրությունը/Միջոցառման տեսակը | G6: Ցուցանիշների փոփոխություն (ավելացումները նշված են դրական նշանով, իսկ նվազեցումները՝ փակագծերում)
B7: Ծրագիր | C7: Միջոցառում | G7: Առաջին կիսամյակ | H7: Ինն ամիս | I7: Տարի
A8: ԸՆԴԱՄԵՆԸ | G8: =G9+G12+G15 -> 0 | H8: =H9+H12+H15 -> 0 | I8: =I9+I12+I15 -> 0
A9: ՀՀ բարձր տեխնոլոգիական արդյունաբերության նախարարություն | G9: =G10 -> -937487.96 | H9: =H10 -> -937487.96 | I9: =I10 -> -937487.96
B10: 1235 | D10: Թվային փոխակերպման գործընթացի իրականացում | E10: Պետական մարմինների կողմից իրականացվող թվային փոխակերպման միջոցառումների ֆինանսավորում | F10: Թվային ծառայությունների և համակարգերի ներդրում | G10: =G11 -> -937487.96 | H10: =H11 -> -937487.96 | I10: =I11 -> -937487.96
C11: 1235 - 31001 | D11: Միասնական թվային միջավայրի ձևավորում | E11: Թվային փոխակերպման գործընթացի շրջանակներում թվայնացման համակարգերի ներդրում և կայքերի արդիականացում | F11: Պետական մարմինների կողմից օգտագործվող ոչ ֆինանսական ակտիվների հետ գործառնություններ | G11: =(G14+G17)*-1 -> -937487.96 | H11: =(H14+H17)*-1 -> -937487.96 | I11: =(I14+I17)*-1 -> -937487.96
A12: ՀՀ ներքին գործերի նախարարություն | G12: =G13 -> 663871.4 | H12: =H13 -> 663871.4 | I12: =I13 -> 663871.4
B13: 1234 | D13: Ներքին գործերի նախարարության ոլորտի քաղաքականության մշակում, կառավարում, կենտրոնացված միջոցառումներ, մոնիտորինգ և վերահսկողություն | E13: Ներքին գործերի համակարգի՛ ոստիկանության, փրկարարծառայության և քաղաքացիական ծառայությանկազմակերպաիրավական կատարելագործում, դրանցգործունեության նկատմամբ հասարակական կարծիքիբարելավում և վստահության բարձրացում | F13: Արդի մարտահրավերներին դիմակայող, պետական ևհասարակական պահանջարկը բավարարող, թափանցիկ,բարեվարք, հաշվետվողական գործունեության ապահովում | G13: =G14 -> 663871.4 | H13: =H14 -> 663871.4 | I13: =I14 -> 663871.4
C14: 1234 - 11005 | D14: Ճանապարհային երթևեկության անվտանգության ապահովում և ճանապարհատրանսպորտային պատահարների կանխարգելում, տրանսպորտային միջոցների պետական հաշվառում | E14: Ճանապարհային երթևեկության կարգավորում, ճանապարհապարեկային ծառայության իրականացում, ճանապարհատրանսպորտային պատահարների և վարչական իրավախախտումների պետական հաշվառում, վարորդական վկայականների և տրանսպորտային միջոցների պետհամարանիշերի տրամադրում | F14: Ծառայությունների մատուցում | G14: 663871.4 | H14: 663871.4 | I14: 663871.4
A15: ՀՀ արդարադատության նախարարություն | G15: =G16 -> 273616.56 | H15: =H16 -> 273616.56 | I15: =I16 -> 273616.56
B16: 1182 | D16: Հարկադիր կատարման ծառայություններ | E16: Հարկադիր կատարման ենթակա ակտերի կատարման ապահովում | F16: Հարկադիր կատարման ենթակա ակտերի կատարողական ընթացակարգերի զարգացում և կատարման ապահովում | G16: =G17 -> 273616.56 | H16: =H17 -> 273616.56 | I16: =I17 -> 273616.56
C17: 1182 - 11001 | D17: Հարկադիր կատարման ենթակա ակտերի կատարումն ապահովող ծառայություններ | E17: Դատական ակտերի, կատարողական թերթերի, կատարողական մակագրության թերթերի և անբողոքարկելի վարչական ակտերի պահանջների կատարման ապահովում: | F17: Ծառայությունների մատուցում | G17: 273616.56 | H17: 273616.56 | I17: 273616.56

Sheet Հավելված 2
F1: Հավելված N 2
F2: ՀՀ կառավարության 2025 թվականի
F3: ______________ ի ___Ն որոշման
A4: ՀԱՅԱՍՏԱՆԻ ՀԱՆՐԱՊԵՏՈՒԹՅԱՆ ԿԱՌԱՎԱՐՈՒԹՅԱՆ 2024 ԹՎԱԿԱՆԻ ԴԵԿՏԵՄԲԵՐԻ 27-Ի N 2060-Ն ՈՐՈՇՄԱՆ N 3 ԵՎ N 4 ՀԱՎԵԼՎԱԾՆԵՐՈՒՄ ԿԱՏԱՐՎՈՂ ՓՈՓՈԽՈՒԹՅՈՒՆՆԵՐԸ
H5: հազար դրամներով
A6: Գործառական դասիչը | D6: Ծրագրային դասիչը | F6: Բյուջետային ծախսերի գործառական դասակարգման բաժինների, խմբերի և դասերի, բյուջետային ծրագրերի միջոցառումների, բյուջետային հատկացումների գլխավոր կարգադրիչների անվանումները | G6: Ցուցանիշների փոփոխություն (ավելացումները նշված են դրական նշանով, իսկ նվազեցումները՝ փակագծերում)
A7: Բաժին | B7: Խումբ | C7: Դաս | D7: Ծրագիր | E7: Միջոցառում | G7: Առաջին կիսամյակ | H7: Ինն ամիս | I7: Տարի
F8: ԸՆԴԱՄԵՆԸ | G8: =+G10+G30 -> 0 | H8: =+H10+H30 -> 0 | I8: =+I10+I30 -> 0
F9: այդ թվում`
A10: 01 | F10: ԸՆԴՀԱՆՈՒՐ ԲՆՈՒՅԹԻ ՀԱՆՐԱՅԻՆ ԾԱՌԱՅՈՒԹՅՈՒՆՆԵՐ | G10: =G12 -> -937487.96 | H10: =H12 -> -937487.96 | I10: =I12 -> -937487.96
F11: այդ թվում`
B12: 03 | F12: Ընդհանուր բնույթի ծառայություններ | G12: =G14 -> -937487.96 | H12: =H14 -> -937487.96 | I12: =I14 -> -937487.96
F13: այդ թվում`
C14: 02 | F14: Ծրագրման և վիճակագրական ընդհանուր ծառայություններ | G14: =G18 -> -937487.96 | H14: =H18 -> -937487.96 | I14: =I18 -> -937487.96
F15: այդ թվում`
F16: ՀՀ բարձր տեխնոլոգիական արդյունաբերության նախարարություն | G16: =+G18 -> -937487.96 | H16: =+H18 -> -937487.96 | I16: =+I18 -> -937487.96
F17: այդ թվում`
D18: 1235 | F18: Թվային փոխակերպման գործընթացի իրականացում | G18: =G20 -> -937487.96 | H18: =H20 -> -937487.96 | I18: =I20 -> -937487.96
F19: այդ թվում`
E20: 31001 | F20: Միասնական թվային միջավայրի ձևավորում | G20: =G22 -> -937487.96 | H20: =H22 -> -937487.96 | I20: =I22 -> -937487.96
F21: այդ թվում` ըստ կատարողների
F22: ՀՀ կառավարություն | G22: =G24 -> -937487.96 | H22: =H24 -> -937487.96 | I22: =I24 -> -937487.96
F23: այդ թվում` բյուջետային ծախսերի տնտեսագիտական դասակարգման հոդվածներ
F24: ԸՆԴԱՄԵՆԸ ԾԱԽՍԵՐ | G24: =G25 -> -937487.96 | H24: =H25 -> -937487.96 | I24: =I25 -> -937487.96
F25: ՈՉ ՖԻՆԱՆՍԱԿԱՆ ԱԿՏԻՎՆԵՐԻ ԳԾՈՎ ԾԱԽՍԵՐ | G25: =G26 -> -937487.96 | H25: =H26 -> -937487.96 | I25: =I26 -> -937487.96
F26: ՀԻՄՆԱԿԱՆ ՄԻՋՈՑՆԵՐ | G26: =G27 -> -937487.96 | H26: =H27 -> -937487.96 | I26: =I27 -> -937487.96
F27: ԱՅԼ ՀԻՄՆԱԿԱՆ ՄԻՋՈՑՆԵՐ | G27: =G28 -> -937487.96 | H27: =H28 -> -937487.96 | I27: =I28 -> -937487.96
F28: - Ոչ նյութական հիմնական միջոցներ | G28: ='Հավելված 1'!G11 -> -937487.96 | H28: ='Հավելված 1'!H11 -> -937487.96 | I28: ='Հավելված 1'!I11 -> -937487.96
F29: այդ թվում`
A30: 03 | F30: ՀԱՍԱՐԱԿԱԿԱՆ ԿԱՐԳ, ԱՆՎՏԱՆԳՈՒԹՅՈՒՆ ԵՎ ԴԱՏԱԿԱՆ ԳՈՐԾՈՒՆԵՈՒԹՅՈՒՆ | G30: =+G32+G48 -> 937487.96 | H30: =+H32+H48 -> 937487.96 | I30: =+I32+I48 -> 937487.96
F31: այդ թվում`
B32: 01 | F32: Հասարակական կարգ և անվտանգություն | G32: =+G34 -> 663871.4 | H32: =+H34 -> 663871.4 | I32: =+I34 -> 663871.4
F33: այդ թվում`
C34: 01 | F34: Ոստիկանություն | G34: =+G36 -> 663871.4 | H34: =+H36 -> 663871.4 | I34: =+I36 -> 663871.4
F35: այդ թվում`
F36: ՀՀ ներքին գործերի նախարարություն | G36: =+G38 -> 663871.4 | H36: =+H38 -> 663871.4 | I36: =+I38 -> 663871.4
F37: այդ թվում`
D38: 1234 | F38: Ներքին գործերի նախարարության ոլորտի քաղաքականության մշակում, կառավարում, կենտրոնացված միջոցառումներ, մոնիտորինգ և վերահսկողություն | G38: =G40 -> 663871.4 | H38: =H40 -> 663871.4 | I38: =I40 -> 663871.4
F39: այդ թվում`
E40: 11005 | F40: Ճանապարհային երթևեկության անվտանգության ապահովում և ճանապարհատրանսպորտային պատահարների կանխարգելում, տրանսպորտային միջոցների պետական հաշվառում | G40: =G42 -> 663871.4 | H40: =H42 -> 663871.4 | I40: =I42 -> 663871.4
...

Sheet Հավելված 3
F1: Հավելված N 3
F2: ՀՀ կառավարության 2025 թվականի
F3: ______________ ի ___Ն որոշման
A5: «ՀԱՅԱUՏԱՆԻ ՀԱՆՐԱՊԵՏՈՒԹՅԱՆ 2025 ԹՎԱԿԱՆԻ ՊԵՏԱԿԱՆ ԲՅՈՒՋԵԻ ՄԱUԻՆ» ՀԱՅԱUՏԱՆԻ ՀԱՆՐԱՊԵՏՈՒԹՅԱՆ OՐԵՆՔԻ N 1 ՀԱՎԵԼՎԱԾԻ N 3 ԱՂՅՈՒՍԱԿՈՒՄ ԿԱՏԱՐՎՈՂ ՓՈՓՈԽՈՒԹՅՈՒՆԸ
G7: հազար դրամներով
A8: Ծրագրային դասիչ | C8: Բյուջետային գլխավոր կարգադրիչների, ծրագրերի, միջոցառումների, միջոցառումները կատարող պետական մարմինների և ուղղությունների անվանումները | D8: Ընդամենը | E8: Ցուցանիշների փոփոխություն (նվազեցումները նշված են փակագծերում)
A9: Ծրագիր | B9: Միջոցառում | E9: Կառուցման աշխատանքներ | F9: Վերակառուցման, վերանորոգման և վերականգնման աշխատանքներ | G9: Նախագծահե- տազոտական, գեոդեզիա- քարտեզագրա- կան աշխա- տանքներ | H9: Ոչ ֆինանսական այլ ակտիվների ձեռքբերում
C10: ԸՆԴԱՄԵՆԸ | D10: =D11 -> -937487.96 | E10: =+E11 -> 0 | F10: =+F11 -> 0 | G10: =+G11 -> 0 | H10: =+H11 -> -937487.96
C11: ՀՀ բարձր տեխնոլոգիական արդյունաբերության նախարարություն | D11: =D13 -> -937487.96 | E11: =E13 -> 0 | F11: =+F12 -> 0 | G11: =G13 -> 0 | H11: =H13 -> -937487.96
C12: այդ թվում`
A13: 1235 | B13: 31001 | C13: Միասնական թվային միջավայրի ձևավորում | D13: =SUM(E13:H13) -> -937487.96 | F13: - | H13: ='Հավելված 1'!I10 -> -937487.96

Sheet Հավելված 4
E1: Հավելված N 4
D2: ՀՀ կառավարության 2025 թվականի
E3: ______________ ի ___Ն որոշման
A5: ՀԱՅԱՍՏԱՆԻ ՀԱՆՐԱՊԵՏՈՒԹՅԱՆ ԿԱՌԱՎԱՐՈՒԹՅԱՆ 2024 ԹՎԱԿԱՆԻ ԴԵԿՏԵՄԲԵՐԻ 27-Ի N 2060-Ն ՈՐՈՇՄԱՆ N 5 ՀԱՎԵԼՎԱԾԻ N 2 ԱՂՅՈՒՍԱԿՈՒՄ ԿԱՏԱՐՎՈՂ ՓՈՓՈԽՈՒԹՅՈՒՆԸ
F6: հազար դրամներով
A7: Ծրագրային դասիչ | C7: Բյուջետային գլխավոր կարգադրիչների, ծրագրերի, միջոցառումների, միջոցառումները կատարող պետական մարմինների և ուղղությունների անվանումները | D7: Ցուցանիշների փոփոխություն (նվազեցումները նշված են փակագծերում)
A8: Ծրագիր | B8: Միջոցառում | D8: Առաջին կիսամյակ | E8: Ինն ամիս | F8: Տարի
C9: ՀՀ բարձր տեխնոլոգիական արդյունաբերության նախարարություն | D9: =D11 -> -937487.96 | E9: =E11 -> -937487.96 | F9: =F11 -> -937487.96
C10: այդ թվում՝
A11: 1235 | B11: 31001 | C11: Միասնական թվային միջավայրի ձևավորում | D11: =+D13 -> -937487.96 | E11: =+E13 -> -937487.96 | F11: =+F13 -> -937487.96
C12: այդ թվում` ըստ կատարողների
C13: ՀՀ կառավարություն | D13: ='Հավելված 2'!G28 -> -937487.96 | E13: ='Հավելված 2'!H28 -> -937487.96 | F13: ='Հավելված 2'!I28 -> -937487.96

Sheet Հավելված 5
J1: Հավելված N 5 ՀՀ կառավարության 2025 թվականի __________-ի _____-Ն որոշման
J2: ՀՀ կառավարության 2025 թ․
J3: __________-ի _____-Ն որոշման
A5: ՀԱՅԱՍՏԱՆԻ ՀԱՆՐԱՊԵՏՈՒԹՅԱՆ ԿԱՌԱՎԱՐՈՒԹՅԱՆ 2024 ԹՎԱԿԱՆԻ ԴԵԿՏԵՄԲԵՐԻ 27-Ի N 2060-Ն ՈՐՈՇՄԱՆ N 9 ՀԱՎԵԼՎԱԾՈՒՄ ԿԱՏԱՐՎՈՂ ՓՈՓՈԽՈՒԹՅՈՒՆՆԵՐԸ
I6: հազար դրամներով
A7: ԲԳԿ | B7: Ծրագիր | D7: Միջոցառում | H7: Իրականացնողը/ ակտիվն օգտագործողը/ շահառուի ընտրության չափորոշիչը | I7: Արդյունքային չափորոշիչը | J7: Ցուցանիշների փոփոխություն (ավելացումները նշված են դրական նշանով, իսկ նվազեցումները՝ փակագծերում)
B8: Դասիչը | C8: Անվանումը | D8: Դասիչը | E8: Անվանումը | F8: Նկարագրու-թյունը | G8: Տեսակը | J8: Առաջին կիսամյակ | K8: Ինն ամիս | L8: Տարի
A9: ԸՆԴԱՄԵՆԸ | J9: =J10+J22+J16 -> 0 | K9: =K10+K22+K16 -> 0 | L9: =L10+L22+L16 -> 0
A10: ՀՀ բարձր տեխնոլոգիական արդյունաբերության նախարարություն | J10: =J11 -> -937487.96 | K10: =K11 -> -937487.96 | L10: =L11 -> -937487.96
B11: 1235 | C11: Թվային փոխակերպման գործընթացի իրականացում | J11: =J12 -> -937487.96 | K11: =K12 -> -937487.96 | L11: =L12 -> -937487.96
D12: 1235 - 31001 | E12: Միասնական թվային միջավայրի ձևավորում | J12: ='Հավելված 2'!G28 -> -937487.96 | K12: ='Հավելված 2'!H28 -> -937487.96 | L12: ='Հավելված 2'!I28 -> -937487.96
F13: Թվային փոխակերպման գործընթացի շրջանակներում թվայնացման համակարգերի ներդրում և կայքերի արդիականացում
G14: Պետական մարմինների կողմից օգտագործվող ոչ ֆինանսական ակտիվների հետ գործառնություններ
H15: Ակտիվն օգտագործող կազմակերպության անվանումը` Հանրային իշխանության մարմիններ
A16: ՀՀ ներքին գործերի նախարարություն | J16: ='Հավելված 1'!G12 -> 663871.4 | K16: =J16 -> 663871.4 | L16: =K16 -> 663871.4
B17: 1234 | C17: Ներքին գործերի նախարարության ոլորտի քաղաքականության մշակում, կառավարում, կենտրոնացված միջոցառումներ, մոնիտորինգ և վերահսկողություն | J17: =J18 -> 663871.4 | K17: =K18 -> 663871.4 | L17: =L18 -> 663871.4
D18: 1234 - 11005 | E18: Ճանապարհային երթևեկության անվտանգության ապահովում և ճանապարհատրանսպորտային պատահարների կանխարգելում, տրանսպորտային միջոցների պետական հաշվառում | J18: 663871.4 | K18: 663871.4 | L18: 663871.4
F19: Ճանապարհային երթևեկության կարգավորում, ճանապարհապարեկային ծառայության իրականացում, ճանապարհատրանսպորտային պատահարների և վարչական իրավախախտումների պետական հաշվառում, վարորդական վկայականների և տրանսպորտային միջոցների պետհամարանիշերի տրամադրում
G20: Ծառայությունների մատուցում
H21: Ծառայությունը մատուցողի անվանումը` ՀՀ ՆԳՆ <<Ճանապարհային ոստիկանություն>> ծառայություն, պարեկային ծառայություն
A22: ՀՀ արդարադատության նախարարություն | J22: ='Հավելված 1'!G15 -> 273616.56 | K22: =J22 -> 273616.56 | L22: =K22 -> 273616.56
B23: 1182 | C23: Հարկադիր կատարման ծառայություններ | J23: =J24 -> 273616.56 | K23: 273623.56 | L23: =L24 -> 273616.56
D24: 1182 - 11001 | E24: Հարկադիր կատարման ենթակա ակտերի կատարումն ապահովող ծառայություններ | J24: 273616.56 | K24: 273616.56 | L24: 273616.56
F25: Դատական ակտերի, կատարողական թերթերի, կատարողական մակագրության թերթերի և անբողոքարկելի վարչական ակտերի պահանջների կատարման ապահովում:
G26: Ծառայությունների մատուցում
G27: Ծառայությունը մատուցողի անվանումը` ՀՀ արդարադատության նախարարության հարկադիր կատարումն ապահովող ծառայություն

Sheet Հավելված 6
J1: Հավելված N 6 ՀՀ կառավարության 2025 թվականի __________-ի _____-Ն որոշման
J2: ՀՀ կառավարության 2025 թ․
J3: __________-ի _____-Ն որոշման
A5: ՀԱՅԱՍՏԱՆԻ ՀԱՆՐԱՊԵՏՈՒԹՅԱՆ ԿԱՌԱՎԱՐՈՒԹՅԱՆ 2024 ԹՎԱԿԱՆԻ ԴԵԿՏԵՄԲԵՐԻ 27-Ի N 2060-Ն ՈՐՈՇՄԱՆ N 9.1 ՀԱՎԵԼՎԱԾՈՒՄ ԿԱՏԱՐՎՈՂ ՓՈՓՈԽՈՒԹՅՈՒՆՆԵՐԸ
I6: հազար դրամներով
A7: ԲՍԿ | B7: Ծրագիր | D7: Միջոցառում | H7: Իրականացնողը/ ակտիվն օգտագործողը/ շահառուի ընտրության չափորոշիչը | I7: Արդյունքային չափորոշիչը | J7: Ցուցանիշների փոփոխություն (ավելացումները նշված են դրական նշանով, իսկ նվազեցումները՝ փակագծերում)
B8: Դասիչը | C8: Անվանումը | D8: Դասիչը | E8: Անվանումը | F8: Նկարագրու-թյունը | G8: Տեսակը | J8: Առաջին կիսամյակ | K8: Ինն ամիս | L8: Տարի
A9: ԸՆԴԱՄԵՆԸ | J9: =J10+J22+J16 -> 0 | K9: =K10+K22+K16 -> 0 | L9: =L10+L22+L16 -> 0
A10: ՀՀ Կառավարություն | J10: =J11 -> -937487.96 | K10: =K11 -> -937487.96 | L10: =L11 -> -937487.96
B11: 1235 | C11: Թվային փոխակերպման գործընթացի իրականացում | J11: =J12 -> -937487.96 | K11: =K12 -> -937487.96 | L11: =L12 -> -937487.96
D12: 1235 - 31001 | E12: Միասնական թվային միջավայրի ձևավորում | J12: ='Հավելված 2'!G28 -> -937487.96 | K12: ='Հավելված 2'!H28 -> -937487.96 | L12: ='Հավելված 2'!I28 -> -937487.96
F13: Թվային փոխակերպման գործընթացի շրջանակներում թվայնացման համակարգերի ներդրում և կայքերի արդիականացում
G14: Պետական մարմինների կողմից օգտագործվող ոչ ֆինանսական ակտիվների հետ գործառնություններ
H15: Ակտիվն օգտագործող կազմակերպության անվանումը` Հանրային իշխանության մարմիններ
A16: ՀՀ ներքին գործերի նախարարություն | J16: ='Հավելված 1'!G12 -> 663871.4 | K16: =J16 -> 663871.4 | L16: =K16 -> 663871.4
B17: 1234 | C17: Ներքին գործերի նախարարության ոլորտի քաղաքականության մշակում, կառավարում, կենտրոնացված միջոցառումներ, մոնիտորինգ և վերահսկողություն | J17: =J18 -> 663871.4 | K17: =K18 -> 663871.4 | L17: =L18 -> 663871.4
D18: 1234 - 11005 | E18: Ճանապարհային երթևեկության անվտանգության ապահովում և ճանապարհատրանսպորտային պատահարների կանխարգելում, տրանսպորտային միջոցների պետական հաշվառում | J18: 663871.4 | K18: 663871.4 | L18: 663871.4
F19: Ճանապարհային երթևեկության կարգավորում, ճանապարհապարեկային ծառայության իրականացում, ճանապարհատրանսպորտային պատահարների և վարչական իրավախախտումների պետական հաշվառում, վարորդական վկայականների և տրանսպորտային միջոցների պետհամարանիշերի տրամադրում
G20: Ծառայությունների մատուցում
H21: Ծառայությունը մատուցողի անվանումը` ՀՀ ՆԳՆ <<Ճանապարհային ոստիկանություն>> ծառայություն, պարեկային ծառայություն
A22: ՀՀ արդարադատության նախարարության հարկադիր կատարումն ապահովող ծառայություն | J22: ='Հավելված 1'!G15 -> 273616.56 | K22: =J22 -> 273616.56 | L22: =K22 -> 273616.56
B23: 1182 | C23: Հարկադիր կատարման ծառայություններ | J23: =J24 -> 273616.56 | K23: 273623.56 | L23: =L24 -> 273616.56
D24: 1182 - 11001 | E24: Հարկադիր կատարման ենթակա ակտերի կատարումն ապահովող ծառայություններ | J24: 273616.56 | K24: 273616.56 | L24: 273616.56
F25: Դատական ակտերի, կատարողական թերթերի, կատարողական մակագրության թերթերի և անբողոքարկելի վարչական ակտերի պահանջների կատարման ապահովում:
G26: Ծառայությունների մատուցում
G27: Ծառայությունը մատուցողի անվանումը` ՀՀ արդարադատության նախարարության հարկադիր կատարումն ապահովող ծառայություն

Sheet Հավելված 7
E1: Հավելված N 7
E2: ՀՀ կառավարության 2025 թվականի
E3: ———————— N -Ն որոշման
A5: ՀԱՅԱՍՏԱՆԻ ՀԱՆՐԱՊԵՏՈՒԹՅԱՆ ԿԱՌԱՎԱՐՈՒԹՅԱՆ 2024ԹՎԱԿԱՆԻ ԴԵԿՏԵՄԲԵՐԻ 27-Ի N 2060-Ն ՈՐՈՇՄԱՆ N 10 ՀԱՎԵԼՎԱԾՈՒՄ ԿԱՏԱՐՎՈՂ ՓՈՓՈԽՈՒԹՅՈՒՆՆԵՐԸ
A7: Կոդը | B7: Անվանումը | C7: Գնման ձևը | D7: Չափի միավորը | E7: միավորի գինը | F7: Ցուցանիշների փոփոխությունը (ավելացումները նշված են դրական նշանով)
F8: քանակը | G8: գումարը (հազար դրամով)
A9: 1 | B9: 2 | C9: 3 | D9: 4 | E9: 5 | F9: 6 | G9: 7
A10: ՀՀ ներքին գործերի նախարարություն | G10: =+G12 -> 663871.4
A11: Բաժին N 03 | B11: Խումբ N 01 | C11: Դաս N 01 | D11: Ոստիկանություն | G11: =G12 -> 663871.4
A12: 1234 11005 | B12: Ճանապարհային երթևեկության անվտանգության ապահովում և ճանապարհատրանսպորտային պատահարների կանխարգելում, տրանսպորտային միջոցների պետական հաշվառում | G12: =+G14 -> 663871.4
B13: ՄԱՍ III. ԾԱՌԱՅՈՒԹՅՈՒՆՆԵՐ | G13: =G14 -> 663871.4
A14: 64111200-1 | B14: փոստային ծառայություններ` կապված նամակների հետ | C14: ՄԱ | D14: դրամ | G14: 663871.4
A15: ՀՀ արդարադատության նախարարության հարկադիր կատարումն ապահովող ծառայություն | G15: =G16 -> 273616.6
A16: Բաժին N 03 | B16: Խումբ N 03 | C16: Դաս N 01 | D16: Դատարաններ | G16: =G17 -> 273616.6
A17: 1182 11001 | B17: Հարկադիր կատարման ենթակա ակտերի կատարումն ապահովող ծառայություններ | G17: =+G19 -> 273616.6
B18: ՄԱՍ III. ԾԱՌԱՅՈՒԹՅՈՒՆՆԵՐ | G18: =G19 -> 273616.6
A19: 64111200-1 | B19: փոստային ծառայություններ` կապված նամակների հետ | C19: ՄԱ | D19: դրամ | G19: 273616.6
