Workbook
Name a: #REF!
Name a: #REF!
Name a: #REF!
Name AgencyCode: #REF!
Name AgencyCode: #REF!
Name AgencyCode: #REF!
Name AgencyCode: #REF!
Name AgencyCode: #REF!
Name AgencyCode: #REF!
Name AgencyName: #REF!
Name AgencyName: #REF!
Name AgencyName: #REF!
Name åû: #REF!
Name davit: #REF!
Name davit: #REF!
Name Functional1: #REF!
Name Functional1: #REF!
Name Functional1: #REF!
Name ggg: #REF!
Name ggg: #REF!
Name hav: #REF!
Name mas: #REF!
Name mass: #REF!
Name PANature: #REF!
Name PANature: #REF!
Name PANature: #REF!
Name PAType: #REF!
Name PAType: #REF!
Name PAType: #REF!
Name Performance2: #REF!
Name Performance2: #REF!
Name Performance2: #REF!
Name PerformanceType: #REF!
Name PerformanceType: #REF!
Name PerformanceType: #REF!
Name x: #REF!
Name Հավելված: #REF!
Name Հավելված: #REF!
Name Հավելված10: #REF!
Name Հավելված10: #REF!
Name Հավելված11: #REF!
Name Հավելված11: #REF!
Name Հավելված20: #REF!
Name Հավելված20: #REF!
Name Հավելված9: #REF!
Name Հավելված9: #REF!
Name Մաս: #REF!
Name Մաս: #REF!
Name շախմատիստ: #REF!
Name շախմատիստ: #REF!
Name վֆյգյգ: #REF!

Sheet Հավելված N 1
F1: Հավելված N 1
F2: ՀՀ կառավարության 2025 թվականի
F3: ______________ ի ___Ն որոշման
A6: «ՀԱՅԱUՏԱՆԻ ՀԱՆՐԱՊԵՏՈՒԹՅԱՆ 2025 ԹՎԱԿԱՆԻ ՊԵՏԱԿԱՆ ԲՅՈՒՋԵԻ ՄԱUԻՆ» ՀԱՅԱUՏԱՆԻ ՀԱՆՐԱՊԵՏՈՒԹՅԱՆ OՐԵՆՔԻ N 1 ՀԱՎԵԼՎԱԾԻ N 2 ԱՂՅՈՒՍԱԿՈՒՄ ԿԱՏԱՐՎՈՂ ՎԵՐԱԲԱՇԽՈՒՄԸ ԵՎ ՀԱՅԱՍՏԱՆԻ ՀԱՆՐԱՊԵՏՈՒԹՅԱՆ ԿԱՌԱՎԱՐՈՒԹՅԱՆ 2024 ԹՎԱԿԱՆԻ ԴԵԿՏԵՄԲԵՐԻ 27-Ի N 2060-Ն ՈՐՈՇՄԱՆ N 5 ՀԱՎԵԼՎԱԾԻ N 1 ԱՂՅՈՒՍԱԿՈՒՄ ԿԱՏԱՐՎՈՂ ՓՈՓՈԽՈՒԹՅՈՒՆՆԵՐԸ ԵՎ ԼՐԱՑՈՒՄՆԵՐԸ
I9: հազ. դրամներով
A10: ԲԳԿ | B10: Ծրագրային դասիչը | D10: ԲԳԿ/Ծրագրի /միջոցառման անվանումը | E10: Ծրագրի նպատակը/Միջոցառման նկարագրությունը | F10: Վերջնական արդյունքի նկարագրությունը/Միջոցառման տեսակը | G10: Ցուցանիշների փոփոխությունը (ավելացումները նշված են դրական նշանով, իսկ նվազեցումները փակագծերում)
G11: Առաջին կիսամյակ | H11: Ինն ամիս | I11: Տարի
B12: Ծրագիր | C12: Միջոցառում
A13: ԸՆԴԱՄԵՆԸ | G13: =+G15 -> 0 | H13: =+H15 -> 4.3655746e-11 | I13: =+I15 -> 4.3655746e-11
A14: այդ թվում՝
A15: ՀՀ ԿՐԹՈՒԹՅԱՆ, ԳԻՏՈՒԹՅԱՆ, ՄՇԱԿՈՒՅԹԻ ԵՎ ՍՊՈՐՏԻ ՆԱԽԱՐԱՐՈՒԹՅՈՒՆ | G15: =+G16+G19+G22+G25+G27+G29 -> 0 | H15: =+H16+H19+H22+H25+H27+H29 -> 4.3655746e-11 | I15: =+I16+I19+I22+I25+I27+I29 -> 4.3655746e-11
B16: 1045 | D16: Մասնագիտական կրթության և ուսուցման ծրագիր | E16: Աշխատաշուկայի արդի պահանջներին համապատասխան արհեստագործական և միջին մասնագիտական կրթության որակավորում ունեցող մասնագետների պատրաստում, կրթության մատչելիության ապահովում: | F16: Արհեստագործական և միջին մասնագիտական կրթության գրավչության բարձրացում, մատչելի և մրցունակ արհեստագործական և միջին մասնագիտական կրթության ապահովում | G16: =+G17+G18 -> -99456 | H16: =+H17+H18 -> 0 | I16: =+I17+I18 -> 0
C17: 1045 - 32001 | D17: Մասնագիտական ուսումնական հաստատությունների շենքային պայմանների բարելավում | E17: Մասնագիտական ուսումնական հաստատությունների շենքերի հիմնանորոգման և նախագծման (շինարարական աշխատանքներ, ջեռուցման համակարգի ստեղծում, ներքին հարդարում, տարածքի բարեկարգում) աշխատանքների իրականացում | F17: Այլ պետական կազմակերպությունների կողմից օգտագործվող ոչ ֆինանսական ակտիվների հետ գործառնություններ | G17: =+'Հավելված N 2'!G154 -> -37296 | H17: =+'Հավելված N 2'!H154 -> 0 | I17: =+'Հավելված N 2'!I154 -> 0
C18: 1045 - 32005 | D18: Մասնագիտական ուսումնական հաստատությունների շենքերի կառուցում | E18: Մասնագիտական ուսումնական հաստատությունների շենքերի (մասնաշենքերի) կառուցման և նախագծման աշխատանքների իրականացում | F18: Այլ պետական կազմակերպությունների կողմից օգտագործվող ոչ ֆինանսական ակտիվների հետ գործառնություններ | G18: =+'Հավելված N 2'!G163 -> -62160 | H18: =+'Հավելված N 2'!H163 -> 0 | I18: =+'Հավելված N 2'!I163 -> 0
B19: 1075 | D19: Մշակութային ժառանգության ծրագիր | E19: Մշակութային ժառանգության պահպանում, օգտագործում, համալրում և հանրահռչակում | F19: Մշակութային ժառանգության շարունակական պահպանում, մշակութային զբոսաշրջության զարգացում և խթանում | G19: =+G20+G21 -> -141579.6 | H19: =+H20+H21 -> 0 | I19: =+I20+I21 -> 0
C20: 1075 - 21001 | D20: Հուշարձանների ամրակայում, նորոգում և վերականգնում | E20: Հուշարձանների գիտանախագծային փաստաթղթերի կազմում, հրատապ ուսումնասիրում, վավերագրման և ուսումնասիրման աշխատանքներ, հետախուզում և հնագիտական պեղում, ամրակայում, նորոգում և վերականգնում | F20: Հանրության կողմից անմիջականորեն օգտագործվող ակտիվների հետ կապված միջոցառումներ | G20: =+'Հավելված N 2'!G40 -> -39579.6 | H20: =+'Հավելված N 2'!H40 -> 0 | I20: =+'Հավելված N 2'!I40 -> 0
C21: 1075 - 32012 | D21: Թանգարանների համար նոր շենքերի կառուցում | E21: Թանգարանների շենքերի, մասնաշենքերի կառուցում և նախագծում, նորաստեղծ թանգարանների նորակառույց շենքերով ապահովում | F21: Այլ պետական կազմակերպությունների կողմից օգտագործվող ոչ ֆինանսական ակտիվների հետ գործառնություններ | G21: =+'Հավելված N 2'!G28 -> -102000 | H21: =+'Հավելված N 2'!H28 -> 0 | I21: =+'Հավելված N 2'!I28 -> 0
B22: 1163 | D22: Մասսայական սպորտ | E22: Բնակչության շրջանում առողջ ապրելակերպի արմատավորում, անհատի բազմակողմանի ու ներդաշնակ զարգացման գործում ֆիզիկական կուլտուրայի և սպորտի դերի բարձրացում | F22: Սպորտի նկատմամբ հետաքրքրվածության և մասնակցության ընդլայնում | G22: =+G23+G24 -> -328763.7 | H22: =+H23+H24 -> 0 | I22: =+I23+I24 -> 0
C23: 1163 - 12001 | D23: Աջակցություն համայնքներին մարզական հաստատությունների շենքային պայմանների բարելավման համար | E23: Համայնքային ենթակայության մարզական հաստատությունների վերանորոգում և կառուցում | F23: Տրանսֆերտների տրամադրում | G23: =+'Հավելված N 2'!G174 -> -86005.2 | H23: =+'Հավելված N 2'!H174 -> 0 | I23: =+'Հավելված N 2'!I174 -> 0
C24: 1163 - 32001 | D24: Մարզական օբյեկտների շինարարություն | E24: Մարզական օբյեկտների շենքերի (մասնաշենքերի) կառուցում (համաշինարարական աշխատանքներ, ջեռուցման համակարգի իրականացում, ներքին հարդարում, տարածքի բարեկարգում) և նախագծում | F24: Այլ պետական կազմակերպությունների կողմից օգտագործվող ոչ ֆինանսական ակտիվների հետ գործառնություններ | G24: =+'Հավելված N 2'!G183 -> -242758.5 | H24: =+'Հավելված N 2'!H183 -> 0 | I24: =+'Հավելված N 2'!I183 -> 0
B25: 1183 | D25: Ապահով դպրոց | E25: Դպրոցներին սպառնացող աղետների ռիսկի կառավարման կարողությունների հզորացում, դպրոցի անձնակազմի և աշակերտների անվտանգության ապահովման մակարդակի բարձրացում՛ կիրառելով ներառական և երեխայակենտրոն մոտեցում | F25: Դպրոցական միջավայրի բարելավում | G25: =+G26 -> -76282.8 | H25: =+H26 -> 0 | I25: =+I26 -> 0
C26: 1183 - 32009 | D26: Հանրակրթական կրթություն իրականացնող ուսումնական հաստատությունների մարզադահլիճների վերակառուցում | E26: Հանրակրթական ուսուցում իրականացնող ուսումնական հաստատությունների մարզադահլիճների վերակառուցման նախագծանախահաշվային փաստաթղթերի մշակում | F26: Այլ պետական կազմակերպությունների կողմից օգտագործվող ոչ ֆինանսական ակտիվների հետ գործառնություններ | G26: =+'Հավելված N 2'!G196 -> -76282.8 | H26: =+'Հավելված N 2'!H196 -> 0 | I26: =+'Հավելված N 2'!I196 -> 0
B27: 1189 | D27: Դպրոցների սեյսմիկ անվտանգության մակարդակի բարձրացման ծրագիր | E27: Նպաստել երկրի սեյսմակայունության ապահովմանը, անհատական և հասարակական անվտանգության մակարդակի բարձրացմանը | F27: Դպրոցական շենքերի սեյսմակայունության մակարդակի բարձրացում | G27: =+G28 -> 10000 | H27: =+H28 -> 10000 | I27: =+I28 -> 10000
C28: 1189 - 11001 | D28: Ասիական զարգացման բանկի աջակցությամբ իրականացվող դպրոցների սեյսմիկ պաշտպանության ծրագրի կառավարում | E28: Դպրոցների սեյսմիկ պաշտպանության ծրագիր` ՀՀ դպրոցների սեյսմիկ անվտանգության բարելավման նպատակով | F28: Ծառայությունների մատուցում | G28: =+'Հավելված N 2'!G207 -> 10000 | H28: =+'Հավելված N 2'!H207 -> 10000 | I28: =+'Հավելված N 2'!I207 -> 10000
B29: 1236 | D29: Հանրակրթական և նախադպրոցական հաստատությունների հիմնում, կառուցում, բարելավում | E29: Առնվազն 300 դպրոցի և 500 մանկապարտեզի կառուցման, վերակառուցման, հիմնանորոգման ծրագրերի իրականացում ՀՀ պետական բյուջեի միջոցների շրջանակներում | F29: Կրթական միջավայրի բարելավում | G29: =+G30+G31+G32+G33+G34 -> 636082.1 | H29: =+H30+H31+H32+H33+H34 -> -10000 | I29: =+I30+I31+I32+I33+I34 -> -10000
C30: 1236 - 11001 | D30: Հանրակրթական և նախադպրոցական հաստատությունների կառուցման, վերակառուցման, հիմնանորոգման ծրագրերի համակարգման և մոնիտորինգի ծառայություններ | E30: Հանրակրթական և նախադպրոցական հաստատություններիկառուցման, վերակառուցման, հիմնանորոգման ծրագրերիհամակարգման և մոնիտորինգի ծառայությունների ապահովում | F30: Ծառայությունների մատուցում | G30: =+'Հավելված N 2'!G85 -> 70850 | H30: =+'Հավելված N 2'!H85 -> 261463.9 | I30: =+'Հավելված N 2'!I85 -> 486378.9
C31: 1236 - 32001 | D31: Մանկապարտեզների նոր շենքերի կառուցում | E31: Նախադպրոցական կրթության հասանելիության ապահովման նպատակով՛ մանկապարտեզների հիմնում, նոր շենքերի (մասնաշենքերի), ներառյալ` «Մոդուլային» տիպի շենքերի կառուցում և նախագծում | F31: Այլ պետական կազմակերպությունների կողմից օգտագործվող ոչ ֆինանսական ակտիվների հետ գործառնություններ | G31: =+'Հավելված N 2'!G59 -> 38838.5 | H31: =+'Հավելված N 2'!H67 -> 103569.3 | I31: =+'Հավելված N 2'!I67 -> 129461.6
C32: 1236 - 32002 | D32: Մանկապարտեզների շենքերի վերակառուցում, հիմնանորոգում | E32: Նախադպրոցական կրթության հասանելիության ապահովման նպատակով՛ մանկապարտեզների շենքերի (մասնաշենքերի), վերակառուցում, հիմնանորոգում և նախագծում | F32: Այլ պետական կազմակերպությունների կողմից օգտագործվող ոչ ֆինանսական ակտիվների հետ գործառնություններ | G32: =+'Հավելված N 2'!G68 -> -137093.5 | H32: =+'Հավելված N 2'!H68 -> -626765.9 | I32: =+'Հավելված N 2'!I68 -> -781573.8
C33: 1236 - 32003 | D33: Հանրակրթական դպրոցների նոր շենքերի կառուցում | E33: ՀՀ մարզերում կրթական որակյալ ծառայությունների հասանելիության ապահովման ծրագրի շրջանակներում հանրակրթական և նախադպրոցական կրթության հասանելիության ապահովման նպատակով կրթական կենտրոնների կառուցում | F33: Այլ պետական կազմակերպությունների կողմից օգտագործվող ոչ ֆինանսական ակտիվների հետ գործառնություններ | G33: =+'Հավելված N 2'!G110 -> -67236.7 | H33: =+'Հավելված N 2'!H110 -> 189947.5 | I33: =+'Հավելված N 2'!I110 -> 93948.1
C34: 1236 - 32004 | D34: Հանրակրթական դպրոցների շենքերի վերակառուցում, հիմնանորոգում | E34: Դպրոցական պարտադիր կրթության հասանելիության ապահովման նպատակով՛ հանրակրթական դպրոցների շենքերի (մասնաշենքերի), վերակառուցում, հիմնանորոգում և նախագծում | F34: Այլ պետական կազմակերպությունների կողմից օգտագործվող ոչ ֆինանսական ակտիվների հետ գործառնություններ | G34: =+'Հավելված N 2'!G126 -> 730723.8 | H34: =+'Հավելված N 2'!H126 -> 61785.2 | I34: =+'Հավելված N 2'!I126 -> 61785.2

Sheet Հավելված N 2
F1: Հավելված N 2
F2: ՀՀ կառավարության 2025 թվականի
F3: ______________ ի ___Ն որոշման
A7: ՀԱՅԱՍՏԱՆԻ ՀԱՆՐԱՊԵՏՈՒԹՅԱՆ ԿԱՌԱՎԱՐՈՒԹՅԱՆ 2024 ԹՎԱԿԱՆԻ ԴԵԿՏԵՄԲԵՐԻ 27-Ի N 2060-Ն ՈՐՈՇՄԱՆ N 3 ԵՎ N 4 ՀԱՎԵԼՎԱԾՆԵՐՈՒՄ ԿԱՏԱՐՎՈՂ ՓՈՓՈԽՈՒԹՅՈՒՆԸ ԵՎ ԼՐԱՑՈՒՄՆԵՐԸ
I10: հազ. դրամներով
A11: Գործառական դասիչը | D11: Ծրագրային դասիչը | F11: Բյուջետային հատկացումների գլխավոր կարգադրիչների, ծրագրերի, միջոցառումների և միջոցառումները կատարող պետական մարմինների անվանումները | G11: Ցուցանիշների փոփոխությունը (ավելացումները նշված են դրական նշանով, իսկ նվազեցումները՝ փակագծերում)
A12: Բաժին | B12: Խումբ | C12: Դաս | D12: Ծրագիր | E12: Միջոցառում | G12: Առաջին կիսամյակ | H12: Ինն ամիս | I12: Տարի
F13: ԸՆԴԱՄԵՆԸ | G13: =+G15 -> 0 | H13: =+H15 -> 0 | I13: =+I15 -> 0
F14: այդ թվում՝
F15: ՀՀ ԿՐԹՈՒԹՅԱՆ, ԳԻՏՈՒԹՅԱՆ, ՄՇԱԿՈՒՅԹԻ ԵՎ ՍՊՈՐՏԻ ՆԱԽԱՐԱՐՈՒԹՅՈՒՆ | G15: =+G16+G49 -> 0 | H15: =+H16+H49 -> 0 | I15: =+I16+I49 -> 0
A16: 08 | F16: ՀԱՆԳԻՍՏ, ՄՇԱԿՈՒՅԹ ԵՎ ԿՐՈՆ | G16: =+G18 -> -141579.6 | H16: =+H18 -> 0 | I16: =+I18 -> 0
F17: այդ թվում`
B18: 02 | F18: Մշակութային ծառայություններ | G18: =+G20+G34 -> -141579.6 | H18: =+H20+H34 -> 0 | I18: =+I20+I34 -> 0
F19: այդ թվում`
C20: 02 | F20: Թանգարաններ և ցուցասրահներ | G20: =+G22 -> -102000 | H20: =+H22 -> 0 | I20: =+I22 -> 0
F21: այդ թվում`
F22: ՀՀ կրթության, գիտության, մշակույթի և սպորտի նախարարություն | G22: =+G24 -> -102000 | H22: =+H24 -> 0 | I22: =+I24 -> 0
F23: այդ թվում`
D24: 1075 | E24: Մշակութային ժառանգության ծրագիր | G24: =+G26 -> -102000 | H24: =+H26 -> 0 | I24: =+I26 -> 0
F25: այդ թվում`
E26: 32012 | F26: Թանգարանների համար նոր շենքերի կառուցում | G26: =+G28 -> -102000 | H26: =+H28 -> 0 | I26: =+I28 -> 0
F27: այդ թվում` ըստ կատարողների
F28: ՀՀ կրթության, գիտության, մշակույթի և սպորտի նախարարություն | G28: =+G30 -> -102000 | H28: =+H30 -> 0 | I28: =+I30 -> 0
F29: այդ թվում՝ բյուջետային ծախսերի տնտեսագիտական դասակարգման հոդվածներ
F30: ԸՆԴԱՄԵՆԸ ԾԱԽՍԵՐ | G30: =+G31 -> -102000 | H30: =+H31 -> 0 | I30: =+I31 -> 0
F31: ԸՆԹԱՑԻԿ ԾԱԽՍԵՐ | G31: =+G32 -> -102000 | H31: =+H32 -> 0 | I31: =+I32 -> 0
F32: ԱՅԼ ԾԱԽՍԵՐ | G32: =+G33 -> -102000 | H32: =+H33 -> 0 | I32: =+I33 -> 0
F33: Հարկեր, պարտադիր վճարներ և տույժեր, որոնք կառավարման տարբեր մակարդակների կողմից կիրառվում են միմյանց նկատմամբ | G33: -102000 | H33: 0 | I33: 0
C34: 07 | F34: Հուշարձանների և մշակութային արժեքների վերականգնում և պահպանում | G34: =+G36 -> -39579.6 | H34: =+H36 -> 0 | I34: =+I36 -> 0
F35: այդ թվում`
F36: ՀՀ կրթության, գիտության, մշակույթի և սպորտի նախարարություն | G36: =+G38 -> -39579.6 | H36: =+H38 -> 0 | I36: =+I38 -> 0
F37: այդ թվում`
D38: 1075 | E38: Մշակութային ժառանգության ծրագիր | G38: =+G40 -> -39579.6 | H38: =+H40 -> 0 | I38: =+I40 -> 0
F39: այդ թվում`
E40: 21001 | F40: Հուշարձանների ամրակայում, նորոգում և վերականգնում | G40: =+G42 -> -39579.6 | H40: =+H42 -> 0 | I40: =+I42 -> 0
F41: այդ թվում` ըստ կատարողների
F42: ՀՀ կրթության, գիտության, մշակույթի և սպորտի նախարարություն | G42: =+G44 -> -39579.6 | H42: =+H44 -> 0 | I42: =+I44 -> 0
F43: այդ թվում՝ բյուջետային ծախսերի տնտեսագիտական դասակարգման հոդվածներ
F44: ԸՆԴԱՄԵՆԸ ԾԱԽՍԵՐ | G44: =+G45 -> -39579.6 | H44: =+H45 -> 0 | I44: =+I45 -> 0
F45: ՈՉ ՖԻՆԱՆՍԱԿԱՆ ԱԿՏԻՎՆԵՐԻ ԳԾՈՎ ԾԱԽՍԵՐ | G45: =+G46 -> -39579.6 | H45: =+H46 -> 0 | I45: =+I46 -> 0
F46: ՀԻՄՆԱԿԱՆ ՄԻՋՈՑՆԵՐ | G46: =+G47 -> -39579.6 | H46: =+H47 -> 0 | I46: =+I47 -> 0
F47: ՇԵՆՔԵՐ ԵՎ ՇԻՆՈՒԹՅՈՒՆՆԵՐ | G47: =+G48 -> -39579.6 | H47: =+H48 -> 0 | I47: =+I48 -> 0
F48: - Շենքերի և շինությունների կապիտալ վերանորոգում | G48: =+'Հավելված N 4'!E31 -> -39579.6 | H48: =+'Հավելված N 4'!F31 -> 0 | I48: =+'Հավելված N 4'!G31 -> 0
A49: 09 | F49: ԿՐԹՈՒԹՅՈՒՆ | G49: =+G51+G77+G146 -> 141579.6 | H49: =+H51+H77+H146 -> 0 | I49: =+I51+I77+I146 -> 0
F50: այդ թվում`
B51: 01 | F51: Նախադպրոցական և տարրական ընդհանուր կրթություն | G51: =+G53 -> -98255 | H51: =+H53 -> -523196.6 | I51: =+I53 -> -652112.2
F52: այդ թվում`
C53: 01 | F53: Նախադպրոցական կրթություն | G53: =+G55 -> -98255 | H53: =+H55 -> -523196.6 | I53: =+I55 -> -652112.2
F54: այդ թվում`
F55: ՀՀ կրթության, գիտության, մշակույթի և սպորտի նախարարություն | G55: =+G57 -> -98255 | H55: =+H57 -> -523196.6 | I55: =+I57 -> -652112.2
F56: այդ թվում`
D57: 1236 | E57: Հանրակրթական և նախադպրոցական հաստատությունների հիմնում, կառուցում, բարելավում | G57: =+G59+G68 -> -98255 | H57: =+H59+H68 -> -523196.6 | I57: =+I59+I68 -> -652112.2
F58: այդ թվում`
E59: 32001 | F59: Մանկապարտեզների նոր շենքերի կառուցում | G59: =+G61 -> 38838.5 | H59: =+H61 -> 103569.3 | I59: =+I61 -> 129461.6
F60: այդ թվում` ըստ կատարողների
F61: ՀՀ կրթության, գիտության, մշակույթի և սպորտի նախարարություն | G61: =+G63 -> 38838.5 | H61: =+H63 -> 103569.3 | I61: =+I63 -> 129461.6
F62: այդ թվում՝ բյուջետային ծախսերի տնտեսագիտական դասակարգման հոդվածներ
F63: ԸՆԴԱՄԵՆԸ ԾԱԽՍԵՐ | G63: =G64 -> 38838.5 | H63: =H64 -> 103569.3 | I63: =I64 -> 129461.6
F64: ՈՉ ՖԻՆԱՆՍԱԿԱՆ ԱԿՏԻՎՆԵՐԻ ԳԾՈՎ ԾԱԽՍԵՐ | G64: =+G65 -> 38838.5 | H64: =+H65 -> 103569.3 | I64: =+I65 -> 129461.6
F65: ՀԻՄՆԱԿԱՆ ՄԻՋՈՑՆԵՐ | G65: =+G66 -> 38838.5 | H65: =+H66 -> 103569.3 | I65: =+I66 -> 129461.6
F66: ՇԵՆՔԵՐ ԵՎ ՇԻՆՈՒԹՅՈՒՆՆԵՐ | G66: =+G67 -> 38838.5 | H66: =+H67 -> 103569.3 | I66: =+I67 -> 129461.6
F67: - Շենքերի և շինությունների շինարարություն | G67: =+'Հավելված N 4'!E71 -> 38838.5 | H67: =+'Հավելված N 4'!F71 -> 103569.3 | I67: =+'Հավելված N 4'!G71 -> 129461.6
E68: 32002 | F68: Մանկապարտեզների շենքերի վերակառուցում, հիմնանորոգում | G68: =+G70 -> -137093.5 | H68: =+H70 -> -626765.9 | I68: =+I70 -> -781573.8
F69: այդ թվում` ըստ կատարողների
F70: ՀՀ կառավարություն | G70: =+G72 -> -137093.5 | H70: =+H72 -> -626765.9 | I70: =+I72 -> -781573.8
F71: այդ թվում՝ բյուջետային ծախսերի տնտեսագիտական դասակարգման հոդվածներ
F72: ԸՆԴԱՄԵՆԸ ԾԱԽՍԵՐ | G72: =G73 -> -137093.5 | H72: =H73 -> -626765.9 | I72: =I73 -> -781573.8
F73: ՈՉ ՖԻՆԱՆՍԱԿԱՆ ԱԿՏԻՎՆԵՐԻ ԳԾՈՎ ԾԱԽՍԵՐ | G73: =+G74 -> -137093.5 | H73: =+H74 -> -626765.9 | I73: =+I74 -> -781573.8
F74: ՀԻՄՆԱԿԱՆ ՄԻՋՈՑՆԵՐ | G74: =+G75 -> -137093.5 | H74: =+H75 -> -626765.9 | I74: =+I75 -> -781573.8
F75: ՇԵՆՔԵՐ ԵՎ ՇԻՆՈՒԹՅՈՒՆՆԵՐ | G75: =+G76 -> -137093.5 | H75: =+H76 -> -626765.9 | I75: =+I76 -> -781573.8
F76: - Շենքերի և շինությունների կապիտալ վերանորոգում | G76: =+'Հավելված N 4'!E77 -> -137093.5 | H76: =+'Հավելված N 4'!F77 -> -626765.9 | I76: =+'Հավելված N 4'!G77 -> -781573.8
B77: 02 | F77: Միջնակարգ ընդհանուր կրթություն | G77: =+G79 -> 734337.1 | H77: =+H79 -> 513196.6 | I77: =+I79 -> 642112.2
F78: այդ թվում`
F79: Հիմնական ընդհանուր կրթություն | G79: =+G81 -> 734337.1 | H79: =+H81 -> 513196.6 | I79: =+I81 -> 642112.2
C80: 01 | F80: այդ թվում`
F81: ՀՀ կրթության, գիտության, մշակույթի և սպորտի նախարարություն | G81: =+G83 -> 734337.1 | H81: =+H83 -> 513196.6 | I81: =+I83 -> 642112.2
F82: այդ թվում`
D83: 1236 | E83: Հանրակրթական և նախադպրոցական հաստատությունների հիմնում, կառուցում, բարելավում | G83: =+G85+G110+G126 -> 734337.1 | H83: =+H85+H110+H126 -> 513196.6 | I83: =+I85+I110+I126 -> 642112.2
F84: այդ թվում`
E85: 11001 | F85: Հանրակրթական և նախադպրոցական հաստատությունների կառուցման, վերակառուցման, հիմնանորոգման ծրագրերի համակարգման և մոնիտորինգի ծառայություններ | G85: =+G87 -> 70850 | H85: =+H87 -> 261463.9 | I85: =+I87 -> 486378.9
F86: այդ թվում` ըստ կատարողների
F87: ՀՀ կրթության, գիտության, մշակույթի և սպորտի նախարարություն | G87: =+G89 -> 70850 | H87: =+H89 -> 261463.9 | I87: =+I89 -> 486378.9
F88: այդ թվում՝ բյուջետային ծախսերի տնտեսագիտական դասակարգման հոդվածներ
F89: ԸՆԴԱՄԵՆԸ ԾԱԽՍԵՐ | G89: =+G90 -> 70850 | H89: =+H90 -> 261463.9 | I89: =+I90 -> 486378.9
F90: ԸՆԹԱՑԻԿ ԾԱԽՍԵՐ | G90: =+G91+G95+G105 -> 70850 | H90: =+H91+H95+H105 -> 261463.9 | I90: =+I91+I95+I105 -> 486378.9
F91: ԱՇԽԱՏԱՆՔԻ ՎԱՐՁԱՏՐՈՒԹՅՈՒՆ | G91: =+G92 -> 61430 | H91: =+H92 -> 226173 | I91: =+I92 -> 443930
F92: ԴՐԱՄՈՎ ՎՃԱՐՎՈՂ ԱՇԽԱՏԱՎԱՐՁԵՐ ԵՎ ՀԱՎԵԼԱՎՃԱՐՆԵՐ | G92: =+G93+G94 -> 61430 | H92: =+H93+H94 -> 226173 | I92: =+I93+I94 -> 443930
F93: - Աշխատողների աշխատավարձեր և հավելավճարներ | G93: 61430 | H93: 226173 | I93: 396320
F94: - Պարգևատրումներ, դրամական խրախուսումներ և հատուկ վճարներ | G94: 0 | H94: 0 | I94: 47610
F95: ԾԱՌԱՅՈՒԹՅՈՒՆՆԵՐԻ ԵՎ ԱՊՐԱՆՔՆԵՐԻ ՁԵՌՔԲԵՐՈՒՄ | G95: =+G96+G98+G100+G102 -> 9420 | H95: =+H96+H98+H100+H102 -> 33290.9 | I95: =+I96+I98+I100+I102 -> 39448.9
F96: ՇԱՐՈՒՆԱԿԱԿԱՆ ԾԱԽՍԵՐ | G96: =+G97 -> 6720 | H96: =+H97 -> 6720 | I96: =+I97 -> 6720
F97: - Ապահովագրական ծախսեր | G97: =+I97 -> 6720 | H97: =+I97 -> 6720 | I97: =+'Հավելված N 8'!I29 -> 6720
F98: ԾԱՌԱՅՈՂԱԿԱՆ ԳՈՐԾՈՒՂՈՒՄՆԵՐԻ ԳԾՈՎ ԾԱԽՍԵՐ | G98: =+G99 -> 2400 | H98: =+H99 -> 9600 | I98: =+I99 -> 14400
F99: - Ներքին գործուղումներ | G99: 2400 | H99: 9600 | I99: 14400
F100: ԸՆԹԱՑԻԿ ՆՈՐՈԳՈՒՄ ԵՎ ՊԱՀՊԱՆՈՒՄ (ԾԱՌԱՅՈՒԹՅՈՒՆՆԵՐ ԵՎ ՆՅՈՒԹԵՐ) | G100: =+G101 -> 0 | H100: =+H101 -> 800 | I100: =+I101 -> 1600
F101: - Մեքենաների և սարքավորումների ընթացիկ նորոգում և պահպանում | G101: 0 | H101: 800 | I101: =+'Հավելված N 8'!I31 -> 1600
F102: ՆՅՈՒԹԵՐ (ԱՊՐԱՆՔՆԵՐ) | G102: =+G103+G104 -> 300 | H102: =+H103+H104 -> 16170.9 | I102: =+I103+I104 -> 16728.9
F103: - Գրասենյակային նյութեր և հագուստ | G103: 300 | H103: 600 | I103: =+'Հավելված N 8'!I22+'Հավելված N 8'!I23+'Հավելված N 8'!I24+'Հավելված N 8'!I25+'Հավելված N 8'!I26+'Հավելված N 8'!I27+'Հավելված N 8'!I30 -> 1158
F104: - Տրանսպորտային նյութեր | G104: 0 | H104: =+I104 -> 15570.9 | I104: =+'Հավելված N 8'!I21 -> 15570.9
F105: ԱՅԼ ԾԱԽՍԵՐ | G105: =+G106+G108 -> 0 | H105: =+H106+H108 -> 2000 | I105: =+I106+I108 -> 3000
...

Sheet Հավելված N 3
F1: Հավելված N 3
F2: ՀՀ կառավարության 2025 թվականի
F3: ______________ ի ___Ն որոշման
A5: «ՀԱՅԱUՏԱՆԻ ՀԱՆՐԱՊԵՏՈՒԹՅԱՆ 2025 ԹՎԱԿԱՆԻ ՊԵՏԱԿԱՆ ԲՅՈՒՋԵԻ ՄԱUԻՆ» ՀԱՅԱUՏԱՆԻ ՀԱՆՐԱՊԵՏՈՒԹՅԱՆ OՐԵՆՔԻ N 1 ՀԱՎԵԼՎԱԾԻ N 3 ԱՂՅՈՒՍԱԿՈՒՄ ԿԱՏԱՐՎՈՂ ՓՈՓՈԽՈՒԹՅՈՒՆՆԵՐԸ ԵՎ ԼՐԱՑՈՒՄՆԵՐԸ
G8: հազ. դրամներով
A9: Ծրագրային դասիչ | C9: Բյուջետային գլխավոր կարգադրիչների, ծրագրերի, միջոցառումների, միջոցառումները կատարող պետական մարմինների և ուղղությունների անվանումները | D9: Ընդամենը | E9: Ցուցանիշների փոփոխությունը (ավելացումները նշված են դրական նշանով, իսկ նվազեցումները՝ փակագծերում)
A10: Ծրագիր | B10: Միջոցառում | E10: Կառուցման աշխատանքներ | F10: Վերակառուցման, վերանորոգման և վերականգնման աշխատանքներ | G10: Նախագծահե- տազոտական, գեոդեզիա- քարտեզագրա- կան աշխա- տանքներ | H10: Ոչ ֆինանսական այլ ակտիվների ձեռքբերում
C11: ԸՆԴԱՄԵՆԸ | D11: =SUM(E11:H11) -> -652112.2 | E11: =+E13 -> 129461.6 | F11: =+F13 -> -781573.8 | G11: =+G13 -> 0 | H11: =+H13 -> 0
C12: այդ թվում՝
C13: ՀՀ ԿՐԹՈՒԹՅԱՆ, ԳԻՏՈՒԹՅԱՆ, ՄՇԱԿՈՒՅԹԻ ԵՎ ՍՊՈՐՏԻ ՆԱԽԱՐԱՐՈՒԹՅՈՒՆ | D13: =SUM(E13:H13) -> -652112.2 | E13: =+E15+E19 -> 129461.6 | F13: =+F15+F19 -> -781573.8 | G13: =+G15+G19 -> 0 | H13: =+H15+H19 -> 0
C14: այդ թվում`
A15: 1236 | B15: 32001 | C15: Մանկապարտեզների նոր շենքերի կառուցում | D15: =SUM(E15:H15) -> 129461.6 | E15: =+E17 -> 129461.6 | F15: =+F17 -> 0 | G15: =+G17 -> 0 | H15: =+H17 -> 0
C16: այդ թվում`
C17: ՀՀ Կոտայքի մարզ | D17: =SUM(E17:H17) -> 129461.6 | E17: =+E18 -> 129461.6 | F17: =+F18 -> 0 | G17: =+G18 -> 0 | H17: =+H18 -> 0
C18: Չարենցավան համայնքի Ֆանտան բնակավայրի մանկապարտեզ | D18: =+E18+F18+G18+H18 -> 129461.6 | E18: =+'Հավելված N 8'!I17 -> 129461.6
A19: 1236 | B19: 32002 | C19: Մանկապարտեզների շենքերի վերակառուցում, հիմնանորոգում | D19: =SUM(E19:H19) -> -781573.8 | E19: =+E21 -> 0 | F19: =+F21 -> -781573.8 | G19: =+G21 -> 0 | H19: =+H21 -> 0
C20: այդ թվում`
C21: Մանկապարտեզների շենքերի վերակառուցում, հիմնանորոգում | D21: =SUM(E21:H21) -> -781573.8 | E21: 0 | F21: =-D15-'Հավելված N 2'!I85-'Հավելված N 2'!I207-61785.2-93948.1 -> -781573.8 | G21: 0 | H21: 0
A22: 1236 | B22: 32003 | C22: Հանրակրթական դպրոցների նոր շենքերի կառուցում | D22: =SUM(E22:H22) -> 93948.1 | E22: =+E24+E26+E28+E30 -> 93948.1 | F22: =+F24+F26+F28+F30 -> 0 | G22: =+G24+G26+G28+G30 -> 0 | H22: =+H24+H26+H28+H30 -> 0
C23: այդ թվում`
C24: ՀՀ Արագածոտնի մարզ | D24: =SUM(E24:H24) -> 561000 | E24: =+E25 -> 561000 | F24: =+F25 -> 0 | G24: =+G25 -> 0 | H24: =+H25 -> 0
C25: գ. Նոր Եդեսիայի Ն. Շնորհալու անվ. միջնակարգ դպրոց | D25: =+E25+F25+G25+H25 -> 561000 | E25: =+'Հավելված N 8'!I34 -> 561000
C26: ՀՀ Արմավիրի մարզ | D26: =SUM(E26:H26) -> 250000 | E26: =+E27 -> 250000 | F26: =+F27 -> 0 | G26: =+G27 -> 0 | H26: =+H27 -> 0
C27: գ. Նոր Կեսարիայի միջնակարգ դպրոց | D27: =+E27+F27+G27+H27 -> 250000 | E27: =+'Հավելված N 8'!I35 -> 250000
C28: ՀՀ Գեղարքունիքի մարզ | D28: =SUM(E28:H28) -> -317274.8 | E28: =+E29 -> -317274.8 | F28: =+F29 -> 0 | G28: =+G29 -> 0 | H28: =+H29 -> 0
C29: «Վարդենիսի Հ. Համբարձումյանի անվան ավագ դպրոց» ՊՈԱԿ | D29: =+E29+F29+G29+H29 -> -317274.8 | E29: =+'Հավելված N 8'!I36+'Հավելված N 8'!I39+'Հավելված N 8'!I41 -> -317274.8
C30: ՀՀ Լոռու մարզ | D30: =SUM(E30:H30) -> -399777.1 | E30: =+E31 -> -399777.1 | F30: =+F31 -> 0 | G30: =+G31 -> 0 | H30: =+H31 -> 0
C31: «Ալավերդու Սայաթ Նովայի անվան թիվ 8 ավագ դպրոց» ՊՈԱԿ | D31: =+E31+F31+G31+H31 -> -399777.1 | E31: =+'Հավելված N 8'!I37+'Հավելված N 8'!I40+'Հավելված N 8'!I42 -> -399777.1

Sheet Հավելված N 4
F1: Հավելված N 4
E2: ՀՀ կառավարության 2025 թվականի
F3: ______________ ի ___Ն որոշման
B6: ՀԱՅԱՍՏԱՆԻ ՀԱՆՐԱՊԵՏՈՒԹՅԱՆ ԿԱՌԱՎԱՐՈՒԹՅԱՆ 2024 ԹՎԱԿԱՆԻ ԴԵԿՏԵՄԲԵՐԻ 27-Ի N 2060-Ն ՈՐՈՇՄԱՆ N 5 ՀԱՎԵԼՎԱԾԻ N 2 ԱՂՅՈՒՍԱԿՈՒՄ ԿԱՏԱՐՎՈՂ ՓՈՓՈԽՈՒԹՅՈՒՆՆԵՐԸ ԵՎ ԼՐԱՑՈՒՄՆԵՐԸ
G8: հազ. դրամներով
B9: Ծրագրային դասիչ | D9: Բյուջետային գլխավոր կարգադրիչների, ծրագրերի, միջոցառումների, միջոցառումները կատարող պետական մարմինների և ուղղությունների անվանումները | E9: Ցուցանիշների փոփոխությունը (ավելացումները նշված են դրական նշանով, իսկ նվազեցումները՝ փակագծերում)
B10: Ծրագիր | C10: Միջոցառում | E10: Առաջին կիսամյակ | F10: Ինն ամիս | G10: Տարի
D11: ՀՀ ԿՐԹՈՒԹՅԱՆ, ԳԻՏՈՒԹՅԱՆ, ՄՇԱԿՈՒՅԹԻ ԵՎ ՍՊՈՐՏԻ ՆԱԽԱՐԱՐՈՒԹՅՈՒՆ | E11: =+E13+E19+E27+E42+E48+E61+E69+E75+E78+E94 -> 21150 | F11: =+F13+F19+F27+F42+F48+F61+F69+F75+F78+F94 -> -333249.1 | G11: =+G13+G19+G27+G42+G48+G61+G69+G75+G78+G94 -> -558164.1
D12: այդ թվում՝
B13: 1045 | C13: 32001 | D13: Մասնագիտական ուսումնական հաստատությունների շենքային պայմանների բարելավում | E13: =+E15 -> -37296 | F13: =+F15 -> 0 | G13: =+G15 -> 0
D14: այդ թվում` ըստ կատարողների
D15: ՀՀ քաղաքաշինության կոմիտե | E15: =+E17 -> -37296 | F15: =+F17 -> 0 | G15: =+G17 -> 0
D16: այդ թվում`ըստ ուղղությունների
D17: ՀՀ Արարատի մարզ | E17: =+E18 -> -37296 | F17: =+F18 -> 0 | G17: =+G18 -> 0
D18: «Մասիսի պետական գյուղատնտեսական քոլեջ» ՊՈԱԿ | E18: =-36000-1080-216 -> -37296 | F18: 0 | G18: 0
B19: 1045 | C19: 32005 | D19: Մասնագիտական ուսումնական հաստատությունների շենքերի կառուցում | E19: =+E21 -> -62160 | F19: =+F21 -> 0 | G19: =+G21 -> 0
D20: այդ թվում` ըստ կատարողների
D21: ՀՀ քաղաքաշինության կոմիտե | E21: =E23+E25 -> -62160 | F21: =F23+F25 -> 0 | G21: =G23+G25 -> 0
D22: այդ թվում`ըստ ուղղությունների
D23: ՀՀ Լոռու մարզ | E23: =+E24 -> -31080 | F23: =+F24 -> 0 | G23: =+G24 -> 0
D24: «Ստեփանավանի պրոֆ. Քալանթարի անվան պետական գյուղատնտեսական քոլեջ» ՊՈԱԿ | E24: =-30000-900-180 -> -31080 | F24: 0 | G24: 0
D25: ՀՀ Տավուշի մարզ | E25: =+E26 -> -31080 | F25: =+F26 -> 0 | G25: =+G26 -> 0
D26: «Նոյեմբերյանի պետական քոլեջ» ՊՈԱԿ | E26: =-30000-900-180 -> -31080 | F26: 0 | G26: 0
B27: 1075 | C27: 21001 | D27: Հուշարձանների ամրակայում, նորոգում և վերականգնում | E27: =+E29 -> -39579.6 | F27: =+F29 -> 0 | G27: =+G29 -> 0
D28: այդ թվում` ըստ կատարողների
D29: ՀՀ կրթության, գիտության, մշակույթի և սպորտի նախարարություն | E29: =+E31 -> -39579.6 | F29: =+F31 -> 0 | G29: =+G31 -> 0
D30: այդ թվում՝ ըստ ուղղությունների
D31: 1. Վերականգնողական աշխատանքներ | E31: =+E33+E35+E37+E39 -> -39579.6 | F31: =+F33+F35+F37+F39 -> 0 | G31: =+G33+G35+G37+G39 -> 0
D32: որից`
D33: ՀՀ Գեղարքունիքի մարզ | E33: =SUM(E34:E34) -> -5611.1 | F33: =SUM(F34:F34) -> 0 | G33: =SUM(G34:G34) -> 0
D34: Բերդկունքի Սպիտակ բերդի նորոգում, ամրակայում և վերականգնում | E34: -5611.1
D35: ՀՀ Լոռու մարզ | E35: =SUM(E36:E36) -> -4132 | F35: =SUM(F36:F36) -> 0 | G35: =SUM(G36:G36) -> 0
D36: Ալավերդի համայնքի Կաճաճկուտ բնակավայրի Սեդվի վանական համալիրի փլուզված եռահարկ աշտարակի նորոգում, ամրակայում, վերականգնում և տարածքի բարեկարգում | E36: -4132
D37: ՀՀ Շիրակի մարզ | E37: =SUM(E38:E38) -> -13242.5 | F37: =SUM(F38:F38) -> 0 | G37: =SUM(G38:G38) -> 0
D38: Երերույքի տաճարի և փոքր դամբարանի թաղերի ամրակայում, Անիպեմզայի մշակույթի տան վերականգնում և փոքրիկ թանգարանի ստեղծում | E38: -13242.5
D39: ՀՀ Վայոց Ձորի մարզ | E39: =SUM(E40:E41) -> -16594 | F39: =SUM(F40:F41) -> 0 | G39: =SUM(G40:G41) -> 0
D40: Շատիվանքի վանական համալիրի ամրակայում, մասնակի վերականգնում և տարածքի բարեկարգում | E40: -8264
D41: Հորսի իշխան Չեսար Օրբելյանի ապարանքի ամրակայում, նորոգում, վերականգնում | E41: -8330
B42: 1163 | C42: 12001 | D42: Աջակցություն համայնքներին մարզական հաստատությունների շենքային պայմանների բարելավման համար | E42: =+E44 -> -86005.2 | F42: =+F44 -> 0 | G42: =+G44 -> 0
D43: այդ թվում` ըստ կատարողների
D44: ՀՀ քաղաքաշինության կոմիտե | E44: =+E46 -> -86005.2 | F44: =+F46 -> 0 | G44: =+G46 -> 0
D45: այդ թվում`ըստ ուղղությունների
D46: ՀՀ Շիրակի մարզ | E46: =+E47 -> -86005.2 | F46: =+F47 -> 0 | G46: =+G47 -> 0
D47: Արթուր Ալեքսանյանի անվան նոր սպորտային համալիր | E47: -86005.2 | F47: 0 | G47: 0
B48: 1163 | C48: 32001 | D48: Մարզական օբյեկտների շինարարություն | E48: =+E50 -> -242758.5 | F48: =+F50 -> 0 | G48: =+G50 -> 0
D49: այդ թվում` ըստ կատարողների
D50: ՀՀ քաղաքաշինության կոմիտե | E50: =+E52+E55+E57+E59 -> -242758.5 | F50: =+F52+F55+F57+F59 -> 0 | G50: =+G52+G55+G57+G59 -> 0
D51: այդ թվում`ըստ ուղղությունների
D52: Երևան քաղաք | E52: =+E53+E54 -> -96682.4 | F52: =+F53+F54 -> 0 | G52: =+G53+G54 -> 0
D53: Արթուր Աբրահամի անվան մարզահամալիր | E53: =-60000-1800-360 -> -62160 | F53: 0 | G53: 0
D54: «Երևանի օլիմպիական հերթափոխի պետական մարզական քոլեջ» ՊՈԱԿ (բռնցքամարտի և ձյուդոյի մարզադահլիճ) | E54: =-33322.8-999.7-199.9 -> -34522.4 | F54: 0 | G54: 0
D55: ՀՀ Արագածոտնի մարզ | E55: =+E56 -> -21756.1 | F55: =+F56 -> 0 | G55: =+G56 -> 0
D56: Ալագյազ համայնքում Մալխաս և Ռոման Ամոյանների անվան նոր մարզադպրոց | E56: =-20524.6-1231.5 -> -21756.1 | F56: 0 | G56: 0
D57: ՀՀ Վայոց Ձորի մարզ | E57: =+E58 -> -62160 | F57: =+F58 -> 0 | G57: =+G58 -> 0
D58: Մարզական համալիր Եղեգնաձորում | E58: =-60000-1800-360 -> -62160 | F58: 0 | G58: 0
D59: ՀՀ Տավուշի մարզ | E59: =+E60 -> -62160 | F59: =+F60 -> 0 | G59: =+G60 -> 0
D60: Մարզական համալիր Բերդում | E60: =-60000-1800-360 -> -62160 | F60: 0 | G60: 0
B61: 1183 | C61: 32009 | D61: Հանրակրթական կրթություն իրականացնող ուսումնական հաստատությունների մարզադահլիճների վերակառուցում | E61: =+E63 -> -76282.8 | F61: =+F63 -> 0 | G61: =+G63 -> 0
D62: այդ թվում` ըստ կատարողների
D63: ՀՀ քաղաքաշինության կոմիտե | E63: =+E65+E67 -> -76282.8 | F63: =+F65+F67 -> 0 | G63: =+G65+G67 -> 0
D64: այդ թվում`ըստ ուղղությունների
D65: ՀՀ Շիրակի մարզ | E65: =+E66 -> -38141.4 | F65: =+F66 -> 0 | G65: =+G66 -> 0
D66: «ք. Մարալիկի թիվ 1 միջնակարգ դպրոց» ՊՈԱԿ | E66: =-36477.1-1459.1-205.2 -> -38141.4 | F66: 0 | G66: 0
D67: ՀՀ Սյունիքի մարզ | E67: =+E68 -> -38141.4 | F67: =+F68 -> 0 | G67: =+G68 -> 0
D68: «ք. Գորիսի Ա.Բակունցի անվան թիվ 1 ավագ դպրոց»ՊՈԱԿ | E68: =-36477.1-1459.1-205.2 -> -38141.4 | F68: 0 | G68: 0
B69: 1236 | C69: 32001 | D69: Մանկապարտեզների նոր շենքերի կառուցում | E69: =+E71 -> 38838.5 | F69: =+F71 -> 103569.3 | G69: =+G71 -> 129461.6
D70: այդ թվում` ըստ կատարողների
D71: ՀՀ կրթության, գիտության, մշակույթի և սպորտի նախարարություն | E71: =+E73 -> 38838.5 | F71: =+F73 -> 103569.3 | G71: =+G73 -> 129461.6
D72: այդ թվում՝ ըստ ուղղությունների
D73: ՀՀ Կոտայքի մարզ | E73: =+E74 -> 38838.5 | F73: =+F74 -> 103569.3 | G73: =+G74 -> 129461.6
D74: =+'Հավելված N 3'!C18 -> Չարենցավան համայնքի Ֆանտան բնակավայրի մանկապարտեզ | E74: =+ROUND(G74*0.3,1) -> 38838.5 | F74: =+ROUND(G74*0.8,1) -> 103569.3 | G74: =+'Հավելված N 3'!D18 -> 129461.6
B75: 1236 | C75: 32002 | D75: Մանկապարտեզների շենքերի վերակառուցում, հիմնանորոգում | E75: =+E77 -> -137093.5 | F75: =+F77 -> -626765.9 | G75: =+G77 -> -781573.8
D76: այդ թվում` ըստ կատարողների
D77: ՀՀ կառավարություն | E77: =-E69-'Հավելված N 2'!G85-'Հավելված N 2'!G207-17405 -> -137093.5 | F77: =-F69-'Հավելված N 2'!H85-'Հավելված N 2'!H207+5451.5-257184.2 -> -626765.9 | G77: =+'Հավելված N 3'!D21 -> -781573.8
B78: 1236 | C78: 32003 | D78: Հանրակրթական դպրոցների նոր շենքերի կառուցում | E78: =+E80+E90 -> -67236.7 | F78: =+F80+F90 -> 189947.5 | G78: =+G80+G90 -> 93948.1
D79: այդ թվում` ըստ կատարողների
D80: ՀՀ կրթության, գիտության, մշակույթի և սպորտի նախարարություն | E80: =+E82+E84+E86+E88 -> 0 | F80: =+F82+F84+F86+F88 -> 257184.2 | G80: =+G82+G84+G86+G88 -> 93948.1
D81: այդ թվում`ըստ ուղղությունների
D82: ՀՀ Արագածոտնի մարզ | E82: =+E83 -> 31776.9 | F82: =+F83 -> 325705.4 | G82: =+G83 -> 561000
D83: =+'Հավելված N 3'!C25 -> գ. Նոր Եդեսիայի Ն. Շնորհալու անվ. միջնակարգ դպրոց | E83: =159948.3-128171.4 -> 31776.9 | F83: =360474-34768.6 -> 325705.4 | G83: =+'Հավելված N 3'!D25 -> 561000
D84: ՀՀ Արմավիրի մարզ | E84: =+E85 -> 150000 | F84: =+F85 -> 200000 | G84: =+G85 -> 250000
D85: =+'Հավելված N 3'!C27 -> գ. Նոր Կեսարիայի միջնակարգ դպրոց | E85: 150000 | F85: 200000 | G85: =+'Հավելված N 3'!D27 -> 250000
D86: ՀՀ Գեղարքունիքի մարզ | E86: =+E87 -> -61843.8 | F86: =+F87 -> -103618.1 | G86: =+G87 -> -317274.8
D87: =+'Հավելված N 3'!C29 -> «Վարդենիսի Հ. Համբարձումյանի անվան ավագ դպրոց» ՊՈԱԿ | E87: -61843.8 | F87: -103618.1 | G87: =+'Հավելված N 3'!D29 -> -317274.8
D88: ՀՀ Լոռու մարզ | E88: =+E89 -> -119933.1 | F88: =+F89 -> -164903.1 | G88: =+G89 -> -399777.1
D89: =+'Հավելված N 3'!C31 -> «Ալավերդու Սայաթ Նովայի անվան թիվ 8 ավագ դպրոց» ՊՈԱԿ | E89: -119933.1 | F89: -164903.1 | G89: =+'Հավելված N 3'!D31 -> -399777.1
D90: ՀՀ քաղաքաշինության կոմիտե | E90: =+E92 -> -67236.7 | F90: =+F92 -> -67236.7 | G90: =+G92 -> 0
D91: այդ թվում`ըստ ուղղությունների
D92: ՀՀ Կոտայքի մարզ | E92: =+E93 -> -67236.7 | F92: =+F93 -> -67236.7 | G92: =+G93 -> 0
D93: «Հրազդանի Լևոն Խեչոյանի անվան թիվ 10 ավագ դպրոց» ՊՈԱԿ | E93: -67236.7 | F93: -67236.7
B94: 1236 | C94: 32004 | D94: Հանրակրթական դպրոցների շենքերի վերակառուցում, հիմնանորոգում | E94: =+E96+E100 -> 730723.8 | F94: =+F96+F100 -> 0 | G94: =+G96+G100 -> 0
D95: այդ թվում` ըստ կատարողների
D96: ՀՀ քաղաքաշինության կոմիտե | E96: =+E98 -> -45119.9 | F96: =+F98 -> 0 | G96: =+G98 -> 0
D97: այդ թվում`ըստ ուղղությունների
D98: Երևան քաղաք | E98: =+E99 -> -45119.9 | F98: =+F99 -> 0 | G98: =+G99 -> 0
D99: «Երևանի թիվ 22 հիմնական դպրոց» ՊՈԱԿ | E99: =-44378.7-345-396.2 -> -45119.9 | F99: 0 | G99: 0
D100: ՀՀ կրթության, գիտության, մշակույթի և սպորտի նախարարություն | E100: =736264.1+39579.6 -> 775843.7 | F100: 0 | G100: 0

Sheet Հավելված N 5
K1: Հավելված N 5
I2: ՀՀ կառավարության 2025 թվականի
K3: ______________ ի ___Ն որոշման
A6: «ՀԱՅԱՍՏԱՆԻ ՀԱՆՐԱՊԵՏՈՒԹՅԱՆ 2025 ԹՎԱԿԱՆԻ ՊԵՏԱԿԱՆ ԲՅՈՒՋԵԻ ՄԱՍԻՆ» ՕՐԵՆՔԻ N 1 ՀԱՎԵԼՎԱԾԻ N 4 ԱՂՅՈՒՍԱԿՈՒՄ ԵՎ ՀԱՅԱՍՏԱՆԻ ՀԱՆՐԱՊԵՏՈՒԹՅԱՆ ԿԱՌԱՎԱՐՈՒԹՅԱՆ 2024 ԹՎԱԿԱՆԻ ԴԵԿՏԵՄԲԵՐԻ 27-Ի N 2060-Ն ՈՐՈՇՄԱՆ N 5 ՀԱՎԵԼՎԱԾԻ N 3 ԱՂՅՈՒՍԱԿՈՒՄ ԿԱՏԱՐՎՈՂ ԼՐԱՑՈՒՄԸ
L8: հազ. դրամներով
A9: Ծրագրային դասիչը | C9: Բյուջետային հատկացումների գլխավոր կարգադրիչների, ծրագրերի, միջոցառումների և միջոցառումները կատարող պետական մարմինների անվանումները | D9: Ցուցանիշների փոփոխությունը (ավելացումները նշված են դրական նշանով, իսկ նվազեցումները՝ փակագծերում)
D10: Կիսամյակ | G10: Ինն ամիս | J10: Տարի
D11: Ընդամենը | E11: այդ թվում` | G11: Ընդամենը | H11: այդ թվում` | J11: Ընդամենը | K11: այդ թվում`
A12: Ծրագիր | B12: Միջոցառում | E12: Վարկային միջոցներ | F12: Համաֆինան սավորում | H12: Վարկային միջոցներ | I12: Համաֆինան սավորում | K12: Վարկային միջոցներ | L12: Համաֆինան սավորում
C13: ԸՆԴԱՄԵՆԸ | D13: =+E13+F13 -> 10000 | E13: =+E15 -> 0 | F13: =+F15 -> 10000 | G13: =+H13+I13 -> 10000 | H13: =+H15 -> 0 | I13: =+I15 -> 10000 | J13: =+K13+L13 -> 10000 | K13: =+K15 -> 0 | L13: =+L15 -> 10000
C14: այդ թվում`
C15: ՈՉ ՖԻՆԱՆՍԱԿԱՆ ԱԿՏԻՎՆԵՐԻ ԳԾՈՎ ԾԱԽՍԵՐ | D15: =+E15+F15 -> 10000 | E15: =+E16 -> 0 | F15: =+F16 -> 10000 | G15: =+H15+I15 -> 10000 | H15: =+H16 -> 0 | I15: =+I16 -> 10000 | J15: =+K15+L15 -> 10000 | K15: =+K16 -> 0 | L15: =+L16 -> 10000
C16: ՀՀ կրթության, գիտության, մշակույթի և սպորտի նախարարություն | D16: =+E16+F16 -> 10000 | E16: =+E18 -> 0 | F16: =+F18 -> 10000 | G16: =+H16+I16 -> 10000 | H16: =+H18 -> 0 | I16: =+I18 -> 10000 | J16: =+K16+L16 -> 10000 | K16: =+K18 -> 0 | L16: =+L18 -> 10000
C17: այդ թվում`
A18: 1189 | C18: Դպրոցների սեյսմիկ անվտանգության մակարդակի բարձրացման ծրագիր | D18: =+E18+F18 -> 10000 | E18: =+E20 -> 0 | F18: =+F20 -> 10000 | G18: =+H18+I18 -> 10000 | H18: =+H20 -> 0 | I18: =+I20 -> 10000 | J18: =+K18+L18 -> 10000 | K18: =+K20 -> 0 | L18: =+L20 -> 10000
C19: այդ թվում`
B20: 11001 | C20: Ասիական զարգացման բանկի աջակցությամբ իրականացվող դպրոցների սեյսմիկ պաշտպանության ծրագրի կառավարում | D20: =+E20+F20 -> 10000 | E20: =+E22 -> 0 | F20: =+F22 -> 10000 | G20: =+H20+I20 -> 10000 | H20: =+H22 -> 0 | I20: =+I22 -> 10000 | J20: =+K20+L20 -> 10000 | K20: =+K22 -> 0 | L20: =+L22 -> 10000
C21: այդ թվում` ըստ կատարողների
C22: ՀՀ տարածքային կառավարման և ենթակառուցվածքների նախարարություն | D22: =+E22+F22 -> 10000 | E22: =+E24 -> 0 | F22: =+F24 -> 10000 | G22: =+H22+I22 -> 10000 | H22: =+H24 -> 0 | I22: =+I24 -> 10000 | J22: =+K22+L22 -> 10000 | K22: =+K24 -> 0 | L22: =+L24 -> 10000
C23: այդ թվում` բյուջետային ծախսերի տնտեսագիտական դասակարգման հոդվածներ
C24: ԸՆԴԱՄԵՆԸ ԾԱԽՍԵՐ | D24: =+E24+F24 -> 10000 | E24: =+E25 -> 0 | F24: =+F25 -> 10000 | G24: =+H24+I24 -> 10000 | H24: =+H25 -> 0 | I24: =+I25 -> 10000 | J24: =+K24+L24 -> 10000 | K24: =+K25 -> 0 | L24: =+L25 -> 10000
C25: ԸՆԹԱՑԻԿ ԾԱԽՍԵՐ | D25: =+E25+F25 -> 10000 | E25: =+E26 -> 0 | F25: =+F26 -> 10000 | G25: =+H25+I25 -> 10000 | H25: =+H26 -> 0 | I25: =+I26 -> 10000 | J25: =+K25+L25 -> 10000 | K25: =+K26 -> 0 | L25: =+L26 -> 10000
C26: ԱՅԼ ԾԱԽՍԵՐ | D26: =+E26+F26 -> 10000 | E26: =+E27 -> 0 | F26: =+F27 -> 10000 | G26: =+H26+I26 -> 10000 | H26: =+H27 -> 0 | I26: =+I27 -> 10000 | J26: =+K26+L26 -> 10000 | K26: =+K27 -> 0 | L26: =+L27 -> 10000
C27: ՀԱՐԿԵՐ, ՊԱՐՏԱԴԻՐ ՎՃԱՐՆԵՐ ԵՎ ՏՈՒՅԺԵՐ, ՈՐՈՆՔ ԿԱՌԱՎԱՐՄԱՆ ՏԱՐԲԵՐ ՄԱԿԱՐԴԱԿՆԵՐԻ ԿՈՂՄԻՑ ԿԻՐԱՌՎՈՒՄ ԵՆ ՄԻՄՅԱՆՑ ՆԿԱՏՄԱՄԲ | D27: =+E27+F27 -> 10000 | E27: =+E28 -> 0 | F27: =+F28 -> 10000 | G27: =+H27+I27 -> 10000 | H27: =+H28 -> 0 | I27: =+I28 -> 10000 | J27: =+K27+L27 -> 10000 | K27: =+K28 -> 0 | L27: =+L28 -> 10000
C28: - Պարտադիր վճարներ | D28: =+E28+F28 -> 10000 | F28: 10000 | G28: =+H28+I28 -> 10000 | I28: 10000 | J28: =+K28+L28 -> 10000 | L28: 10000

Sheet Հավելված N 6
J1: Հավելված N 6
J2: ՀՀ կառավարության 2025 թվականի
J3: ______________ ի ___Ն որոշման
A6: ՀԱՅԱՍՏԱՆԻ ՀԱՆՐԱՊԵՏՈՒԹՅԱՆ ԿԱՌԱՎԱՐՈՒԹՅԱՆ 2024 ԹՎԱԿԱՆԻ ԴԵԿՏԵՄԲԵՐԻ 27-Ի N 2060-Ն ՈՐՈՇՄԱՆ N 9 ՀԱՎԵԼՎԱԾՈՒՄ ԿԱՏԱՐՎՈՂ ՓՈՓՈԽՈՒԹՅՈՒՆՆԵՐԸ ԵՎ ԼՐԱՑՈՒՄՆԵՐԸ
L8: =+'Հավելված N 5'!L8 -> հազ. դրամներով
A9: ԲԳԿ | B9: Ծրագիր | D9: Միջոցառում | H9: Իրականացնողը/ ակտիվն օգտագործողը/ շահառուի ընտրության չափորոշիչը | I9: Արդյունքային չափորոշիչը | J9: Ցուցանիշների փոփոխությունը (ավելացումները նշված են դրական նշանով, իսկ նվազեցումները՝ փակագծերում)
B10: Դասիչը | C10: Անվանումը | D10: Դասիչը | E10: Անվանումը | F10: Նկարագրությունը | G10: Տեսակը | J10: Առաջին կիսամյակ | K10: Ինն ամիս | L10: Տարի
A11: ԸՆԴԱՄԵՆԸ | J11: =+J13 -> 0 | K11: =+K13 -> 4.3655746e-11 | L11: =+L13 -> 4.3655746e-11
A12: այդ թվում՝
A13: ՀՀ ԿՐԹՈՒԹՅԱՆ, ԳԻՏՈՒԹՅԱՆ, ՄՇԱԿՈԻՅԹԻ ԵՎ ՍՊՈՐՏԻ ՆԱԽԱՐԱՐՈՒԹՅՈՒՆ | J13: =+J14+J26+J37+J50+J57+J63 -> 0 | K13: =+K14+K26+K37+K50+K57+K63 -> 4.3655746e-11 | L13: =+L14+L26+L37+L50+L57+L63 -> 4.3655746e-11
B14: 1045 | C14: Մասնագիտական կրթության և ուսուցման ծրագիր | J14: =+J15+J20 -> -99456 | K14: =+K15+K20 -> 0 | L14: =+L15+L20 -> 0
D15: 1045 - 32001 | E15: Մասնագիտական ուսումնական հաստատությունների շենքային պայմանների բարելավում | J15: =+'Հավելված N 1'!G17 -> -37296 | K15: =+'Հավելված N 1'!H17 -> 0 | L15: =+'Հավելված N 1'!I17 -> 0
F16: Մասնագիտական ուսումնական հաստատությունների շենքերի հիմնանորոգման և նախագծման (շինարարական աշխատանքներ, ջեռուցման համակարգի ստեղծում, ներքին հարդարում, տարածքի բարեկարգում) աշխատանքների իրականացում
G17: Այլ պետական կազմակերպությունների կողմից օգտագործվող ոչ ֆինանսական ակտիվների հետ գործառնություններ
H18: Ակտիվն օգտագործող կազմակերպությունների անվանումները` Մասնագիտական ուսումնական հաստատություններ
I19: Հիմնանորոգվող մասնագիտական ուսումնական հաստատությունների քանակ, հատ | J19: -1
D20: 1045 - 32005 | E20: Մասնագիտական ուսումնական հաստատությունների շենքերի կառուցում | J20: =+'Հավելված N 1'!G18 -> -62160 | K20: =+'Հավելված N 1'!H18 -> 0 | L20: =+'Հավելված N 1'!I18 -> 0
F21: Մասնագիտական ուսումնական հաստատությունների շենքերի (մասնաշենքերի) կառուցման և նախագծման աշխատանքների իրականացում
G22: Այլ պետական կազմակերպությունների կողմից օգտագործվող ոչ ֆինանսական ակտիվների հետ գործառնություններ
H23: Ակտիվն օգտագործող կազմակերպությունների անվանումները` Մասնագիտական ուսումնական հաստատություններ
I24: Կառուցվող մասնագիտական ուսումնական հաստատությունների քանակ, հատ | J24: -2
B26: 1075 | C26: Մշակութային ժառանգության ծրագիր | J26: =+J27+J32 -> -141579.6 | K26: =+K27+K32 -> 0 | L26: =+L27+L32 -> 0
D27: 1075 - 21001 | E27: Հուշարձանների ամրակայում, նորոգում և վերականգնում | J27: =+'Հավելված N 1'!G20 -> -39579.6 | K27: =+'Հավելված N 1'!H20 -> 0 | L27: =+'Հավելված N 1'!I20 -> 0
F28: Հուշարձանների գիտանախագծային փաստաթղթերի կազմում, հրատապ ուսումնասիրում, վավերագրման և ուսումնասիրման աշխատանքներ, հետախուզում և հնագիտական պեղում, ամրակայում, նորոգում և վերականգնում
G29: Հանրության կողմից անմիջականորեն օգտագործվող ակտիվների հետ կապված միջոցառումներ
H30: Ծառայությունը մատուցող կազմակերպության անվանումը` Մասնագիտացված կազմակերպություններ
I31: Հուշարձանների ամրակայման, նորոգման և վերականգնման աշխատանքներ, քանակ | J31: -5
D32: 1075 - 32012 | E32: Թանգարանների համար նոր շենքերի կառուցում | J32: =+'Հավելված N 1'!G21 -> -102000 | K32: =+'Հավելված N 1'!H21 -> 0 | L32: =+'Հավելված N 1'!I21 -> 0
F33: Թանգարանների շենքերի, մասնաշենքերի կառուցում և նախագծում, նորաստեղծ թանգարանների նորակառույց շենքերով ապահովում
G34: Այլ պետական կազմակերպությունների կողմից օգտագործվող ոչ ֆինանսական ակտիվների հետ գործառնություններ
H35: Ակտիվն օգտագործող կազմակերպության անվանումը` Թանգարաններ
B37: 1163 | C37: Մասսայական սպորտ | J37: =+J38+J43 -> -328763.7 | K37: =+K38+K43 -> 0 | L37: =+L38+L43 -> 0
D38: 1163 - 12001 | E38: Աջակցություն համայնքներին մարզական հաստատությունների շենքային պայմանների բարելավման համար | J38: =+'Հավելված N 1'!G23 -> -86005.2 | K38: =+'Հավելված N 1'!H23 -> 0 | L38: =+'Հավելված N 1'!I23 -> 0
F39: Համայնքային ենթակայության մարզական հաստատությունների վերանորոգում և կառուցում
G40: Տրանսֆերտների տրամադրում
H41: Շահառուների ընտրության չափորոշիչները` ՀՀ համայնքների ենթակայության մարզական հաստատությունների շենքային պայմանների բարելավման անհրաժեշտությունը
I42: Կառուցման ենթակա օբյեկտների թիվ, հատ | J42: -1
D43: 1163 - 32001 | E43: Մարզական օբյեկտների շինարարություն | J43: =+'Հավելված N 1'!G24 -> -242758.5 | K43: =+'Հավելված N 1'!H24 -> 0 | L43: =+'Հավելված N 1'!I24 -> 0
F44: Մարզական օբյեկտների շենքերի (մասնաշենքերի) կառուցում (համաշինարարական աշխատանքներ, ջեռուցման համակարգի իրականացում, ներքին հարդարում, տարածքի բարեկարգում) և նախագծում
G45: Այլ պետական կազմակերպությունների կողմից օգտագործվող ոչ ֆինանսական ակտիվների հետ գործառնություններ
H46: Ակտիվն օգտագործող կազմակերպության անվանումը` Մարզական հաստատություններ
I47: Նախագծանահաշվային փաստաթղթերի քանակ, հատ | J47: -1
I48: Կառուցման ենթակա օբյյեկտների թիվ, հատ | J48: -4
B50: 1183 | C50: Ապահով դպրոց | J50: =+J51 -> -76282.8 | K50: =+K51 -> 0 | L50: =+L51 -> 0
D51: 1183 - 32009 | E51: Հանրակրթական կրթություն իրականացնող ուսումնական հաստատությունների մարզադահլիճների վերակառուցում | J51: =+'Հավելված N 2'!G196 -> -76282.8 | K51: =+'Հավելված N 2'!H196 -> 0 | L51: =+'Հավելված N 2'!I196 -> 0
F52: Հանրակրթական ուսուցում իրականացնող ուսումնական հաստատությունների մարզադահլիճների վերակառուցման նախագծանախահաշվային փաստաթղթերի մշակում
G53: Այլ պետական կազմակերպությունների կողմից օգտագործվող ոչ ֆինանսական ակտիվների հետ գործառնություններ
H54: Ակտիվն օգտագործող կազմակերպությունների անվանումները` Հանրակրթական դպրոցներ
I55: հիմնանորոգվող ուսումնական հաստատությունների քանակ, հատ | J55: -2
B57: 1189 | C57: Դպրոցների սեյսմիկ անվտանգության մակարդակի բարձրացման ծրագիր | J57: =+J58 -> 10000 | K57: =+K58 -> 10000 | L57: =+L58 -> 10000
D58: 1189 - 11001 | E58: Ասիական զարգացման բանկի աջակցությամբ իրականացվող դպրոցների սեյսմիկ պաշտպանության ծրագրի կառավարում | J58: =+'Հավելված N 1'!G28 -> 10000 | K58: =+'Հավելված N 1'!H28 -> 10000 | L58: =+'Հավելված N 1'!I28 -> 10000
F59: Դպրոցների սեյսմիկ պաշտպանության ծրագիր` ՀՀ դպրոցների սեյսմիկ անվտանգության բարելավման նպատակով
G60: Ծառայությունների մատուցում
H61: Ծառայությունը մատուցողի անվանումը` Մասնագիտացված կազմակերպություն
B63: 1236 | C63: Հանրակրթական և նախադպրոցական հաստատությունների հիմնում, կառուցում, բարելավում | J63: =+J64+J68+J74+J78+J83 -> 636082.1 | K63: =+K64+K68+K74+K78+K83 -> -10000 | L63: =+L64+L68+L74+L78+L83 -> -10000
D64: 1236 - 11001 | E64: Հանրակրթական և նախադպրոցական հաստատությունների կառուցման, վերակառուցման, հիմնանորոգման ծրագրերի համակարգման և մոնիտորինգի ծառայություններ | J64: =+'Հավելված N 1'!G30 -> 70850 | K64: =+'Հավելված N 1'!H30 -> 261463.9 | L64: =+'Հավելված N 1'!I30 -> 486378.9
F65: Հանրակրթական և նախադպրոցական հաստատություններիկառուցման, վերակառուցման, հիմնանորոգման ծրագրերիհամակարգման և մոնիտորինգի ծառայությունների ապահովում
G66: Ծառայությունների մատուցում
H67: Միջոցառումն իրականացնողի անվանումը՝ Մասնագիտացված միավոր
D68: 1236 - 32001 | E68: Մանկապարտեզների նոր շենքերի կառուցում | J68: =+'Հավելված N 1'!G31 -> 38838.5 | K68: =+'Հավելված N 1'!H31 -> 103569.3 | L68: =+'Հավելված N 1'!I31 -> 129461.6
F69: Նախադպրոցական կրթության հասանելիության ապահովման նպատակով՛ մանկապարտեզների հիմնում, նոր շենքերի (մասնաշենքերի), ներառյալ` «Մոդուլային» տիպի շենքերի կառուցում և նախագծում
G70: Այլ պետական կազմակերպությունների կողմից օգտագործվող ոչ ֆինանսական ակտիվների հետ գործառնություններ
H71: Ակտիվն օգտագործող կազմակերպության անվանումը` Նախադպրոցական կրթություն իրականացնող ուսումնական հաստատություններ
I72: Կառուցվող մանկապարտեզների քանակ, հատ | J72: 1 | L72: 1
I73: Հաստատությունների քանակ, որոնց շինարարական աշխատանքների ավարտվածության աստիճանը 100 տոկոս է | L73: 1
D74: 1236 - 32002 | E74: Մանկապարտեզների շենքերի վերակառուցում, հիմնանորոգում | J74: =+'Հավելված N 1'!G32 -> -137093.5 | K74: =+'Հավելված N 1'!H32 -> -626765.9 | L74: =+'Հավելված N 1'!I32 -> -781573.8
F75: Նախադպրոցական կրթության հասանելիության ապահովման նպատակով՛ մանկապարտեզների շենքերի (մասնաշենքերի), վերակառուցում, հիմնանորոգում և նախագծում
G76: Այլ պետական կազմակերպությունների կողմից օգտագործվող ոչ ֆինանսական ակտիվների հետ գործառնություններ
H77: Ակտիվն օգտագործող կազմակերպության անվանումը` Նախադպրոցական կրթություն իրականացնող ուսումնական հաստատություններ
D78: 1236 - 32003 | E78: Հանրակրթական դպրոցների նոր շենքերի կառուցում | J78: =+'Հավելված N 1'!G33 -> -67236.7 | K78: =+'Հավելված N 1'!H33 -> 189947.5 | L78: =+'Հավելված N 1'!I33 -> 93948.1
F79: ՀՀ մարզերում կրթական որակյալ ծառայությունների հասանելիության ապահովման ծրագրի շրջանակներում հանրակրթական և նախադպրոցական կրթության հասանելիության ապահովման նպատակով կրթական կենտրոնների կառուցում
G80: Այլ պետական կազմակերպությունների կողմից օգտագործվող ոչ ֆինանսական ակտիվների հետ գործառնություններ
H81: Ակտիվն օգտագործող կազմակերպությունների անվանումները` Հանրակրթական դպրոցներ
I82: ՀՀ-ում կրթական որակյալ ծառայությունների հասանելիության ապահովման ծրագրի շրջանակներում կառուցվող ոչ մոդուլային դպրոցների թիվը, հատ | J82: -3 | L82: -2
D83: 1236 - 32004 | E83: Հանրակրթական դպրոցների շենքերի վերակառուցում, հիմնանորոգում | J83: =+'Հավելված N 1'!G34 -> 730723.8 | K83: =+'Հավելված N 1'!H34 -> 61785.2 | L83: =+'Հավելված N 1'!I34 -> 61785.2
F84: Դպրոցական պարտադիր կրթության հասանելիության ապահովման նպատակով՛ հանրակրթական դպրոցների շենքերի (մասնաշենքերի), վերակառուցում, հիմնանորոգում և նախագծում
G85: Այլ պետական կազմակերպությունների կողմից օգտագործվող ոչ ֆինանսական ակտիվների հետ գործառնություններ
H86: Ակտիվն օգտագործող կազմակերպությունների անվանումները` Հանրակրթական դպրոցներ
I87: Վերակառուցվող դպրոցների թիվը, հատ | J87: -1

Sheet Հավելված N 7
J1: Հավելված N 7
J2: ՀՀ կառավարության 2025 թվականի
J3: ______________ ի ___Ն որոշման
A6: ՀԱՅԱՍՏԱՆԻ ՀԱՆՐԱՊԵՏՈՒԹՅԱՆ ԿԱՌԱՎԱՐՈՒԹՅԱՆ 2024 ԹՎԱԿԱՆԻ ԴԵԿՏԵՄԲԵՐԻ 27-Ի N 2060-Ն ՈՐՈՇՄԱՆ N 9.1 ՀԱՎԵԼՎԱԾՈՒՄ ԿԱՏԱՐՎՈՂ ՓՈՓՈԽՈՒԹՅՈՒՆՆԵՐԸ ԵՎ ԼՐԱՑՈՒՄՆԵՐԸ
L8: =+'Հավելված N 6'!L8 -> հազ. դրամներով
A9: ԲՍԿ | B9: Ծրագիր | D9: Միջոցառում | H9: Իրականացնողը/ ակտիվն օգտագործողը/ շահառուի ընտրության չափորոշիչը | I9: Արդյունքային չափորոշիչը | J9: Ցուցանիշների փոփոխությունը (ավելացումները նշված են դրական նշանով, իսկ նվազեցումները՝ փակագծերում)
B10: Դասիչը | C10: Անվանումը | D10: Դասիչը | E10: Անվանումը | F10: Նկարագրությունը | G10: Տեսակը | J10: Առաջին կիսամյակ | K10: Ինն ամիս | L10: Տարի
A11: ԸՆԴԱՄԵՆԸ | J11: =+J13+J46+J53+J98 -> 0 | K11: =+K13+K46+K53+K98 -> 0 | L11: =+L13+L46+L53+L98 -> 0
A12: այդ թվում՝
A13: ՀՀ ԿՐԹՈՒԹՅԱՆ, ԳԻՏՈՒԹՅԱՆ, ՄՇԱԿՈԻՅԹԻ ԵՎ ՍՊՈՐՏԻ ՆԱԽԱՐԱՐՈՒԹՅՈՒՆ | J13: =+J14+J25 -> 743952.6 | K13: =+K14+K25 -> 622217.4 | L13: =+L14+L25 -> 709788.6
B14: 1075 | C14: Մշակութային ժառանգության ծրագիր | J14: =+J15+J20 -> -141579.6 | K14: =+K15+K20 -> 0 | L14: =+L15+L20 -> 0
D15: 1075 - 21001 | E15: Հուշարձանների ամրակայում, նորոգում և վերականգնում | J15: =+'Հավելված N 2'!G42 -> -39579.6 | K15: =+'Հավելված N 2'!H42 -> 0 | L15: =+'Հավելված N 2'!I42 -> 0
F16: Հուշարձանների գիտանախագծային փաստաթղթերի կազմում, հրատապ ուսումնասիրում, վավերագրման և ուսումնասիրման աշխատանքներ, հետախուզում և հնագիտական պեղում, ամրակայում, նորոգում և վերականգնում
G17: Հանրության կողմից անմիջականորեն օգտագործվող ակտիվների հետ կապված միջոցառումներ
H18: Ծառայությունը մատուցող կազմակերպության անվանումը` Մասնագիտացված կազմակերպություններ
I19: Հուշարձանների ամրակայման, նորոգման և վերականգնման աշխատանքներ, քանակ | J19: -5
D20: 1075 - 32012 | E20: Թանգարանների համար նոր շենքերի կառուցում | J20: =+'Հավելված N 2'!G28 -> -102000 | K20: =+'Հավելված N 2'!H28 -> 0 | L20: =+'Հավելված N 2'!I28 -> 0
F21: Թանգարանների շենքերի, մասնաշենքերի կառուցում և նախագծում, նորաստեղծ թանգարանների նորակառույց շենքերով ապահովում
G22: Այլ պետական կազմակերպությունների կողմից օգտագործվող ոչ ֆինանսական ակտիվների հետ գործառնություններ
H23: Ակտիվն օգտագործող կազմակերպության անվանումը` Թանգարաններ
B25: 1236 | C25: Հանրակրթական և նախադպրոցական հաստատությունների հիմնում, կառուցում, բարելավում | J25: =+J26+J30+J36+J41 -> 885532.2 | K25: =+K26+K30+K36+K41 -> 622217.4 | L25: =+L26+L30+L36+L41 -> 709788.6
D26: 1236 - 11001 | E26: Հանրակրթական և նախադպրոցական հաստատությունների կառուցման, վերակառուցման, հիմնանորոգման ծրագրերի համակարգման և մոնիտորինգի ծառայություններ | J26: =+'Հավելված N 2'!G87 -> 70850 | K26: =+'Հավելված N 2'!H87 -> 261463.9 | L26: =+'Հավելված N 2'!I87 -> 486378.9
F27: Հանրակրթական և նախադպրոցական հաստատություններիկառուցման, վերակառուցման, հիմնանորոգման ծրագրերիհամակարգման և մոնիտորինգի ծառայությունների ապահովում
G28: Ծառայությունների մատուցում
H29: Միջոցառումն իրականացնողի անվանումը՝ Մասնագիտացված միավոր
D30: 1236 - 32001 | E30: Մանկապարտեզների նոր շենքերի կառուցում | J30: =+'Հավելված N 2'!G61 -> 38838.5 | K30: =+'Հավելված N 2'!H61 -> 103569.3 | L30: =+'Հավելված N 2'!I61 -> 129461.6
F31: Նախադպրոցական կրթության հասանելիության ապահովման նպատակով՛ մանկապարտեզների հիմնում, նոր շենքերի (մասնաշենքերի), ներառյալ` «Մոդուլային» տիպի շենքերի կառուցում և նախագծում
G32: Այլ պետական կազմակերպությունների կողմից օգտագործվող ոչ ֆինանսական ակտիվների հետ գործառնություններ
H33: Ակտիվն օգտագործող կազմակերպության անվանումը` Նախադպրոցական կրթություն իրականացնող ուսումնական հաստատություններ
I34: Կառուցվող մանկապարտեզների քանակ, հատ | J34: 1 | L34: 1
I35: Հաստատությունների քանակ, որոնց շինարարական աշխատանքների ավարտվածության աստիճանը 100 տոկոս է | L35: 1
D36: 1236 - 32003 | E36: Հանրակրթական դպրոցների նոր շենքերի կառուցում | J36: =+'Հավելված N 2'!G112 -> 0 | K36: =+'Հավելված N 2'!H112 -> 257184.2 | L36: =+'Հավելված N 2'!I112 -> 93948.1
F37: ՀՀ մարզերում կրթական որակյալ ծառայությունների հասանելիության ապահովման ծրագրի շրջանակներում հանրակրթական և նախադպրոցական կրթության հասանելիության ապահովման նպատակով կրթական կենտրոնների կառուցում
G38: Այլ պետական կազմակերպությունների կողմից օգտագործվող ոչ ֆինանսական ակտիվների հետ գործառնություններ
H39: Ակտիվն օգտագործող կազմակերպությունների անվանումները` Հանրակրթական դպրոցներ
I40: ՀՀ-ում կրթական որակյալ ծառայությունների հասանելիության ապահովման ծրագրի շրջանակներում կառուցվող ոչ մոդուլային դպրոցների թիվը, հատ | J40: -2 | L40: -2
D41: 1236 - 32004 | E41: Հանրակրթական դպրոցների շենքերի վերակառուցում, հիմնանորոգում | J41: =+'Հավելված N 2'!G139 -> 775843.7 | K41: =+'Հավելված N 2'!H139 -> 0 | L41: =+'Հավելված N 2'!I139 -> 0
F42: Դպրոցական պարտադիր կրթության հասանելիության ապահովման նպատակով՛ հանրակրթական դպրոցների շենքերի (մասնաշենքերի), վերակառուցում, հիմնանորոգում և նախագծում
G43: Այլ պետական կազմակերպությունների կողմից օգտագործվող ոչ ֆինանսական ակտիվների հետ գործառնություններ
H44: Ակտիվն օգտագործող կազմակերպությունների անվանումները` Հանրակրթական դպրոցներ
A46: ՀՀ ՏԱՐԱԾՔԱՅԻՆ ԿԱՌԱՎԱՐՄԱՆ ԵՎ ԵՆԹԱԿԱՌՈՒՑՎԱԾՔՆԵՐԻ ՆԱԽԱՐԱՐՈՒԹՅՈՒՆ | J46: =+J47+J97 -> 10000 | K46: =+K47+K97 -> 10000 | L46: =+L47+L97 -> 10000
B47: 1189 | C47: Դպրոցների սեյսմիկ անվտանգության մակարդակի բարձրացման ծրագիր | J47: =+J48 -> 10000 | K47: =+K48 -> 10000 | L47: =+L48 -> 10000
D48: 1189 - 11001 | E48: Ասիական զարգացման բանկի աջակցությամբ իրականացվող դպրոցների սեյսմիկ պաշտպանության ծրագրի կառավարում | J48: =+'Հավելված N 2'!G209 -> 10000 | K48: =+'Հավելված N 2'!H209 -> 10000 | L48: =+'Հավելված N 2'!I209 -> 10000
F49: Դպրոցների սեյսմիկ պաշտպանության ծրագիր` ՀՀ դպրոցների սեյսմիկ անվտանգության բարելավման նպատակով
G50: Ծառայությունների մատուցում
H51: Ծառայությունը մատուցողի անվանումը` Մասնագիտացված կազմակերպություն
A53: ՀՀ ՔԱՂԱՔԱՇԻՆՈՒԹՅԱՆ ԿՈՄԻՏԵ | J53: =+J54+J66+J79+J86 -> -616859.1 | K53: =+K54+K66+K79+K86 -> -5451.5 | L53: =+L54+L66+L79+L86 -> 61785.2
B54: 1045 | C54: Մասնագիտական կրթության և ուսուցման ծրագիր | J54: =+J55+J60 -> -99456 | K54: =+K55+K60 -> 0 | L54: =+L55+L60 -> 0
D55: 1045 - 32001 | E55: Մասնագիտական ուսումնական հաստատությունների շենքային պայմանների բարելավում | J55: =+'Հավելված N 2'!G156 -> -37296 | K55: =+'Հավելված N 2'!H156 -> 0 | L55: =+'Հավելված N 2'!I156 -> 0
F56: Մասնագիտական ուսումնական հաստատությունների շենքերի հիմնանորոգման և նախագծման (շինարարական աշխատանքներ, ջեռուցման համակարգի ստեղծում, ներքին հարդարում, տարածքի բարեկարգում) աշխատանքների իրականացում
G57: Այլ պետական կազմակերպությունների կողմից օգտագործվող ոչ ֆինանսական ակտիվների հետ գործառնություններ
H58: Ակտիվն օգտագործող կազմակերպությունների անվանումները` Մասնագիտական ուսումնական հաստատություններ
I59: Հիմնանորոգվող մասնագիտական ուսումնական հաստատությունների քանակ, հատ | J59: -1
D60: 1045 - 32005 | E60: Մասնագիտական ուսումնական հաստատությունների շենքերի կառուցում | J60: =+'Հավելված N 2'!G165 -> -62160 | K60: =+'Հավելված N 2'!H165 -> 0 | L60: =+'Հավելված N 2'!I165 -> 0
F61: Մասնագիտական ուսումնական հաստատությունների շենքերի (մասնաշենքերի) կառուցման և նախագծման աշխատանքների իրականացում
G62: Այլ պետական կազմակերպությունների կողմից օգտագործվող ոչ ֆինանսական ակտիվների հետ գործառնություններ
H63: Ակտիվն օգտագործող կազմակերպությունների անվանումները` Մասնագիտական ուսումնական հաստատություններ
I64: Կառուցվող մասնագիտական ուսումնական հաստատությունների քանակ, հատ | J64: -2
B66: 1163 | C66: Մասսայական սպորտ | J66: =+J67+J72 -> -328763.7 | K66: =+K67+K72 -> 0 | L66: =+L67+L72 -> 0
D67: 1163 - 12001 | E67: Աջակցություն համայնքներին մարզական հաստատությունների շենքային պայմանների բարելավման համար | J67: =+'Հավելված N 2'!G176 -> -86005.2 | K67: =+'Հավելված N 2'!H176 -> 0 | L67: =+'Հավելված N 2'!I176 -> 0
F68: Համայնքային ենթակայության մարզական հաստատությունների վերանորոգում և կառուցում
G69: Տրանսֆերտների տրամադրում
H70: Շահառուների ընտրության չափորոշիչները` ՀՀ համայնքների ենթակայության մարզական հաստատությունների շենքային պայմանների բարելավման անհրաժեշտությունը
I71: Կառուցման ենթակա օբյեկտների թիվ, հատ | J71: -1
D72: 1163 - 32001 | E72: Մարզական օբյեկտների շինարարություն | J72: =+'Հավելված N 2'!G185 -> -242758.5 | K72: =+'Հավելված N 2'!H185 -> 0 | L72: =+'Հավելված N 2'!I185 -> 0
F73: Մարզական օբյեկտների շենքերի (մասնաշենքերի) կառուցում (համաշինարարական աշխատանքներ, ջեռուցման համակարգի իրականացում, ներքին հարդարում, տարածքի բարեկարգում) և նախագծում
G74: Այլ պետական կազմակերպությունների կողմից օգտագործվող ոչ ֆինանսական ակտիվների հետ գործառնություններ
H75: Ակտիվն օգտագործող կազմակերպության անվանումը` Մարզական հաստատություններ
I76: Նախագծանահաշվային փաստաթղթերի քանակ, հատ | J76: -1
I77: Կառուցման ենթակա օբյյեկտների թիվ, հատ | J77: -4
B79: 1183 | C79: Ապահով դպրոց | J79: =+J80 -> -76282.8 | K79: =+K80 -> 0 | L79: =+L80 -> 0
D80: 1183 - 32009 | E80: Հանրակրթական կրթություն իրականացնող ուսումնական հաստատությունների մարզադահլիճների վերակառուցում | J80: =+'Հավելված N 2'!G198 -> -76282.8 | K80: =+'Հավելված N 2'!H198 -> 0 | L80: =+'Հավելված N 2'!I198 -> 0
F81: Հանրակրթական ուսուցում իրականացնող ուսումնական հաստատությունների մարզադահլիճների վերակառուցման նախագծանախահաշվային փաստաթղթերի մշակում
G82: Այլ պետական կազմակերպությունների կողմից օգտագործվող ոչ ֆինանսական ակտիվների հետ գործառնություններ
H83: Ակտիվն օգտագործող կազմակերպությունների անվանումները` Հանրակրթական դպրոցներ
I84: հիմնանորոգվող ուսումնական հաստատությունների քանակ, հատ | J84: -2
B86: 1236 | C86: Հանրակրթական և նախադպրոցական հաստատությունների հիմնում, կառուցում, բարելավում | J86: =+J87+J92 -> -112356.6 | K86: =+K87+K92 -> -5451.5 | L86: =+L87+L92 -> 61785.2
D87: 1236 - 32003 | E87: Հանրակրթական դպրոցների նոր շենքերի կառուցում | J87: =+'Հավելված N 2'!G119 -> -67236.7 | K87: =+'Հավելված N 2'!H119 -> -67236.7 | L87: =+'Հավելված N 2'!I119 -> 0
F88: ՀՀ մարզերում կրթական որակյալ ծառայությունների հասանելիության ապահովման ծրագրի շրջանակներում հանրակրթական և նախադպրոցական կրթության հասանելիության ապահովման նպատակով կրթական կենտրոնների կառուցում
G89: Այլ պետական կազմակերպությունների կողմից օգտագործվող ոչ ֆինանսական ակտիվների հետ գործառնություններ
H90: Ակտիվն օգտագործող կազմակերպությունների անվանումները` Հանրակրթական դպրոցներ
I91: ՀՀ-ում կրթական որակյալ ծառայությունների հասանելիության ապահովման ծրագրի շրջանակներում կառուցվող ոչ մոդուլային դպրոցների թիվը, հատ | J91: -1
D92: 1236 - 32004 | E92: Հանրակրթական դպրոցների շենքերի վերակառուցում, հիմնանորոգում | J92: =+'Հավելված N 2'!G128 -> -45119.9 | K92: =+'Հավելված N 2'!H128 -> 61785.2 | L92: =+'Հավելված N 2'!I128 -> 61785.2
F93: Դպրոցական պարտադիր կրթության հասանելիության ապահովման նպատակով՛ հանրակրթական դպրոցների շենքերի (մասնաշենքերի), վերակառուցում, հիմնանորոգում և նախագծում
G94: Այլ պետական կազմակերպությունների կողմից օգտագործվող ոչ ֆինանսական ակտիվների հետ գործառնություններ
H95: Ակտիվն օգտագործող կազմակերպությունների անվանումները` Հանրակրթական դպրոցներ
I96: Վերակառուցվող դպրոցների թիվը, հատ | J96: -1
A98: ՀՀ ԿԱՌԱՎԱՐՈՒԹՅՈՒՆ | J98: =+J99 -> -137093.5 | K98: =+K99 -> -626765.9 | L98: =+L99 -> -781573.8
B99: 1236 | C99: Հանրակրթական և նախադպրոցական հաստատությունների հիմնում, կառուցում, բարելավում | J99: =+J100+J104 -> -137093.5 | K99: =+K100+K104 -> -626765.9 | L99: =+L100+L104 -> -781573.8
D100: 1236 - 32002 | E100: Մանկապարտեզների շենքերի վերակառուցում, հիմնանորոգում | J100: =+'Հավելված N 2'!G70 -> -137093.5 | K100: =+'Հավելված N 2'!H70 -> -626765.9 | L100: =+'Հավելված N 2'!I70 -> -781573.8
F101: Նախադպրոցական կրթության հասանելիության ապահովման նպատակով՛ մանկապարտեզների շենքերի (մասնաշենքերի), վերակառուցում, հիմնանորոգում և նախագծում
G102: Այլ պետական կազմակերպությունների կողմից օգտագործվող ոչ ֆինանսական ակտիվների հետ գործառնություններ
H103: Ակտիվն օգտագործող կազմակերպության անվանումը` Նախադպրոցական կրթություն իրականացնող ուսումնական հաստատություններ

Sheet Հավելված N 8
H1: Հավելված N 8
H2: ՀՀ կառավարության 2025 թվականի
H3: ______________ ի ___Ն որոշման
A6: ՀԱՅԱՍՏԱՆԻ ՀԱՆՐԱՊԵՏՈՒԹՅԱՆ ԿԱՌԱՎԱՐՈՒԹՅԱՆ 2024 ԹՎԱԿԱՆԻ ԴԵԿՏԵՄԲԵՐԻ 27-Ի N 2060-Ն N 10 ՀԱՎԵԼՎԱԾՈՒՄ ԿԱՏԱՐՎՈՂ ՓՈՓՈԽՈՒԹՅՈՒՆՆԵՐԸ ԵՎ ԼՐԱՑՈՒՄՆԵՐԸ
A10: Կոդը | B10: Անվանումը | E10: Գնման ձևը | F10: Չափման միավորը | G10: Միավորի գինը | H10: Ցուցանիշների փոփոխությունը (ավելացումները նշված են դրական նշանով, իսկ նվազեցումները՝ փակագծերում)
H11: Քանակը | I11: Գումարը (հազար դրամ)
A12: 1 | B12: 2 | E12: 3 | F12: 4 | G12: 5 | H12: 6 | I12: 7
A13: ՀՀ կրթության, գիտության, մշակույթի և սպորտի նախարարություն | I13: =+I14+I18 -> 248458.6
A14: Բաժին N 09 | B14: Խումբ N 01 | C14: Դաս N 01 | D14: Նախադպրոցական կրթություն | I14: =+I15 -> 129461.6
A15: 1236-32001 | B15: Մանկապարտեզների նոր շենքերի կառուցում | I15: =+I16 -> 129461.6
B16: ՄԱՍ II. ԱՇԽԱՏԱՆՔՆԵՐ | I16: =+I17 -> 129461.6
A17: 45211228 | B17: շինարարական աշխատանքներ մանկապարտեզների համար | E17: ԲՄ | F17: դրամ | G17: 129461530 | H17: 1 | I17: =+ROUNDUP(G17*H17/1000,1) -> 129461.6
A18: Բաժին N 09 | B18: Խումբ N 02 | C18: Դաս N 01 | D18: Հիմնական ընդհանուր կրթություն | I18: =+I19+I32 -> 118997
A19: 1236-11001 | B19: Հանրակրթական և նախադպրոցական հաստատությունների կառուցման, վերակառուցման, հիմնանորոգման ծրագրերի համակարգման և մոնիտորինգի ծառայություններ | I19: =+I20+I28 -> 25048.9
B20: ՄԱՍ I. ԱՊՐԱՆՔՆԵՐ | I20: =SUM(I21:I27) -> 16428.9
A21: 9132200 | B21: բենզին, ռեգուլյար | E21: ԷԱՃ | F21: լիտր | G21: 530 | H21: 29379 | I21: =+ROUNDUP(G21*H21/1000,1) -> 15570.9
A22: 30121500 | B22: քարտրիջներ | C22: քարտրիջներ | D22: քարտրիջներ | E22: ԷԱՃ | F22: հատ | G22: 30000 | H22: 10 | I22: =+ROUNDUP(G22*H22/1000,1) -> 300
A23: 30197622 | B23: թուղթ, A4 ֆորմատի | C23: թուղթ, A4 ֆորմատի | D23: թուղթ, A4 ֆորմատի | E23: ԷԱՃ | F23: կգ | G23: 1000 | H23: 300 | I23: =+ROUNDUP(G23*H23/1000,1) -> 300
A24: 22811180 | B24: օրագրեր | E24: ՄԱ | F24: հատ | G24: 2200 | H24: 55 | I24: =+ROUNDUP(G24*H24/1000,1) -> 121
A25: 22811180 | B25: օրագրեր | E25: ՄԱ | F25: հատ | G25: 3000 | H25: 9 | I25: =+ROUNDUP(G25*H25/1000,1) -> 27
A26: 30234500 | B26: ֆլեշ հիշողություն, 200GB | E26: ՄԱ | F26: հատ | G26: 5000 | H26: 10 | I26: =+ROUNDUP(G26*H26/1000,1) -> 50
A27: 30237412 | B27: մկնիկ, համակարգչային, անլար | E27: ԷԱՃ | F27: հատ | G27: 6000 | H27: 10 | I27: =+ROUNDUP(G27*H27/1000,1) -> 60
B28: ՄԱՍ III. ԾԱՌԱՅՈՒԹՅՈՒՆՆԵՐ | I28: =SUM(I29:I31) -> 8620
A29: 66511120 | B29: առողջության ապահովագրման ծառայություններ | E29: ՀԲՄ | F29: դրամ | G29: 6720000 | H29: 1 | I29: =+ROUNDUP(G29*H29/1000,1) -> 6720
A30: 50311250 | B30: պատճենահանող սարքերի պահպանման ծառայություններ | C30: Պատճենահանող սարքերի պահպանման ծառայություններ | D30: Պատճենահանող սարքերի պահպանման ծառայություններ | E30: ԳՀ | F30: դրամ | G30: 300000 | H30: 1 | I30: =+ROUNDUP(G30*H30/1000,1) -> 300
A31: 50111130 | B31: ավտոմեքենաների վերանորոգման ծառայություններ | C31: Ավտոմեքենաների վերանորոգման ծառայություններ | D31: Ավտոմեքենաների վերանորոգման ծառայություններ | E31: ԳՀ | F31: դրամ | G31: 1600000 | H31: 1 | I31: =+ROUNDUP(G31*H31/1000,1) -> 1600
A32: 1236-32003 | B32: Հանրակրթական դպրոցների նոր շենքերի կառուցում | I32: =+I33+I38 -> 93948.1
B33: ՄԱՍ II. ԱՇԽԱՏԱՆՔՆԵՐ | I33: =SUM(I34:I37) -> 124742.8
A34: 45211229-61 | B34: շինարարական աշխատանքներ դպրոցների համար | E34: ՀԲՄ | F34: դրամ | I34: 561000
A35: 45211229-69 | B35: շինարարական աշխատանքներ դպրոցների համար | E35: ՀԲՄ | F35: դրամ | I35: 250000
A36: 45211229-191 | B36: շինարարական աշխատանքներ դպրոցների համար | E36: ՀԲՄ | F36: դրամ | G36: 303310910 | H36: -1 | I36: =+ROUNDDOWN(H36*G36/1000,1) -> -303310.9
A37: 45211229-192 | B37: շինարարական աշխատանքներ դպրոցների համար | E37: ՀԲՄ | F37: դրամ | G37: 382946310 | H37: -1 | I37: =+ROUNDDOWN(H37*G37/1000,1) -> -382946.3
B38: ՄԱՍ III. ԾԱՌԱՅՈՒԹՅՈՒՆՆԵՐ | I38: =SUM(I39:I42) -> -30794.7
A39: 71351540-268 | B39: տեխնիկական հսկողության ծառայություններ | E39: ՀԲՄ | F39: դրամ | G39: 12126400 | H39: -1 | I39: =+ROUNDDOWN(H39*G39/1000,1) -> -12126.4
A40: 71351540-267 | B40: տեխնիկական հսկողության ծառայություններ | E40: ՀԲՄ | F40: դրամ | G40: 14515500 | H40: -1 | I40: =+ROUNDDOWN(H40*G40/1000,1) -> -14515.5
A41: 98111140-13 | B41: հեղինակային հսկողության ծառայություններ | E41: ՄԱ | F41: դրամ | G41: 1837500 | H41: -1 | I41: =+ROUNDDOWN(H41*G41/1000,1) -> -1837.5
A42: 98111140-12 | B42: հեղինակային հսկողության ծառայություններ | E42: ՄԱ | F42: դրամ | G42: 2315300 | H42: -1 | I42: =+ROUNDDOWN(H42*G42/1000,1) -> -2315.3
A44: ՀՀ քաղաքաշինության կոմիտե | I44: =+I45 -> 61785.2
A45: Բաժին N 09 | B45: Խումբ N 02 | C45: Դաս N 01 | D45: Հիմնական ընդհանուր կրթություն | I45: =+I46 -> 61785.2
A46: 1236-32004 | B46: Հանրակրթական դպրոցների շենքերի վերակառուցում, հիմնանորոգում | I46: =+I47 -> 61785.2
B47: ՄԱՍ III. ԾԱՌԱՅՈՒԹՅՈՒՆՆԵՐ | I47: =SUM(I48:I54) -> 61785.2
A48: 71621100-506 | B48: տեխնիկական վերլուծության և խրհրդատվության ծառայություններ | E48: ՀՄԱ | F48: դրամ | G48: 21549826 | H48: 1 | I48: =+ROUNDUP(H48*G48/1000,1) -> 21549.9
A49: 71621100-507 | B49: տեխնիկական վերլուծության և խրհրդատվության ծառայություններ | E49: ՀՄԱ | F49: դրամ | G49: 14914000 | H49: 1 | I49: =+ROUNDUP(H49*G49/1000,1) -> 14914
A50: 71621100-508 | B50: տեխնիկական վերլուծության և խրհրդատվության ծառայություններ | E50: ՀՄԱ | F50: դրամ | G50: 9272803.5 | H50: 1 | I50: =+ROUNDUP(H50*G50/1000,1) -> 9272.9
A51: 71621100-509 | B51: տեխնիկական վերլուծության և խրհրդատվության ծառայություններ | E51: ՀՄԱ | F51: դրամ | G51: 1600000 | H51: 1 | I51: =+ROUNDUP(H51*G51/1000,1) -> 1600
A52: 71621100-510 | B52: տեխնիկական վերլուծության և խրհրդատվության ծառայություններ | E52: ՀՄԱ | F52: դրամ | G52: 3192885 | H52: 1 | I52: =+ROUNDUP(H52*G52/1000,1) -> 3192.9
A53: 71621100-511 | B53: տեխնիկական վերլուծության և խրհրդատվության ծառայություններ | E53: ՀՄԱ | F53: դրամ | G53: 6779469 | H53: 1 | I53: =+ROUNDUP(H53*G53/1000,1) -> 6779.5
A54: 71621100-512 | B54: տեխնիկական վերլուծության և խրհրդատվության ծառայություններ | E54: ՀՄԱ | F54: դրամ | G54: 4476000 | H54: 1 | I54: =+ROUNDUP(H54*G54/1000,1) -> 4476
