Workbook
Name _tab10: #REF!
Name _tab11: #REF!
Name _tab12: #REF!
Name _tab13: #REF!
Name _tab14: #REF!
Name _tab15: #REF!
Name _tab16: #REF!
Name _tab17: #REF!
Name _tab18: #REF!
Name _tab19: #REF!
Name _tab20: #REF!
Name _tab21: #REF!
Name _tab22: #REF!
Name _tab23: #REF!
Name _tab24: #REF!
Name _tab5: #REF!
Name _tab6: #REF!
Name _tab7: #REF!
Name _tab8: #REF!
Name _tab9: #REF!
Name AgencyCode: #REF!
Name AgencyName: #REF!
Name åû: #REF!
Name davit: #REF!
Name Functional1: #REF!
Name ggg: #REF!
Name mas: #REF!
Name mass: #REF!
Name PANature: #REF!
Name par_count: #REF!,#REF!,#REF!,#REF!,#REF!,#REF!,#REF!,#REF!,#REF!,#REF!,#REF!,#REF!,#REF!,#REF!,#REF!
Name par_qual: #REF!,#REF!,#REF!,#REF!,#REF!
Name par_time: #REF!,#REF!,#REF!,#REF!
Name par2.12s: #REF!
Name par2.4s: #REF!,#REF!,#REF!,#REF!,#REF!,#REF!,#REF!,#REF!,#REF!,#REF!,#REF!,#REF!,#REF!,#REF!,#REF!,#REF!
Name par2.5s: #REF!,#REF!
Name par2.6s: #REF!,#REF!,#REF!,#REF!
Name par2.7s: #REF!,#REF!
Name par2.9s: #REF!,#REF!,#REF!,#REF!,#REF!,#REF!,#REF!,#REF!,#REF!,#REF!,#REF!,#REF!,#REF!,#REF!,#REF!,#REF!
Name par4.10s: #REF!,#REF!
Name par4.11d: #REF!,#REF!,#REF!,#REF!,#REF!
Name par4.12d: #REF!
Name par4.13s: #REF!
Name par4.14: #REF!,#REF!,#REF!,#REF!,#REF!,#REF!
Name par4.15: #REF!,#REF!,#REF!
Name par4.16: #REF!,#REF!,#REF!
Name par4.17: #REF!,#REF!,#REF!,#REF!
Name par4.18d: #REF!,#REF!
Name par4.19s: #REF!
Name par4.20f: #REF!
Name par4.21f: #REF!
Name par4.22: #REF!
Name par4.4: #REF!
Name par4.5: #REF!
Name par4.6s: #REF!
Name par4.7s: #REF!
Name par4.8: #REF!,#REF!,#REF!,#REF!,#REF!
Name par4.9: #REF!,#REF!,#REF!,#REF!,#REF!,#REF!
Name par5.1: #REF!,#REF!
Name par5.3: #REF!,#REF!,#REF!,#REF!,#REF!,#REF!
Name par5.4: #REF!,#REF!,#REF!,#REF!,#REF!

Sheet հավելված1
H1: Հավելված N 1
F2: ՀՀ կառավարության 2025 թվականի
H3: N ------------ -Ն որոշման
A5: «ՀԱՅԱՍՏԱՆԻ ՀԱՆՐԱՊԵՏՈՒԹՅԱՆ 2025 ԹՎԱԿԱՆԻ ՊԵՏԱԿԱՆ ԲՅՈՒՋԵԻ ՄԱՍԻՆ» ՕՐԵՆՔԻ N 1 ՀԱՎԵԼՎԱԾԻ N 2 ԱՂՅՈՒՍԱԿՈՒՄ ԿԱՏԱՐՎՈՂ ՎԵՐԱԲԱՇԽՈՒՄԸ ԵՎ ՀԱՅԱՍՏԱՆԻ ՀԱՆՐԱՊԵՏՈՒԹՅԱՆ ԿԱՌԱՎԱՐՈՒԹՅԱՆ 2024 ԹՎԱԿԱՆԻ ԴԵԿՏԵՄԲԵՐԻ 27-Ի N 2060-Ն ՈՐՈՇՄԱՆ N 5 ՀԱՎԵԼՎԱԾԻ N 1 ԱՂՅՈՒՍԱԿՈՒՄ ԿԱՏԱՐՎՈՂ ՓՈՓՈԽՈՒԹՅՈՒՆՆԵՐԸ
G8: հազար դրամներով
A9: ԲԳԿ | B9: Ծրագրային դասիչը | D9: ԲԳԿ/Ծրագրի /միջոցառման անվանումը | E9: Ծրագրի նպատակը/Միջոցառման նկարագրությունը | F9: Վերջնական արդյունքի նկարագրությունը/Միջոցառման տեսակը | G9: Ցուցանիշների փոփոխությունը (ավելացումները նշված են դրական նշանով, իսկ նվազեցումները` փակագծերում)
B10: Ծրագիր | C10: Միջոցառում | G10: Ինն ամիս | H10: Տարի
A11: ԸՆԴԱՄԵՆԸ | G11: =G12+G15 -> 0 | H11: =H12+H15 -> 0
A12: ՀՀ քննչական կոմիտե | G12: =G13 -> 402804 | H12: =H13 -> 402804
B13: 1180 | D13: ՀՀ քննչական ծառայություններ | E13: Հանցագործությունների օբյեկտիվ և արդյունավետ նախաքննության իրականացման ապահովոււմ | F13: Հանցագործությունների արդյունավետ նախաքննություն, նախաքննության ժամկետների կրճատում | G13: =G14 -> 402804 | H13: =H14 -> 402804
C14: 1180 - 11004 | D14: Փորձագիտական ծառայությունների տրամադրում | E14: Փորձագիտական ծառայությունների տրամադրում և քրեագիտական աջակցություն | F14: Ծառայությունների մատուցում | G14: 402804 | H14: 402804
A15: ՀՀ կառավարություն | G15: =G16 -> -402804 | H15: =H16 -> -402804
B16: 1139 | D16: ՀՀ կառավարության պահուստային ֆոնդ | E16: Պետական բյուջեում չկանխատեսված, ինչպես նաեւ բյուջետային երաշխիքների ապահովման ծախսերի ֆինանսավորման ապահովում | F16: Պահուստային ֆոնդի կառավարման արդյունավետության և թափանցիկության ապահովում | G16: =G17 -> -402804 | H16: =H17 -> -402804
C17: 1139 - 11001 | D17: ՀՀ կառավարության պահուստային ֆոնդ | E17: ՀՀ պետական բյուջեում նախատեսված ելքերի լրացուցիչ ֆինանսավորման, պետական բյուջեում չկանխատեսված ելքերի, ինչպես նաև բյուջետային երաշխիքների ապահովման ելքերի ֆինանսավորման ապահովում | F17: Ծառայությունների մատուցում | G17: -402804 | H17: -402804

Sheet հավելված 2
F1: Հավելված N2
H2: Հավելված N 2
D3: ՀՀ կառավարության 2025 թվականի
D4: ___________ ___-ի N _______ -Ն որոշման
A7: «ՀԱՅԱՍՏԱՆԻ ՀԱՆՐԱՊԵՏՈՒԹՅԱՆ 2025 ԹՎԱԿԱՆԻ ՊԵՏԱԿԱՆ ԲՅՈՒՋԵԻ ՄԱՍԻՆ» ՕՐԵՆՔԻ N 1 ՀԱՎԵԼՎԱԾԻ N 3 ԱՂՅՈՒՍԱԿՈՒՄ ԿԱՏԱՐՎՈՂ ՓՈՓՈԽՈՒԹՅՈՒՆԸ
G8: (հազար դրամներով)
A9: Ծրագրային դասիչը | C9: Բյուջետային գլխավոր կարգադրիչների, ծրագրերի և միջոցառումների և ուղղությունների անվանումները | D9: Ընդամենը, | E9: Ցուցանիշների փոփոխությունը (նվազեցումները նշված են փակագծերում)
E10: այդ թվում
A11: Ծրագիր | B11: Միջոցառում | E11: Կառուցման աշխատանքներ | F11: Վերակառուցման, վերանորոգման և վերականգնման աշխատանքներ | G11: Նախագծահետազոտական, գեոդեզիա-քարտեզագրական աշխատանքներ | H11: Ոչ ֆինանսական այլ ակտիվների ձեռքբերում
C12: ԸՆԴԱՄԵՆԸ | D12: =D13 -> -402804 | E12: =E13+E16 -> 0 | F12: =F13 -> -402804 | G12: =G13+G16 -> 0 | H12: =H13+H16 -> 0
C13: ՀՀ կառավարություն | D13: =D15 -> -402804 | E13: =E14+E17 -> 0 | F13: =F15 -> -402804 | G13: =G14+G17 -> 0 | H13: =H14+H17 -> 0
C14: այդ թվում՛
A15: 1139 | B15: 11001 | C15: ՀՀ կառավարության պահուստային ֆոնդ | D15: =F15 -> -402804 | F15: =+հավելված3!H42 -> -402804

Sheet հավելված3
H2: Հավելված N 3
F3: ՀՀ կառավարության 2025 թվականի
F4: ______________ ի ___Ն որոշման
A7: ՀԱՅԱՍՏԱՆԻ ՀԱՆՐԱՊԵՏՈՒԹՅԱՆ ԿԱՌԱՎԱՐՈՒԹՅԱՆ 2024 ԹՎԱԿԱՆԻ ԴԵԿՏԵՄԲԵՐԻ 27-Ի N 2060-Ն ՈՐՈՇՄԱՆ NN 3 ԵՎ 4 ՀԱՎԵԼՎԱԾՆԵՐՈՒՄ ԿԱՏԱՐՎՈՂ ՓՈՓՈԽՈՒԹՅՈՒՆՆԵՐԸ
G9: (հազար դրամներով)
A10: Գործառական դասիչը | D10: Ծրագրային դասիչը | F10: Բյուջետային հատկացումների գլխավոր կարգադրիչների, ծրագրերի, միջոցառումների և միջոցառումները կատարող պետական մարմինների անվանումները | G10: Ցուցանիշների փոփոխությունը (ավելացումները նշված են դրական նշանով, իսկ նվազեցումները` փակագծերում)
A11: Բաժին | B11: Խումբ | C11: Դաս | D11: Ծրագիր | E11: Միջոցառում | G11: Ինն ամիս | H11: Տարի
F12: ԸՆԴԱՄԵՆԸ | G12: =+G13+G32 -> 0 | H12: =+H13+H32 -> 0
A13: 03 | F13: ՀԱՍԱՐԱԿԱԿԱՆ ԿԱՐԳ, ԱՆՎՏԱՆԳՈՒԹՅՈՒՆ ԵՎ ԴԱՏԱԿԱՆ ԳՈՐԾՈՒՆԵՈՒԹՅՈՒՆ | G13: =G15 -> 402804 | H13: =H15 -> 402804
F14: այդ թվում`
B15: 07 | F15: Նախաքննություն | G15: =G17 -> 402804 | H15: =H17 -> 402804
F16: այդ թվում`
C17: 01 | F17: Նախաքննություն | G17: =G21 -> 402804 | H17: =H21 -> 402804
F18: այդ թվում`
F19: ՀՀ քննչական կոմիտե | G19: =G21 -> 402804 | H19: =H21 -> 402804
F20: այդ թվում`
D21: 1180 | F21: ՀՀ քննչական ծառայություններ | G21: =G23 -> 402804 | H21: =H23 -> 402804
F22: այդ թվում`
E23: 11004 | F23: Փորձագիտական ծառայությունների տրամադրում | G23: =G25 -> 402804 | H23: =H25 -> 402804
F24: այդ թվում` ըստ կատարողների
F25: ՀՀ քննչական կոմիտե | G25: =G27 -> 402804 | H25: =H27 -> 402804
F26: այդ թվում` բյուջետային ծախսերի տնտեսագիտական դասակարգման հոդվածներ
F27: ԸՆԴԱՄԵՆԸ ԾԱԽՍԵՐ | G27: =G28 -> 402804 | H27: =H28 -> 402804
F28: ԸՆԹԱՑԻԿ ԾԱԽՍԵՐ | G28: =G30 -> 402804 | H28: =H30 -> 402804
F29: ԾԱՌԱՅՈՒԹՅՈՒՆՆԵՐԻ ԵՎ ԱՊՐԱՆՔՆԵՐԻ ՁԵՌՔԲԵՐՈՒՄ | G29: =G30 -> 402804 | H29: =H30 -> 402804
F30: Պայմանագրային և այլ ծառայությունների ձեռքբերում | G30: =G31 -> 402804 | H30: =H31 -> 402804
F31: - Կառավարչական ծառայություններ | G31: 402804 | H31: 402804
A32: 11 | F32: ՀԻՄՆԱԿԱՆ ԲԱԺԻՆՆԵՐԻՆ ՉԴԱՍՎՈՂ ՊԱՀՈՒՍՏԱՅԻՆ ՖՈՆԴԵՐ | G32: =G34 -> -402804 | H32: =H34 -> -402804
F33: այդ թվում`
B34: 01 | F34: ՀՀ կառավարության և համայնքների պահուստային ֆոնդ | G34: =+G36 -> -402804 | H34: =+H36 -> -402804
F35: այդ թվում`
C36: 01 | F36: ՀՀ կառավարության պահուստային ֆոնդ | G36: =+G38 -> -402804 | H36: =+H38 -> -402804
F37: այդ թվում`
F38: ՀՀ կառավարություն | G38: =+G40 -> -402804 | H38: =+H40 -> -402804
F39: այդ թվում`
D40: 1139 | F40: ՀՀ կառավարության պահուստային ֆոնդ | G40: =G42 -> -402804 | H40: =H42 -> -402804
F41: այդ թվում
E42: 11001 | F42: ՀՀ կառավարության պահուստային ֆոնդ | G42: =G44 -> -402804 | H42: =H44 -> -402804
F43: այդ թվում` ըստ կատարողների
F44: ՀՀ կառավարություն | G44: =G46 -> -402804 | H44: =H46 -> -402804
...

Sheet հավելված4
D1: Հավելված N4
D2: ՀՀ կառավարության 2025 թվականի
D3: ______________ ի ___Ն որոշման
A6: ՀԱՅԱՍՏԱՆԻ ՀԱՆՐԱՊԵՏՈՒԹՅԱՆ ԿԱՌԱՎԱՐՈՒԹՅԱՆ 2024ԹՎԱԿԱՆԻ ԴԵԿՏԵՄԲԵՐԻ 27-Ի N 2060-Ն ՈՐՈՇՄԱՆ N 5 ՀԱՎԵԼՎԱԾԻ N 2 ԱՂՅՈՒՍԱԿՈՒՄ ԿԱՏԱՐՎՈՂ ՓՈՓՈԽՈՒԹՅՈՒՆԸ
E7: (հազար դրամներով)
A8: Շրագրային դասիչը | C8: Բյուջետային գլխավոր կարգադրիչների, ծրագրերի, միջոցառումների, միջոցառումները կատարող պետական մարմինների և ուղղությունների անվանումները | D8: Ցուցանիշների փոփոխությունը (նվազեցումները նշված են փակագծերում)
A10: Ծրագիր | B10: Միջոցառում | D10: Ինն ամիս | E10: Տարի
C11: ԸՆԴԱՄԵՆԸ | D11: =D13 -> -402804 | E11: =E13 -> -402804
C12: այդ թվում`
C13: ՀՀ կառավարություն | D13: =D15 -> -402804 | E13: =E15 -> -402804
C14: այդ թվում՝
A15: 1139 | B15: 11001 | C15: ՀՀ կառավարության պահուստային ֆոնդ | D15: =D17 -> -402804 | E15: =E17 -> -402804
C16: այդ թվում` ըստ կատարողների
C17: ՀՀ կառավարություն | D17: =+հավելված3!G42 -> -402804 | E17: =+հավելված3!H42 -> -402804

Sheet հավելված5
K1: Հավելված № 5
K2: ՀՀ կառավարության 2025 թվականի
K3: ______________ ի ___Ն որոշման
B5: ՀԱՅԱՍՏԱՆԻ ՀԱՆՐԱՊԵՏՈՒԹՅԱՆ ԿԱՌԱՎԱՐՈՒԹՅԱՆ 2024 ԹՎԱԿԱՆԻ ԴԵԿՏԵՄԲԵՐԻ 27-Ի № 2060-Ն ՈՐՈՇՄԱՆ № 9 ՀԱՎԵԼՎԱԾԻ ԱՂՅՈՒՍԱԿՆԵՐՈՒՄ ԿԱՏԱՐՎՈՂ ՓՈՓՈԽՈՒԹՅՈՒՆՆԵՐԸ
L7: (հազար դրամներով)
B8: ԲԳԿ | C8: Ծրագիր | E8: Միջոցառում | I8: Իրականացնողը/ ակտիվն օգտագործողը/ շահառուի ընտրության չափորոշիչը | J8: Արդյունքային չափորոշիչը | K8: Ցուցանիշների փոփոխությունը (ավելացումները նշված են դրական նշանով, իսկ նվազեցումները` փակագծերում)
C9: Դասիչը | D9: Անվանումը | E9: Դասիչը | F9: Անվանումը | G9: Նկարագրությունը | H9: Տեսակը | K9: Ինն ամիս | L9: Տարի
B10: ԸՆԴԱՄԵՆԸ | K10: =K11+K18 -> 0 | L10: =L11+L18 -> 0
B11: ՀՀ քննչական կոմիտե | K11: =K13 -> 402804 | L11: =L13 -> 402804
C12: 1180 | D12: ՀՀ քննչական ծառայություններ | K12: =K13 -> 402804 | L12: =L13 -> 402804
E13: 1180-11004 | F13: Փորձագիտական ծառայությունների տրամադրում | K13: =հավելված1!G14 -> 402804 | L13: =հավելված1!H14 -> 402804
G14: Փորձագիտական ծառայությունների տրամադրում և քրեագիտական աջակցություն
H15: Ծառայությունների մատուցում
I16: Ծառայությունը մատուցողի անվանումը` Հայաստանի Հանրապետության քննչական կոմիտեի փորձաքրեագիտական կենտրոն ՊՈԱԿ
J17: Փորձաքննությունների ընդհանուր թիվը (հատ) | L17: 6904
B18: ՀՀ կառավարություն | K18: =K19 -> -402804 | L18: =L19 -> -402804
C19: 1139 | D19: ՀՀ կառավարության պահուստային ֆոնդ | K19: =K20 -> -402804 | L19: =L20 -> -402804
E20: 1139 - 11001 | F20: ՀՀ կառավարության պահուստային ֆոնդ | K20: =+հավելված3!G42 -> -402804 | L20: =+հավելված3!H42 -> -402804
G21: ՀՀ պետական բյուջեում նախատեսված ելքերի լրացուցիչ ֆինանսավորման, պետական բյուջեում չկանխատեսված ելքերի, ինչպես նաև բյուջետային երաշխիքների ապահովման ելքերի ֆինանսավորման ապահովում
H22: Ծառայությունների մատուցում
I23: Ծառայությունը մատուցողի անվանումը` ՀՀ կառավարություն

Sheet հավելված6
K1: Հավելված № 6
K2: ՀՀ կառավարության 2025 թվականի
K3: ------------- ի № ---- -Ն որոշման
B5: ՀԱՅԱՍՏԱՆԻ ՀԱՆՐԱՊԵՏՈՒԹՅԱՆ ԿԱՌԱՎԱՐՈՒԹՅԱՆ 2024 ԹՎԱԿԱՆԻ ԴԵԿՏԵՄԲԵՐԻ 27-Ի № 2060-Ն ՈՐՈՇՄԱՆ № 9.1 ՀԱՎԵԼՎԱԾԻ ԱՂՅՈՒՍԱԿՆԵՐՈՒՄ ԿԱՏԱՐՎՈՂ ՓՈՓՈԽՈՒԹՅՈՒՆՆԵՐԸ
L7: (հազար դրամներով)
B8: ԲՍԿ | C8: Ծրագիր | E8: Միջոցառում | I8: Իրականացնողը/ ակտիվն օգտագործողը/ շահառուի ընտրության չափորոշիչը | J8: Արդյունքային չափորոշիչը | K8: Ցուցանիշների փոփոխությունը (ավելացումները նշված են դրական նշանով, իսկ նվազեցումները` փակագծերում)
C9: Դասիչը | D9: Անվանումը | E9: Դասիչը | F9: Անվանումը | G9: Նկարագրությունը | H9: Տեսակը | K9: Ինն ամիս | L9: Տարի
B10: ԸՆԴԱՄԵՆԸ | K10: =K11+K18 -> 0 | L10: =L11+L18 -> 0
B11: ՀՀ քննչական կոմիտե | K11: =K13 -> 402804 | L11: =L13 -> 402804
C12: 1180 | D12: ՀՀ քննչական ծառայություններ | K12: =K13 -> 402804 | L12: =L13 -> 402804
E13: 1180-11004 | F13: Փորձագիտական ծառայությունների տրամադրում | K13: =հավելված1!G14 -> 402804 | L13: =հավելված1!H14 -> 402804
G14: Փորձագիտական ծառայությունների տրամադրում և քրեագիտական աջակցություն
H15: Ծառայությունների մատուցում
I16: Ծառայությունը մատուցողի անվանումը` Հայաստանի Հանրապետության քննչական կոմիտեի փորձաքրեագիտական կենտրոն ՊՈԱԿ
J17: Փորձաքննությունների ընդհանուր թիվը (հատ) | L17: 6904
B18: ՀՀ կառավարություն | K18: =K19 -> -402804 | L18: =L19 -> -402804
C19: 1139 | D19: ՀՀ կառավարության պահուստային ֆոնդ | K19: =K20 -> -402804 | L19: =L20 -> -402804
E20: 1139 - 11001 | F20: ՀՀ կառավարության պահուստային ֆոնդ | K20: -402804 | L20: -402804
G21: ՀՀ պետական բյուջեում նախատեսված ելքերի լրացուցիչ ֆինանսավորման, պետական բյուջեում չկանխատեսված ելքերի, ինչպես նաև բյուջետային երաշխիքների ապահովման ելքերի ֆինանսավորման ապահովում
H22: Ծառայությունների մատուցում
I23: Ծառայությունը մատուցողի անվանումը` ՀՀ կառավարություն
