Workbook
Name _tab10: #REF!
Name _tab11: #REF!
Name _tab12: #REF!
Name _tab13: #REF!
Name _tab14: #REF!
Name _tab15: #REF!
Name _tab16: #REF!
Name _tab17: #REF!
Name _tab18: #REF!
Name _tab19: #REF!
Name _tab20: #REF!
Name _tab21: #REF!
Name _tab22: #REF!
Name _tab23: #REF!
Name _tab24: #REF!
Name _tab5: #REF!
Name _tab6: #REF!
Name _tab7: #REF!
Name _tab8: #REF!
Name _tab9: #REF!
Name par_count: #REF!,#REF!,#REF!,#REF!,#REF!,#REF!,#REF!,#REF!,#REF!,#REF!,#REF!,#REF!,#REF!,#REF!,#REF!
Name par_qual: #REF!,#REF!,#REF!,#REF!,#REF!
Name par_time: #REF!,#REF!,#REF!,#REF!
Name par2.12s: #REF!
Name par2.4s: #REF!,#REF!,#REF!,#REF!,#REF!,#REF!,#REF!,#REF!,#REF!,#REF!,#REF!,#REF!,#REF!,#REF!,#REF!,#REF!
Name par2.5s: #REF!,#REF!
Name par2.6s: #REF!,#REF!,#REF!,#REF!
Name par2.7s: #REF!,#REF!
Name par2.9s: #REF!,#REF!,#REF!,#REF!,#REF!,#REF!,#REF!,#REF!,#REF!,#REF!,#REF!,#REF!,#REF!,#REF!,#REF!,#REF!
Name par4.10s: #REF!,#REF!
Name par4.11d: #REF!,#REF!,#REF!,#REF!,#REF!
Name par4.12d: #REF!
Name par4.13s: #REF!
Name par4.14: #REF!,#REF!,#REF!,#REF!,#REF!,#REF!
Name par4.15: #REF!,#REF!,#REF!
Name par4.16: #REF!,#REF!,#REF!
Name par4.17: #REF!,#REF!,#REF!,#REF!
Name par4.18d: #REF!,#REF!
Name par4.19s: #REF!
Name par4.20f: #REF!
Name par4.21f: #REF!
Name par4.22: #REF!
Name par4.4: #REF!
Name par4.5: #REF!
Name par4.6s: #REF!
Name par4.7s: #REF!
Name par4.8: #REF!,#REF!,#REF!,#REF!,#REF!
Name par4.9: #REF!,#REF!,#REF!,#REF!,#REF!,#REF!
Name par5.1: #REF!,#REF!
Name par5.3: #REF!,#REF!,#REF!,#REF!,#REF!,#REF!
Name par5.4: #REF!,#REF!,#REF!,#REF!,#REF!
Name par5.5: #REF!
Name par5.6: #REF!,#REF!
Name program: #REF!,#REF!,#REF!,#REF!,#REF!,#REF!,#REF!,#REF!,#REF!,#REF!,#REF!,#REF!,#REF!,#REF!,#REF!,#REF!,#REF!,#REF!,#REF!,#REF!

Sheet h1
E1: Հավելված № 1
D2: ՀՀ կառավարության 2025 թվականի
D3: -------------- ի № ---- -Ն որոշման
A5: «ՀԱՅԱՍՏԱՆԻ ՀԱՆՐԱՊԵՏՈՒԹՅԱՆ 2025 ԹՎԱԿԱՆԻ ՊԵՏԱԿԱՆ ԲՅՈՒՋԵԻ ՄԱՍԻՆ» ՕՐԵՆՔԻ N 1 ՀԱՎԵԼՎԱԾԻ N 7 ԱՂՅՈՒՍԱԿՈՒՄ ԵՎ ՀԱՅԱՍՏԱՆԻ ՀԱՆՐԱՊԵՏՈՒԹՅԱՆ ԿԱՌԱՎԱՐՈՒԹՅԱՆ 2024 ԹՎԱԿԱՆԻ ԴԵԿՏԵՄԲԵՐԻ 27-Ի N 2060-Ն ՈՐՈՇՄԱՆ N 5 ՀԱՎԵԼՎԱԾԻ N 6 ԱՂՅՈՒՍԱԿՈՒՄ ԿԱՏԱՐՎՈՂ ՓՈՓՈԽՈՒԹՅՈՒՆԸ ԵՎ ԼՐԱՑՈՒՄՆԵՐԸ
E6: հազար դրամներով
A7: Ծրագրային դասիչը | C7: Հատկացումների տրամադրման նպատակները և բյուջետային գլխավոր կարգադրիչների, ծրագրերի, միջոցառումների և կատարող պետական մարմնի անվանումները | D7: Ցուցանիշների փոփոխությունը (ավելացումները նշված են դրական նշանով, իսկ նվազեցումները` փակագծերում)
A8: Ծրագիր | B8: Միջոցառում | D8: Ինն ամիս | E8: Տարի
C9: ԸՆԴԱՄԵՆԸ | D9: 0 | E9: 0
C10: այդ թվում
C11: Կապիտալ սուբվենցիաներ համայնքներին | D11: =D13 -> 0 | E11: =E13 -> 0
C12: այդ թվում`
C13: ՀՀ տարածքային կառավարման և ենթակառուցվածքների նախարարություն | D13: =D15 -> 0 | E13: =E15 -> 0
C14: այդ թվում`
A15: 1212 | C15: Տարածքային զարգացում | D15: =D17 -> 0 | E15: =E17 -> 0
C16: այդ թվում`
B17: 12007 | C17: ՀՀ մարզերին սուբվենցիաների տրամադրում՝ ենթակառուցվածքների զարգացման նպատակով | D17: 0 | E17: 0
C18: այդ թվում` ըստ կատարողների
C19: ՀՀ կառավարություն | D19: =-(D20+D25+D29+D32+D37+D43) -> -1849821.5 | E19: =-(E20+E25+E29+E32+E37+E43) -> -1849821.5
C20: ՀՀ Արարատի մարզպետի աշխատակազմ | D20: =SUM(D22:D24) -> 614236.4 | E20: =SUM(E22:E24) -> 614236.4
C21: այդ թվում` ըստ ուղղությունների
C22: Արտաշատ համայնքի Արտաշատ քաղաքում, Այգեպատ, Բուրաստան, Կանաչուտ, Մրգանուշ, Ջրաշեն, Լանջազատ բնակավայրերում նախադպրոցական հաստատությունների /մանկապարտեզներ/ կառուցում /Ջրաշեն/ | D22: 218374 | E22: 218374
C23: Վեդի համայնքի Ուրցաձոր բնակավայրի մանկապարտեզի վերակառուցում | D23: 110101.7 | E23: 110101.7
C24: Վեդի համայնքի Նոր Ուղի, Փոքր Վեդի, Վանաշեն, Սիսավան, Դաշտաքար, Շաղափ, Գինեվետ, Լանջանիստ և Նոր Կյանք բնակավայրերի ոռոգման ցանցերի կառուցում | D24: 285760.7 | E24: 285760.7
C25: ՀՀ Արմավիրի մարզպետի աշխատակազմ | D25: =SUM(D27:D28) -> 48819.5 | E25: =SUM(E27:E28) -> 48819.5
C26: այդ թվում` ըստ ուղղությունների
C27: Բաղրամյան համայնքի Բագարան բնակավայրի Գ.Մարզպետունի 15 հասցեի նախկին կենցաղի տունը հանդիսությունների սրահի վերանորոգման և ուժեղացման աշխատանքներ | D27: 28583 | E27: 28583
C28: Արաքս համայնքի Ջրառատ գյուղի խմելու ջրի ջրամատակարարման համակարգի վերակառուցում, Ջրարբի գյուղի ջրահեռացման համակարգի վերակառուցում, Լուսագյուղ գյուղի ջրահեռացման համակարգի վերակառուցում, Գայ գյուղի ջրահեռացման համակարգի վերակառուցում, Գայ գյուղի ջրամատակարարման համակարգի կառուցում և Մեծամոր գյուղի ջրահեռացման համակարգի վերակառուցում /Լուսագյուղ գյուղի ջրահեռացման համակարգի վերակառուցում/ | D28: 20236.5 | E28: 20236.5
C29: ՀՀ Գեղարքունիքի մարզպետի աշխատակազմ | D29: =SUM(D31:D31) -> 47737.5 | E29: =SUM(E31:E31) -> 47737.5
C30: այդ թվում` ըստ ուղղությունների
C31: Գավառ համայնքի Գավառ քաղաքում/Արծվաքար թաղամաս/ ոռոգման համակարգի վերակառուցում | D31: 47737.5 | E31: 47737.5
C32: ՀՀ Լոռու մարզպետի աշխատակազմ | D32: =SUM(D34:D36) -> 310152.6 | E32: =SUM(E34:E36) -> 310152.6
C33: այդ թվում` ըստ ուղղությունների
C34: Ալավերդի համայնքի ԲԲՇ-ների տանիքների վերանորոգում և շենքերի մասնակի ջերմամեկուսացում | D34: 174625 | E34: 174625
C35: Լոռի Բերդ համայնքի բնակավայրերի ներհամայնքային ճանապարհների կանոնավոր տուֆ քարով սալարկում | D35: 114827.1 | E35: 114827.1
C36: Թումանյան համայնքի Թումանյան, Մարց, Շամուտ, Աթան, Դսեղ, Ահնիձոր, Քարինջ, Լորուտ, Չկալով բնակավայրերի գիշերային լուսավորության ընդլայնում | D36: 20700.5 | E36: 20700.5
C37: ՀՀ Կոտայքի մարզպետի աշխատակազմ | D37: =SUM(D39:D42) -> 618951.6 | E37: =SUM(E39:E42) -> 618951.6
C38: այդ թվում` ըստ ուղղությունների
C39: Նաիրի համայնքի Եղվարդ բնակավայրի Երևանյան փողոցի 5,6,4,9,7 և 8 շենքեր, Քասախ բնակավայրի Ս.Ջալալյանփողոցի 4, Սաֆարյան փողոցի 2 և Ա Ստեփանյան 5 շենքերի, Պռոշյան բնակավայրի Անդրանաիկի 3,4,և Երևաբժնյան 6 շենքերի թեք տանիքների և շքամուտքերի վերանորոգում/Քասախ, Պռոշյան/ | D39: 84786.1 | E39: 84786.1
C40: Նաիրի համայնքի Եղվարդ քաղաքի, Քասախ, Զովունի, Պռոշյան, Բուժական, Զորավան, Արագյուղ և Սարալանջ բնակավայրերի խմելու ջրագծերի բարելավման աշխատանքներ | D40: 142494.6 | E40: 142494.6
C41: Նաիրի համայնքի Եղվարդ քաղաքի, Զովունի, Քասախ և Պռոշյան բնակավայրերի շենքերի տանիքների և շքամուտքերի վերանորոգում | D41: 108322.3 | E41: 108322.3
C42: Նաիրի համայնքի Եղվարդ քաղաքի, Զովունի, Քասախ, Պռոշյան, Բուժական, Զորավան, Արագյուղ և Սարալանջ բնակավայրերի ոռոգման ցանցի կառուցում | D42: 283348.6 | E42: 283348.6
C43: ՀՀ Սյունիքի մարզպետի աշխատակազմ | D43: =SUM(D45:D46) -> 209923.9 | E43: =SUM(E45:E46) -> 209923.9
C44: այդ թվում` ըստ ուղղությունների
C45: Կապան համայնքի Սզնակ բնակվայրի ջրամատակարարման համակարգի բարելավում | D45: 78213.1 | E45: 78213.1
C46: Մեղրի համայնքի «Մեղրի քաղաքի Փարամազի փողոցի 15, 17, 19, 32, 36, 42, Ադելյան փողոցի 15ա, 15բ բազմաբնակարան շենքերի տանիքների վերանորոգում և վերելակների արդիականացում» | D46: 131710.8 | E46: 131710.8
B50: ՀԱՅԱՍՏԱՆԻ ՀԱՆՐԱՊԵՏՈՒԹՅԱՆ
B51: ՎԱՐՉԱՊԵՏԻ ԱՇԽԱՏԱԿԱԶՄԻ
C52: ՂԵԿԱՎԱՐ ՝ Ա. ՀԱՐՈՒԹՅՈՒՆՅԱՆ

Sheet h2
H1: Հավելված № 2
H2: ՀՀ կառավարության 2025 թվականի
H3: -------------- ի № ---- -Ն որոշման
A5: ՀԱՅԱՍՏԱՆԻ ՀԱՆՐԱՊԵՏՈՒԹՅԱՆ ԿԱՌԱՎԱՐՈՒԹՅԱՆ 2024 ԹՎԱԿԱՆԻ ԴԵԿՏԵՄԲԵՐԻ 27-Ի № 2060-Ն ՈՐՈՇՄԱՆ №№ 3 և 4 ՀԱՎԵԼՎԱԾՆԵՐՈՒՄ ԿԱՏԱՐՎՈՂ ՓՈՓՈԽՈՒԹՅՈՒՆՆԵՐԸ ԵՎ ԼՐԱՑՈՒՄՆԵՐԸ
H6: հազար դրամներով
A7: Գործառական դասիչը | D7: Ծրագրային դասիչը | F7: Բյուջետային հատկացումների գլխավոր կարգադրիչների, ծրագրերի, միջոցառումների և միջոցառումները կատարող պետական մարմինների անվանումները | G7: Ցուցանիշների փոփոխությունը (ավելացումները նշված են դրական նշանով, իսկ նվազեցումները` փակագծերում)
A8: բաժին | B8: խումբ | C8: դաս | D8: Ծրագիր | E8: Միջոցառում | G8: Ինն ամիս | H8: Տարի
F9: ԸՆԴԱՄԵՆԸ | G9: =G11 -> 0 | H9: =H11 -> 0
F10: ՀՀ տարածքային կառավարման և ենթակառուցվածքների նախարարություն | G10: =G11 -> 0 | H10: =H11 -> 0
A11: 01 | F11: ԸՆԴՀԱՆՈՒՐ ԲՆՈՒՅԹԻ ՀԱՆՐԱՅԻՆ ԾԱՌԱՅՈՒԹՅՈՒՆՆԵՐ | G11: =G13 -> 0 | H11: =H13 -> 0
F12: այդ թվում՝
B13: 08 | F13: Կառավարության տարբեր մակարդակների միջև իրականացվող ընդհանուր բնույթի տրանսֆերտներ | G13: =G15 -> 0 | H13: =H15 -> 0
F14: այդ թվում՝
C15: 01 | F15: Կառավարության տարբեր մակարդակների միջև իրականացվող ընդհանուր բնույթի տրանսֆերտներ | G15: =G17 -> 0 | H15: =H17 -> 0
F16: այդ թվում՝
F17: ՀՀ տարածքային կառավարման և ենթակառուցվածքների նախարարություն | G17: =G19 -> 0 | H17: =H19 -> 0
F18: այդ թվում՝
D19: 1212 | F19: Տարածքային զարգացում | G19: =G21 -> 0 | H19: =H21 -> 0
F20: այդ թվում`
E21: 12007 | F21: ՀՀ մարզերին սուբվենցիաների տրամադրում՛ ենթակառուցվածքների զարգացման նպատակով_x000D_ | G21: 0 | H21: 0
F22: այդ թվում` ըստ կատարողների
F23: ՀՀ կառավարություն | G23: =G25 -> -1849821.5 | H23: =H25 -> -1849821.5
F24: այդ թվում` բյուջետային ծախսերի տնտեսագիտական դասակարգման հոդվածներ
F25: ԸՆԴԱՄԵՆԸ ԾԱԽՍԵՐ | G25: =G26 -> -1849821.5 | H25: =H26 -> -1849821.5
F26: ԸՆԹԱՑԻԿ ԾԱԽՍԵՐ | G26: =G27 -> -1849821.5 | H26: =H27 -> -1849821.5
F27: ԴՐԱՄԱՇՆՈՐՀՆԵՐ | G27: =G28 -> -1849821.5 | H27: =H28 -> -1849821.5
F28: Կապիտալ դրամաշնորհներ պետական հատվածի այլ մակարդակներին | G28: =G29 -> -1849821.5 | H28: =H29 -> -1849821.5
F29: - Կապիտալ սուբվենցիաներ համայնքներին | G29: =-(G30+G37+G44+G58+G65+G51) -> -1849821.5 | H29: =-(H30+H37+H44+H58+H65+H51) -> -1849821.5
F30: ՀՀ Արարատի մարզպետի աշխատակազմ | G30: ='h1'!D20 -> 614236.4 | H30: ='h1'!E20 -> 614236.4
F31: այդ թվում` բյուջետային ծախսերի տնտեսագիտական դասակարգման հոդվածներ
F32: ԸՆԴԱՄԵՆԸ ԾԱԽՍԵՐ | G32: =G33 -> 614236.4 | H32: =H33 -> 614236.4
F33: ԸՆԹԱՑԻԿ ԾԱԽՍԵՐ | G33: =G34 -> 614236.4 | H33: =H34 -> 614236.4
F34: ԴՐԱՄԱՇՆՈՐՀՆԵՐ | G34: =G35 -> 614236.4 | H34: =H35 -> 614236.4
F35: Կապիտալ դրամաշնորհներ պետական հատվածի այլ մակարդակներին | G35: =G36 -> 614236.4 | H35: =H36 -> 614236.4
F36: - Կապիտալ սուբվենցիաներ համայնքներին | G36: ='h1'!D20 -> 614236.4 | H36: ='h1'!E20 -> 614236.4
F37: ՀՀ Արմավիրի մարզպետի աշխատակազմ | G37: ='h1'!D25 -> 48819.5 | H37: ='h1'!E25 -> 48819.5
F38: այդ թվում` բյուջետային ծախսերի տնտեսագիտական դասակարգման հոդվածներ
F39: ԸՆԴԱՄԵՆԸ ԾԱԽՍԵՐ | G39: =G40 -> 48819.5 | H39: =H40 -> 48819.5
F40: ԸՆԹԱՑԻԿ ԾԱԽՍԵՐ | G40: =G41 -> 48819.5 | H40: =H41 -> 48819.5
F41: ԴՐԱՄԱՇՆՈՐՀՆԵՐ | G41: =G42 -> 48819.5 | H41: =H42 -> 48819.5
F42: Կապիտալ դրամաշնորհներ պետական հատվածի այլ մակարդակներին | G42: =G43 -> 48819.5 | H42: =H43 -> 48819.5
F43: - Կապիտալ սուբվենցիաներ համայնքներին | G43: ='h1'!D25 -> 48819.5 | H43: ='h1'!E25 -> 48819.5
F44: ՀՀ Գեղարքունիքի մարզպետի աշխատակազմ | G44: ='h1'!D29 -> 47737.5 | H44: ='h1'!E29 -> 47737.5
F45: այդ թվում` բյուջետային ծախսերի տնտեսագիտական դասակարգման հոդվածներ
F46: ԸՆԴԱՄԵՆԸ ԾԱԽՍԵՐ | G46: ='h1'!D29 -> 47737.5 | H46: ='h1'!E29 -> 47737.5
F47: ԸՆԹԱՑԻԿ ԾԱԽՍԵՐ | G47: =G48 -> 47737.5 | H47: =H48 -> 47737.5
F48: ԴՐԱՄԱՇՆՈՐՀՆԵՐ | G48: =G49 -> 47737.5 | H48: =H49 -> 47737.5
F49: Կապիտալ դրամաշնորհներ պետական հատվածի այլ մակարդակներին | G49: =G50 -> 47737.5 | H49: =H50 -> 47737.5
F50: - Կապիտալ սուբվենցիաներ համայնքներին | G50: ='h1'!D29 -> 47737.5 | H50: ='h1'!E29 -> 47737.5
F51: ՀՀ Լոռու մարզպետի աշխատակազմ | G51: ='h1'!D32 -> 310152.6 | H51: ='h1'!E32 -> 310152.6
F52: այդ թվում` բյուջետային ծախսերի տնտեսագիտական դասակարգման հոդվածներ
F53: ԸՆԴԱՄԵՆԸ ԾԱԽՍԵՐ | G53: =G54 -> 310152.6 | H53: =H54 -> 310152.6
F54: ԸՆԹԱՑԻԿ ԾԱԽՍԵՐ | G54: =G55 -> 310152.6 | H54: =H55 -> 310152.6
F55: ԴՐԱՄԱՇՆՈՐՀՆԵՐ | G55: =G56 -> 310152.6 | H55: =H56 -> 310152.6
F56: Կապիտալ դրամաշնորհներ պետական հատվածի այլ մակարդակներին | G56: =G57 -> 310152.6 | H56: =H57 -> 310152.6
F57: - Կապիտալ սուբվենցիաներ համայնքներին | G57: ='h1'!D32 -> 310152.6 | H57: =G57 -> 310152.6
F58: ՀՀ Կոտայքի մարզպետի աշխատակազմ | G58: ='h1'!D37 -> 618951.6 | H58: ='h1'!E37 -> 618951.6
F59: այդ թվում` բյուջետային ծախսերի տնտեսագիտական դասակարգման հոդվածներ
F60: ԸՆԴԱՄԵՆԸ ԾԱԽՍԵՐ | G60: =G61 -> 618951.6 | H60: =H61 -> 618951.6
F61: ԸՆԹԱՑԻԿ ԾԱԽՍԵՐ | G61: =G62 -> 618951.6 | H61: =H62 -> 618951.6
F62: ԴՐԱՄԱՇՆՈՐՀՆԵՐ | G62: =G63 -> 618951.6 | H62: =H63 -> 618951.6
F63: Կապիտալ դրամաշնորհներ պետական հատվածի այլ մակարդակներին | G63: =G64 -> 618951.6 | H63: =H64 -> 618951.6
F64: - Կապիտալ սուբվենցիաներ համայնքներին | G64: ='h1'!D37 -> 618951.6 | H64: =G64 -> 618951.6
F65: ՀՀ Սյունիքի մարզպետի աշխատակազմ | G65: ='h1'!D43 -> 209923.9 | H65: ='h1'!E43 -> 209923.9
F66: այդ թվում` բյուջետային ծախսերի տնտեսագիտական դասակարգման հոդվածներ
F67: ԸՆԴԱՄԵՆԸ ԾԱԽՍԵՐ | G67: =G65 -> 209923.9 | H67: =H65 -> 209923.9
F68: ԸՆԹԱՑԻԿ ԾԱԽՍԵՐ | G68: =G67 -> 209923.9 | H68: =H67 -> 209923.9
F69: ԴՐԱՄԱՇՆՈՐՀՆԵՐ | G69: =G68 -> 209923.9 | H69: =H68 -> 209923.9
F70: Կապիտալ դրամաշնորհներ պետական հատվածի այլ մակարդակներին | G70: =G69 -> 209923.9 | H70: =H69 -> 209923.9
F71: - Կապիտալ սուբվենցիաներ համայնքներին | G71: =G70 -> 209923.9 | H71: =H70 -> 209923.9
B74: ՀԱՅԱՍՏԱՆԻ ՀԱՆՐԱՊԵՏՈՒԹՅԱՆ
B75: ՎԱՐՉԱՊԵՏԻ ԱՇԽԱՏԱԿԱԶՄԻ
C76: ՂԵԿԱՎԱՐ ՝ Ա. ՀԱՐՈՒԹՅՈՒՆՅԱՆ

Sheet h3
K1: Հավելված № 3
K2: ՀՀ կառավարության 2025 թվականի
K3: -------------- ի № ---- -Ն որոշման
B5: ՀԱՅԱՍՏԱՆԻ ՀԱՆՐԱՊԵՏՈՒԹՅԱՆ ԿԱՌԱՎԱՐՈՒԹՅԱՆ 2024 ԹՎԱԿԱՆԻ ԴԵԿՏԵՄԲԵՐԻ 27-Ի № 2060-Ն ՈՐՈՇՄԱՆ № 9 ՀԱՎԵԼՎԱԾԻ ԱՂՅՈՒՍԱԿՆԵՐՈՒՄ ԿԱՏԱՐՎՈՂ ԼՐԱՑՈՒՄՆԵՐԸ
L7: հազար դրամներով
B8: ԲԳԿ | C8: Ծրագիր | E8: Միջոցառում | I8: Իրականացնողը/ ակտիվն օգտագործողը/ շահառուի ընտրության չափորոշիչը | J8: Արդյունքային չափորոշիչը | K8: Ցուցանիշների փոփոխությունը (ավելացումները նշված են դրական նշանով, իսկ նվազեցումները` փակագծերում)
C9: Դասիչը | D9: Անվանումը | E9: Դասիչը | F9: Անվանումը | G9: Նկարագրությունը | H9: Տեսակը | K9: Ինն ամիս | L9: Տարի
B10: ԸՆԴԱՄԵՆԸ | K10: =K13 -> 0 | L10: =L13 -> 0
B11: ՀՀ տարածքային կառավարման և ենթակառուցվածքների նախարարություն | K11: =K13 -> 0 | L11: =L13 -> 0
C12: 1212 | D12: Տարածքային զարգացում | K12: =K13 -> 0 | L12: =L13 -> 0
E13: 1212 - 12007 | F13: ՀՀ մարզերին սուբվենցիաների տրամադրում` ենթակառուցվածքների զարգացման նպատակով | K13: 0 | L13: 0
G14: ՀՀ մարզերին սուբվենցիաների տրամադրում` ենթակառուցվածքների զարգացման նպատակով
H15: Տրանսֆերտների տրամադրում
I16: Շահառուների ընտրության չափորոշիչները` ՀՀ կառավարության 16.11.2006թ. «ՀՀ պետական բյուջեից համայնքներին սուբվենցիաների տրամադրման կարգը հաստատելու մասին» 1708-Ն որոշում
J17: ՀՀ համայնքների թիվ, հատ | L17: ='h4'!L38+'h4'!L46 -> 4
J18: Ծրագրերի քանակ, հատ | L18: ='h4'!L17+'h4'!L24+'h4'!L31+'h4'!L39+'h4'!L47+'h4'!L54 -> 15
D21: ՀԱՅԱՍՏԱՆԻ ՀԱՆՐԱՊԵՏՈՒԹՅԱՆ
D22: ՎԱՐՉԱՊԵՏԻ ԱՇԽԱՏԱԿԱԶՄԻ
E23: ՂԵԿԱՎԱՐ ՝ Ա. ՀԱՐՈՒԹՅՈՒՆՅԱՆ

Sheet h4
J1: Հավելված № 4
J2: ՀՀ կառավարության 2025 թվականի
J3: -------------- ի № ---- -Ն որոշման
B5: ՀԱՅԱՍՏԱՆԻ ՀԱՆՐԱՊԵՏՈՒԹՅԱՆ ԿԱՌԱՎԱՐՈՒԹՅԱՆ 2024 ԹՎԱԿԱՆԻ ԴԵԿՏԵՄԲԵՐԻ 27-Ի № 2060-Ն ՈՐՈՇՄԱՆ № 9.1 ՀԱՎԵԼՎԱԾԻ ԱՂՅՈՒՍԱԿՆԵՐՈՒՄ ԿԱՏԱՐՎՈՂ ՓՈՓՈԽՈՒԹՅՈՒՆԸ ԵՎ ԼՐԱՑՈՒՄՆԵՐԸ
L7: հազար դրամներով
B8: ԲՍԿ | C8: Ծրագիր | E8: Միջոցառում | I8: Իրականացնողը/ ակտիվն օգտագործողը/ շահառուի ընտրության չափորոշիչը | J8: Արդյունքային չափորոշիչը | K8: Ցուցանիշների փոփոխությունը (ավելացումները նշված են դրական նշանով, իսկ նվազեցումները` փակագծերում)
C9: Դասիչը | D9: Անվանումը | E9: Դասիչը | F9: Անվանումը | G9: Նկարագրությունը | H9: Տեսակը | K9: Ինն ամիս | L9: Տարի
B10: ԸՆԴԱՄԵՆԸ | K10: =K11+K18+K25+K32+K40+K48+K55 -> 0 | L10: =+L11+L18+L25+L32+L40+L48+L55 -> 0
B11: ՀՀ Արարատի մարզպետի աշխատակազմ | K11: =K12 -> 614236.4 | L11: =L12 -> 614236.4
C12: 1212 | D12: Տարածքային զարգացում | K12: =K13 -> 614236.4 | L12: =L13 -> 614236.4
E13: 1212 - 12007 | F13: ՀՀ մարզերին սուբվենցիաների տրամադրում` ենթակառուցվածքների զարգացման նպատակով | K13: ='h1'!D20 -> 614236.4 | L13: ='h1'!E20 -> 614236.4
G14: ՀՀ մարզերին սուբվենցիաների տրամադրում` ենթակառուցվածքների զարգացման նպատակով
H15: Տրանսֆերտների տրամադրում
I16: Շահառուների ընտրության չափորոշիչները` ՀՀ կառավարության 16.11.2006թ. «ՀՀ պետական բյուջեից համայնքներին սուբվենցիաների տրամադրման կարգը հաստատելու մասին» 1708-Ն որոշում
J17: Ծրագրերի քանակ, հատ | L17: 3
B18: ՀՀ Արմավիրի մարզպետի աշխատակազմ | K18: =K19 -> 48819.5 | L18: =L19 -> 48819.5
C19: 1212 | D19: Տարածքային զարգացում | K19: =K20 -> 48819.5 | L19: =L20 -> 48819.5
E20: 1212 - 12007 | F20: ՀՀ մարզերին սուբվենցիաների տրամադրում` ենթակառուցվածքների զարգացման նպատակով | K20: ='h1'!D25 -> 48819.5 | L20: ='h1'!E25 -> 48819.5
G21: ՀՀ մարզերին սուբվենցիաների տրամադրում` ենթակառուցվածքների զարգացման նպատակով
H22: Տրանսֆերտների տրամադրում
I23: Շահառուների ընտրության չափորոշիչները` ՀՀ կառավարության 16.11.2006թ. «ՀՀ պետական բյուջեից համայնքներին սուբվենցիաների տրամադրման կարգը հաստատելու մասին» 1708-Ն որոշում
J24: Ծրագրերի քանակ, հատ | L24: 2
B25: ՀՀ Գեղարքունիքի մարզպետի աշխատակազմ | K25: ='h1'!D29 -> 47737.5 | L25: ='h1'!E29 -> 47737.5
C26: 1212 | D26: Տարածքային զարգացում | K26: =K25 -> 47737.5 | L26: =L25 -> 47737.5
E27: 1212 - 12007 | F27: ՀՀ մարզերին սուբվենցիաների տրամադրում` ենթակառուցվածքների զարգացման նպատակով | K27: =K26 -> 47737.5 | L27: =L26 -> 47737.5
G28: ՀՀ մարզերին սուբվենցիաների տրամադրում` ենթակառուցվածքների զարգացման նպատակով
H29: Տրանսֆերտների տրամադրում
I30: Շահառուների ընտրության չափորոշիչները` ՀՀ կառավարության 16.11.2006թ. «ՀՀ պետական բյուջեից համայնքներին սուբվենցիաների տրամադրման կարգը հաստատելու մասին» 1708-Ն որոշում
J31: Ծրագրերի քանակ, հատ | L31: 1
B32: ՀՀ Լոռու մարզպետի աշխատակազմ | K32: =K33 -> 310152.6 | L32: =L33 -> 310152.6
C33: 1212 | D33: Տարածքային զարգացում | K33: =K34 -> 310152.6 | L33: =L34 -> 310152.6
E34: 1212 - 12007 | F34: ՀՀ մարզերին սուբվենցիաների տրամադրում` ենթակառուցվածքների զարգացման նպատակով | K34: ='h1'!D32 -> 310152.6 | L34: ='h1'!E32 -> 310152.6
G35: ՀՀ մարզերին սուբվենցիաների տրամադրում` ենթակառուցվածքների զարգացման նպատակով
H36: Տրանսֆերտների տրամադրում
I37: Շահառուների ընտրության չափորոշիչները` ՀՀ կառավարության 16.11.2006թ. «ՀՀ պետական բյուջեից համայնքներին սուբվենցիաների տրամադրման կարգը հաստատելու մասին» 1708-Ն որոշում
J38: ՀՀ համայնքների թիվ, հատ | L38: 3
J39: Ծրագրերի քանակ, հատ | L39: 3
B40: ՀՀ Կոտայքի մարզպետի աշխատակազմ | K40: =K41 -> 618951.6 | L40: =L41 -> 618951.6
C41: 1212 | D41: Տարածքային զարգացում | K41: =K42 -> 618951.6 | L41: =L42 -> 618951.6
E42: 1212 - 12007 | F42: ՀՀ մարզերին սուբվենցիաների տրամադրում` ենթակառուցվածքների զարգացման նպատակով | K42: ='h1'!D37 -> 618951.6 | L42: ='h1'!E37 -> 618951.6
G43: ՀՀ մարզերին սուբվենցիաների տրամադրում` ենթակառուցվածքների զարգացման նպատակով
H44: Տրանսֆերտների տրամադրում
I45: Շահառուների ընտրության չափորոշիչները` ՀՀ կառավարության 16.11.2006թ. «ՀՀ պետական բյուջեից համայնքներին սուբվենցիաների տրամադրման կարգը հաստատելու մասին» 1708-Ն որոշում
J46: ՀՀ համայնքների թիվ, հատ | L46: 1
J47: Ծրագրերի քանակ, հատ | L47: 4
B48: ՀՀ Սյունիքի մարզպետի աշխատակազմ | K48: =K49 -> 209923.9 | L48: =L49 -> 209923.9
C49: 1212 | D49: Տարածքային զարգացում | K49: =K50 -> 209923.9 | L49: =L50 -> 209923.9
E50: 1212 - 12007 | F50: ՀՀ մարզերին սուբվենցիաների տրամադրում` ենթակառուցվածքների զարգացման նպատակով | K50: ='h1'!D43 -> 209923.9 | L50: ='h1'!E43 -> 209923.9
G51: ՀՀ մարզերին սուբվենցիաների տրամադրում` ենթակառուցվածքների զարգացման նպատակով
H52: Տրանսֆերտների տրամադրում
I53: Շահառուների ընտրության չափորոշիչները` ՀՀ կառավարության 16.11.2006թ. «ՀՀ պետական բյուջեից համայնքներին սուբվենցիաների տրամադրման կարգը հաստատելու մասին» 1708-Ն որոշում
J54: Ծրագրերի քանակ, հատ | L54: 2
B55: ՀՀ կառավարություն | K55: =K56 -> -1849821.5 | L55: =L56 -> -1849821.5
C56: 1212 | D56: Տարածքային զարգացում | K56: =K57 -> -1849821.5 | L56: =L57 -> -1849821.5
E57: 1212 - 12007 | F57: ՀՀ մարզերին սուբվենցիաների տրամադրում` ենթակառուցվածքների զարգացման նպատակով | K57: ='h1'!D19 -> -1849821.5 | L57: ='h1'!E19 -> -1849821.5
G58: ՀՀ մարզերին սուբվենցիաների տրամադրում` ենթակառուցվածքների զարգացման նպատակով
H59: Տրանսֆերտների տրամադրում
I60: Շահառուների ընտրության չափորոշիչները` ՀՀ կառավարության 16.11.2006թ. «ՀՀ պետական բյուջեից համայնքներին սուբվենցիաների տրամադրման կարգը հաստատելու մասին» 1708-Ն որոշում
C64: ՀԱՅԱՍՏԱՆԻ ՀԱՆՐԱՊԵՏՈՒԹՅԱՆ
C65: ՎԱՐՉԱՊԵՏԻ ԱՇԽԱՏԱԿԱԶՄԻ
D66: ՂԵԿԱՎԱՐ ՝ Ա. ՀԱՐՈՒԹՅՈՒՆՅԱՆ
