Workbook
Name _tab10: #REF!
Name _tab11: #REF!
Name _tab12: #REF!
Name _tab13: #REF!
Name _tab14: #REF!
Name _tab15: #REF!
Name _tab16: #REF!
Name _tab17: #REF!
Name _tab18: #REF!
Name _tab19: #REF!
Name _tab20: #REF!
Name _tab21: #REF!
Name _tab22: #REF!
Name _tab23: #REF!
Name _tab24: #REF!
Name _tab5: #REF!
Name _tab6: #REF!
Name _tab7: #REF!
Name _tab8: #REF!
Name _tab9: #REF!
Name AgencyCode: #REF!
Name AgencyName: #REF!
Name åû: #REF!
Name davit: #REF!
Name Functional1: #REF!
Name ggg: #REF!
Name mas: #REF!
Name mass: #REF!
Name PANature: #REF!
Name par_count: #REF!,#REF!,#REF!,#REF!,#REF!,#REF!,#REF!,#REF!,#REF!,#REF!,#REF!,#REF!,#REF!,#REF!,#REF!
Name par_qual: #REF!,#REF!,#REF!,#REF!,#REF!
Name par_time: #REF!,#REF!,#REF!,#REF!
Name par2.12s: #REF!
Name par2.4s: #REF!,#REF!,#REF!,#REF!,#REF!,#REF!,#REF!,#REF!,#REF!,#REF!,#REF!,#REF!,#REF!,#REF!,#REF!,#REF!
Name par2.5s: #REF!,#REF!
Name par2.6s: #REF!,#REF!,#REF!,#REF!
Name par2.7s: #REF!,#REF!
Name par2.9s: #REF!,#REF!,#REF!,#REF!,#REF!,#REF!,#REF!,#REF!,#REF!,#REF!,#REF!,#REF!,#REF!,#REF!,#REF!,#REF!
Name par4.10s: #REF!,#REF!
Name par4.11d: #REF!,#REF!,#REF!,#REF!,#REF!
Name par4.12d: #REF!
Name par4.13s: #REF!
Name par4.14: #REF!,#REF!,#REF!,#REF!,#REF!,#REF!
Name par4.15: #REF!,#REF!,#REF!
Name par4.16: #REF!,#REF!,#REF!
Name par4.17: #REF!,#REF!,#REF!,#REF!
Name par4.18d: #REF!,#REF!
Name par4.19s: #REF!
Name par4.20f: #REF!
Name par4.21f: #REF!
Name par4.22: #REF!
Name par4.4: #REF!
Name par4.5: #REF!
Name par4.6s: #REF!
Name par4.7s: #REF!
Name par4.8: #REF!,#REF!,#REF!,#REF!,#REF!
Name par4.9: #REF!,#REF!,#REF!,#REF!,#REF!,#REF!
Name par5.1: #REF!,#REF!
Name par5.3: #REF!,#REF!,#REF!,#REF!,#REF!,#REF!
Name par5.4: #REF!,#REF!,#REF!,#REF!,#REF!

Sheet հավելված1
H1: Հավելված N 1
F2: ՀՀ կառավարության 2025 թվականի
H3: N ------------ -Ն որոշման
A5: «ՀԱՅԱՍՏԱՆԻ ՀԱՆՐԱՊԵՏՈՒԹՅԱՆ 2025 ԹՎԱԿԱՆԻ ՊԵՏԱԿԱՆ ԲՅՈՒՋԵԻ ՄԱՍԻՆ» ՕՐԵՆՔԻ N 1 ՀԱՎԵԼՎԱԾԻ N 2 ԱՂՅՈՒՍԱԿՈՒՄ ԿԱՏԱՐՎՈՂ ՎԵՐԱԲԱՇԽՈՒՄԸ ԵՎ ՀԱՅԱՍՏԱՆԻ ՀԱՆՐԱՊԵՏՈՒԹՅԱՆ ԿԱՌԱՎԱՐՈՒԹՅԱՆ 2024 ԹՎԱԿԱՆԻ ԴԵԿՏԵՄԲԵՐԻ 27-Ի N 2060-Ն ՈՐՈՇՄԱՆ N 5 ՀԱՎԵԼՎԱԾԻ N 1 ԱՂՅՈՒՍԱԿՈՒՄ ԿԱՏԱՐՎՈՂ ՓՈՓՈԽՈՒԹՅՈՒՆՆԵՐԸ ԵՎ ԼՐԱՑՈՒՄՆԵՐԸ
G8: հազար դրամներով
A9: ԲԳԿ | B9: Ծրագրային դասիչը | D9: ԲԳԿ/Ծրագրի /միջոցառման անվանումը | E9: Ծրագրի նպատակը/Միջոցառման նկարագրությունը | F9: Վերջնական արդյունքի նկարագրությունը/Միջոցառման տեսակը | G9: Ցուցանիշների փոփոխությունը (ավելացումները նշված են դրական նշանով, իսկ նվազեցումները` փակագծերում)
B10: Ծրագիր | C10: Միջոցառում | G10: Ինն ամիս | H10: Տարի
A11: ԸՆԴԱՄԵՆԸ | G11: =G12 -> 0 | H11: =H12 -> 0
A12: ՀՀ արդարադատության նախարարություն | G12: =G13+G15 -> 0 | H12: =H13+H15 -> 0
B13: 1149 | D13: Արդարադատության համակարգի աշխատակիցների վերապատրաստում և հատուկ ուսուցում | E13: Արդարադատության համակարգի աշխատակիցների աշխատանքի արդյունավետության բարելավում | F13: Արդարադատության համակարգի աշխատակիցների մասնագիտական գիտելիքների և կարողությունների բարելավում | G13: =G14 -> 8753.1 | H13: =H14 -> 15492.3
C14: 1149-12001 | D14: Մասնագիտական վերապատրաստում անցնող ունկնդիրներին կրթաթոշակի տրամադրում | E14: Դատավորների և դատախազների թեկնածությունների ցուցակում ընդգրկվելու նպատակով անձանց վերապատրաստման կրթաթոշակի տրամադրում | F14: Տրանսֆերտների տրամադրում | G14: =+հավելված3!G23 -> 8753.1 | H14: =+հավելված3!H23 -> 15492.3
B15: 1120 | D15: Քրեակատարողական ծառայություններ | E15: Դատապարտյալների պատժի կատարման և ուղղման համար անհրաժեշտ պայմանների ապահովում | F15: Դատապարտյալների զբաղվածության և իրավունքների պաշտպանություն | G15: =G16 -> -8753.1 | H15: =H16 -> -15492.3
C16: 1120-31002 | D16: ՀՀ արդարադատության նախարարության քրեակատարողական ծառայության կարողությունների զարգացում և տեխնիկական հագեցվածության ապահովում | E16: ՀՀ արդարադատության նախարարության քրեակատարողական ծառայության աշխատանքային պայմանների բարելավման համար վարչական սարքավորումների ձեռք բերում | F16: Պետական մարմինների կողմից օգտագործվող ոչ ֆինանսական ակտիվների հետ գործառնություններ | G16: =+հավելված3!G49 -> -8753.1 | H16: =+հավելված3!H49 -> -15492.3
A17: ՀՀ կառավարություն | G17: =G18 -> 0 | H17: =H18 -> 0
B18: 1139 | D18: ՀՀ կառավարության պահուստային ֆոնդ | E18: Պետական բյուջեում չկանխատեսված, ինչպես նաեւ բյուջետային երաշխիքների ապահովման ծախսերի ֆինանսավորման ապահովում | F18: Պահուստային ֆոնդի կառավարման արդյունավետության և թափանցիկության ապահովում | G18: =G19+G20 -> 0 | H18: =H19+H20 -> 0
C19: 1139 - 11001 | D19: ՀՀ կառավարության պահուստային ֆոնդ | E19: ՀՀ պետական բյուջեում նախատեսված ելքերի լրացուցիչ ֆինանսավորման, պետական բյուջեում չկանխատեսված ելքերի, ինչպես նաև բյուջետային երաշխիքների ապահովման ելքերի ֆինանսավորման ապահովում | F19: Ծառայությունների մատուցում | G19: =+հավելված3!G62 -> 8753.1 | H19: =+հավելված3!H62 -> 15492.3
C20: 1139 - 11001 | D20: ՀՀ կառավարության պահուստային ֆոնդ | E20: ՀՀ պետական բյուջեում նախատեսված ելքերի լրացուցիչ ֆինանսավորման, պետական բյուջեում չկանխատեսված ելքերի, ինչպես նաև բյուջետային երաշխիքների ապահովման ելքերի ֆինանսավորման ապահովում | F20: Ծառայությունների մատուցում | G20: =+հավելված3!G71 -> -8753.1 | H20: =+հավելված3!H71 -> -15492.3

Sheet հավելված2
H1: Հավելված № 2
H2: ՀՀ կառավարության 2025 թվականի ----------
H3: № ---------- որոշման
A6: ՀԱՅԱՍՏԱՆԻ ՀԱՆՐԱՊԵՏՈՒԹՅԱՆ 2025 ԹՎԱԿԱՆԻ ՊԵՏԱԿԱՆ ԲՅՈՒՋԵԻ ՄԱՍԻՆ ՕՐԵՆՔԻ N 1 ՀԱՎԵԼՎԱԾԻ N 3 ԱՂՅՈՒՍԱԿՈՒՄ ԿԱՏԱՐՎՈՂ ՓՈՓՈԽՈՒԹՅՈՒՆԸ
G7: հազար դրամ
A8: Ծրագրային դասիչը | C8: Բյուջետային գլխավոր կարգադրիչների, ծրագրերի և միջոցառումների և ուղղությունների անվանումները | D8: Ընդամենը | E8: Ցուցանիշների փոփոխությունը (նվազեցումները նշված են փակագծերում)
A10: Ծրագիր | B10: Միջոցառում | E10: Կառուցման աշխատանքներ | F10: Վերակառուցման, վերանորոգման և վերականգնման աշխատանքներ | G10: Նախագծահե- տազոտական, գեոդեզիա- քարտեզագրա- կան աշխա- տանքներ | H10: Ոչ ֆինանսական այլ ակտիվների ձեռքբերում
C11: Ընդամենը | D11: =D13 -> -15492.3 | E11: =E13 -> 0 | F11: =F13 -> 0 | G11: =G13 -> 0 | H11: =H13 -> -15492.3
C12: այդ թվում`
C13: ՀՀ արդարադատության նախարարություն | D13: =+F13+E13+G13+H13 -> -15492.3 | E13: 0 | F13: =+F15 -> 0 | G13: =+G15 -> 0 | H13: =+H15 -> -15492.3
C14: այդ թվում՝
A15: 1120 | B15: 31002 | C15: ՀՀ արդարադատության նախարարության քրեակատարողական ծառայության կարողությունների զարգացում և տեխնիկական հագեցվածության ապահովում | D15: =+F15+E15+G15+H15 -> -15492.3 | E15: 0 | F15: 0 | G15: 0 | H15: =+հավելված3!H40 -> -15492.3

Sheet հավելված3
H2: Հավելված N 3
F3: ՀՀ կառավարության 2025 թվականի
F4: ______________ ի ___Ն որոշման
A7: ՀԱՅԱՍՏԱՆԻ ՀԱՆՐԱՊԵՏՈՒԹՅԱՆ ԿԱՌԱՎԱՐՈՒԹՅԱՆ 2024 ԹՎԱԿԱՆԻ ԴԵԿՏԵՄԲԵՐԻ 27-Ի N 2060-Ն ՈՐՈՇՄԱՆ NN 3 ԵՎ 4 ՀԱՎԵԼՎԱԾՆԵՐՈՒՄ ԿԱՏԱՐՎՈՂ ՓՈՓՈԽՈՒԹՅՈՒՆՆԵՐԸ ԵՎ ԼՐԱՑՈՒՄՆԵՐԸ
G9: հազար դրամներով
A10: Գործառական դասիչը | D10: Ծրագրային դասիչը | F10: Բյուջետային հատկացումների գլխավոր կարգադրիչների, ծրագրերի, միջոցառումների և միջոցառումները կատարող պետական մարմինների անվանումները | G10: Ցուցանիշների փոփոխությունը (ավելացումները նշված են դրական նշանով, իսկ նվազեցումները` փակագծերում)
A11: Բաժին | B11: Խումբ | C11: Դաս | D11: Ծրագիր | E11: Միջոցառում | G11: Ինն ամիս | H11: Տարի
F12: ԸՆԴԱՄԵՆԸ | G12: =+G13+G32 -> 0 | H12: =+H13+H32 -> 0
A13: 09 | F13: ԿՐԹՈՒԹՅՈՒՆ | G13: =G15 -> 8753.1 | H13: =H15 -> 15492.3
F14: այդ թվում`
B15: 05 | F15: Ըստ մակարդակների չդասակարգվող կրթություն | G15: =G17 -> 8753.1 | H15: =H17 -> 15492.3
F16: այդ թվում`
C17: 02 | F17: Լրացուցիչ կրթություն | G17: =G21 -> 8753.1 | H17: =H21 -> 15492.3
F18: այդ թվում`
F19: ՀՀ արդարադատության նախարարություն | G19: =G21 -> 8753.1 | H19: =H21 -> 15492.3
F20: այդ թվում`
D21: 1149 | F21: Արդարադատության համակարգի աշխատակիցների վերապատրաստում և հատուկ ուսուցում | G21: =G23 -> 8753.1 | H21: =H23 -> 15492.3
F22: այդ թվում`
E23: 12001 | F23: Մասնագիտական վերապատրաստում անցնող ունկնդիրներին կրթաթոշակի տրամադրում | G23: =G25 -> 8753.1 | H23: =H25 -> 15492.3
F24: այդ թվում` ըստ կատարողների
F25: ՀՀ արդարադատության նախարարություն | G25: =G27 -> 8753.1 | H25: =H27 -> 15492.3
F26: այդ թվում` բյուջետային ծախսերի տնտեսագիտական դասակարգման հոդվածներ
F27: ԸՆԴԱՄԵՆԸ ԾԱԽՍԵՐ | G27: =G28 -> 8753.1 | H27: =H28 -> 15492.3
F28: ԸՆԹԱՑԻԿ ԾԱԽՍԵՐ | G28: =G30 -> 8753.1 | H28: =H30 -> 15492.3
F29: ՍՈՑԻԱԼԱԿԱՆ ՆՊԱՍՏՆԵՐ ԵՎ ԿԵՆՍԱԹՈՇԱԿՆԵՐ | G29: =G30 -> 8753.1 | H29: =H30 -> 15492.3
F30: Սոցիալական օգնության դրամական արտահայտությամբ նպաստներ (բյուջեից) | G30: =G31 -> 8753.1 | H30: =H31 -> 15492.3
F31: - Կրթական, մշակութային և սպորտային նպաստներ բյուջեից | G31: 8753.1 | H31: 15492.3
A32: 03 | F32: ՀԱՍԱՐԱԿԱԿԱՆ ԿԱՐԳ, ԱՆՎՏԱՆԳՈՒԹՅՈՒՆ ԵՎ ԴԱՏԱԿԱՆ ԳՈՐԾՈՒՆԵՈՒԹՅՈՒՆ | G32: =G34 -> -8753.1 | H32: =H34 -> -15492.3
F33: այդ թվում`
B34: 05 | F34: Կալանավայրեր | G34: =+G36 -> -8753.1 | H34: =+H36 -> -15492.3
F35: այդ թվում`
C36: 01 | F36: Կալանավայրեր | G36: =+G38 -> -8753.1 | H36: =+H38 -> -15492.3
F37: այդ թվում`
F38: ՀՀ արդարադատության նախարարություն | G38: =+G40 -> -8753.1 | H38: =+H40 -> -15492.3
F39: այդ թվում`
D40: 1120 | F40: Քրեակատարողական ծառայություններ | G40: =G42 -> -8753.1 | H40: =H42 -> -15492.3
F41: այդ թվում
E42: 31002 | F42: ՀՀ արդարադատության նախարարության քրեակատարողական ծառայության կարողությունների զարգացում և տեխնիկական հագեցվածության ապահովում | G42: =G44 -> -8753.1 | H42: =H44 -> -15492.3
F43: այդ թվում` ըստ կատարողների
F44: ՀՀ արդարադատության նախարարության քրեակատարողական ծառայություն | G44: =G46 -> -8753.1 | H44: =H46 -> -15492.3
...

Sheet հավելված4
E1: Հավելված № 4
C2: ՀՀ կառավարության 2025 թվականի
C3: ______________ ի ___Ն որոշման
A5: ՀԱՅԱՍՏԱՆԻ ՀԱՆՐԱՊԵՏՈՒԹՅԱՆ ԿԱՌԱՎԱՐՈՒԹՅԱՆ 2024 ԹՎԱԿԱՆԻ ԴԵԿՏԵՄԲԵՐԻ 27-Ի N 2060-Ն ՈՐՈՇՄԱՆ N5 ՀԱՎԵԼՎԱԾԻ N2 ԱՂՅՈՒՍԱԿՈՒՄ ԿԱՏԱՐՎՈՂ ՓՈՓՈԽՈՒԹՅՈՒՆԸ
E7: հազար դրամներով
A8: Ծրագրային դասիչ | C8: Բյուջետային գլխավոր կարգադրիչների, ծրագրերի, միջոցառումների, միջոցառումները կատարող պետական մարմինների և ուղղությունների անվանումները | D8: Ցուցանիշների փոփոխությունը (նվազեցումները նշված են փակագծերում)
A9: Ծրագիր | B9: Միջոց առում | D9: Ինն ամիս | E9: Տարի
C10: ԸՆԴԱՄԵՆԸ | D10: =D11 -> -8753.1 | E10: =E11 -> -15492.3
C11: ՀՀ արդարադատության նախարարություն | D11: =+D13 -> -8753.1 | E11: =+E13 -> -15492.3
C12: այդ թվում`
A13: 1120 | B13: 31002 | C13: ՀՀ արդարադատության նախարարության քրեակատարողական ծառայության կարողությունների զարգացում և տեխնիկական հագեցվածության ապահովում | D13: =+D15 -> -8753.1 | E13: =+E15 -> -15492.3
C14: այդ թվում` ըստ կատարողների
C15: ՀՀ արդարադատության նախարարության քրեակատարողական ծառայություն | D15: =+հավելված3!G42 -> -8753.1 | E15: =+հավելված3!H42 -> -15492.3

Sheet հավելված5
K1: Հավելված № 5
K2: ՀՀ կառավարության 2025 թվականի
K3: ______________ ի ___Ն որոշման
B5: ՀԱՅԱՍՏԱՆԻ ՀԱՆՐԱՊԵՏՈՒԹՅԱՆ ԿԱՌԱՎԱՐՈՒԹՅԱՆ 2024 ԹՎԱԿԱՆԻ ԴԵԿՏԵՄԲԵՐԻ 27-Ի № 2060-Ն ՈՐՈՇՄԱՆ № 9 ՀԱՎԵԼՎԱԾԻ ԱՂՅՈՒՍԱԿՆԵՐՈՒՄ ԿԱՏԱՐՎՈՂ ՓՈՓՈԽՈՒԹՅՈՒՆՆԵՐԸ ԵՎ ԼՐԱՑՈՒՄՆԵՐԸ
L7: հազար դրամներով
B8: ԲԳԿ | C8: Ծրագիր | E8: Միջոցառում | I8: Իրականացնողը/ ակտիվն օգտագործողը/ շահառուի ընտրության չափորոշիչը | J8: Արդյունքային չափորոշիչը | K8: Ցուցանիշների փոփոխությունը (ավելացումները նշված են դրական նշանով, իսկ նվազեցումները` փակագծերում)
C9: Դասիչը | D9: Անվանումը | E9: Դասիչը | F9: Անվանումը | G9: Նկարագրությունը | H9: Տեսակը | K9: Ինն ամիս | L9: Տարի
B10: ԸՆԴԱՄԵՆԸ | K10: =K11 -> 0 | L10: =L11 -> 0
B11: ՀՀ արդարադատության նախարարություն | K11: =K12+K21 -> 0 | L11: =L12+L21 -> 0
C12: 1149 | D12: Արդարադատության համակարգի աշխատակիցների վերապատրաստում և հատուկ ուսուցում | K12: =K13 -> 8753.1 | L12: =L13 -> 15492.3
E13: 1149-12001 | F13: Մասնագիտական վերապատրաստում անցնող ունկնդիրներին կրթաթոշակի տրամադրում | K13: =հավելված1!G14 -> 8753.1 | L13: =հավելված1!H14 -> 15492.3
G14: Դատավորների և դատախազների թեկնածությունների ցուցակում ընդգրկվելու նպատակով անձանց վերապատրաստման կրթաթոշակի տրամադրում
H15: Տրանսֆերտների տրամադրում
I16: Միջոցառումն իրականացնողի անվանումը` Մասնագիտացված կազմակերպություն
J17: Կրթաթոշակ ստացող ունկնդիրների թիվը, որից | L17: 17
J18: կանայք, տոկոս | L18: 30
J19: տղամարդիկ, տոկոս | L19: 70
J20: Ուսումնառության ժամկետը, ամիս | L20: 8
C21: 1120 | D21: Քրեակատարողական ծառայություններ | K21: =K22 -> -8753.1 | L21: =L22 -> -15492.3
E22: 1120-31002 | F22: ՀՀ արդարադատության նախարարության քրեակատարողական ծառայության կարողությունների զարգացում և տեխնիկական հագեցվածության ապահովում | K22: =+հավելված3!G42 -> -8753.1 | L22: =+հավելված3!H42 -> -15492.3
G23: ՀՀ արդարադատության նախարարության քրեակատարողական ծառայության աշխատանքային պայմանների բարելավման համար վարչական սարքավորումների ձեռք բերում
H24: Պետական մարմինների կողմից օգտագործվող ոչ ֆինանսական ակտիվների հետ գործառնություններ
I25: Ակտիվն օգտագործող կազմակերպության անվանումը` Քրեակատարողական ծառայություն
B26: ՀՀ կառավարություն | K26: =K27 -> 0 | L26: =L27 -> 0
C27: 1139 | D27: ՀՀ կառավարության պահուստային ֆոնդ | K27: =K28+K32 -> 0 | L27: =L28+L32 -> 0
E28: 1139 - 11001 | F28: ՀՀ կառավարության պահուստային ֆոնդ | K28: =+հավելված3!G62 -> 8753.1 | L28: =+հավելված3!H62 -> 15492.3
G29: ՀՀ պետական բյուջեում նախատեսված ելքերի լրացուցիչ ֆինանսավորման, պետական բյուջեում չկանխատեսված ելքերի, ինչպես նաև բյուջետային երաշխիքների ապահովման ելքերի ֆինանսավորման ապահովում
H30: Ծառայությունների մատուցում
I31: Ծառայությունը մատուցողի անվանումը` ՀՀ կառավարություն
E32: 1139 - 11001 | F32: ՀՀ կառավարության պահուստային ֆոնդ | K32: =+հավելված3!G71 -> -8753.1 | L32: =+հավելված3!H71 -> -15492.3
G33: ՀՀ պետական բյուջեում նախատեսված ելքերի լրացուցիչ ֆինանսավորման, պետական բյուջեում չկանխատեսված ելքերի, ինչպես նաև բյուջետային երաշխիքների ապահովման ելքերի ֆինանսավորման ապահովում
H34: Ծառայությունների մատուցում
I35: Ծառայությունը մատուցողի անվանումը` ՀՀ կառավարություն

Sheet հավելված6
K1: Հավելված № 6
K2: ՀՀ կառավարության 2025 թվականի
K3: ------------- ի № ---- -Ն որոշման
B5: ՀԱՅԱՍՏԱՆԻ ՀԱՆՐԱՊԵՏՈՒԹՅԱՆ ԿԱՌԱՎԱՐՈՒԹՅԱՆ 2024 ԹՎԱԿԱՆԻ ԴԵԿՏԵՄԲԵՐԻ 27-Ի № 2060-Ն ՈՐՈՇՄԱՆ № 9.1 ՀԱՎԵԼՎԱԾԻ ԱՂՅՈՒՍԱԿՆԵՐՈՒՄ ԿԱՏԱՐՎՈՂ ՓՈՓՈԽՈՒԹՅՈՒՆՆԵՐԸ ԵՎ ԼՐԱՑՈՒՄՆԵՐԸ
L7: հազար դրամներով
B8: ԲՍԿ | C8: Ծրագիր | E8: Միջոցառում | I8: Իրականացնողը/ ակտիվն օգտագործողը/ շահառուի ընտրության չափորոշիչը | J8: Արդյունքային չափորոշիչը | K8: Ցուցանիշների փոփոխությունը (ավելացումները նշված են դրական նշանով, իսկ նվազեցումները` փակագծերում)
C9: Դասիչը | D9: Անվանումը | E9: Դասիչը | F9: Անվանումը | G9: Նկարագրությունը | H9: Տեսակը | K9: Ինն ամիս | L9: Տարի
B10: ԸՆԴԱՄԵՆԸ | K10: =K11+K21 -> 0 | L10: =L11+L21 -> 0
B11: ՀՀ արդարադատության նախարարություն | K11: =K13 -> 8753.1 | L11: =L13 -> 15492.3
C12: 1149 | D12: Արդարադատության համակարգի աշխատակիցների վերապատրաստում և հատուկ ուսուցում | K12: =K13 -> 8753.1 | L12: =L13 -> 15492.3
E13: 1149-12001 | F13: Մասնագիտական վերապատրաստում անցնող ունկնդիրներին կրթաթոշակի տրամադրում | K13: =+հավելված3!G23 -> 8753.1 | L13: =+հավելված3!H23 -> 15492.3
G14: Դատավորների և դատախազների թեկնածությունների ցուցակում ընդգրկվելու նպատակով անձանց վերապատրաստման կրթաթոշակի տրամադրում
H15: Տրանսֆերտների տրամադրում
I16: Միջոցառումն իրականացնողի անվանումը` Մասնագիտացված կազմակերպություն
J17: Կրթաթոշակ ստացող ունկնդիրների թիվը, որից | L17: 17
J18: կանայք, տոկոս | L18: 30
J19: տղամարդիկ, տոկոս | L19: 70
J20: Ուսումնառության ժամկետը, ամիս | L20: 8
B21: ՀՀ արդարադատության նախարարության քրեակատարողական ծառայություն | K21: =+հավելված3!G42 -> -8753.1 | L21: =L22 -> -15492.3
C22: 1120 | D22: Քրեակատարողական ծառայություններ | K22: =K23 -> -8753.1 | L22: =L23 -> -15492.3
E23: 1120-31002 | F23: ՀՀ արդարադատության նախարարության քրեակատարողական ծառայության կարողությունների զարգացում և տեխնիկական հագեցվածության ապահովում | K23: =+հավելված3!G49 -> -8753.1 | L23: =+հավելված3!H49 -> -15492.3
G24: ՀՀ արդարադատության նախարարության քրեակատարողական ծառայության աշխատանքային պայմանների բարելավման համար վարչական սարքավորումների ձեռք բերում
H25: Պետական մարմինների կողմից օգտագործվող ոչ ֆինանսական ակտիվների հետ գործառնություններ
I26: Ակտիվն օգտագործող կազմակերպության անվանումը` Քրեակատարողական ծառայություն
B27: ՀՀ կառավարություն | K27: =K29+K33 -> 0 | L27: =L29+L33 -> 0
C28: 1139 | D28: ՀՀ կառավարության պահուստային ֆոնդ | K28: =+K29+K33 -> 0 | L28: =+L29+L33 -> 0
E29: 1139 - 11001 | F29: ՀՀ կառավարության պահուստային ֆոնդ | K29: =+հավելված3!G62 -> 8753.1 | L29: =+հավելված3!H62 -> 15492.3
G30: ՀՀ պետական բյուջեում նախատեսված ելքերի լրացուցիչ ֆինանսավորման, պետական բյուջեում չկանխատեսված ելքերի, ինչպես նաև բյուջետային երաշխիքների ապահովման ելքերի ֆինանսավորման ապահովում
H31: Ծառայությունների մատուցում
I32: Ծառայությունը մատուցողի անվանումը` ՀՀ կառավարություն
E33: 1139 - 11001 | F33: ՀՀ կառավարության պահուստային ֆոնդ | K33: =+հավելված3!G71 -> -8753.1 | L33: =+հավելված3!H71 -> -15492.3
G34: ՀՀ պետական բյուջեում նախատեսված ելքերի լրացուցիչ ֆինանսավորման, պետական բյուջեում չկանխատեսված ելքերի, ինչպես նաև բյուջետային երաշխիքների ապահովման ելքերի ֆինանսավորման ապահովում
H35: Ծառայությունների մատուցում
I36: Ծառայությունը մատուցողի անվանումը` ՀՀ կառավարություն

Sheet հավելված7
E1: Հավելված N 7
E2: ՀՀ կառավարության 2025 թվականի
E3: ———————— N -Ն որոշման
A5: ՀԱՅԱՍՏԱՆԻ ՀԱՆՐԱՊԵՏՈՒԹՅԱՆ ԿԱՌԱՎԱՐՈՒԹՅԱՆ 2024ԹՎԱԿԱՆԻ ԴԵԿՏԵՄԲԵՐԻ 27-Ի N 2060-Ն ՈՐՈՇՄԱՆ N 10 ՀԱՎԵԼՎԱԾԻ ՑՈՒՑԱՆԻՇՆԵՐՈՒՄ ԿԱՏԱՐՎՈՂ ՓՈՓՈԽՈՒԹՅՈՒՆՆԵՐԸ
A7: Կոդը | B7: Անվանումը | C7: Գնման ձևը | D7: Չափի միավորը | E7: միավորի գինը | F7: Ցուցանիշների փոփոխությունը (նվազեցումները նշված են փակագծերում)
F8: քանակը | G8: գումարը (հազար դրամով)
A9: 1 | B9: 2 | C9: 3 | D9: 4 | E9: 5 | F9: 6 | G9: 7
A10: ՀՀ արդարադատության նախարարության քրեակատարողական ծառայություն | G10: =+G11 -> -15495.3
A11: Բաժին N 03 | B11: Խումբ N 05 | C11: Դաս N 01 | D11: Կալանավայրեր | G11: =G12 -> -15495.3
A12: 1120 31002 | B12: ՀՀ արդարադատության նախարարության քրեակատարողական ծառայության կարողությունների զարգացում և տեխնիկական հագեցվածության ապահովում | G12: =+G13 -> -15495.3
B13: ՄԱՍ I. Ա Պ Ր Ա Ն Ք Ն Ե Ր | G13: =SUM(G14:G19) -> -15495.3
A14: 31711300/1 | B14: միկրոալիքային սարքեր | C14: ԲՄ | D14: հատ | E14: 0 | F14: 0 | G14: -11908
A15: 39111100/1 | B15: նստատեղեր | C15: ԷԱՃ | D15: հատ | E15: 0 | F15: 0 | G15: -1050
A16: 39111140/2 | B16: աթոռներ | C16: ԷԱՃ | D16: հատ | E16: 0 | F16: 0 | G16: -960
A17: 39111190/503 | B17: բազկաթոռներ | C17: ԷԱՃ | D17: հատ | G17: -64
A18: 39121100/2 | B18: գրասեղաններ | C18: ԷԱՃ | D18: հատ | G18: -1200
A19: 39151300/1 | B19: փափուկ կահույք | C19: ԷԱՃ | D19: լրակազմ | E19: 0 | F19: 0 | G19: -313.3
