Workbook
Name _tab10: #REF!
Name _tab11: #REF!
Name _tab12: #REF!
Name _tab13: #REF!
Name _tab14: #REF!
Name _tab15: #REF!
Name _tab16: #REF!
Name _tab17: #REF!
Name _tab18: #REF!
Name _tab19: #REF!
Name _tab20: #REF!
Name _tab21: #REF!
Name _tab22: #REF!
Name _tab23: #REF!
Name _tab24: #REF!
Name _tab5: #REF!
Name _tab6: #REF!
Name _tab7: #REF!
Name _tab8: #REF!
Name _tab9: #REF!
Name AgencyCode: #REF!
Name AgencyName: #REF!
Name åû: #REF!
Name davit: #REF!
Name Functional1: #REF!
Name ggg: #REF!
Name hav: #REF!
Name havelvac: #REF!
Name mas: #REF!
Name mass: #REF!
Name PANature: #REF!
Name par_count: #REF!,#REF!,#REF!,#REF!,#REF!,#REF!,#REF!,#REF!,#REF!,#REF!,#REF!,#REF!,#REF!,#REF!,#REF!
Name par_qual: #REF!,#REF!,#REF!,#REF!,#REF!
Name par_time: #REF!,#REF!,#REF!,#REF!
Name par2.12s: #REF!
Name par2.4s: #REF!,#REF!,#REF!,#REF!,#REF!,#REF!,#REF!,#REF!,#REF!,#REF!,#REF!,#REF!,#REF!,#REF!,#REF!,#REF!
Name par2.5s: #REF!,#REF!
Name par2.6s: #REF!,#REF!,#REF!,#REF!
Name par2.7s: #REF!,#REF!
Name par2.9s: #REF!,#REF!,#REF!,#REF!,#REF!,#REF!,#REF!,#REF!,#REF!,#REF!,#REF!,#REF!,#REF!,#REF!,#REF!,#REF!
Name par4.10s: #REF!,#REF!
Name par4.11d: #REF!,#REF!,#REF!,#REF!,#REF!
Name par4.12d: #REF!
Name par4.13s: #REF!
Name par4.14: #REF!,#REF!,#REF!,#REF!,#REF!,#REF!
Name par4.15: #REF!,#REF!,#REF!
Name par4.16: #REF!,#REF!,#REF!
Name par4.17: #REF!,#REF!,#REF!,#REF!
Name par4.18d: #REF!,#REF!
Name par4.19s: #REF!
Name par4.20f: #REF!
Name par4.21f: #REF!
Name par4.22: #REF!
Name par4.4: #REF!
Name par4.5: #REF!
Name par4.6s: #REF!
Name par4.7s: #REF!
Name par4.8: #REF!,#REF!,#REF!,#REF!,#REF!
Name par4.9: #REF!,#REF!,#REF!,#REF!,#REF!,#REF!
Name par5.1: #REF!,#REF!

Sheet 1
H1: Հավելված N 1
E2: ՀՀ կառավարության 2025 թվականի
E3: -----------------ի N -----------Ն որոշման
A5: «ՀԱՅԱՍՏԱՆԻ ՀԱՆՐԱՊԵՏՈՒԹՅԱՆ 2025 ԹՎԱԿԱՆԻ ՊԵՏԱԿԱՆ ԲՅՈՒՋԵԻ ՄԱՍԻՆ» ՀԱՅԱՍՏԱՆԻ ՀԱՆՐԱՊԵՏՈՒԹՅԱՆ ՕՐԵՆՔԻ N 1 ՀԱՎԵԼՎԱԾԻ N 2 ԱՂՅՈՒՍԱԿՈՒՄ ԿԱՏԱՐՎՈՂ ՎԵՐԱԲԱՇԽՈՒՄ ԵՎ ԼՐԱՑՈՒՄ, ՀԱՅԱՍՏԱՆԻ ՀԱՆՐԱՊԵՏՈՒԹՅԱՆ ԿԱՌԱՎԱՐՈՒԹՅԱՆ2024 ԹՎԱԿԱՆԻ ԴԵԿՏԵՄԲԵՐԻ 27-Ի N 2060-Ն ՈՐՈՇՄԱՆ N 5 ՀԱՎԵԼՎԱԾԻ N 1 ԱՂՅՈՒՍԱԿՈՒՄ ԿԱՏԱՐՎՈՂ ՓՈՓՈԽՈՒԹՅՈՒՆՆԵՐԸ ԵՎ ԼՐԱՑՈՒՄՆԵՐԸ
H6: հազար դրամներով
A7: ԲԳԿ | B7: Ծրագրային դասիչը | D7: ԲԳԿ/Ծրագրի /միջոցառման անվանումը | E7: Ծրագրի նպատակը/Միջոցառման նկարագրույունը | F7: Վերջնական արդյունքի նկարագրությունը/Միջոցառման տեսակը | G7: Ցուցանիշների փոփոխությունները ավելացումները նշված են դրական նշանով, իսկ նվազեցումները՝ փակագծերում
B8: Ծրագիր | C8: Միջոցառում | G8: Ինն ամիս | H8: Տարի
A9: ԸՆԴԱՄԵՆԸ | G9: =G10 -> 0 | H9: =H10 -> 0
A10: ՀՀ աշխատանքի և սոցիալական հարցերի նախարարություն | G10: =G11+G13 -> 0 | H10: =H11+H13 -> 0
B11: 1225 | D11: Ճգնաժամերի հակազդման և արտակարգ իրավիճակների հետևանքների նվազեցման և վերացման նպատակով՛ առանձին սոցիալական խմբերին տրվող սոցիալական աջակցություն | E11: Օժանդակել ճգնաժամերի հակազդման և արտակարգ իրավիճակների հետևանքով ընտանիքների առջև ծառացած սոցիալական խնդիրների բացասական հետևանքների մեղմմանը | F11: Ճգնաժամերի հակազդման և արտակարգ իրավիճակների առաջացրած սոցիալական խնդիրների բացասական հետևանքները մեղմելու նպատակով ընտանիքներին դրամական աջակցության տրամադրում | G11: =G12 -> 28318.2 | H11: =H12 -> 28318.2
C12: 1225-12021 | D12: Լեռնային Ղարաբաղից բռնի տեղահանված անձանց ժամանակավոր բնակության կացարանների կոմունալ և տնտեսական ծախսերի փոխհատուցում | E12: Կացարաններում ընդհանուր օգտագործման էլեկտրաէներգիայի, ջրմուղ-կոյուղու ծախսերի փոխհատուցում, ինչպես նաև այդ կացարանների պահպանման աշխատանքերի կազմակերպում | F12: Տրանսֆերտների տրամադրում | G12: 28318.2 | H12: 28318.2
B13: 1068 | D13: Ժողովրդագրական վիճակի բարելավում | E13: Խթանել ժողովրդագրական վիճակի բարելավումը | F13: Ժողովրդագրական վիճակի բարելավում և բազմազավակության աճ | G13: =G14 -> -28318.2 | H13: =H14 -> -28318.2
C14: 1068 - 12002 | D14: Երեխայի ծննդյան միանվագ նպաստ | E14: Երեխայի ծննդյան կապակցությամբ միանվագ նպաստի տրամադրում | F14: Տրանսֆերտների տրամադրում | G14: -28318.2 | H14: -28318.2
A15: ՀՀ կառավարություն
B16: 1139 | D16: ՀՀ կառավարության պահուստային ֆոնդ | E16: Պետական բյուջեում չկանխատեսված, ինչպես նաեւ բյուջետային երաշխիքների ապահովման ծախսերի ֆինանսավորման ապահովում | F16: Պահուստային ֆոնդի կառավարման արդյունավետության և թափանցիկության ապահովում | G16: =G17+G18 -> 0 | H16: =H17+H18 -> 0
C17: 1139 - 11001 | D17: ՀՀ կառավարության պահուստային ֆոնդ | E17: ՀՀ պետական բյուջեում նախատեսված ելքերի լրացուցիչ ֆինանսավորման, պետական բյուջեում չկանխատեսված ելքերի, ինչպես նաև բյուջետային երաշխիքների ապահովման ելքերի ֆինանսավորման ապահովում | F17: Ծառայությունների մատուցում | G17: 28318.2 | H17: 28318.2
C18: 1139 - 11001 | D18: ՀՀ կառավարության պահուստային ֆոնդ | E18: ՀՀ պետական բյուջեում նախատեսված ելքերի լրացուցիչ ֆինանսավորման, պետական բյուջեում չկանխատեսված ելքերի, ինչպես նաև բյուջետային երաշխիքների ապահովման ելքերի ֆինանսավորման ապահովում | F18: Ծառայությունների մատուցում | G18: -28318.2 | H18: -28318.2

Sheet 2
H1: Հավելված N 2
F2: ՀՀ կառավարության 2025 թվականի
F3: -----------------ի N -----------Ն որոշման
A5: ՀԱՅԱՍՏԱՆԻ ՀԱՆՐԱՊԵՏՈՒԹՅԱՆ ԿԱՌԱՎԱՐՈՒԹՅԱՆ 2024 ԹՎԱԿԱՆԻ ԴԵԿՏԵՄԲԵՐԻ 27-Ի N 2060-Ն ՈՐՈՇՄԱՆ N N 3 ԵՎ 4 ՀԱՎԵԼՎԱԾՆԵՐՈՒՄ ԿԱՏԱՐՎՈՂ ՓՈՓՈԽՈՒԹՅՈՒՆՆԵՐԸ ԵՎ ԼՐԱՑՈՒՄՆԵՐԸ
G6: հազար դրամներով
A7: Գործառական դասիչը | D7: Ծրագրային դասիչը | F7: Բյուջետային հատկացումների գլխավոր կարգադրիչների, ծրագրերի, միջոցառումների և միջոցառումները կատարող պետական մարմինների անվանումները | G7: Ցուցանիշների փոփոխությունները ավելացումները նշված են դրական նշանով, իսկ նվազեցումները՝ փակագծերում
A8: Բաժինը | B8: Խումբը | C8: Դասը | D8: Ծրագիր | E8: Միջոցառում | G8: Ինն ամիս | H8: Տարի
F9: ԸՆԴԱՄԵՆԸ ԾԱԽՍԵՐ | G9: =G11+G51 -> 0 | H9: =H11+H51 -> 0
F10: այդ թվում`
F11: ՀՀ աշխատանքի և սոցիալական հարցերի նախարարություն | G11: =G13 -> 0 | H11: =H13 -> 0
F12: այդ թվում՝
A13: 10 | F13: ՍՈՑԻԱԼԱԿԱՆ ՊԱՇՏՊԱՆՈՒԹՅՈՒՆ | G13: =G15+G32 -> 0 | H13: =H15+H32 -> 0
F14: այդ թվում՝
B15: 09 | F15: Սոցիալական պաշտպանություն (այլ դասերին չպատկանող) | G15: =G17 -> 28318.2 | H15: =H17 -> 28318.2
F16: այդ թվում՝
C17: 02 | F17: Սոցիալական պաշտպանությանը տրամադրվող օժանդակ ծառայություններ (այլ դասերին չպատկանող) | G17: =G19 -> 28318.2 | H17: =H19 -> 28318.2
F18: այդ թվում՝
F19: ՀՀ աշխատանքի և սոցիալական հարցերի նախարարություն | G19: =G21 -> 28318.2 | H19: =H21 -> 28318.2
F20: այդ թվում՝
D21: 1225 | F21: ='1'!D11 -> Ճգնաժամերի հակազդման և արտակարգ իրավիճակների հետևանքների նվազեցման և վերացման նպատակով՛ առանձին սոցիալական խմբերին տրվող սոցիալական աջակցություն | G21: =G23 -> 28318.2 | H21: =H23 -> 28318.2
F22: այդ թվում`
E23: 12021 | F23: ='1'!D12 -> Լեռնային Ղարաբաղից բռնի տեղահանված անձանց ժամանակավոր բնակության կացարանների կոմունալ և տնտեսական ծախսերի փոխհատուցում | G23: =G25 -> 28318.2 | H23: =H25 -> 28318.2
F24: այդ թվում` ըստ կատարողների
F25: ՀՀ աշխատանքի և սոցիալական հարցերի նախարարություն | G25: =G27 -> 28318.2 | H25: =H27 -> 28318.2
F26: այդ թվում` բյուջետային ծախսերի տնտեսագիտական դասակարգման հոդվածներ
F27: ԸՆԴԱՄԵՆԸ ԾԱԽՍԵՐ | G27: =G28 -> 28318.2 | H27: =H28 -> 28318.2
F28: ԸՆԹԱՑԻԿ ԾԱԽՍԵՐ | G28: =G29 -> 28318.2 | H28: =H29 -> 28318.2
F29: ԴՐԱՄԱՇՆՈՐՀՆԵՐ | G29: =G30 -> 28318.2 | H29: =H30 -> 28318.2
F30: Ընթացիկ դրամաշնորհներ պետական հատվածի այլ մակարդակներին | G30: =G31 -> 28318.2 | H30: =H31 -> 28318.2
F31: - Այլ ընթացիկ դրամաշնորհներ | G31: ='1'!G12 -> 28318.2 | H31: ='1'!H12 -> 28318.2
B32: 04 | F32: Ընտանիքի անդամներ և զավակներ | G32: =G34 -> -28318.2 | H32: =H34 -> -28318.2
F33: այդ թվում՝
C34: 01 | F34: Ընտանիքի անդամներ և զավակներ | G34: =G36 -> -28318.2 | H34: =H36 -> -28318.2
F35: այդ թվում՝
F36: ՀՀ աշխատանքի և սոցիալական հարցերի նախարարություն | G36: =G38 -> -28318.2 | H36: =H38 -> -28318.2
F37: այդ թվում՝
D38: 1068 | F38: ='1'!D13 -> Ժողովրդագրական վիճակի բարելավում | G38: =G40 -> -28318.2 | H38: =H40 -> -28318.2
F39: այդ թվում`
E40: 12002 | F40: ='1'!D14 -> Երեխայի ծննդյան միանվագ նպաստ | G40: =G42 -> -28318.2 | H40: =H42 -> -28318.2
F41: այդ թվում` ըստ կատարողների
...

Sheet 3
G1: Հավելված N 3
G2: ՀՀ կառավարության 2025 թվականի
G3: -----------------ի N -----------Ն որոշման
A5: ՀԱՅԱՍՏԱՆԻ ՀԱՆՐԱՊԵՏՈՒԹՅԱՆ ԿԱՌԱՎԱՐՈՒԹՅԱՆ 2024 ԹՎԱԿԱՆԻ ԴԵԿՏԵՄԲԵՐԻ 27-Ի N 2060-Ն ՈՐՈՇՄԱՆ N 5 ՀԱՎԵԼՎԱԾԻ N 7 ԱՂՅՈՒՍԱԿՈՒՄ ԿԱՏԱՐՎՈՂ ՓՈՓՈԽՈՒԹՅՈՒՆՆԵՐԸ
G6: (հազար դրամ)
A7: Ծրագրային դասիչ | C7: Բյուջետային գլխավոր կարգադրիչների, ծրագրերի, միջոցառումների, միջոցառումները կատարող պետական մարմինների և ուղղությունների անվանումները | F7: Միջոցառումները կատարող պետական մարմինների և դրամաշնորհ ստացող տնտեսավարող սուբյեկտների անվանումները | G7: Ցուցանիշների փոփոխությունները ավելացումները նշված են դրական նշանով, իսկ նվազեցումները՝ փակագծերում
A8: Ծրագիր | B8: Միջոցառում | G8: Տարի
A10: 1 | B10: 2 | C10: 3 | F10: 4 | G10: 5
A11: ՀՀ աշխատանքի և սոցիալական հարցերի նախարարություն | G11: =G12 -> 28318.2
A12: 1225 | B12: ='1'!D11 -> Ճգնաժամերի հակազդման և արտակարգ իրավիճակների հետևանքների նվազեցման և վերացման նպատակով՛ առանձին սոցիալական խմբերին տրվող սոցիալական աջակցություն | G12: =G13 -> 28318.2
B13: 12021 | C13: ='1'!D12 -> Լեռնային Ղարաբաղից բռնի տեղահանված անձանց ժամանակավոր բնակության կացարանների կոմունալ և տնտեսական ծախսերի փոխհատուցում | F13: ՀՀ աշխատանքի և սոցիալական հարցերի նախարարություն | G13: =G14+G15 -> 28318.2
F14: «Գյումրու բժշկական կենտրոն» ՓԲԸ-ին պատկանող նախկին ինֆեկցիոն հիվանդանոց | G14: 15734.7
F15: ՀՀ Լոռու մարզ, Տաշիր համայնք, Խանջյան փողոց, 5-րդ թաղամաս, թիվ 3/1 հասցեում գտնվող համայնքային սեփականության հյուրանոցի շենքի | G15: 12583.5

Sheet 4
K1: Հավելված N 4
K2: ՀՀ կառավարության 2025 թվականի
K3: -----------------ի N -----------Ն որոշման
A6: ՀԱՅԱՍՏԱՆԻ ՀԱՆՐԱՊԵՏՈՒԹՅԱՆ ԿԱՌԱՎԱՐՈՒԹՅԱՆ 2024 ԹՎԱԿԱՆԻ ԴԵԿՏԵՄԲԵՐԻ 27-Ի N 2060-Ն ՈՐՈՇՄԱՆ N 9 ՀԱՎԵԼՎԱԾՈՒՄ ԿԱՏԱՐՎՈՂ ՓՈՓՈԽՈՒԹՅՈՒՆՆԵՐԸ ԵՎ ԼՐԱՑՈՒՄՆԵՐԸ
J7: հազար դրամներով
A8: ԲԳԿ | B8: Ծրագիր | D8: Միջոցառում | H8: Իրականացնողը/ ակտիվն օգտագործողը/ շահառուի ընտրության չափորոշիչը | I8: Արդյունքային չափորոշիչը | J8: Ցուցանիշների փոփոխությունները ավելացումները նշված են դրական նշանով, իսկ նվազեցումները՝ փակագծերում
B9: Դասիչը | C9: Անվանումը | D9: Դասիչը | E9: Անվանումը | F9: Նկարագրությունը | G9: Տեսակը | J9: Ինն ամիս | K9: Տարի
A10: ԸՆԴԱՄԵՆԸ | J10: =J11+J26 -> 0 | K10: =K11+K26 -> 0
A11: ՀՀ աշխատանքի և սոցիալական հարցերի նախարարություն | J11: =J12+J19 -> 0 | K11: =K12+K19 -> 0
B12: ='1'!B11 -> 1225 | C12: ='1'!D11 -> Ճգնաժամերի հակազդման և արտակարգ իրավիճակների հետևանքների նվազեցման և վերացման նպատակով՛ առանձին սոցիալական խմբերին տրվող սոցիալական աջակցություն | J12: =J13 -> 28318.2 | K12: =K13 -> 28318.2
D13: ='1'!C12 -> 1225-12021 | E13: ='1'!D12 -> Լեռնային Ղարաբաղից բռնի տեղահանված անձանց ժամանակավոր բնակության կացարանների կոմունալ և տնտեսական ծախսերի փոխհատուցում | J13: ='1'!G12 -> 28318.2 | K13: ='1'!H12 -> 28318.2
F14: ='1'!E12 -> Կացարաններում ընդհանուր օգտագործման էլեկտրաէներգիայի, ջրմուղ-կոյուղու ծախսերի փոխհատուցում, ինչպես նաև այդ կացարանների պահպանման աշխատանքերի կազմակերպում
G15: ='1'!F12 -> Տրանսֆերտների տրամադրում
H16: Ծառայությունը մատուցողի անվանումը` Մասնագիտացված կազմակերպություններ
I17: շահառուների թիվ, | K17: 78
B19: 1068 | C19: Ժողովրդագրական վիճակի բարելավում | J19: =J20 -> -28318.2 | K19: =K20 -> -28318.2
D20: 1068 -12002 | E20: ='1'!D14 -> Երեխայի ծննդյան միանվագ նպաստ | J20: ='1'!G14 -> -28318.2 | K20: =J20 -> -28318.2
F21: ='1'!E14 -> Երեխայի ծննդյան կապակցությամբ միանվագ նպաստի տրամադրում
G22: Տրանսֆերտների տրամադրում
H23: Շահառուների ընտրության չափորոշիչները` ՀՀ-ում հաշվառված նոր ծնված երեխայի ծնող (օրինական ներկայացուցիչ)
I24: շահառու նորածինների թիվ, ադ թվում | K24: -95
A26: ՀՀ կառավարություն | J26: =J27 -> 0 | K26: =K27 -> 0
B27: 1139 | C27: ՀՀ կառավարության պահուստային ֆոնդ | J27: =J28+J33 -> 0 | K27: =K28+K33 -> 0
D28: 1139 - 11001 | E28: ՀՀ կառավարության պահուստային ֆոնդ | J28: ='1'!G17 -> 28318.2 | K28: ='1'!H17 -> 28318.2
F29: ՀՀ պետական բյուջեում նախատեսված ելքերի լրացուցիչ ֆինանսավորման, պետական բյուջեում չկանխատեսված ելքերի, ինչպես նաև բյուջետային երաշխիքների ապահովման ելքերի ֆինանսավորման ապահովում
G30: Ծառայությունների մատուցում
H31: Ծառայությունը մատուցողի անվանումը` ՀՀ կառավարություն
D33: 1139 - 11001 | E33: ՀՀ կառավարության պահուստային ֆոնդ | J33: ='1'!G18 -> -28318.2 | K33: ='1'!H18 -> -28318.2
F34: ՀՀ պետական բյուջեում նախատեսված ելքերի լրացուցիչ ֆինանսավորման, պետական բյուջեում չկանխատեսված ելքերի, ինչպես նաև բյուջետային երաշխիքների ապահովման ելքերի ֆինանսավորման ապահովում
G35: Ծառայությունների մատուցում
H36: Ծառայությունը մատուցողի անվանումը` ՀՀ կառավարություն

Sheet 5
K1: Հավելված N 5
K2: ՀՀ կառավարության 2025 թվականի
K3: -----------------ի N -----------Ն որոշման
A6: ՀԱՅԱՍՏԱՆԻ ՀԱՆՐԱՊԵՏՈՒԹՅԱՆ ԿԱՌԱՎԱՐՈՒԹՅԱՆ 2024 ԹՎԱԿԱՆԻ ԴԵԿՏԵՄԲԵՐԻ 27-Ի N 2060-Ն ՈՐՈՇՄԱՆ N 9.1 ՀԱՎԵԼՎԱԾՈՒՄ ԿԱՏԱՐՎՈՂ ՓՈՓՈԽՈՒԹՅՈՒՆՆԵՐԸ ԵՎ ԼՐԱՑՈՒՄՆԵՐԸ
J7: հազար դրամներով
A8: ԲՍԿ | B8: Ծրագիր | D8: Միջոցառում | H8: Իրականացնողը/ ակտիվն օգտագործողը/ շահառուի ընտրության չափորոշիչը | I8: Արդյունքային չափորոշիչը | J8: Ցուցանիշների փոփոխությունները ավելացումները նշված են դրական նշանով, իսկ նվազեցումները՝ փակագծերում
B9: Դասիչը | C9: Անվանումը | D9: Դասիչը | E9: Անվանումը | F9: Նկարագրությունը | G9: Տեսակը | J9: Ինն ամիս | K9: Տարի
A10: ԸՆԴԱՄԵՆԸ | J10: =J11+J19+J27 -> 0 | K10: =K11+K19+K27 -> 0
A11: ՀՀ աշխատանքի և սոցիալական հարցերի նախարարություն | J11: =J12 -> 28318.2 | K11: =K12 -> 28318.2
B12: ='1'!B11 -> 1225 | C12: ='1'!D11 -> Ճգնաժամերի հակազդման և արտակարգ իրավիճակների հետևանքների նվազեցման և վերացման նպատակով՛ առանձին սոցիալական խմբերին տրվող սոցիալական աջակցություն | J12: =J13 -> 28318.2 | K12: =K13 -> 28318.2
D13: ='1'!C12 -> 1225-12021 | E13: ='1'!D12 -> Լեռնային Ղարաբաղից բռնի տեղահանված անձանց ժամանակավոր բնակության կացարանների կոմունալ և տնտեսական ծախսերի փոխհատուցում | J13: ='1'!G12 -> 28318.2 | K13: ='1'!H12 -> 28318.2
F14: ='1'!E12 -> Կացարաններում ընդհանուր օգտագործման էլեկտրաէներգիայի, ջրմուղ-կոյուղու ծախսերի փոխհատուցում, ինչպես նաև այդ կացարանների պահպանման աշխատանքերի կազմակերպում
G15: ='1'!F12 -> Տրանսֆերտների տրամադրում
H16: Ծառայությունը մատուցողի անվանումը` Մասնագիտացված կազմակերպություններ
I17: շահառուների թիվ, | K17: 78
A19: ՀՀ աշխատանքի և սոցիալական հարցերի նախարարության միասնական սոցիալական ծառայություն | J19: =J20 -> -28318.2 | K19: =K20 -> -28318.2
B20: 1068 | C20: Ժողովրդագրական վիճակի բարելավում | J20: =J21 -> -28318.2 | K20: =K21 -> -28318.2
D21: 1068 -12002 | E21: ='1'!D14 -> Երեխայի ծննդյան միանվագ նպաստ | J21: ='1'!G14 -> -28318.2 | K21: =J21 -> -28318.2
F22: ='1'!E14 -> Երեխայի ծննդյան կապակցությամբ միանվագ նպաստի տրամադրում
G23: Տրանսֆերտների տրամադրում
H24: Շահառուների ընտրության չափորոշիչները` ՀՀ-ում հաշվառված նոր ծնված երեխայի ծնող (օրինական ներկայացուցիչ)
I25: շահառու նորածինների թիվ, ադ թվում | K25: ='4'!K24 -> -95
A27: ՀՀ կառավարություն | J27: =J28 -> 0 | K27: =K28 -> 0
B28: 1139 | C28: ՀՀ կառավարության պահուստային ֆոնդ | J28: =J29+J34 -> 0 | K28: =K29+K34 -> 0
D29: 1139 - 11001 | E29: ՀՀ կառավարության պահուստային ֆոնդ | J29: ='1'!G17 -> 28318.2 | K29: ='1'!H17 -> 28318.2
F30: ՀՀ պետական բյուջեում նախատեսված ելքերի լրացուցիչ ֆինանսավորման, պետական բյուջեում չկանխատեսված ելքերի, ինչպես նաև բյուջետային երաշխիքների ապահովման ելքերի ֆինանսավորման ապահովում
G31: Ծառայությունների մատուցում
H32: Ծառայությունը մատուցողի անվանումը` ՀՀ կառավարություն
D34: 1139 - 11001 | E34: ՀՀ կառավարության պահուստային ֆոնդ | J34: ='1'!G18 -> -28318.2 | K34: ='1'!H18 -> -28318.2
F35: ՀՀ պետական բյուջեում նախատեսված ելքերի լրացուցիչ ֆինանսավորման, պետական բյուջեում չկանխատեսված ելքերի, ինչպես նաև բյուջետային երաշխիքների ապահովման ելքերի ֆինանսավորման ապահովում
G36: Ծառայությունների մատուցում
H37: Ծառայությունը մատուցողի անվանումը` ՀՀ կառավարություն
