Workbook
Name շախմատիստ: #REF!
Name շախմատիստ: #REF!
Name շախմատիստ: #REF!
Name շախմատիստ: #REF!
Name շախմատիստ: #REF!

Sheet Հավելված N 1
G1: Հավելված N 1
F2: ՀՀ կառավարության 2025 թվականի
F3: ______________ ի ___Ն որոշման
A4: «ՀԱՅԱՍՏԱՆԻ ՀԱՆՐԱՊԵՏՈՒԹՅԱՆ 2025 ԹՎԱԿԱՆԻ ՊԵՏԱԿԱՆ ԲՅՈՒՋԵԻ ՄԱՍԻՆ» ՕՐԵՆՔԻ N 1 ՀԱՎԵԼՎԱԾԻ N 2 ԱՂՅՈՒՍԱԿՈՒՄ ԿԱՏԱՐՎՈՂ ՎԵՐԱԲԱՇԽՈՒՄԸ, ԼՐԱՑՈՒՄԸ ԵՎ ՀԱՅԱՍՏԱՆԻ ՀԱՆՐԱՊԵՏՈՒԹՅԱՆ ԿԱՌԱՎԱՐՈՒԹՅԱՆ 2024 ԹՎԱԿԱՆԻ ԴԵԿՏԵՄԲԵՐԻ 27-Ի N 2060-Ն ՈՐՈՇՄԱՆ N 5 ՀԱՎԵԼՎԱԾԻ N 1 ԱՂՅՈՒՍԱԿՈՒՄ ԿԱՏԱՐՎՈՂ ԼՐԱՑՈՒՄՆԵՐԸ ԵՎ ՓՈՓՈԽՈՒԹՅՈՒՆՆԵՐԸ
G5: հազար դրամներով
A6: ԲԳԿ | B6: Ծրագրային դասիչը | D6: ԲԳԿ/Ծրագրի /միջոցառման անվանումը | E6: Ծրագրի նպատակը/Միջոցառման նկարագրությունը | F6: Վերջնական արդյունքի նկարագրությունը/Միջոցառման տեսակը | G6: Ցուցանիշների փոփոխությունը (ավելացումները նշված են դրական նշանով, իսկ նվազեցումները՝ փակագծերում)
B7: Ծրագիր | C7: Միջոցառում | G7: Տարի
A8: ԸՆԴԱՄԵՆԸ | G8: =G17+G9 -> 0
A9: ՀՀ կրթության, գիտության, մշակույթի և սպորտի նախարարություն | G9: =G10 -> 0
B10: 1163 | D10: Մասսայական սպորտ | E10: Բնակչության շրջանում առողջ ապրելակերպի արմատավորում, անհատի բազմակողմանի ու ներդաշնակ զարգացման գործում ֆիզիկական կուլտուրայի և սպորտի դերի բարձրացում | F10: Սպորտի նկատմամբ հետաքրքրվածության և մասնակցության ընդլայնում | G10: =SUM(G11:G16) -> 0
C11: 1163 - 11019 | D11: «Հայաստանի Հանրապետության Վարչապետի գավաթ» սիրողական խճուղավազքի մրցաշարի անցկացում | E11: «Հայաստանի Հանրապետության Վարչապետի գավաթ» սիրողական խճուղավազքի մրցաշարի կազմակերպում և անցկացում | F11: Ծառայությունների մատուցում | G11: -47517.9
C12: 1163 - 11020 | D12: «Հայաստանի Հանրապետության Վարչապետի գավաթ» սիրողական լողի մրցաշարի անցկացում | E12: «Հայաստանի Հանրապետության Վարչապետի գավաթ» սիրողական լողի մրցաշարի կազմակերպում և անցկացում | F12: Ծառայությունների մատուցում | G12: -20155.2
C13: 1163-11030 | D13: «Հայաստանի Հանրապետության Վարչապետի գավաթ» դպրոցականների լողի մրցաշարի անցկացում | E13: «Հայաստանի Հանրապետության Վարչապետի գավաթ» դպրոցականների լողի մրցաշարի անցկացում | F13: Ծառայությունների մատուցում | G13: 60780.3
C14: 1163 - 11031 | D14: Հայաստանի Հանրապետության վարչապետի հովանու ներքո «Դպրոցականների վոլեյբոլի լիգա» մարզական խաղերի անցկացում | E14: Հայաստանի Հանրապետության վարչապետի հովանու ներքո «Դպրոցականների վոլեյբոլի լիգա» մարզական խաղերի անցկացում | F14: Ծառայությունների մատուցում | G14: 86144.6
C15: 1163 - 12001 | D15: Աջակցություն համայնքներին մարզական հաստատությունների շենքային պայմանների բարելավման համար | E15: Համայնքային ենթակայության մարզական հաստատությունների վերանորոգում և կառուցում | F15: Տրանսֆերտների տրամադրում | G15: -55366.3
C16: 1163 - 32001 | D16: Մարզական օբյեկտների շինարարություն | E16: Մարզական օբյեկտների շենքերի (մասնաշենքերի) կառուցում (համաշինարարական աշխատանքներ, ջեռուցման համակարգի իրականացում, ներքին հարդարում, տարածքի բարեկարգում) և նախագծում | F16: Այլ պետական կազմակերպությունների կողմից օգտագործվող ոչ ֆինանսական ակտիվների հետ գործառնություններ | G16: -23885.5
A17: ՀՀ կառավարություն | G17: =+G18 -> 0
B18: 1139 | D18: ՀՀ կառավարության պահուստային ֆոնդ | E18: Պետական բյուջեում չկանխատեսված, ինչպես նաեւ բյուջետային երաշխիքների ապահովման ծախսերի ֆինանսավորման ապահովում | F18: Պահուստային ֆոնդի կառավարման արդյունավետության և թափանցիկության ապահովում | G18: =SUM(G19:G20) -> 0
C19: 1139 - 11001 | D19: ՀՀ կառավարության պահուստային ֆոնդ | E19: ՀՀ պետական բյուջեում նախատեսված ելքերի լրացուցիչ ֆինանսավորման, պետական բյուջեում չկանխատեսված ելքերի, ինչպես նաև բյուջետային երաշխիքների ապահովման ելքերի ֆինանսավորման ապահովում | F19: Ծառայությունների մատուցում | G19: 146924.9
C20: 1139 - 11001 | D20: ՀՀ կառավարության պահուստային ֆոնդ | E20: ՀՀ պետական բյուջեում նախատեսված ելքերի լրացուցիչ ֆինանսավորման, պետական բյուջեում չկանխատեսված ելքերի, ինչպես նաև բյուջետային երաշխիքների ապահովման ելքերի ֆինանսավորման ապահովում | F20: Ծառայությունների մատուցում | G20: -146924.9

Sheet Հավելված N 2
H1: Հավելված N 2
G2: ՀՀ կառավարության 2025 թվականի
G3: ______________ ի ___Ն որոշման
A4: «ՀԱՅԱՍՏԱՆԻ ՀԱՆՐԱՊԵՏՈՒԹՅԱՆ 2025 ԹՎԱԿԱՆԻ ՊԵՏԱԿԱՆ ԲՅՈՒՋԵԻ ՄԱՍԻՆ» ՀԱՅԱՍՏԱՆԻ ՀԱՆՐԱՊԵՏՈՒԹՅԱՆ ՕՐԵՆՔԻ N 1 ՀԱՎԵԼՎԱԾԻ N 3 ԱՂՅՈՒՍԱԿՈՒՄ ԿԱՏԱՐՎՈՂ ՓՈՓՈԽՈՒԹՅՈՒՆՆԵՐԸ
H5: հազար դրամներով
A6: Ծրագրային դասիչ | C6: Բյուջետային գլխավոր կարգադրիչների, ծրագրերի, միջոցառումների և ուղղությունների անվանումները | D6: Ընդամենը | E6: Ցուցանիշների փոփոխությունը (նվազեցումները նշված են փակագծերում)
A7: Ծրագիր | B7: Միջոցառում | E7: Կառուցման աշխատանքներ | F7: Վերակառուցման, վերանորոգման և վերականգնման աշխատանքներ | G7: Նախագծահե- տազոտական, գեոդեզիա- քարտեզագրա- կան աշխա- տանքներ | H7: Ոչ ֆինանսական այլ ակտիվների ձեռքբերում
C8: ԸՆԴԱՄԵՆԸ | D8: =SUM(E8:H8) -> -79251.8 | E8: =+E10 -> -55366.3 | F8: =+F10 -> 0 | G8: =+G10 -> -23885.5 | H8: =+H10 -> 0
C9: այդ թվում՝
C10: ՀՀ ԿՐԹՈՒԹՅԱՆ, ԳԻՏՈՒԹՅԱՆ, ՄՇԱԿՈՒՅԹԻ ԵՎ ՍՊՈՐՏԻ ՆԱԽԱՐԱՐՈՒԹՅՈՒՆ | D10: =SUM(E10:H10) -> -79251.8 | E10: =E12+E16 -> -55366.3 | F10: =F12+F16 -> 0 | G10: =G12+G16 -> -23885.5 | H10: =H12+H16 -> 0
C11: այդ թվում`
A12: 1163 | B12: 12001 | C12: Աջակցություն համայնքներին մարզական հաստատությունների շենքային պայմանների բարելավման համար | D12: =SUM(E12:H12) -> -55366.3 | E12: =E14 -> -55366.3 | F12: =F14 -> 0 | G12: =G14 -> 0 | H12: =H14 -> 0
C13: այդ թվում`
C14: ՀՀ Շիրակի մարզ | D14: =SUM(E14:H14) -> -55366.3 | E14: =E15 -> -55366.3 | F14: =F15 -> 0 | G14: =G15 -> 0 | H14: =H15 -> 0
C15: Արթուր Ալեքսանյանի անվան նոր սպորտային համալիր | D15: =SUM(E15:H15) -> -55366.3 | E15: ='Հավելված N 1'!G15 -> -55366.3
A16: 1163 | B16: 32001 | C16: Մարզական օբյեկտների շինարարություն | D16: =SUM(E16:H16) -> -23885.5 | E16: =E18 -> 0 | F16: =F18 -> 0 | G16: =G18 -> -23885.5 | H16: =H18 -> 0
C17: այդ թվում`
C18: ՀՀ Շիրակի մարզ | D18: =SUM(E18:H18) -> -23885.5 | E18: =E19 -> 0 | F18: =F19 -> 0 | G18: =G19 -> -23885.5 | H18: =H19 -> 0
C19: «Գյումրու մանկապատանեկան համալիր մարզադպրոց» ՊՈԱԿ | D19: =SUM(E19:H19) -> -23885.5 | G19: ='Հավելված N 1'!G16 -> -23885.5

Sheet Հավելված N 3 
F1: Հավելված N 3
F2: ՀՀ կառավարության 2025 թվականի
F3: ______________ ի ___Ն որոշման
A4: ՀԱՅԱՍՏԱՆԻ ՀԱՆՐԱՊԵՏՈՒԹՅԱՆ ԿԱՌԱՎԱՐՈՒԹՅԱՆ 2024 ԹՎԱԿԱՆԻ ԴԵԿՏԵՄԲԵՐԻ 27-Ի N 2060-Ն ՈՐՈՇՄԱՆ N 3 ԵՎ N 4 ՀԱՎԵԼՎԱԾՆԵՐՈՒՄ ԿԱՏԱՐՎՈՂ ԼՐԱՑՈՒՄՆԵՐԸ ԵՎ ՓՈՓՈԽՈՒԹՅՈՒՆՆԵՐԸ
G5: հազար դրամներով
A6: Գործառական դասիչը | D6: Ծրագրային դասիչը | F6: Բյուջետային ծախսերի գործառական դասակարգման բաժինների, խմբերի և դասերի, բյուջետային ծրագրերի միջոցառումների, բյուջետային հատկացումների գլխավոր կարգադրիչների անվանումները և միջոցառումները կատարող պետական մարմինների անվանումները | G6: Ցուցանիշների փոփոխությունը (ավելացումները նշված են դրական նշանով, իսկ նվազեցումները՝ փակագծերում)
A7: Բաժին | B7: Խումբ | C7: Դաս | D7: Ծրագիր | E7: Միջոցառում | G7: Տարի
F8: ԸՆԴԱՄԵՆԸ | G8: =G10+G85 -> 0
F9: այդ թվում`
F10: ՀՀ Կրթության, գիտության, մշակույթի և սպորտի նախարարություն | G10: =G12+G58 -> 0
F11: այդ թվում`
A12: 08 | F12: ՀԱՆԳԻՍՏ, ՄՇԱԿՈՒՅԹ ԵՎ ԿՐՈՆ | G12: =G14 -> 79251.8
F13: այդ թվում`
B14: 01 | F14: Հանգստի և սպորտի ծառայություններ | G14: =G16 -> 79251.8
F15: այդ թվում`
C16: 01 | F16: Հանգստի և սպորտի ծառայություններ | G16: =G18 -> 79251.8
F17: այդ թվում`
F18: ՀՀ կրթության , գիտության, մշակույթի և սպորտի նախարարություն | G18: =G20 -> 79251.8
F19: այդ թվում`
D20: 1163 | F20: Մասսայական սպորտ | G20: =G22+G31+G40+G49 -> 79251.8
F21: այդ թվում`
E22: 11019 | F22: «Հայաստանի Հանրապետության Վարչապետի գավաթ» սիրողական խճուղավազքի մրցաշարի անցկացում | G22: =G24 -> -47517.9
F23: այդ թվում` ըստ կատարողների
F24: ՀՀ կրթության , գիտության, մշակույթի և սպորտի նախարարություն | G24: =G26 -> -47517.9
F25: այդ թվում` բյուջետային ծախսերի տնտեսագիտական դասակարգման հոդվածներ
F26: ԸՆԴԱՄԵՆԸ ԾԱԽՍԵՐ | G26: =G27 -> -47517.9
F27: ԸՆԹԱՑԻԿ ԾԱԽՍԵՐ | G27: =G28 -> -47517.9
F28: ԴՐԱՄԱՇՆՈՐՀՆԵՐ | G28: =G29 -> -47517.9
F29: Ընթացիկ դրամաշնորհներ պետական հատվածի այլ մակարդակներին | G29: =G30 -> -47517.9
F30: - Այլ ընթացիկ դրամաշնորհներ | G30: ='Հավելված N 1'!G11 -> -47517.9
E31: 11020 | F31: «Հայաստանի Հանրապետության Վարչապետի գավաթ» սիրողական լողի մրցաշարի անցկացում | G31: =G33 -> -20155.2
F32: այդ թվում` ըստ կատարողների
F33: ՀՀ կրթության , գիտության, մշակույթի և սպորտի նախարարություն | G33: =G35 -> -20155.2
F34: այդ թվում` բյուջետային ծախսերի տնտեսագիտական դասակարգման հոդվածներ
F35: ԸՆԴԱՄԵՆԸ ԾԱԽՍԵՐ | G35: =G36 -> -20155.2
F36: ԸՆԹԱՑԻԿ ԾԱԽՍԵՐ | G36: =G37 -> -20155.2
F37: ԴՐԱՄԱՇՆՈՐՀՆԵՐ | G37: =G38 -> -20155.2
F38: Ընթացիկ դրամաշնորհներ պետական հատվածի այլ մակարդակներին | G38: =G39 -> -20155.2
F39: - Այլ ընթացիկ դրամաշնորհներ | G39: ='Հավելված N 1'!G12 -> -20155.2
E40: 11030 | F40: «Հայաստանի Հանրապետության Վարչապետի գավաթ» դպրոցականների լողի մրցաշարի անցկացում | G40: =G42 -> 60780.3
F41: այդ թվում` ըստ կատարողների
F42: ՀՀ կրթության , գիտության, մշակույթի և սպորտի նախարարություն | G42: =G44 -> 60780.3
F43: այդ թվում` բյուջետային ծախսերի տնտեսագիտական դասակարգման հոդվածներ
F44: ԸՆԴԱՄԵՆԸ ԾԱԽՍԵՐ | G44: =G45 -> 60780.3
F45: ԸՆԹԱՑԻԿ ԾԱԽՍԵՐ | G45: =G46 -> 60780.3
F46: ԴՐԱՄԱՇՆՈՐՀՆԵՐ | G46: =G47 -> 60780.3
F47: Ընթացիկ դրամաշնորհներ պետական հատվածի այլ մակարդակներին | G47: =G48 -> 60780.3
F48: - Այլ ընթացիկ դրամաշնորհներ | G48: ='Հավելված N 1'!G13 -> 60780.3
E49: 11031 | F49: Հայաստանի Հանրապետության վարչապետի հովանու ներքո «Դպրոցականների վոլեյբոլի լիգա» մարզական խաղերի անցկացում | G49: =G51 -> 86144.6
F50: այդ թվում` ըստ կատարողների
F51: ՀՀ կրթության , գիտության, մշակույթի և սպորտի նախարարություն | G51: =G53 -> 86144.6
F52: այդ թվում` բյուջետային ծախսերի տնտեսագիտական դասակարգման հոդվածներ
F53: ԸՆԴԱՄԵՆԸ ԾԱԽՍԵՐ | G53: =G54 -> 86144.6
F54: ԸՆԹԱՑԻԿ ԾԱԽՍԵՐ | G54: =G55 -> 86144.6
F55: ԴՐԱՄԱՇՆՈՐՀՆԵՐ | G55: =G56 -> 86144.6
F56: Ընթացիկ դրամաշնորհներ պետական հատվածի այլ մակարդակներին | G56: =G57 -> 86144.6
F57: - Այլ ընթացիկ դրամաշնորհներ | G57: ='Հավելված N 1'!G14 -> 86144.6
A58: 09 | F58: ԿՐԹՈՒԹՅՈՒՆ | G58: =G59 -> -79251.8
B59: 06 | F59: Կրթությանը տրամադրվող օժանդակ ծառայություններ | G59: =G61 -> -79251.8
F60: այդ թվում`
C61: 01 | F61: Կրթությանը տրամադրվող օժանդակ ծառայություններ | G61: =G63 -> -79251.8
F62: այդ թվում`
F63: ՀՀ կրթության , գիտության, մշակույթի և սպորտի նախարարություն | G63: =G65 -> -79251.8
F64: այդ թվում`
D65: 1163 | F65: Մասսայական սպորտ | G65: =G67+G76 -> -79251.8
F66: այդ թվում`
E67: 12001 | F67: Աջակցություն համայնքներին մարզական հաստատությունների շենքային պայմանների բարելավման համար | G67: =G69 -> -55366.3
F68: այդ թվում` ըստ կատարողների
F69: ՀՀ քաղաքաշինության կոմիտե | G69: =G71 -> -55366.3
F70: այդ թվում` բյուջետային ծախսերի տնտեսագիտական դասակարգման հոդվածներ
F71: ԸՆԴԱՄԵՆԸ ԾԱԽՍԵՐ | G71: =G72 -> -55366.3
F72: ՈՉ ՖԻՆԱՆՍԱԿԱՆ ԱԿՏԻՎՆԵՐԻ ԳԾՈՎ ԾԱԽՍԵՐ | G72: =G73 -> -55366.3
F73: ՀԻՄՆԱԿԱՆ ՄԻՋՈՑՆԵՐ | G73: =G74 -> -55366.3
F74: ՇԵՆՔԵՐ ԵՎ ՇԻՆՈՒԹՅՈՒՆՆԵՐ | G74: =G75 -> -55366.3
F75: - Շենքերի և շինությունների շինարարություն | G75: ='Հավելված N 1'!G15 -> -55366.3
E76: 32001 | F76: Մարզական օբյեկտների շինարարություն | G76: =G78 -> -23885.5
F77: այդ թվում` ըստ կատարողների
F78: ՀՀ քաղաքաշինության կոմիտե | G78: =G80 -> -23885.5
F79: այդ թվում` բյուջետային ծախսերի տնտեսագիտական դասակարգման հոդվածներ
F80: ԸՆԴԱՄԵՆԸ ԾԱԽՍԵՐ | G80: =G81 -> -23885.5
F81: ՈՉ ՖԻՆԱՆՍԱԿԱՆ ԱԿՏԻՎՆԵՐԻ ԳԾՈՎ ԾԱԽՍԵՐ | G81: =G82 -> -23885.5
F82: ՀԻՄՆԱԿԱՆ ՄԻՋՈՑՆԵՐ | G82: =G83 -> -23885.5
F83: ԱՅԼ ՀԻՄՆԱԿԱԱՆ ՄԻՋՈՑՆԵՐ | G83: =G84 -> -23885.5
F84: - Նախագծահետազոտական ծախսեր | G84: ='Հավելված N 1'!G16 -> -23885.5
F85: ՀՀ ԿԱՌԱՎԱՐՈՒԹՅՈՒՆ | G85: =+G86 -> 0
A86: 11 | F86: ՀԻՄՆԱԿԱՆ ԲԱԺԻՆՆԵՐԻՆ ՉԴԱՍՎՈՂ ՊԱՀՈՒՍՏԱՅԻՆ ՖՈՆԴԵՐ | G86: =+G88 -> 0
F87: այդ թվում`
B88: 01 | F88: ՀՀ կառավարության և համայնքների պահուստային ֆոնդ | G88: =+G90 -> 0
F89: այդ թվում`
C90: 01 | F90: ՀՀ կառավարության պահուստային ֆոնդ | G90: =+G94 -> 0
F91: այդ թվում`
F92: ՀՀ կառավարություն | G92: =+G94 -> 0
F93: այդ թվում`
D94: 1139 | E94: ՀՀ կառավարության պահուստային ֆոնդ | G94: =+G96+G104 -> 0
F95: այդ թվում`
E96: 11001 | F96: ՀՀ կառավարության պահուստային ֆոնդ | G96: =+G98 -> 146924.9
F97: այդ թվում` ըստ կատարողների
F98: ՀՀ կառավարություն | G98: =+G100 -> 146924.9
F99: այդ թվում` բյուջետային ծախսերի տնտեսագիտական դասակարգման հոդվածներ
F100: ԸՆԴԱՄԵՆԸ ԾԱԽՍԵՐ | G100: =+G101 -> 146924.9
...

Sheet Հավելված N 4
F1: Հավելված N 4
F2: ՀՀ կառավարության 2025 թվականի
F3: ______________ ի ___Ն որոշման
A4: ՀԱՅԱՍՏԱՆԻ ՀԱՆՐԱՊԵՏՈՒԹՅԱՆ ԿԱՌԱՎԱՐՈՒԹՅԱՆ 2024 ԹՎԱԿԱՆԻ ԴԵԿՏԵՄԲԵՐԻ 27-Ի N 2060-Ն ՈՐՈՇՄԱՆ N 5 ՀԱՎԵԼՎԱԾԻ N 7 ԱՂՅՈՒՍԱԿՈՒՄ ԿԱՏԱՐՎՈՂ ԼՐԱՑՈՒՄՆԵՐԸ ԵՎ ՓՈՓՈԽՈՒԹՅՈՒՆՆԵՐԸ
A5: հազար դրամներով
A6: Ծրագրային դասիչը | D6: Բյուջետային հատկացումների գլխավոր կարգադրիչների, ծրագրերի, միջոցառումների և միջոցառումները կատարող պետական մարմինների անվանումները | F6: Միջոցառումները կատարող պետական մարմինների և դրամաշնորհ ստացող տնտեսվարող սուբյեկտների անվանումները | G6: Ցուցանիշների փոփոխությունը (ավելացումները նշված են դրական նշանով, իսկ նվազեցումները՝ փակագծերում)
A7: Ծրագիր | B7: Միջոցառում | G7: Տարի
A8: ՀՀ կրթության, գիտության, մշակույթի և սպորտի նախարարություն | G8: =G9 -> 79251.8
A9: 1163 | B9: Մասսայական սպորտ | G9: =G10+G12+G14+G16 -> 79251.8
B10: 11019 | C10: «Հայաստանի Հանրապետության Վարչապետի գավաթ» սիրողական խճուղավազքի մրցաշարի անցկացում | F10: ՀՀ կրթության, գիտության, մշակույթի և սպորտի նախարարություն | G10: =+G11 -> -47517.9
F11: Մրցույթով ընտրված կազմակերպություն | G11: ='Հավելված N 1'!G11 -> -47517.9
B12: 11020 | C12: «Հայաստանի Հանրապետության Վարչապետի գավաթ» սիրողական լողի մրցաշարի անցկացում | F12: ՀՀ կրթության, գիտության, մշակույթի և սպորտի նախարարություն | G12: =+G13 -> -20155.2
F13: Մրցույթով ընտրված կազմակերպություն | G13: ='Հավելված N 1'!G12 -> -20155.2
B14: 11030 | C14: «Հայաստանի Հանրապետության Վարչապետի գավաթ» դպրոցականների լողի մրցաշարի անցկացում | F14: ՀՀ կրթության, գիտության, մշակույթի և սպորտի նախարարություն | G14: =+G15 -> 60780.3
F15: Մրցույթով ընտրված կազմակերպություն | G15: ='Հավելված N 1'!G13 -> 60780.3
B16: 11031 | C16: Հայաստանի Հանրապետության վարչապետի հովանու ներքո «Դպրոցականների վոլեյբոլի լիգա» մարզական խաղերի անցկացում | F16: ՀՀ կրթության, գիտության, մշակույթի և սպորտի նախարարություն | G16: =+G17 -> 86144.6
F17: Մրցույթով ընտրված կազմակերպություն | G17: ='Հավելված N 1'!G14 -> 86144.6

Sheet Հավելված N 5
D1: Հավելված N 5
C2: ՀՀ կառավարության 2025 թվականի ______________ ի ___Ն որոշման
A4: ՀԱՅԱՍՏԱՆԻ ՀԱՆՐԱՊԵՏՈՒԹՅԱՆ ԿԱՌԱՎԱՐՈՒԹՅԱՆ 2024 ԹՎԱԿԱՆԻ ԴԵԿՏԵՄԲԵՐԻ 27-Ի N 2060-Ն ՈՐՈՇՄԱՆ N 5 ՀԱՎԵԼՎԱԾԻ N 2 ԱՂՅՈՒՍԱԿՈՒՄ ԿԱՏԱՐՎՈՂ ՓՈՓՈԽՈՒԹՅՈՒՆՆԵՐԸ
D5: հազար դրամներով
A6: Ծրագրային դասիչ | C6: Բյուջետային գլխավոր կարգադրիչների, ծրագրերի, միջոցառումների, միջոցառումները կատարող պետական մարմինների և ուղղությունների անվանումները | D6: Ցուցանիշների փոփոխությունը (նվազեցումները նշված են փակագծերում)
A7: Ծրագիր | B7: Միջոցառում | D7: Տարի
C8: ՀՀ ԿՐԹՈՒԹՅԱՆ, ԳԻՏՈՒԹՅԱՆ, ՄՇԱԿՈՒՅԹԻ ԵՎ ՍՊՈՐՏԻ ՆԱԽԱՐԱՐՈՒԹՅՈՒՆ | D8: =D10+D16 -> -79251.8
C9: այդ թվում՝
A10: 1163 | B10: 12001 | C10: Աջակցություն համայնքներին մարզական հաստատությունների շենքային պայմանների բարելավման համար | D10: =D12 -> -55366.3
C11: այդ թվում` ըստ կատարողների
C12: ՀՀ քաղաքաշինության կոմիտե | D12: =D14 -> -55366.3
C13: այդ թվում`ըստ ուղղությունների
C14: ՀՀ Շիրակի մարզ | D14: =D15 -> -55366.3
C15: Արթուր Ալեքսանյանի անվան նոր սպորտային համալիր | D15: ='Հավելված N 1'!G15 -> -55366.3
A16: 1163 | B16: 32001 | C16: Մարզական օբյեկտների շինարարություն | D16: =D18 -> -23885.5
C17: այդ թվում` ըստ կատարողների
C18: ՀՀ քաղաքաշինության կոմիտե | D18: =D20 -> -23885.5
C19: այդ թվում`ըստ ուղղությունների
C20: ՀՀ Շիրակի մարզ | D20: =D21 -> -23885.5
C21: «Գյումրու մանկապատանեկան համալիր մարզադպրոց» ՊՈԱԿ | D21: ='Հավելված N 1'!G16 -> -23885.5

Sheet Հավելված N 6 
J1: Հավելված N 6
I2: ՀՀ կառավարության 2025 թվականի ______________ ի ___Ն որոշման
A3: ՀԱՅԱՍՏԱՆԻ ՀԱՆՐԱՊԵՏՈՒԹՅԱՆ ԿԱՌԱՎԱՐՈՒԹՅԱՆ 2024 ԹՎԱԿԱՆԻ ԴԵԿՏԵՄԲԵՐԻ 27-Ի N 2060-Ն ՈՐՈՇՄԱՆ N 9 ՀԱՎԵԼՎԱԾՈՒՄ ԿԱՏԱՐՎՈՂ ԼՐԱՑՈՒՄՆԵՐԸ ԵՎ ՓՈՓՈԽՈՒԹՅՈՒՆՆԵՐԸ
A5: ԲԳԿ | B5: Ծրագիր | D5: Միջոցառում | H5: Իրականացնողը/ ակտիվն օգտագործողը/ շահառուի ընտրության չափորոշիչը | I5: Արդյունքային չափորոշիչը | J5: Ցուցանիշների փոփոխությունը (ավելացումները նշված են դրական նշանով, իսկ նվազեցումները՝ փակագծերում)
B6: Դասիչը | C6: Անվանումը | D6: Դասիչը | E6: Անվանումը | F6: Նկարագրությունը | G6: Տեսակը | J6: Տարի
A7: ԸՆԴԱՄԵՆԸ | J7: =J8+J41 -> 0
A8: ՀՀ կրթության, գիտության, մշակույթի և սպորտի նախարարություն | J8: =J9 -> 0
B9: 1163 | C9: Մասսայական սպորտ | J9: =J10+J16+J22+J27+J32+J36 -> 0
D10: 1163 - 11019 | E10: «Հայաստանի Հանրապետության Վարչապետի գավաթ» սիրողական խճուղավազքի մրցաշարի անցկացում | J10: ='Հավելված N 1'!G11 -> -47517.9
F11: «Հայաստանի Հանրապետության Վարչապետի գավաթ» սիրողական խճուղավազքի մրցաշարի կազմակերպում և անցկացում
G12: Ծառայությունների մատուցում
H13: Ծառայությունը մատուցողի անվանումը` Մասնագիտացված կազմակերպություն
I14: Մասնակիցների թիվ, մարդ | J14: -2000
I15: Մասնակիցների ընդհանուր թվից իգական սեռի ներկայացուցիչներ, տոկոս | J15: -40
D16: 1163 - 11020 | E16: «Հայաստանի Հանրապետության Վարչապետի գավաթ» սիրողական լողի մրցաշարի անցկացում | J16: ='Հավելված N 1'!G12 -> -20155.2
F17: «Հայաստանի Հանրապետության Վարչապետի գավաթ» սիրողական լողի մրցաշարի կազմակերպում և անցկացում
G18: Ծառայությունների մատուցում
H19: Ծառայությունը մատուցողի անվանումը` Մասնագիտացված կազմակերպություն
I20: Մասնակիցների թիվ, մարդ | J20: -135
I21: Մասնակիցների ընդհանուր թվից իգական սեռի ներկայացուցիչներ, տոկոս | J21: -30
D22: 1163 - 11030 | E22: «Հայաստանի Հանրապետության Վարչապետի գավաթ» դպրոցականների լողի մրցաշարի անցկացում | J22: ='Հավելված N 1'!G13 -> 60780.3
F23: «Հայաստանի Հանրապետության Վարչապետի գավաթ» դպրոցականների լողի մրցաշարի անցկացում
G24: Ծառայությունների մատուցում
H25: Ծառայությունը մատուցողի անվանումը` Մասնագիտացված կազմակերպություն
I26: Միջոցառումների քանակը, հատ | J26: 1
D27: 1163 - 11031 | E27: Հայաստանի Հանրապետության վարչապետի հովանու ներքո «Դպրոցականների վոլեյբոլի լիգա» մարզական խաղերի անցկացում | J27: ='Հավելված N 1'!G14 -> 86144.6
F28: Հայաստանի Հանրապետության վարչապետի հովանու ներքո «Դպրոցականների վոլեյբոլի լիգա» մարզական խաղերի անցկացում
G29: Ծառայությունների մատուցում
H30: Ծառայությունը մատուցողի անվանումը` Մասնագիտացված կազմակերպություն
I31: Միջոցառումների քանակը, հատ | J31: 1
D32: 1163 - 12001 | E32: Աջակցություն համայնքներին մարզական հաստատությունների շենքային պայմանների բարելավման համար | J32: ='Հավելված N 1'!G15 -> -55366.3
F33: Համայնքային ենթակայության մարզական հաստատությունների վերանորոգում և կառուցում
G34: Տրանսֆերտների տրամադրում
H35: Շահառուների ընտրության չափորոշիչները` ՀՀ համայնքների ենթակայության մարզական հաստատությունների շենքային պայմանների բարելավման անհրաժեշտությունը
D36: 1163 - 32001 | E36: Մարզական օբյեկտների շինարարություն | J36: ='Հավելված N 1'!G16 -> -23885.5
F37: Մարզական օբյեկտների շենքերի (մասնաշենքերի) կառուցում (համաշինարարական աշխատանքներ, ջեռուցման համակարգի իրականացում, ներքին հարդարում, տարածքի բարեկարգում) և նախագծում
G38: Այլ պետական կազմակերպությունների կողմից օգտագործվող ոչ ֆինանսական ակտիվների հետ գործառնություններ
H39: Ակտիվն օգտագործող կազմակերպության անվանումը` Մարզական հաստատություններ
I40: Նախագծանախահաշվային փաստաթղթերի քանակ, հատ | J40: -1
A41: ՀՀ կառավարություն | J41: =J42 -> 0
B42: 1139 | C42: ՀՀ կառավարության պահուստային ֆոնդ | J42: =J43+J47 -> 0
D43: 1139 - 11001 | E43: ՀՀ կառավարության պահուստային ֆոնդ | J43: ='Հավելված N 1'!G19 -> 146924.9
F44: ՀՀ պետական բյուջեում նախատեսված ելքերի լրացուցիչ ֆինանսավորման, պետական բյուջեում չկանխատեսված ելքերի, ինչպես նաև բյուջետային երաշխիքների ապահովման ելքերի ֆինանսավորման ապահովում
G45: Ծառայությունների մատուցում
H46: Ծառայությունը մատուցողի անվանումը` ՀՀ կառավարություն
D47: 1139 - 11001 | E47: ՀՀ կառավարության պահուստային ֆոնդ | J47: ='Հավելված N 1'!G20 -> -146924.9
F48: ՀՀ պետական բյուջեում նախատեսված ելքերի լրացուցիչ ֆինանսավորման, պետական բյուջեում չկանխատեսված ելքերի, ինչպես նաև բյուջետային երաշխիքների ապահովման ելքերի ֆինանսավորման ապահովում
G49: Ծառայությունների մատուցում
H50: Ծառայությունը մատուցողի անվանումը` ՀՀ կառավարություն

Sheet Հավելված N 7
J1: Հավելված N7
I2: ՀՀ կառավարության 2025 թվականի ______________ ի ___Ն որոշման
A3: ՀԱՅԱՍՏԱՆԻ ՀԱՆՐԱՊԵՏՈՒԹՅԱՆ ԿԱՌԱՎԱՐՈՒԹՅԱՆ 2024 ԹՎԱԿԱՆԻ ԴԵԿՏԵՄԲԵՐԻ 27-Ի N 2060-Ն ՈՐՈՇՄԱՆ N 9.1 ՀԱՎԵԼՎԱԾՈՒՄ ԿԱՏԱՐՎՈՂ ԼՐԱՑՈՒՄՆԵՐԸ ԵՎ ՓՈՓՈԽՈՒԹՅՈՒՆՆԵՐԸ
A6: ԲՍԿ | B6: Ծրագիր | D6: Միջոցառում | H6: Իրականացնողը/ ակտիվն օգտագործողը/ շահառուի ընտրության չափորոշիչը | I6: Արդյունքային չափորոշիչը | J6: Ցուցանիշների փոփոխությունը (ավելացումները նշված են դրական նշանով, իսկ նվազեցումները՝ փակագծերում)
B7: Դասիչը | C7: Անվանումը | D7: Դասիչը | E7: Անվանումը | F7: Նկարագրությունը | G7: Տեսակը | J7: Տարի
A8: ԸՆԴԱՄԵՆԸ | J8: =J9+J44+J33 -> 0
A9: ՀՀ կրթության, գիտության, մշակույթի և սպորտի նախարարություն | J9: =J10 -> 79251.8
B10: 1163 | C10: Մասսայական սպորտ | J10: =J11+J17+J23+J28 -> 79251.8
D11: 1163 - 11019 | E11: «Հայաստանի Հանրապետության Վարչապետի գավաթ» սիրողական խճուղավազքի մրցաշարի անցկացում | J11: ='Հավելված N 1'!G11 -> -47517.9
F12: «Հայաստանի Հանրապետության Վարչապետի գավաթ» սիրողական խճուղավազքի մրցաշարի կազմակերպում և անցկացում
G13: Ծառայությունների մատուցում
H14: Ծառայությունը մատուցողի անվանումը` Մասնագիտացված կազմակերպություն
I15: Մասնակիցների թիվ, մարդ | J15: -2000
I16: Մասնակիցների ընդհանուր թվից իգական սեռի ներկայացուցիչներ, տոկոս | J16: -40
D17: 1163 - 11020 | E17: «Հայաստանի Հանրապետության Վարչապետի գավաթ» սիրողական լողի մրցաշարի անցկացում | J17: ='Հավելված N 1'!G12 -> -20155.2
F18: «Հայաստանի Հանրապետության Վարչապետի գավաթ» սիրողական լողի մրցաշարի կազմակերպում և անցկացում
G19: Ծառայությունների մատուցում
H20: Ծառայությունը մատուցողի անվանումը` Մասնագիտացված կազմակերպություն
I21: Մասնակիցների թիվ, մարդ | J21: -135
I22: Մասնակիցների ընդհանուր թվից իգական սեռի ներկայացուցիչներ, տոկոս | J22: -30
D23: 1163 - 11030 | E23: «Հայաստանի Հանրապետության Վարչապետի գավաթ» դպրոցականների լողի մրցաշարի անցկացում | J23: ='Հավելված N 1'!G13 -> 60780.3
F24: «Հայաստանի Հանրապետության Վարչապետի գավաթ» դպրոցականների լողի մրցաշարի անցկացում
G25: Ծառայությունների մատուցում
H26: Ծառայությունը մատուցողի անվանումը` Մասնագիտացված կազմակերպություն
I27: Միջոցառումների քանակը, հատ | J27: 1
D28: 1163 - 11031 | E28: Հայաստանի Հանրապետության վարչապետի հովանու ներքո «Դպրոցականների վոլեյբոլի լիգա» մարզական խաղերի անցկացում | J28: ='Հավելված N 1'!G14 -> 86144.6
F29: Հայաստանի Հանրապետության վարչապետի հովանու ներքո «Դպրոցականների վոլեյբոլի լիգա» մարզական խաղերի անցկացում
G30: Ծառայությունների մատուցում
H31: Ծառայությունը մատուցողի անվանումը` Մասնագիտացված կազմակերպություն
I32: Միջոցառումների քանակը, հատ | J32: 1
A33: ՀՀ քաղաքաշինության կոմիտե | J33: =J34 -> -79251.8
B34: 1163 | C34: Մասսայական սպորտ | J34: =J35+J39 -> -79251.8
D35: 1163 - 12001 | E35: Աջակցություն համայնքներին մարզական հաստատությունների շենքային պայմանների բարելավման համար | J35: ='Հավելված N 1'!G15 -> -55366.3
F36: Համայնքային ենթակայության մարզական հաստատությունների վերանորոգում և կառուցում
G37: Տրանսֆերտների տրամադրում
H38: Շահառուների ընտրության չափորոշիչները` ՀՀ համայնքների ենթակայության մարզական հաստատությունների շենքային պայմանների բարելավման անհրաժեշտությունը
D39: 1163 - 32001 | E39: Մարզական օբյեկտների շինարարություն | J39: ='Հավելված N 1'!G16 -> -23885.5
F40: Մարզական օբյեկտների շենքերի (մասնաշենքերի) կառուցում (համաշինարարական աշխատանքներ, ջեռուցման համակարգի իրականացում, ներքին հարդարում, տարածքի բարեկարգում) և նախագծում
G41: Այլ պետական կազմակերպությունների կողմից օգտագործվող ոչ ֆինանսական ակտիվների հետ գործառնություններ
H42: Ակտիվն օգտագործող կազմակերպության անվանումը` Մարզական հաստատություններ
I43: Նախագծանախահաշվային փաստաթղթերի քանակ, հատ | J43: -1
A44: ՀՀ կառավարություն | J44: =J45 -> 0
B45: 1139 | C45: ՀՀ կառավարության պահուստային ֆոնդ | J45: =J46+J50 -> 0
D46: 1139 - 11001 | E46: ՀՀ կառավարության պահուստային ֆոնդ | J46: ='Հավելված N 1'!G19 -> 146924.9
F47: ՀՀ պետական բյուջեում նախատեսված ելքերի լրացուցիչ ֆինանսավորման, պետական բյուջեում չկանխատեսված ելքերի, ինչպես նաև բյուջետային երաշխիքների ապահովման ելքերի ֆինանսավորման ապահովում
G48: Ծառայությունների մատուցում
H49: Ծառայությունը մատուցողի անվանումը` ՀՀ կառավարություն
D50: 1139 - 11001 | E50: ՀՀ կառավարության պահուստային ֆոնդ | J50: ='Հավելված N 1'!G20 -> -146924.9
F51: ՀՀ պետական բյուջեում նախատեսված ելքերի լրացուցիչ ֆինանսավորման, պետական բյուջեում չկանխատեսված ելքերի, ինչպես նաև բյուջետային երաշխիքների ապահովման ելքերի ֆինանսավորման ապահովում
G52: Ծառայությունների մատուցում
H53: Ծառայությունը մատուցողի անվանումը` ՀՀ կառավարություն

Sheet Հավելված N 8
I1: Հավելված N 8
H2: ՀՀ կառավարության 2025 թվականի -ի N -Ն որոշման
A3: ՀԱՅԱՍՏԱՆԻ ՀԱՆՐԱՊԵՏՈՒԹՅԱՆ ԿԱՌԱՎԱՐՈՒԹՅԱՆ 2024 ԹՎԱԿԱՆԻ ԴԵԿՏԵՄԲԵՐԻ 27-Ի N 2060-Ն ՈՐՈՇՄԱՆ N 10 ՀԱՎԵԼՎԱԾՈՒՄ ԿԱՏԱՐՎՈՂ ՓՈՓՈԽՈՒԹՅՈՒՆՆԵՐԸ
A5: Կոդը | B5: Անվանումը | E5: Գնման ձևը | F5: Չափման միավորը | G5: Միավորի գինը | H5: Ցուցանիշների փոփոխությունը (նվազեցումները նշված են փակագծերում)
H6: Քանակը | I6: Գումարը (հազար դրամ)
A7: 1 | B7: 2 | E7: 3 | F7: 4 | G7: 5 | H7: 6 | I7: 7
A8: ՀՀ քաղաքաշինության կոմիտե | I8: =I9 -> -79251.8
A9: Բաժին N 09 | B9: Խումբ N 06 | C9: Դաս N 01 | D9: Կրթությանը տրամադրվող օժանդակ ծառայություններ | I9: =I10+I13 -> -79251.8
A10: 1163-12001 | B10: Աջակցություն համայնքներին մարզական հաստատությունների շենքային պայմանների բարելավման համար | I10: =+I11 -> -55366.3
B11: ՄԱՍ II. ԱՇԽԱՏԱՆՔՆԵՐ | I11: =+I12 -> -55366.3
A12: 45211131-1 | B12: մարզական օբյեկտների շինարարական աշխատանքներ | E12: ՀԲՄ | F12: դրամ | I12: -55366.3
A13: 1163-32001 | B13: Մարզական օբյեկտների շինարարություն | I13: =I14 -> -23885.5
B14: ՄԱՍ III. ԾԱՌԱՅՈՒԹՅՈՒՆՆԵՐ | I14: =SUM(I15:I16) -> -23885.5
A15: 71241200-5 | B15: նախագծերի պատրաստում, ծախսերի գնահատում | E15: ԳՀ | F15: դրամ | G15: 22533500 | H15: -1 | I15: =G15*H15/1000 -> -22533.5
A16: 50531140-5 | B16: փորձաքննության ծառայություններ | E16: ԳՀ | F16: դրամ | G16: 1352000 | H16: -1 | I16: =G16*H16/1000 -> -1352
