Workbook
Name _tab10: #REF!
Name _tab10: #REF!
Name _tab10: #REF!
Name _tab11: #REF!
Name _tab11: #REF!
Name _tab12: #REF!
Name _tab12: #REF!
Name _tab13: #REF!
Name _tab13: #REF!
Name _tab14: #REF!
Name _tab14: #REF!
Name _tab15: #REF!
Name _tab15: #REF!
Name _tab16: #REF!
Name _tab16: #REF!
Name _tab17: #REF!
Name _tab17: #REF!
Name _tab18: #REF!
Name _tab18: #REF!
Name _tab19: #REF!
Name _tab19: #REF!
Name _tab20: #REF!
Name _tab20: #REF!
Name _tab21: #REF!
Name _tab21: #REF!
Name _tab22: #REF!
Name _tab22: #REF!
Name _tab22222: #REF!
Name _tab23: #REF!
Name _tab23: #REF!
Name _tab24: #REF!
Name _tab24: #REF!
Name _tab5: #REF!
Name _tab5: #REF!
Name _tab6: #REF!
Name _tab6: #REF!
Name _tab7: #REF!
Name _tab7: #REF!
Name _tab8: #REF!
Name _tab8: #REF!
Name _tab9: #REF!
Name _tab9: #REF!
Name aaaaaaaaaaaa: #REF!
Name hhhh: #REF!
Name hunvar: #REF!,#REF!,#REF!,#REF!,#REF!,#REF!,#REF!,#REF!,#REF!,#REF!,#REF!,#REF!,#REF!,#REF!,#REF!
Name hunvar: #REF!,#REF!,#REF!,#REF!,#REF!,#REF!,#REF!,#REF!,#REF!,#REF!,#REF!,#REF!,#REF!,#REF!,#REF!
Name par_count: #REF!,#REF!,#REF!,#REF!,#REF!,#REF!,#REF!,#REF!,#REF!,#REF!,#REF!,#REF!,#REF!,#REF!,#REF!
Name par_count: #REF!,#REF!,#REF!,#REF!,#REF!,#REF!,#REF!,#REF!,#REF!,#REF!,#REF!,#REF!,#REF!,#REF!,#REF!
Name par_count: #REF!,#REF!,#REF!,#REF!,#REF!,#REF!,#REF!,#REF!,#REF!,#REF!,#REF!,#REF!,#REF!,#REF!,#REF!
Name par_qual: #REF!,#REF!,#REF!,#REF!,#REF!
Name par_qual: #REF!,#REF!,#REF!,#REF!,#REF!
Name par_time: #REF!,#REF!,#REF!,#REF!
Name par_time: #REF!,#REF!,#REF!,#REF!
Name par2.12s: #REF!
Name par2.12s: #REF!
Name par2.4s: #REF!,#REF!,#REF!,#REF!,#REF!,#REF!,#REF!,#REF!,#REF!,#REF!,#REF!,#REF!,#REF!,#REF!,#REF!,#REF!
Name par2.4s: #REF!,#REF!,#REF!,#REF!,#REF!,#REF!,#REF!,#REF!,#REF!,#REF!,#REF!,#REF!,#REF!,#REF!,#REF!,#REF!
Name par2.4s: #REF!,#REF!,#REF!,#REF!,#REF!,#REF!,#REF!,#REF!,#REF!,#REF!,#REF!,#REF!,#REF!,#REF!,#REF!,#REF!
Name par2.5s: #REF!,#REF!
Name par2.5s: #REF!,#REF!

Sheet 1
B1: Հավելված № 1
B2: ՀՀ կառավարության 2025 թվականի
B3: __________ «____» -ի
B4: N_____ -Ն որոշման
B5: «ՀԱՅԱՍՏԱՆԻ ՀԱՆՐԱՊԵՏՈՒԹՅԱՆ 2025 ԹՎԱԿԱՆԻ ՊԵՏԱԿԱՆ ԲՅՈՒՋԵԻ ՄԱՍԻՆ» ՀԱՅԱՍՏԱՆԻ ՀԱՆՐԱՊԵՏՈՒԹՅԱՆ ՕՐԵՆՔԻ № 1 ՀԱՎԵԼՎԱԾԻ № 3 ԱՂՅՈՒՍԱԿՈՒՄ ԿԱՏԱՐՎՈՂ ՓՈՓՈԽՈՒԹՅՈՒՆՆԵՐԸ
B6: (հազար դրամներով)
B7: Ծրագրային դասիչ | D7: Բյուջետային գլխավոր կարգադրիչների, ծրագրերի, միջոցառումների և ուղղությունների անվանումները | E7: Ցուցանիշների փոփոխությունները (ավելացումները նշված են դրական նշանով, իսկ նվազեցումները` փակագծերում)
E8: Ընդամենը | F8: այդ թվում
B9: Ծրագիր | C9: Միջոցառում | F9: Կառուցման աշխատանքներ | G9: Վերակառուցման, վերանորոգման և վերականգնման աշխատանքներ | H9: Նախագծահե- տազոտական, գեոդեզիա- քարտեզագրա- կան աշխա- տանքներ | I9: Ոչ ֆինանսական այլ ակտիվների ձեռքբերում
D10: ՀՀ ԱՌՈՂՋԱՊԱՀՈՒԹՅԱՆ ՆԱԽԱՐԱՐՈՒԹՅՈՒՆ | E10: =+E12 -> 0 | F10: =+F12 -> 277000 | G10: =+G12 -> -277000 | H10: =+H12 -> 0 | I10: =+I12 -> 0
D11: այդ թվում`
B12: 1126 | C12: 31003 | D12: Առողջապահական կազմակերպությունների կառուցում, վերակառուցում | E12: =+F12+G12+H12+I12 -> 0 | F12: =+'2'!H28+'2'!H38 -> 277000 | G12: =+'2'!H29+'2'!H39 -> -277000 | H12: =+'2'!H31+'2'!H41 -> 0 | I12: 0

Sheet 2
B1: Հավելված № 2
B2: ՀՀ կառավարության 2025 թվականի
B3: __________ «____» -ի
B4: N_____ -Ն որոշման
B5: ՀԱՅԱՍՏԱՆԻ ՀԱՆՐԱՊԵՏՈՒԹՅԱՆ ԿԱՌԱՎԱՐՈՒԹՅԱՆ 2024 ԹՎԱԿԱՆԻ ԴԵԿՏԵՄԲԵՐԻ 27-Ի № 2060-Ն ՈՐՈՇՄԱՆ №№ 3 և 4 ՀԱՎԵԼՎԱԾՆԵՐՈՒՄ ԿԱՏԱՐՎՈՂ ՓՈՓՈԽՈՒԹՅՈՒՆՆԵՐԸ
B6: (հազար դրամներով)
B7: Գործառական դասիչը | E7: Ծրագրային դասիչը | G7: Բյուջետային հատկացումների գլխավոր կարգադրիչների, ծրագրերի, միջոցառումների և միջոցառումները կատարող պետական մարմինների անվանումները | H7: Ցուցանիշների փոփոխությունները (ավելացումները նշված են դրական նշանով, իսկ նվազեցումները` փակագծերում)
B8: բաժին | C8: խումբ | D8: դաս | E8: Ծրագիր | F8: Միջոցառում | H8: Տարի
B9: ԸՆԴԱՄԵՆԸ | H9: =+H10 -> 0
B10: 07 | G10: ԱՌՈՂՋԱՊԱՀՈՒԹՅՈՒՆ | H10: =+H12 -> 0
G11: այդ թվում՝
C12: 06 | G12: Առողջապահություն (այլ դասերին չպատկանող) | H12: =+H14 -> 0
G13: այդ թվում՝
D14: 02 | G14: Առողջապահություն (այլ դասերին չպատկանող) | H14: =+H18 -> 0
G15: այդ թվում՝
G16: ՀՀ առողջապահության նախարարություն | H16: =+H18 -> 0
G17: այդ թվում՝
E18: 1126 | G18: Առողջապահության ոլորտում պետական քաղաքականության մշակում, ծրագրերի համակարգում և մոնիտորինգ | H18: =+H20 -> 0
G19: այդ թվում՝
F20: 31003 | G20: Առողջապահական կազմակերպությունների կառուցում, վերակառուցում | H20: =+H22+H32 -> 0
G21: այդ թվում ըստ կատարողների
G22: ՀՀ առողջապահության նախարարություն | H22: =+H24 -> -327067.7
G23: այդ թվում` բյուջետային ծախսերի տնտեսագիտական դասակարգման հոդվածներ
G24: ԸՆԴԱՄԵՆԸ ԾԱԽՍԵՐ | H24: =+H25 -> -327067.7
G25: ՈՉ ՖԻՆԱՆՍԱԿԱՆ ԱԿՏԻՎՆԵՐԻ ԳԾՈՎ ԾԱԽՍԵՐ | H25: =+H26 -> -327067.7
G26: ՀԻՄՆԱԿԱՆ ՄԻՋՈՑՆԵՐ | H26: =+H27+H30 -> -327067.7
G27: ՇԵՆՔԵՐ ԵՎ ՇԻՆՈՒԹՅՈՒՆՆԵՐ | H27: =+H28+H29 -> -367767.7
G28: - Շենքերի և շինությունների շինարարություն | H28: =+'3'!E21+'3'!E27+'3'!E31 -> 20079.7
G29: - Շենքերի և շինությունների կապիտալ վերանորոգում | H29: =+'3'!E16+'3'!E17+'3'!E23+'3'!E25+'3'!E29 -> -387847.4
G30: ԱՅԼ ՀԻՄՆԱԿԱՆ ՄԻՋՈՑՆԵՐ | H30: =+H31 -> 40700
G31: - Նախագծահետազոտական ծախսեր | H31: =+'3'!E19 -> 40700
G32: ՀՀ քաղաքաշինության կոմիտե | H32: =+H34 -> 327067.7
G33: այդ թվում` բյուջետային ծախսերի տնտեսագիտական դասակարգման հոդվածներ
G34: ԸՆԴԱՄԵՆԸ ԾԱԽՍԵՐ | H34: =+H35 -> 327067.7
G35: ՈՉ ՖԻՆԱՆՍԱԿԱՆ ԱԿՏԻՎՆԵՐԻ ԳԾՈՎ ԾԱԽՍԵՐ | H35: =+H36 -> 327067.7
G36: ՀԻՄՆԱԿԱՆ ՄԻՋՈՑՆԵՐ | H36: =+H37+H40 -> 327067.7
G37: ՇԵՆՔԵՐ ԵՎ ՇԻՆՈՒԹՅՈՒՆՆԵՐ | H37: =+H38+H39 -> 367767.7
G38: - Շենքերի և շինությունների շինարարություն | H38: =+'3'!E36+'3'!E47 -> 256920.3
G39: - Շենքերի և շինությունների կապիտալ վերանորոգում | H39: =+'3'!E38+'3'!E39+'3'!E43+'3'!E45 -> 110847.4
G40: ԱՅԼ ՀԻՄՆԱԿԱՆ ՄԻՋՈՑՆԵՐ | H40: =+H41 -> -40700
G41: - Նախագծահետազոտական ծախսեր | H41: =+'3'!E41 -> -40700

Sheet 3
B1: Հավելված № 3
B2: ՀՀ կառավարության 2025 թվականի
B3: __________ «____» -ի
B4: N_____ -Ն որոշման
B5: ՀԱՅԱՍՏԱՆԻ ՀԱՆՐԱՊԵՏՈՒԹՅԱՆ ԿԱՌԱՎԱՐՈՒԹՅԱՆ 2024 ԹՎԱԿԱՆԻ ԴԵԿՏԵՄԲԵՐԻ 27-Ի № 2060-Ն ՈՐՈՇՄԱՆ № 5 ՀԱՎԵԼՎԱԾԻ № 2 ԱՂՅՈՒՍԱԿՈՒՄ ԿԱՏԱՐՎՈՂ ՓՈՓՈԽՈՒԹՅՈՒՆՆԵՐԸ
B6: (հազար դրամներով)
B7: Ծրագրային դասիչ | D7: Բյուջետային գլխավոր կարգադրիչների, ծրագրերի, միջոցառումների և ուղղությունների անվանումները | E7: Ցուցանիշների փոփոխությունները (ավելացումները նշված են դրական նշանով, իսկ նվազեցումները` փակագծերում)
B8: Ծրագիր | C8: Միջոցառում | E8: Տարի
B9: 1126 | D9: ՀՀ ԱՌՈՂՋԱՊԱՀՈՒԹՅԱՆ ՆԱԽԱՐԱՐՈՒԹՅՈՒՆ | E9: =+E11 -> 0
D10: այդ թվում`
C11: 31003 | D11: Առողջապահական կազմակերպությունների կառուցում, վերակառուցում | E11: =+E13+E33 -> 0
D12: այդ թվում ըստ կատարողների
D13: ՀՀ Առողջապահության նախարարություն | E13: =+E15+E18+E20+E22+E24+E26+E28+E30 -> -327067.7
D14: այդ թվում ըստ ուղղությունների`
D15: ՀՀ Արարատի մարզ | E15: =+E16+E17 -> 62152.6
D16: ՀՀ Արարատի մարզի «Արարատի հիվանդանոց» բժշկական կենտրոն ՓԲԸ պոլիկլինիկա | E16: -150000
D17: ՀՀ ԱՆ «Վեդու բժշկական կենտրոն» ՓԲԸ | E17: 212152.6
D18: ՀՀ Արմավիրի մարզ | E18: =+E19 -> 40700
D19: ՀՀ ԱՆ «Էջմիածնի բժշկական կենտրոն» ՓԲԸ | E19: 40700
D20: ՀՀ Գեղարքունիքի մարզ | E20: =+E21 -> -55718.9
D21: «Դատաբժշկական գիտագործնական կենտրոն» ՊՈԱԿ-ի Սևանի դիահերձարան | E21: -55718.9
D22: ՀՀ Կոտայքի մարզ | E22: =+E23 -> -150000
D23: ՀՀ Կոտայքի մարզի «Նոր Հաճնի պոլիկլինիկա» ՊՓԲԸ | E23: -150000
D24: ՀՀ Շիրակի մարզ | E24: =+E25 -> -150000
D25: ՀՀ Շիրակի մարզի «Գյումրու Ն․ Ա․ Մելիքյանի անվան թիվ 2 պոլիկլինիկա» ՓԲԸ | E25: -150000
D26: ՀՀ Սյունիքի մարզ | E26: =+E27 -> 108773.1
D27: «Դատաբժշկական գիտագործնական կենտրոն» ՊՈԱԿ-ի Մեղրու ստորաբաժանում | E27: 108773.1
D28: ՀՀ Վայոց Ձորի մարզ | E28: =+E29 -> -150000
D29: ՀՀ Վայոց ձորի «Վայքի պոլիկլինիկա» ՊՓԲԸ | E29: -150000
D30: ՀՀ Տավուշի մարզ | E30: =+E31 -> -32974.5
D31: «Դատաբժշկական գիտագործնական կենտրոն» ՊՈԱԿ-ի Բերդի դիահերձարան | E31: -32974.5
D32: այդ թվում՝ ըստ կատարողների
D33: ՀՀ քաղաքաշինության կոմիտե | E33: =+E35+E37+E42+E40+E44+E46 -> 327067.7
D34: այդ թվում`ըստ ուղղությունների
D35: ՀՀ Արագածոտնի մարզ | E35: =+E36 -> 154000
D36: ՀՀ ԱՆ «Աշտարակի բժշկական կենտրոն» ՓԲԸ /գլխավոր մասնաշենք/ | E36: 154000
D37: ՀՀ Արարատի մարզ | E37: =+E38+E39 -> -189152.6
D38: ՀՀ Արարատի մարզի «Արտաշատի բժշկական կենտրոն» ՓԲԸ պոլիկլինիկա | E38: 23000
D39: ՀՀ Արարատի մարզի «Վեդու բժշկական կենտրոն» ՓԲԸ | E39: -212152.6
D40: ՀՀ Արմավիրի մարզ | E40: =+E41 -> -40700
D41: ՀՀ Արմավիրի մարզի «Վաղարշապատի բժշկական կենտրոն» ՓԲԸ | E41: -40700
D42: ՀՀ Կոտայքի մարզ | E42: =+E43 -> 150000
D43: ՀՀ Կոտայքի մարզի «Նոր Հաճնի պոլիկլինիկա» ՊՓԲԸ | E43: 150000
D44: ՀՀ Շիրակի մարզ | E44: =+E45 -> 150000
D45: ՀՀ Շիրակի մարզի «Գյումրու Ն․ Ա․ Մելիքյանի անվան թիվ 2 պոլիկլինիկա» ՓԲԸ | E45: 150000
D46: ՀՀ Լոռու մարզ | E46: =+E47 -> 102920.3
D47: ՀՀ Լոռու մարզի «Տաշիրի բժշկական կենտրոն» ՓԲԸ | E47: 102920.3

Sheet 4
B1: Հավելված № 4
B2: ՀՀ կառավարության 2025 թվականի
B3: __________ «____» -ի
B4: N_____ -Ն որոշման
B5: ՀԱՅԱՍՏԱՆԻ ՀԱՆՐԱՊԵՏՈՒԹՅԱՆ ԿԱՌԱՎԱՐՈՒԹՅԱՆ 2024 ԹՎԱԿԱՆԻ ԴԵԿՏԵՄԲԵՐԻ 27-Ի № 2060-Ն ՈՐՈՇՄԱՆ № 9 ՀԱՎԵԼՎԱԾՈՒՄ ԿԱՏԱՐՎՈՂ ՓՈՓՈԽՈՒԹՅՈՒՆՆԵՐԸ
A6: (հազար դրամներով)
A7: ԲԳԿ | B7: Ծրագիր | D7: Միջոցառում | H7: Իրականացնողը/ ակտիվն օգտագործողը/ շահառուի ընտրության չափորոշիչը | I7: Արդյունքային չափորոշիչը | J7: Ցուցանիշների փոփոխությունները (ավելացումները նշված են դրական նշանով, իսկ նվազեցումները` փակագծերում)
B8: Դասիչը | C8: Անվանումը | D8: Դասիչը | E8: Անվանումը | F8: Նկարագրությունը | G8: Տեսակը | J8: Տարի
A9: ՀՀ առողջապահության նախարարություն | J9: =+J10 -> 0
B10: 1126 | C10: Առողջապահության ոլորտում պետական քաղաքականության մշակում, ծրագրերի համակարգում և մոնիտորինգ | J10: =+J11 -> 0
D11: 1126 - 31003 | E11: Առողջապահական կազմակերպությունների կառուցում, վերակառուցում | J11: =+'3'!E11 -> 0
F12: Բնակչությանը որակյալ բժշկական օգնության և սպասարկման ծառայություններ մատուցելու նպատակով առողջապահական կազմակերպությունների կառուցում, վերակառուցում
G13: Պետական մարմինների կողմից օգտագործվող ոչ ֆինանսական ակտիվների հետ գործառնություններ
H14: Ակտիվն օգտագործող կազմակերպության անվանումը` Բժշկական կազմակերպություններ
I15: Ընդամենը կառուցվող կազմակերպություններ, թիվ | J15: =+J16 -> -2
I16: Նոր կառուցվող կազմակերպությունների թիվ, հատ | J16: -2

Sheet 5
B1: Հավելված № 5
B2: ՀՀ կառավարության 2024 թվականի
B3: __________ «____» -ի
B4: N_____ -Ն որոշման
A5: ՀԱՅԱՍՏԱՆԻ ՀԱՆՐԱՊԵՏՈՒԹՅԱՆ ԿԱՌԱՎԱՐՈՒԹՅԱՆ 2024 ԹՎԱԿԱՆԻ ԴԵԿՏԵՄԲԵՐԻ 27-Ի № 2060-Ն ՈՐՈՇՄԱՆ № 9.1 ՀԱՎԵԼՎԱԾՈՒՄ ԿԱՏԱՐՎՈՂ ՓՈՓՈԽՈՒԹՅՈՒՆՆԵՐԸ ԵՎ ԼՐԱՑՈՒՄՆԵՐԸ
A6: (հազար դրամներով)
A7: ԲՍԿ | B7: Ծրագիր | D7: Միջոցառում | H7: Իրականացնողը/ ակտիվն օգտագործողը/ շահառուի ընտրության չափորոշիչը | I7: Արդյունքային չափորոշիչը | J7: Ցուցանիշների փոփոխությունները (ավելացումները նշված են դրական նշանով, իսկ նվազեցումները` փակագծերում)
B8: Դասիչը | C8: Անվանումը | D8: Դասիչը | E8: Անվանումը | F8: Նկարագրությունը | G8: Տեսակը | J8: Տարի
A9: Ընդամենը | J9: =+J10+J19 -> 0
A10: ՀՀ առողջապահության նախարարություն | J10: =+J11 -> -327067.7
B11: 1126 | C11: Առողջապահության ոլորտում պետական քաղաքականության մշակում, ծրագրերի համակարգում և մոնիտորինգ | J11: =+J12 -> -327067.7
D12: 1126 - 31003 | E12: Առողջապահական կազմակերպությունների կառուցում, վերակառուցում | J12: =+'3'!E13 -> -327067.7
F13: Բնակչությանը որակյալ բժշկական օգնության և սպասարկման ծառայություններ մատուցելու նպատակով առողջապահական կազմակերպությունների կառուցում, վերակառուցում
G14: Պետական մարմինների կողմից օգտագործվող ոչ ֆինանսական ակտիվների հետ գործառնություններ
H15: Ակտիվն օգտագործող կազմակերպության անվանումը` Բժշկական կազմակերպություններ
I16: Ընդամենը կառուցվող կազմակերպություններ, թիվ | J16: =+J17 -> -4
I17: Նոր կառուցվող կազմակերպությունների թիվ, հատ | J17: -4
I18: Նախագծահետազոտական ծախսեր | J18: 1
A19: ՀՀ քաղաքաշինության կոմիտե | J19: =+J20 -> 327067.7
B20: 1126 | C20: Առողջապահության ոլորտում պետական քաղաքականության մշակում, ծրագրերի համակարգում և մոնիտորինգ | J20: =+J21 -> 327067.7
D21: 1126 - 31003 | E21: Առողջապահական կազմակերպությունների կառուցում, վերակառուցում | J21: =+'3'!E33 -> 327067.7
F22: Բնակչությանը որակյալ բժշկական օգնության և սպասարկման ծառայություններ մատուցելու նպատակով առողջապահական կազմակերպությունների կառուցում, վերակառուցում
G23: Պետական մարմինների կողմից օգտագործվող ոչ ֆինանսական ակտիվների հետ գործառնություններ
H24: Ակտիվն օգտագործող կազմակերպության անվանումը` Բժշկական կազմակերպություններ
I25: Ընդամենը կառուցվող կազմակերպություններ, թիվ | J25: =+J26 -> 2
I26: Նոր կառուցվող կազմակերպությունների թիվ, հատ | J26: 2
I27: Նախագծահետազոտական ծախսեր | J27: -1

Sheet 6
B1: Հավելված № 6
B2: ՀՀ կառավարության 2024 թվականի
B3: __________ «____» -ի
B4: N_____ -Ն որոշման
B5: ՀԱՅԱՍՏԱՆԻ ՀԱՆՐԱՊԵՏՈՒԹՅԱՆ ԿԱՌԱՎԱՐՈՒԹՅԱՆ 2024 ԹՎԱԿԱՆԻ ԴԵԿՏԵՄԲԵՐԻ 27-Ի № 2060-Ն ՈՐՈՇՄԱՆ № 10 ՀԱՎԵԼՎԱԾՈՒՄ ԿԱՏԱՐՎՈՂ ՓՈՓՈԽՈՒԹՅՈՒՆՆԵՐԸ ԵՎ ԼՐԱՑՈՒՄՆԵՐԸ
B6: Կոդը | C6: Անվանումը | F6: Գնման ձևը | G6: Չափման միավորը | H6: Միավորի գինը | I6: Քանակը | J6: Ցուցանիշների փոփոխությունները (ավելացումները նշված են դրական նշանով, իսկ նվազեցումները` փակագծերում)
J7: (հազար դրամներով)
B8: Ընդամենը | J8: =+J9+J24 -> 0
B9: ՀՀ առողջապահության նախարարություն | J9: =+J10 -> -327067.7
B10: Բաժին 07 | C10: Խումբ 06 | D10: Դաս 02 | E10: Առողջապահություն (այլ դասերին չպատկանող) | J10: =+J11 -> -327067.7
B11: 1126 31003 | C11: Առողջապահական կազմակերպությունների կառուցում, վերակառուցում | J11: =+J12+J17 -> -327067.7
C12: ՄԱՍ II. ԱՇԽԱՏԱՆՔՆԵՐ | J12: =+J13+J14+J16+J15 -> -379316.49
B13: 45451700-2 | C13: վերակառուցման աշխատանքներ | F13: ԲՄ | G13: դրամ | J13: -88693.4
B14: 45451700-5 | C14: վերակառուցման աշխատանքներ | F14: ԲՄ | G14: դրամ | J14: -600000
B15: 45451700 | C15: վերակառուցման աշխատանքներ | F15: ԲՄ | G15: դրամ | H15: 203867000 | I15: 1 | J15: =+H15*I15/1000 -> 203867
B16: 45211250 | C16: առողջապահության հետ կապված շենքերի կառուցման աշխատանքներ | F16: ԲՄ | G16: դրամ | H16: =108773100*0.97 -> 105509907 | I16: 1 | J16: =+H16*I16/1000 -> 105509.91
C17: ՄԱՍ III. ԾԱՌԱՅՈՒԹՅՈՒՆՆԵՐ | J17: =SUM(J18:J23) -> 52248.793
B18: 71241200 | C18: նախագծերի պատրաստում, ծախսերի գնահատում | F18: ԳՀ | G18: դրամ | H18: 38000000 | I18: 1 | J18: =+H18*I18/1000 -> 38000
B19: 50531140 | C19: փորձաքննության ծառայություններ | F19: ԳՀ | G19: դրամ | H19: 2700000 | I19: 1 | J19: =+H19*I19/1000 -> 2700
B20: 71351540 | C20: տեխնիկական հսկողության ծառայություն | F20: ԳՀ | G20: դրամ | H20: =108773100*0.02 -> 2175462 | I20: 1 | J20: =+H20*I20/1000 -> 2175.462
B21: 71351540 | C21: տեխնիկական հսկողության ծառայություն | F21: ԳՀ | G21: դրամ | H21: 6904600 | I21: 1 | J21: =+H21*I21/1000 -> 6904.6
B22: 98111140 | C22: հեղինակային հսկողության ծառայություն | F22: ՄԱ | G22: դրամ | H22: =108773100*0.01 -> 1087731 | I22: 1 | J22: =+H22*I22/1000 -> 1087.731
B23: 98111140 | C23: հեղինակային հսկողության ծառայություն | F23: ՄԱ | G23: դրամ | H23: 1381000 | I23: 1 | J23: =+H23*I23/1000 -> 1381
B24: ՀՀ քաղաքաշինության կոմիտե | J24: =+J25 -> 327067.7
B25: Բաժին 07 | C25: Խումբ 06 | D25: Դաս 02 | E25: Առողջապահություն (այլ դասերին չպատկանող) | J25: =+J26 -> 327067.7
B26: 1126 31003 | C26: Առողջապահական կազմակերպությունների կառուցում, վերակառուցում | J26: =+J27+J34 -> 327067.7
C27: ՄԱՍ II. ԱՇԽԱՏԱՆՔՆԵՐ | J27: =SUM(J28:J33) -> 360133
B28: 45211250/6 | C28: առողջապահության հետ կապված շենքերի կառուցման աշխատանքներ | F28: ԲՄ | G28: դրամ | J28: 100000
B29: 45211250/502 | C29: առողջապահության հետ կապված շենքերի կառուցման աշխատանքներ | F29: ԲՄ | G29: դրամ | H29: 150000000 | I29: 1 | J29: =+H29*I29/1000 -> 150000
B30: 45451700-3 | C30: վերակառուցման աշխատանքներ | F30: ԲՄ | G30: դրամ | J30: 23000
B31: 45451700 | C31: վերակառուցման աշխատանքներ | F31: ԲՄ | G31: դրամ | H31: =150000000*0.97 -> 145500000 | I31: 1 | J31: =+H31*I31/1000 -> 145500
B32: 45451700 | C32: վերակառուցման աշխատանքներ | F32: ԲՄ | G32: դրամ | H32: =150000000*0.97 -> 145500000 | I32: 1 | J32: =+H32*I32/1000 -> 145500
B33: 45451700-2 | C33: վերակառուցման աշխատանքներ | F33: ԲՄ | G33: դրամ | H33: 203867000 | I33: -1 | J33: =+H33*I33/1000 -> -203867
C34: ՄԱՍ III. ԾԱՌԱՅՈՒԹՅՈՒՆՆԵՐ | J34: =SUM(J35:J48) -> -33065.3
B35: 71351540/6 | C35: տեխնիկական հսկողության ծառայություն | F35: ԳՀ | G35: դրամ | J35: 2420.3
B36: 71351540/550 | C36: տեխնիկական հսկողության ծառայություն | F36: ԳՀ | G36: դրամ | H36: =150000000*0.02 -> 3000000 | I36: 1 | J36: =+H36*I36/1000 -> 3000
B37: 71351540 | C37: տեխնիկական հսկողության ծառայություն | F37: ԳՀ | G37: դրամ | H37: =150000000*0.02 -> 3000000 | I37: 1 | J37: =+H37*I37/1000 -> 3000
B38: 71351540 | C38: տեխնիկական հսկողության ծառայություն | F38: ԳՀ | G38: դրամ | H38: =150000000*0.02 -> 3000000 | I38: 1 | J38: =+H38*I38/1000 -> 3000
B39: 71351540-9 | C39: տեխնիկական հսկողության ծառայություն | F39: ԳՀ | G39: դրամ | H39: 6904600 | I39: -1 | J39: =+H39*I39/1000 -> -6904.6
B40: 71351540/44 | C40: տեխնիկական հսկողության ծառայություն | F40: ԳՀ | G40: դրամ | J40: -1911
B41: 98111140/3 | C41: հեղինակային հսկողության ծառայություն | F41: ՄԱ | G41: դրամ | J41: 1911
B42: 98111140/6 | C42: հեղինակային հսկողության ծառայություն | F42: ՄԱ | G42: դրամ | J42: 500
B43: 98111140/532 | C43: հեղինակային հսկողության ծառայություն | F43: ՄԱ | G43: դրամ | H43: =100000000*0.01 -> 1000000 | I43: 1 | J43: =+H43*I43/1000 -> 1000
B44: 98111140 | C44: հեղինակային հսկողության ծառայություն | F44: ՄԱ | G44: դրամ | H44: =150000000*0.01 -> 1500000 | I44: 1 | J44: =+H44*I44/1000 -> 1500
B45: 98111140 | C45: հեղինակային հսկողության ծառայություն | F45: ՄԱ | G45: դրամ | H45: =150000000*0.01 -> 1500000 | I45: 1 | J45: =+H45*I45/1000 -> 1500
B46: 98111140-9 | C46: հեղինակային հսկողության ծառայություն | F46: ՄԱ | G46: դրամ | H46: 1381000 | I46: -1 | J46: =+H46*I46/1000 -> -1381
B47: 71241200/64 | C47: նախագծերի պատրաստում, ծախսերի գնահատում | F47: ԲՄ | G47: դրամ | H47: 38000000 | I47: -1 | J47: =+H47*I47/1000 -> -38000
B48: 50531140/50 | C48: փորձաքննության ծառայություններ | F48: ԳՀ | G48: դրամ | H48: 2700000 | I48: -1 | J48: =+H48*I48/1000 -> -2700
