Workbook
Name _tab10: #REF!
Name _tab11: #REF!
Name _tab12: #REF!
Name _tab13: #REF!
Name _tab14: #REF!
Name _tab15: #REF!
Name _tab16: #REF!
Name _tab17: #REF!
Name _tab18: #REF!
Name _tab19: #REF!
Name _tab20: #REF!
Name _tab21: #REF!
Name _tab22: #REF!
Name _tab23: #REF!
Name _tab24: #REF!
Name _tab5: #REF!
Name _tab6: #REF!
Name _tab7: #REF!
Name _tab8: #REF!
Name _tab9: #REF!
Name AgencyCode: #REF!
Name AgencyName: #REF!
Name åû: #REF!
Name davit: #REF!
Name Functional1: #REF!
Name ggg: #REF!
Name hav: #REF!
Name havelvac: #REF!
Name mas: #REF!
Name mass: #REF!
Name PANature: #REF!
Name par_count: #REF!,#REF!,#REF!,#REF!,#REF!,#REF!,#REF!,#REF!,#REF!,#REF!,#REF!,#REF!,#REF!,#REF!,#REF!
Name par_qual: #REF!,#REF!,#REF!,#REF!,#REF!
Name par_time: #REF!,#REF!,#REF!,#REF!
Name par2.12s: #REF!
Name par2.4s: #REF!,#REF!,#REF!,#REF!,#REF!,#REF!,#REF!,#REF!,#REF!,#REF!,#REF!,#REF!,#REF!,#REF!,#REF!,#REF!
Name par2.5s: #REF!,#REF!
Name par2.6s: #REF!,#REF!,#REF!,#REF!
Name par2.7s: #REF!,#REF!
Name par2.9s: #REF!,#REF!,#REF!,#REF!,#REF!,#REF!,#REF!,#REF!,#REF!,#REF!,#REF!,#REF!,#REF!,#REF!,#REF!,#REF!
Name par4.10s: #REF!,#REF!
Name par4.11d: #REF!,#REF!,#REF!,#REF!,#REF!
Name par4.12d: #REF!
Name par4.13s: #REF!
Name par4.14: #REF!,#REF!,#REF!,#REF!,#REF!,#REF!
Name par4.15: #REF!,#REF!,#REF!
Name par4.16: #REF!,#REF!,#REF!
Name par4.17: #REF!,#REF!,#REF!,#REF!
Name par4.18d: #REF!,#REF!
Name par4.19s: #REF!
Name par4.20f: #REF!
Name par4.21f: #REF!
Name par4.22: #REF!
Name par4.4: #REF!
Name par4.5: #REF!
Name par4.6s: #REF!
Name par4.7s: #REF!
Name par4.8: #REF!,#REF!,#REF!,#REF!,#REF!
Name par4.9: #REF!,#REF!,#REF!,#REF!,#REF!,#REF!
Name par5.1: #REF!,#REF!

Sheet 1
G1: Հավելված N 1
G2: ՀՀ կառավարության 2025 թվականի
G3: N ------------ -Ն որոշման
B4: «ՀԱՅԱՍՏԱՆԻ ՀԱՆՐԱՊԵՏՈՒԹՅԱՆ 2025 ԹՎԱԿԱՆԻ ՊԵՏԱԿԱՆ ԲՅՈՒՋԵԻ ՄԱՍԻՆ» ՕՐԵՆՔԻ N 1 ՀԱՎԵԼՎԱԾԻ N 2 ԱՂՅՈՒՍԱԿՈՒՄ ԿԱՏԱՐՎՈՂ ՎԵՐԱԲԱՇԽՈՒՄԸ ԵՎ ՀԱՅԱՍՏԱՆԻ ՀԱՆՐԱՊԵՏՈՒԹՅԱՆ ԿԱՌԱՎԱՐՈՒԹՅԱՆ 2024 ԹՎԱԿԱՆԻ ԴԵԿՏԵՄԲԵՐԻ 27-Ի N 2060-Ն ՈՐՈՇՄԱՆ N 5 ՀԱՎԵԼՎԱԾԻ N 1 ԱՂՅՈՒՍԱԿՈՒՄ ԿԱՏԱՐՎՈՂ ՓՈՓՈԽՈՒԹՅՈՒՆԸ ԵՎ ԼՐԱՑՈՒՄՆԵՐԸ
G8: հազար դրամներով
A9: ԲԳԿ | B9: Ծրագրային դասիչը | D9: ԲԳԿ/Ծրագրի /միջոցառման անվանումը | E9: Ծրագրի նպատակը/Միջոցառման նկարագրությունը | F9: Վերջնական արդյունքի նկարագրությունը/Միջոցառման տեսակը | G9: Ցուցանիշների փոփոխությունը (ավելացումները նշված են դրական նշանով, իսկ նվազեցումները` փակագծերում)
B10: Ծրագիր | C10: Միջոցառում | G10: Տարի
A11: ԸՆԴԱՄԵՆԸ | G11: =+G12+G16 -> 0
A12: ՀՀ տարածքային կառավարման և ենթակառուցվածքների նախարարություն | G12: =+G13 -> -41731
B13: 1157 | D13: Քաղաքային զարգացում | E13: Քաղաքային ենթակառուցվածքների զարգացում | F13: Քաղաքային ենթակառուցվածքների արդիականացում և բարելավում | G13: =+G14+G15 -> -41731
C14: 1157 - 12029 | D14: Ասիական զարգացման բանկի աջակցությամբ իրականացվող քաղաքային զարգացման ներդրումային ծրագրի համակարգում և կառավարում | E14: Քաղաքային զարգացման ներդրումային ծրագրի շրջանակներում համակարգում և կառավարում | F14: Տրանսֆերտների տրամադրում | G14: ='2'!G22 -> 208655
C15: 1157 - 12030 | D15: Ասիական զարգացման բանկի աջակցությամբ իրականացվող քաղաքային զարգացման ներդրումային ծրագրի շրջանակներում ճանապարհային շինարարություն | E15: Քաղաքային զարգացման ներդրումային ծրագրի շրջանակներում ճանապարհային շինարարություն | F15: Տրանսֆերտների տրամադրում | G15: -250386
A16: ՀՀ կառավարություն | G16: =+G17 -> 41731
B17: 1139 | D17: ՀՀ կառավարության պահուստային ֆոնդ | E17: Պետական բյուջեում չկանխատեսված, ինչպես նաեւ բյուջետային երաշխիքների ապահովման ծախսերի ֆինանսավորման ապահովում | F17: Պահուստային ֆոնդի կառավարման արդյունավետության և թափանցիկության ապահովում | G17: =+G18 -> 41731
C18: 1139 - 11001 | D18: ՀՀ կառավարության պահուստային ֆոնդ | E18: ՀՀ պետական բյուջեում նախատեսված ելքերի լրացուցիչ ֆինանսավորման, պետական բյուջեում չկանխատեսված ելքերի, ինչպես նաև բյուջետային երաշխիքների ապահովման ելքերի ֆինանսավորման ապահովում | F18: Ծառայությունների մատուցում | G18: 41731
B22: ՀԱՅԱՍՏԱՆԻ ՀԱՆՐԱՊԵՏՈՒԹՅԱՆ
B23: ՎԱՐՉԱՊԵՏԻ ԱՇԽԱՏԱԿԱԶՄԻ
C24: ՂԵԿԱՎԱՐ ՝ Ա. ՀԱՐՈՒԹՅՈՒՆՅԱՆ

Sheet 2
G1: Հավելված N 2
G2: ՀՀ կառավարության 2025 թվականի
G3: N ------------ -Ն որոշման
A4: ՀԱՅԱՍՏԱՆԻ ՀԱՆՐԱՊԵՏՈՒԹՅԱՆ ԿԱՌԱՎԱՐՈՒԹՅԱՆ 2024 ԹՎԱԿԱՆԻ ԴԵԿՏԵՄԲԵՐԻ 27-Ի N 2060-Ն ՈՐՈՇՄԱՆ NN 3 ԵՎ 4 ՀԱՎԵԼՎԱԾՆԵՐՈՒՄ ԿԱՏԱՐՎՈՂ ՓՈՓՈԽՈՒԹՅՈՒՆԸ ԵՎ ԼՐԱՑՈՒՄՆԵՐԸ
G6: հազար դրամներով
A7: Գործառական դասիչը | D7: Ծրագրային դասիչը | F7: Բյուջետային հատկացումների գլխավոր կարգադրիչների, ծրագրերի, միջոցառումների և միջոցառումները կատարող պետական մարմինների անվանումները | G7: Ցուցանիշների փոփոխությունը (ավելացումները նշված են դրական նշանով, իսկ նվազեցումները` փակագծերում)
A8: Բաժին | B8: Խումբ | C8: Դաս | D8: Ծրագիր | E8: Միջոցառում | G8: Տարի
F9: ԸՆԴԱՄԵՆԸ | G9: =+G11+G40 -> 0
F10: այդ թվում՝
F11: ՀՀ տարածքային կառավարման և ենթակառուցվածքների նախարարություն | G11: =+G12 -> -41731
A12: 04 | F12: ՏՆՏԵՍԱԿԱՆ ՀԱՐԱԲԵՐՈՒԹՅՈՒՆՆԵՐ | G12: =+G14 -> -41731
F13: այդ թվում`
B14: 05 | F14: Տրանսպորտ | G14: =+G16 -> -41731
F15: այդ թվում`
C16: 01 | F16: Ճանապարհային տրանսպորտ | G16: =+G18 -> -41731
F17: այդ թվում`
F18: ՀՀ տարածքային կառավարման և ենթակառուցվածքների նախարարություն | G18: =+G20 -> -41731
F19: այդ թվում`
D20: 1157 | F20: Քաղաքային զարգացում | G20: =+G22+G31 -> -41731
F21: այդ թվում`
E22: 12029 | F22: Ասիական զարգացման բանկի աջակցությամբ իրականացվող քաղաքային զարգացման ներդրումային ծրագրի համակարգում և կառավարում | G22: =G24 -> 208655
F23: այդ թվում` ըստ կատարողների
F24: ՀՀ տարածքային կառավարման և ենթակառուցվածքների նախարարություն | G24: =G26 -> 208655
F25: այդ թվում` բյուջետային ծախսերի տնտեսագիտական դասակարգման հոդվածներ
F26: ԸՆԴԱՄԵՆԸ ԾԱԽՍԵՐ | G26: =G27 -> 208655
F27: ԸՆԹԱՑԻԿ ԾԱԽՍԵՐ | G27: =G28 -> 208655
F28: ԴՐԱՄԱՇՆՈՐՀՆԵՐ | G28: =G29 -> 208655
F29: Կապիտալ դրամաշնորհներ պետական հատվածի այլ մակարդակներին | G29: =G30 -> 208655
F30: - Այլ կապիտալ դրամաշնորհներ | G30: ='3'!D28 -> 208655
E31: 12030 | F31: Ասիական զարգացման բանկի աջակցությամբ իրականացվող քաղաքային զարգացման ներդրումային ծրագրի շրջանակներում ճանապարհային շինարարություն | G31: =+G33 -> -250386
F32: այդ թվում` ըստ կատարողների
F33: ՀՀ տարածքային կառավարման և ենթակառուցվածքների նախարարություն | G33: =+G35 -> -250386
F34: այդ թվում` բյուջետային ծախսերի տնտեսագիտական դասակարգման հոդվածներ
F35: ԸՆԴԱՄԵՆԸ ԾԱԽՍԵՐ | G35: =+G36 -> -250386
F36: ՈՉ ՖԻՆԱՆՍԱԿԱՆ ԱԿՏԻՎՆԵՐԻ ԳԾՈՎ ԾԱԽՍԵՐ | G36: =+G37 -> -250386
F37: ՀԻՄՆԱԿԱՆ ՄԻՋՈՑՆԵՐ | G37: =+G38 -> -250386
F38: ՇԵՆՔԵՐ ԵՎ ՇԻՆՈՒԹՅՈՒՆՆԵՐ | G38: =+G39 -> -250386
F39: - Շենքերի և շինությունների շինարարություն | G39: =+'1'!G15 -> -250386
F40: ՀՀ կառավարություն | G40: =+G41 -> 41731
A41: 11 | F41: ՀԻՄՆԱԿԱՆ ԲԱԺԻՆՆԵՐԻՆ ՉԴԱՍՎՈՂ ՊԱՀՈՒՍՏԱՅԻՆ ՖՈՆԴԵՐ | G41: =+G43 -> 41731
F42: այդ թվում`
B43: 01 | F43: ՀՀ կառավարության և համայնքների պահուստային ֆոնդ | G43: =+G45 -> 41731
F44: այդ թվում`
C45: 01 | F45: ՀՀ կառավարության պահուստային ֆոնդ | G45: =+G47 -> 41731
F46: այդ թվում`
F47: ՀՀ կառավարություն | G47: =+G49 -> 41731
F48: այդ թվում`
D49: 1139 | F49: ՀՀ կառավարության պահուստային ֆոնդ | G49: =+G51 -> 41731
F50: այդ թվում`
E51: 11001 | F51: ՀՀ կառավարության պահուստային ֆոնդ | G51: =+G53 -> 41731
F52: այդ թվում` ըստ կատարողների
F53: ՀՀ կառավարություն | G53: =+G55 -> 41731
F54: այդ թվում` բյուջետային ծախսերի տնտեսագիտական դասակարգման հոդվածների
F55: ԸՆԴԱՄԵՆԸ ԾԱԽՍԵՐ | G55: =+G56 -> 41731
F56: ԸՆԹԱՑԻԿ ԾԱԽՍԵՐ | G56: =+G57 -> 41731
F57: ԱՅԼ ԾԱԽՍԵՐ | G57: =+G58 -> 41731
F58: Պահուստային միջոցներ | G58: =+'1'!G18 -> 41731
B63: ՀԱՅԱՍՏԱՆԻ ՀԱՆՐԱՊԵՏՈՒԹՅԱՆ
B64: ՎԱՐՉԱՊԵՏԻ ԱՇԽԱՏԱԿԱԶՄԻ
C65: ՂԵԿԱՎԱՐ ՝ Ա. ՀԱՐՈՒԹՅՈՒՆՅԱՆ

Sheet 3
A1: Հավելված 3
A2: ՀՀ կառավարության 2025 թվականի
A3: -----------------ի N -----------Ն որոշման
A5: «ՀԱՅԱՍՏԱՆԻ ՀԱՆՐԱՊԵՏՈՒԹՅԱՆ 2025 ԹՎԱԿԱՆԻ ՊԵՏԱԿԱՆ ԲՅՈՒՋԵԻ ՄԱՍԻՆ» ՀԱՅԱՍՏԱՆԻ ՀԱՆՐԱՊԵՏՈՒԹՅԱՆ ՕՐԵՆՔԻ N 1 ՀԱՎԵԼՎԱԾԻ N 4 ԱՂՅՈՒՍԱԿՈՒՄ ԵՎ ՀԱՅԱՍՏԱՆԻ ՀԱՆՐԱՊԵՏՈՒԹՅԱՆ ԿԱՌԱՎԱՐՈՒԹՅԱՆ 2024 ԹՎԱԿԱՆԻ ԴԵԿՏԵՄԲԵՐԻ 27-Ի N 2060-Ն ՈՐՈՇՄԱՆ N 5 ՀԱՎԵԼՎԱԾԻ N 3 ԱՂՅՈՒՍԱԿՈՒՄ ԿԱՏԱՐՎՈՂ ՓՈՓՈԽՈՒԹՅՈՒՆԸ ԵՎ ԼՐԱՑՈՒՄԸ
E7: հազար դրամներով
A8: Ծրագրային դասիչը | C8: Բյուջետային հատկացումների գլխավոր կարգադրիչների, ծրագրերի, միջոցառումների և միջոցառումները կատարող պետական մարմինների անվանումները | D8: Ցուցանիշների փոփոխությունը (ավելացումները նշված են դրական նշանով, իսկ նվազեցումները` փակագծերում)
D9: Տարի
A10: Ծրագիր | B10: Միջոցառում | D10: Ընդամենը | E10: այդ թվում՝
E11: վարկային միջոցներ | F11: համաֆինանսավորում
C12: ԸՆԴԱՄԵՆԸ | D12: =D14+D15 -> -41731 | E12: =E14+E15 -> 0 | F12: =F14+F15 -> -41731
C13: այդ թվում`
C14: ԸՆԹԱՑԻԿ ԾԱԽՍԵՐ | D14: =D25 -> 208655 | E14: =E25 -> 208655 | F14: =F25 -> 0
C15: ՈՉ ՖԻՆԱՆՍԱԿԱՆ ԱԿՏԻՎՆԵՐԻ ԳԾՈՎ ԾԱԽՍԵՐ | D15: =D34 -> -250386 | E15: =E34 -> -208655 | F15: =F34 -> -41731
C16: ՀՀ տարածքային կառավարման և ենթակառուցվածքների նախարարություն | D16: =D18 -> -41731 | E16: =E18 -> 0 | F16: =F18 -> -41731
C17: այդ թվում`
A18: 1157 | C18: Քաղաքային զարգացում | D18: =+D20+D29 -> -41731 | E18: =+E20+E29 -> 0 | F18: =+F20+F29 -> -41731
C19: այդ թվում`
B20: 12029 | C20: Ասիական զարգացման բանկի աջակցությամբ իրականացվող քաղաքային զարգացման ներդրումային ծրագրի համակարգում և կառավարում | D20: =+E20+F20 -> 208655 | E20: 208655 | F20: =F22 -> 0
C21: այդ թվում` ըստ կատարողների
C22: ՀՀ տարածքային կառավարման և ենթակառուցվածքների նախարարություն | D22: =+E22+F22 -> 208655 | E22: 208655 | F22: =F24 -> 0
C23: այդ թվում` բյուջետային ծախսերի տնտեսագիտական դասակարգման հոդվածներ
C24: ԸՆԴԱՄԵՆԸ ԾԱԽՍԵՐ | D24: =+E24+F24 -> 208655 | E24: 208655 | F24: =F25 -> 0
C25: ԸՆԹԱՑԻԿ ԾԱԽՍԵՐ | D25: =+E25+F25 -> 208655 | E25: 208655 | F25: =F27 -> 0
C26: ԴՐԱՄԱՇՆՈՐՀՆԵՐ | D26: =+E26+F26 -> 208655 | E26: 208655 | F26: =F27 -> 0
C27: Կապիտալ դրամաշնորհներ պետական հատվածի այլ մակարդակներին | D27: =+E27+F27 -> 208655 | E27: 208655 | F27: =F28 -> 0
C28: - Այլ կապիտալ դրամաշնորհներ | D28: =+E28+F28 -> 208655 | E28: 208655 | F28: 0
B29: 12030 | C29: Ասիական զարգացման բանկի աջակցությամբ իրականացվող քաղաքային զարգացման ներդրումային ծրագրի շրջանակներում ճանապարհային շինարարություն | D29: =+E29+F29 -> -250386 | E29: -208655 | F29: =+F31 -> -41731
C30: այդ թվում` ըստ կատարողների
C31: ՀՀ տարածքային կառավարման և ենթակառուցվածքների նախարարություն | D31: =+E31+F31 -> -250386 | E31: -208655 | F31: =+F33 -> -41731
C32: այդ թվում` բյուջետային ծախսերի տնտեսագիտական դասակարգման հոդվածներ
C33: ԸՆԴԱՄԵՆԸ ԾԱԽՍԵՐ | D33: =+E33+F33 -> -250386 | E33: -208655 | F33: =+F34 -> -41731
C34: ՈՉ ՖԻՆԱՆՍԱԿԱՆ ԱԿՏԻՎՆԵՐԻ ԳԾՈՎ ԾԱԽՍԵՐ | D34: =+E34+F34 -> -250386 | E34: -208655 | F34: =+F35 -> -41731
C35: ՀԻՄՆԱԿԱՆ ՄԻՋՈՑՆԵՐ | D35: =+E35+F35 -> -250386 | E35: -208655 | F35: =+F36 -> -41731
C36: ՇԵՆՔԵՐ ԵՎ ՇԻՆՈՒԹՅՈՒՆՆԵՐ | D36: =+E36+F36 -> -250386 | E36: -208655 | F36: =+F37 -> -41731
C37: - Շենքերի և շինությունների շինարարություն | D37: =+E37+F37 -> -250386 | E37: -208655 | F37: -41731
B43: ՀԱՅԱՍՏԱՆԻ ՀԱՆՐԱՊԵՏՈՒԹՅԱՆ
B44: ՎԱՐՉԱՊԵՏԻ ԱՇԽԱՏԱԿԱԶՄԻ
C45: ՂԵԿԱՎԱՐ ՝ Ա. ՀԱՐՈՒԹՅՈՒՆՅԱՆ

Sheet 4
E1: Հավելված N 4
D2: ՀՀ կառավարության 2025 թվականի
D3: ______________ ի ___Ն որոշման
B5: ՀԱՅԱՍՏԱՆԻ ՀԱՆՐԱՊԵՏՈՒԹՅԱՆ ԿԱՌԱՎԱՐՈՒԹՅԱՆ 2024 ԹՎԱԿԱՆԻ ԴԵԿՏԵՄԲԵՐԻ 27-Ի N 2060-Ն ՈՐՈՇՄԱՆ N 8 ՀԱՎԵԼՎԱԾՈՒՄ ԿԱՏԱՐՎՈՂ ՓՈՓՈԽՈՒԹՅՈՒՆՆԵՐԸ
E6: հազար դրամներով
B7: Ծրագրային դասիչը | D7: Բյուջետային հատակացումների ծրագրերի, միջոցառումների անվանումները | E7: Ցուցանիշների փոփոխությունը (ավելացումները նշված են դրական նշանով, իսկ նվազեցումները` փակագծերում)
B8: Ծրագիր | C8: Միջոցառում
D9: ԸՆԴԱՄԵՆԸ ԾԱԽՍԵՐ | E9: =E11 -> -41731
D10: այդ թվում՝
B11: 1157 | D11: Քաղաքային զարգացում | E11: =+E12+E13 -> -41731
C12: 12029 | D12: Ասիական զարգացման բանկի աջակցությամբ իրականացվող քաղաքային զարգացման ներդրումային ծրագրի համակարգում և կառավարում | E12: ='2'!G22 -> 208655
C13: 12030 | D13: Ասիական զարգացման բանկի աջակցությամբ իրականացվող քաղաքային զարգացման ներդրումային ծրագրի շրջանակներում ճանապարհային շինարարություն | E13: =+'1'!G15 -> -250386
B15: ՀԱՅԱՍՏԱՆԻ ՀԱՆՐԱՊԵՏՈՒԹՅԱՆ
B16: ՎԱՐՉԱՊԵՏԻ ԱՇԽԱՏԱԿԱԶՄԻ
C17: ՂԵԿԱՎԱՐ ՝ Ա. ՀԱՐՈՒԹՅՈՒՆՅԱՆ

Sheet 5
K1: Հավելված N 5
J2: ՀՀ կառավարության 2025 թվականի
J3: ______________ ի ___Ն որոշման
B5: ՀԱՅԱՍՏԱՆԻ ՀԱՆՐԱՊԵՏՈՒԹՅԱՆ ԿԱՌԱՎԱՐՈՒԹՅԱՆ 2024 ԹՎԱԿԱՆԻ ԴԵԿՏԵՄԲԵՐԻ 27-Ի № 2060-Ն ՈՐՈՇՄԱՆ № 9 և № 9.1 ՀԱՎԵԼՎԱԾՆԵՐՈՒՄ ԿԱՏԱՐՎՈՂ ՓՈՓՈԽՈՒԹՅՈՒՆԸ ԵՎ ԼՐԱՑՈՒՄՆԵՐԸ
K7: հազար դրամներով
B8: ԲԳԿ/ԲՍԿ | C8: Ծրագիր | E8: Միջոցառում | I8: Իրականացնողը/ ակտիվն օգտագործողը/ շահառուի ընտրության չափորոշիչը | J8: Արդյունքային չափորոշիչը | K8: Ցուցանիշների փոփոխությունը (ավելացումները նշված են դրական նշանով, իսկ նվազեցումները` փակագծերում)
C9: Դասիչը | D9: Անվանումը | E9: Դասիչը | F9: Անվանումը | G9: Նկարագրությունը | H9: Տեսակը | K9: Տարի
B10: ԸՆԴԱՄԵՆԸ | K10: =K11+K21 -> 0
B11: ՀՀ տարածքային կառավարման և ենթակառուցվածքների նախարարություն | K11: =+K12 -> -41731
C12: 1157 | D12: Քաղաքային զարգացում | K12: =K13+K17 -> -41731
E13: 1157 - 12029 | F13: Ասիական զարգացման բանկի աջակցությամբ իրականացվող քաղաքային զարգացման ներդրումային ծրագրի համակարգում և կառավարում | K13: =+'2'!G30 -> 208655
G14: Քաղաքային զարգացման ներդրումային ծրագրի շրջանակներում համակարգում և կառավարում
H15: Տրանսֆերտների տրամադրում
I16: Շահառուների ընտրության չափանիշները` ՀՀ բնակչություն
E17: 1157 - 12030 | F17: Ասիական զարգացման բանկի աջակցությամբ իրականացվող քաղաքային զարգացման ներդրումային ծրագրի շրջանակներում ճանապարհային շինարարություն | K17: =+'2'!G39 -> -250386
G18: Քաղաքային զարգացման ներդրումային ծրագրի շրջանակներում ճանապարհային շինարարություն
H19: Տրանսֆերտների տրամադրում
I20: Շահառուների ընտրության չափորոշիչները` ՀՀ բնակչություն
B21: ՀՀ կառավարություն | K21: =+K22 -> 41731
C22: 1139 | D22: ՀՀ կառավարության պահուստային ֆոնդ | K22: =+'1'!G16 -> 41731
E23: 1139 - 11001 | F23: ՀՀ կառավարության պահուստային ֆոնդ | K23: =+K22 -> 41731
G24: ՀՀ պետական բյուջեում նախատեսված ելքերի լրացուցիչ ֆինանսավորման, պետական բյուջեում չկանխատեսված ելքերի, ինչպես նաև բյուջետային երաշխիքների ապահովման ելքերի ֆինանսավորման ապահովում
H25: Ծառայությունների մատուցում
I26: Ծառայությունը մատուցողի անվանումը` ՀՀ կառավարություն
D33: ՀԱՅԱՍՏԱՆԻ ՀԱՆՐԱՊԵՏՈՒԹՅԱՆ
D34: ՎԱՐՉԱՊԵՏԻ ԱՇԽԱՏԱԿԱԶՄԻ
E35: ՂԵԿԱՎԱՐ ՝ Ա. ՀԱՐՈՒԹՅՈՒՆՅԱՆ
