Workbook
Name _tab10: #REF!
Name _tab10: #REF!
Name _tab10: #REF!
Name _tab11: #REF!
Name _tab12: #REF!
Name _tab13: #REF!
Name _tab14: #REF!
Name _tab15: #REF!
Name _tab16: #REF!
Name _tab17: #REF!
Name _tab18: #REF!
Name _tab19: #REF!
Name _tab20: #REF!
Name _tab21: #REF!
Name _tab22: #REF!
Name _tab22222: #REF!
Name _tab23: #REF!
Name _tab24: #REF!
Name _tab5: #REF!
Name _tab6: #REF!
Name _tab7: #REF!
Name _tab8: #REF!
Name _tab9: #REF!
Name aaaaaaaaaaaa: #REF!
Name hhhh: #REF!
Name hunvar: #REF!,#REF!,#REF!,#REF!,#REF!,#REF!,#REF!,#REF!,#REF!,#REF!,#REF!,#REF!,#REF!,#REF!,#REF!
Name hunvar: #REF!,#REF!,#REF!,#REF!,#REF!,#REF!,#REF!,#REF!,#REF!,#REF!,#REF!,#REF!,#REF!,#REF!,#REF!
Name hunvar: #REF!,#REF!,#REF!,#REF!,#REF!,#REF!,#REF!,#REF!,#REF!,#REF!,#REF!,#REF!,#REF!,#REF!,#REF!
Name par_count: #REF!,#REF!,#REF!,#REF!,#REF!,#REF!,#REF!,#REF!,#REF!,#REF!,#REF!,#REF!,#REF!,#REF!,#REF!
Name par_qual: #REF!,#REF!,#REF!,#REF!,#REF!
Name par_time: #REF!,#REF!,#REF!,#REF!
Name par2.12s: #REF!
Name par2.4s: #REF!,#REF!,#REF!,#REF!,#REF!,#REF!,#REF!,#REF!,#REF!,#REF!,#REF!,#REF!,#REF!,#REF!,#REF!,#REF!
Name par2.4s: #REF!,#REF!,#REF!,#REF!,#REF!,#REF!,#REF!,#REF!,#REF!,#REF!,#REF!,#REF!,#REF!,#REF!,#REF!,#REF!
Name par2.4s: #REF!,#REF!,#REF!,#REF!,#REF!,#REF!,#REF!,#REF!,#REF!,#REF!,#REF!,#REF!,#REF!,#REF!,#REF!,#REF!
Name par2.5s: #REF!,#REF!
Name par2.6s: #REF!,#REF!,#REF!,#REF!
Name par2.7s: #REF!,#REF!
Name par2.9s: #REF!,#REF!,#REF!,#REF!,#REF!,#REF!,#REF!,#REF!,#REF!,#REF!,#REF!,#REF!,#REF!,#REF!,#REF!,#REF!
Name par4.10s: #REF!,#REF!
Name par4.11d: #REF!,#REF!,#REF!,#REF!,#REF!
Name par4.12d: #REF!
Name par4.13s: #REF!
Name par4.14: #REF!,#REF!,#REF!,#REF!,#REF!,#REF!
Name par4.15: #REF!,#REF!,#REF!
Name par4.16: #REF!,#REF!,#REF!
Name par4.17: #REF!,#REF!,#REF!,#REF!
Name par4.18d: #REF!,#REF!
Name par4.19s: #REF!
Name par4.20f: #REF!
Name par4.21f: #REF!
Name par4.22: #REF!
Name par4.4: #REF!
Name par4.5: #REF!
Name par4.6s: #REF!
Name par4.7s: #REF!
Name par4.8: #REF!,#REF!,#REF!,#REF!,#REF!
Name par4.9: #REF!,#REF!,#REF!,#REF!,#REF!,#REF!
Name par5.1: #REF!,#REF!
Name par5.3: #REF!,#REF!,#REF!,#REF!,#REF!,#REF!

Sheet 1
B1: Հավելված № 1
B2: ՀՀ կառավարության 2025 թվականի
B3: __________ «____» -ի
B4: N_____ -Ն որոշման
B5: «ՀԱՅԱՍՏԱՆԻ ՀԱՆՐԱՊԵՏՈՒԹՅԱՆ 2025 ԹՎԱԿԱՆԻ ՊԵՏԱԿԱՆ ԲՅՈՒՋԵԻ ՄԱՍԻՆ» ՀԱՅԱՍՏԱՆԻ ՀԱՆՐԱՊԵՏՈՒԹՅԱՆ ՕՐԵՆՔԻ № 1 ՀԱՎԵԼՎԱԾԻ № 2 ԱՂՅՈՒՍԱԿՈՒՄ ԿԱՏԱՐՎՈՂ ՎԵՐԱԲԱՇԽՈՒՄԸ ԵՎ ՀԱՅԱՍՏԱՆԻ ՀԱՆՐԱՊԵՏՈՒԹՅԱՆ ԿԱՌԱՎԱՐՈՒԹՅԱՆ 2024 ԹՎԱԿԱՆԻ ԴԵԿՏԵՄԲԵՐԻ 27-Ի № 2060-Ն ՈՐՈՇՄԱՆ № 5 ՀԱՎԵԼՎԱԾՒ 1 ԱՂՅՈՒՍԱԿՈՒՄ ԿԱՏԱՐՎՈՂ ՓՈՓՈԽՈՒԹՅՈՒՆՆԵՐԸ
B6: (հազար դրամներով)
B7: ԲԳԿ | C7: Ծրագրային դասիչը | E7: ԲԳԿ/Ծրագրի /միջոցառման անվանումը | F7: Ծրագրի նպատակը/Միջոցառման նկարագրությունը | G7: Վերջնական արդյունքի նկարագրությունը/Միջոցառման տեսակը | H7: Ցուցանիշների փոփոխությունները (ավելացումները նշված են դրական նշանով, իսկ նվազեցումները` փակագծերում)
C8: Ծրագիր | D8: Միջոցառում | H8: Տարի
B9: Ընդամենը | H9: =+H10+H19 -> 0
B10: ՀՀ առողջապահության նախարարություն | H10: =+H11+H13+H17 -> 900000
C11: 1200 | E11: Մոր և մանկան առողջության պահպանում | F11: Մոր և մանկան առողջության պահպանում, կանանց և երեխաներին մատուցվող բժշկական ծառայությունների մատչելիության և որակի բարելավում | G11: Մանկական և մայրական մահացության և հիվանդացության կրճատում, կանանց վերարտադրողական առողջության բարելավում | H11: =+H12 -> 1700000
D12: 1200-11003 | E12: Երեխաներին բժշկական օգնության ծառայություններ | F12: Երեխաների հիվանդանոցային, արտահիվանդանոցային վերականգնողական բուժօգնության իրականացում: Նորածինների հիվանդությունների վաղ հայտնաբերման սքրինգների իրականացման ծառայություններ | G12: Ծառայությունների մատուցում | H12: 1700000
C13: 1202 | E13: Ոչ վարակիչ հիվանդությունների բժշկական օգնության ապահովում | F13: Ոչ վարակիչ հիվանդությունների (մասնավորապես՛ սիրտանոթային, շաքարային դիաբետի և չարորակ նորագոյացությունների) բուժման արդյունավետության բարձրացում | G13: Ոչ վարակիչ հիվանդություններով պայմանավորված հիվանդացության և մահացության նվազեցում | H13: =SUM(H14:H16) -> -200000
D14: 1202 - 11002 | E14: Անհետաձգելի բժշկական օգնություն՛ այդ թվում սրտի վիրահատություններ | F14: Անհետաձգելի բուժօգնության իրականացում` ԱՆ կողմից հաստատված հիվանդությունների, վիճակների ցանկի համաձայն՛ այդ թվում սրտի վիրահատություններ | G14: Ծառայությունների մատուցում | H14: 500000
D15: 1202 - 11004 | E15: Ուռուցքաբանական և արյունաբանական հիվանդությունների բժշկական օգնության ծառայություններ | F15: Ուռուցքաբանական և արյունաբանական հիվանդների բուժում և շարունակական հսկողության համալիր միջոցառումների իրականացում | G15: Ծառայությունների մատուցում | H15: 1300000
D16: 1202 - 11006 | E16: Առողջության համապարփակ ապահովագրության ներդրմանն ուղղված լրացուցիչ միջոցառումներ | F16: Առողջության համապարփակ ապահովագրության համակարգի ներդրում և Հիմնադրամի ընթացիկ գործունեության ապահովում | G16: Ծառայությունների մատուցում | H16: -2000000
C17: 1207 | E17: Սոցիալապես անապահով և առանձին խմբերի անձանց բժշկական օգնություն | F17: Սոցիալապես անապահով և հատուկ խմբերում ընդգրկված անձանց բժշկական օգնության հասանելիության և մատչելիության մակարդակի բարձրացում, հիվանդանոցային որակյալ բժշկական օգնության ապահովում | G17: Սոցիալապես անապահով և հատուկ խմբերում ընդգրկված անձանց բժշկական օգնության հասանելիության և մատչելիության բարձրացում, ծառայությունների մատուցման հասցեականության բարելավում | H17: =+H18 -> -600000
D18: 1207 - 11001 | E18: Սոցիալապես անապահով և հատուկ խմբերում ընդգրկվածներին բժշկական օգնության ծառայություններ | F18: Բնակչության սոցիալապես անապահով և հատուկ խմբերում ընդգրկվածների բժշկական օգնության իրականացում` ՀՀ կառավարության որոշմամբ հաստատված բնակչության խմբերի և ծառայությունների ցանկի համաձայն | G18: Ծառայությունների մատուցում | H18: -600000
C19: 1139 | E19: ՀՀ կառավարության պահուստային ֆոնդ | F19: Պետական բյուջեում չկանխատեսված, ինչպես նաև բյուջետային երաշխիքների ապահովման ծախսերի ֆինանսավորման ապահովում | G19: Պահուստային ֆոնդի կառավարման արդյունավետության և թափանցիկության ապահովում | H19: =+H20 -> -900000
D20: 1139-11001 | E20: ՀՀ կառավարության պահուստային ֆոնդ | F20: ՀՀ պետական բյուջեում նախատեսված ելքերի լրացուցիչ ֆինանսավորման, պետական բյուջեում չկանխատեսված ելքերի, ինչպես նաև բյուջետային երաշխիքների ապահովման ելքերի ֆինանսավորման ապահովում | G20: Ծառայությունների մատուցում | H20: -900000

Sheet 2
B1: Հավելված № 2
B2: ՀՀ կառավարության 2025 թվականի
B3: __________ «____» -ի
B4: N_____ -Ն որոշման
B5: ՀԱՅԱՍՏԱՆԻ ՀԱՆՐԱՊԵՏՈՒԹՅԱՆ ԿԱՌԱՎԱՐՈՒԹՅԱՆ 2024 ԹՎԱԿԱՆԻ ԴԵԿՏԵՄԲԵՐԻ 27-Ի № 2060-Ն ՈՐՈՇՄԱՆ №№ 3 և 4 ՀԱՎԵԼՎԱԾՆԵՐՈՒՄ ԿԱՏԱՐՎՈՂ ՓՈՓՈԽՈՒԹՅՈՒՆնԵՐԸ
B6: (հազար դրամներով)
B7: Գործառական դասիչը | E7: Ծրագրային դասիչը | G7: Բյուջետային հատկացումների գլխավոր կարգադրիչների, ծրագրերի, միջոցառումների և միջոցառումները կատարող պետական մարմինների անվանումները | H7: Ցուցանիշների փոփոխությունները (ավելացումները նշված են դրական նշանով, իսկ նվազեցումները` փակագծերում)
B8: բաժին | C8: խումբ | D8: դաս | E8: Ծրագիր | F8: Միջոցառում | H8: Տարի
B9: ԸՆԴԱՄԵՆԸ | H9: =+H10+H80 -> 0
B10: ՀՀ առողջապահության նախարարություն | H10: =+H11 -> 900000
B11: 07 | G11: ԱՌՈՂՋԱՊԱՀՈՒԹՅՈՒՆ | H11: =+H13 -> 900000
G12: այդ թվում՝
C13: 03 | G13: Հիվանդանոցային ծառայություններ | H13: =+H15+H30+H65 -> 900000
G14: այդ թվում`
D15: 03 | G15: Մոր և մանկան բժշկական ծառայություններ | H15: =+H19 -> 1700000
G16: այդ թվում`
G17: ՀՀ առողջապահության նախարարություն | H17: =+H19 -> 1700000
G18: այդ թվում՝
E19: 1200 | G19: Մոր և մանկան առողջության պահպանում | H19: =+H21 -> 1700000
G20: այդ թվում՝
F21: 11003 | G21: Երեխաներին բժշկական օգնության ծառայություններ | H21: =+H23 -> 1700000
G22: այդ թվում` ըստ կատարողների
G23: ՀՀ առողջապահության նախարարություն | H23: =+H25 -> 1700000
G24: այդ թվում` բյուջետային ծախսերի տնտեսագիտական դասակարգման հոդվածներ
G25: ԸՆԴԱՄԵՆԸ ԾԱԽՍԵՐ | H25: =+H26 -> 1700000
G26: ԸՆԹԱՑԻԿ ԾԱԽՍԵՐ | H26: =+H27 -> 1700000
G27: ՍՈՑԻԱԼԱԿԱՆ ՆՊԱՍՏՆԵՐ ԵՎ ԿԵՆՍԱԹՈՇԱԿՆԵՐ | H27: =+H28 -> 1700000
G28: Սոցիալական օգնության դրամական արտահայտությամբ նպաստներ (բյուջեից) | H28: =+H29 -> 1700000
G29: - Այլ նպաստներ բյուջեից | H29: =+'1'!H12 -> 1700000
D30: 01 | G30: Ընդհանուր բնույթի հիվանդանոցային ծառայություններ | H30: =+H32 -> -2100000
G31: այդ թվում`
G32: ՀՀ առողջապահության նախարարություն | H32: =+H34+H54 -> -2100000
G33: այդ թվում՝
E34: 1202 | G34: Ոչ վարակիչ հիվանդությունների բժշկական օգնության ապահովում | H34: =+H36+H45 -> -1500000
G35: այդ թվում՝
F36: 11002 | G36: Անհետաձգելի բժշկական օգնություն՛ այդ թվում սրտի վիրահատություններ | H36: =+H38 -> 500000
G37: այդ թվում` ըստ կատարողների
G38: ՀՀ առողջապահության նախարարություն | H38: =+H40 -> 500000
G39: այդ թվում` բյուջետային ծախսերի տնտեսագիտական դասակարգման հոդվածներ
G40: ԸՆԴԱՄԵՆԸ ԾԱԽՍԵՐ | H40: =+H41 -> 500000
...

Sheet 3
B1: Հավելված № 3
B2: ՀՀ կառավարության 2025 թվականի
B3: __________ «____» -ի
B4: N_____ -Ն որոշման
B5: ՀԱՅԱՍՏԱՆԻ ՀԱՆՐԱՊԵՏՈՒԹՅԱՆ ԿԱՌԱՎԱՐՈՒԹՅԱՆ 2024 ԹՎԱԿԱՆԻ ԴԵԿՏԵՄԲԵՐԻ 27-Ի № 2060-Ն ՈՐՈՇՄԱՆ № 9 ՀԱՎԵԼՎԱԾՈՒՄ ԿԱՏԱՐՎՈՂ ՓՈՓՈԽՈՒԹՅՈՒՆՆԵՐԸ
B6: (հազար դրամներով)
B7: ԲԳԿ | C7: Ծրագիր | E7: Միջոցառում | I7: Իրականացնողը/ ակտիվն օգտագործողը/ շահառուի ընտրության չափորոշիչը | J7: Արդյունքային չափորոշիչը | K7: Ցուցանիշների փոփոխությունները (ավելացումները նշված են դրական նշանով, իսկ նվազեցումները` փակագծերում)
C8: Դասիչը | D8: Անվանումը | E8: Դասիչը | F8: Անվանումը | G8: Նկարագրությունը | H8: Տեսակը | K8: Տարի
B9: ԸՆԴԱՄԵՆԸ | K9: =+K10+K45 -> 0
B10: ՀՀ առողջապահության նախարարություն | K10: =+K11+K19+K38 -> 900000
C11: 1200 | D11: Մոր և մանկան առողջության պահպանում | K11: =+K12 -> 1700000
E12: 1200 - 11003 | F12: Երեխաներին բժշկական օգնության ծառայություններ | K12: =+'1'!H12 -> 1700000
G13: Երեխաների հիվանդանոցային, արտահիվանդանոցային վերականգնողական բուժօգնության իրականացում: Նորածինների հիվանդությունների վաղ հայտնաբերման սքրինգների իրականացման ծառայություններ
H14: Ծառայությունների մատուցում
H15: Ծառայությունը մատուցողի անվանումը` ՀՀ գնումների մասին օրենսդրությանը համապատասխան ընտրված կազմակերպություններ
J16: Երեխաների բժշկական օգնության գծով ծառայություններից օգտվելու դեպքերի թիվ, հատ | K16: 10300
J17: Մտավոր, հոգեկան (վարքագծային), լսողական, ֆիզիկական (շարժողական) և զարգացման այլ խանգարումներով երեխաների վերականգնողական բուժման գծով ծառայություններից օգտվելու դեպքերի թիվ, հատ | K17: 21850
J18: Նորածնային սքրինինգների իրականացում (բնածին հիպոթիրեոզի, ֆենիլկետոնուրիայի, լսողության, տեսողության և կոնքազդրային հոդի) սքրինինգների թիվ, հատ | K18: 0
C19: 1202 | D19: Ոչ վարակիչ հիվանդությունների բժշկական օգնության ապահովում | K19: =+K20+K28+K34 -> -200000
E20: 1202 - 11002 | F20: Անհետաձգելի բժշկական օգնություն՛ այդ թվում սրտի վիրահատություններ | K20: =+'1'!H14 -> 500000
G21: Անհետաձգելի բուժօգնության իրականացում` ԱՆ կողմից հաստատված հիվանդությունների, վիճակների ցանկի համաձայն՛ այդ թվում սրտի վիրահատություններ
H22: Ծառայությունների մատուցում
H23: Ծառայությունը մատուցողի անվանումը` ՀՀ գնումների մասին օրենսդրությանը համապատասխան ընտրված կազմակերպություններ
J24: Գլխուղեղի սուր կամ ենթասուր իշեմիկ ինսուլտի բուժում (թրոմբոլիզ և/կամ թրոմբասպիրացիա), դեպք, այդ թվում | K24: -24
J25: Իշեմիկ ինսուլտի բուժում ներերակային թրոմբոլիզ ալտեպլազայով (ԱԶԲ ՄԿՑ (DLI) 2) | K25: -104
J26: Հիվանդանոցային պայմաններում արտահիվանդանոցային բժշկական օգնություն (emergency) | K26: 45980
J27: Անհետաձգելի բժշկական օգնության ծառայություններից օգտվելու դեպքերի թիվ` այդ թվում սրտի վիրահատություններ, հատ | K27: 3720
E28: 1202 - 11004 | F28: Ուռուցքաբանական և արյունաբանական հիվանդությունների բժշկական օգնության ծառայություններ | K28: =+'1'!H15 -> 1300000
G29: Ուռուցքաբանական և արյունաբանական հիվանդների բուժում և շարունակական հսկողության համալիր միջոցառումների իրականացում
G30: Ծառայությունների մատուցում
G31: Ծառայությունը մատուցողի անվանումը` ՀՀ գնումների մասին օրենսդրությանը համապատասխան ընտրված կազմակերպություններ
J32: Ուռուցքաբանական և արյունաբանական հիվանդությունների բժշկական օգնության գծով ծառայություններից օգտվելու դեպքերի թիվ, հատ | K32: 18830
J33: Վիրաբուժական միջամտությունների թիվ, հատ | K33: 390
E34: 1202 - 11006 | F34: Առողջության համապարփակ ապահովագրության ներդրմանն ուղղված լրացուցիչ միջոցառումներ | K34: =+'1'!H16 -> -2000000
G35: Առողջության համապարփակ ապահովագրության համակարգի ներդրում և Հիմնադրամի ընթացիկ գործունեության ապահովում
H36: Ծառայությունների մատուցում
H37: Ծառայությունը մատուցողի անվանումը` ՀՀ գնումների մասին օրենսդրությանը համապատասխան ընտրված կազմակերպություններ
C38: 1207 | D38: Սոցիալապես անապահով և առանձին խմբերի անձանց բժշկական օգնություն | K38: =+K39 -> -600000
E39: 1207 - 11001 | F39: Սոցիալապես անապահով և հատուկ խմբերում ընդգրկվածներին բժշկական օգնության ծառայություններ | K39: =+'1'!H18 -> -600000
G40: Բնակչության սոցիալապես անապահով և հատուկ խմբերում ընդգրկվածների բժշկական օգնության իրականացում` ՀՀ կառավարության որոշմամբ հաստատված բնակչության խմբերի և ծառայությունների ցանկի համաձայն
...

Sheet 4
B1: Հավելված № 4
B2: ՀՀ կառավարության 2025 թվականի
B3: __________ «____» -ի
B4: N_____ -Ն որոշման
B5: ՀԱՅԱՍՏԱՆԻ ՀԱՆՐԱՊԵՏՈՒԹՅԱՆ ԿԱՌԱՎԱՐՈՒԹՅԱՆ 2024 ԹՎԱԿԱՆԻ ԴԵԿՏԵՄԲԵՐԻ 27-Ի № 2060-Ն ՈՐՈՇՄԱՆ № 9.1 ՀԱՎԵԼՎԱԾՈՒՄ ԿԱՏԱՐՎՈՂ ՓՈՓՈԽՈՒԹՅՈՒՆՆԵՐԸ
B6: (հազար դրամներով)
B7: ԲՍԿ | C7: Ծրագիր | E7: Միջոցառում | I7: Իրականացնողը/ ակտիվն օգտագործողը/ շահառուի ընտրության չափորոշիչը | J7: Արդյունքային չափորոշիչը | K7: Ցուցանիշների փոփոխությունները (ավելացումները նշված են դրական նշանով, իսկ նվազեցումները` փակագծերում)
C8: Դասիչը | D8: Անվանումը | E8: Դասիչը | F8: Անվանումը | G8: Նկարագրությունը | H8: Տեսակը | K8: Տարի
B9: ԸՆԴԱՄԵՆԸ | K9: =+K10+K45 -> 0
B10: ՀՀ առողջապահության նախարարություն | K10: =+K11+K19+K38 -> 900000
C11: 1200 | D11: Մոր և մանկան առողջության պահպանում | K11: =+K12 -> 1700000
E12: 1200 - 11003 | F12: Երեխաներին բժշկական օգնության ծառայություններ | K12: =+'1'!H12 -> 1700000
G13: Երեխաների հիվանդանոցային, արտահիվանդանոցային վերականգնողական բուժօգնության իրականացում: Նորածինների հիվանդությունների վաղ հայտնաբերման սքրինգների իրականացման ծառայություններ
H14: Ծառայությունների մատուցում
H15: Ծառայությունը մատուցողի անվանումը` ՀՀ գնումների մասին օրենսդրությանը համապատասխան ընտրված կազմակերպություններ
J16: Երեխաների բժշկական օգնության գծով ծառայություններից օգտվելու դեպքերի թիվ, հատ | K16: 10300
J17: Մտավոր, հոգեկան (վարքագծային), լսողական, ֆիզիկական (շարժողական) և զարգացման այլ խանգարումներով երեխաների վերականգնողական բուժման գծով ծառայություններից օգտվելու դեպքերի թիվ, հատ | K17: 21850
J18: Նորածնային սքրինինգների իրականացում (բնածին հիպոթիրեոզի, ֆենիլկետոնուրիայի, լսողության, տեսողության և կոնքազդրային հոդի) սքրինինգների թիվ, հատ | K18: 0
C19: 1202 | D19: Ոչ վարակիչ հիվանդությունների բժշկական օգնության ապահովում | K19: =+K20+K28+K34 -> -200000
E20: 1202 - 11002 | F20: Անհետաձգելի բժշկական օգնություն՛ այդ թվում սրտի վիրահատություններ | K20: =+'1'!H14 -> 500000
G21: Անհետաձգելի բուժօգնության իրականացում` ԱՆ կողմից հաստատված հիվանդությունների, վիճակների ցանկի համաձայն՛ այդ թվում սրտի վիրահատություններ
H22: Ծառայությունների մատուցում
H23: Ծառայությունը մատուցողի անվանումը` ՀՀ գնումների մասին օրենսդրությանը համապատասխան ընտրված կազմակերպություններ
J24: Գլխուղեղի սուր կամ ենթասուր իշեմիկ ինսուլտի բուժում (թրոմբոլիզ և/կամ թրոմբասպիրացիա), դեպք, այդ թվում | K24: -24
J25: Իշեմիկ ինսուլտի բուժում ներերակային թրոմբոլիզ ալտեպլազայով (ԱԶԲ ՄԿՑ (DLI) 2) | K25: -104
J26: Հիվանդանոցային պայմաններում արտահիվանդանոցային բժշկական օգնություն (emergency) | K26: 45980
J27: Անհետաձգելի բժշկական օգնության ծառայություններից օգտվելու դեպքերի թիվ` այդ թվում սրտի վիրահատություններ, հատ | K27: 3720
E28: 1202 - 11004 | F28: Ուռուցքաբանական և արյունաբանական հիվանդությունների բժշկական օգնության ծառայություններ | K28: =+'1'!H15 -> 1300000
G29: Ուռուցքաբանական և արյունաբանական հիվանդների բուժում և շարունակական հսկողության համալիր միջոցառումների իրականացում
G30: Ծառայությունների մատուցում
G31: Ծառայությունը մատուցողի անվանումը` ՀՀ գնումների մասին օրենսդրությանը համապատասխան ընտրված կազմակերպություններ
J32: Ուռուցքաբանական և արյունաբանական հիվանդությունների բժշկական օգնության գծով ծառայություններից օգտվելու դեպքերի թիվ, հատ | K32: 18830
J33: Վիրաբուժական միջամտությունների թիվ, հատ | K33: 390
E34: 1202 - 11006 | F34: Առողջության համապարփակ ապահովագրության ներդրմանն ուղղված լրացուցիչ միջոցառումներ | K34: =+'1'!H16 -> -2000000
G35: Առողջության համապարփակ ապահովագրության համակարգի ներդրում և Հիմնադրամի ընթացիկ գործունեության ապահովում
H36: Ծառայությունների մատուցում
H37: Ծառայությունը մատուցողի անվանումը` ՀՀ գնումների մասին օրենսդրությանը համապատասխան ընտրված կազմակերպություններ
C38: 1207 | D38: Սոցիալապես անապահով և առանձին խմբերի անձանց բժշկական օգնություն | K38: =+K39 -> -600000
E39: 1207 - 11001 | F39: Սոցիալապես անապահով և հատուկ խմբերում ընդգրկվածներին բժշկական օգնության ծառայություններ | K39: =+'1'!H18 -> -600000
G40: Բնակչության սոցիալապես անապահով և հատուկ խմբերում ընդգրկվածների բժշկական օգնության իրականացում` ՀՀ կառավարության որոշմամբ հաստատված բնակչության խմբերի և ծառայությունների ցանկի համաձայն
...

Sheet 5
B1: Հավելված № 5
B2: ՀՀ կառավարության 2025 թվականի
B3: __________ «____» -ի
B4: N_____ -Ն որոշման
B5: ՀԱՅԱՍՏԱՆԻ ՀԱՆՐԱՊԵՏՈՒԹՅԱՆ ԿԱՌԱՎԱՐՈՒԹՅԱՆ 2024 ԹՎԱԿԱՆԻ ԴԵԿՏԵՄԲԵՐԻ 27-Ի № 2060-Ն ՈՐՈՇՄԱՆ № 10 ՀԱՎԵԼՎԱԾՈՒՄ ԿԱՏԱՐՎՈՂ ՓՈՓՈԽՈՒԹՅՈՒՆՆԵՐԸ
B6: Կոդը | C6: Անվանումը | F6: Գնման ձևը | G6: Չափման միավորը | H6: Միավորի գինը | I6: Քանակը | J6: Ցուցանիշների փոփոխությունները (նվազեցումները նշված են փակագծերում)
J7: Գումարը (հազար դրամով)
B8: ՀՀ առողջապահության նախարարություն
B9: Բաժին N 07 | C9: Խումբ N 03 | D9: Դաս N 01 | E9: Ընդհանուր բնույթի հիվանդանոցային ծառայություններ | J9: =+J11 -> -2000000
B10: 1202 11006 | C10: Առողջության համապարփակ ապահովագրության ներդրմանն ուղղված լրացուցիչ միջոցառումներ
C11: ՄԱՍ III. ԾԱՌԱՅՈՒԹՅՈՒՆՆԵՐ | J11: =+J12 -> -2000000
B12: 85111100-1 | C12: հիվանդանոցային ծառայություններ | F12: ՄԱ | G12: դրամ | J12: -2000000
