Workbook
Name AgencyCode: #REF!
Name AgencyCode: #REF!
Name AgencyCode: #REF!
Name AgencyName: #REF!
Name AgencyName: #REF!
Name AgencyName: #REF!
Name davit: #REF!
Name davit: #REF!
Name Functional1: #REF!
Name Functional1: #REF!
Name Functional1: #REF!
Name PANature: #REF!
Name PANature: #REF!
Name PAType: #REF!
Name PAType: #REF!
Name Performance2: #REF!
Name Performance2: #REF!
Name PerformanceType: #REF!
Name PerformanceType: #REF!
Name Հավելված: #REF!
Name Հավելված: #REF!
Name Մաս: #REF!
Name Մաս: #REF!
Name շախմատիստ: #REF!
Name շախմատիստ: #REF!

Sheet HavN1
C2: Հավելված N 1
C3: ՀՀ կառավարության 2019 թվականի
C4: ------------------------ -ի N ---------- որոշման
B7: «ՀԱՅԱՍՏԱՆԻ ՀԱՆՐԱՊԵՏՈՒԹՅԱՆ 2019 ԹՎԱԿԱՆԻ ՊԵՏԱԿԱՆ ԲՅՈՒՋԵԻ ՄԱՍԻՆ» ՀԱՅԱՍՏԱՆԻ ՀԱՆՐԱՊԵՏՈՒԹՅԱՆ ՕՐԵՆՔԻ 2-ՐԴ ՀՈԴՎԱԾԻ ԱՂՅՈՒՍԱԿՈՒՄ ԿԱՏԱՐՎՈՂ ՓՈՓՈԽՈՒԹՅՈՒՆՆԵՐԸ
C9: (հազար դրամ)
C10: Ցուցանիշների փոփոխությունը (գումարների ավելացումը նշված է դրական նշանով)
B11: Եկամուտների գծով | C11: 1277254
B12: Ծախսերի գծով | C12: =+C11 -> 1277254
B13: Դեֆիցիտը (պակասուրդը) | C13: -

Sheet HavN2
C1: Հավելված N 2
C2: ՀՀ կառավարության 2019 թվականի
C3: --------------------- -ի N ---------- որոշման
B6: «ՀԱՅԱՍՏԱՆԻ ՀԱՆՐԱՊԵՏՈՒԹՅԱՆ 2019 ԹՎԱԿԱՆԻ ՊԵՏԱԿԱՆ ԲՅՈՒՋԵԻ ՄԱՍԻՆ» ՀԱՅԱՍՏԱՆԻ ՀԱՆՐԱՊԵՏՈՒԹՅԱՆ ՕՐԵՆՔԻ 6-ՐԴ ՀՈԴՎԱԾԻ ԱՂՅՈՒՍԱԿՈՒՄ ԵՎ ՀԱՅԱՍՏԱՆԻ ՀԱՆՐԱՊԵՏՈՒԹՅԱՆ ԿԱՌԱՎԱՐՈՒԹՅԱՆ 2018 ԹՎԱԿԱՆԻ ԴԵԿՏԵՄԲԵՐԻ 27-Ի N 1515-Ն ՈՐՈՇՄԱՆ N 2 ՀԱՎԵԼՎԱԾՈՒՄ ԿԱՏԱՐՎՈՂ ՓՈՓՈԽՈՒԹՅՈՒՆՆԵՐԸ
C8: (հազար դրամ)
B9: Պետական բյուջեի եկամուտները | C9: Ցուցանիշների փոփոխությունը (ավելացումը նշված է դրական նշանով)
C10: Տարի
B11: Ընդամենը | C11: 1277254
B12: այդ թվում
B13: Հարկային եկամուտներ և պետական տուրքեր | C13: 1277254

Sheet HavN3
D1: Հավելված N 3
D2: ՀՀ կառավարության 2019 թվականի
D3: ______________ ի ___Ն որոշման
A5: «ՀԱՅԱՍՏԱՆԻ ՀԱՆՐԱՊԵՏՈՒԹՅԱՆ 2019 ԹՎԱԿԱՆԻ ՊԵՏԱԿԱՆ ԲՅՈՒՋԵԻ ՄԱՍԻՆ» ՀԱՅԱՍՏԱՆԻ ՀԱՆՐԱՊԵՏՈՒԹՅԱՆ ՕՐԵՆՔԻ N 1 ՀԱՎԵԼՎԱԾԻ N 2 ԱՂՅՈՒՍԱԿՈՒՄ ԵՎ ՀԱՅԱՍՏԱՆԻ ՀԱՆՐԱՊԵՏՈՒԹՅԱՆ ԿԱՌԱՎԱՐՈՒԹՅԱՆ 2018 ԹՎԱԿԱՆԻ ԴԵԿՏԵՄԲԵՐԻ 27-Ի N 1515-Ն ՈՐՈՇՄԱՆ N 5 ՀԱՎԵԼՎԱԾԻ N1 ԱՂՅՈՒՍԱԿՈՒՄ ԿԱՏԱՐՎՈՂ ՓՈՓՈԽՈՒԹՅՈՒՆՆԵՐԸ ԵՎ ԼՐԱՑՈՒՄՆԵՐԸ
D8: (հազար դրամ)
A9: Ծրագրային դասիչը | C9: Բյուջետային գլխավոր կարգադրիչների, ծրագրերի և միջոցառումների անվանումները | D9: Ցուցանիշների փոփոխությունը (ավելացումները նշված են դրական նշանով, իսկ նվազեցումները` փակագծերում)
A10: Ծրագիր | B10: Միջոցառում | D10: Տարի
C11: ԸՆԴԱՄԵՆԸ | D11: 1277254
C12: Հանրային հեռուստառադիոընկերության խորհուրդ | D12: 1277254
A13: 1042 | C13: Ծրագրի անվանումը` | D13: 1277254
C14: Ռադիո և հեռուստահաղորդումների հեռարձակում
C15: Ծրագրի նպատակը`
C16: Ապահովել տեղեկատվական, քաղաքական, տնտեսական, կրթական, մշակութային, մանկապատանեկան, գիտական, հայոց լեզվի և պատմության, մարզական, ժամանցային և հանրության համար կարևոր ու նշանակալից այլ տեղեկատվական բնույթի հաղորդումների բազմազանությունը
C17: Վերջնական արդյունքի նկարագրությունը`
C18: Հեռուստառադիոհաղորդումների բովանդակային բազմազանության և հասարակությանը անկախ, օբյեկտիվ և անաչառ տեղեկատվության տրամադրումը
A19: Ծրագրի միջոցառումներ
B20: 12005 | C20: Միջոցառման անվանումը` | D20: 1277254
C21: «Հայաստանի հանրային հեռուստաընկերություն» փակ բաժնետիրական ընկերության ավելացված արժեքի հարկի (ներառյալ՝ տույժերի և տուգանքների) գծով առաջացած հարկային պարտավորությունների փոխհատուցում
C22: Միջոցառման նկարագրությունը`
C23: «Հայաստանի հանրային հեռուստաընկերություն» փակ բաժնետիրական ընկերության ավելացված արժեքի հարկի (ներառյալ՝ տույժերի և տուգանքների) գծով առաջացած հարկային պարտավորությունների փոխհատուցում
C24: Միջոցառման տեսակ`
C25: Ծառայությունների մատուցում
C26: ՀՀ կառավարություն | D26: 0
A27: 1139 | C27: Ծրագրի անվանումը` | D27: 0
C28: ՀՀ կառավարության պահուստային ֆոնդ
C29: Ծրագրի նպատակը`
C30: Պետական բյուջեում չկանխատեսված՝ ինչպես նաև բյուջետային երաշխիքների ապահովման ծախսերի ֆինանսավորման ապահովում
C31: Վերջնական արդյունքի նկարագրությունը`
C32: Պահուստային ֆոնդի կառավարման արդյունավետության և թափանցիկության
A33: Ծրագրի միջոցառումներ
B34: 11001 | C34: Միջոցառման անվանումը` | D34: -1277254
C35: ՀՀ կառավարության պահուստային ֆոնդ
C36: Միջոցառման նկարագրությունը`
C37: ՀՀ պետական բյուջեում նախատեսված ելքերի լրացուցիչ ֆինանսավորման՝ պետական բյուջեում չկանխատեսված ելքերի՝ ինչպես նաև բյուջետային երաշխիքների ապահովման ելքերի ֆինանսավորման ապահովում
C38: Միջոցառման տեսակը
C39: Ծառայությունների մատուցում
A40: Ծրագրի միջոցառումներ
B41: 11001 | C41: Միջոցառման անվանումը` | D41: 1277254
C42: ՀՀ կառավարության պահուստային ֆոնդ
C43: Միջոցառման նկարագրությունը`
C44: ՀՀ պետական բյուջեում նախատեսված ելքերի լրացուցիչ ֆինանսավորման՝ պետական բյուջեում չկանխատեսված ելքերի՝ ինչպես նաև բյուջետային երաշխիքների ապահովման ելքերի ֆինանսավորման ապահովում
C45: Միջոցառման տեսակը
C46: Ծառայությունների մատուցում

Sheet HavN4
F1: Հավելված N 4
F2: ՀՀ կառավարության 2019 թվականի
F3: ______________ ի ___Ն որոշման
A5: ՀԱՅԱՍՏԱՆԻ ՀԱՆՐԱՊԵՏՈՒԹՅԱՆ ԿԱՌԱՎԱՐՈՒԹՅԱՆ 2018 ԹՎԱԿԱՆԻ ԴԵԿՏԵՄԲԵՐԻ 27-Ի N 1515-Ն NN 3 ԵՎ 4 ՀԱՎԵԼՎԱԾՆԵՐՈՒՄ ԿԱՏԱՐՎՈՂ ՓՈՓՈԽՈՒԹՅՈՒՆՆԵՐԸ ԵՎ ԼՐԱՑՈՒՄՆԵՐԸ
G8: հազար դրամներով
A9: Գործառական դասիչը | D9: Ծրագրային դասիչը | F9: Բյուջետային հատկացումների գլխավոր կարգադրիչների, ծրագրերի, միջոցառումների և միջոցառումները կատարող պետական մարմինների անվանումները | G9: Ցուցանիշների փոփոխությունը (ավելացումները նշված են դրական նշանով, իսկ նվազեցումները` փակագծերում)
A10: Բաժին | B10: խումբ | C10: Դաս | D10: Ծրագիր | E10: Միջոցառում | G10: Տարի
F11: ԸՆԴԱՄԵՆԸ | G11: 1277254
F12: այդ թվում`
A13: 11 | F13: ՀԻՄՆԱԿԱՆ ԲԱԺԻՆՆԵՐԻՆ ՉԴԱՍՎՈՂ ՊԱՀՈՒՍՏԱՅԻՆ ՖՈՆԴԵՐ | G13: 0
F14: այդ թվում`
B15: 01 | F15: ՀՀ կառավարության և համայնքների պահուստային ֆոնդ | G15: 0
F16: այդ թվում`
C17: 01 | F17: ՀՀ կառավարության պահուստային ֆոնդ | G17: 0
F18: այդ թվում`
F19: ՀՀ կառավարություն | G19: =G21 -> 0
D20: 1139 | F20: ՀՀ կառավարության պահուստային ֆոնդ | G20: 0
F21: այդ թվում`
E22: 11001 | F22: ՀՀ կառավարության պահուստային ֆոնդ | G22: =G24 -> 1277254
F23: այդ թվում` ըստ կատարողների
F24: ՀՀ կառավարություն | G24: =G26 -> 1277254
F25: այդ թվում` բյուջետային ծախսերի տնտեսագիտական դասակարգման հոդվածներ
F26: ԸՆԴԱՄԵՆԸ ԾԱԽՍԵՐ | G26: =G27 -> 1277254
F27: ԸՆԹԱՑԻԿ ԾԱԽՍԵՐ | G27: =G28 -> 1277254
F28: ԱՅԼ ԾԱԽՍԵՐ | G28: =G29 -> 1277254
F29: Պահուստային միջոցներ | G29: =+HavN3!D41 -> 1277254
E30: 11001 | F30: ՀՀ կառավարության պահուստային ֆոնդ | G30: =G32 -> -1277254
F31: այդ թվում` ըստ կատարողների
F32: ՀՀ կառավարություն | G32: =G34 -> -1277254
F33: այդ թվում` բյուջետային ծախսերի տնտեսագիտական դասակարգման հոդվածներ
F34: ԸՆԴԱՄԵՆԸ ԾԱԽՍԵՐ | G34: =G35 -> -1277254
F35: ԸՆԹԱՑԻԿ ԾԱԽՍԵՐ | G35: =G36 -> -1277254
F36: ԱՅԼ ԾԱԽՍԵՐ | G36: =G37 -> -1277254
F37: Պահուստային միջոցներ | G37: =+HavN3!D34 -> -1277254
A38: 08 | F38: ՀԱՆԳԻՍՏ, ՄՇԱԿՈՒՅԹ ԵՎ ԿՐՈՆ | G38: =G40 -> 1277254
F39: այդ թվում`
B40: 03 | F40: Ռադիո և հեռուստահաղորդումների հեռարձակման և հրատարակչական ծառայություններ | G40: =G42 -> 1277254
F41: այդ թվում`
C42: 01 | F42: Հեռուստառադիոհաղորդումներ | G42: =G44 -> 1277254
F43: Հանրային հեռուստառադիոընկերության խորհուրդ
D44: 1042 | F44: =+HavN3!C14 -> Ռադիո և հեռուստահաղորդումների հեռարձակում | G44: =G46 -> 1277254
F45: այդ թվում`
E46: =+HavN3!B20 -> 12005 | F46: =+HavN3!C21 -> «Հայաստանի հանրային հեռուստաընկերություն» փակ բաժնետիրական ընկերության ավելացված արժեքի հարկի (ներառյալ՝ տույժերի և տուգանքների) գծով առաջացած հարկային պարտավորությունների փոխհատուցում | G46: =G48 -> 1277254
F47: այդ թվում` ըստ կատարողների
F48: Հանրային հեռուստառադիոընկերության խորհուրդ | G48: =G50 -> 1277254
F49: այդ թվում` բյուջետային ծախսերի տնտեսագիտական դասակարգման հոդվածներ
F50: ԸՆԴԱՄԵՆԸ ԾԱԽՍԵՐ | G50: =G51 -> 1277254
F51: ԸՆԹԱՑԻԿ ԾԱԽՍԵՐ | G51: =G52 -> 1277254
F52: ԴՐԱՄԱՇՆՈՐՀՆԵՐ | G52: =G53 -> 1277254
F53: Ընթացիկ դրամաշնորհներ պետական հատվածի այլ մակարդակներին | G53: 1277254
F54: - Ընթացիկ դրամաշնորհներ պետական և համայնքային առևտրային կազմակերպություններին | G54: 1277254

Sheet HavN5
D1: Հավելված 5
D2: ՀՀ կառավարության 2019 թվականի
D3: ______________ ի ___Ն որոշման
B7: ՀԱՅԱՍՏԱՆԻ ՀԱՆՐԱՊԵՏՈՒԹՅԱՆ ԿԱՌԱՎԱՐՈՒԹՅԱՆ 2018ԹՎԱԿԱՆԻ ԴԵԿՏԵՄԲԵՐԻ 27-Ի ԹԻՎ 1515-Ն ՈՐՈՇՄԱՆ N 11 ՀԱՎԵԼՎԱԾԻ 11.34 ԱՂՅՈՒՍԱԿՈՒՄ ԿԱՏԱՐՎՈՂ ՓՈՓՈԽՈՒԹՅՈՒՆՆԵՐԸ ԵՎ ԼՐԱՑՈՒՄՆԵՐԸ
B9: Հանրային հեռուստառադիոընկերության խորհուրդ
B11: ՄԱՍ 2. ՊԵՏԱԿԱՆ ՄԱՐՄՆԻ ԳԾՈՎ ԱՐԴՅՈՒՆՔԱՅԻՆ (ԿԱՏԱՐՈՂԱԿԱՆ) ՑՈՒՑԱՆԻՇՆԵՐԸ
B13: Ծրագրի դասիչը | C13: Ծրագրի անվանումը
B14: 1042 | C14: =+HavN3!C14 -> Ռադիո և հեռուստահաղորդումների հեռարձակում
B16: Ծրագրի միջոցառումները
B18: Ծրագրի դասիչը՝ | C18: =+B14 -> 1042 | D18: Ցուցանիշների փոփոխությունը (ավելացումները նշված են դրական նշանով)
B19: Միջոցառման դասիչը՝ | C19: =+HavN3!B20 -> 12005 | D19: Տարի
B20: Միջոցառման անվանումը՝ | C20: =+HavN3!C21 -> «Հայաստանի հանրային հեռուստաընկերություն» փակ բաժնետիրական ընկերության ավելացված արժեքի հարկի (ներառյալ՝ տույժերի և տուգանքների) գծով առաջացած հարկային պարտավորությունների փոխհատուցում
B21: Նկարագրությունը՝ | C21: =+HavN3!C23 -> «Հայաստանի հանրային հեռուստաընկերություն» փակ բաժնետիրական ընկերության ավելացված արժեքի հարկի (ներառյալ՝ տույժերի և տուգանքների) գծով առաջացած հարկային պարտավորությունների փոխհատուցում
B22: Միջոցառման տեսակը՝ | C22: Տրանֆերտների տրամադրում
B23: Միջոցառումն իրականացնողի անվանումը | C23: «Հայաստանի հանրային հեռուստաընկերություն» փակ բաժնետիրական ընկերություն
C24: Արդյունքի չափորոշիչներ
B26: Միջոցառման վրա կատարվող ծախսը (հազար դրամ) | D26: 1277254

Sheet HavN6
D1: Հավելված 6
D2: ՀՀ կառավարության 2019 թվականի
D3: ______________ ի ___Ն որոշման
B8: ՀԱՅԱՍՏԱՆԻ ՀԱՆՐԱՊԵՏՈՒԹՅԱՆ ԿԱՌԱՎԱՐՈՒԹՅԱՆ 2018ԹՎԱԿԱՆԻ ԴԵԿՏԵՄԲԵՐԻ 27-Ի N1515-Ն ՈՐՈՇՄԱՆ N11.1 ՀԱՎԵԼՎԱԾԻ 11.1.42 ԱՂՅՈՒՍԱԿՈՒՄ ԿԱՏԱՐՎՈՂ ՓՈՓՈԽՈՒԹՅՈՒՆՆԵՐԸ ԵՎ ԼՐԱՑՈՒՄՆԵՐԸ
B10: Հանրային հեռուստառադիոընկերության խորհուրդ
B12: ՄԱՍ 2. ՊԵՏԱԿԱՆ ՄԱՐՄՆԻ ԳԾՈՎ ԱՐԴՅՈՒՆՔԱՅԻՆ (ԿԱՏԱՐՈՂԱԿԱՆ) ՑՈՒՑԱՆԻՇՆԵՐԸ
B14: Ծրագրի դասիչը | C14: Ծրագրի անվանումը
B15: 1042 | C15: =+HavN3!C15 -> Ծրագրի նպատակը`
B17: Ծրագրի միջոցառումները
B19: Ծրագրի դասիչը՝ | C19: =+B15 -> 1042 | D19: Ցուցանիշների փոփոխությունը (ավելացումները նշված են դրական նշանով)
B20: Միջոցառման դասիչը՝ | C20: =+HavN5!C19 -> 12005 | D20: Տարի
B21: Միջոցառման անվանումը՝ | C21: =+HavN5!C20 -> «Հայաստանի հանրային հեռուստաընկերություն» փակ բաժնետիրական ընկերության ավելացված արժեքի հարկի (ներառյալ՝ տույժերի և տուգանքների) գծով առաջացած հարկային պարտավորությունների փոխհատուցում
B22: Նկարագրությունը՝ | C22: =+HavN5!C21 -> «Հայաստանի հանրային հեռուստաընկերություն» փակ բաժնետիրական ընկերության ավելացված արժեքի հարկի (ներառյալ՝ տույժերի և տուգանքների) գծով առաջացած հարկային պարտավորությունների փոխհատուցում
B23: Միջոցառման տեսակը՝ | C23: =+HavN5!C22 -> Տրանֆերտների տրամադրում
B24: Միջոցառումն իրականացնողի անվանումը | C24: =+HavN5!C23 -> «Հայաստանի հանրային հեռուստաընկերություն» փակ բաժնետիրական ընկերություն
C25: Արդյունքի չափորոշիչներ
B27: Միջոցառման վրա կատարվող ծախսը (հազար դրամ) | D27: 1277254
