Workbook

Sheet 1
G1: Հավելված N 1
E2: ՀՀ կառավարության 2025 թվականի
E3: -----------------ի N -----------Ն որոշման
A5: «ՀԱՅԱՍՏԱՆԻ ՀԱՆՐԱՊԵՏՈՒԹՅԱՆ 2025 ԹՎԱԿԱՆԻ ՊԵՏԱԿԱՆ ԲՅՈՒՋԵԻ ՄԱՍԻՆ» ՕՐԵՆՔԻ N 1 ՀԱՎԵԼՎԱԾԻ N 2 ԱՂՅՈՒՍԱԿՈՒՄ ԿԱՏԱՐՎՈՂ ՎԵՐԱԲԱՇԽՈՒՄԸ ԵՎ ՀԱՅԱՍՏԱՆԻ ՀԱՆՐԱՊԵՏՈՒԹՅԱՆ ԿԱՌԱՎԱՐՈՒԹՅԱՆ 2024 ԹՎԱԿԱՆԻ ԴԵԿՏԵՄԲԵՐԻ 27-Ի N 2060-Ն ՈՐՈՇՄԱՆ N 5 ՀԱՎԵԼՎԱԾԻ N 1 ԱՂՅՈՒՍԱԿՈՒՄ ԿԱՏԱՐՎՈՂ ՓՈՓՈԽՈՒԹՅՈՒՆՆԵՐԸ ԵՎ ԼՐԱՑՈՒՄՆԵՐԸ
G6: հազար դրամներով
A7: ԲԳԿ | B7: Ծրագրային դասիչը | D7: ԲԳԿ/Ծրագրի /միջոցառման անվանումը | E7: Ծրագրի նպատակը/Միջոցառման նկարագրույունը | F7: Վերջնական արդյունքի նկարագրությունը/Միջոցառման տեսակը | G7: Ցուցանիշների փոփոխությունները ավելացումները նշված են դրական նշանով, իսկ նվազեցումները՝ փակագծերում
B8: Ծրագիր | C8: Միջոցառում | G8: Տարի
A9: ԸՆԴԱՄԵՆԸ | G9: =G10 -> 0
A10: ՀՀ աշխատանքի և սոցիալական հարցերի նախարարություն | G10: =G11+G13 -> 0
B11: 1117 | D11: Սոցիալական պաշտպանության բնագավառում պետական քաղաքականության մշակում, ծրագրերի համակարգում և մոնիթորինգ | E11: Աղքատության մեղմման և անհավասարության նվազեցման, աշխատաշուկայի պահանջարկի և գործազրկության անհմպ. կրճատման, զբաղվածության աճի, ժողովրդագրական իրավիճակի բարելավման և քաղաքացիների սոց.իրավունքի իրացմանն ուղղված քաղաքականության մշակմ. և իրականացմ. ապահովում | F11: Սոցիալական պաշտպանության ոլորտում իրականացվող ծրագրերի ազդեցության և արդյունավետության բարելավում | G11: =G12 -> 70383.7
C12: 1117 - 11001 | D12: Սոցիալական պաշտպանության բնագավառի պետական քաղաքականության մշակման, ծրագրերի համակարգման և մոնիթորինգի ծառայություններ | E12: Սոցիալական պաշտպանության բնագավառի պետական քաղաքականության մշակման, ծրագրերի համակարգման և մոնիտորինգի ծառայություններ | F12: Ծառայությունների մատուցում | G12: 70383.7
B13: 1011 | D13: Անապահով և կյանքի դժվարին իրավիճակում սոցիալական խմբերին աջակցություն | E13: Օժանդակել անապահով ընտանիքների կենսամակարդակի բարձրացմանը | F13: Աղքատության մեղմում և ծայրահեղ աղքատության կրճատում | G13: =G14 -> -70383.7
C14: 1011 - 12001 | D14: Ընտանիքի կենսամակարդակի բարձրացմանն ուղղված նպաստներ | E14: Ընտանիքների անապահովության գնահատման համակարգում հաշվառված, անապահով ճանաչված ընտանիքներին նպաստի, սոցիալական նպաստի և հրատապ օգնության տրամադրում | F14: Տրանսֆերտների տրամադրում | G14: -70383.7

Sheet 2
G1: Հավելված N 2
F2: ՀՀ կառավարության 2025 թվականի
F3: -----------------ի N -----------Ն որոշման
A5: ՀԱՅԱՍՏԱՆԻ ՀԱՆՐԱՊԵՏՈՒԹՅԱՆ ԿԱՌԱՎԱՐՈՒԹՅԱՆ 2024 ԹՎԱԿԱՆԻ ԴԵԿՏԵՄԲԵՐԻ 27-Ի N 2060-Ն ՈՐՈՇՄԱՆ N N 3 ԵՎ 4 ՀԱՎԵԼՎԱԾՆԵՐՈՒՄ ԿԱՏԱՐՎՈՂ ՓՈՓՈԽՈՒԹՅՈՒՆՆԵՐԸ ԵՎ ԼՐԱՑՈՒՄՆԵՐԸ
G6: հազար դրամներով
A7: Գործառական դասիչը | D7: Ծրագրային դասիչը | F7: Բյուջետային հատկացումների գլխավոր կարգադրիչների, ծրագրերի, միջոցառումների և միջոցառումները կատարող պետական մարմինների անվանումները | G7: Ցուցանիշների փոփոխությունները ավելացումները նշված են դրական նշանով, իսկ նվազեցումները՝ փակագծերում
A8: Բաժինը | B8: Խումբը | C8: Դասը | D8: Ծրագիր | E8: Միջոցառում | G8: Տարի
F9: ԸՆԴԱՄԵՆԸ ԾԱԽՍԵՐ | G9: =G11 -> 0
F10: այդ թվում`
F11: ՀՀ աշխատանքի և սոցիալական հարցերի նախարարություն | G11: =G13 -> 0
F12: այդ թվում՝
A13: 10 | F13: ՍՈՑԻԱԼԱԿԱՆ ՊԱՇՏՊԱՆՈՒԹՅՈՒՆ | G13: =G15+G32 -> 0
F14: այդ թվում՝
B15: 09 | F15: Սոցիալական պաշտպանություն (այլ դասերին չպատկանող) | G15: =G17 -> 70383.7
F16: այդ թվում՝
C17: 01 | F17: Սոցիալական պաշտպանություն (այլ դասերին չպատկանող) | G17: =G19 -> 70383.7
F18: այդ թվում՝
F19: ՀՀ աշխատանքի և սոցիալական հարցերի նախարարություն | G19: =G21 -> 70383.7
F20: այդ թվում՝
D21: 1117 | F21: ='1'!D11 -> Սոցիալական պաշտպանության բնագավառում պետական քաղաքականության մշակում, ծրագրերի համակարգում և մոնիթորինգ | G21: =G23 -> 70383.7
F22: այդ թվում`
E23: 11001 | F23: Սոցիալական պաշտպանության բնագավառի պետական քաղաքականության մշակման, ծրագրերի համակարգման և մոնիթորինգի ծառայություններ | G23: =G25 -> 70383.7
F24: այդ թվում` ըստ կատարողների
F25: ՀՀ աշխատանքի և սոցիալական հարցերի նախարարություն | G25: =G29 -> 70383.7
F26: այդ թվում` բյուջետային ծախսերի տնտեսագիտական դասակարգման հոդվածներ
F27: ԸՆԴԱՄԵՆԸ ԾԱԽՍԵՐ
F28: ԸՆԹԱՑԻԿ ԾԱԽՍԵՐ
F29: ԱՇԽԱՏԱՆՔԻ ՎԱՐՁԱՏՐՈՒԹՅՈՒՆ | G29: =G30 -> 70383.7
F30: Դրամով վճարվող աշխատավարձեր և հավելավճարներ | G30: =G31 -> 70383.7
F31: - Աշխատողների աշխատավարձեր և հավելավճարներ | G31: ='1'!G12 -> 70383.7
B32: 04 | F32: Ընտանիքի անդամներ և զավակներ | G32: =G34 -> -70383.7
F33: այդ թվում՝
C34: 01 | F34: Ընտանիքի անդամներ և զավակներ | G34: =G36 -> -70383.7
F35: այդ թվում՝
F36: ՀՀ աշխատանքի և սոցիալական հարցերի նախարարություն | G36: =G38 -> -70383.7
F37: այդ թվում՝
D38: 1011 | F38: ='1'!D13 -> Անապահով և կյանքի դժվարին իրավիճակում սոցիալական խմբերին աջակցություն | G38: =G40 -> -70383.7
F39: այդ թվում՝
E40: 12001 | F40: ='1'!D14 -> Ընտանիքի կենսամակարդակի բարձրացմանն ուղղված նպաստներ | G40: =G42 -> -70383.7
F41: այդ թվում` ըստ կատարողների
...

Sheet 3
J1: Հավելված N 3
J2: ՀՀ կառավարության 2025 թվականի
J3: -----------------ի N -----------Ն որոշման
A6: ՀԱՅԱՍՏԱՆԻ ՀԱՆՐԱՊԵՏՈՒԹՅԱՆ ԿԱՌԱՎԱՐՈՒԹՅԱՆ 2024 ԹՎԱԿԱՆԻ ԴԵԿՏԵՄԲԵՐԻ 27-Ի N 2060-Ն ՈՐՈՇՄԱՆ N 9 ՀԱՎԵԼՎԱԾՈՒՄ ԿԱՏԱՐՎՈՂ ՓՈՓՈԽՈՒԹՅՈՒՆՆԵՐԸ ԵՎ ԼՐԱՑՈՒՄՆԵՐԸ
A8: ԲԳԿ | B8: Ծրագիր | D8: Միջոցառում | H8: Իրականացնողը/ ակտիվն օգտագործողը/ շահառուի ընտրության չափորոշիչը | I8: Արդյունքային չափորոշիչը | J8: Ցուցանիշների փոփոխությունները ավելացումները նշված են դրական նշանով, իսկ նվազեցումները՝ փակագծերում
B9: Դասիչը | C9: Անվանումը | D9: Դասիչը | E9: Անվանումը | F9: Նկարագրությունը | G9: Տեսակը | J9: Տարի
A10: ԸՆԴԱՄԵՆԸ | J10: =J11 -> 0
A11: ՀՀ աշխատանքի և սոցիալական հարցերի նախարարություն | J11: =J12+J19 -> 0
B12: 1117 | C12: ='1'!D11 -> Սոցիալական պաշտպանության բնագավառում պետական քաղաքականության մշակում, ծրագրերի համակարգում և մոնիթորինգ | J12: =J13 -> 70383.7
D13: ='1'!C12 -> 1117 - 11001 | E13: ='1'!D12 -> Սոցիալական պաշտպանության բնագավառի պետական քաղաքականության մշակման, ծրագրերի համակարգման և մոնիթորինգի ծառայություններ | J13: ='1'!G12 -> 70383.7
F14: ='1'!E12 -> Սոցիալական պաշտպանության բնագավառի պետական քաղաքականության մշակման, ծրագրերի համակարգման և մոնիտորինգի ծառայություններ
G15: ='1'!F12 -> Ծառայությունների մատուցում
H16: Ծառայությունը մատուցողի անվանումը` ՀՀ աշխատանքի և սոցիալական հարցերի նախարարություն
B19: 1011 | C19: Անապահով և կյանքի դժվարին իրավիճակում սոցիալական խմբերին աջակցություն | J19: =J20 -> -70383.7
D20: 1011 - 12001 | E20: Ընտանիքի կենսամակարդակի բարձրացմանն ուղղված նպաստներ | J20: ='2'!G48 -> -70383.7
F21: Ընտանիքների անապահովության գնահատման համակարգում հաշվառված, անապահով ճանաչված ընտանիքներին նպաստի, սոցիալական նպաստի և հրատապ օգնության տրամադրում
G22: Տրանսֆերտների տրամադրում
H23: Շահառուների ընտրության չափորոշիչները` Ընտանիքների անապահովության գնահատման համակարգում հաշվառված ընտանիք (ընտանիքի անապահովության միավորի հիման վրա)
I24: Ընտանիքի կենսամակարդակի բարձրացմանն ուղղված նպաստներ ստացող ընտանիքների միջին թիվ, հատ, այդ թվում՛ | J24: -30
I25: Նպաստ ստացող անդամների միջին թիվ, այդ թվում՛ | J25: -50

Sheet 4
J1: Հավելված N 4
J2: ՀՀ կառավարության 2025 թվականի
J3: -----------------ի N -----------Ն որոշման
A6: ՀԱՅԱՍՏԱՆԻ ՀԱՆՐԱՊԵՏՈՒԹՅԱՆ ԿԱՌԱՎԱՐՈՒԹՅԱՆ 2024 ԹՎԱԿԱՆԻ ԴԵԿՏԵՄԲԵՐԻ 27-Ի N 2060-Ն ՈՐՈՇՄԱՆ N N 9.1 ՀԱՎԵԼՎԱԾՈՒՄ ԿԱՏԱՐՎՈՂ ՓՈՓՈԽՈՒԹՅՈՒՆՆԵՐԸ ԵՎ ԼՐԱՑՈՒՄՆԵՐԸ
A8: ԲՍԿ | B8: Ծրագիր | D8: Միջոցառում | H8: Իրականացնողը/ ակտիվն օգտագործողը/ շահառուի ընտրության չափորոշիչը | I8: Արդյունքային չափորոշիչը | J8: Ցուցանիշների փոփոխությունները ավելացումները նշված են դրական նշանով, իսկ նվազեցումները՝ փակագծերում
B9: Դասիչը | C9: Անվանումը | D9: Դասիչը | E9: Անվանումը | F9: Նկարագրությունը | G9: Տեսակը | J9: Տարի
A10: ԸՆԴԱՄԵՆԸ | J10: =J11+J19 -> 0
A11: ՀՀ աշխատանքի և սոցիալական հարցերի նախարարություն | J11: =J12 -> 70383.7
B12: ='3'!B12 -> 1117 | C12: ='3'!C12:I12 -> Սոցիալական պաշտպանության բնագավառում պետական քաղաքականության մշակում, ծրագրերի համակարգում և մոնիթորինգ | J12: =J13 -> 70383.7
D13: ='1'!C12 -> 1117 - 11001 | E13: ='1'!D12 -> Սոցիալական պաշտպանության բնագավառի պետական քաղաքականության մշակման, ծրագրերի համակարգման և մոնիթորինգի ծառայություններ | J13: ='1'!G12 -> 70383.7
F14: ='1'!E12 -> Սոցիալական պաշտպանության բնագավառի պետական քաղաքականության մշակման, ծրագրերի համակարգման և մոնիտորինգի ծառայություններ
G15: ='1'!F12 -> Ծառայությունների մատուցում
H16: ='3'!H16:J16 -> Ծառայությունը մատուցողի անվանումը` ՀՀ աշխատանքի և սոցիալական հարցերի նախարարություն
A18: ՀՀ աշխատանքի և սոցիալական հարցերի նախարարության միասնական սոցիալական ծառայություն | J18: =J19 -> -70383.7
B19: 1011 | C19: Անապահով և կյանքի դժվարին իրավիճակում սոցիալական խմբերին աջակցություն | J19: =J20 -> -70383.7
D20: 1011 - 12001 | E20: Ընտանիքի կենսամակարդակի բարձրացմանն ուղղված նպաստներ | J20: ='2'!G48 -> -70383.7
F21: Ընտանիքների անապահովության գնահատման համակարգում հաշվառված, անապահով ճանաչված ընտանիքներին նպաստի, սոցիալական նպաստի և հրատապ օգնության տրամադրում
G22: Տրանսֆերտների տրամադրում
H23: Շահառուների ընտրության չափորոշիչները` Ընտանիքների անապահովության գնահատման համակարգում հաշվառված ընտանիք (ընտանիքի անապահովության միավորի հիման վրա)
I24: Ընտանիքի կենսամակարդակի բարձրացմանն ուղղված նպաստներ ստացող ընտանիքների միջին թիվ, հատ, այդ թվում՛ | J24: ='3'!J24 -> -30
I25: Նպաստ ստացող անդամների միջին թիվ, այդ թվում՛ | J25: ='3'!J25 -> -50
